Workbook

Sheet detalizēti
L1: Pielikums tiesību akta projekta "Ministru kabineta noteikumu projekts "Valsts civilās aviācijas drošības programmas pasākumu īstenošanā iesaistītā personāla sertificēšanas kārtība"" sākotnējās ietekmes novērtējuma ziņojumam (anotācijai) (23-TA-1616)
B3: valsts aģentūrai "Civilās aviācijas aģentūra" papildu nepieciešamais finansējums atlīdzībai no 2025.gada 1.marta līdz 2029.gada 31.decembrim
B6: 2025. gadam*
C7: Amata saime, līmenis | D7: Mēnešalgu grupa | E7: Mēnešalgu grupas viduspunkta mēnešalga*** | F7: Mēnešalga 2025.gadam | G7: Vispārējās piemaksas 5% no gada mēnešalgu kopsummas | H7: Naudas balvas un prēmijas 10% no gada mēnešalgu kopsummas | I7: Sociālās garantijas 5% no gada mēnešalgu kopsummas | J7: Kopā mēnešalgai, piemaksām, prēmijām, soc. garant. | K7: DD VSAOI 23,59% | L7: Kopā
B8: Valsts aģentūras "Civilās aviācijas aģentūra" amata vieta 12 mēnešiem | E8: 1. | F8: 2.=1.x12 | G8: 3.=2.x5% | H8: 4.=2.x10% | I8: 5.=2.x5% | J8: 6.=2.+3.+4+5. | K8: 7.=6.x23,59% | L8: 8.=6.+7.
A9: 1 | B9: Vecākais inspektors** | C9: 28.3. V | D9: 10 | E9: 4020 | F9: =E9*10 -> 40200 | G9: =F9*0.05 -> 2010 | H9: =F9*0.1 -> 4020 | I9: =F9*0.05 -> 2010 | J9: =ROUND(F9+G9+H9+I9,2) -> 48240 | K9: =ROUND(J9*23.59%,2) -> 11379.82 | L9: =J9+K9 -> 59619.82
A10: 2 | B10: Vecākais inspektors | C10: 28.3. V | D10: 10 | E10: 4020 | F10: =E10*10 -> 40200 | G10: =F10*0.05 -> 2010 | H10: =F10*0.1 -> 4020 | I10: =F10*0.05 -> 2010 | J10: =ROUND(F10+G10+H10+I10,2) -> 48240 | K10: =ROUND(J10*23.59%,2) -> 11379.82 | L10: =J10+K10 -> 59619.82
A11: 3 | B11: Vecākais inspektors | C11: 28.3. V | D11: 10 | E11: 4020 | F11: =E11*10 -> 40200 | G11: =F11*0.05 -> 2010 | H11: =F11*0.1 -> 4020 | I11: =F11*0.05 -> 2010 | J11: =ROUND(F11+G11+H11+I11,2) -> 48240 | K11: =ROUND(J11*23.59%,2) -> 11379.82 | L11: =J11+K11 -> 59619.82
K13: KOPĀ 2025.gadam | L13: =SUM(L9:L12) -> 178859.46
A15: * Valsts aģentūrai "Civilās aviācijas aģentūra" (turpmāk-Civilās aviācijas aģentūra) nepieciešama 1 amata vieta sākot ar 2025.gada 1.martu Ņemot vērā to, ka Civilās aviācijas aģentūra ir budžeta nefinansēta iestāde, kas normatīvajos aktos noteiktā kārtībā tiek finansēta no ieņēmumiem, kas gūti no sniegtajiem publiskajiem pakalpojumiem un citiem pašu ieņēmumiem, Civilās aviācijas aģentūra 2025.gada budžetā un turpmāko gadu budžetos (2026.-2029.gadam) ieplānots finansējums nepieciešamo amata vietu atlīdzībai. ** saskaņā ar MK 21.06.2022. noteikumiem Nr.361 "Noteikumi par valsts institūciju amatpersonu un darbinieku darba samaksu un tās noteikšanas kārtību, kā arī par profesijām un specifiskajām jomām, kurām piemērojams tirgus koeficients", 1.pielikumu.
A16: *** Mēnešalgu grupas viduspunkts atbilstoši Valsts kancelejas mēnešalgu skalas prognozēm turpmākajiem gadiem
B20: 2026. gadam
C21: Amata saime, līmenis | D21: Mēnešalgu grupa | E21: Mēnešalgu grupas viduspunkta mēnešalga*** | F21: Mēnešalga 2026.gadam | G21: Vispārējās piemaksas 5% no gada mēnešalgu kopsummas | H21: Naudas balvas un prēmijas 10% no gada mēnešalgu kopsummas | I21: Sociālās garantijas 5% no gada mēnešalgu kopsummas | J21: Kopā mēnešalgai, piemaksām, prēmijām, soc. garant. | K21: DD VSAOI 23,59% | L21: Kopā
B22: Valsts aģentūras "Civilās aviācijas aģentūra" amata vieta 12 mēnešiem | E22: 1. | F22: 2.=1.x12 | G22: 3.=2.x5% | H22: 4.=2.x10% | I22: 5.=2.x5% | J22: 6.=2.+3.+4+5. | K22: 7.=6.x23,59% | L22: 8.=6.+7.
A23: 1. | B23: Vecākais inspektors | C23: 28.3. V | D23: 10 | E23: 4336 | F23: =E23*12 -> 52032 | G23: =F23*0.05 -> 2601.6 | H23: =F23*0.1 -> 5203.2 | I23: =F23*0.05 -> 2601.6 | J23: =ROUND(F23+G23+H23+I23,2) -> 62438.4 | K23: =ROUND(J23*23.59%,2) -> 14729.22 | L23: =J23+K23 -> 77167.62
A24: 2. | B24: Vecākais inspektors | C24: 28.3. V | D24: 10 | E24: 4336 | F24: =E24*12 -> 52032 | G24: =F24*0.05 -> 2601.6 | H24: =F24*0.1 -> 5203.2 | I24: =F24*0.05 -> 2601.6 | J24: =ROUND(F24+G24+H24+I24,2) -> 62438.4 | K24: =ROUND(J24*23.59%,2) -> 14729.22 | L24: =J24+K24 -> 77167.62
A25: 3. | B25: Vecākais inspektors | C25: 28.3. V | D25: 10 | E25: 4336 | F25: =E25*12 -> 52032 | G25: =F25*0.05 -> 2601.6 | H25: =F25*0.1 -> 5203.2 | I25: =F25*0.05 -> 2601.6 | J25: =ROUND(F25+G25+H25+I25,2) -> 62438.4 | K25: =ROUND(J25*23.59%,2) -> 14729.22 | L25: =J25+K25 -> 77167.62
K27: KOPĀ 2026.gadam | L27: =SUM(L23:L26) -> 231502.86
B31: 2027. gadam
C32: Amata saime, līmenis | D32: Mēnešalgu grupa | E32: Mēnešalgu grupas viduspunkta mēnešalga*** | F32: Mēnešalga 2027.gadam | G32: Vispārējās piemaksas 5% no gada mēnešalgu kopsummas | H32: Naudas balvas un prēmijas 10% no gada mēnešalgu kopsummas | I32: Sociālās garantijas 5% no gada mēnešalgu kopsummas | J32: Kopā mēnešalgai, piemaksām, prēmijām, soc. garant. | K32: DD VSAOI 23,59% | L32: Kopā
B33: Valsts aģentūras "Civilās aviācijas aģentūra" amata vieta 12 mēnešiem | E33: 1. | F33: 2.=1.x12 | G33: 3.=2.x5% | H33: 4.=2.x10% | I33: 5.=2.x5% | J33: 6.=2.+3.+4+5. | K33: 7.=6.x23,59% | L33: 8.=6.+7.
A34: 1. | B34: Vecākais inspektors | C34: 28.3. V | D34: 10 | E34: 4499 | F34: =E34*12 -> 53988 | G34: =F34*0.05 -> 2699.4 | H34: =F34*0.1 -> 5398.8 | I34: =F34*0.05 -> 2699.4 | J34: =ROUND(F34+G34+H34+I34,2) -> 64785.6 | K34: =ROUND(J34*23.59%,2) -> 15282.92 | L34: =J34+K34 -> 80068.52
A35: 2. | B35: Vecākais inspektors | C35: 28.3. V | D35: 10 | E35: 4499 | F35: =E35*12 -> 53988 | G35: =F35*0.05 -> 2699.4 | H35: =F35*0.1 -> 5398.8 | I35: =F35*0.05 -> 2699.4 | J35: =ROUND(F35+G35+H35+I35,2) -> 64785.6 | K35: =ROUND(J35*23.59%,2) -> 15282.92 | L35: =J35+K35 -> 80068.52
A36: 3. | B36: Vecākais inspektors | C36: 28.3. V | D36: 10 | E36: 4499 | F36: =E36*12 -> 53988 | G36: =F36*0.05 -> 2699.4 | H36: =F36*0.1 -> 5398.8 | I36: =F36*0.05 -> 2699.4 | J36: =ROUND(F36+G36+H36+I36,2) -> 64785.6 | K36: =ROUND(J36*23.59%,2) -> 15282.92 | L36: =J36+K36 -> 80068.52
K38: KOPĀ 2027.gadam | L38: =SUM(L34:L37) -> 240205.56
B41: 2028. gadam
C42: Amata saime, līmenis | D42: Mēnešalgu grupa | E42: Mēnešalgu grupas viduspunkta mēnešalga*** | F42: Mēnešalga 2028.gadam | G42: Vispārējās piemaksas 5% no gada mēnešalgu kopsummas | H42: Naudas balvas un prēmijas 10% no gada mēnešalgu kopsummas | I42: Sociālās garantijas 5% no gada mēnešalgu kopsummas | J42: Kopā mēnešalgai, piemaksām, prēmijām, soc. garant. | K42: DD VSAOI 23,59% | L42: Kopā
B43: Valsts aģentūras "Civilās aviācijas aģentūra" amata vieta 12 mēnešiem | E43: 1. | F43: 2.=1.x12 | G43: 3.=2.x5% | H43: 4.=2.x10% | I43: 5.=2.x5% | J43: 6.=2.+3.+4+5. | K43: 7.=6.x23,59% | L43: 8.=6.+7.
A44: 1. | B44: Vecākais inspektors | C44: 28.3. V | D44: 10 | E44: 4645 | F44: =E44*12 -> 55740 | G44: =F44*0.05 -> 2787 | H44: =F44*0.1 -> 5574 | I44: =F44*0.05 -> 2787 | J44: =ROUND(F44+G44+H44+I44,2) -> 66888 | K44: =ROUND(J44*23.59%,2) -> 15778.88 | L44: =J44+K44 -> 82666.88
A45: 2. | B45: Vecākais inspektors | C45: 28.3. V | D45: 10 | E45: 4645 | F45: =E45*12 -> 55740 | G45: =F45*0.05 -> 2787 | H45: =F45*0.1 -> 5574 | I45: =F45*0.05 -> 2787 | J45: =ROUND(F45+G45+H45+I45,2) -> 66888 | K45: =ROUND(J45*23.59%,2) -> 15778.88 | L45: =J45+K45 -> 82666.88
A46: 3. | B46: Vecākais inspektors | C46: 28.3. V | D46: 10 | E46: 4645 | F46: =E46*12 -> 55740 | G46: =F46*0.05 -> 2787 | H46: =F46*0.1 -> 5574 | I46: =F46*0.05 -> 2787 | J46: =ROUND(F46+G46+H46+I46,2) -> 66888 | K46: =ROUND(J46*23.59%,2) -> 15778.88 | L46: =J46+K46 -> 82666.88
K48: KOPĀ 2028.gadam | L48: =SUM(L44:L47) -> 248000.64
B52: 2029. gadam****
C53: Amata saime, līmenis | D53: Mēnešalgu grupa | E53: Mēnešalgu grupas viduspunkta mēnešalga*** | F53: Mēnešalga 2029.gadam | G53: Vispārējās piemaksas 5% no gada mēnešalgu kopsummas | H53: Naudas balvas un prēmijas 10% no gada mēnešalgu kopsummas | I53: Sociālās garantijas 5% no gada mēnešalgu kopsummas | J53: Kopā mēnešalgai, piemaksām, prēmijām, soc. garant. | K53: DD VSAOI 23,59% | L53: Kopā
B54: Valsts aģentūras "Civilās aviācijas aģentūra" amata vieta 12 mēnešiem | E54: 1. | F54: 2.=1.x12 | G54: 3.=2.x5% | H54: 4.=2.x10% | I54: 5.=2.x5% | J54: 6.=2.+3.+4+5. | K54: 7.=6.x23,59% | L54: 8.=6.+7.
A55: 1. | B55: Vecākais inspektors | C55: 28.3. V | D55: 10 | E55: 4645 | F55: =E55*12 -> 55740 | G55: =F55*0.05 -> 2787 | H55: =F55*0.1 -> 5574 | I55: =F55*0.05 -> 2787 | J55: =ROUND(F55+G55+H55+I55,2) -> 66888 | K55: =ROUND(J55*23.59%,2) -> 15778.88 | L55: =J55+K55 -> 82666.88
A56: 2. | B56: Vecākais inspektors | C56: 28.3. V | D56: 10 | E56: 4645 | F56: =E56*12 -> 55740 | G56: =F56*0.05 -> 2787 | H56: =F56*0.1 -> 5574 | I56: =F56*0.05 -> 2787 | J56: =ROUND(F56+G56+H56+I56,2) -> 66888 | K56: =ROUND(J56*23.59%,2) -> 15778.88 | L56: =J56+K56 -> 82666.88
A57: 3. | B57: Vecākais inspektors | C57: 28.3. V | D57: 10 | E57: 4645 | F57: =E57*12 -> 55740 | G57: =F57*0.05 -> 2787 | H57: =F57*0.1 -> 5574 | I57: =F57*0.05 -> 2787 | J57: =ROUND(F57+G57+H57+I57,2) -> 66888 | K57: =ROUND(J57*23.59%,2) -> 15778.88 | L57: =J57+K57 -> 82666.88
K59: KOPĀ 2029.gadam | L59: =SUM(L55:L58) -> 248000.64
A60: **** 2029.gadam noteikta 2028.gadā provizoriskā mēnešalgu grupas viduspunkta mēnešalga.

Sheet Kopsavilkums
A2: Kopsavilkums par papildu nepieciešamo finansējumu Valsts aģentūrai "Civilās aviācijas aģentūra"
A3: Atlīdzība
A5: Valsts aģentūra "Civilās aviācijas aģentūra" | B5: 2025.gads | C5: 2026.gads | D5: 2027.gads | E5: 2028.gads | F5: 2029.gads
A6: (EKK 1000) | B6: =detalizēti!L13 -> 178859.46 | C6: =detalizēti!L27 -> 231502.86 | D6: =detalizēti!L38 -> 240205.56 | E6: =detalizēti!L48 -> 248000.64 | F6: =detalizēti!L59 -> 248000.64
A8: Kopā : | B8: =SUM(B6:B7) -> 178859.46 | C8: =SUM(C6:C7) -> 231502.86 | D8: =SUM(D6:D7) -> 240205.56 | E8: =SUM(E6:E7) -> 248000.64 | F8: =SUM(F6:F7) -> 248000.64
A10: Valsts aģentūra "Civlās aviācijas aģentūra" (turpmāk-Civilās aviācijas aģentūra" ir budžeta nefinansēta iestāde, kas normatīvajos aktos noteiktā kārtībā tiek finansēta no ieņēmumiem, kas gūti no sniegtajiem publiskajiem pakalpojumiem un citiem pašu ieņēmumiem. Civilās aviācijas aģentūra 2025.gada budžetā un turpmāko gadu budžetos (2026.-2029.gadam) ieplānots papildu finansējums nepieciešamās štata vietas atlīdzībai.
