Workbook

Sheet IZM
B2: Energoresursu izmaksu sadārdzinājums
B4: Nr.p.k. | C4: Energoresursu veids | D4: Izdevumu EKK | E4: Izdevumi pēc naudas plūsmas principa par 2021.gadu EUR | J4: Izdevumi pēc naudas plūsmas principa par 2022.gadu EUR | O4: Korekcijas (+/-), lai dati būtu salīdzināmi | P4: Skaidrojums par veiktajām korekcijām | Q4: Energoresursu izmaksu pieaugums 2022.g. janvāris - maijs | R4: Vidējās pieaugums mēnesī | S4: Vidējās pieagums gadā
E5: Janvāris (par decembri) | F5: Februāris (par janvāri) | G5: Marts (par februāri) | H5: Aprīlis (par martu) | I5: Maijs (par aprīli) | J5: Janvāris (par decembri) | K5: Februāris (par janvāri) | L5: Marts (par februāri) | M5: Aprīlis (par martu) | N5: Maijs (par aprīli) | R5: Vid.izm. Menesī | S5: Vid.izm. Menesī
B6: a | C6: b | D6: c | E6: d | F6: e | G6: f | H6: g | I6: h | J6: i | K6: j | L6: k | M6: l | N6: m | O6: n | P6: o | Q6: p=i+j+k+l+m-d-e-f-g-h+n
B7: 97.01.00 Ministrijas centrālā aparāta darbības nodrošināšana
B8: tai skaitā konts:_________________________________ (norēķinu konta numurs)
B9: 1. | C9: Kopā energoresursi: | D9: x | E9: =SUM(E10:E16) -> 8193.5 | F9: =SUM(F10:F16) -> 10132.56 | G9: =SUM(G10:G16) -> 10947.89 | H9: =SUM(H10:H16) -> 8440.11 | I9: =SUM(I10:I16) -> 6081.54 | J9: =SUM(J10:J16) -> 16021.47 | K9: =SUM(K10:K16) -> 11787.68 | L9: =SUM(L10:L16) -> 9068.71 | ... P9: =SUM(P10:P16) -> 0 | Q9: =SUM(Q10:Q11) -> 17875.53 | R9: =SUM(R10) -> 2250.444 | S9: =SUM(S10:S11) -> 37602.624 | T9: =SUM(E9:I9) -> 43795.6 | U9: =SUM(J9:N9) -> 56093.34 | V9: =U9/T9*100-100 -> 28.079853
B10: 1.1. | C10: Elektroenerģija | D10: 2223 | E10: 3418.88 | F10: =7166.26-E10 -> 3747.38 | G10: =11558.13-F10-E10 -> 4391.87 | H10: =15667.08-G10-F10-E10 -> 4108.95 | I10: =19304.22-H10-G10-F10-E10 -> 3637.14 | J10: 9047.81 | K10: =13861.83-J10 -> 4814.02 | L10: =16804.8-J10-K10 -> 2942.97 | M10: =21804.39-J10-K10-L10 -> 4999.59 | N10: =24978.65-M10-L10-K10-J10 -> 3174.26 | O10: 5577.79 | P10: Elektroenerģijas maksas samazinājums no 01.01.2022.-30.04.2022 | Q10: =ROUND(SUM(J10:N10)-SUM(E10:I10)+O10,2) -> 11252.22 | R10: =Q10/5 -> 2250.444 | S10: =R10*12 -> 27005.328 | T10: =T9/5 -> 8759.12 | U10: =T10*0.5+T10 -> 13138.68 | V10: =U10-T10 -> 4379.56 | W10: =V10*12 -> 52554.72
B11: 1.2. | C11: Siltumenerģija apkurei | D11: 2221 | E11: 4774.62 | F11: =11159.8-E11 -> 6385.18 | G11: =17715.82-F11-E11 -> 6556.02 | H11: =22046.98-G11-F11-E11 -> 4331.16 | I11: =24491.38-H11-G11-F11-E11 -> 2444.4 | J11: 6973.66 | K11: 6973.66 | L11: =20073.06-J11-K11 -> 6125.74 | M11: =26471.81-L11-K11-J11 -> 6398.75 | N11: =31114.69-M11-L11-K11-J11 -> 4642.88 | Q11: =ROUND(SUM(J11:N11)-SUM(E11:I11)+O11,2) -> 6623.31 | R11: =Q11/5 -> 1324.662 | S11: =R11*8 -> 10597.296
B12: 1.3. | C12: Dabasgāze | Q12: =ROUND(SUM(J12:N12)-SUM(E12:I12)+O12,2) -> 0
B13: 1.4. | C13: Ogles | Q13: =ROUND(SUM(J13:N13)-SUM(E13:I13)+O13,2) -> 0 | R13: =3575.11*0.2+3575.11 -> 4290.132 | S13: =R13*12 -> 51481.584
B14: 1.5. | C14: Kurināmā koksne | Q14: =ROUND(SUM(J14:N14)-SUM(E14:I14)+O14,2) -> 0
B15: 1.6. | C15: Norādīt citu konkrētu energoresursu veidu | Q15: =ROUND(SUM(J15:N15)-SUM(E15:I15)+O15,2) -> 0
B16: 1.7. | C16: Norādīt citu konkrētu energoresursu veidu | Q16: =ROUND(SUM(J16:N16)-SUM(E16:I16)+O16,2) -> 0
C18: 2022.gada ___.___________
C19: Sagatavotājs:
C20: (Vārds, Uzvārds, telefona nr., epasts)

Sheet KOPSAVILKUMS
C3: Energoresursi
F5: + /_ | G5: 50% no pieauguma
D6: 2021 | E6: 2022
C7: BIOR | D7: =BIOR!L24 -> 67700.04 | E7: =BIOR!M24 -> 192382.31 | F7: =BIOR!N24 -> 124682.27 | G7: =BIOR!O24 -> 62341.135
C8: SILAVA | D8: =Silava!L24 -> 195839 | E8: =Silava!M24 -> 247715 | F8: =Silava!N24 -> 51876 | G8: =Silava!O24 -> 25938
C9: LBTU APP Dārzkopības institūts | D9: =DI!L24 -> 23361.49 | E9: =DI!M24 -> 60275.32 | F9: =DI!N24 -> 36913.83 | G9: =DI!O24 -> 18456.915
C10: LBTU APP AREI | D10: =AREI!L24 -> 32989.82 | E10: =AREI!M24 -> 72344.8 | F10: =AREI!N24 -> 39354.98 | G10: =AREI!O24 -> 19677.49
E11: Kopā | F11: =SUM(F7:F10) -> 252827.08 | G11: =SUM(G7:G10) -> 126413.54 | H11: Eur
F13: + /_ | G13: 50% no pieauguma
D14: 2021 | E14: 2022
C15: LBTU BDV | D15: =BDV!L24 -> 107641.94 | E15: =BDV!M24 -> 256723.64 | F15: =BDV!N24 -> 149081.7 | G15: =BDV!O24 -> 74540.852
C16: LBTU MaK | D16: =MaK!L24 -> 23373.21 | E16: =MaK!M24 -> 57135.1 | F16: =MaK!N24 -> 33761.89 | G16: =MaK!O24 -> 16880.945
E17: Kopā | F17: =SUM(F15:F16) -> 182843.59 | G17: =SUM(G15:G16) -> 91421.797 | H17: Eur
C19: KOPĀ | F19: =F11+F17 -> 435670.67 | G19: =G7+G8+G9+G10+G15+G16 -> 217835.34 | H19: Eur

Sheet Silava
B2: Latvijas Valsts mežzinātnes institūts "Silava" (SILAVA) Energoresursu izmaksu sadārdzinājums
B4: Nr.p.k. | C4: Energoresursu veids | D4: Izdevumu EKK | E4: Izdevumi pēc naudas plūsmas principa par 2021.gadu EUR | Q4: Izdevumi pēc naudas plūsmas principa par 2022.gadu EUR Faktiskie izdevumi līdz 30.novembrim un prognozētie decembra mēnesī.
E5: Janvāris (par decembri) | F5: Februāris (par janvāri) | G5: Marts (par februāri) | H5: Aprīlis (par martu) | I5: Maijs (par aprīli) | J5: Jūnijs (par maiju) | K5: Jūlijs (par jūniju) | L5: Augusts(par jūliju) | M5: Septembris (par augustu) | N5: Oktobris (par septembri) | O5: Novembris(par oktobri) | P5: Decembris (par novembri) | Q5: Janvāris (par decembri) | R5: Februāris (par janvāri) | S5: Marts (par februāri) | T5: Aprīlis (par martu) | U5: Maijs (par aprīli) | V5: Jūnijs (par maiju) | W5: Jūlijs (par jūniju) | X5: Augusts(par jūliju) | Y5: Septembris (par augustu) | Z5: Oktobris (par septembri) | AA5: Novembris(par oktobri) | AB5: Decembris (par novembri)
B6: a | C6: b | D6: c | E6: d | F6: e | G6: f | H6: g | I6: h | J6: d | K6: e | L6: f | M6: g | N6: h | O6: g | P6: h | Q6: i | R6: j | S6: k | T6: l | U6: m | V6: i | W6: j | X6: k | Y6: l | Z6: m | AA6: l | AB6: m
B7: 1. | C7: Kopā energoresursi: | D7: x | E7: =E8 -> 17342 | F7: =F8 -> 10915 | G7: =G8 -> 11135 | H7: =H8 -> 13718 | I7: =I8 -> 15305 | J7: =J8 -> 16164 | K7: =K8 -> 15414 | L7: =L8 -> 19511 | ... AB7: =AB8 -> 19000
B8: 1.2. | C8: Siltumenerģija apkurei (2221) | E8: =SUM(E10:E14) -> 17342 | F8: =SUM(F10:F14) -> 10915 | G8: =SUM(G10:G14) -> 11135 | H8: =SUM(H10:H14) -> 13718 | I8: =SUM(I10:I14) -> 15305 | J8: =SUM(J10:J14) -> 16164 | K8: =SUM(K10:K14) -> 15414 | L8: =SUM(L10:L14) -> 19511 | ... AB8: =SUM(AB10:AB14) -> 19000
C9: Starpība %
B10: 1.3. | C10: Dabasgāze
B11: 1.4. | C11: Ogles
B12: 1.5. | C12: Kurināmā koksne | D12: 2321 | E12: 7010 | F12: 1874 | G12: 1218 | H12: 927 | L12: 290 | N12: 1102 | O12: 608 | P12: 3416 | Q12: 3191 | R12: 2743 | S12: 1370 | T12: 2736 | U12: 311 | X12: 580 | AA12: 5000 | AB12: 5000
B13: 1.6. | C13: Energoresurss: Degviela | D13: 2322 | E13: 10332 | F13: 9041 | G13: 9917 | H13: 12791 | I13: 15305 | J13: 16164 | K13: 15414 | L13: 19221 | M13: 17645 | N13: 18584 | O13: 18015 | P13: 16965 | Q13: 12497 | R13: 11574 | S13: 12732 | T13: 18989 | U13: 20300 | V13: 24711 | W13: 24335 | X13: 23794 | Y13: 23202 | Z13: 22650 | AA13: 18000 | AB13: 14000
B14: 1.7. | C14: Norādīt citu konkrētu energoresursu veidu
C16: 2022.gada ___.___________
C17: Sagatavotājs:
C18: (Vārds, Uzvārds, telefona nr., epasts)
L20: Energoresursi
N21: + /_ Eur | O21: 50% no pieauguma, Eur
L22: 2021 | M22: 2022
L24: =SUM(E8:P8) -> 195839 | M24: =SUM(Q8:AB8) -> 247715 | N24: =M24-L24 -> 51876 | O24: =N24/100*50 -> 25938
E46: Janvāris (par decembri) | F46: Februāris (par janvāri) | G46: Marts (par februāri) | H46: Aprīlis (par martu) | I46: Maijs (par aprīli) | J46: Jūnijs (par maiju) | K46: Jūlijs (par jūniju) | L46: Augusts(par jūliju) | M46: Septembris (par augustu) | N46: Oktobris (par septembri) | O46: Novembris(par oktobri) | P46: Decembris (par novembri)
D47: 2021 | E47: =E8 -> 17342 | F47: =F8 -> 10915 | G47: =G8 -> 11135 | H47: =H8 -> 13718 | I47: =I8 -> 15305 | J47: =J8 -> 16164 | K47: =K8 -> 15414 | L47: =L8 -> 19511 | ... P47: =P8 -> 20381
D48: 2022 | E48: =Q8 -> 15688 | F48: =R8 -> 14317 | G48: =S8 -> 14102 | H48: =T8 -> 21725 | I48: =U8 -> 20611 | J48: =V8 -> 24711 | K48: =W8 -> 24335 | L48: =X8 -> 24374 | ... P48: =AB8 -> 19000

Sheet DI
B2: LBTU APP Dārzkopības institūts (DI) Energoresursu izmaksu sadārdzinājums
B4: Nr.p.k. | C4: Energoresursu veids | D4: Izdevumu EKK | E4: Izdevumi pēc naudas plūsmas principa par 2021.gadu EUR | Q4: Izdevumi pēc naudas plūsmas principa par 2022.gadu EUR Faktiskie izdevumi līdz 30.novembrim un prognozētie decembra mēnesī.
E5: Janvāris (par decembri) | F5: Februāris (par janvāri) | G5: Marts (par februāri) | H5: Aprīlis (par martu) | I5: Maijs (par aprīli) | J5: Jūnijs (par maiju) | K5: Jūlijs (par jūniju) | L5: Augusts(par jūliju) | M5: Septembris (par augustu) | N5: Oktobris (par septembri) | O5: Novembris(par oktobri) | P5: Decembris (par novembri) | Q5: Janvāris (par decembri) | R5: Februāris (par janvāri) | S5: Marts (par februāri) | T5: Aprīlis (par martu) | U5: Maijs (par aprīli) | V5: Jūnijs (par maiju) | W5: Jūlijs (par jūniju) | X5: Augusts(par jūliju) | Y5: Septembris (par augustu) | Z5: Oktobris (par septembri) | AA5: Novembris(par oktobri) | AB5: Decembris (par novembri)
B6: a | C6: b | D6: c | E6: d | F6: e | G6: f | H6: g | I6: h | J6: d | K6: e | L6: f | M6: g | N6: h | O6: g | P6: h | Q6: i | R6: j | S6: k | T6: l | U6: m | V6: i | W6: j | X6: k | Y6: l | Z6: m | AA6: l | AB6: m
B7: 1. | C7: Kopā energoresursi: | D7: x | E7: =E8 -> 1525.52 | F7: =F8 -> 1955.4 | G7: =G8 -> 2005.65 | H7: =H8 -> 1721.93 | I7: =I8 -> 1590.64 | J7: =J8 -> 984.66 | K7: =K8 -> 353.99 | L7: =L8 -> 768.46 | ... AB7: =AB8 -> 21200
B8: 1.2. | C8: Siltumenerģija apkurei (2221) | E8: =SUM(E10:E14) -> 1525.52 | F8: =SUM(F10:F14) -> 1955.4 | G8: =SUM(G10:G14) -> 2005.65 | H8: =SUM(H10:H14) -> 1721.93 | I8: =SUM(I10:I14) -> 1590.64 | J8: =SUM(J10:J14) -> 984.66 | K8: =SUM(K10:K14) -> 353.99 | L8: =SUM(L10:L14) -> 768.46 | ... AB8: =SUM(AB10:AB14) -> 21200
C9: Starpība %
B10: 1.3. | C10: Dabasgāze | D10: 2321 | E10: 1525.52 | F10: 1955.4 | G10: 2005.65 | H10: 1721.93 | I10: 1590.64 | J10: 984.66 | K10: 353.99 | L10: 768.46 | M10: 1063.95 | N10: 1287.43 | O10: 3108.95 | P10: 6994.91 | Q10: 8405.97 | R10: 8690.2 | S10: 6280.17 | T10: 5899.94 | U10: 4563.31 | V10: 2719.44 | W10: 1307.51 | X10: 68.46 | Y10: 65.41 | Z10: 70.48 | AA10: 72.35 | AB10: 20000
B11: 1.4. | C11: Ogles
B12: 1.5. | C12: Kurināmā koksne (granulas) | Z12: 32.08 | AA12: 900 | AB12: 1200
B13: 1.6. | C13: Norādīt citu konkrētu energoresursu veidu
B14: 1.7. | C14: Norādīt citu konkrētu energoresursu veidu
C16: 2022.gada ___.___________
C17: Sagatavotājs:
C18: (Vārds, Uzvārds, telefona nr., epasts)
L20: Energoresursi
N21: + /_ Eur | O21: 50% no pieauguma, Eur
L22: 2021 | M22: 2022
L24: =SUM(E8:P8) -> 23361.49 | M24: =SUM(Q8:AB8) -> 60275.32 | N24: =M24-L24 -> 36913.83 | O24: =N24/100*50 -> 18456.915
E46: Janvāris (par decembri) | F46: Februāris (par janvāri) | G46: Marts (par februāri) | H46: Aprīlis (par martu) | I46: Maijs (par aprīli) | J46: Jūnijs (par maiju) | K46: Jūlijs (par jūniju) | L46: Augusts(par jūliju) | M46: Septembris (par augustu) | N46: Oktobris (par septembri) | O46: Novembris(par oktobri) | P46: Decembris (par novembri)
D47: 2021 | E47: =E8 -> 1525.52 | F47: =F8 -> 1955.4 | G47: =G8 -> 2005.65 | H47: =H8 -> 1721.93 | I47: =I8 -> 1590.64 | J47: =J8 -> 984.66 | K47: =K8 -> 353.99 | L47: =L8 -> 768.46 | ... P47: =P8 -> 6994.91
D48: 2022 | E48: =Q8 -> 8405.97 | F48: =R8 -> 8690.2 | G48: =S8 -> 6280.17 | H48: =T8 -> 5899.94 | I48: =U8 -> 4563.31 | J48: =V8 -> 2719.44 | K48: =W8 -> 1307.51 | L48: =X8 -> 68.46 | ... P48: =AB8 -> 21200

Sheet AREI
B2: LBTU APP Agroresursu un ekonomikas institūts (AREI) Energoresursu izmaksu sadārdzinājums
B4: Nr.p.k. | C4: Energoresursu veids | D4: Izdevumu EKK | E4: Izdevumi pēc naudas plūsmas principa par 2021.gadu EUR | Q4: Izdevumi pēc naudas plūsmas principa par 2022.gadu EUR Faktiskie izdevumi līdz 30.novembrim un prognozētie decembra mēnesī.
E5: Janvāris (par decembri) | F5: Februāris (par janvāri) | G5: Marts (par februāri) | H5: Aprīlis (par martu) | I5: Maijs (par aprīli) | J5: Jūnijs (par maiju) | K5: Jūlijs (par jūniju) | L5: Augusts(par jūliju) | M5: Septembris (par augustu) | N5: Oktobris (par septembri) | O5: Novembris(par oktobri) | P5: Decembris (par novembri) | Q5: Janvāris (par decembri) | R5: Februāris (par janvāri) | S5: Marts (par februāri) | T5: Aprīlis (par martu) | U5: Maijs (par aprīli) | V5: Jūnijs (par maiju) | W5: Jūlijs (par jūniju) | X5: Augusts (par jūliju) | Y5: Septembris (par augustu) | Z5: Oktobris (par septembri) | AA5: Novembris(par oktobri) | AB5: Decembris (par novembri)
B6: a | C6: b | D6: c | E6: d | F6: e | G6: f | H6: g | I6: h | J6: d | K6: e | L6: f | M6: g | N6: h | O6: g | P6: h | Q6: i | R6: j | S6: k | T6: l | U6: m | V6: i | W6: j | X6: k | Y6: l | Z6: m | AA6: l | AB6: m
B7: 1. | C7: Kopā energoresursi: | D7: x | E7: =E8 -> 3688.06 | F7: =F8 -> 6041.71 | G7: =G8 -> 4334.3 | H7: =H8 -> 2173.39 | I7: =I8 -> 1285.47 | J7: =J8 -> 473.85 | K7: =K8 -> 0 | L7: =L8 -> 0 | ... AB7: =AB8 -> 31484.2
B8: 1.2. | C8: Siltumenerģija apkurei (2221) | E8: =SUM(E10:E14) -> 3688.06 | F8: =SUM(F10:F14) -> 6041.71 | G8: =SUM(G10:G14) -> 4334.3 | H8: =SUM(H10:H14) -> 2173.39 | I8: =SUM(I10:I14) -> 1285.47 | J8: =SUM(J10:J14) -> 473.85 | K8: =SUM(K10:K14) -> 0 | L8: =SUM(L10:L14) -> 0 | ... AB8: =SUM(AB10:AB14) -> 31484.2
C9: Starpība %
B10: 1.3. | C10: Dabasgāze
B11: 1.4. | C11: Ogles
B12: 1.5. | C12: Kurināmā koksne (granulas) | D12: 232102 | E12: 1210.26 | F12: 2686.37 | G12: 1222.29 | H12: 0 | I12: 0 | J12: 0 | K12: 0 | L12: 0 | M12: 0 | N12: 7894.58 | O12: 551.11 | P12: 2176.89 | Q12: 3015.56 | R12: 2262.36 | S12: 7639.2 | T12: 2550.54 | U12: 0 | V12: 0 | W12: 0 | X12: 0 | Y12: 0 | Z12: 0 | AA12: 3426.96 | AB12: 24224.2
B13: 1.6. | C13: Centralizēti - Rīgas Siltums | D13: 2221 | E13: 2477.8 | F13: 3355.34 | G13: 3112.01 | H13: 2173.39 | I13: 1285.47 | J13: 473.85 | K13: 0 | L13: 0 | M13: 0 | N13: 217.74 | O13: 1264.85 | P13: 2887.87 | Q13: 5008.34 | R13: 4135.1 | S13: 3411.32 | T13: 3433.07 | U13: 2214.93 | V13: 788.8 | W13: 0 | X13: 0 | Y13: 0 | Z13: 0 | AA13: 2974.42 | AB13: 7260
B14: 1.7. | C14: Norādīt citu konkrētu energoresursu veidu
C17: Sagatavotājs: Guntis Zālītis, Juris Multiņš, guntis.zalitis@arei.lv, juris.multins@arei.lv, 26511022.
L20: Energoresursi
N21: + /_ Eur | O21: 50% no pieauguma, Eur
L22: 2021 | M22: 2022
L24: =SUM(E8:P8) -> 32989.82 | M24: =SUM(Q8:AB8) -> 72344.8 | N24: =M24-L24 -> 39354.98 | O24: =N24/100*50 -> 19677.49
E46: Janvāris (par decembri) | F46: Februāris (par janvāri) | G46: Marts (par februāri) | H46: Aprīlis (par martu) | I46: Maijs (par aprīli) | J46: Jūnijs (par maiju) | K46: Jūlijs (par jūniju) | L46: Augusts(par jūliju) | M46: Septembris (par augustu) | N46: Oktobris (par septembri) | O46: Novembris(par oktobri) | P46: Decembris (par novembri)
D47: 2021 | E47: =E8 -> 3688.06 | F47: =F8 -> 6041.71 | G47: =G8 -> 4334.3 | H47: =H8 -> 2173.39 | I47: =I8 -> 1285.47 | J47: =J8 -> 473.85 | K47: =K8 -> 0 | L47: =L8 -> 0 | ... P47: =P8 -> 5064.76
D48: 2022 | E48: =Q8 -> 8023.9 | F48: =R8 -> 6397.46 | G48: =S8 -> 11050.52 | H48: =T8 -> 5983.61 | I48: =U8 -> 2214.93 | J48: =V8 -> 788.8 | K48: =W8 -> 0 | L48: =X8 -> 0 | ... P48: =AB8 -> 31484.2

Sheet BIOR
B2: Pārtikas drošības, dzīvnieku veselības un vides zinātniskais institūts "BIOR" (BIOR) Energoresursu izmaksu sadārdzinājums
B4: Nr.p.k. | C4: Energoresursu veids | D4: Izdevumu EKK | E4: Izdevumi pēc naudas plūsmas principa par 2021.gadu EUR | Q4: Izdevumi pēc naudas plūsmas principa par 2022.gadu EUR Faktiskie izdevumi līdz 30.novembrim un prognozētie decembra mēnesī.
E5: Janvāris (par decembri) | F5: Februāris (par janvāri) | G5: Marts (par februāri) | H5: Aprīlis (par martu) | I5: Maijs (par aprīli) | J5: Jūnijs (par maiju) | K5: Jūlijs (par jūniju) | L5: Augusts(par jūliju) | M5: Septembris (par augustu) | N5: Oktobris (par septembri) | O5: Novembris(par oktobri) | P5: Decembris (par novembri) | Q5: Janvāris (par decembri) | R5: Februāris (par janvāri) | S5: Marts (par februāri) | T5: Aprīlis (par martu) | U5: Maijs (par aprīli) | V5: Jūnijs (par maiju) | W5: Jūlijs (par jūniju) | X5: Augusts(par jūliju) | Y5: Septembris (par augustu) | Z5: Oktobris (par septembri) | AA5: Novembris(par oktobri) | AB5: Decembris (par novembri)
B6: a | C6: b | D6: c | E6: d | F6: e | G6: f | H6: g | I6: h | J6: d | K6: e | L6: f | M6: g | N6: h | O6: g | P6: h | Q6: i | R6: j | S6: k | T6: l | U6: m | V6: i | W6: j | X6: k | Y6: l | Z6: m | AA6: l | AB6: m
B7: 1. | C7: Kopā energoresursi: | D7: x | E7: =E8 -> 8486.26 | F7: =F8 -> 12961.96 | G7: =G8 -> 9586.43 | H7: =H8 -> 7720.44 | I7: =I8 -> 4213.67 | J7: =J8 -> 1662.5 | K7: =K8 -> 642.84 | L7: =L8 -> 4216.23 | ... AB7: =AB8 -> 60595.07
B8: 1.2. | C8: Siltumenerģija apkurei (2221) | E8: =SUM(E10:E14) -> 8486.26 | F8: =SUM(F10:F14) -> 12961.96 | G8: =SUM(G10:G14) -> 9586.43 | H8: =SUM(H10:H14) -> 7720.44 | I8: =SUM(I10:I14) -> 4213.67 | J8: =SUM(J10:J14) -> 1662.5 | K8: =SUM(K10:K14) -> 642.84 | L8: =SUM(L10:L14) -> 4216.23 | ... AB8: =SUM(AB10:AB14) -> 60595.07
C9: Starpība %
B10: 1.3. | C10: Dabasgāze | E10: 8464.8 | F10: 9562.58 | G10: 9555.79 | H10: 7696.8 | I10: 4197.11 | J10: 1515.96 | K10: 642.84 | L10: 616.23 | M10: 693.19 | N10: 1803.66 | O10: 4484.56 | P10: 6862.79 | Q10: 24945.03 | R10: 20708.18 | S10: 17286.53 | T10: 17793.08 | U10: 10751.76 | V10: 3062 | W10: 2200.77 | X10: 1245.02 | Y10: 1331.5 | Z10: 1705.4 | AA10: 3638.48 | AB10: 55210.02
B11: 1.4. | C11: Ogles
B12: 1.5. | C12: Kurināmā koksne | E12: 21.46 | F12: 3399.38 | G12: 30.64 | H12: 23.64 | I12: 16.56 | J12: 146.54 | L12: 3600 | N12: 1477.79 | O12: 32.44 | P12: 2855.28 | Q12: 3668.29 | R12: 2507.19 | S12: 3668.46 | T12: 54.54 | U12: 67.23 | V12: 269.78 | Z12: 0 | AA12: 16884 | AB12: =ROUND(3590.03*1.5,2) -> 5385.05
B13: 1.6. | C13: Norādīt citu konkrētu energoresursu veidu
B14: 1.7. | C14: Norādīt citu konkrētu energoresursu veidu
C16: 2022.gada ___.___________
C17: Sagatavotājs:
C18: (Vārds, Uzvārds, telefona nr., epasts)
L20: Energoresursi
N21: + /_ Eur | O21: 50% no pieauguma, Eur
L22: 2021 | M22: 2022
L24: =SUM(E8:P8) -> 67700.04 | M24: =SUM(Q8:AB8) -> 192382.31 | N24: =M24-L24 -> 124682.27 | O24: =N24/100*50 -> 62341.135
E46: Janvāris (par decembri) | F46: Februāris (par janvāri) | G46: Marts (par februāri) | H46: Aprīlis (par martu) | I46: Maijs (par aprīli) | J46: Jūnijs (par maiju) | K46: Jūlijs (par jūniju) | L46: Augusts(par jūliju) | M46: Septembris (par augustu) | N46: Oktobris (par septembri) | O46: Novembris(par oktobri) | P46: Decembris (par novembri)
D47: 2021 | E47: =E8 -> 8486.26 | F47: =F8 -> 12961.96 | G47: =G8 -> 9586.43 | H47: =H8 -> 7720.44 | I47: =I8 -> 4213.67 | J47: =J8 -> 1662.5 | K47: =K8 -> 642.84 | L47: =L8 -> 4216.23 | ... P47: =P8 -> 9718.07
D48: 2022 | E48: =Q8 -> 28613.32 | F48: =R8 -> 23215.37 | G48: =S8 -> 20954.99 | H48: =T8 -> 17847.62 | I48: =U8 -> 10818.99 | J48: =V8 -> 3331.78 | K48: =W8 -> 2200.77 | L48: =X8 -> 1245.02 | ... P48: =AB8 -> 60595.07

Sheet BDV
B2: Bulduru Dārzkopības vidusskola (BDV) Energoresursu izmaksu sadārdzinājums
B4: Nr.p.k. | C4: Energoresursu veids | D4: Izdevumu EKK | E4: Izdevumi pēc naudas plūsmas principa par 2021.gadu EUR | Q4: Izdevumi pēc naudas plūsmas principa par 2022.gadu EUR Faktiskie izdevumi līdz 30.novembrim un prognozētie decembra mēnesī.
E5: Janvāris (par decembri) | F5: Februāris (par janvāri) | G5: Marts (par februāri) | H5: Aprīlis (par martu) | I5: Maijs (par aprīli) | J5: Jūnijs (par maiju) | K5: Jūlijs (par jūniju) | L5: Augusts(par jūliju) | M5: Septembris (par augustu) | N5: Oktobris (par septembri) | O5: Novembris(par oktobri) | P5: Decembris (par novembri) | Q5: Janvāris (par decembri) | R5: Februāris (par janvāri) | S5: Marts (par februāri) | T5: Aprīlis (par martu) | U5: Maijs (par aprīli) | V5: Jūnijs (par maiju) | W5: Jūlijs (par jūniju) | X5: Augusts(par jūliju) | Y5: Septembris (par augustu) | Z5: Oktobris (par septembri) | AA5: Novembris(par oktobri) | AB5: Decembris (par novembri)
B6: a | C6: b | D6: c | E6: d | F6: e | G6: f | H6: g | I6: h | J6: d | K6: e | L6: f | M6: g | N6: h | O6: g | P6: h | Q6: i | R6: j | S6: k | T6: l | U6: m | V6: i | W6: j | X6: k | Y6: l | Z6: m | AA6: l | AB6: m
B7: 1. | C7: Kopā energoresursi: | D7: x | E7: =E8 -> 19198.002 | F7: =F8 -> 17449.574 | G7: =G8 -> 14581.902 | H7: =H8 -> 9146.414 | I7: =I8 -> 1200.902 | J7: =J8 -> 0 | K7: =K8 -> 0 | L7: =L8 -> 0 | ... AB7: =AB8 -> 121397.1
B8: 1.2. | C8: Siltumenerģija apkurei (2221) | E8: =SUM(E10:E14) -> 19198.002 | F8: =SUM(F10:F14) -> 17449.574 | G8: =SUM(G10:G14) -> 14581.902 | H8: =SUM(H10:H14) -> 9146.414 | I8: =SUM(I10:I14) -> 1200.902 | J8: =SUM(J10:J14) -> 0 | K8: =SUM(K10:K14) -> 0 | L8: =SUM(L10:L14) -> 0 | ... AB8: =SUM(AB10:AB14) -> 121397.1
C9: Starpība % | Q9: =Q8/E8 -> 1.8396109 | R9: =R8/F8 -> 1.4590752 | S9: =S8/G8 -> 1.675778 | T9: =T8/H8 -> 2.3115342 | U9: =U8/I8 -> 1.0979331 | V9: =V8/J8 -> #DIV/0! | W9: =W8/K8 -> #DIV/0! | X9: =X8/L8 -> #DIV/0! | ... AB9: =AB8/P8 -> 4.5777552
B10: 1.3. | C10: Dabasgāze | E10: 1660.02 | F10: 2059.1 | G10: 2054.76 | H10: 2107.36 | I10: 365.76 | M10: 310.12 | N10: 939.4 | O10: 1235.89 | P10: 9458.06 | Q10: 15757.3 | R10: 8238.54 | S10: 6370.96 | T10: 8019.75 | U10: 1318.51 | Y10: 32.55 | Z10: 32.55 | AA10: 1146.46 | AB10: 12388.2
B11: 1.4. | C11: Ogles
B12: 1.5. | C12: Kurināmā koksne | E12: =14494.2*1.21 -> 17537.982 | F12: =12719.4*1.21 -> 15390.474 | G12: =10353.01*1.21 -> 12527.142 | H12: =5817.4*1.21 -> 7039.054 | I12: =690.2*1.21 -> 835.142 | N12: =5127.2*1.21 -> 6203.912 | O12: =8972.65*1.21 -> 10856.906 | P12: =14099.88*1.21 -> 17060.855 | Q12: =16164.92*1.21 -> 19559.553 | R12: =14232.81*1.21 -> 17221.7 | S12: =14929.81*1.21 -> 18065.07 | T12: =10845.04*1.21 -> 13122.498 | Z12: 13431.6 | AA12: 13009.5 | AB12: 109008.9
B13: 1.6. | C13: Norādīt citu konkrētu energoresursu veidu
B14: 1.7. | C14: Norādīt citu konkrētu energoresursu veidu
C16: 2022.gada 23.novembris
C17: Sagatavotājs:
C18: (Inga Falkenburga, 26594024, inga.falkenburga@bulduri.lv) | AA18: naudas plūsma uz 22.11.2022
L20: Energoresursi
N21: + /_ Eur | O21: 50% no pieauguma, Eur
L22: 2021 | M22: 2022
L24: =SUM(E8:P8) -> 107641.94 | M24: =SUM(Q8:AB8) -> 256723.64 | N24: =M24-L24 -> 149081.7 | O24: =N24/100*50 -> 74540.852
E46: Janvāris (par decembri) | F46: Februāris (par janvāri) | G46: Marts (par februāri) | H46: Aprīlis (par martu) | I46: Maijs (par aprīli) | J46: Jūnijs (par maiju) | K46: Jūlijs (par jūniju) | L46: Augusts(par jūliju) | M46: Septembris (par augustu) | N46: Oktobris (par septembri) | O46: Novembris(par oktobri) | P46: Decembris (par novembri)
D47: 2021 | E47: =E8 -> 19198.002 | F47: =F8 -> 17449.574 | G47: =G8 -> 14581.902 | H47: =H8 -> 9146.414 | I47: =I8 -> 1200.902 | J47: =J8 -> 0 | K47: =K8 -> 0 | L47: =L8 -> 0 | ... P47: =P8 -> 26518.915
D48: 2022 | E48: =Q8 -> 35316.853 | F48: =R8 -> 25460.24 | G48: =S8 -> 24436.03 | H48: =T8 -> 21142.248 | I48: =U8 -> 1318.51 | J48: =V8 -> 0 | K48: =W8 -> 0 | L48: =X8 -> 0 | ... P48: =AB8 -> 121397.1

Sheet MaK
B2: Malnavas koledža (MaK) Energoresursu izmaksu sadārdzinājums
B4: Nr.p.k. | C4: Energoresursu veids | D4: Izdevumu EKK | E4: Izdevumi pēc naudas plūsmas principa par 2021.gadu EUR | Q4: Izdevumi pēc naudas plūsmas principa par 2022.gadu EUR Faktiskie izdevumi līdz 30.novembrim un prognozētie decembra mēnesī.
E5: Janvāris (par decembri) | F5: Februāris (par janvāri) | G5: Marts (par februāri) | H5: Aprīlis (par martu) | I5: Maijs (par aprīli) | J5: Jūnijs (par maiju) | K5: Jūlijs (par jūniju) | L5: Augusts(par jūliju) | M5: Septembris (par augustu) | N5: Oktobris (par septembri) | O5: Novembris(par oktobri) | P5: Decembris (par novembri) | Q5: Janvāris (par decembri) | R5: Februāris (par janvāri) | S5: Marts (par februāri) | T5: Aprīlis (par martu) | U5: Maijs (par aprīli) | V5: Jūnijs (par maiju) | W5: Jūlijs (par jūniju) | X5: Augusts(par jūliju) | Y5: Septembris (par augustu) | Z5: Oktobris (par septembri) | AA5: Novembris(par oktobri) | AB5: Decembris (par novembri)
B6: a | C6: b | D6: c | E6: d | F6: e | G6: f | H6: g | I6: h | J6: d | K6: e | L6: f | M6: g | N6: h | O6: g | P6: h | Q6: i | R6: j | S6: k | T6: l | U6: m | V6: i | W6: j | X6: k | Y6: l | Z6: m | AA6: l | AB6: m
B7: 1. | C7: Kopā energoresursi: | D7: x | E7: =E8 -> 4878.72 | F7: =F8 -> 3472.256 | G7: =G8 -> 4721.8176 | H7: =H8 -> 3377.9968 | I7: =I8 -> 1664.3392 | J7: =J8 -> 0 | K7: =K8 -> 0 | L7: =L8 -> 0 | ... AB7: =AB8 -> 12483.328
B8: 1.2. | C8: Siltumenerģija apkurei (2221) | E8: =SUM(E10:E14) -> 4878.72 | F8: =SUM(F10:F14) -> 3472.256 | G8: =SUM(G10:G14) -> 4721.8176 | H8: =SUM(H10:H14) -> 3377.9968 | I8: =SUM(I10:I14) -> 1664.3392 | J8: =SUM(J10:J14) -> 0 | K8: =SUM(K10:K14) -> 0 | L8: =SUM(L10:L14) -> 0 | ... AB8: =SUM(AB10:AB14) -> 12483.328
C9: Starpība %
B10: 1.3. | C10: Dabasgāze
B11: 1.4. | C11: Ogles
B12: 1.5. | C12: Kurināmā koksne
B13: 1.6. | C13: Šķelda | E13: 4878.72 | F13: 3472.256 | G13: 4721.8176 | H13: 3377.9968 | I13: 1664.3392 | J13: 0 | K13: 0 | L13: 0 | M13: 0 | N13: 0 | O13: 1664.3392 | P13: 3593.7408 | Q13: 7244.0064 | R13: 6766.944 | S13: 5928.8064 | T13: 4552.2304 | U13: 2875.1744 | V13: 0 | W13: 0 | X13: 0 | Y13: 0 | Z13: 0 | AA13: 17284.61 | AB13: 12483.328
B14: 1.7. | C14: Norādīt citu konkrētu energoresursu veidu
C16: 2022.gada 23.novembris
C17: Sagatavotājs: | Y17: Septembrī nav izdevumu par apkuri, jo apkurese sezonu uzsākām oktobrī.
C18: (Svetlana Sprukte, 29465966, svetlana.sprukte@malnavaskoledza.lv | Y18: Elektroenerģijas izmaksas pardecembri prognozētas pēc iepriekšējā gada patēŗiņa un tekošā gada cenām
Y19: Šķeldas izmaksas par oktobri, novembri, decembri prognozētas pēc iepriekšējā gada patēŗiņa un tekošā gada cenām
L20: Energoresursi
N21: + /_ Eur | O21: 50% no pieauguma, Eur
L22: 2021 | M22: 2022
L24: =SUM(E8:P8) -> 23373.21 | M24: =SUM(Q8:AB8) -> 57135.1 | N24: =M24-L24 -> 33761.89 | O24: =N24/100*50 -> 16880.945
E46: Janvāris (par decembri) | F46: Februāris (par janvāri) | G46: Marts (par februāri) | H46: Aprīlis (par martu) | I46: Maijs (par aprīli) | J46: Jūnijs (par maiju) | K46: Jūlijs (par jūniju) | L46: Augusts(par jūliju) | M46: Septembris (par augustu) | N46: Oktobris (par septembri) | O46: Novembris(par oktobri) | P46: Decembris (par novembri)
D47: 2021 | E47: =E8 -> 4878.72 | F47: =F8 -> 3472.256 | G47: =G8 -> 4721.8176 | H47: =H8 -> 3377.9968 | I47: =I8 -> 1664.3392 | J47: =J8 -> 0 | K47: =K8 -> 0 | L47: =L8 -> 0 | ... P47: =P8 -> 3593.7408
D48: 2022 | E48: =Q8 -> 7244.0064 | F48: =R8 -> 6766.944 | G48: =S8 -> 5928.8064 | H48: =T8 -> 4552.2304 | I48: =U8 -> 2875.1744 | J48: =V8 -> 0 | K48: =W8 -> 0 | L48: =X8 -> 0 | ... P48: =AB8 -> 12483.328
