Workbook

Sheet Ietekme_LM_2026_
A1: 2.pielikums rīkojuma projekta
A2: pasākumu plāna atbalsta sniegšanai Ukrainas civiliedzīvotājiem Latvijas Republikā 2026.gadā sākotnējās ietekmes novērtējuma ziņojumam (anotācijai)
B3: Labklājības ministrija
B4: papildu nepieciešamo izdevumu aprēķins*
B5: EKK | C5: Apraksts | D5: Aprēķins | E5: 2026. gadā | F5: Pamatojums
C7: KOPĀ*: | E7: =SUM(E8:E13) -> 23264841 | F7: 2026. gada izdevumu prognoze balstīta uz faktiskajiem atbalsta pasākumu izdevumiem līdz 2025. gada 1. oktobrim.
B8: EKK 1000 | C8: Atlīdzība | E8: =E32+E46+E59+E70+E116+E127+E138+E150+E162+E173+E185+E196+E208+E220+E232+E20 -> 6336
B9: EKK 2000 | C9: Preces un pakalpojumi | E9: =E33+E47+E60+E71+E117+E128+E139+E151+E163+E174+E186+E197+E209+E221+E233+E21 -> 2112
B10: EKK 3000 | C10: Subsīdijas un dotācijas | E10: =E34+E48+E61+E72+E118+E129+E140+E152+E164+E175+E187+E198+E210+E222+E234+E22 -> 313279
B11: EKK 5000 | C11: Pamatkapitāla veidošana | E11: =E35+E49+E62+E73+E119+E130+E141+E153+E165+E176+E188+E199+E211+E223+E235+E23 -> 0
B12: EKK 6000 | C12: Sociāla rakstura maksājumi un kompensācijas | E12: =E36+E50+E63+E74+E120+E131+E142+E154+E166+E177+E189+E200+E212+E224+E236+E24 -> 8071679
B13: EKK 7000 | C13: Transferti, starptautiskā sadarbība | E13: =E37+E51+E64+E75+E121+E132+E143+E155+E167+E178+E190+E201+E213+E225+E237+E25 -> 14871435
B14: *ieskaitot pašvaldību nodrošinātus atbalsta pasākumus, kuru izdevumus pašvaldībām no budžeta resora "74. Gadskārtējā valsts budžeta izpildes procesā pārdalāmais finansējums" atsevišķās programmas 17. 00. 00 “Finansējums Ukrainas civiliedzīvotāju atbalsta likumā noteikto pasākumu īstenošanai” piešķirtiem finanšu līdzekļiem sedz VARAM.
A15: 3.3. | B15: 3.3. Virsstundu darba vai papildu darba apmaksa bāriņtiesu un pašvaldības sociālo dienestu darbiniekiem
A16: 3.3. | B16: Viedās administrācijas un reģionālās attīstības ministrija
A17: 3.3.
A18: 3.3. | B18: Pašvaldības
A19: 3.3. | D19: KOPĀ: | E19: =SUM(E20:E25) -> 79007 | F19: UCAL 13.panta pirmā prim daļa un pirmā divi prim daļa.
A20: 3.3. | B20: EKK 1000 | C20: Atlīdzība
A21: 3.3. | B21: EKK 2000 | C21: Preces un pakalpojumi
A22: 3.3. | B22: EKK 3000 | C22: Subsīdijas un dotācijas
A23: 3.3. | B23: EKK 5000 | C23: Pamatkapitāla veidošana
A24: 3.3. | B24: EKK 6000 | C24: Sociāla rakstura maksājumi un kompensācijas
A25: 3.3. | B25: EKK 7000 | C25: Transferti, starptautiskā sadarbība | D25: Detalizēti aprēķini 2. pielikuma 1.tabulā | E25: ='1.tab.'!Y27 -> 79007
A26: 3.3. | B26: Grozījumi Ukrainas civiliedzīvotāju atbalsta likumā (25-TA-2306) paredz no 2026. gada 1. janvār izslēgt izslēgt 1.1 un 1.2 daļu; Finansējums iekļauts 2026. gada izdevumu plānā, lai segtu pašvaldību izdevumus par izdevumiem, kas radušies 2025. gada decembrī.
A27: 4.1. | B27: 4.1. Atbalsta sniegšana Eiropas Sociālā fonda Plus programmas materiālās nenodrošinātības mazināšanai 2021.-2027.gadam ietvaros
A28: 4.1. | B28: Labklājības ministrija
A29: 4.1. | B29: Sabiedrības integrācijas fonds
A30: 4.1. | B30: 74.resora "Gadskārtējā valsts budžeta izpildes procesā pārdalāmais finansējums" 80.00.00 programmas "Nesadalītais finansējums Eiropas Savienības politiku instrumentu un pārējās ārvalstu finanšu palīdzības līdzfinansēto projektu un pasākumu īstenošanai"**
A31: 4.1. | D31: KOPĀ: | E31: =SUM(E32:E37) -> 0 | F31: UCAL 7.panta pirmās daļas 2.punkts
A32: 4.1. | B32: EKK 1000 | C32: Atlīdzība
A33: 4.1. | B33: EKK 2000 | C33: Preces un pakalpojumi*** | D33: Indikatīvi nepieciešamais finansējums 2026. gadā atbalsta nodrošināšanai UA civiliedzīvotājiem 1 381 689 euro. Prognozētais atbalsta apjoms 10 488 unikālajām personām:  57 % no unikālo personu kopskaita (IeM prognozētie 6 000 personu - no jaunā iebraukušie 2026. gadā) saņem programmas atbalstu trīs mēnešus kā krīzes situācijā nonākušās mājsaimniecības;  43 % no unikālo personu kopskaita (4 488 personas) 2026. gadā turpina saņemt programmas atbalstu vidēji trīs ceturkšņus gada laikā. Aprēķins – indikatīvs personu skaits x paku skaits x cena x 14 % vienotās likmes maksājums par izdali/ papildpasākumiem:  pārtikas pakas: (6 000 personu x 2 pakas + 4 488 personas x 6 pakas) x 25,37 euro x 1,14 = 1 125 868 euro.  higiēnas pakas: (6 000 personu x 1 paka + 4 488 personas x 3 pakas) x 6,05 euro x 1,14 = 134 243 euro.  bērnu pārtikas pakas: (95 bērni x 2 pakas + 71 bērns x 6 pakas) x 43,74 euro x 1,14 = 30 716 euro.  bērnu higiēnas pakas: (113 bērni x 1 paka + 84 bērni x 3 pakas) x 52,98 euro x 1,14 = 22 045 euro.  mācību piederumu pakas: 2 357 skolēni x 1 paka x 24,32 euro x 1,14 = 65 347 euro.  pārtikas pakas zupas virtuvēm: 30 pakas x 101,47 euro x 1,14 = 3 470 euro. | E33: 0
A34: 4.1. | B34: EKK 3000 | C34: Subsīdijas un dotācijas
A35: 4.1. | B35: EKK 5000 | C35: Pamatkapitāla veidošana
A36: 4.1. | B36: EKK 6000 | C36: Sociāla rakstura maksājumi un kompensācijas
A37: 4.1. | B37: EKK 7000 | C37: Transferti, starptautiskā sadarbība
A38: 4.1. | B38: ** Primāri finansē no 74.resora "Gadskārtējā valsts budžeta izpildes procesā pārdalāmais finansējums" 80.00.00 programmas "Nesadalītais finansējums Eiropas Savienības politiku instrumentu un pārējās ārvalstu finanšu palīdzības līdzfinansēto projektu un pasākumu īstenošanai". Nepieciešamības gadījumā tiks sagatavots pieprasījums par papildu līdzekļu piešķiršanu no 74. resorā atsevišķā programmā plānotā finansējuma.
A39: 4.1. | B39: ***Finansējums apmērs un sadalījums starp EKK2000 tiks pieprasīts atbilstoši faktiskajai nepieciešamībai.
A40: 4.2. | B40: 4.2. Sociālās rehabilitācijas pakalpojuma sniegšana Sociālās integrācijas valsts aģentūrā personām, kuras valsts apmaksātās medicīniskās transportēšanas ietvaros pārvestas no Ukrainas ārstniecības iestādes uz stacionāro ārstniecības iestādi Latvijā un saņem veselības aprūpes pakalpojumus atbilstoši medicīniskās transportēšanas mērķim (līdz 60 dienām)
A41: 4.2. | B41: Labklājības ministrija
A42: 4.2.
A43: 4.2. | B43: Sociālās integrācijas valsts aģentūra
A44: 4.2. | B44: 05.37.00 "Sociālās integrācijas valsts aģentūras administrēšana un profesionālās un sociālās rehabilitācijas pakalpojumu nodrošināšana"
A45: 4.2. | D45: KOPĀ: | E45: =SUM(E46:E51) -> 8448 | F45: UCAL 7.panta pirmā daļa 3.punkts
A46: 4.2. | B46: EKK 1000 | C46: Atlīdzība* | D46: Detalizēti aprēķini 2. pielikuma 2.tabulā | E46: =ROUND('2.tab.'!AB56*0.75,0) -> 6336
A47: 4.2. | B47: EKK 2000 | C47: Preces un pakalpojumi* | E47: ='2.tab.'!AB56-Ietekme_LM_2026_!E46 -> 2112
A48: 4.2. | B48: EKK 3000 | C48: Subsīdijas un dotācijas
A49: 4.2. | B49: EKK 5000 | C49: Pamatkapitāla veidošana
A50: 4.2. | B50: EKK 6000 | C50: Sociāla rakstura maksājumi un kompensācijas
A51: 4.2. | B51: EKK 7000 | C51: Transferti, starptautiskā sadarbība
A52: 4.2. | B52: *Finansējums apmērs un sadalījums starp EKK 1000 un EKK 2000 tiks pieprasīts atbilstoši faktiskajai nepieciešamībai.
A53: 4.3. | B53: 4.3. Valsts finansēto tehnisko palīglīdzekļu nodrošināšana
A54: 4.3. | B54: Labklājības ministrija
A55: 4.3.
A56: 4.3. | B56: Vaivaru Tehnisko palīglīdzekļu centrs, Latvijas Neredzīgo biedrība, Latvijas Neredzīgo savienība
A57: 4.3. | B57: 05.01.00 "Sociālās rehabilitācijas valsts programmas"
A58: 4.3. | D58: KOPĀ: | E58: =SUM(E59:E64) -> 281883 | F58: UCAL 7.panta pirmā daļa 4.punkts
A59: 4.3. | B59: EKK 1000 | C59: Atlīdzība
A60: 4.3. | B60: EKK 2000 | C60: Preces un pakalpojumi
A61: 4.3. | B61: EKK 3000 | C61: Subsīdijas un dotācijas | D61: Detalizēti aprēķini 2. pielikuma 3.tabulā | E61: ='3.tab.'!AA36 -> 281883
A62: 4.3. | B62: EKK 5000 | C62: Pamatkapitāla veidošana
A63: 4.3. | B63: EKK 6000 | C63: Sociāla rakstura maksājumi un kompensācijas
A64: 4.3. | B64: EKK 7000 | C64: Transferti, starptautiskā sadarbība
A65: 4.4. | B65: 4.4. Atbalsta sniegšana Ukrainas civiliedzīvotājiem, kuriem Latvijā noteikta invaliditāte (pabalsti un pakalpojumi)
A66: 4.4.
A67: 4.4.
A68: 4.4.
A69: 4.4. | D69: KOPĀ: | E69: =SUM(E70:E75) -> 3116832
A70: 4.4. | B70: EKK 1000 | C70: Atlīdzība | E70: =E81+E93+E105 -> 0
A71: 4.4. | B71: EKK 2000 | C71: Preces un pakalpojumi | E71: =E82+E94+E106 -> 0
A72: 4.4. | B72: EKK 3000 | C72: Subsīdijas un dotācijas | E72: =E83+E95+E107 -> 16341
A73: 4.4. | B73: EKK 5000 | C73: Pamatkapitāla veidošana | E73: =E84+E96+E108 -> 0
A74: 4.4. | B74: EKK 6000 | C74: Sociāla rakstura maksājumi un kompensācijas | E74: =E85+E97+E109 -> 2586910
A75: 4.4. | B75: EKK 7000 | C75: Transferti, starptautiskā sadarbība | E75: =E86+E98+E110 -> 513581
B76: 1
B77: Viedās administrācijas un reģionālās attīstības ministrija
B79: Pašvaldības
D80: KOPĀ: | E80: =SUM(E81:E86) -> 513581 | F80: UCAL 7.panta trešā daļa
B81: EKK 1000 | C81: Atlīdzība
B82: EKK 2000 | C82: Preces un pakalpojumi
B83: EKK 3000 | C83: Subsīdijas un dotācijas
B84: EKK 5000 | C84: Pamatkapitāla veidošana
B85: EKK 6000 | C85: Sociāla rakstura maksājumi un kompensācijas
B86: EKK 7000 | C86: Transferti, starptautiskā sadarbība | D86: Detalizēti aprēķini 2. pielikuma 4.tabulā | E86: ='4.tab.'!AB142 -> 513581
B87: 2
B88: Labklājības ministrija
B90: Valsts sociālās apdrošināšanas aģentūra
B91: 20.01.00 "Valsts sociālie pabalsti"
D92: KOPĀ: | E92: =SUM(E93:E98) -> 2586910 | F92: UCAL 7.2 panta 9.daļa un 11.daļa
B93: EKK 1000 | C93: Atlīdzība
B94: EKK 2000 | C94: Preces un pakalpojumi
B95: EKK 3000 | C95: Subsīdijas un dotācijas
B96: EKK 5000 | C96: Pamatkapitāla veidošana
B97: EKK 6000 | C97: Sociāla rakstura maksājumi un kompensācijas | D97: =D86 -> Detalizēti aprēķini 2. pielikuma 4.tabulā | E97: ='4.tab.'!AA94 -> 2586910
B98: EKK 7000 | C98: Transferti, starptautiskā sadarbība
B99: 3
B100: Labklājības ministrija
B102: Sociālo pakalpojumu sniedzēji
B103: 05.01.00 "Sociālās rehabilitācijas valsts programmas"
D104: KOPĀ: | E104: =SUM(E105:E110) -> 16341 | F104: UCAL 7.panta trešā daļa
...

Sheet 1.tab.
A1: 2.pielikuma 1.tabula
A2: Pasākumu plāns atbalsta sniegšanai Ukrainas civiliedzīvotājiem Latvijas Republikā 2026.gadā
A3: =[1]Ietekme_LM_2026_Sandra!B15 -> 3.3. Virsstundu darba vai papildu darba apmaksa bāriņtiesu un pašvaldības sociālo dienestu darbiniekiem
A4: X | B4: 2023 | D4: 2023 | F4: 2023 | H4: 2023 | J4: 2023 | L4: 2023 | N4: 2023 | P4: 2023 | R4: 2023 | T4: 2023 | V4: 2023 | X4: 2023 | Z4: 2023
B5: janvāris | D5: februāris | F5: marts | H5: aprīlis | J5: maijs | L5: jūnijs | N5: jūlijs | P5: augusts | R5: septembris | T5: oktobris | V5: novembris | X5: decembris
C6: (euro,centi) | E6: (euro,centi) | G6: (euro,centi) | I6: (euro,centi) | K6: (euro,centi) | M6: (euro,centi) | O6: (euro,centi) | Q6: (euro,centi) | S6: (euro,centi) | U6: (euro,centi) | W6: (euro,centi) | Y6: (euro,centi) | Z6: (euro,centi)
B7: Saņēmēju skaits | C7: Faktiskie izdevumi pārskata periodā | D7: Saņēmēju skaits | E7: Faktiskie izdevumi pārskata periodā | F7: Saņēmēju skaits | G7: Faktiskie izdevumi pārskata periodā | H7: Saņēmēju skaits | I7: Faktiskie izdevumi pārskata periodā | J7: Saņēmēju skaits | K7: Faktiskie izdevumi pārskata periodā | L7: Saņēmēju skaits | M7: Faktiskie izdevumi pārskata periodā | N7: Saņēmēju skaits | O7: Faktiskie izdevumi pārskata periodā | P7: Saņēmēju skaits | Q7: Faktiskie izdevumi pārskata periodā | R7: Saņēmēju skaits | S7: Faktiskie izdevumi pārskata periodā | T7: Saņēmēju skaits | U7: Faktiskie izdevumi pārskata periodā | V7: Saņēmēju skaits | W7: Faktiskie izdevumi pārskata periodā | X7: Saņēmēju skaits | Y7: Faktiskie izdevumi pārskata periodā | Z7: Faktiskie izdevumi pārskata periodā
A8: A | B8: 1 | C8: 2 | D8: 3 | E8: 4 | F8: 5 | G8: 6 | H8: 7 | I8: 8 | J8: 9 | K8: 10 | L8: 11 | M8: 12 | N8: 13 | O8: 14 | P8: 15 | Q8: 16 | R8: 17 | S8: 18 | T8: 19 | U8: 20 | V8: 21 | W8: 22 | X8: 23 | Y8: 24 | Z8: 25
A9: Piemaksa pie mēnešalgas un virsstundu darbs bāriņtiesu un sociālo dienestu darbiniekiem, kuri iesaistīti atbalsta sniegšanā Ukrainas civiliedzīvotājiem | B9: x | C9: =C10+C11 -> 82658.63 | D9: x | E9: =E10+E11 -> 175311.62 | F9: x | G9: =G10+G11 -> 190022.59 | H9: x | I9: =I10+I11 -> 169374.26 | J9: x | K9: =K10+K11 -> 169216.83 | L9: x | M9: =M10+M11 -> 157080.92 | N9: x | O9: =O10+O11 -> 136711.77 | P9: x | Q9: =Q10+Q11 -> 133006.24 | R9: x | S9: =S10+S11 -> 139827.32 | T9: x | U9: =U10+U11 -> 143451.11 | V9: x | W9: =W10+W11 -> 139874 | X9: x | Y9: =Y10+Y11 -> 170773.16 | Z9: =Z10+Z11 -> 1807308.5
A10: Piemaksa pie mēnešalgas | B10: 261 | C10: 82658.63 | D10: 487 | E10: 173672.37 | F10: 480 | G10: 188697.47 | H10: 454 | I10: 167022.74 | J10: 470 | K10: 166977.71 | L10: 439 | M10: 156043.49 | N10: 425 | O10: 135583.33 | P10: 409 | Q10: 131023.92 | R10: 419 | S10: 137360.7 | T10: 412 | U10: 141563.53 | V10: 409 | W10: 138271.04 | X10: 461 | Y10: 169135.05 | Z10: =G10+I10+K10+M10+O10+Q10+S10+U10+W10+Y10+C10+E10 -> 1788010
A11: Virsstundu darbs | B11: 0 | C11: 0 | D11: 4 | E11: 1639.25 | F11: 4 | G11: 1325.12 | H11: 4 | I11: 2351.52 | J11: 5 | K11: 2239.12 | L11: 2 | M11: 1037.43 | N11: 2 | O11: 1128.44 | P11: 6 | Q11: 1982.32 | R11: 7 | S11: 2466.62 | T11: 5 | U11: 1887.58 | V11: 4 | W11: 1602.96 | X11: 4 | Y11: 1638.11 | Z11: =G11+I11+K11+M11+O11+Q11+S11+U11+W11+Y11+C11+E11 -> 19298.47
A13: X | B13: 2024 | D13: 2024 | F13: 2024 | H13: 2024 | J13: 2024 | L13: 2024 | N13: 2024 | P13: 2024 | R13: 2024 | T13: 2024 | V13: 2024 | X13: 2024 | Z13: 2024
B14: janvāris | D14: februāris | F14: marts | H14: aprīlis | J14: maijs | L14: jūnijs | N14: jūlijs | P14: augusts | R14: septembris | T14: oktobris | V14: novembris | X14: decembris
C15: (euro,centi) | E15: (euro,centi) | G15: (euro,centi) | I15: (euro,centi) | K15: (euro,centi) | M15: (euro,centi) | O15: (euro,centi) | Q15: (euro,centi) | S15: (euro,centi) | U15: (euro,centi) | W15: (euro,centi) | Y15: (euro,centi) | Z15: (euro,centi)
B16: Saņēmēju skaits | C16: Faktiskie izdevumi pārskata periodā | D16: Saņēmēju skaits | E16: Faktiskie izdevumi pārskata periodā | F16: Saņēmēju skaits | G16: Faktiskie izdevumi pārskata periodā | H16: Saņēmēju skaits | I16: Faktiskie izdevumi pārskata periodā | J16: Saņēmēju skaits | K16: Faktiskie izdevumi pārskata periodā | L16: Saņēmēju skaits | M16: Faktiskie izdevumi pārskata periodā | N16: Saņēmēju skaits | O16: Faktiskie izdevumi pārskata periodā | P16: Saņēmēju skaits | Q16: Faktiskie izdevumi pārskata periodā | R16: Saņēmēju skaits | S16: Faktiskie izdevumi pārskata periodā | T16: Saņēmēju skaits | U16: Faktiskie izdevumi pārskata periodā | V16: Saņēmēju skaits | W16: Faktiskie izdevumi pārskata periodā | X16: Saņēmēju skaits | Y16: Faktiskie izdevumi pārskata periodā | Z16: Faktiskie izdevumi pārskata periodā
A17: A | B17: 1 | C17: 2 | D17: 3 | E17: 4 | F17: 5 | G17: 6 | H17: 7 | I17: 8 | J17: 9 | K17: 10 | L17: 11 | M17: 12 | N17: 13 | O17: 14 | P17: 15 | Q17: 16 | R17: 17 | S17: 18 | T17: 19 | U17: 20 | V17: 21 | W17: 22 | X17: 23 | Y17: 24 | Z17: 25
A18: Piemaksa pie mēnešalgas un virsstundu darbs bāriņtiesu un sociālo dienestu darbiniekiem, kuri iesaistīti atbalsta sniegšanā Ukrainas civiliedzīvotājiem | B18: x | C18: =C19+C20 -> 95185.01 | D18: x | E18: =E19+E20 -> 101991.45 | F18: x | G18: =G19+G20 -> 118264.76 | H18: x | I18: =I19+I20 -> 100611.41 | J18: x | K18: =K19+K20 -> 100890.9 | L18: x | M18: =M19+M20 -> 85239.97 | N18: x | O18: =O19+O20 -> 51453.96 | P18: x | Q18: =Q19+Q20 -> 114085.58 | R18: x | S18: =S19+S20 -> 78099.73 | T18: x | U18: =U19+U20 -> 84374.72 | V18: x | W18: =W19+W20 -> 82539.19 | X18: x | Y18: =Y19+Y20 -> 70119.55 | Z18: =Z19+Z20 -> 1082856
A19: Piemaksa pie mēnešalgas | B19: 272 | C19: 93662.48 | D19: 312 | E19: 99932.37 | F19: 327 | G19: 116526.23 | H19: 296 | I19: 98501.54 | J19: 311 | K19: 98725.87 | L19: 288 | M19: 83033.28 | N19: 234 | O19: 49689.99 | P19: 284 | Q19: 111996.25 | R19: 270 | S19: 75947.66 | T19: 282 | U19: 82385.06 | V19: 278 | W19: 79975.83 | X19: 244 | Y19: 67415.3 | Z19: =ROUND(G19+I19+K19+M19+O19+Q19+S19+U19+W19+Y19+C19+E19,0) -> 1057792
A20: Virsstundu darbs | B20: 4 | C20: 1522.53 | D20: 4 | E20: 2059.08 | F20: 4 | G20: 1738.53 | H20: 4 | I20: 2109.87 | J20: =ROUND((H20+F20+D20+B20+X11+V11)/6,0) -> 4 | K20: 2165.03 | L20: 3 | M20: 2206.69 | N20: 4 | O20: 1763.97 | P20: 3 | Q20: 2089.33 | R20: 4 | S20: 2152.07 | T20: =ROUND((R20+P20+N20+L20+J20+H20+F20+D20+B20)/9,0) -> 4 | U20: 1989.66 | V20: =T20 -> 4 | W20: 2563.36 | X20: =V20 -> 4 | Y20: 2704.25 | Z20: =ROUND(G20+I20+K20+M20+O20+Q20+S20+U20+W20+Y20+C20+E20,0) -> 25064
A22: X | B22: 2025 | D22: 2025 | F22: 2025 | H22: 2025 | J22: 2025 | L22: 2025 | N22: 2025 | P22: 2025 | R22: 2025 | T22: 2025 | V22: 2025 | X22: 2025** | Z22: 2025
B23: janvāris | D23: februāris | F23: marts | H23: aprīlis | J23: maijs | L23: jūnijs | N23: jūlijs | P23: augusts | R23: septembris | T23: oktobris* | V23: novembris* | X23: decembris*
C24: (euro,centi) | E24: (euro,centi) | G24: (euro,centi) | I24: (euro,centi) | K24: (euro,centi) | M24: (euro,centi) | O24: (euro,centi) | Q24: (euro,centi) | S24: (euro,centi) | U24: (euro,centi) | W24: (euro,centi) | Y24: (euro,centi) | Z24: (euro,centi)
B25: Saņēmēju skaits | C25: Faktiskie izdevumi pārskata periodā | D25: Saņēmēju skaits | E25: Faktiskie izdevumi pārskata periodā | F25: Saņēmēju skaits | G25: Faktiskie izdevumi pārskata periodā | H25: Saņēmēju skaits | I25: Faktiskie izdevumi pārskata periodā | J25: Saņēmēju skaits | K25: Faktiskie izdevumi pārskata periodā | L25: Saņēmēju skaits | M25: Faktiskie izdevumi pārskata periodā | N25: Saņēmēju skaits | O25: Faktiskie izdevumi pārskata periodā | P25: Saņēmēju skaits | Q25: Faktiskie izdevumi pārskata periodā | R25: Saņēmēju skaits | S25: Faktiskie izdevumi pārskata periodā | T25: Saņēmēju skaits | U25: Plānotie izdevumi pārskata periodā | V25: Saņēmēju skaits | W25: Plānotie izdevumi pārskata periodā | X25: Saņēmēju skaits | Y25: Plānotie izdevumi pārskata periodā | Z25: Plānotie izdevumi pārskata periodā
A26: A | B26: 1 | C26: 2 | D26: 3 | E26: 4 | F26: 5 | G26: 6 | H26: 7 | I26: 8 | J26: 9 | K26: 10 | L26: 11 | M26: 12 | N26: 13 | O26: 14 | P26: 15 | Q26: 16 | R26: 17 | S26: 18 | T26: 19 | U26: 20 | V26: 21 | W26: 22 | X26: 23 | Y26: 24 | Z26: 25
A27: Piemaksa pie mēnešalgas un virsstundu darbs bāriņtiesu un sociālo dienestu darbiniekiem, kuri iesaistīti atbalsta sniegšanā Ukrainas civiliedzīvotājiem | B27: x | C27: =C28+C29 -> 108837.11 | D27: x | E27: =E28+E29 -> 84509.88 | F27: x | G27: =G28+G29 -> 77502.27 | H27: x | I27: =I28+I29 -> 55500.06 | J27: x | K27: =K28+K29 -> 100814.75 | L27: x | M27: =M28+M29 -> 75142.84 | N27: x | O27: =O28+O29 -> 65771.24 | P27: x | Q27: =Q28+Q29 -> 69767.05 | R27: x | S27: =S28+S29 -> 73214.89 | T27: x | U27: =U28+U29 -> 79007 | V27: x | W27: =W28+W29 -> 79007 | X27: x | Y27: =Y28+Y29 -> 79007 | Z27: =Z28+Z29 -> 948081
A28: Piemaksa pie mēnešalgas | B28: 256 | C28: 106601.85 | D28: 285 | E28: 82090.52 | F28: 263 | G28: 75310.03 | H28: 216 | I28: 53050.99 | J28: 247 | K28: 98407.95 | L28: 253 | M28: 72949.64 | N28: 223 | O28: 63589.1 | P28: 246 | Q28: 67859.23 | R28: 242 | S28: 70980.63 | T28: =ROUND((R28+P28+N28+L28+J28+H28+F28+D28+B28)/9,0) -> 248 | U28: =ROUND((S28+Q28+O28+M28+K28+I28+G28+E28+C28)/9,0) -> 76760 | V28: =T28 -> 248 | W28: =U28 -> 76760 | X28: =V28 -> 248 | Y28: =W28 -> 76760 | Z28: =ROUND(G28+I28+K28+M28+O28+Q28+S28+U28+W28+Y28+C28+E28,0) -> 921120
A29: Virsstundu darbs | B29: 4 | C29: 2235.26 | D29: 4 | E29: 2419.36 | F29: 4 | G29: 2192.24 | H29: 4 | I29: 2449.07 | J29: 4 | K29: 2406.8 | L29: 3 | M29: 2193.2 | N29: 4 | O29: 2182.14 | P29: 4 | Q29: 1907.82 | R29: 4 | S29: 2234.26 | T29: =ROUND((R29+P29+N29+L29+J29+H29+F29+D29+B29)/9,0) -> 4 | U29: =ROUND((S29+Q29+O29+M29+K29+I29+G29+E29+C29)/9,0) -> 2247 | V29: =T29 -> 4 | W29: =U29 -> 2247 | X29: =V29 -> 4 | Y29: =W29 -> 2247 | Z29: =ROUND(G29+I29+K29+M29+O29+Q29+S29+U29+W29+Y29+C29+E29,0) -> 26961
A30: *Izdevumu plāns periodam 2025. gada oktobris - 2025. gada decembris balstīts uz faktiskajiem rādītājiem vidēji mēnesī 2025. gada iepriekšējos mēnešos.
A31: **Norēķins par 2025. gada decembri tiks veikts 2026. gada janvārī.

Sheet 2.tab.
A1: 2.pielikuma 2.tabula
A2: Pasākumu plāns atbalsta sniegšanai Ukrainas civiliedzīvotājiem Latvijas Republikā 2026.gadā
A3: =Ietekme_LM_2026_!B40 -> 4.2. Sociālās rehabilitācijas pakalpojuma sniegšana Sociālās integrācijas valsts aģentūrā personām, kuras valsts apmaksātās medicīniskās transportēšanas ietvaros pārvestas no Ukrainas ārstniecības iestādes uz stacionāro ārstniecības iestādi Latvijā un saņem veselības aprūpes pakalpojumus atbilstoši medicīniskās transportēšanas mērķim (līdz 60 dienām)
A4: Gads | C4: 2023 | E4: 2023 | G4: 2023 | I4: 2023 | K4: 2023 | M4: 2023 | O4: 2023 | Q4: 2023 | S4: 2023 | U4: 2023 | W4: 2023 | Y4: 2023 | AA4: 2023 | AB4: EKK
A5: Pārskata periods | C5: Janvāris | E5: Februāris | G5: Marts | I5: Aprīlis | K5: Maijs | M5: Jūnijs | O5: Jūlijs | Q5: Augusts | S5: Septembris | U5: Oktobris | W5: Novembris | Y5: Decembris | AA5: KOPĀ
A6: x | D6: (euro,centi) | F6: (euro,centi) | H6: (euro,centi) | J6: (euro,centi) | L6: (euro,centi) | N6: (euro,centi) | P6: (euro,centi) | R6: (euro,centi) | T6: (euro,centi) | V6: (euro,centi) | X6: (euro,centi) | Z6: (euro,centi) | AA6: (euro,centi)
A7: Rādītāja nosaukums | B7: mēr- vienība | C7: skaits | D7: Faktiskie izdevumi pārskata periodā | E7: skaits | F7: Faktiskie izdevumi pārskata periodā | G7: skaits | H7: Faktiskie izdevumi pārskata periodā | I7: skaits | J7: Faktiskie izdevumi pārskata periodā | K7: skaits | L7: Faktiskie izdevumi pārskata periodā | M7: skaits | N7: Faktiskie izdevumi pārskata periodā | O7: skaits | P7: Faktiskie izdevumi pārskata periodā | Q7: skaits | R7: Faktiskie izdevumi pārskata periodā | S7: skaits | T7: Faktiskie izdevumi pārskata periodā | U7: skaits | V7: Faktiskie izdevumi pārskata periodā | W7: skaits | X7: Faktiskie izdevumi pārskata periodā | Y7: skaits | Z7: Faktiskie izdevumi pārskata periodā | AA7: Faktiskie izdevumi pārskata periodā
A8: A | B8: B | C8: 1 | D8: 2 | E8: 3 | F8: 4 | G8: 5 | H8: 6 | I8: 7 | J8: 8 | K8: 9 | L8: 10 | M8: 11 | N8: 12 | O8: 13 | P8: 14 | Q8: 15 | R8: 16 | S8: 17 | T8: 18 | U8: 19 | V8: 20 | W8: 21 | X8: 22 | Y8: 23 | Z8: 24 | AA8: 25 | AB8: 26
A9: līdz 30 dienām ilgs sociālās rehabilitācijas pakalpojums SIVA, ja personai atbilstoši pašvaldības sociālā dienesta novērtējumam psihoemocionālā stāvokļa dēļ ir nepieciešams diennakts pakalpojums (pabeigtie kursi) | B9: kursi | C9: 0 | E9: 3 | F9: 5652 | G9: 3 | H9: 5652 | I9: 7 | J9: 13188 | K9: 5 | L9: 9420 | M9: 0 | O9: 1 | P9: 1884 | AA9: =Z9+X9+V9+T9+R9+P9+N9+L9+J9+H9+F9+D9 -> 35796 | AB9: 1000
AB10: 2000
A11: līdz 30 dienām ilgs sociālās rehabilitācijas pakalpojums SIVA, ja personai atbilstoši pašvaldības sociālā dienesta novērtējumam psihoemocionālā stāvokļa dēļ ir nepieciešams diennakts pakalpojums (pakalpojumu neturpinās) | B11: dienas | C11: 0 | G11: 4 (25;29;29;28) | H11: 6970.8 | I11: 1 (29) | J11: 1821.2 | K11: 1 (27) | L11: 1695.6 | M11: 0 | O11: 0 | AA11: =Z11+X11+V11+T11+R11+P11+N11+L11+J11+H11+F11+D11 -> 10487.6 | AB11: 1000
AB12: 2000
A13: līdz 60 dienām ilgs sociālās rehabilitācijas pakalpojums SIVA, ja personai atbilstoši pašvaldības sociālā dienesta novērtējumam psihoemocionālā stāvokļa dēļ ir nepieciešams diennakts pakalpojums (pabeigtie kursi) | B13: kursi | K13: 0 | L13: 0 | M13: 0 | N13: 0 | O13: 1 | P13: 4210.2 | Q13: 3 | R13: 12630.6 | S13: 0 | U13: 6 | V13: 23666.61 | W13: 1 | X13: 4210.2 | Y13: 0 | AA13: =Z13+X13+V13+T13+R13+P13+N13+L13+J13+H13+F13+D13 -> 44717.61 | AB13: 1000
AB14: 2000
A15: līdz 60 dienām ilgs sociālās rehabilitācijas pakalpojums SIVA, ja personai atbilstoši pašvaldības sociālā dienesta novērtējumam psihoemocionālā stāvokļa dēļ ir nepieciešams diennakts pakalpojums (pakalpojumu neturpinās) | B15: dienas | K15: 4 (5; 8; 5; 8) | L15: 1824.42 | M15: 1 (33) | N15: 2315.61 | O15: 2 (58; 25) | P15: 5824.11 | Q15: 0 | S15: 3 (58, 58, 29+24) | T15: 11858.73 | U15: 0 | W15: 0 | Y15: 0 | AA15: =Z15+X15+V15+T15+R15+P15+N15+L15+J15+H15+F15+D15 -> 21822.87 | AB15: 1000
AB16: 2000
A18: KOPĀ | C18: x | D18: =SUM(D9:D16) -> 0 | E18: x | F18: =SUM(F9:F16) -> 5652 | G18: x | H18: =SUM(H9:H16) -> 12622.8 | I18: x | J18: =SUM(J9:J16) -> 15009.2 | K18: x | L18: =SUM(L9:L16) -> 12940.02 | M18: x | N18: =SUM(N9:N16) -> 2315.61 | O18: x | P18: =SUM(P9:P16) -> 11918.31 | Q18: x | R18: =SUM(R9:R16) -> 12630.6 | S18: x | T18: =SUM(T9:T16) -> 11858.73 | U18: x | V18: =SUM(V9:V16) -> 23666.61 | W18: x | X18: =SUM(X9:X16) -> 4210.2 | Y18: x | Z18: =SUM(Z9:Z16) -> 0 | AA18: =SUM(AA9:AA16) -> 112824.08 | AB18: x
A21: Gads | C21: 2024 | E21: 2024 | G21: 2024 | I21: 2024 | K21: 2024 | M21: 2024 | O21: 2024 | Q21: 2024 | S21: 2024 | U21: 2024 | W21: 2024 | Y21: 2024 | AA21: 2024 | AB21: EKK
A22: Pārskata periods | C22: Janvāris | E22: Februāris | G22: Marts | I22: Aprīlis | K22: Maijs | M22: Jūnijs | O22: Jūlijs | Q22: Augusts | S22: Septembris | U22: Oktobris | W22: Novembris | Y22: Decembris | AA22: KOPĀ
A23: x | D23: (euro,centi) | F23: (euro,centi) | H23: (euro,centi) | J23: (euro,centi) | L23: (euro,centi) | N23: (euro,centi) | P23: (euro,centi) | R23: (euro,centi) | T23: (euro,centi) | V23: (euro,centi) | X23: (euro,centi) | Z23: (euro,centi) | AA23: (euro,centi)
A24: Rādītāja nosaukums | B24: mēr- vienība | C24: skaits | D24: Faktiskie izdevumi pārskata periodā | E24: skaits | F24: Faktiskie izdevumi pārskata periodā | G24: skaits | H24: Faktiskie izdevumi pārskata periodā | I24: skaits | J24: Faktiskie izdevumi pārskata periodā | K24: skaits | L24: Faktiskie izdevumi pārskata periodā | M24: skaits | N24: Faktiskie izdevumi pārskata periodā | O24: skaits | P24: Faktiskie izdevumi pārskata periodā | Q24: skaits | R24: Faktiskie izdevumi pārskata periodā | S24: skaits | T24: Faktiskie izdevumi pārskata periodā | U24: skaits | V24: Faktiskie izdevumi pārskata periodā | W24: skaits | X24: Faktiskie izdevumi pārskata periodā | Y24: skaits | Z24: Faktiskie izdevumi pārskata periodā | AA24: Faktiskie izdevumi pārskata periodā
A25: A | B25: B | C25: 1 | D25: 2 | E25: 3 | F25: 4 | G25: 5 | H25: 6 | I25: 7 | J25: 8 | K25: 9 | L25: 10 | M25: 11 | N25: 12 | O25: 13 | P25: 14 | Q25: 15 | R25: 16 | S25: 17 | T25: 18 | U25: 19 | V25: 20 | W25: 21 | X25: 22 | Y25: 23 | Z25: 24 | AA25: 25 | AB25: 26
A26: līdz 30 dienām ilgs sociālās rehabilitācijas pakalpojums SIVA,ja personai atbilstoši pašvaldības sociālā dienesta vai sociālo pakalpojumu sniedzēju reģistrā, ārstniecības iestāžu reģistrā vai izglītības iestāžu reģistrā reģistrēta pakalpojumu sniedzēja novērtējumam psihoemocionālā stāvokļa dēļ ir nepieciešams diennakts pakalpojums (pabeigtie kursi) | B26: kursi | E26: 1 (30) | F26: 1884 | S26: 1(13) | T26: 816.4 | U26: 0 (17) | V26: 1067.6 | W26: 0 | X26: 0 | Y26: 0 | Z26: 0 | AA26: =Z26+X26+V26+T26+R26+P26+N26+L26+J26+H26+F26+D26 -> 3768 | AB26: 1000
AB27: 2000
A28: līdz 30 dienām ilgs sociālās rehabilitācijas pakalpojums SIVA, ja personai atbilstoši pašvaldības sociālā dienesta vai sociālo pakalpojumu sniedzēju reģistrā, ārstniecības iestāžu reģistrā vai izglītības iestāžu reģistrā reģistrēta pakalpojumu sniedzēja novērtējumam psihoemocionālā stāvokļa dēļ ir nepieciešams diennakts pakalpojums (pakalpojumu neturpinās) | B28: dienas | AA28: =Z28+X28+V28+T28+R28+P28+N28+L28+J28+H28+F28+D28 -> 0 | AB28: 1000
AB29: 2000
A30: līdz 30 dienām ilgs sociālās rehabilitācijas pakalpojums SIVA, ja persona, kura valsts apmaksātās medicīniskās transportēšanas ietvaros pārvesta no Ukrainas ārstniecības iestādes uz stacionāro ārstniecības iestādi Latvijā un saņem veselības aprūpes pakalpojumus atbilstoši medicīniskās transportēšanas mērķim (pabeigtie kursi) | B30: dienas | S30: 2 (60) | T30: 4224 | U30: 2(58) | V30: 4083.2 | AA30: =Z30+X30+V30+T30+R30+P30+N30+L30+J30+H30+F30+D30 -> 8307.2 | AB30: 1000
AB31: 2000
A32: līdz 60 dienām ilgs sociālās rehabilitācijas pakalpojums SIVA, ja persona, kura valsts apmaksātās medicīniskās transportēšanas ietvaros pārvesta no Ukrainas ārstniecības iestādes uz stacionāro ārstniecības iestādi Latvijā un saņem veselības aprūpes pakalpojumus atbilstoši medicīniskās transportēšanas mērķim (pabeigtie kursi) | B32: kursi | C32: 2 (60+60) | D32: 8420.4 | E32: 1 (60) | F32: 4210.2 | K32: 2 (8+8) | L32: 1122.72 | M32: 2 (21+21) | N32: 2947.14 | W32: 0 | X32: 0 | Y32: 0 | Z32: 0 | AA32: =Z32+X32+V32+T32+R32+P32+N32+L32+J32+H32+F32+D32 -> 16700.46 | AB32: 1000
AB33: 2000
A34: līdz 60 dienām ilgs sociālās rehabilitācijas pakalpojums SIVA, ja persona, kura valsts apmaksātās medicīniskās transportēšanas ietvaros pārvesta no Ukrainas ārstniecības iestādes uz stacionāro ārstniecības iestādi Latvijā un saņem veselības aprūpes pakalpojumus atbilstoši medicīniskās transportēšanas mērķim (pakalpojumu neturpinās) | B34: dienas | C34: Pārejas pakalpojuma dienas no 2023. gada, personas kā unikālās (kursi) 2024.gadā netiek skaitītas, tikai pakalpojuma dienas. (5+26+24+26) | D34: 5683.77 | E34: Pārejas pakalpojuma dienas no 2023. gada, personas kā unikālās (kursi) 2024.gadā netiek skaitītas, tikai pakalpojuma dienas. (50) | F34: 3508.5 | G34: 1(26) | H34: 1824.42 | I34: 2 (30+30) | J34: 4210.2 | AA34: 15226.89 | AB34: 1000
AB35: 2000
A37: KOPĀ | C37: x | D37: =SUM(D26:D35) -> 14104.17 | E37: x | F37: =SUM(F26:F35) -> 9602.7 | G37: x | H37: =SUM(H26:H35) -> 1824.42 | I37: x | J37: =SUM(J26:J35) -> 4210.2 | K37: x | L37: =SUM(L26:L35) -> 1122.72 | M37: x | N37: =SUM(N26:N35) -> 2947.14 | O37: x | P37: =SUM(P26:P35) -> 0 | Q37: x | R37: =SUM(R26:R35) -> 0 | S37: x | T37: =SUM(T26:T35) -> 5040.4 | U37: x | V37: =SUM(V26:V35) -> 5150.8 | W37: x | X37: =SUM(X26:X35) -> 0 | Y37: x | Z37: =SUM(Z26:Z35) -> 0 | AA37: =SUM(AA26:AA35) -> 44002.55 | AB37: x
A40: Gads | C40: 2025 | E40: 2025 | G40: 2025 | I40: 2025 | K40: 2025 | M40: 2025 | O40: 2025 | Q40: 2025 | S40: 2025 | U40: 2025 | W40: 2025 | Y40: 2025 | AA40: 2025* | AB40: 2026** | AC40: EKK
A41: Pārskata periods | C41: Janvāris | E41: Februāris | G41: Marts | I41: Aprīlis | K41: Maijs | M41: Jūnijs | O41: Jūlijs | Q41: Augusts | S41: Septembris | U41: Oktobris | W41: Novembris | Y41: Decembris | AA41: KOPĀ | AB41: KOPĀ
A42: x | D42: (euro,centi) | F42: (euro,centi) | H42: (euro,centi) | J42: (euro,centi) | L42: (euro,centi) | N42: (euro,centi) | P42: (euro,centi) | R42: (euro,centi) | T42: (euro,centi) | V42: (euro,centi) | X42: (euro,centi) | Z42: (euro,centi) | AA42: (euro,centi) | AB42: (euro,centi)
A43: Rādītāja nosaukums | B43: mēr- vienība | C43: skaits | D43: Faktiskie izdevumi pārskata periodā | E43: skaits | F43: Faktiskie izdevumi pārskata periodā | G43: skaits | H43: Faktiskie izdevumi pārskata periodā | I43: skaits | J43: Faktiskie izdevumi pārskata periodā | K43: skaits | L43: Faktiskie izdevumi pārskata periodā | M43: skaits | N43: Plānotie izdevumi pārskata periodā | O43: skaits | P43: Plānotie izdevumi pārskata periodā | Q43: skaits | R43: Plānotie izdevumi pārskata periodā | S43: skaits | T43: Plānotie izdevumi pārskata periodā | U43: skaits | V43: Plānotie izdevumi pārskata periodā | W43: skaits | X43: Plānotie izdevumi pārskata periodā | Y43: skaits | Z43: Plānotie izdevumi pārskata periodā | AA43: Plānotie izdevumi pārskata periodā | AB43: Plānotie izdevumi pārskata periodā
A44: A | B44: B | C44: 1 | D44: 2 | E44: 3 | F44: 4 | G44: 5 | H44: 6 | I44: 7 | J44: 8 | K44: 9 | L44: 10 | M44: 11 | N44: 12 | O44: 13 | P44: 14 | Q44: 15 | R44: 16 | S44: 17 | T44: 18 | U44: 19 | V44: 20 | W44: 21 | X44: 22 | Y44: 23 | Z44: 24 | AA44: 25 | AB44: 25 | AC44: 27
A45: līdz 30 dienām ilgs sociālās rehabilitācijas pakalpojums SIVA,ja personai atbilstoši pašvaldības sociālā dienesta vai sociālo pakalpojumu sniedzēju reģistrā, ārstniecības iestāžu reģistrā vai izglītības iestāžu reģistrā reģistrēta pakalpojumu sniedzēja novērtējumam psihoemocionālā stāvokļa dēļ ir nepieciešams diennakts pakalpojums (pabeigtie kursi) | B45: kursi | AA45: =Z45+X45+V45+T45+R45+P45+N45+L45+J45+H45+F45+D45 -> 0 | AB45: =AA45 -> 0 | AC45: 1000
AC46: 2000
A47: līdz 30 dienām ilgs sociālās rehabilitācijas pakalpojums SIVA, ja personai atbilstoši pašvaldības sociālā dienesta vai sociālo pakalpojumu sniedzēju reģistrā, ārstniecības iestāžu reģistrā vai izglītības iestāžu reģistrā reģistrēta pakalpojumu sniedzēja novērtējumam psihoemocionālā stāvokļa dēļ ir nepieciešams diennakts pakalpojums (pakalpojumu neturpinās) | B47: dienas | AA47: =Z47+X47+V47+T47+R47+P47+N47+L47+J47+H47+F47+D47 -> 0 | AB47: =AA47 -> 0 | AC47: 1000
AC48: 2000
A49: līdz 30 dienām ilgs sociālās rehabilitācijas pakalpojums SIVA, ja persona, kura valsts apmaksātās medicīniskās transportēšanas ietvaros pārvesta no Ukrainas ārstniecības iestādes uz stacionāro ārstniecības iestādi Latvijā un saņem veselības aprūpes pakalpojumus atbilstoši medicīniskās transportēšanas mērķim (pabeigtie kursi) | B49: dienas | G49: 1(30+30) | H49: 4224 | Y49: 2(60) | Z49: 4224 | AA49: =Z49+X49+V49+T49+R49+P49+N49+L49+J49+H49+F49+D49 -> 8448 | AB49: =AA49 -> 8448 | AC49: 1000
AC50: 2000
A51: līdz 60 dienām ilgs sociālās rehabilitācijas pakalpojums SIVA, ja persona, kura valsts apmaksātās medicīniskās transportēšanas ietvaros pārvesta no Ukrainas ārstniecības iestādes uz stacionāro ārstniecības iestādi Latvijā un saņem veselības aprūpes pakalpojumus atbilstoši medicīniskās transportēšanas mērķim (pabeigtie kursi) | B51: kursi | AA51: =Z51+X51+V51+T51+R51+P51+N51+L51+J51+H51+F51+D51 -> 0 | AB51: =AA51 -> 0 | AC51: 1000
AC52: 2000
A53: līdz 60 dienām ilgs sociālās rehabilitācijas pakalpojums SIVA, ja persona, kura valsts apmaksātās medicīniskās transportēšanas ietvaros pārvesta no Ukrainas ārstniecības iestādes uz stacionāro ārstniecības iestādi Latvijā un saņem veselības aprūpes pakalpojumus atbilstoši medicīniskās transportēšanas mērķim (pakalpojumu neturpinās) | B53: dienas | AA53: =Z53+X53+V53+T53+R53+P53+N53+L53+J53+H53+F53+D53 -> 0 | AB53: =AA53 -> 0 | AC53: 1000
AC54: 2000
A56: KOPĀ | C56: x | D56: =SUM(D45:D54) -> 0 | E56: x | F56: =SUM(F45:F54) -> 0 | G56: x | H56: =SUM(H45:H54) -> 4224 | I56: x | J56: =SUM(J45:J54) -> 0 | K56: x | L56: =SUM(L45:L54) -> 0 | M56: x | N56: =SUM(N45:N54) -> 0 | O56: x | P56: =SUM(P45:P54) -> 0 | Q56: x | R56: =SUM(R45:R54) -> 0 | S56: x | T56: =SUM(T45:T54) -> 0 | U56: x | V56: =SUM(V45:V54) -> 0 | W56: x | X56: =SUM(X45:X54) -> 0 | Y56: x | Z56: =SUM(Z45:Z54) -> 4224 | AA56: =SUM(AA45:AA54) -> 8448 | AB56: =ROUND(SUM(AB45:AB54),0) -> 8448 | AC56: x
A57: *plāns atbilstoši SIVA iesniegtajam plānam.
A58: **Atbilstoši Iekšlietu ministrijas sniegtajai informācijai (18.06.2025. vēstule Nr.1-23/1428/25), 2025. gada pirmajos piecos mēnešos Latvijā vidēji no jauna pagaidu aizsardzības saņemšanai reģistrējās 526 Ukrainas civiliedzīvotāji; kopā šajos mēnešos no jauna reģistrējies 2631 pagaidu aizsardzības saņēmējs. Līdzīga no jauna ieceļojošo Ukrainas civiliedzīvotāju plūsma bija vērojama arī 2024. gadā. 2024. gadā Latvijā no jauna reģistrējās 6080 Ukrainas civiliedzīvotāji, savukārt 1744 personām 2024. gadā pagaidu aizsardzības statuss tika anulēts. Ņemot vērā minētos datus un pie nosacījuma, ka situācija Ukrainā 2026. gadā saglabājas relatīvi nemainīga, var prognozēt, ka 2026. gadā Latvijā no jauna ieradīsies vismaz 6000 Ukrainas civiliedzīvotāju. Dzimuma un vecuma proporcijas 2026. gadā, visticamāk, saglabāsies līdzīgas. Vienlaikus balstoties uz IeM sniegto informāciju prognozējams, ka 2025. gadā no jauna Latvijā būs ieradušies 6 312 Ukrainas civiliedzīvotāju, IeM prognoze 2026. gadā - 6000. Ņemot vērā minēto, 2026. gada izdevumu plāns tiek balstīts uz plānotajiem izdevumiem 2025. gadā./

Sheet 3.tab.
A1: 2.pielikuma 3.tabula
A2: Pasākumu plāns atbalsta sniegšanai Ukrainas civiliedzīvotājiem Latvijas Republikā 2026.gadā
A3: =Ietekme_LM_2026_!B53 -> 4.3. Valsts finansēto tehnisko palīglīdzekļu nodrošināšana
A4: Gads | C4: 2023 | E4: 2023 | G4: 2023 | I4: 2023 | K4: 2023 | M4: 2023 | O4: 2023 | Q4: 2023 | S4: 2023 | U4: 2023 | W4: 2023 | Y4: 2023 | AA4: 2023
A5: Pārskata periods | C5: Janvāris | E5: Februāris | G5: Marts | I5: Aprīlis | K5: Maijs | M5: Jūnijs | O5: Jūlijs | Q5: Augusts | S5: Septembris | U5: Oktobris | W5: Novembris | Y5: Decembris | AA5: KOPĀ
A6: x | D6: (euro,centi) | F6: (euro,centi) | H6: (euro,centi) | J6: (euro,centi) | L6: (euro,centi) | N6: (euro,centi) | P6: (euro,centi) | R6: (euro,centi) | T6: (euro,centi) | V6: (euro,centi) | X6: (euro,centi) | Z6: (euro,centi) | AA6: (euro,centi)
A7: Rādītāja nosaukums | B7: mēr- vienība | C7: skaits | D7: Faktiskie izdevumi pārskata periodā | E7: skaits | F7: Faktiskie izdevumi pārskata periodā | G7: skaits | H7: Faktiskie izdevumi pārskata periodā | I7: skaits | J7: Faktiskie izdevumi pārskata periodā | K7: skaits | L7: Faktiskie izdevumi pārskata periodā | M7: skaits | N7: Faktiskie izdevumi pārskata periodā | O7: skaits | P7: Faktiskie izdevumi pārskata periodā | Q7: skaits | R7: Faktiskie izdevumi pārskata periodā | S7: skaits | T7: Faktiskie izdevumi pārskata periodā | U7: skaits | V7: Faktiskie izdevumi pārskata periodā | W7: skaits | X7: Faktiskie izdevumi pārskata periodā | Y7: skaits | Z7: Faktiskie izdevumi pārskata periodā | AA7: Faktiskie izdevumi pārskata periodā
A8: A | B8: B | C8: 1 | D8: 2 | E8: 1 | F8: 2 | G8: 3 | H8: 4 | I8: 5 | J8: 6 | K8: 7 | L8: 8 | M8: 9 | N8: 10 | O8: 11 | P8: 12 | Q8: 13 | R8: 14 | S8: 15 | T8: 16 | U8: 17 | V8: 18 | W8: 19 | X8: 20 | Y8: 21 | Z8: 22 | AA8: 23
A9: Tiflotehnikas nodrošināšana | B9: Izsniegto tehnisko palīglīdzekļu skaits | C9: 1 | D9: 1680 | E9: 1 | F9: 473.76 | O9: 3 | P9: 736.16 | Q9: 3 | R9: 576.26 | W9: 2 | X9: 557.76 | AA9: =Z9+X9+V9+T9+R9+P9+N9+L9+J9+H9+F9+D9 -> 4023.94
A10: Surdotehnikas nodrošināšana | B10: Izsniegto tehnisko palīglīdzekļu skaits | C10: 6 | D10: 1408.84 | G10: 17 | H10: 4398.84 | I10: 19 | J10: 4534.41 | K10: 10 | L10: 3177.94 | M10: 25 | N10: 5673.14 | S10: 4 | T10: 1376.56 | U10: 20 | V10: 5076.1 | W10: 15 | X10: 3629.84 | Y10: 8 | Z10: 1851.54 | AA10: =Z10+X10+V10+T10+R10+P10+N10+L10+J10+H10+F10+D10 -> 31127.21
A11: Pārējo tehnisko palīglīdzekļu nodrošināšana | B11: Izsniegto tehnisko palīglīdzekļu skaits | C11: 24 | D11: 15396.48 | E11: 23 | F11: 45679.28 | G11: 28 | H11: 58762.44 | I11: 9 | J11: 6780.5 | K11: 28 | L11: 21943.12 | M11: 20 | N11: 31703.8 | O11: 29 | P11: 22829.01 | Q11: 9 | R11: 11095.2 | S11: 33 | T11: 35174.43 | U11: 29 | V11: 29453.83 | W11: 23 | X11: 26446.23 | Y11: 26 | Z11: 29645.94 | AA11: =Z11+X11+V11+T11+R11+P11+N11+L11+J11+H11+F11+D11 -> 334910.26
A12: KOPĀ | C12: =SUM(C9:C11) -> 31 | D12: =SUM(D9:D11) -> 18485.32 | E12: =SUM(E9:E11) -> 24 | F12: =SUM(F9:F11) -> 46153.04 | G12: =SUM(G9:G11) -> 45 | H12: =SUM(H9:H11) -> 63161.28 | I12: =SUM(I9:I11) -> 28 | J12: =SUM(J9:J11) -> 11314.91 | ... AA12: =SUM(AA9:AA11) -> 370061.41
A14: Gads | C14: 2024 | E14: 2024 | G14: 2024 | I14: 2024 | K14: 2024 | M14: 2024 | O14: 2024 | Q14: 2024 | S14: 2024 | U14: 2024 | W14: 2024 | Y14: 2024 | AA14: 2024
A15: Pārskata periods | C15: Janvāris | E15: Februāris | G15: Marts | I15: Aprīlis | K15: Maijs | M15: Jūnijs | O15: Jūlijs | Q15: Augusts | S15: Septembris | U15: Oktobris | W15: Novembris | Y15: Decembris | AA15: KOPĀ
A16: x | D16: (euro,centi) | F16: (euro,centi) | H16: (euro,centi) | J16: (euro,centi) | L16: (euro,centi) | N16: (euro,centi) | P16: (euro,centi) | R16: (euro,centi) | T16: (euro,centi) | V16: (euro,centi) | X16: (euro,centi) | Z16: (euro,centi) | AA16: (euro,centi)
A17: Rādītāja nosaukums | B17: mēr- vienība | C17: skaits | D17: Faktiskie izdevumi pārskata periodā | E17: skaits | F17: Faktiskie izdevumi pārskata periodā | G17: skaits | H17: Faktiskie izdevumi pārskata periodā | I17: skaits | J17: Faktiskie izdevumi pārskata periodā | K17: skaits | L17: Faktiskie izdevumi pārskata periodā | M17: skaits | N17: Faktiskie izdevumi pārskata periodā | O17: skaits | P17: Faktiskie izdevumi pārskata periodā | Q17: skaits | R17: Faktiskie izdevumi pārskata periodā | S17: skaits | T17: Faktiskie izdevumi pārskata periodā | U17: skaits | V17: Faktiskie izdevumi pārskata periodā | W17: skaits | X17: Faktiskie izdevumi pārskata periodā | Y17: skaits | Z17: Faktiskie izdevumi pārskata periodā | AA17: Faktiskie izdevumi pārskata periodā
A18: A | B18: B | C18: 1 | D18: 2 | E18: 1 | F18: 2 | G18: 3 | H18: 4 | I18: 5 | J18: 6 | K18: 7 | L18: 8 | M18: 9 | N18: 10 | O18: 11 | P18: 12 | Q18: 13 | R18: 14 | S18: 15 | T18: 16 | U18: 17 | V18: 18 | W18: 19 | X18: 20 | Y18: 21 | Z18: 22 | AA18: 23
A19: Tiflotehnikas nodrošināšana | B19: Izsniegto tehnisko palīglīdzekļu skaits | I19: 2 | J19: 101.64 | M19: 10 | N19: 2886.33 | O19: 1 | P19: 473.76 | AA19: =Z19+X19+V19+T19+R19+P19+N19+L19+J19+H19+F19+D19 -> 3461.73
A20: Surdotehnikas nodrošināšana | B20: Izsniegto tehnisko palīglīdzekļu skaits | E20: 9 | F20: 2222.29 | G20: 2 | H20: 941.6 | I20: 8 | J20: 2419.42 | K20: 1 | L20: 861.24 | M20: 4 | N20: 890.34 | O20: 6 | P20: 1281.23 | S20: 19 | T20: 4491.96 | U20: 14 | V20: 3355.41 | W20: 8 | X20: 1773.44 | Y20: 9 | Z20: 1969.92 | AA20: =Z20+X20+V20+T20+R20+P20+N20+L20+J20+H20+F20+D20 -> 20206.85
A21: Pārējo tehnisko palīglīdzekļu nodrošināšana | B21: Izsniegto tehnisko palīglīdzekļu skaits | C21: 26 | D21: 15321.9 | E21: 27 | F21: 16434.1 | G21: 28 | H21: 15834.29 | I21: 36 | J21: 46274.68 | K21: 26 | L21: 25380.57 | M21: 25 | N21: 20170.63 | O21: 38 | P21: 26488.39 | Q21: 19 | R21: 31609.42 | S21: 20 | T21: 9065.5 | U21: 17 | V21: 6833.1 | W21: 36 | X21: 21819.96 | Y21: 34 | Z21: 23081.51 | AA21: =Z21+X21+V21+T21+R21+P21+N21+L21+J21+H21+F21+D21 -> 258314.05
A22: KOPĀ | C22: =SUM(C19:C21) -> 26 | D22: =SUM(D19:D21) -> 15321.9 | E22: =SUM(E19:E21) -> 36 | F22: =SUM(F19:F21) -> 18656.39 | G22: =SUM(G19:G21) -> 30 | H22: =SUM(H19:H21) -> 16775.89 | I22: =SUM(I19:I21) -> 46 | J22: =SUM(J19:J21) -> 48795.74 | ... AA22: =SUM(AA19:AA21) -> 281982.63
A24: Gads | C24: 2025 | E24: 2025 | G24: 2025 | I24: 2025 | K24: 2025 | M24: 2025 | O24: 2025 | Q24: 2025 | S24: 2025 | U24: 2025 | W24: 2025 | Y24: 2025 | AA24: 2025
A25: Pārskata periods | C25: Janvāris | E25: Februāris | G25: Marts | I25: Aprīlis | K25: Maijs | M25: Jūnijs | O25: Jūlijs | Q25: Augusts | S25: Septembris | U25: Oktobris | W25: Novembris | Y25: Decembris | AA25: KOPĀ
A26: x | D26: (euro,centi) | F26: (euro,centi) | H26: (euro,centi) | J26: (euro,centi) | L26: (euro,centi) | N26: (euro,centi) | P26: (euro,centi) | R26: (euro,centi) | T26: (euro,centi) | V26: (euro,centi) | X26: (euro,centi) | Z26: (euro,centi) | AA26: (euro,centi)
A27: Rādītāja nosaukums | B27: mēr- vienība | C27: skaits | D27: Faktiskie izdevumi pārskata periodā | E27: skaits | F27: Faktiskie izdevumi pārskata periodā | G27: skaits | H27: Faktiskie izdevumi pārskata periodā | I27: skaits | J27: Faktiskie izdevumi pārskata periodā | K27: skaits | L27: Faktiskie izdevumi pārskata periodā | M27: skaits | N27: Faktiskie izdevumi pārskata periodā | O27: skaits | P27: Faktiskie izdevumi pārskata periodā | Q27: skaits | R27: Faktiskie izdevumi pārskata periodā | S27: skaits | T27: Faktiskie izdevumi pārskata periodā | U27: skaits | V27: Plānotie izdevumi pārskata periodā | W27: skaits | X27: Plānotie izdevumi pārskata periodā | Y27: skaits | Z27: Plānotie izdevumi pārskata periodā | AA27: Plānotie izdevumi pārskata periodā
A28: A | B28: B | C28: 1 | D28: 2 | E28: 1 | F28: 2 | G28: 3 | H28: 4 | I28: 5 | J28: 6 | K28: 7 | L28: 8 | M28: 9 | N28: 10 | O28: 11 | P28: 12 | Q28: 13 | R28: 14 | S28: 15 | T28: 16 | U28: 17 | V28: 18 | W28: 19 | X28: 20 | Y28: 21 | Z28: 22 | AA28: 23
A29: Tiflotehnikas nodrošināšana | B29: Izsniegto tehnisko palīglīdzekļu skaits | C29: 1 | D29: 363 | E29: 4 | F29: 685.51 | G29: 2 | H29: 787.71 | I29: 1 | J29: 473.76 | M29: 0 | N29: 0 | O29: 6 | P29: 2140.66 | Q29: 0 | R29: 0 | S29: 1 | T29: 447.7 | U29: =AVERAGE(K29,M29,O29,Q29,S29,I29,G29,E29,C29) -> 1.875 | V29: =AVERAGE(L29,N29,P29,R29,T29,J29,H29,F29,D29) -> 612.2925 | W29: =U29 -> 1.875 | X29: =V29 -> 612.2925 | Y29: =W29 -> 1.875 | Z29: =X29 -> 612.2925 | AA29: =Z29+X29+V29+T29+R29+P29+N29+L29+J29+H29+F29+D29 -> 6735.2175
A30: Surdotehnikas nodrošināšana | B30: Izsniegto tehnisko palīglīdzekļu skaits | E30: 2 | F30: 997.6 | G30: 24 | H30: 5324.41 | K30: 5 | L30: 1211.46 | M30: 3 | N30: 561.56 | O30: 7 | P30: 1962.83 | Q30: 5 | R30: 1252.16 | S30: 11 | T30: 2233.57 | U30: =AVERAGE(K30,M30,O30,Q30,S30,I30,G30,E30,C30) -> 8.1428571 | V30: =AVERAGE(L30,N30,P30,R30,T30,J30,H30,F30,D30) -> 1934.7986 | W30: =U30 -> 8.1428571 | X30: =V30 -> 1934.7986 | Y30: =W30 -> 8.1428571 | Z30: =X30 -> 1934.7986 | AA30: =Z30+X30+V30+T30+R30+P30+N30+L30+J30+H30+F30+D30 -> 19347.986
A31: Pārējo tehnisko palīglīdzekļu nodrošināšana | B31: Izsniegto tehnisko palīglīdzekļu skaits | C31: 13 | D31: 7857.68 | E31: 22 | F31: 13487.54 | G31: 30 | H31: 44626.13 | I31: 16 | J31: 15353.89 | K31: 12 | L31: 11972.09 | M31: 11 | N31: 33762.11 | O31: 36 | P31: 44819.87 | Q31: 16 | R31: 13234.64 | S31: 2 | T31: 1982.42 | U31: =AVERAGE(K31,M31,O31,Q31,S31,I31,G31,E31,C31) -> 17.555556 | V31: =AVERAGE(L31,N31,P31,R31,T31,J31,H31,F31,D31) -> 20788.486 | W31: =U31 -> 17.555556 | X31: =V31 -> 20788.486 | Y31: =W31 -> 17.555556 | Z31: =X31 -> 20788.486 | AA31: =Z31+X31+V31+T31+R31+P31+N31+L31+J31+H31+F31+D31 -> 249461.83
A32: KOPĀ | C32: =SUM(C29:C31) -> 14 | D32: =SUM(D29:D31) -> 8220.68 | E32: =SUM(E29:E31) -> 28 | F32: =SUM(F29:F31) -> 15170.65 | G32: =SUM(G29:G31) -> 56 | H32: =SUM(H29:H31) -> 50738.25 | I32: =SUM(I29:I31) -> 17 | J32: =SUM(J29:J31) -> 15827.65 | ... AA32: =SUM(AA29:AA31) -> 275545.03
A34: *Atbilstoši Iekšlietu ministrijas sniegtajai informācijai (18.06.2025. vēstule Nr.1-23/1428/25), 2025. gada pirmajos piecos mēnešos Latvijā vidēji no jauna pagaidu aizsardzības saņemšanai reģistrējās 526 Ukrainas civiliedzīvotāji; kopā šajos mēnešos no jauna reģistrējies 2631 pagaidu aizsardzības saņēmējs. Līdzīga no jauna ieceļojošo Ukrainas civiliedzīvotāju plūsma bija vērojama arī 2024. gadā. 2024. gadā Latvijā no jauna reģistrējās 6080 Ukrainas civiliedzīvotāji, savukārt 1744 personām 2024. gadā pagaidu aizsardzības statuss tika anulēts. Ņemot vērā minētos datus un pie nosacījuma, ka situācija Ukrainā 2026. gadā saglabājas relatīvi nemainīga, var prognozēt, ka 2026. gadā Latvijā no jauna ieradīsies vismaz 6000 Ukrainas civiliedzīvotāju. Dzimuma un vecuma proporcijas 2026. gadā, visticamāk, saglabāsies līdzīgas. Vienlaikus balstoties uz IeM sniegto informāciju prognozējams, ka 2025. gadā no jauna Latvijā būs ieradušies 6 312 Ukrainas civiliedzīvotāju, IeM prognoze 2026. gadā - 6000. Ņemot vērā minēto, 2026. gada izdevumu plāns tiek balstīts uz iepriekšējo periodu faktisko izpildi. | V34: Plānotās vidējās TPL vienas vienības izmaksas, euro* | AA34: =ROUND((AA32/(C32+E32+G32+I32+K32+M32+O32+Q32+S32+U32+W32+Y32))*1.023,2) -> 901.39
V35: Plānotais TPL apjoms 2026. gadā** | AA35: =C32+E32+G32+I32+K32+M32+O32+Q32+S32+U32+W32+Y32 -> 312.72024
V36: Plānotie izdevumi 2026. gadā*** | AA36: =ROUND(AA34*AA35,0) -> 281883
U38: *vidējās TPL vienas vienības izmaksas aprēķinātas ņemot vērā plānotās vidējās izmaksas 2025.gadā, t.i. kopumā plānots izlietot 275 545 euro un izsniegt 313 TPL vienības (275 545 euro : 313), un pamatojoties uz patēriņa cenu pieaugumu 2026. gadā par 2.3% (https://www.fm.gov.lv/lv/tautsaimniecibas-un-budzeta-izpildes-analize) izmaksām piemērots koeficients 1.023.
U39: **Plānots, ka 2025. gadā tiks izsniegtas 313 TPL vienības. Progozējams, ka 2026. gadā izsniegto TPL vienību skaits saglabāsies 2025. gada līmenī.
U40: *** plānotie izdevumi 2026. gadā aprēķināti, pieņemot, ka 2026. gadā tiks izsniegta 313 TPL vienības, vienas vienības vidējās izmaksas 901.39 euro (rezultāts noapaļots ar 0 (nullle) zīmēm aiz komata).

Sheet 4.tab.
A1: 2.pielikuma 4.tabula
A2: Pasākumu plāns atbalsta sniegšanai Ukrainas civiliedzīvotājiem Latvijas Republikā 2026.gadā
A3: =Ietekme_LM_2026_!B65 -> 4.4. Atbalsta sniegšana Ukrainas civiliedzīvotājiem, kuriem Latvijā noteikta invaliditāte (pabalsti un pakalpojumi)
A4: I Pabalsti (VSAA) 2023
A5: Gads | C5: 2023 | E5: 2023 | G5: 2023 | I5: 2023 | K5: 2023 | M5: 2023 | O5: 2023 | Q5: 2023 | S5: 2023 | U5: 2023 | W5: 2023 | Y5: 2023 | AA5: 2023
A6: Pārskata periods | C6: Janvāris | E6: Februāris | G6: Marts | I6: Aprīlis | K6: Maijs | M6: Jūnijs | O6: Jūlijs | Q6: Augusts | S6: Septembris | U6: Oktobris | W6: Novembris | Y6: Decembris | AA6: KOPĀ
A7: x | D7: (euro,centi) | F7: (euro,centi) | H7: (euro,centi) | J7: (euro,centi) | L7: (euro,centi) | N7: (euro,centi) | P7: (euro,centi) | R7: (euro,centi) | T7: (euro,centi) | V7: (euro,centi) | X7: (euro,centi) | Z7: (euro,centi) | AA7: (euro,centi)
A8: Rādītāja nosaukums | B8: mēr- vienība | C8: skaits | D8: Faktiskie izdevumi pārskata periodā | E8: skaits | F8: Faktiskie izdevumi pārskata periodā | G8: skaits | H8: Faktiskie izdevumi pārskata periodā | I8: skaits | J8: Faktiskie izdevumi pārskata periodā | K8: skaits | L8: Faktiskie izdevumi pārskata periodā | M8: skaits | N8: Faktiskie izdevumi pārskata periodā | O8: skaits | P8: Faktiskie izdevumi pārskata periodā | Q8: skaits | R8: Faktiskie izdevumi pārskata periodā | S8: skaits | T8: Faktiskie izdevumi pārskata periodā | U8: skaits | V8: Faktiskie izdevumi pārskata periodā | W8: skaits | X8: Faktiskie izdevumi pārskata periodā | Y8: skaits | Z8: Faktiskie izdevumi pārskata periodā | AA8: Faktiskie izdevumi pārskata periodā
A9: A | B9: B | C9: 1 | D9: 2 | E9: 3 | F9: 4 | G9: 5 | H9: 6 | I9: 7 | J9: 8 | K9: 9 | L9: 10 | M9: 11 | N9: 12 | O9: 13 | P9: 14 | Q9: 15 | R9: 16 | S9: 17 | T9: 18 | U9: 19 | V9: 20 | W9: 21 | X9: 22 | Y9: 23 | Z9: 24 | AA9: 25
A10: Valsts sociālā nodrošinājuma pabalsts personām ar invaliditāti1 | B10: personas | C10: 124 | D10: 23982.17 | E10: 137 | F10: 20912.86 | G10: 155 | H10: 24257.54 | I10: 177 | J10: 28705.09 | K10: 185 | L10: 26953.66 | M10: 198 | N10: 30843.3 | O10: 208 | P10: 28586.95 | Q10: 233 | R10: 39405.35 | S10: 241 | T10: 36675.6 | U10: 242 | V10: 35660.25 | W10: 247 | X10: 37177.13 | Y10: 263 | Z10: 39522.15 | AA10: =F10+H10+J10+L10+N10+P10+R10+T10+V10+X10+Z10+D10 -> 372682.05
A11: Piemaksa pie ģimenes valsts pabalsta par bērnu ar invaliditāti1 | B11: bērnu skaits | C11: 84 | D11: 10665.23 | E11: 90 | F11: 10597.75 | G11: 99 | H11: 12654.91 | I11: 98 | J11: 12573.33 | K11: 97 | L11: 11090.51 | M11: 109 | N11: 13121.84 | O11: 114 | P11: 12768.65 | Q11: 114 | R11: 12683.61 | S11: 115 | T11: 12854.81 | U11: 116 | V11: 13365.23 | W11: 120 | X11: 13433.64 | Y11: 123 | Z11: 14692.57 | AA11: =F11+H11+J11+L11+N11+P11+R11+T11+V11+X11+Z11+D11 -> 150502.08
A12: Bērna ar invaliditāti kopšanas pabalsts1 | B12: bērnu skaits | C12: 58 | D12: 23165.2 | E12: 61 | F12: 20908.43 | G12: 67 | H12: 24614.52 | I12: 65 | J12: 19929.17 | K12: 64 | L12: 21127.87 | M12: 69 | N12: 23577.7 | O12: 68 | P12: 21126.2 | Q12: 70 | R12: 22358 | S12: 68 | T12: 21611.17 | U12: 68 | V12: 22597.29 | W12: 70 | X12: 22883.77 | Y12: 72 | Z12: 23476.92 | AA12: =F12+H12+J12+L12+N12+P12+R12+T12+V12+X12+Z12+D12 -> 267376.24
A13: Pabalsts personai ar invaliditāti, kurai nepieciešama kopšana (ar noteiktu invaliditāti Latvijā)1 | B13: personas | C13: 24 | D13: 8295.42 | E13: 26 | F13: 6599.89 | G13: 29 | H13: 11284.55 | I13: 24 | J13: 5034.76 | K13: 21 | L13: 5765.06 | M13: 26 | N13: 11107.15 | O13: 26 | P13: 6620.42 | Q13: 28 | R13: 9165.18 | S13: 30 | T13: 13096.85 | U13: 30 | V13: 7915.99 | W13: 34 | X13: 11076.2 | Y13: 35 | Z13: 8793.64 | AA13: =F13+H13+J13+L13+N13+P13+R13+T13+V13+X13+Z13+D13 -> 104755.11
AA14: =ROUND(SUM(AA10:AA13),0) -> 895315
A15: Valsts sociālā nodrošinājuma pabalsta apmēri
F16: līdz 31.12. 2023. | G16: no 01.01. 2024. | H16: Pieaugums, %
A17: 1.grupa/ strādā | F17: 175 | G17: 191.8 | H17: =G17*100/F17-100 -> 9.6
A18: 1.grupa/ nestrādā | F18: 227.5 | G18: 249.34 | H18: =G18*100/F18-100 -> 9.6
A19: 1.grupa/ invaliditāte kopš bērnības (strādā) | F19: 219.8 | G19: 239.4 | H19: =G19*100/F19-100 -> 8.9171975
A20: 1.grupa/ invaliditāte kopš bērnības (nestrādā) | F20: 285.74 | G20: 311.22 | H20: =G20*100/F20-100 -> 8.9171975
A21: 2.grupa/ strādā | F21: 150 | G21: 164.4 | H21: =G21*100/F21-100 -> 9.6
A22: 2.grupa/ nestrādā | F22: 180 | G22: 197.28 | H22: =G22*100/F22-100 -> 9.6
A23: 2.grupa/ invaliditāte kopš bērnības (strādā) | F23: 188.4 | G23: 205.2 | H23: =G23*100/F23-100 -> 8.9171975
A24: 2.grupa/ invaliditāte kopš bērnības (nestrādā) | F24: 226.08 | G24: 246.24 | H24: =G24*100/F24-100 -> 8.9171975
A25: 3.grupa/ neatkarīgi no nodarbinātības | F25: 125 | G25: 137 | H25: =G25*100/F25-100 -> 9.6
A26: 3.grupa/ invaliditāte kopš bērnības ( neatkarīgi no nodarbinātības) | F26: 157 | G26: 171 | H26: =G26*100/F26-100 -> 8.9171975
F27: =AVERAGE(F17:F26) -> 193.452 | G27: =AVERAGE(G17:G26) -> 211.288 | H27: =G27*100/F27-100 -> 9.2198582
A29: Gads | C29: 2024 | E29: 2024 | G29: 2024 | I29: 2024 | K29: 2024 | M29: 2024 | O29: 2024 | Q29: 2024 | S29: 2024 | U29: 2024 | W29: 2024 | Y29: 2024 | AA29: 2024
A30: Pārskata periods | C30: Janvāris | E30: Februāris | G30: Marts | I30: Aprīlis | K30: Maijs | M30: Jūnijs | O30: Jūlijs | Q30: Augusts | S30: Septembris | U30: Oktobris | W30: Novembris | Y30: Decembris | AA30: KOPĀ
A31: x | D31: (euro,centi) | F31: (euro,centi) | H31: (euro,centi) | J31: (euro,centi) | L31: (euro,centi) | N31: (euro,centi) | P31: (euro,centi) | R31: (euro,centi) | T31: (euro,centi) | V31: (euro,centi) | X31: (euro,centi) | Z31: (euro,centi) | AA31: (euro,centi)
A32: Rādītāja nosaukums | B32: mēr- vienība | C32: skaits | D32: Faktiskie izdevumi pārskata periodā | E32: skaits | F32: Faktiskie izdevumi pārskata periodā | G32: skaits | H32: Faktiskie izdevumi pārskata periodā | I32: skaits | J32: Faktiskie izdevumi pārskata periodā | K32: skaits | L32: Faktiskie izdevumi pārskata periodā | M32: skaits | N32: Faktiskie izdevumi pārskata periodā | O32: skaits | P32: Faktiskie izdevumi pārskata periodā | Q32: skaits | R32: Faktiskie izdevumi pārskata periodā | S32: skaits | T32: Faktiskie izdevumi pārskata periodā | U32: skaits | V32: Faktiskie izdevumi pārskata periodā | W32: skaits | X32: Faktiskie izdevumi pārskata periodā | Y32: skaits | Z32: Faktiskie izdevumi pārskata periodā | AA32: Faktiskie izdevumi pārskata periodā
A33: A | B33: B | C33: 1 | D33: 2 | E33: 3 | F33: 4 | G33: 5 | H33: 6 | I33: 7 | J33: 8 | K33: 9 | L33: 10 | M33: 11 | N33: 12 | O33: 13 | P33: 14 | Q33: 15 | R33: 16 | S33: 17 | T33: 18 | U33: 19 | V33: 20 | W33: 21 | X33: 22 | Y33: 23 | Z33: 24 | AA33: 25
A34: Valsts sociālā nodrošinājuma pabalsts personām ar invaliditāti | B34: personas | C34: 281 | D34: 45307.96 | E34: 287 | F34: 43992.6 | G34: 297 | H34: 51594.52 | I34: 311 | J34: 46782.14 | K34: 292 | L34: 49844.76 | M34: 315 | N34: 55320.95 | O34: 325 | P34: 51435.48 | Q34: 337 | R34: 53784.61 | S34: 351 | T34: 56658.37 | U34: 361 | V34: 57984.85 | W34: 374 | X34: 59199.73 | Y34: 384 | Z34: 61533.57 | AA34: =F34+H34+J34+L34+N34+P34+R34+T34+V34+X34+Z34+D34 -> 633439.54
A35: Piemaksa pie ģimenes valsts pabalsta par bērnu ar invaliditāti | B35: bērnu skaits | C35: 124 | D35: 13388.21 | E35: 126 | F35: 14990.45 | G35: 135 | H35: 29407.97 | I35: 113 | J35: 23723.06 | K35: 116 | L35: 19752.61 | M35: 128 | N35: 24994.42 | O35: 130 | P35: 21776.34 | Q35: 129 | R35: 20640 | S35: 133 | T35: 22465.82 | U35: 129 | V35: 20423.23 | W35: 127 | X35: 20320 | Y35: 143 | Z35: 23506.4 | AA35: =F35+H35+J35+L35+N35+P35+R35+T35+V35+X35+Z35+D35 -> 255388.51
A36: Bērna ar invaliditāti kopšanas pabalsts | B36: bērnu skaits | C36: 73 | D36: 23011.83 | E36: 73 | F36: 25205.44 | G36: 74 | H36: 17107.14 | I36: 72 | J36: 31236.36 | K36: 73 | L36: 23518.06 | M36: 78 | N36: 27804.6 | O36: 80 | P36: 26489.89 | Q36: 80 | R36: 26540.44 | S36: 84 | T36: 28742.89 | U36: 85 | V36: 28770.18 | W36: 86 | X36: 28286.55 | Y36: 89 | Z36: 28532.58 | AA36: =F36+H36+J36+L36+N36+P36+R36+T36+V36+X36+Z36+D36 -> 315245.96
A37: Pabalsts personai ar invaliditāti, kurai nepieciešama kopšana (ar noteiktu invaliditāti Latvijā) | B37: personas | C37: 35 | D37: 9096.57 | E37: 36 | F37: 10452.89 | G37: 38 | H37: 9290.99 | I37: 25 | J37: 8582.61 | K37: 35 | L37: 13771.71 | M37: 40 | N37: 13902.57 | O37: 43 | P37: 15654.12 | Q37: 48 | R37: 15720.3 | S37: 50 | T37: 15228.95 | U37: 54 | V37: 17744.98 | W37: 53 | X37: 14111.79 | Y37: 55 | Z37: 15915.61 | AA37: =F37+H37+J37+L37+N37+P37+R37+T37+V37+X37+Z37+D37 -> 159473.09
AA38: =ROUND(SUM(AA34:AA37),0) -> 1363547
A39: Valsts sociālā nodrošinājuma pabalsta apmēri
F40: līdz 31.12. 2024. | G40: no 01.01. 2025. | H40: Pieaugums, %
A41: 1.grupa/ strādā | F41: 191.8 | G41: 232.4 | H41: =G41*100/F41-100 -> 21.167883
A42: 1.grupa/ nestrādā | F42: 249.34 | G42: 302.12 | H42: =G42*100/F42-100 -> 21.167883
A43: 1.grupa/ invaliditāte kopš bērnības (strādā) | F43: 239.4 | G43: 264.6 | H43: =G43*100/F43-100 -> 10.526316
A44: 1.grupa/ invaliditāte kopš bērnības (nestrādā) | F44: 311.22 | G44: 343.98 | H44: =G44*100/F44-100 -> 10.526316
A45: 2.grupa/ strādā | F45: 164.4 | G45: 199.2 | H45: =G45*100/F45-100 -> 21.167883
A46: 2.grupa/ nestrādā | F46: 197.28 | G46: 239.04 | H46: =G46*100/F46-100 -> 21.167883
A47: 2.grupa/ invaliditāte kopš bērnības (strādā) | F47: 205.2 | G47: 226.8 | H47: =G47*100/F47-100 -> 10.526316
A48: 2.grupa/ invaliditāte kopš bērnības (nestrādā) | F48: 246.24 | G48: 272.16 | H48: =G48*100/F48-100 -> 10.526316
A49: 3.grupa/ neatkarīgi no nodarbinātības | F49: 137 | G49: 166 | H49: =G49*100/F49-100 -> 21.167883
A50: 3.grupa/ invaliditāte kopš bērnības ( neatkarīgi no nodarbinātības) | F50: 171 | G50: 189 | H50: =G50*100/F50-100 -> 10.526316
F51: =AVERAGE(F41:F50) -> 211.288 | G51: =AVERAGE(G41:G50) -> 243.53 | H51: =G51*100/F51-100 -> 15.25974
A54: I Pabalsti (VSAA) 2025
A55: Gads | C55: 2025 | E55: 2025 | G55: 2025 | I55: 2025 | K55: 2025 | M55: 2025 | O55: 2025 | Q55: 2025 | S55: 2025 | U55: 2025 | W55: 2025 | Y55: 2025 | AA55: 2025
A56: Pārskata periods | C56: Janvāris | E56: Februāris | G56: Marts | I56: Aprīlis | K56: Maijs | M56: Jūnijs | O56: Jūlijs | Q56: Augusts | S56: Septembris | U56: Oktobris | W56: Novembris | Y56: Decembris | AA56: KOPĀ
A57: x | D57: (euro,centi) | F57: (euro,centi) | H57: (euro,centi) | J57: (euro,centi) | L57: (euro,centi) | N57: (euro,centi) | P57: (euro,centi) | R57: (euro,centi) | T57: (euro,centi) | V57: (euro,centi) | X57: (euro,centi) | Z57: (euro,centi) | AA57: (euro,centi)
B58: mēr- vienība | C58: skaits | D58: Faktiskie izdevumi pārskata periodā | E58: skaits | F58: Faktiskie izdevumi pārskata periodā | G58: skaits | H58: Faktiskie izdevumi pārskata periodā | I58: skaits | J58: Faktiskie izdevumi pārskata periodā | K58: skaits | L58: Faktiskie izdevumi pārskata periodā | M58: skaits | N58: Plānotie izdevumi pārskata periodā | O58: skaits | P58: Plānotie izdevumi pārskata periodā | Q58: skaits | R58: Plānotie izdevumi pārskata periodā | S58: skaits | T58: Plānotie izdevumi pārskata periodā | U58: skaits | V58: Plānotie izdevumi pārskata periodā | W58: skaits | X58: Plānotie izdevumi pārskata periodā | Y58: skaits | Z58: Plānotie izdevumi pārskata periodā | AA58: Plānotie izdevumi pārskata periodā
A59: A | B59: B | C59: 1 | D59: 2 | E59: 3 | F59: 4 | G59: 5 | H59: 6 | I59: 7 | J59: 8 | K59: 9 | L59: 10 | M59: 11 | N59: 12 | O59: 13 | P59: 14 | Q59: 15 | R59: 16 | S59: 17 | T59: 18 | U59: 19 | V59: 20 | W59: 21 | X59: 22 | Y59: 23 | Z59: 24 | AA59: 25
A60: Valsts sociālā nodrošinājuma pabalsts personām ar invaliditāti1 | B60: personas | C60: 414 | D60: 69795.57 | E60: 436 | F60: 82045.88 | G60: 445 | H60: 80686.48 | I60: 453 | J60: 85816.61 | K60: 457 | L60: 81950.32 | M60: 460 | N60: 84382.22 | O60: 472 | P60: 89152.7 | Q60: 469 | R60: 84757.03 | S60: 491 | T60: 91579.6 | U60: =S60+11 -> 502 | V60: =U60*184.73 -> 92734.46 | W60: =U60+11 -> 513 | X60: =W60*184.73 -> 94766.49 | Y60: =W60+11 -> 524 | Z60: =Y60*184.73 -> 96798.52 | AA60: =F60+H60+J60+L60+N60+P60+R60+T60+V60+X60+Z60+D60 -> 1034465.9
A61: Piemaksa pie ģimenes valsts pabalsta par bērnu ar invaliditāti2 | B61: bērnu skaits | C61: 144 | D61: 23130.5 | E61: 148 | F61: 24155.57 | G61: 146 | H61: 22592.66 | I61: 140 | J61: 23092.23 | K61: 139 | L61: 23146.5 | M61: 143 | N61: 24503.02 | O61: 146 | P61: 24280.61 | Q61: 149 | R61: 24874.64 | S61: 148 | T61: 24860.38 | U61: =S61+1 -> 149 | V61: =U61*160 -> 23840 | W61: =U61+1 -> 150 | X61: =W61*160 -> 24000 | Y61: =W61+1 -> 151 | Z61: =Y61*160 -> 24160 | AA61: =F61+H61+J61+L61+N61+P61+R61+T61+V61+X61+Z61+D61 -> 286636.11
A62: Bērna ar invaliditāti kopšanas pabalsts3 | B62: bērnu skaits | C62: 89 | D62: 37160.94 | E62: 92 | F62: 38533.77 | G62: 93 | H62: 37724.54 | I62: 91 | J62: 37352.13 | K62: 91 | L62: 39910.23 | M62: 97 | N62: 46714.73 | O62: 101 | P62: 44144.55 | Q62: 101 | R62: 41009.57 | S62: 99 | T62: 42704.22 | U62: =S62+1 -> 100 | V62: =U62*413.43 -> 41343 | W62: =U62+1 -> 101 | X62: =W62*413.43 -> 41756.43 | Y62: =W62+1 -> 102 | Z62: =Y62*413.43 -> 42169.86 | AA62: =F62+H62+J62+L62+N62+P62+R62+T62+V62+X62+Z62+D62 -> 490523.97
A63: Pabalsts personai ar invaliditāti, kurai nepieciešama kopšana (ar noteiktu invaliditāti Latvijā)4 | B63: personas | C63: 61 | D63: 18459.78 | E63: 63 | F63: 18124.25 | G63: 65 | H63: 16450.12 | I63: 64 | J63: 18195.51 | K63: 65 | L63: 17444.94 | M63: 63 | N63: 17827.86 | O63: 68 | P63: 22567.37 | Q63: 68 | R63: 18444.39 | S63: 70 | T63: 19400.45 | U63: =S63+1 -> 71 | V63: =U63*284.37 -> 20190.27 | W63: =U63+1 -> 72 | X63: =W63*284.37 -> 20474.64 | Y63: =W63+1 -> 73 | Z63: =Y63*284.37 -> 20759.01 | AA63: =F63+H63+J63+L63+N63+P63+R63+T63+V63+X63+Z63+D63 -> 228338.59
A64: 1 ņemot vērā iepriekšējā perioda izpildi tiek prognozēts saņēmēju skaita pieaugums par 11 personām ik mēnesi, vidējais apmērs 184,73 euro (kas atbilst vidējam apmēram periodā 2025. gada februāris - 2025.gada septembris (janvārī maksā VSNP par decembri); | AA64: =ROUND(SUM(AA60:AA63),0) -> 2039965
A65: 2 tiek pieņemts, ka saņēmēju skaits pieaugs par 1 personām ik mēnesi līdz gada beigām. Vidējais apmērs noteikts atbilstoši normatīvajos aktos noteiktajam vidējam apmēram - 160 euro.
A66: 3 tiek pieņemts, ka saņēmēju skaits pieaugs par 1 personu ik mēnesi līdz gada beigām, Vidējais apmērs noteikts atbilstoši normatīvajos aktos noteiktajam vidējam apmēram (ar 01.01.2025.) - 413,43 euro;
A67: 4 tiek pieņemts, ka saņēmēju skaits pieaugs par 1 personu ik mēnesi līdz gada beigām, vidējais apmērs prognozēts 284,37 euro (kas atbilst vidējam apmēram perodā no 2025.gada janvāra līdz 2025.gada septembrim).
A69: Valsts sociālā nodrošinājuma pabalsta apmēri
F70: līdz 31.12. 2025. | G70: no 01.01. 2026. | H70: Pieaugums, %
A71: 1.grupa/ strādā | F71: 232.4 | G71: 261.8 | H71: =G71*100/F71-100 -> 12.650602
A72: 1.grupa/ nestrādā | F72: 302.12 | G72: 340.34 | H72: =G72*100/F72-100 -> 12.650602
A73: 1.grupa/ invaliditāte kopš bērnības (strādā) | F73: 264.6 | G73: 298.2 | H73: =G73*100/F73-100 -> 12.698413
A74: 1.grupa/ invaliditāte kopš bērnības (nestrādā) | F74: 343.98 | G74: 387.66 | H74: =G74*100/F74-100 -> 12.698413
A75: 2.grupa/ strādā | F75: 199.2 | G75: 224.4 | H75: =G75*100/F75-100 -> 12.650602
A76: 2.grupa/ nestrādā | F76: 239.04 | G76: 269.28 | H76: =G76*100/F76-100 -> 12.650602
A77: 2.grupa/ invaliditāte kopš bērnības (strādā) | F77: 226.8 | G77: 255.6 | H77: =G77*100/F77-100 -> 12.698413
A78: 2.grupa/ invaliditāte kopš bērnības (nestrādā) | F78: 272.16 | G78: 306.72 | H78: =G78*100/F78-100 -> 12.698413
A79: 3.grupa/ neatkarīgi no nodarbinātības | F79: 166 | G79: 187 | H79: =G79*100/F79-100 -> 12.650602
A80: 3.grupa/ invaliditāte kopš bērnības ( neatkarīgi no nodarbinātības) | F80: 189 | G80: 213 | H80: =G80*100/F80-100 -> 12.698413
F81: =AVERAGE(F71:F80) -> 243.53 | G81: =AVERAGE(G71:G80) -> 274.4 | H81: =G81*100/F81-100 -> 12.676056
A84: I Pabalsti (VSAA) 2026
A85: Gads | C85: 2026 | E85: 2026 | G85: 2026 | I85: 2026 | K85: 2026 | M85: 2026 | O85: 2026 | Q85: 2026 | S85: 2026 | U85: 2026 | W85: 2026 | Y85: 2026 | AA85: 2026
A86: Pārskata periods | C86: Janvāris | E86: Februāris | G86: Marts | I86: Aprīlis | K86: Maijs | M86: Jūnijs | O86: Jūlijs | Q86: Augusts | S86: Septembris | U86: Oktobris | W86: Novembris | Y86: Decembris | AA86: KOPĀ
A87: x | D87: (euro,centi) | F87: (euro,centi) | H87: (euro,centi) | J87: (euro,centi) | L87: (euro,centi) | N87: (euro,centi) | P87: (euro,centi) | R87: (euro,centi) | T87: (euro,centi) | V87: (euro,centi) | X87: (euro,centi) | Z87: (euro,centi) | AA87: (euro,centi)
A88: Rādītāja nosaukums | B88: mēr- vienība | C88: skaits | D88: Plānotie izdevumi pārskata periodā | E88: skaits | F88: Plānotie izdevumi pārskata periodā | G88: skaits | H88: Plānotie izdevumi pārskata periodā | I88: skaits | J88: Plānotie izdevumi pārskata periodā | K88: skaits | L88: Plānotie izdevumi pārskata periodā | M88: skaits | N88: Plānotie izdevumi pārskata periodā | O88: skaits | P88: Plānotie izdevumi pārskata periodā | Q88: skaits | R88: Plānotie izdevumi pārskata periodā | S88: skaits | T88: Plānotie izdevumi pārskata periodā | U88: skaits | V88: Plānotie izdevumi pārskata periodā | W88: skaits | X88: Plānotie izdevumi pārskata periodā | Y88: skaits | Z88: Plānotie izdevumi pārskata periodā | AA88: Plānotie izdevumi pārskata periodā
A89: A | B89: B | C89: 1 | D89: 2 | E89: 3 | F89: 4 | G89: 5 | H89: 6 | I89: 7 | J89: 8 | K89: 9 | L89: 10 | M89: 11 | N89: 12 | O89: 13 | P89: 14 | Q89: 15 | R89: 16 | S89: 17 | T89: 18 | U89: 19 | V89: 20 | W89: 21 | X89: 22 | Y89: 23 | Z89: 24 | AA89: 25
A90: Valsts sociālā nodrošinājuma pabalsts personām ar invaliditāti1 | B90: personas | C90: =Y60+11 -> 535 | D90: =C90*184.73 -> 98830.55 | E90: =C90+11 -> 546 | F90: =E90*(184.73*1.1268) -> 113651.96 | G90: =E90+11 -> 557 | H90: =G90*(184.73*1.1268) -> 115941.65 | I90: =G90+11 -> 568 | J90: =I90*(184.73*1.1268) -> 118231.34 | K90: =I90+11 -> 579 | L90: =K90*(184.73*1.1268) -> 120521.03 | M90: =K90+11 -> 590 | N90: =M90*(184.73*1.1268) -> 122810.72 | O90: =M90+11 -> 601 | P90: =O90*(184.73*1.1268) -> 125100.41 | Q90: =O90+11 -> 612 | R90: =Q90*(184.73*1.1268) -> 127390.1 | S90: =Q90+11 -> 623 | T90: =S90*(184.73*1.1268) -> 129679.79 | U90: =S90+11 -> 634 | V90: =U90*(184.73*1.1268) -> 131969.49 | W90: =U90+11 -> 645 | X90: =W90*(184.73*1.1268) -> 134259.18 | Y90: =W90+11 -> 656 | Z90: =Y90*(184.73*1.1268) -> 136548.87 | AA90: =F90+H90+J90+L90+N90+P90+R90+T90+V90+X90+Z90+D90 -> 1474935.1
A91: Piemaksa pie ģimenes valsts pabalsta par bērnu ar invaliditāti2 | B91: bērnu skaits | C91: =Y61+1 -> 152 | D91: =C91*160 -> 24320 | E91: =C91+1 -> 153 | F91: =E91*160 -> 24480 | G91: =E91+1 -> 154 | H91: =G91*160 -> 24640 | I91: =G91+1 -> 155 | J91: =I91*160 -> 24800 | K91: =I91+1 -> 156 | L91: =K91*160 -> 24960 | M91: =K91+1 -> 157 | N91: =M91*160 -> 25120 | O91: =M91+1 -> 158 | P91: =O91*160 -> 25280 | Q91: =O91+1 -> 159 | R91: =Q91*160 -> 25440 | S91: =Q91+1 -> 160 | T91: =S91*160 -> 25600 | U91: =S91+1 -> 161 | V91: =U91*160 -> 25760 | W91: =U91+1 -> 162 | X91: =W91*160 -> 25920 | Y91: =W91+1 -> 163 | Z91: =Y91*160 -> 26080 | AA91: =F91+H91+J91+L91+N91+P91+R91+T91+V91+X91+Z91+D91 -> 302400
A92: Bērna ar invaliditāti kopšanas pabalsts3 | B92: bērnu skaits | C92: =Y62+1 -> 103 | D92: =C92*413.43 -> 42583.29 | E92: =C92+1 -> 104 | F92: =E92*413.43 -> 42996.72 | G92: =E92+1 -> 105 | H92: =G92*413.43 -> 43410.15 | I92: =G92+1 -> 106 | J92: =I92*413.43 -> 43823.58 | K92: =I92+1 -> 107 | L92: =K92*413.43 -> 44237.01 | M92: =K92+1 -> 108 | N92: =M92*413.43 -> 44650.44 | O92: =M92+1 -> 109 | P92: =O92*413.43 -> 45063.87 | Q92: =O92+1 -> 110 | R92: =Q92*413.43 -> 45477.3 | S92: =Q92+1 -> 111 | T92: =S92*413.43 -> 45890.73 | U92: =S92+1 -> 112 | V92: =U92*413.43 -> 46304.16 | W92: =U92+1 -> 113 | X92: =W92*413.43 -> 46717.59 | Y92: =W92+1 -> 114 | Z92: =Y92*413.43 -> 47131.02 | AA92: =F92+H92+J92+L92+N92+P92+R92+T92+V92+X92+Z92+D92 -> 538285.86
A93: Pabalsts personai ar invaliditāti, kurai nepieciešama kopšana (ar noteiktu invaliditāti Latvijā)4 | B93: personas | C93: =Y63+1 -> 74 | D93: =C93*284.37 -> 21043.38 | E93: =C93+1 -> 75 | F93: =E93*284.37 -> 21327.75 | G93: =E93+1 -> 76 | H93: =G93*284.37 -> 21612.12 | I93: =G93+1 -> 77 | J93: =I93*284.37 -> 21896.49 | K93: =I93+1 -> 78 | L93: =K93*284.37 -> 22180.86 | M93: =K93+1 -> 79 | N93: =M93*284.37 -> 22465.23 | O93: =M93+1 -> 80 | P93: =O93*284.37 -> 22749.6 | Q93: =O93+1 -> 81 | R93: =Q93*284.37 -> 23033.97 | S93: =Q93+1 -> 82 | T93: =S93*284.37 -> 23318.34 | U93: =S93+1 -> 83 | V93: =U93*284.37 -> 23602.71 | W93: =U93+1 -> 84 | X93: =W93*284.37 -> 23887.08 | Y93: =W93+1 -> 85 | Z93: =Y93*284.37 -> 24171.45 | AA93: =F93+H93+J93+L93+N93+P93+R93+T93+V93+X93+Z93+D93 -> 271288.98
A94: 1 ņemot vērā iepriekšējā perioda izpildi tiek prognozēts saņēmēju skaita pieaugums par 11 personām ik mēnesi, vidējais apmērs 207,96 euro (kas atbilst vidējam apmēram periodā 2025. gada februāris - 2025.gada septembris, kuram piemēro koeficientu 1.1268 (pieaugumu 12.68% atbilstoši vidējam VSNP pieauguma apmēram no 2026. gada 1.janvāra; vidējais apmērs 2026.gada janvārī = 2025.gada decembri (janvārī maksā VSNP par decembri); | AA94: =ROUND(SUM(AA90:AA93),0) -> 2586910
A95: 2 tiek pieņemts, ka saņēmēju skaits pieaugs par 1 personām ik mēnesi līdz gada beigām. Vidējais apmērs noteikts atbilstoši normatīvajos aktos noteiktajam vidējam apmēram - 160 euro;
A96: 3 tiek pieņemts, ka saņēmēju skaits pieaugs par 1 personu ik mēnesi līdz gada beigām, Vidējais apmērs noteikts atbilstoši normatīvajos aktos noteiktajam vidējam apmēram (ar 01.01.2025.) - 413,43 euro;
A97: 4 tiek pieņemts, ka saņēmēju skaits pieaugs par 1 personu ik mēnesi līdz gada beigām, vidējais apmērs prognozēts 284,37 euro (kas atbilst vidējam apmēram perodā no 2025.gada janvāra līdz 2025.gada septembrim).
A100: Pakalpojumi*
A101: X | C101: 2023 | E101: 2023 | G101: 2023 | I101: 2023 | K101: 2023 | M101: 2023 | O101: 2023 | Q101: 2023 | S101: 2023 | U101: 2023 | W101: 2023 | Y101: 2023 | AA101: 2023
C102: janvāris | E102: februāris | G102: marts | I102: aprīlis | K102: maijs | M102: jūnijs | O102: jūlijs | Q102: augusts | S102: septembris | U102: oktobris | W102: novembris | Y102: decembris | AA102: KOPĀ
D103: (euro,centi) | F103: (euro,centi) | H103: (euro,centi) | J103: (euro,centi) | L103: (euro,centi) | N103: (euro,centi) | P103: (euro,centi) | R103: (euro,centi) | T103: (euro,centi) | V103: (euro,centi) | X103: (euro,centi) | Z103: (euro,centi) | AA103: (euro,centi)
C104: Skaits | D104: Faktiskie izdevumi pārskata periodā | E104: Skaits | F104: Faktiskie izdevumi pārskata periodā | G104: Skaits | H104: Faktiskie izdevumi pārskata periodā | I104: Skaits | J104: Faktiskie izdevumi pārskata periodā | K104: Skaits | L104: Faktiskie izdevumi pārskata periodā | M104: Skaits | N104: Faktiskie izdevumi pārskata periodā | O104: Skaits | P104: Faktiskie izdevumi pārskata periodā | Q104: Skaits | R104: Faktiskie izdevumi pārskata periodā | S104: Skaits | T104: Faktiskie izdevumi pārskata periodā | U104: Skaits | V104: Faktiskie izdevumi pārskata periodā | W104: Skaits | X104: Faktiskie izdevumi pārskata periodā | Y104: Skaits | Z104: Faktiskie izdevumi pārskata periodā | AA104: Faktiskie izdevumi pārskata periodā
A105: A | C105: 1 | D105: 2 | E105: 3 | F105: 4 | G105: 5 | H105: 6 | I105: 7 | J105: 8 | K105: 9 | L105: 10 | M105: 11 | N105: 12 | O105: 13 | P105: 14 | Q105: 15 | R105: 16 | S105: 17 | T105: 18 | U105: 19 | V105: 20 | W105: 21 | X105: 22 | Y105: 23 | Z105: 24 | AA105: 25
A106: Surdotulka saskarsmei nodrošināšana | B106: stunda | C106: 94.5 | D106: 1432.62 | E106: 35.92 | F106: 544.55 | G106: 62.67 | H106: 950.08 | I106: 57.67 | J106: 874.28 | K106: 31.25 | L106: 473.75 | M106: 27.5 | N106: 416.9 | O106: 33.25 | P106: 504.07 | Q106: 32.08 | R106: 486.33 | S106: 61.58 | T106: 933.55 | U106: 38.83 | V106: 588.66 | W106: 55.83 | X106: 846.38 | Y106: 39.17 | Z106: 593.82 | AA106: =D106+F106+H106+J106+L106+N106+P106+R106+T106+V106+X106+Z106 -> 8644.99 | AB106: 05.01.00
B107: transporta izdevumi | D107: 0.82 | J107: 2.54 | T107: 3.07 | X107: 4.21 | AA107: =D107+F107+H107+J107+L107+N107+P107+R107+T107+V107+X107+Z107 -> 10.64 | AB107: 05.01.00
A108: Sociālās rehabilitācijas pakalpojumi personām ar redzes invaliditāti | B108: stunda | C108: 19 | D108: 348.84 | O108: 2 | P108: 36.72 | U108: 11 | V108: 201.96 | AA108: =D108+F108+H108+J108+L108+N108+P108+R108+T108+V108+X108+Z108 -> 587.52 | AB108: 05.01.00
...

Sheet 5.tab.
A1: 2.pielikuma 5.tabula
A2: Pasākumu plāns atbalsta sniegšanai Ukrainas civiliedzīvotājiem Latvijas Republikā 2026.gadā
A3: 4.6. Sociālās palīdzības pabalstu un sociālās rehabilitācijas pakalpojumu nodrošināšana Ukrainas civiliedzīvotājiem*
A4: * | B4: Plāns balstīts uz faktisko izpildi 2024. un 2025.gadā. 2026. gadā faktiski izmaksātie pabalsti un nodrošinātie pakalpojumi var atsķirties (papildus var tikt nodrošināts vēl kāds atbalsta veids) atbilstoši individuālajām personu vajadzībām. Likuma 7.panta trešā daļa paredz, ka Ukrainas civiliedzīvotājiem ir tādas pašas tiesības uz sociālajiem pakalpojumiem un sociālo palīdzību, kādas Sociālo pakalpojumu un sociālās palīdzības likumā noteiktas Latvijas pilsoņiem un Latvijas nepilsoņiem.
B5: X | D5: 2023 | F5: 2023 | H5: 2023 | J5: 2023 | L5: 2023 | N5: 2023 | P5: 2023 | R5: 2023 | T5: 2023 | V5: 2023 | X5: 2023 | Z5: 2023 | AB5: 2023
D6: janvāris | F6: februāris | H6: marts | J6: aprīlis | L6: maijs | N6: jūnijs | P6: jūlijs | R6: augusts | T6: septembris | V6: oktobris | X6: novembris | Z6: decembris | AB6: KOPĀ
E7: (euro,centi) | G7: (euro,centi) | I7: (euro,centi) | K7: (euro,centi) | M7: (euro,centi) | O7: (euro,centi) | Q7: (euro,centi) | S7: (euro,centi) | U7: (euro,centi) | W7: (euro,centi) | Y7: (euro,centi) | AA7: (euro,centi) | AB7: (euro,centi)
D8: Saņēmēju skaits | E8: Faktiskie izdevumi pārskata periodā | F8: Saņēmēju skaits | G8: Faktiskie izdevumi pārskata periodā | H8: Saņēmēju skaits | I8: Faktiskie izdevumi pārskata periodā | J8: Saņēmēju skaits | K8: Faktiskie izdevumi pārskata periodā | L8: Saņēmēju skaits | M8: Faktiskie izdevumi pārskata periodā | N8: Saņēmēju skaits | O8: Faktiskie izdevumi pārskata periodā | P8: Saņēmēju skaits | Q8: Faktiskie izdevumi pārskata periodā | R8: Saņēmēju skaits | S8: Faktiskie izdevumi pārskata periodā | T8: Saņēmēju skaits | U8: Faktiskie izdevumi pārskata periodā | V8: Saņēmēju skaits | W8: Faktiskie izdevumi pārskata periodā | X8: Saņēmēju skaits | Y8: Faktiskie izdevumi pārskata periodā | Z8: Saņēmēju skaits | AA8: Faktiskie izdevumi pārskata periodā | AB8: Faktiskie izdevumi pārskata periodā
B9: A | D9: 1 | E9: 2 | F9: 3 | G9: 4 | H9: 5 | I9: 6 | J9: 7 | K9: 8 | L9: 9 | M9: 10 | N9: 11 | O9: 12 | P9: 13 | Q9: 14 | R9: 15 | S9: 16 | T9: 17 | U9: 18 | V9: 19 | W9: 20 | X9: 21 | Y9: 22 | Z9: 23 | AA9: 24 | AB9: 25
A10: 4.6.1. VARAM/ pašvaldības | B10: Garantētais minimālais ienākums (GMI) – pabalsts 109 euro apmērā pirmajai personai un 76 euro apmērā katrai nākamajai personai mājsaimniecībā. No 01.07.2023. pabalsts 125 euro apmērā pirmajai personai un 87.50 euro apmērā katrai nākamajai personai mājsaimniecībā | D10: 6671 | E10: 567520.88 | F10: 6308 | G10: 545157.77 | H10: 6119 | I10: 527272.94 | J10: 5471 | K10: 440922.64 | L10: 4898 | M10: 404017.96 | N10: 4416 | O10: 361883.32 | P10: 4231 | Q10: 396198.81 | R10: 4183 | S10: 399625.98 | T10: 3792 | U10: 353240.46 | V10: 3582 | W10: 338438.36 | X10: 3616 | Y10: 341929.94 | Z10: 3304 | AA10: 299124.71 | AB10: =I10+K10+M10+O10+Q10+S10+U10+W10+Y10+AA10+G10+E10 -> 4975333.8
A11: 4.6.2. VARAM/ pašvaldības | B11: Vienreizējais pabalsts krīzes situācijā 272 euro apmērā pilngadīgai personai un 190 euro apmērā par katru bērnu. No 01.07.2023. 313 euro apmērā pilngadīgai personai un 219 euro apmērā par katru bērnu. | D11: 816 | E11: 202370 | F11: 628 | G11: 156356 | H11: 605 | I11: 152674 | J11: 423 | K11: 104716 | L11: 363 | M11: 90150 | N11: 446 | O11: 113948 | P11: 505 | Q11: 124441 | R11: 526 | S11: 131383 | T11: 423 | U11: 105168.25 | V11: 414 | W11: 105800.5 | X11: 430 | Y11: 110511 | Z11: 230 | AA11: 71322 | AB11: =I11+K11+M11+O11+Q11+S11+U11+W11+Y11+AA11+G11+E11 -> 1468839.8
A12: 4.6.3. VARAM/ pašvaldības | B12: Mājokļa pabalsts pēc aprēķina, ja ir noslēgts īres līgums | D12: 5156 | E12: 716601.25 | F12: 5655 | G12: 888002.39 | H12: 6018 | I12: 976591.67 | J12: 5911 | K12: 893401.79 | L12: 5694 | M12: 718064.93 | N12: 4437 | O12: 473345.1 | P12: 4012 | Q12: 472655.89 | R12: 3796 | S12: 468093.02 | T12: 3248 | U12: 378700.56 | V12: 3129 | W12: 378850.76 | X12: 3110 | Y12: 390736.7 | Z12: 1897 | AA12: 191504.66 | AB12: =I12+K12+M12+O12+Q12+S12+U12+W12+Y12+AA12+G12+E12 -> 6946548.7 | AD12: =D12+F12+H12+J12+L12+N12+P12+R12+T12+V12+X12+Z12 -> 52063 | AE12: =AB12/AD12 -> 133.42582
B13: KOPĀ | E13: =SUM(E10:E12) -> 1486492.1 | G13: =SUM(G10:G12) -> 1589516.2 | I13: =SUM(I10:I12) -> 1656538.6 | K13: =SUM(K10:K12) -> 1439040.4 | M13: =SUM(M10:M12) -> 1212232.9 | O13: =SUM(O10:O12) -> 949176.42 | Q13: =SUM(Q10:Q12) -> 993295.7 | S13: =SUM(S10:S12) -> 999102 | U13: =SUM(U10:U12) -> 837109.27 | W13: =SUM(W10:W12) -> 823089.62 | Y13: =SUM(Y10:Y12) -> 843177.64 | AA13: =SUM(AA10:AA12) -> 561951.37 | AB13: =SUM(AB10:AB12) -> 13390722
B15: X | D15: 2024 | F15: 2024 | H15: 2024 | J15: 2024 | L15: 2024 | N15: 2024 | P15: 2024 | R15: 2024 | T15: 2024 | V15: 2024 | X15: 2024 | Z15: 2024 | AB15: 2024
D16: janvāris | F16: februāris | H16: marts | J16: aprīlis | L16: maijs | N16: jūnijs | P16: jūlijs | R16: augusts | T16: septembris | V16: oktobris | X16: novembris | Z16: decembris | AB16: KOPĀ
E17: (euro,centi) | G17: (euro,centi) | I17: (euro,centi) | K17: (euro,centi) | M17: (euro,centi) | O17: (euro,centi) | Q17: (euro,centi) | S17: (euro,centi) | U17: (euro,centi) | W17: (euro,centi) | Y17: (euro,centi) | AA17: (euro,centi) | AB17: (euro,centi)
D18: Saņēmēju skaits | E18: Faktiskie izdevumi pārskata periodā | F18: Saņēmēju skaits | G18: Faktiskie izdevumi pārskata periodā | H18: Saņēmēju skaits | I18: Faktiskie izdevumi pārskata periodā | J18: Saņēmēju skaits | K18: Faktiskie izdevumi pārskata periodā | L18: Saņēmēju skaits | M18: Faktiskie izdevumi pārskata periodā | N18: Saņēmēju skaits | O18: Faktiskie izdevumi pārskata periodā | P18: Saņēmēju skaits | Q18: Faktiskie izdevumi pārskata periodā | R18: Saņēmēju skaits | S18: Faktiskie izdevumi pārskata periodā | T18: Saņēmēju skaits | U18: Faktiskie izdevumi pārskata periodā | V18: Saņēmēju skaits | W18: Faktiskie izdevumi pārskata periodā | X18: Saņēmēju skaits | Y18: Faktiskie izdevumi pārskata periodā | Z18: Saņēmēju skaits | AA18: Faktiskie izdevumi pārskata periodā | AB18: Faktiskie izdevumi pārskata periodā
B19: A | D19: 1 | E19: 2 | F19: 3 | G19: 4 | H19: 5 | I19: 6 | J19: 7 | K19: 8 | L19: 9 | M19: 10 | N19: 11 | O19: 12 | P19: 13 | Q19: 14 | R19: 15 | S19: 16 | T19: 17 | U19: 18 | V19: 19 | W19: 20 | X19: 21 | Y19: 22 | Z19: 23 | AA19: 24 | AB19: 25
A20: 4.6.1. VARAM/ pašvaldības | B20: Garantētais minimālais ienākums (GMI) – pabalsts 137 euro apmērā pirmajai personai un 96 euro apmērā katrai nākamajai personai mājsaimniecībā. | D20: 3069 | E20: 297618.7 | F20: 3068 | G20: 295542.73 | H20: 2934 | I20: 286007.16 | J20: 2923 | K20: 292258.63 | L20: 2752 | M20: 273032.44 | N20: 2673 | O20: 266285.77 | P20: 2722 | Q20: 271000.32 | R20: 2633 | S20: 264853.8 | T20: 2548 | U20: 254811.78 | V20: 2646 | W20: 270664.16 | X20: 2605 | Y20: 263853.35 | Z20: 2562 | AA20: 255637.6 | AB20: =ROUND(I20+K20+M20+O20+Q20+S20+U20+W20+Y20+AA20+G20+E20,0) -> 3291566
A21: 4.6.2. VARAM/ pašvaldības | B21: Vienreizējais pabalsts krīzes situācijā 343 euro apmērā pilngadīgai personai un 240 euro apmērā par katru bērnu. | D21: 275 | E21: 89682 | F21: 304 | G21: 95257 | H21: 264 | I21: 84546 | J21: 300 | K21: 96443 | L21: 292 | M21: 93493 | N21: 392 | O21: 121786 | P21: 407 | Q21: 127327 | R21: 374 | S21: 116849 | T21: 308 | U21: 96958 | V21: 541 | W21: 167858 | X21: 340 | Y21: 107247 | Z21: 270 | AA21: 85706 | AB21: =ROUND(I21+K21+M21+O21+Q21+S21+U21+W21+Y21+AA21+G21+E21,0) -> 1283152
A22: 4.6.3. VARAM/ pašvaldības | B22: Mājokļa pabalsts pēc aprēķina, ja ir noslēgts īres līgums | D22: 3680 | E22: 737564.42 | F22: 3225 | G22: 518972.23 | H22: 3135 | I22: 481185.72 | J22: 2753 | K22: 472882.09 | L22: 2789 | M22: 384551.27 | N22: 2489 | O22: 324975.19 | P22: 2520 | Q22: 331016.73 | R22: 2317 | S22: 297659.01 | T22: 2184 | U22: 281923.11 | V22: 2249 | W22: 302543.89 | X22: 2157 | Y22: 289347.94 | Z22: 1400 | AA22: 174898.76 | AB22: =ROUND(I22+K22+M22+O22+Q22+S22+U22+W22+Y22+AA22+G22+E22,0) -> 4597520 | AD22: =D22+F22+H22+J22+L22+N22+P22+R22+T22+V22+X22+Z22 -> 30898 | AE22: =AB22/AD22 -> 148.79669
B23: KOPĀ | E23: =SUM(E20:E22) -> 1124865.1 | G23: =SUM(G20:G22) -> 909771.96 | I23: =SUM(I20:I22) -> 851738.88 | K23: =SUM(K20:K22) -> 861583.72 | M23: =SUM(M20:M22) -> 751076.71 | O23: =SUM(O20:O22) -> 713046.96 | Q23: =SUM(Q20:Q22) -> 729344.05 | S23: =SUM(S20:S22) -> 679361.81 | U23: =SUM(U20:U22) -> 633692.89 | W23: =SUM(W20:W22) -> 741066.05 | Y23: =SUM(Y20:Y22) -> 660448.29 | AA23: =SUM(AA20:AA22) -> 516242.36 | AB23: =SUM(AB20:AB22) -> 9172238
B25: X | D25: 2025 | F25: 2025 | H25: 2025 | J25: 2025 | L25: 2025 | N25: 2025 | P25: 2025 | R25: 2025 | T25: 2025 | V25: 2025 | X25: 2025 | Z25: 2025 | AB25: 2025
D26: janvāris | F26: februāris | H26: marts | J26: aprīlis | L26: maijs | N26: jūnijs | P26: jūlijs | R26: augusts | T26: septembris | V26: oktobris | X26: novembris | Z26: decembris | AB26: KOPĀ
E27: (euro,centi) | G27: (euro,centi) | I27: (euro,centi) | K27: (euro,centi) | M27: (euro,centi) | O27: (euro,centi) | Q27: (euro,centi) | S27: (euro,centi) | U27: (euro,centi) | W27: (euro,centi) | Y27: (euro,centi) | AA27: (euro,centi) | AB27: (euro,centi)
D28: Saņēmēju skaits | E28: Faktiskie izdevumi pārskata periodā | F28: Saņēmēju skaits | G28: Faktiskie izdevumi pārskata periodā | H28: Saņēmēju skaits | I28: Faktiskie izdevumi pārskata periodā | J28: Saņēmēju skaits | K28: Faktiskie izdevumi pārskata periodā | L28: Saņēmēju skaits | M28: Faktiskie izdevumi pārskata periodā | N28: Saņēmēju skaits | O28: Faktiskie izdevumi pārskata periodā | P28: Saņēmēju skaits | Q28: Faktiskie izdevumi pārskata periodā | R28: Saņēmēju skaits | S28: Faktiskie izdevumi pārskata periodā | T28: Saņēmēju skaits | U28: Faktiskie izdevumi pārskata periodā | V28: Saņēmēju skaits | W28: Plānotie izdevumi pārskata periodā | X28: Saņēmēju skaits | Y28: Plānotie izdevumi pārskata periodā | Z28: Saņēmēju skaits | AA28: Plānotie izdevumi pārskata periodā | AB28: Plānotie zdevumi pārskata periodā
B29: A | D29: 1 | E29: 2 | F29: 3 | G29: 4 | H29: 5 | I29: 6 | J29: 7 | K29: 8 | L29: 9 | M29: 10 | N29: 11 | O29: 12 | P29: 13 | Q29: 14 | R29: 15 | S29: 16 | T29: 17 | U29: 18 | V29: 19 | W29: 20 | X29: 21 | Y29: 22 | Z29: 23 | AA29: 24 | AB29: 25
A30: 4.6.1. VARAM/ pašvaldības | B30: Garantētais minimālais ienākums (GMI) – pabalsts 166 euro apmērā pirmajai personai un 116 euro apmērā katrai nākamajai personai mājsaimniecībā. | D30: 2344 | E30: 275382.93 | F30: 2647 | G30: 339644.98 | H30: 2727 | I30: 326702.53 | J30: 2573 | K30: 298311.05 | L30: 2540 | M30: 300004.76 | N30: 2336 | O30: 269220.81 | P30: 2444 | Q30: 298904.09 | R30: 2369 | S30: 276042.38 | T30: 2366 | U30: 280752.97 | V30: =T30 -> 2366 | W30: =U30 -> 280752.97 | X30: =V30 -> 2366 | Y30: =W30 -> 280752.97 | Z30: =X30 -> 2366 | AA30: =Y30 -> 280752.97 | AB30: =ROUND(I30+K30+M30+O30+Q30+S30+U30+W30+Y30+AA30+G30+E30,0) -> 3507225
A31: 4.6.2. VARAM/ pašvaldības | B31: Vienreizējais pabalsts krīzes situācijā 377 euro apmērā pilngadīgai personai un 264 euro apmērā par katru bērnu. | D31: 297 | E31: 97086 | F31: 468 | G31: 161294 | H31: 293 | I31: 98862 | J31: 309 | K31: 106393.74 | L31: 289 | M31: 101269 | N31: 221 | O31: 77197 | P31: 399 | Q31: 138628.73 | R31: 342 | S31: 114419.99 | T31: 359 | U31: 119794 | V31: =T31 -> 359 | W31: =U31 -> 119794 | X31: =V31 -> 359 | Y31: =W31 -> 119794 | Z31: =X31 -> 359 | AA31: =Y31 -> 119794 | AB31: =ROUND(I31+K31+M31+O31+Q31+S31+U31+W31+Y31+AA31+G31+E31,0) -> 1374326
A32: 4.6.3. VARAM/ pašvaldības | B32: Mājokļa pabalsts pēc aprēķina, ja ir noslēgts īres līgums | D32: 2518 | E32: 503894.02 | F32: 2457 | G32: 418256.84 | H32: 2501 | I32: 385727.61 | J32: 2413 | K32: 385141.44 | L32: 2438 | M32: 343564.82 | N32: 2171 | O32: 283238.37 | P32: 2351 | Q32: 328417.1 | R32: 1887 | S32: 238940.78 | T32: 2039 | U32: 294954.94 | V32: =T32 -> 2039 | W32: =U32 -> 294954.94 | X32: =V32 -> 2039 | Y32: =W32 -> 294954.94 | Z32: =X32 -> 2039 | AA32: =Y32 -> 294954.94 | AB32: =ROUND(I32+K32+M32+O32+Q32+S32+U32+W32+Y32+AA32+G32+E32,0) -> 4067001 | AD32: =D32+F32+H32+J32+L32+N32+P32+R32+T32+V32+X32+Z32 -> 26892 | AE32: =AB32/AD32 -> 151.23461
B33: KOPĀ | E33: =SUM(E30:E32) -> 876362.95 | G33: =SUM(G30:G32) -> 919195.82 | I33: =SUM(I30:I32) -> 811292.14 | K33: =SUM(K30:K32) -> 789846.23 | M33: =SUM(M30:M32) -> 744838.58 | O33: =SUM(O30:O32) -> 629656.18 | Q33: =SUM(Q30:Q32) -> 765949.92 | S33: =SUM(S30:S32) -> 629403.15 | U33: =SUM(U30:U32) -> 695501.91 | W33: =SUM(W30:W32) -> 695501.91 | Y33: =SUM(Y30:Y32) -> 695501.91 | AA33: =SUM(AA30:AA32) -> 695501.91 | AB33: =SUM(AB30:AB32) -> 8948552
E35: =B46 -> Garantētais minimālais ienākums (GMI) – pabalsts 187 euro apmērā pirmajai personai un 131 euro apmērā katrai nākamajai personai mājsaimniecībā.*** | R35: =B47 -> Vienreizējais pabalsts krīzes situācijā 425 euro apmērā pilngadīgai personai un 298 euro apmērā par katru bērnu. ***
E36: 2024 | I36: 2025 | M36: 2026 | R36: 2024 | U36: 2025 | X36: 2026
E37: 137 | I37: 166 | M37: 187 | R37: 343 | U37: 377 | X37: 425
E38: 96 | I38: 116 | M38: 131 | R38: 240 | U38: 264 | X38: 298
E39: =AVERAGE(E37:E38) -> 116.5 | F39: =(E20+G20+I20+K20+M20+O20+Q20+S20+U20+W20+Y20+AA20)/(D20+F20+H20+J20+L20+N20+P20+R20+T20+V20+X20+Z20) -> 99.338055 | G39: =F39*100/E39 -> 85.268716 | I39: =AVERAGE(I37:I38) -> 141 | J39: =(E30+G30+I30+K30+M30+O30+Q30+S30+U30+W30+Y30+AA30)/(D30+F30+H30+J30+L30+N30+P30+R30+T30+V30+X30+Z30) -> 119.11511 | K39: =J39*100/I39 -> 84.478804 | M39: =AVERAGE(M37:M38) -> 159 | N39: =M39*O39/100 -> 134.94928 | O39: =(G39+K39)/2 -> 84.87376 | R39: =AVERAGE(R37:R38) -> 291.5 | S39: =(E21+G21+I21+K21+M21+O21+Q21+S21+U21+W21+Y21+AA21)/(D21+F21+H21+J21+L21+N21+P21+R21+T21+V21+X21+Z21) -> 315.50332 | T39: =S39*100/R39 -> 108.23441 | U39: =AVERAGE(U37:U38) -> 320.5 | V39: =(E31+G31+I31+K31+M31+O31+Q31+S31+U31+W31+Y31+AA31)/(D31+F31+H31+J31+L31+N31+P31+R31+T31+V31+X31+Z31) -> 339.00505 | W39: =V39*100/U39 -> 105.77381 | X39: =AVERAGE(X37:X38) -> 361.5 | Y39: =X39*Z39/100 -> 386.81986 | Z39: =(T39+W39)/2 -> 107.00411
B41: X | D41: 2026 | F41: 2026 | H41: 2026 | J41: 2026 | L41: 2026 | N41: 2026 | P41: 2026 | R41: 2026 | T41: 2026 | V41: 2026 | X41: 2026 | Z41: 2026 | AB41: 2026
D42: janvāris | F42: februāris | H42: marts | J42: aprīlis | L42: maijs | N42: jūnijs | P42: jūlijs | R42: augusts | T42: septembris | V42: oktobris | X42: novembris | Z42: decembris | AB42: KOPĀ
E43: (euro,centi) | G43: (euro,centi) | I43: (euro,centi) | K43: (euro,centi) | M43: (euro,centi) | O43: (euro,centi) | Q43: (euro,centi) | S43: (euro,centi) | U43: (euro,centi) | W43: (euro,centi) | Y43: (euro,centi) | AA43: (euro,centi) | AB43: (euro,centi)
D44: Saņēmēju skaits **** | E44: Plānotie izdevumi pārskata periodā | F44: Saņēmēju skaits | G44: Plānotie izdevumi pārskata periodā | H44: Saņēmēju skaits | I44: Plānotie izdevumi pārskata periodā | J44: Saņēmēju skaits | K44: Plānotie izdevumi pārskata periodā | L44: Saņēmēju skaits | M44: Plānotie izdevumi pārskata periodā | N44: Saņēmēju skaits | O44: Plānotie izdevumi pārskata periodā | P44: Saņēmēju skaits | Q44: Plānotie izdevumi pārskata periodā | R44: Saņēmēju skaits | S44: Plānotie izdevumi pārskata periodā | T44: Saņēmēju skaits | U44: Plānotie izdevumi pārskata periodā | V44: Saņēmēju skaits | W44: Plānotie izdevumi pārskata periodā | X44: Saņēmēju skaits | Y44: Plānotie izdevumi pārskata periodā | Z44: Saņēmēju skaits | AA44: Plānotie izdevumi pārskata periodā | AB44: Plānotie zdevumi pārskata periodā
B45: A | D45: 1 | E45: 2 | F45: 3 | G45: 4 | H45: 5 | I45: 6 | J45: 7 | K45: 8 | L45: 9 | M45: 10 | N45: 11 | O45: 12 | P45: 13 | Q45: 14 | R45: 15 | S45: 16 | T45: 17 | U45: 18 | V45: 19 | W45: 20 | X45: 21 | Y45: 22 | Z45: 23 | AA45: 24 | AB45: 25
A46: 4.6.1. VARAM/ pašvaldības | B46: Garantētais minimālais ienākums (GMI) – pabalsts 187 euro apmērā pirmajai personai un 131 euro apmērā katrai nākamajai personai mājsaimniecībā.*** | D46: =ROUND((D30+F30+H30+J30+L30+N30+P30+R30+T30+V30+X30+Z30)/12,0) -> 2454 | E46: =D46*$N$39 -> 331165.53 | F46: =D46 -> 2454 | G46: =F46*$N$39 -> 331165.53 | H46: =F46 -> 2454 | I46: =H46*$N$39 -> 331165.53 | J46: =H46 -> 2454 | K46: =J46*$N$39 -> 331165.53 | L46: =F46 -> 2454 | M46: =L46*$N$39 -> 331165.53 | N46: =L46 -> 2454 | O46: =N46*$N$39 -> 331165.53 | P46: =N46 -> 2454 | Q46: =P46*$N$39 -> 331165.53 | R46: =P46 -> 2454 | S46: =R46*$N$39 -> 331165.53 | T46: =R46 -> 2454 | U46: =T46*$N$39 -> 331165.53 | V46: =T46 -> 2454 | W46: =V46*$N$39 -> 331165.53 | X46: =V46 -> 2454 | Y46: =X46*$N$39 -> 331165.53 | Z46: =X46 -> 2454 | AA46: =Z46*$N$39 -> 331165.53 | AB46: =ROUND(I46+K46+M46+O46+Q46+S46+U46+W46+Y46+AA46+G46+E46,0) -> 3973986
A47: 4.6.2. VARAM/ pašvaldības | B47: Vienreizējais pabalsts krīzes situācijā 425 euro apmērā pilngadīgai personai un 298 euro apmērā par katru bērnu. *** | D47: =ROUND((D31+F31+H31+J31+L31+N31+P31+R31+T31+V31+X31+Z31)/12,0) -> 338 | E47: =D47*Y39 -> 130745.11 | F47: =D47 -> 338 | G47: =E47 -> 130745.11 | H47: =F47 -> 338 | I47: =G47 -> 130745.11 | J47: =H47 -> 338 | K47: =I47 -> 130745.11 | L47: =F47 -> 338 | M47: =K47 -> 130745.11 | N47: =L47 -> 338 | O47: =M47 -> 130745.11 | P47: =N47 -> 338 | Q47: =O47 -> 130745.11 | R47: =P47 -> 338 | S47: =Q47 -> 130745.11 | T47: =R47 -> 338 | ... AA47: =Y47 -> 130745.11 | AB47: =ROUND(I47+K47+M47+O47+Q47+S47+U47+W47+Y47+AA47+G47+E47,0) -> 1568941
A48: 4.6.3. VARAM/ pašvaldības | B48: Mājokļa pabalsts pēc aprēķina, ja ir noslēgts īres līgums**** | D48: =ROUND((D32+F32+H32+J32+L32+N32+P32+R32+T32+V32+X32+Z32)/12,0) -> 2241 | E48: =D48*H69 -> 382211.6 | F48: =D48 -> 2241 | G48: =E48 -> 382211.6 | H48: =F48 -> 2241 | I48: =G48 -> 382211.6 | J48: =H48 -> 2241 | K48: =I48 -> 382211.6 | L48: =F48 -> 2241 | M48: =K48 -> 382211.6 | N48: =L48 -> 2241 | O48: =M48 -> 382211.6 | P48: =N48 -> 2241 | Q48: =O48 -> 382211.6 | R48: =P48 -> 2241 | S48: =Q48 -> 382211.6 | T48: =R48 -> 2241 | ... AA48: =Y48 -> 382211.6 | AB48: =ROUND(I48+K48+M48+O48+Q48+S48+U48+W48+Y48+AA48+G48+E48,0) -> 4586539 | AD48: =D48+F48+H48+J48+L48+N48+P48+R48+T48+V48+X48+Z48 -> 26892 | AE48: =AB48/AD48 -> 170.55403
B49: KOPĀ | E49: =SUM(E46:E48) -> 844122.25 | G49: =SUM(G46:G48) -> 844122.25 | I49: =SUM(I46:I48) -> 844122.25 | K49: =SUM(K46:K48) -> 844122.25 | M49: =SUM(M46:M48) -> 844122.25 | O49: =SUM(O46:O48) -> 844122.25 | Q49: =SUM(Q46:Q48) -> 844122.25 | S49: =SUM(S46:S48) -> 844122.25 | U49: =SUM(U46:U48) -> 844122.25 | W49: =SUM(W46:W48) -> 844122.25 | Y49: =SUM(Y46:Y48) -> 844122.25 | AB49: =SUM(AB46:AB48) -> 10129466
B50: *** Ņemot vērā minimālo ienākumu slieksni 2026. gadā (2023. gada ienākumu mediāna 850.02 euro), 22%.
B51: ****GMI apmēri 2023.-2026.gadā
G52: 2025 fakts | H52: 2026 prognoze
B53: Kura gada mediāna? | G53: 2022 | H53: 2023
B54: Mediāna | G54: 754.74 | H54: 850.02
G55: =ROUND(G54*0.22,0) -> 166 | H55: =ROUND(H54*0.22,0) -> 187
C57: koeficients | E57: 2023 | F57: 2024 | G57: 2025 | H57: 2026
E58: euro | F58: euro | G58: euro | H58: euro
B59: 1.personai | C59: 1 | E59: 125 | F59: 137 | G59: =G55 -> 166 | H59: =H55 -> 187
B60: nākamajai | C60: 0.7 | E60: 87.5 | F60: =ROUND(F59*C60,0) -> 96 | G60: =ROUND(G59*C60,0) -> 116 | H60: =ROUND(H59*C60,0) -> 131
E62: 2023 | F62: 2024 | G62: 2025 | H62: 2026
E63: euro | F63: euro | G63: euro | H63: euro | J63: Piemērs:
B64: Atsevišķi dzīvojošai pensijas vecuma personai vai atsevišķi dzīvojošai personai ar invaliditāti (koeficients 2.1) | D64: 1 | E64: =E59*2.5 -> 312.5 | F64: =F59*2.5 -> 342.5 | G64: =G59*2.1 -> 348.6 | H64: =H59*2.1 -> 392.7 | I64: Personām ar ienākumiem mājokļa pabalsta aprēķinā GMI līmenis/slieksnis tiek reizināts ar attiecīgiem koeficientiem, kuri ir noteikti SPSPL 35. panta piektajā daļā. | J64: Atsevišķi dzīvojošai personai (pensionāram vai invalīdam) pēc komunālo rēķinu nomaksas citu vajadzību nodrošināšanai piem.,: 1) 2024. gadā ir jāpaliek 342.50 euro (137 euro x koefic. 2.5); 2) 2025. gadā ir jāpaliek 348.60 euro (166 euro x koefic. 2.1); 3) 2026. gadā ir jāpaliek 392.60 euro (187 euro x koefic. 2.1).
B65: Mājsaimniecībai, kurā ir tikai pensijas vecuma personas vai personas ar invaliditāti (koeficients 1.7) | D65: 2 | E65: =(E59+E60)*2 -> 425 | F65: =(F59+F60)*2 -> 466 | G65: =(G59+G60)*1.7 -> 479.4 | H65: =(H59+H60)*1.7 -> 540.6 | J65: Ja vienā mājsaimniecībā dzīvo pensionārs kopā ar personu, kurai noteikta invaliditāte, tad pēc komunālo rēķinu nomaksas citu vajadzību nodrošināšanai piem.,: 1) 2024. gadā ir jāpaliek 466.00 euro (137 euro x koefic.2 + 96 euro x koefic.2 ); 2) 2025. gadā ir jāpaliek 479.40 euro (166 euro x koefic.1.7 + 116 euro x koefic.1.7 ); 3) 2026. gadā ir jāpaliek 540.60 euro (187 euro x koefic.1.7 + 131 euro x koefic.1.7 ).
B66: Mājsaimniecībai, kurā ir pensijas vecuma personas vai personas ar invaliditāti un bērni (koeficients 1.7) | D66: 3 | E66: =(E59+E60+E60)*2 -> 600 | F66: =(F59+F60+F60)*2 -> 658 | G66: =(G59+G60+G60)*1.7 -> 676.6 | H66: =(H59+H60+H60)*1.7 -> 763.3 | J66: Ja vienā mājsaimniecībā dzīvo pensionārs kopā ar personu, kurai noteikta invaliditāte, un bērnu (3 pers), tad pēc komunālo rēķinu nomaksas citu vajadzību nodrošināšanai piem.: 1) 2024. gadā ir jāpaliek 658.00 euro (137 euro x koefic.2 + 96 euro x koefic.2 + 96 euro x koefic.2); 2) 2025. gadā ir jāpaliek 676.60 euro (166 euro x koefic.1.7 + 166 euro x koefic.1.7 + 116 euro x koefic.1.7); 3) 2026. gadā ir jāpaliek 763.30 euro (187 euro x koefic.1.7 + 187 euro x koefic.1.7 + 131 euro x koefic.1.7).
B67: Pārējām mājsaimniecībām (koeficients 1.3) | D67: 3 | E67: =(E59+E60+E60)*1.5 -> 450 | F67: =(F59+F60+F60)*1.5 -> 493.5 | G67: =(G59+G60+G60)*1.3 -> 517.4 | H67: =(H59+H60+H60)*1.3 -> 583.7 | J67: Ja vienā mājsaimniecībā dzīvo 3 personas, piem., no kurām vismaz viens ir darbspējīgs, tad pēc komunālo rēķinu nomaksas citu vajadzību nodrošināšanai piem.,: 1) 2024. gadā ir jāpaliek 493.50 euro (137 euro x koefic.1.5 + 96 euro x koefic.1.5 + 96 euro x koefic.1.5); 2) 2025. gadā ir jāpaliek 517.40 euro (166 euro x koefic.1.3 + 116 euro x koefic.1.3 + 116 euro x koefic.1.3); 3) 2026. gadā ir jāpaliek 583.70 euro (187 euro x koefic.1.3 + 131 euro x koefic.1.3 + 131 euro x koefic.1.3).
B68: Vidēji uz 1 personu, euro | E68: =(E64+E65+E66+E67)/9 -> 198.61111 | F68: =(F64+F65+F66+F67)/9 -> 217.77778 | G68: =(G64+G65+G66+G67)/9 -> 224.66667 | H68: =(H64+H65+H66+H67)/9 -> 253.36667
B69: Faktiski izmaksātais, euro | E69: =AE12 -> 133.42582 | F69: =AE22 -> 148.79669 | G69: =AE32 -> 151.23461 | H69: =H68*H70/100 -> 170.55404
B70: Faktiski izmaksātais, % | E70: =E69*100/E68 -> 67.179436 | F70: =F69*100/F68 -> 68.325009 | G70: =G69*100/G68 -> 67.315106 | H70: =G70 -> 67.315106
B73: Gads | D73: 2023 | F73: 2023 | H73: 2023 | J73: 2023 | L73: 2023 | N73: 2023 | P73: 2023 | R73: 2023 | T73: 2023 | V73: 2023 | X73: 2023 | Z73: 2023 | AB73: 2023
B74: Pārskata periods | D74: janvāris | F74: februāris | H74: marts | J74: aprīlis | L74: maijs | N74: jūnijs | P74: jūlijs | R74: augusts | T74: septembris | V74: oktobris | X74: novembris | Z74: decembris | AB74: KOPĀ
B75: x | E75: (euro,centi) | G75: (euro,centi) | I75: (euro,centi) | K75: (euro,centi) | M75: (euro,centi) | O75: (euro,centi) | Q75: (euro,centi) | S75: (euro,centi) | U75: (euro,centi) | W75: (euro,centi) | Y75: (euro,centi) | AA75: (euro,centi) | AB75: (euro,centi)
B76: Rādītāja nosaukums | C76: mēr- vienība | D76: skaits | E76: Faktiskie izdevumi pārskata periodā | F76: skaits | G76: Faktiskie izdevumi pārskata periodā | H76: skaits | I76: Faktiskie izdevumi pārskata periodā | J76: skaits | K76: Faktiskie izdevumi pārskata periodā | L76: skaits | M76: Faktiskie izdevumi pārskata periodā | N76: skaits | O76: Faktiskie izdevumi pārskata periodā | P76: skaits | Q76: Faktiskie izdevumi pārskata periodā | R76: skaits | S76: Faktiskie izdevumi pārskata periodā | T76: skaits | U76: Faktiskie izdevumi pārskata periodā | V76: skaits | W76: Faktiskie izdevumi pārskata periodā | X76: skaits | Y76: Faktiskie izdevumi pārskata periodā | Z76: skaits | AA76: Faktiskie izdevumi pārskata periodā | AB76: Faktiskie izdevumi pārskata periodā
B77: A | C77: B | D77: 1 | E77: 2 | F77: 3 | G77: 4 | H77: 5 | I77: 6 | J77: 7 | K77: 8 | L77: 9 | M77: 10 | N77: 11 | O77: 12 | P77: 13 | Q77: 14 | R77: 15 | S77: 16 | T77: 17 | U77: 18 | V77: 19 | W77: 20 | X77: 21 | Y77: 22 | Z77: 23 | AA77: 24 | AB77: 25
A78: 4.6.4. LM | B78: Sociālās rehabilitācijas pakalpojumu sniegšana bērniem, kas cietuši no prettiesiskām darbībām institūcijās 30 vai 60 dienu kurss | C78: klientu dienas (bērniem) | F78: 56 | G78: 3773.28 | H78: 49 | I78: 3301.62 | J78: 30 | K78: 2021.4 | N78: 44 | O78: 2964.72 | P78: 60 | Q78: 4883.4 | X78: 8 | Y78: 539.04 | Z78: 31 | AA78: 2088.78 | AB78: =I78+K78+M78+O78+Q78+S78+U78+W78+Y78+AA78+G78+E78 -> 19572.24
C79: klientu dienas (pavadoņiem) | H79: 19 | I79: 583.49 | AB79: =I79+K79+M79+O79+Q79+S79+U79+W79+Y79+AA79+G79+E79 -> 583.49
B80: Sociālās rehabilitācijas pakalpojumu sniegšana bērniem, kas cietuši no prettiesiskām darbībām, dzīvesvietā (līdz 20 konsultācijām) | C80: konsultācijas | H80: 37 | I80: 1379.73 | L80: 3 | M80: 111.87 | N80: 13 | O80: 484.77 | P80: 7 | Q80: 261.03 | Z80: 34 | AA80: 1267.86 | AB80: =I80+K80+M80+O80+Q80+S80+U80+W80+Y80+AA80+G80+E80 -> 3505.26
B81: KOPĀ | E81: =E78+E79+E80 -> 0 | G81: =G78+G79+G80 -> 3773.28 | I81: =I78+I79+I80 -> 5264.84 | K81: =K78+K79+K80 -> 2021.4 | M81: =M78+M79+M80 -> 111.87 | O81: =O78+O79+O80 -> 3449.49 | Q81: =Q78+Q79+Q80 -> 5144.43 | S81: =S78+S79+S80 -> 0 | U81: =U78+U79+U80 -> 0 | W81: =W78+W79+W80 -> 0 | Y81: =Y78+Y79+Y80 -> 539.04 | AA81: =AA78+AA79+AA80 -> 3356.64 | AB81: =AB78+AB79+AB80 -> 23660.99
B83: Gads | D83: 2024 | F83: 2024 | H83: 2024 | J83: 2024 | L83: 2024 | N83: 2024 | P83: 2024 | R83: 2024 | T83: 2024 | V83: 2024 | X83: 2024 | Z83: 2024 | AB83: 2024
B84: Pārskata periods | D84: janvāris | F84: februāris | H84: marts | J84: aprīlis | L84: maijs | N84: jūnijs | P84: jūlijs | R84: augusts | T84: septembris | V84: oktobris | X84: novembris | Z84: decembris | AB84: KOPĀ
B85: x | E85: (euro,centi) | G85: (euro,centi) | I85: (euro,centi) | K85: (euro,centi) | M85: (euro,centi) | O85: (euro,centi) | Q85: (euro,centi) | S85: (euro,centi) | U85: (euro,centi) | W85: (euro,centi) | Y85: (euro,centi) | AA85: (euro,centi) | AB85: (euro,centi)
B86: Rādītāja nosaukums | C86: mēr- vienība | D86: skaits | E86: Faktiskie izdevumi pārskata periodā | F86: skaits | G86: Faktiskie izdevumi pārskata periodā | H86: skaits | I86: Faktiskie izdevumi pārskata periodā | J86: skaits | K86: Faktiskie izdevumi pārskata periodā | L86: skaits | M86: Faktiskie izdevumi pārskata periodā | N86: skaits | O86: Faktiskie izdevumi pārskata periodā | P86: skaits | Q86: Faktiskie izdevumi pārskata periodā | R86: skaits | S86: Faktiskie izdevumi pārskata periodā | T86: skaits | U86: Faktiskie izdevumi pārskata periodā | V86: skaits | W86: Faktiskie izdevumi pārskata periodā | X86: skaits | Y86: Faktiskie izdevumi pārskata periodā | Z86: skaits | AA86: Faktiskie izdevumi pārskata periodā | AB86: Plānotie izdevumi pārskata periodā
B87: A | C87: B | D87: 1 | E87: 2 | F87: 3 | G87: 4 | H87: 5 | I87: 6 | J87: 7 | K87: 8 | L87: 9 | M87: 10 | N87: 11 | O87: 12 | P87: 13 | Q87: 14 | R87: 15 | S87: 16 | T87: 17 | U87: 18 | V87: 19 | W87: 20 | X87: 21 | Y87: 22 | Z87: 23 | AA87: 24 | AB87: 25
A88: 4.6.4. LM | B88: Sociālās rehabilitācijas pakalpojumu sniegšana bērniem, kas cietuši no prettiesiskām darbībām institūcijās 30 vai 60 dienu kurss | C88: klientu dienas (bērniem) | D88: 17 | E88: 1145.46 | AB88: =I88+K88+M88+O88+Q88+S88+U88+W88+Y88+AA88+G88+E88 -> 1145.46
C89: klientu dienas (pavadoņiem) | AB89: =I89+K89+M89+O89+Q89+S89+U89+W89+Y89+AA89+G89+E89 -> 0
B90: Sociālās rehabilitācijas pakalpojumu sniegšana bērniem, kas cietuši no prettiesiskām darbībām, dzīvesvietā (līdz 20 konsultācijām) | C90: konsultācijas | H90: 20 | I90: 745.8 | L90: 20 | M90: 745.8 | V90: 18 | W90: 671.22 | Z90: 32 | AA90: 1193.28 | AB90: =I90+K90+M90+O90+Q90+S90+U90+W90+Y90+AA90+G90+E90 -> 3356.1
B91: KOPĀ | E91: =E88+E89+E90 -> 1145.46 | G91: =G88+G89+G90 -> 0 | I91: =I88+I89+I90 -> 745.8 | K91: =K88+K89+K90 -> 0 | M91: =M88+M89+M90 -> 745.8 | O91: =O88+O89+O90 -> 0 | Q91: =Q88+Q89+Q90 -> 0 | S91: =S88+S89+S90 -> 0 | U91: =U88+U89+U90 -> 0 | W91: =W88+W89+W90 -> 671.22 | Y91: =Y88+Y89+Y90 -> 0 | AA91: =AA88+AA89+AA90 -> 1193.28 | AB91: =AB88+AB89+AB90 -> 4501.56
B93: Gads | D93: 2025 | F93: 2025 | H93: 2025 | J93: 2025 | L93: 2025 | N93: 2025 | P93: 2025 | R93: 2025 | T93: 2025 | V93: 2025 | X93: 2025 | Z93: 2025 | AB93: 2025 | AC93: 2026*****
B94: Pārskata periods | D94: janvāris | F94: februāris | H94: marts | J94: aprīlis | L94: maijs | N94: jūnijs | P94: jūlijs | R94: augusts | T94: septembris | V94: oktobris | X94: novembris | Z94: decembris | AB94: KOPĀ | AC94: KOPĀ
B95: x | E95: (euro,centi) | G95: (euro,centi) | I95: (euro,centi) | K95: (euro,centi) | M95: (euro,centi) | O95: (euro,centi) | Q95: (euro,centi) | S95: (euro,centi) | U95: (euro,centi) | W95: (euro,centi) | Y95: (euro,centi) | AA95: (euro,centi) | AB95: (euro,centi) | AC95: (euro,centi)
B96: Rādītāja nosaukums | C96: mēr- vienība | D96: skaits | E96: Faktiskie izdevumi pārskata periodā | F96: skaits | G96: Faktiskie izdevumi pārskata periodā | H96: skaits | I96: Faktiskie izdevumi pārskata periodā | J96: skaits | K96: Faktiskie izdevumi pārskata periodā | L96: skaits | M96: Faktiskie izdevumi pārskata periodā | N96: skaits | O96: Faktiskie izdevumi pārskata periodā | P96: skaits | Q96: Faktiskie izdevumi pārskata periodā | R96: skaits | S96: Faktiskie izdevumi pārskata periodā | T96: skaits | U96: Faktiskie izdevumi pārskata periodā | V96: skaits | W96: Plānotie izdevumi pārskata periodā | X96: skaits | Y96: Plānotie izdevumi pārskata periodā | Z96: skaits | AA96: Plānotie izdevumi pārskata periodā | AB96: Plānotie izdevumi pārskata periodā | AC96: Plānotie izdevumi pārskata periodā
B97: A | C97: B | D97: 1 | E97: 2 | F97: 3 | G97: 4 | H97: 5 | I97: 6 | J97: 7 | K97: 8 | L97: 9 | M97: 10 | N97: 11 | O97: 12 | P97: 13 | Q97: 14 | R97: 15 | S97: 16 | T97: 17 | U97: 18 | V97: 19 | W97: 20 | X97: 21 | Y97: 22 | Z97: 23 | AA97: 24 | AB97: 25 | AC97: 26
A98: 4.6.4. LM | B98: Sociālās rehabilitācijas pakalpojumu sniegšana bērniem, kas cietuši no prettiesiskām darbībām institūcijās 30 vai 60 dienu kurss | C98: klientu dienas (bērniem) | D98: 0 | E98: 0 | F98: 0 | G98: 0 | H98: 0 | I98: 0 | J98: 0 | K98: 0 | L98: 0 | M98: 0 | N98: 0 | O98: 0 | P98: 18 | Q98: 1431 | R98: 118 | S98: 11198 | T98: 0 | U98: 0 | V98: 0 | W98: 0 | X98: 0 | Y98: 0 | Z98: 0 | AA98: 0 | AB98: =I98+K98+M98+O98+Q98+S98+U98+W98+Y98+AA98+G98+E98 -> 12629 | AC98: =AB98 -> 12629
C99: klientu dienas (pavadoņiem) | D99: 0 | E99: 0 | F99: 0 | G99: 0 | H99: 0 | I99: 0 | J99: 0 | K99: 0 | L99: 0 | M99: 0 | N99: 0 | O99: 0 | P99: 0 | Q99: 0 | R99: 0 | S99: 0 | T99: 0 | U99: 0 | V99: 0 | W99: 0 | X99: 0 | Y99: 0 | Z99: 0 | AA99: 0 | AB99: =I99+K99+M99+O99+Q99+S99+U99+W99+Y99+AA99+G99+E99 -> 0 | AC99: =AB99 -> 0
B100: Sociālās rehabilitācijas pakalpojumu sniegšana bērniem, kas cietuši no prettiesiskām darbībām, dzīvesvietā (līdz 20 konsultācijām) | C100: konsultācijas | D100: 0 | E100: 0 | F100: 0 | G100: 0 | H100: 0 | I100: 0 | J100: 0 | K100: 0 | L100: 0 | M100: 0 | N100: 0 | O100: 0 | P100: 10 | Q100: 410 | R100: 0 | S100: 0 | T100: 0 | U100: 0 | V100: 0 | W100: 0 | X100: 0 | Y100: 0 | Z100: 0 | AA100: 0 | AB100: =I100+K100+M100+O100+Q100+S100+U100+W100+Y100+AA100+G100+E100 -> 410 | AC100: =AB100 -> 410
B101: KOPĀ | E101: =E98+E99+E100 -> 0 | G101: =G98+G99+G100 -> 0 | I101: =I98+I99+I100 -> 0 | K101: =K98+K99+K100 -> 0 | M101: =M98+M99+M100 -> 0 | O101: =O98+O99+O100 -> 0 | Q101: =Q98+Q99+Q100 -> 1841 | S101: =S98+S99+S100 -> 11198 | U101: =U98+U99+U100 -> 0 | W101: =W98+W99+W100 -> 0 | Y101: =Y98+Y99+Y100 -> 0 | AA101: =AA98+AA99+AA100 -> 0 | AB101: =AB98+AB99+AB100 -> 13039 | AC101: =AC98+AC99+AC100 -> 13039
B102: *****Atbilstoši Iekšlietu ministrijas sniegtajai informācijai (18.06.2025. vēstule Nr.1-23/1428/25), 2025. gada pirmajos piecos mēnešos Latvijā vidēji no jauna pagaidu aizsardzības saņemšanai reģistrējās 526 Ukrainas civiliedzīvotāji; kopā šajos mēnešos no jauna reģistrējies 2631 pagaidu aizsardzības saņēmējs. Līdzīga no jauna ieceļojošo Ukrainas civiliedzīvotāju plūsma bija vērojama arī 2024. gadā. 2024. gadā Latvijā no jauna reģistrējās 6080 Ukrainas civiliedzīvotāji, savukārt 1744 personām 2024. gadā pagaidu aizsardzības statuss tika anulēts. Ņemot vērā minētos datus un pie nosacījuma, ka situācija Ukrainā 2026. gadā saglabājas relatīvi nemainīga, var prognozēt, ka 2026. gadā Latvijā no jauna ieradīsies vismaz 6000 Ukrainas civiliedzīvotāju. Dzimuma un vecuma proporcijas 2026. gadā, visticamāk, saglabāsies līdzīgas. Vienlaikus balstoties uz IeM sniegto informāciju prognozējams, ka 2025. gadā no jauna Latvijā būs ieradušies 6 312 Ukrainas civiliedzīvotāju, IeM prognoze 2026. gadā - 6000. Ņemot vērā minēto, 2026. gada izdevumu plāns tiek balstīts uz 2025. gada prognozējamo izpildi.

Sheet 6.tab.
A1: 2.pielikuma 6.tabula
A2: Pasākumu plāns atbalsta sniegšanai Ukrainas civiliedzīvotājiem Latvijas Republikā 2026.gadā
A3: =Ietekme_LM_2026_!B156 -> 4.7. Ar ģimeni un bērna aprūpi saistīto valsts sociālo pabalstu nodrošināšana
A4: VSAA/ 2023
A5: Gads | C5: 2023 | E5: 2023 | G5: 2023 | I5: 2023 | K5: 2023 | M5: 2023 | O5: 2023 | Q5: 2023 | S5: 2023 | U5: 2023 | W5: 2023 | Y5: 2023 | AA5: 2023
A6: Pārskata periods | C6: Janvāris | E6: Februāris | G6: Marts | I6: Aprīlis | K6: Maijs | M6: Jūnijs | O6: Jūlijs | Q6: Augusts | S6: Septembris | U6: Oktobris | W6: Novembris | Y6: Decembris | AA6: KOPĀ
A7: x | D7: (euro,centi) | F7: (euro,centi) | H7: (euro,centi) | J7: (euro,centi) | L7: (euro,centi) | N7: (euro,centi) | P7: (euro,centi) | R7: (euro,centi) | T7: (euro,centi) | V7: (euro,centi) | X7: (euro,centi) | Z7: (euro,centi) | AA7: (euro,centi)
A8: Rādītāja nosaukums | B8: mēr- vienība | C8: skaits | D8: Faktiskie izdevumi pārskata periodā | E8: skaits | F8: Faktiskie izdevumi pārskata periodā | G8: skaits | H8: Faktiskie izdevumi pārskata periodā | I8: skaits | J8: Faktiskie izdevumi pārskata periodā | K8: skaits | L8: Faktiskie izdevumi pārskata periodā | M8: skaits | N8: Faktiskie izdevumi pārskata periodā | O8: skaits | P8: Faktiskie izdevumi pārskata periodā | Q8: skaits | R8: Faktiskie izdevumi pārskata periodā | S8: skaits | T8: Faktiskie izdevumi pārskata periodā | U8: skaits | V8: Faktiskie izdevumi pārskata periodā | W8: skaits | X8: Faktiskie izdevumi pārskata periodā | Y8: skaits | Z8: Faktiskie izdevumi pārskata periodā | AA8: Faktiskie izdevumi pārskata periodā
A9: A | B9: B | C9: 1 | D9: 2 | E9: 3 | F9: 4 | G9: 5 | H9: 6 | I9: 7 | J9: 8 | K9: 9 | L9: 10 | M9: 11 | N9: 12 | O9: 13 | P9: 14 | Q9: 15 | R9: 16 | S9: 17 | T9: 18 | U9: 19 | V9: 20 | W9: 21 | X9: 22 | Y9: 23 | Z9: 24 | AA9: 25
A10: Bērna piedzimšanas pabalsts1 | B10: bērnu skaits | C10: 16 | D10: 6738.72 | E10: 14 | F10: 5896.38 | G10: 9 | H10: 3790.53 | I10: 11 | J10: 4632.87 | K10: 13 | L10: 5475.21 | M10: 15 | N10: 6317.55 | O10: 14 | P10: 5896.38 | Q10: 13 | R10: 5475.21 | S10: 10 | T10: 4211.7 | U10: 20 | V10: 8423.4 | W10: 1 | X10: 421.17 | Y10: 6 | Z10: 2527.02 | AA10: =F10+H10+J10+L10+N10+P10+R10+T10+V10+X10+Z10+D10 -> 59806.14
A11: Bērna kopšanas pabalsts1 | B11: bērnu skaits | C11: 440 | D11: 58977.17 | E11: 442 | F11: 60366.16 | G11: 442 | H11: 62276.84 | I11: 422 | J11: 52967.69 | K11: 354 | L11: 44654.41 | M11: 340 | N11: 46192.42 | O11: 345 | P11: 45946.31 | Q11: 349 | R11: 44223.71 | S11: 345 | T11: 44695.71 | U11: 330 | V11: 41941.58 | W11: 326 | X11: 41426.2 | Y11: 314 | Z11: 41756.93 | AA11: =F11+H11+J11+L11+N11+P11+R11+T11+V11+X11+Z11+D11 -> 585425.13
A12: Ģimenes valsts pabalsts1 | B12: bērnu skaits | C12: 6266 | D12: 287442.85 | E12: 6310 | F12: 302751.97 | G12: 6285 | H12: 294062.09 | I12: 5963 | J12: 277930.94 | K12: 5760 | L12: 265533.27 | M12: 5636 | N12: 257469.34 | O12: 5530 | P12: 256508.02 | Q12: 5504 | R12: 257059.06 | S12: 5502 | T12: 251141.28 | U12: 5319 | V12: 240407.28 | W12: 5334 | X12: 245118.37 | Y12: 5321 | Z12: 236391.63 | AA12: =F12+H12+J12+L12+N12+P12+R12+T12+V12+X12+Z12+D12 -> 3171816.1
A13: Valsts atbalsts ar celiakiju slimiem bērniem1 | B13: bērnu skaits | C13: 2 | D13: 213.44 | E13: 2 | F13: 213.44 | G13: 2 | H13: 213.44 | I13: 2 | J13: 213.44 | K13: 2 | L13: 213.44 | M13: 2 | N13: 213.44 | O13: 2 | P13: 213.44 | Q13: 2 | R13: 213.44 | S13: 2 | T13: 213.44 | U13: 2 | V13: 213.44 | W13: 2 | X13: 213.44 | Y13: 2 | Z13: 213.44 | AA13: =F13+H13+J13+L13+N13+P13+R13+T13+V13+X13+Z13+D13 -> 2561.28
A14: KOPĀ | D14: =SUM(D10:D13) -> 353372.18 | F14: =SUM(F10:F13) -> 369227.95 | H14: =SUM(H10:H13) -> 360342.9 | J14: =SUM(J10:J13) -> 335744.94 | L14: =SUM(L10:L13) -> 315876.33 | N14: =SUM(N10:N13) -> 310192.75 | P14: =SUM(P10:P13) -> 308564.15 | R14: =SUM(R10:R13) -> 306971.42 | T14: =SUM(T10:T13) -> 300262.13 | V14: =SUM(V10:V13) -> 290985.7 | X14: =SUM(X10:X13) -> 287179.18 | Z14: =SUM(Z10:Z13) -> 280889.02 | AA14: =ROUND(SUM(AA10:AA13),0) -> 3819609
A16: VSAA/ 2024
A17: Gads | C17: 2024 | E17: 2024 | G17: 2024 | I17: 2024 | K17: 2024 | M17: 2024 | O17: 2024 | Q17: 2024 | S17: 2024 | U17: 2024 | W17: 2024 | Y17: 2024 | AA17: 2024
A18: Pārskata periods | C18: Janvāris | E18: Februāris | G18: Marts | I18: Aprīlis | K18: Maijs | M18: Jūnijs | O18: Jūlijs | Q18: Augusts | S18: Septembris | U18: Oktobris | W18: Novembris | Y18: Decembris | AA18: KOPĀ
A19: x | D19: (euro,centi) | F19: (euro,centi) | H19: (euro,centi) | J19: (euro,centi) | L19: (euro,centi) | N19: (euro,centi) | P19: (euro,centi) | R19: (euro,centi) | T19: (euro,centi) | V19: (euro,centi) | X19: (euro,centi) | Z19: (euro,centi) | AA19: (euro,centi)
A20: Rādītāja nosaukums | B20: mēr- vienība | C20: skaits | D20: Faktiskie izdevumi pārskata periodā | E20: skaits | F20: Faktiskie izdevumi pārskata periodā | G20: skaits | H20: Faktiskie izdevumi pārskata periodā | I20: skaits | J20: Faktiskie izdevumi pārskata periodā | K20: skaits | L20: Faktiskie izdevumi pārskata periodā | M20: skaits | N20: Faktiskie izdevumi pārskata periodā | O20: skaits | P20: Faktiskie izdevumi pārskata periodā | Q20: skaits | R20: Faktiskie izdevumi pārskata periodā | S20: skaits | T20: Faktiskie izdevumi pārskata periodā | U20: skaits | V20: Faktiskie izdevumi pārskata periodā | W20: skaits | X20: Faktiskie izdevumi pārskata periodā | Y20: skaits | Z20: Faktiskie izdevumi pārskata periodā | AA20: Faktiskie izdevumi pārskata periodā
A21: A | B21: B | C21: 1 | D21: 2 | E21: 3 | F21: 4 | G21: 5 | H21: 6 | I21: 7 | J21: 8 | K21: 9 | L21: 10 | M21: 11 | N21: 12 | O21: 13 | P21: 14 | Q21: 15 | R21: 16 | S21: 17 | T21: 18 | U21: 19 | V21: 20 | W21: 21 | X21: 22 | Y21: 23 | Z21: 24 | AA21: 25
A22: Bērna piedzimšanas pabalsts | B22: bērnu skaits | C22: 11 | D22: 4632.87 | E22: 11 | F22: 4632.87 | G22: 16 | H22: 6738.72 | I22: 9 | J22: 3790.53 | K22: 13 | L22: 5475.21 | M22: 9 | N22: 3790.53 | O22: 19 | P22: 8002.23 | Q22: 13 | R22: 5475.21 | S22: 17 | T22: 7159.89 | U22: 19 | V22: 8002.23 | W22: 10 | X22: 4211.7 | Y22: 5 | Z22: 2105.85 | AA22: =F22+H22+J22+L22+N22+P22+R22+T22+V22+X22+Z22+D22 -> 64017.84
A23: Bērna kopšanas pabalsts | B23: bērnu skaits | C23: 304 | D23: 40387.8 | E23: 297 | F23: 38332.48 | G23: 288 | H23: 39618.88 | I23: 290 | J23: 35175.81 | K23: 288 | L23: 39978.75 | M23: 285 | N23: 36069.11 | O23: 293 | P23: 39978.39 | Q23: 293 | R23: 38869.37 | S23: 298 | T23: 39397.77 | U23: 299 | V23: 40859.49 | W23: 304 | X23: 42319.87 | Y23: 316 | Z23: 46194.92 | AA23: =F23+H23+J23+L23+N23+P23+R23+T23+V23+X23+Z23+D23 -> 477182.64
A24: Ģimenes valsts pabalsts | B24: bērnu skaits | C24: 5351 | D24: 241564.42 | E24: 5347 | F24: 238600.47 | G24: 5376 | H24: 223874.22 | I24: 4976 | J24: 224798.29 | K24: 5000 | L24: 229781.41 | M24: 5022 | N24: 233434.02 | O24: 4965 | P24: 228176.05 | Q24: 5001 | R24: 227727.28 | S24: 5047 | T24: 229347.93 | U24: 4962 | V24: 228699.66 | W24: 5060 | X24: 240425.36 | Y24: 5114 | Z24: 234985.37 | AA24: =F24+H24+J24+L24+N24+P24+R24+T24+V24+X24+Z24+D24 -> 2781414.5
A25: Valsts atbalsts ar celiakiju slimiem bērniem | B25: bērnu skaits | C25: 2 | D25: 213.44 | E25: =C25 -> 2 | F25: 213.44 | G25: =E25 -> 2 | H25: 254.42 | I25: 1 | J25: 299.35 | K25: 1 | L25: 160 | M25: 1 | N25: 160 | O25: 1 | P25: 160 | Q25: 1 | R25: 160 | S25: 1 | T25: 160 | U25: 1 | V25: 160 | W25: =U25 -> 1 | X25: 160 | Y25: =W25 -> 1 | Z25: 160 | AA25: =F25+H25+J25+L25+N25+P25+R25+T25+V25+X25+Z25+D25 -> 2260.65
A26: KOPĀ | D26: =SUM(D22:D25) -> 286798.53 | F26: =SUM(F22:F25) -> 281779.26 | H26: =SUM(H22:H25) -> 270486.24 | J26: =SUM(J22:J25) -> 264063.98 | L26: =SUM(L22:L25) -> 275395.37 | N26: =SUM(N22:N25) -> 273453.66 | P26: =SUM(P22:P25) -> 276316.67 | R26: =SUM(R22:R25) -> 272231.86 | T26: =SUM(T22:T25) -> 276065.59 | V26: =SUM(V22:V25) -> 277721.38 | X26: =SUM(X22:X25) -> 287116.93 | Z26: =SUM(Z22:Z25) -> 283446.14 | AA26: =ROUND(SUM(AA22:AA25),0) -> 3324876
A28: VSAA/ 2025
A29: Gads | C29: 2025 | E29: 2025 | G29: 2025 | I29: 2025 | K29: 2025 | M29: 2025 | O29: 2025 | Q29: 2025 | S29: 2025 | U29: 2025 | W29: 2025 | Y29: 2025 | AA29: 2025
A30: Pārskata periods | C30: Janvāris | E30: Februāris | G30: Marts | I30: Aprīlis | K30: Maijs | M30: Jūnijs | O30: Jūlijs | Q30: Augusts | S30: Septembris | U30: Oktobris | W30: Novembris | Y30: Decembris | AA30: KOPĀ
A31: x | D31: (euro,centi) | F31: (euro,centi) | H31: (euro,centi) | J31: (euro,centi) | L31: (euro,centi) | N31: (euro,centi) | P31: (euro,centi) | R31: (euro,centi) | T31: (euro,centi) | V31: (euro,centi) | X31: (euro,centi) | Z31: (euro,centi) | AA31: (euro,centi)
A32: Rādītāja nosaukums | B32: mēr- vienība | C32: skaits | D32: Faktiskie izdevumi pārskata periodā | E32: skaits | F32: Faktiskie izdevumi pārskata periodā | G32: skaits | H32: Faktiskie izdevumi pārskata periodā | I32: skaits | J32: Faktiskie izdevumi pārskata periodā | K32: skaits | L32: Faktiskie izdevumi pārskata periodā | M32: skaits | N32: Faktiskie izdevumi pārskata periodā | O32: skaits | P32: Faktiskie izdevumi pārskata periodā | Q32: skaits | R32: Faktiskie izdevumi pārskata periodā | S32: skaits | T32: Faktiskie izdevumi pārskata periodā | U32: skaits | V32: Plānotie izdevumi pārskata periodā | W32: skaits | X32: Plānotie izdevumi pārskata periodā | Y32: skaits | Z32: Plānotie izdevumi pārskata periodā | AA32: Plānotie izdevumi pārskata periodā
A33: A | B33: B | C33: 1 | D33: 2 | E33: 3 | F33: 4 | G33: 5 | H33: 6 | I33: 7 | J33: 8 | K33: 9 | L33: 10 | M33: 11 | N33: 12 | O33: 13 | P33: 14 | Q33: 15 | R33: 16 | S33: 17 | T33: 18 | U33: 19 | V33: 20 | W33: 21 | X33: 22 | Y33: 23 | Z33: 24 | AA33: 25
A34: Bērna piedzimšanas pabalsts1 | B34: bērnu skaits | C34: 7 | D34: 2948.19 | E34: 9 | F34: 3790.53 | G34: 13 | H34: 5475.21 | I34: 8 | J34: 3369.36 | K34: 13 | L34: 5475.21 | M34: 6 | N34: 2527.02 | O34: 13 | P34: 5475.21 | Q34: 14 | R34: 5896.38 | S34: 12 | T34: 5054.04 | U34: 11 | V34: =U34*421.17 -> 4632.87 | W34: =U34 -> 11 | X34: =W34*421.17 -> 4632.87 | Y34: =W34 -> 11 | Z34: =Y34*421.17 -> 4632.87 | AA34: =ROUND(F34+H34+J34+L34+N34+P34+R34+T34+V34+X34+Z34+D34,) -> 53910
A35: Bērna kopšanas pabalsts2 | B35: bērnu skaits | C35: 324 | D35: 44948.14 | E35: 327 | F35: 44241.51 | G35: 323 | H35: 46739.1 | I35: 337 | J35: 45009.81 | K35: 330 | L35: 43479.74 | M35: 328 | N35: 47446.04 | O35: 331 | P35: 45015.19 | Q35: 330 | R35: 45928.87 | S35: 327 | T35: 44900.66 | U35: =ROUND(S35*1.01,0) -> 330 | V35: =U35*138.6 -> 45738 | W35: =ROUND(U35*1.01,0) -> 333 | X35: =W35*138.6 -> 46153.8 | Y35: =ROUND(W35*1.01,0) -> 336 | Z35: =Y35*138.6 -> 46569.6 | AA35: =ROUND(F35+H35+J35+L35+N35+P35+R35+T35+V35+X35+Z35+D35,) -> 546170 | AB35: =Y35+W35+U35+S35+Q35+O35+M35+K35+G35+E35+C35+I35 -> 3956
A36: Ģimenes valsts pabalsts3 | B36: bērnu skaits | C36: 5195 | D36: 244783.57 | E36: 5263 | F36: 261031.81 | G36: 5314 | H36: 243563.07 | I36: 5218 | J36: 252890.53 | K36: 5196 | L36: 249229.75 | M36: 5187 | N36: 255471.09 | O36: 5066 | P36: 246790.53 | Q36: 5084 | R36: 247323.8 | S36: 5137 | T36: 258181.64 | U36: =ROUND(S36*1.002,0) -> 5147 | V36: =U36*47.95 -> 246798.65 | W36: =ROUND(U36*1.002,0) -> 5157 | X36: =W36*47.95 -> 247278.15 | Y36: =ROUND(W36*1.002,0) -> 5167 | Z36: =Y36*47.95 -> 247757.65 | AA36: =ROUND(F36+H36+J36+L36+N36+P36+R36+T36+V36+X36+Z36+D36,) -> 3001100
A37: Valsts atbalsts ar celiakiju slimiem bērniem4 | B37: bērnu skaits | C37: 1 | D37: 160 | E37: =C37 -> 1 | F37: 160 | G37: =E37 -> 1 | H37: 160 | I37: =G37 -> 1 | J37: 160 | K37: =I37 -> 1 | L37: 160 | M37: =K37 -> 1 | N37: =M37*160 -> 160 | O37: =M37 -> 1 | P37: 92.9 | Q37: =O37 -> 1 | R37: 227.1 | S37: =Q37 -> 1 | T37: =S37*160 -> 160 | U37: =S37 -> 1 | V37: =U37*160 -> 160 | W37: =U37 -> 1 | X37: =W37*160 -> 160 | Y37: =W37 -> 1 | Z37: =Y37*160 -> 160 | AA37: =ROUND(F37+H37+J37+L37+N37+P37+R37+T37+V37+X37+Z37+D37,) -> 1920
A38: KOPĀ | D38: =SUM(D34:D37) -> 292839.9 | F38: =SUM(F34:F37) -> 309223.85 | H38: =SUM(H34:H37) -> 295937.38 | J38: =SUM(J34:J37) -> 301429.7 | L38: =SUM(L34:L37) -> 298344.7 | N38: =SUM(N34:N37) -> 305604.15 | P38: =SUM(P34:P37) -> 297373.83 | R38: =SUM(R34:R37) -> 299376.15 | T38: =SUM(T34:T37) -> 308296.34 | V38: =SUM(V34:V37) -> 297329.52 | X38: =SUM(X34:X37) -> 298224.82 | Z38: =SUM(Z34:Z37) -> 299120.12 | AA38: =ROUND(SUM(AA34:AA37),0) -> 3603100
A39: 1 tiek pieņemts, ka vidējais bērnu skaits 2025.gadā būs 11 bērni vidēji mēnesī (vidējais rādītājs 2024.gada oktobris -2025.gada septembris), vidējais apmērs noteikts atbilstoši normatīvajos aktos noteiktajam vidējam apmēram - 421,17 euro;
A40: 2 tiek pieņemts, ka bērnu skaits 2025.gadā ik mēnesi palielinās par 1,0%, vidējais apmērs 138,60 euro (kas atbilst vidēji izmaksātajam pabalsta apmēram par 1 bērnu periodā 2024.gada oktobris-2025.gada septembris);
A41: 3 tiek pieņemts, ka bērnu skaits 2025.gadā ik mēnesi palielinās par 0,2%.Vidējais apmērs 47,95 euro(kas atbilst vidēji izmaksātajam pabalsta apmēram par 1 bērnu periodā 2024.gada oktobris-2025.gada septembris);
A42: 4 tiek pieņemts, ka vidējais bērnu skaits 2025.gadā būs 1 bērns mēnesī. Vidējais apmērs noteikts atbilstoši normatīvajos aktos noteiktajam vidējam apmēram - 160 euro.
A44: VSAA/ 2026
A45: Gads | C45: 2026 | E45: 2026 | G45: 2026 | I45: 2026 | K45: 2026 | M45: 2026 | O45: 2026 | Q45: 2026 | S45: 2026 | U45: 2026 | W45: 2026 | Y45: 2026 | AA45: 2026
A46: Pārskata periods | C46: Janvāris | E46: Februāris | G46: Marts | I46: Aprīlis | K46: Maijs | M46: Jūnijs | O46: Jūlijs | Q46: Augusts | S46: Septembris | U46: Oktobris | W46: Novembris | Y46: Decembris | AA46: KOPĀ
A47: x | D47: (euro,centi) | F47: (euro,centi) | H47: (euro,centi) | J47: (euro,centi) | L47: (euro,centi) | N47: (euro,centi) | P47: (euro,centi) | R47: (euro,centi) | T47: (euro,centi) | V47: (euro,centi) | X47: (euro,centi) | Z47: (euro,centi) | AA47: (euro,centi)
A48: Rādītāja nosaukums | B48: mēr- vienība | C48: skaits | D48: Plānotie izdevumi pārskata periodā | E48: skaits | F48: Plānotie izdevumi pārskata periodā | G48: skaits | H48: Plānotie izdevumi pārskata periodā | I48: skaits | J48: Plānotie izdevumi pārskata periodā | K48: skaits | L48: Plānotie izdevumi pārskata periodā | M48: skaits | N48: Plānotie izdevumi pārskata periodā | O48: skaits | P48: Plānotie izdevumi pārskata periodā | Q48: skaits | R48: Plānotie izdevumi pārskata periodā | S48: skaits | T48: Plānotie izdevumi pārskata periodā | U48: skaits | V48: Plānotie izdevumi pārskata periodā | W48: skaits | X48: Plānotie izdevumi pārskata periodā | Y48: skaits | Z48: Plānotie izdevumi pārskata periodā | AA48: Plānotie izdevumi pārskata periodā
A49: A | B49: B | C49: 1 | D49: 2 | E49: 3 | F49: 4 | G49: 5 | H49: 6 | I49: 7 | J49: 8 | K49: 9 | L49: 10 | M49: 11 | N49: 12 | O49: 13 | P49: 14 | Q49: 15 | R49: 16 | S49: 17 | T49: 18 | U49: 19 | V49: 20 | W49: 21 | X49: 22 | Y49: 23 | Z49: 24 | AA49: 25
A50: Bērna piedzimšanas pabalsts1 | B50: bērnu skaits | C50: 11 | D50: =C50*600 -> 6600 | E50: =C50 -> 11 | F50: =E50*600 -> 6600 | G50: =E50 -> 11 | H50: =G50*600 -> 6600 | I50: =G50 -> 11 | J50: =I50*600 -> 6600 | K50: =I50 -> 11 | L50: =K50*600 -> 6600 | M50: =K50 -> 11 | N50: =M50*600 -> 6600 | O50: =M50 -> 11 | P50: =O50*600 -> 6600 | Q50: =O50 -> 11 | R50: =Q50*600 -> 6600 | S50: =Q50 -> 11 | T50: =S50*600 -> 6600 | U50: =S50 -> 11 | V50: =U50*600 -> 6600 | W50: =U50 -> 11 | X50: =W50*600 -> 6600 | Y50: =W50 -> 11 | Z50: =Y50*600 -> 6600 | AA50: =ROUND(F50+H50+J50+L50+N50+P50+R50+T50+V50+X50+Z50+D50,) -> 79200
A51: Bērna kopšanas pabalsts2 | B51: bērnu skaits | C51: =ROUND(Y35*1.01,0) -> 339 | D51: =D52+D53 -> 72457.52 | E51: =ROUND(C51*1.01,0) -> 342 | F51: =F52+F53 -> 73096.48 | G51: =ROUND(E51*1.01,0) -> 345 | H51: =H52+H53 -> 73735.44 | I51: =ROUND(G51*1.01,0) -> 348 | J51: =J52+J53 -> 74374.4 | K51: =ROUND(I51*1.01,0) -> 351 | L51: =L52+L53 -> 75013.36 | M51: =ROUND(K51*1.01,0) -> 355 | N51: =N52+N53 -> 75950.32 | O51: =ROUND(M51*1.01,0) -> 359 | P51: =P52+P53 -> 76887.28 | Q51: =ROUND(O51*1.01,0) -> 363 | R51: =R52+R53 -> 77569.2 | S51: =ROUND(Q51*1.01,0) -> 367 | T51: =T52+T53 -> 78506.16 | U51: =ROUND(S51*1.01,0) -> 371 | V51: =V52+V53 -> 79443.12 | W51: =ROUND(U51*1.01,0) -> 375 | X51: =X52+X53 -> 80125.04 | Y51: =ROUND(W51*1.01,0) -> 379 | Z51: =Z52+Z53 -> 81062 | AA51: =ROUND(F51+H51+J51+L51+N51+P51+R51+T51+V51+X51+Z51+D51,) -> 918220
A52: t.sk. līdz bēna 1,5 gadiem | B52: bērnu skaits | C52: =ROUND(C51*0.67,0) -> 227 | D52: =C52*298 -> 67646 | E52: =ROUND(E51*0.67,0) -> 229 | F52: =E52*298 -> 68242 | G52: =ROUND(G51*0.67,0) -> 231 | H52: =G52*298 -> 68838 | I52: =ROUND(I51*0.67,0) -> 233 | J52: =I52*298 -> 69434 | K52: =ROUND(K51*0.67,0) -> 235 | L52: =K52*298 -> 70030 | M52: =ROUND(M51*0.67,0) -> 238 | N52: =M52*298 -> 70924 | O52: =ROUND(O51*0.67,0) -> 241 | P52: =O52*298 -> 71818 | Q52: =ROUND(Q51*0.67,0) -> 243 | R52: =Q52*298 -> 72414 | S52: =ROUND(S51*0.67,0) -> 246 | T52: =S52*298 -> 73308 | U52: =ROUND(U51*0.67,0) -> 249 | V52: =U52*298 -> 74202 | W52: =ROUND(W51*0.67,0) -> 251 | X52: =W52*298 -> 74798 | Y52: =ROUND(Y51*0.67,0) -> 254 | Z52: =Y52*298 -> 75692 | AA52: x
A53: no bērna 1,5 gadiem līdz 2 gadiem | B53: bērnu skaits | C53: =ROUND(C51*0.33,0) -> 112 | D53: =C53*42.96 -> 4811.52 | E53: =ROUND(E51*0.33,0) -> 113 | F53: =E53*42.96 -> 4854.48 | G53: =ROUND(G51*0.33,0) -> 114 | H53: =G53*42.96 -> 4897.44 | I53: =ROUND(I51*0.33,0) -> 115 | J53: =I53*42.96 -> 4940.4 | K53: =ROUND(K51*0.33,0) -> 116 | L53: =K53*42.96 -> 4983.36 | M53: =ROUND(M51*0.33,0) -> 117 | N53: =M53*42.96 -> 5026.32 | O53: =ROUND(O51*0.33,0) -> 118 | P53: =O53*42.96 -> 5069.28 | Q53: =ROUND(Q51*0.33,0) -> 120 | R53: =Q53*42.96 -> 5155.2 | S53: =ROUND(S51*0.33,0) -> 121 | T53: =S53*42.96 -> 5198.16 | U53: =ROUND(U51*0.33,0) -> 122 | V53: =U53*42.96 -> 5241.12 | W53: =ROUND(W51*0.33,0) -> 124 | X53: =W53*42.96 -> 5327.04 | Y53: =ROUND(Y51*0.33,0) -> 125 | Z53: =Y53*42.96 -> 5370 | AA53: x
A54: Ģimenes valsts pabalsts3 | B54: bērnu skaits | C54: =ROUND(Y36*1.002,0) -> 5177 | D54: =C54*47.95 -> 248237.15 | E54: =ROUND(C54*1.002,0) -> 5187 | F54: =E54*47.95 -> 248716.65 | G54: =ROUND(E54*1.002,0) -> 5197 | H54: =G54*47.95 -> 249196.15 | I54: =ROUND(G54*1.002,0) -> 5207 | J54: =I54*47.95 -> 249675.65 | K54: =ROUND(I54*1.002,0) -> 5217 | L54: =K54*47.95 -> 250155.15 | M54: =ROUND(K54*1.002,0) -> 5227 | N54: =M54*47.95 -> 250634.65 | O54: =ROUND(M54*1.002,0) -> 5237 | P54: =O54*47.95 -> 251114.15 | Q54: =ROUND(O54*1.002,0) -> 5247 | R54: =Q54*47.95 -> 251593.65 | S54: =ROUND(Q54*1.002,0) -> 5257 | T54: =S54*47.95 -> 252073.15 | U54: =ROUND(S54*1.002,0) -> 5268 | V54: =U54*47.95 -> 252600.6 | W54: =ROUND(U54*1.002,0) -> 5279 | X54: =W54*47.95 -> 253128.05 | Y54: =ROUND(W54*1.002,0) -> 5290 | Z54: =Y54*47.95 -> 253655.5 | AA54: =ROUND(F54+H54+J54+L54+N54+P54+R54+T54+V54+X54+Z54+D54,) -> 3010781
A55: Valsts atbalsts ar celiakiju slimiem bērniem4 | B55: bērnu skaits | C55: 1 | D55: =C55*160 -> 160 | E55: =C55 -> 1 | F55: =E55*160 -> 160 | G55: =E55 -> 1 | H55: =G55*160 -> 160 | I55: =G55 -> 1 | J55: =I55*160 -> 160 | K55: =I55 -> 1 | L55: =K55*160 -> 160 | M55: =K55 -> 1 | N55: =M55*160 -> 160 | O55: =M55 -> 1 | P55: =O55*160 -> 160 | Q55: =O55 -> 1 | R55: =Q55*160 -> 160 | S55: =Q55 -> 1 | T55: =S55*160 -> 160 | U55: =S55 -> 1 | V55: =U55*160 -> 160 | W55: =U55 -> 1 | X55: =W55*160 -> 160 | Y55: =W55 -> 1 | Z55: =Y55*160 -> 160 | AA55: =ROUND(F55+H55+J55+L55+N55+P55+R55+T55+V55+X55+Z55+D55,) -> 1920
A56: KOPĀ | D56: =D50+D51+D54+D55 -> 327454.67 | F56: =F50+F51+F54+F55 -> 328573.13 | H56: =H50+H51+H54+H55 -> 329691.59 | J56: =J50+J51+J54+J55 -> 330810.05 | L56: =L50+L51+L54+L55 -> 331928.51 | N56: =N50+N51+N54+N55 -> 333344.97 | P56: =P50+P51+P54+P55 -> 334761.43 | R56: =R50+R51+R54+R55 -> 335922.85 | T56: =T50+T51+T54+T55 -> 337339.31 | V56: =V50+V51+V54+V55 -> 338803.72 | X56: =X50+X51+X54+X55 -> 340013.09 | Z56: =Z50+Z51+Z54+Z55 -> 341477.5 | AA56: =ROUND(SUM(AA50:AA55),0) -> 4010121
A57: 1 tiek pieņemts, ka vidējais bērnu skaits 2026.gadā būs 11 bērni vidēji mēnesī (vidējais rādītājs 2024.gada oktobris -2025.gada septembris), pabalsta vidējais apmērs noteikts atbilstoši LM virzītajā prioritārajā pasākumā "Materiālā atbalsta (pabalstu) pilnveidošana ģimenēm ar bērniem" plānotajam vidējam apmēram ar 01.01.2026. - 600 euro;
A58: 2 tiek pieņemts, ka bērnu skaits 2026.gadā ik mēnesi palielinās par 1,0% un atbilstoši VSAA statistikas datiem par 2025.gada maiju – bērnu skaits līdz 1,5 gada vecumam noteikts 67% un bērnu skaits no 1,5 gada līdz 2 gadiem 33% kopējā bērnu skaitā, par kuru tiek maksāts bērna kopšanas pabalsts. Vidējais apmērs noteikts atbilstoši LM virzītajā prioritārajā pasākumā "Materiālā atbalsta (pabalstu) pilnveidošana ģimenēm ar bērniem" plānotajam vidējam apmēram - ar 01.01.2026. nosakot pabalstu par bērniem līdz 1,5 gada vecumam 35% apmērā no ienākumu mediānas (2026.gada ienākumu mediāna ir 850,02 euro, līdz ar to 2026.gadā pabalsta apmērs plānots 298 euro), pabalsta apmērs par bērniem no 1,5 gada līdz 2 gadiem saglabāts esošajā apmērā, t.i., 42,96 euro;
A59: 3 tiek pieņemts, ka bērnu skaits 2026.gadā ik mēnesi palielinās par 0,2%.Vidējais apmērs 47,95 euro(kas atbilst vidēji izmaksātajam pabalsta apmēram par 1 bērnu periodā 2024.gada oktobris-2025.gada septembris);
A60: 4 tiek pieņemts, ka vidējais bērnu skaits 2026.gadā būs 1 bērns mēnesī. Vidējais apmērs noteikts atbilstoši normatīvajos aktos noteiktajam vidējam apmēram - 160 euro.

Sheet 7.tab.
A1: 2.pielikuma 7.tabula
A2: Pasākumu plāns atbalsta sniegšanai Ukrainas civiliedzīvotājiem Latvijas Republikā 2026.gadā
A3: =Ietekme_LM_2026_!B168 -> 4.8. Cita veida atbalsta sniegšana, pamatojoties uz individuālo vajadzību izvērtējumu, tai skaitā sociālās aprūpes pakalpojuma nodrošināšana dzīvesvietā un pārvietošanās atbalsts, tai skaitā ar specializēto transportu, Ukrainas civiliedzīvotājiem ar smagiem vai ļoti smagiem funkcionāliem traucējumiem, kuri ierobežo personas spējas patstāvīgi pārvietoties un sevi aprūpēt
A4: *Plāns balstīts uz faktisko izpildi 2024. un 2025. gadā. 2026. gadā faktiski izmaksātie pabalsti un nodrošinātie pakalpojumi var atsķirties (papildus var tikt nodrošināts vēl kāds atbalsta veids) atbilstoši individuālajām personu vajadzībām. Likuma 7.panta trešā daļa paredz, ka Ukrainas civiliedzīvotājiem ir tādas pašas tiesības uz sociālajiem pakalpojumiem un sociālo palīdzību, kādas Sociālo pakalpojumu un sociālās palīdzības likumā noteiktas Latvijas pilsoņiem un Latvijas nepilsoņiem. Vienlaicīgi pašvaldībās Ukrainas civiliedzīvotājiem ir tādas pašas tiesības uz sociālajiem pakalpojumiem un sociālo palīdzību, kādas pašvaldību saistošajos noteikumos noteiktas pašvaldības iedzīvotājiem.
A5: Pašvaldības (VARAM)
A6: X | B6: 2023 | D6: 2023 | F6: 2023 | H6: 2023 | J6: 2023 | L6: 2023 | N6: 2023 | P6: 2023 | R6: 2023 | T6: 2023 | V6: 2023 | X6: 2023 | Z6: 2023
B7: janvāris | D7: februāris | F7: marts | H7: aprīlis | J7: maijs | L7: jūnijs | N7: jūlijs | P7: augusts | R7: septembris | T7: oktobris | V7: novembris | X7: decembris | Z7: KOPĀ
C8: (euro,centi) | E8: (euro,centi) | G8: (euro,centi) | I8: (euro,centi) | K8: (euro,centi) | M8: (euro,centi) | O8: (euro,centi) | Q8: (euro,centi) | S8: (euro,centi) | U8: (euro,centi) | W8: (euro,centi) | Y8: (euro,centi) | Z8: (euro,centi)
B9: Saņēmēju skaits | C9: Faktiskie izdevumi pārskata periodā | D9: Saņēmēju skaits | E9: Faktiskie izdevumi pārskata periodā | F9: Saņēmēju skaits | G9: Faktiskie izdevumi pārskata periodā | H9: Saņēmēju skaits | I9: Faktiskie izdevumi pārskata periodā | J9: Saņēmēju skaits | K9: Faktiskie izdevumi pārskata periodā | L9: Saņēmēju skaits | M9: Faktiskie izdevumi pārskata periodā | N9: Saņēmēju skaits | O9: Faktiskie izdevumi pārskata periodā | P9: Saņēmēju skaits | Q9: Faktiskie izdevumi pārskata periodā | R9: Saņēmēju skaits | S9: Faktiskie izdevumi pārskata periodā | T9: Saņēmēju skaits | U9: Faktiskie izdevumi pārskata periodā | V9: Saņēmēju skaits | W9: Faktiskie izdevumi pārskata periodā | X9: Saņēmēju skaits | Y9: Faktiskie izdevumi pārskata periodā | Z9: Faktiskie izdevumi pārskata periodā
A10: A | B10: 1 | C10: 2 | D10: 3 | E10: 4 | F10: 5 | G10: 6 | H10: 7 | I10: 8 | J10: 9 | K10: 10 | L10: 11 | M10: 12 | N10: 13 | O10: 14 | P10: 15 | Q10: 16 | R10: 17 | S10: 18 | T10: 19 | U10: 20 | V10: 21 | W10: 22 | X10: 23 | Y10: 24 | Z10: 25
A11: Pabalsts atsevišķu izdevumu apmaksai (UCAL 7.panta trešā daļa) | B11: 573 | C11: 50357.46 | D11: 657 | E11: 60892.6 | F11: 715 | G11: 80793.96 | H11: 660 | I11: 77020.94 | J11: 540 | K11: 61048.88 | L11: 507 | M11: 75253.58 | N11: 475 | O11: 76579.88 | P11: 804 | Q11: 91966.49 | R11: 696 | S11: 82765.31 | T11: 573 | U11: 83864.29 | V11: 473 | W11: 74808 | X11: 499 | Y11: 78327.81 | Z11: =G11+I11+K11+M11+O11+Q11+S11+U11+W11+Y11+E11+C11 -> 893679.2
A12: Pakalpojums pārvietošanās atbalstam (UCAL 13.panta pirmās daļas 1.punkts) | B12: 5 | C12: 1146.28 | D12: 6 | E12: 1437.05 | F12: 8 | G12: 1524.47 | H12: 7 | I12: 1701.9 | J12: 5 | K12: 1273.94 | L12: 9 | M12: 3780.06 | N12: 8 | O12: 1760.17 | P12: 8 | Q12: 2788.94 | R12: 8 | S12: 2346.73 | T12: 8 | U12: 2420.85 | V12: 7 | W12: 1917.13 | X12: 8 | Y12: 2325.97 | Z12: =G12+I12+K12+M12+O12+Q12+S12+U12+W12+Y12+E12+C12 -> 24423.49
A13: Sociālās rehabilitācijas pakalpojums vardarbībā cietušiem bērniem (UCAL 7.panta pirmā prim un trešā daļa) | B13: 0 | C13: 0 | D13: 0 | E13: 0 | F13: 0 | G13: 0 | H13: 0 | I13: 0 | J13: 0 | K13: 0 | L13: 0 | M13: 0 | N13: 1 | O13: 125 | P13: 0 | Q13: 0 | R13: 0 | S13: 0 | T13: 0 | U13: 0 | V13: 0 | W13: 0 | X13: 1 | Y13: 200 | Z13: =G13+I13+K13+M13+O13+Q13+S13+U13+W13+Y13+E13+C13 -> 325
A14: Sociālās rehabilitācijas pakalpojums vardarbībā cietušām pilngadīgām personām (UCAL 7.panta pirmā prim un trešā daļa) | B14: 0 | C14: 0 | D14: 6 | E14: 1657.28 | F14: 4 | G14: 242 | H14: 4 | I14: 864.38 | J14: 2 | K14: 1083.2 | L14: 2 | M14: 4205.6 | N14: 2 | O14: 270 | P14: 1 | Q14: 162 | R14: 1 | S14: 111.87 | T14: 1 | U14: 372.9 | V14: 1 | W14: 134.24 | X14: 1 | Y14: 447.48 | Z14: =G14+I14+K14+M14+O14+Q14+S14+U14+W14+Y14+E14+C14 -> 9550.95
A15: Ilgstošas sociālās aprūpes un sociālās rehabilitācijas pakalpojumi bērniem (UCAL 7.panta pirmā prim un trešā daļa un 18.panta deviņpadsmitā daļa) | B15: 1 | C15: 713 | D15: 1 | E15: 902.1 | F15: 1 | G15: 814.8 | H15: 1 | I15: 902.1 | J15: 0 | K15: 0 | L15: 1 | M15: 420 | N15: 0 | O15: 0 | P15: 0 | Q15: 0 | R15: 0 | S15: 0 | T15: 0 | U15: 0 | V15: 0 | W15: 0 | X15: 0 | Y15: 0 | Z15: =G15+I15+K15+M15+O15+Q15+S15+U15+W15+Y15+E15+C15 -> 3752
A16: Ilgstošas sociālās aprūpes un sociālās rehabilitācijas pakalpojumi pilngadīgām personām (UCAL 7.panta pirmā prim un trešā daļa) | B16: 8 | C16: 9667.9 | D16: 11 | E16: 11290.47 | F16: 13 | G16: 13814.07 | H16: 13 | I16: 16908.62 | J16: 15 | K16: 17091.38 | L16: 19 | M16: 26343.07 | N16: 20 | O16: 24703.35 | P16: 19 | Q16: 23612.55 | R16: 24 | S16: 28755 | T16: 23 | U16: 26894.54 | V16: 22 | W16: 27116.83 | X16: 23 | Y16: 29775.09 | Z16: =G16+I16+K16+M16+O16+Q16+S16+U16+W16+Y16+E16+C16 -> 255972.87
A17: Citi pašvaldības piešķirtie sociālā atbalsta pasākumi (UCAL 7.panta trešā daļa un 19.panta sestā daļa), t.sk. sociālās aprūpes pakalpojuma nodrošināšana dzīvesvietā Ukrainas civiliedzīvotājiem ar smagiem vai ļoti smagiem funkcionāliem traucējumiem, kuri ierobežo personas spējas patstāvīgi pārvietoties un sevi aprūpēt (13. panta pirmās daļas 1. punkts) | B17: x | C17: =92333.29-11084.2 -> 81249.09 | D17: x | E17: =94416.37-13378.26 -> 81038.11 | F17: x | G17: =97920.83-14922.86 -> 82997.97 | H17: x | I17: =116011.74-15359.09 -> 100652.65 | J17: x | K17: =95675.24-16443.34 -> 79231.9 | L17: x | M17: =131764.19-16585.19 -> 115179 | N17: x | O17: =134089.47-18761.48 -> 115327.99 | P17: x | Q17: =99450.75-19920.96 -> 79529.79 | R17: x | S17: =79094.55-21712.56 -> 57381.99 | T17: =R17 -> x | U17: =100267.35-22409.94 -> 77857.41 | V17: =T17 -> x | W17: =100099.74-22923.54 -> 77176.2 | X17: =V17 -> x | Y17: =107856.85-22946.02 -> 84910.83 | Z17: =G17+I17+K17+M17+O17+Q17+S17+U17+W17+Y17+E17+C17 -> 1032532.9
Z18: =SUM(Z11:Z17) -> 2220236.4
A20: X | B20: 2024 | D20: 2024 | F20: 2024 | H20: 2024 | J20: 2024 | L20: 2024 | N20: 2024 | P20: 2024 | R20: 2024 | T20: 2024 | V20: 2024 | X20: 2024 | Z20: 2024
B21: janvāris | D21: februāris | F21: marts | H21: aprīlis | J21: maijs | L21: jūnijs | N21: jūlijs | P21: augusts | R21: septembris | T21: oktobris | V21: novembris | X21: decembris | Z21: KOPĀ
C22: (euro,centi) | E22: (euro,centi) | G22: (euro,centi) | I22: (euro,centi) | K22: (euro,centi) | M22: (euro,centi) | O22: (euro,centi) | Q22: (euro,centi) | S22: (euro,centi) | U22: (euro,centi) | W22: (euro,centi) | Y22: (euro,centi) | Z22: (euro,centi)
B23: Saņēmēju skaits | C23: Faktiskie izdevumi pārskata periodā | D23: Saņēmēju skaits | E23: Faktiskie izdevumi pārskata periodā | F23: Saņēmēju skaits | G23: Faktiskie izdevumi pārskata periodā | H23: Saņēmēju skaits | I23: Faktiskie izdevumi pārskata periodā | J23: Saņēmēju skaits | K23: Faktiskie izdevumi pārskata periodā | L23: Saņēmēju skaits | M23: Faktiskie izdevumi pārskata periodā | N23: Saņēmēju skaits | O23: Faktiskie izdevumi pārskata periodā | P23: Saņēmēju skaits | Q23: Faktiskie izdevumi pārskata periodā | R23: Saņēmēju skaits | S23: Faktiskie izdevumi pārskata periodā | T23: Saņēmēju skaits | U23: Faktiskie izdevumi pārskata periodā | V23: Saņēmēju skaits | W23: Faktiskie izdevumi pārskata periodā | X23: Saņēmēju skaits | Y23: Faktiskie izdevumi pārskata periodā | Z23: Faktiskie izdevumi pārskata periodā
A24: A | B24: 1 | C24: 2 | D24: 3 | E24: 4 | F24: 5 | G24: 6 | H24: 7 | I24: 8 | J24: 9 | K24: 10 | L24: 11 | M24: 12 | N24: 13 | O24: 14 | P24: 15 | Q24: 16 | R24: 17 | S24: 18 | T24: 19 | U24: 20 | V24: 21 | W24: 22 | X24: 23 | Y24: 24 | Z24: 25
A25: Pabalsts atsevišķu izdevumu apmaksai (UCAL 7.panta trešā daļa) | B25: 508 | C25: 62220.1 | D25: 551 | E25: 73173.18 | F25: 536 | G25: 63243.59 | H25: 522 | I25: 74846.5 | J25: 472 | K25: 70700.66 | L25: 472 | M25: 69899.7 | N25: 492 | O25: 76212.6 | P25: 481 | Q25: 79029.26 | R25: 536 | S25: 82878.4 | T25: 574 | U25: 81344.4 | V25: 415 | W25: 78730.04 | X25: 474 | Y25: 77388.29 | Z25: =ROUND(G25+I25+K25+M25+O25+Q25+S25+U25+W25+Y25+E25+C25,) -> 889667
A26: Pakalpojums pārvietošanās atbalstam (UCAL 13.panta pirmās daļas 1.punkts)** | B26: 0 | C26: 0 | D26: 1 | E26: 325.2 | F26: 1 | G26: 314.36 | H26: 0 | I26: 0 | J26: 0 | K26: 0 | L26: 0 | M26: 0 | N26: 0 | O26: 0 | P26: 0 | Q26: 0 | R26: 0 | S26: 0 | T26: =ROUND((R26+P26+N26+L26+J26+H26)/6,0) -> 0 | U26: =(S26+Q26+O26+M26+K26+I26)/6 -> 0 | V26: =T26 -> 0 | W26: =U26 -> 0 | X26: =V26 -> 0 | Y26: =W26 -> 0 | Z26: =ROUND(G26+I26+K26+M26+O26+Q26+S26+U26+W26+Y26+E26+C26,) -> 640
A27: Sociālās rehabilitācijas pakalpojums vardarbībā cietušiem bērniem (UCAL 7.panta pirmā prim un trešā daļa) | B27: 1 | C27: 108 | D27: 1 | E27: 108 | F27: 1 | G27: 54 | H27: 0 | I27: 0 | J27: 0 | K27: 0 | L27: 0 | M27: 0 | N27: 0 | O27: 0 | P27: 0 | Q27: 0 | R27: 0 | S27: 0 | T27: =ROUND((R27+P27+N27+L27+J27+H27)/6,0) -> 0 | U27: =(S27+Q27+O27+M27+K27+I27)/6 -> 0 | V27: =T27 -> 0 | W27: =U27 -> 0 | X27: =V27 -> 0 | Y27: =W27 -> 0 | Z27: =ROUND(G27+I27+K27+M27+O27+Q27+S27+U27+W27+Y27+E27+C27,) -> 270
A28: Sociālās rehabilitācijas pakalpojums vardarbībā cietušām pilngadīgām personām (UCAL 7.panta pirmā prim un trešā daļa) | B28: 2 | C28: 745.8 | D28: 2 | E28: 894.96 | F28: 2 | G28: 969.54 | H28: 1 | I28: 372.9 | J28: 3 | K28: 1641 | L28: 4 | M28: 324 | N28: 3 | O28: 98.75 | P28: 4 | Q28: 1029.96 | R28: 0 | S28: 0 | T28: 0 | U28: 0 | V28: =T28 -> 0 | W28: =U28 -> 0 | X28: 1 | Y28: 1029.2 | Z28: =ROUND(G28+I28+K28+M28+O28+Q28+S28+U28+W28+Y28+E28+C28,) -> 7106
A29: Ilgstošas sociālās aprūpes un sociālās rehabilitācijas pakalpojumi bērniem (UCAL 7.panta pirmā prim un trešā daļa un 18.panta deviņpadsmitā daļa) | B29: 1 | C29: 1506.37 | D29: 1 | E29: 1506.37 | F29: 1 | G29: 1392.13 | H29: -3 | I29: -4404.87 | J29: 0 | K29: 0 | L29: 0 | M29: 0 | N29: 1 | O29: 1155 | P29: 0 | Q29: 0 | R29: 1 | S29: 778.58 | T29: -1 | U29: -778.5 | V29: 0 | W29: 0 | X29: =V29 -> 0 | Y29: =W29 -> 0 | Z29: =ROUND(G29+I29+K29+M29+O29+Q29+S29+U29+W29+Y29+E29+C29,) -> 1155
A30: Ilgstošas sociālās aprūpes un sociālās rehabilitācijas pakalpojumi pilngadīgām personām (UCAL 7.panta pirmā prim un trešā daļa) | B30: 23 | C30: 30821.35 | D30: 27 | E30: 40573.56 | F30: 33 | G30: 33715.49 | H30: 21 | I30: 40569.1 | J30: 22 | K30: 33875.13 | L30: 21 | M30: 33583.73 | N30: 22 | O30: 35452.03 | P30: 22 | Q30: 34661.73 | R30: 15 | S30: 23919.18 | T30: 25 | U30: 44073.43 | V30: 21 | W30: 32022.14 | X30: 20 | Y30: 30988.13 | Z30: =ROUND(G30+I30+K30+M30+O30+Q30+S30+U30+W30+Y30+E30+C30,) -> 414255
A31: Citi pašvaldības piešķirtie sociālā atbalsta pasākumi (UCAL 7.panta trešā daļa un 19.panta sestā daļa), t.sk. sociālās aprūpes pakalpojuma nodrošināšana dzīvesvietā Ukrainas civiliedzīvotājiem ar smagiem vai ļoti smagiem funkcionāliem traucējumiem, kuri ierobežo personas spējas patstāvīgi pārvietoties un sevi aprūpēt (13. panta pirmās daļas 1. punkts) | B31: x | C31: 98249.6 | D31: x | E31: 108135.03 | F31: x | G31: 108552.72 | H31: x | I31: 92722.71 | J31: x | K31: 124718.49 | L31: x | M31: 118618.28 | N31: x | O31: 97793.82 | P31: x | Q31: 131425.8 | R31: x | S31: 114855.71 | T31: =R31 -> x | U31: 76386.78 | V31: =T31 -> x | W31: 144111.92 | X31: =V31 -> x | Y31: 114020.41 | Z31: =ROUND(G31+I31+K31+M31+O31+Q31+S31+U31+W31+Y31+E31+C31,) -> 1329591
Z32: =ROUND(SUM(Z25:Z31),0) -> 2642684
A34: X | B34: 2025 | D34: 2025 | F34: 2025 | H34: 2025 | J34: 2025 | L34: 2025 | N34: 2025 | P34: 2025 | R34: 2025 | T34: 2025 | V34: 2025 | X34: 2025 | Z34: 2025 | AA34: 2026****
B35: janvāris | D35: februāris | F35: marts | H35: aprīlis | J35: maijs | L35: jūnijs | N35: jūlijs | P35: augusts | R35: septembris | T35: oktobris | V35: novembris | X35: decembris | Z35: KOPĀ | AA35: KOPĀ
C36: (euro,centi) | E36: (euro,centi) | G36: (euro,centi) | I36: (euro,centi) | K36: (euro,centi) | M36: (euro,centi) | O36: (euro,centi) | Q36: (euro,centi) | S36: (euro,centi) | U36: (euro,centi) | W36: (euro,centi) | Y36: (euro,centi) | Z36: (euro,centi) | AA36: (euro,centi)
B37: Saņēmēju skaits | C37: Faktiskie izdevumi pārskata periodā | D37: Saņēmēju skaits | E37: Faktiskie izdevumi pārskata periodā | F37: Saņēmēju skaits | G37: Faktiskie izdevumi pārskata periodā | H37: Saņēmēju skaits | I37: Faktiskie izdevumi pārskata periodā | J37: Saņēmēju skaits | K37: Faktiskie izdevumi pārskata periodā | L37: Saņēmēju skaits | M37: Faktiskie izdevumi pārskata periodā | N37: Saņēmēju skaits | O37: Faktiskie izdevumi pārskata periodā | P37: Saņēmēju skaits | Q37: Faktiskie izdevumi pārskata periodā | R37: Saņēmēju skaits | S37: Faktiskie izdevumi pārskata periodā | T37: Saņēmēju skaits | U37: Plānotie izdevumi pārskata periodā | V37: Saņēmēju skaits | W37: Plānotie izdevumi pārskata periodā | X37: Saņēmēju skaits | Y37: Plānotie izdevumi pārskata periodā | Z37: Plānotie zdevumi pārskata periodā | AA37: Plānotie zdevumi pārskata periodā
A38: A | B38: 1 | C38: 2 | D38: 3 | E38: 4 | F38: 5 | G38: 6 | H38: 7 | I38: 8 | J38: 9 | K38: 10 | L38: 11 | M38: 12 | N38: 13 | O38: 14 | P38: 15 | Q38: 16 | R38: 17 | S38: 18 | T38: 19 | U38: 20 | V38: 21 | W38: 22 | X38: 23 | Y38: 24 | Z38: 25 | AA38: 26
A39: Pabalsts atsevišķu izdevumu apmaksai (UCAL 7.panta trešā daļa) | B39: 565 | C39: 111454.9 | D39: 515 | E39: 97884.74 | F39: 507 | G39: 44217.55 | H39: 544 | I39: 88814.59 | J39: 464 | K39: 82139.1 | L39: 411 | M39: 79526.61 | N39: 574 | O39: 92861.69 | P39: 418 | Q39: 78479.48 | R39: 566 | S39: 88427.57 | T39: =(B39+D39+F39+H39+J39+L39+N39+P39+R39)/9 -> 507.11111 | U39: =(C39+E39+G39+I39+K39+M39+O39+Q39+S39)/9 -> 84867.359 | V39: =T39 -> 507.11111 | W39: =U39 -> 84867.359 | X39: =V39 -> 507.11111 | Y39: =W39 -> 84867.359 | Z39: =ROUND(G39+I39+K39+M39+O39+Q39+S39+U39+W39+Y39+E39+C39,) -> 1018408 | AA39: =Z39 -> 1018408
A40: Pakalpojums pārvietošanās atbalstam (UCAL 13.panta pirmās daļas 1.punkts)** | B40: 0 | C40: 0 | D40: 3 | E40: 146.84 | F40: 0 | G40: 0 | H40: 0 | I40: 0 | J40: 1 | K40: 70 | L40: =AVERAGE(B40,D40,F40,H40,J40) -> 0.8 | M40: 35 | N40: 0 | O40: 0 | P40: 1 | Q40: 35 | R40: 1 | S40: 35 | T40: =(B40+D40+F40+H40+J40+L40+N40+P40+R40)/9 -> 0.75555556 | U40: =(C40+E40+G40+I40+K40+M40+O40+Q40+S40)/9 -> 35.76 | V40: =T40 -> 0.75555556 | W40: =U40 -> 35.76 | X40: =V40 -> 0.75555556 | Y40: =W40 -> 35.76 | Z40: =ROUND(G40+I40+K40+M40+O40+Q40+S40+U40+W40+Y40+E40+C40,) -> 429 | AA40: =Z40 -> 429
A41: Sociālās rehabilitācijas pakalpojums vardarbībā cietušiem bērniem (UCAL 7.panta pirmā prim un trešā daļa)*** | B41: 0 | C41: 0 | D41: 0 | E41: 0 | F41: 0 | G41: 0 | H41: 0 | I41: 0 | J41: 0 | K41: 0 | L41: =AVERAGE(B41,D41,F41,H41,J41) -> 0 | M41: =AVERAGE(C41,E41,G41,I41,K41) -> 0 | N41: =L41 -> 0 | O41: =M41 -> 0 | P41: =N41 -> 0 | Q41: =O41 -> 0 | R41: =P41 -> 0 | S41: =Q41 -> 0 | T41: =(B41+D41+F41+H41+J41+L41+N41+P41+R41)/9 -> 0 | U41: =(C41+E41+G41+I41+K41+M41+O41+Q41+S41)/9 -> 0 | V41: =T41 -> 0 | W41: =U41 -> 0 | X41: =V41 -> 0 | Y41: =W41 -> 0 | Z41: =ROUND(G41+I41+K41+M41+O41+Q41+S41+U41+W41+Y41+E41+C41,) -> 0 | AA41: =Z27 -> 270
A42: Sociālās rehabilitācijas pakalpojums vardarbībā cietušām pilngadīgām personām (UCAL 7.panta pirmā prim un trešā daļa) | B42: 1 | C42: 134.24 | D42: 1 | E42: 178.99 | F42: 6 | G42: 1771.42 | H42: 4 | I42: 1316.19 | J42: 1 | K42: 178.99 | L42: 5 | M42: 772.51 | N42: 3 | O42: 1029.2 | P42: 6 | Q42: 3738.79 | R42: 5 | S42: 1125.33 | T42: =(B42+D42+F42+H42+J42+L42+N42+P42+R42)/9 -> 3.5555556 | U42: =(C42+E42+G42+I42+K42+M42+O42+Q42+S42)/9 -> 1138.4067 | V42: =T42 -> 3.5555556 | W42: =U42 -> 1138.4067 | X42: =V42 -> 3.5555556 | Y42: =W42 -> 1138.4067 | Z42: =ROUND(G42+I42+K42+M42+O42+Q42+S42+U42+W42+Y42+E42+C42,) -> 13661 | AA42: =Z42 -> 13661
A43: Ilgstošas sociālās aprūpes un sociālās rehabilitācijas pakalpojumi bērniem (UCAL 7.panta pirmā prim un trešā daļa un 18.panta deviņpadsmitā daļa)*** | B43: 0 | C43: 0 | D43: 0 | E43: 0 | F43: 0 | G43: 0 | H43: 0 | I43: 0 | J43: 0 | K43: 0 | L43: =AVERAGE(B43,D43,F43,H43,J43) -> 0 | M43: =AVERAGE(C43,E43,G43,I43,K43) -> 0 | N43: =L43 -> 0 | O43: =M43 -> 0 | P43: =N43 -> 0 | Q43: =O43 -> 0 | R43: =P43 -> 0 | S43: =Q43 -> 0 | T43: =(B43+D43+F43+H43+J43+L43+N43+P43+R43)/9 -> 0 | U43: =(C43+E43+G43+I43+K43+M43+O43+Q43+S43)/9 -> 0 | V43: =T43 -> 0 | W43: =U43 -> 0 | X43: =V43 -> 0 | Y43: =W43 -> 0 | Z43: =ROUND(G43+I43+K43+M43+O43+Q43+S43+U43+W43+Y43+E43+C43,) -> 0 | AA43: =Z29 -> 1155
A44: Ilgstošas sociālās aprūpes un sociālās rehabilitācijas pakalpojumi pilngadīgām personām (UCAL 7.panta pirmā prim un trešā daļa)*** | B44: 21 | C44: 33048.07 | D44: 7 | E44: 13232.02 | F44: 23 | G44: 60310.31 | H44: 21 | I44: 37134.21 | J44: 22 | K44: 39024.46 | L44: 24 | M44: 42624.4 | N44: 28 | O44: 43203.28 | P44: 22 | Q44: 41349.37 | R44: 26 | S44: 42729.06 | T44: =(B44+D44+F44+H44+J44+L44+N44+P44+R44)/9 -> 21.555556 | U44: =(C44+E44+G44+I44+K44+M44+O44+Q44+S44)/9 -> 39183.909 | V44: =T44 -> 21.555556 | W44: =U44 -> 39183.909 | X44: =V44 -> 21.555556 | Y44: =W44 -> 39183.909 | Z44: =ROUND(G44+I44+K44+M44+O44+Q44+S44+U44+W44+Y44+E44+C44,) -> 470207 | AA44: =Z44 -> 470207
A45: Citi pašvaldības piešķirtie sociālā atbalsta pasākumi (UCAL 7.panta trešā daļa un 19.panta sestā daļa), t.sk. sociālās aprūpes pakalpojuma nodrošināšana dzīvesvietā Ukrainas civiliedzīvotājiem ar smagiem vai ļoti smagiem funkcionāliem traucējumiem, kuri ierobežo personas spējas patstāvīgi pārvietoties un sevi aprūpēt (13. panta pirmās daļas 1. punkts) | B45: x | C45: 83216.24 | D45: x | E45: 119409.28 | F45: x | G45: 94416.62 | H45: x | I45: 85558.46 | J45: x | K45: 146758.68 | L45: x | M45: 75812.97 | N45: =L45 -> x | O45: 139593.31 | P45: =N45 -> x | Q45: 79974.08 | R45: =P45 -> x | S45: 179127.65 | T45: x | U45: =(C45+E45+G45+I45+K45+M45+O45+Q45+S45)/9 -> 111540.81 | V45: =T45 -> x | W45: =U45 -> 111540.81 | X45: =V45 -> x | Y45: =W45 -> 111540.81 | Z45: =ROUND(G45+I45+K45+M45+O45+Q45+S45+U45+W45+Y45+E45+C45,) -> 1338490 | AA45: =Z45 -> 1338490
A46: **Pārvietošanās atbalstā iekļauts guļošu personu pārvietošana uz ārstniecības iestādem | Z46: =ROUND(SUM(Z39:Z45),0) -> 2841195 | AA46: =ROUND(SUM(AA39:AA45),0) -> 2842620
A47: ***2025. gadā izdevumi netiek plānoti, bet nevar izslēgt, ka šādi izdevumi būs 2026. gadā. Izdevumu plāns 2026. gadam atbilstoši 2024. gada faktiskajiem izdevumiem.
A48: ****Atbilstoši Iekšlietu ministrijas sniegtajai informācijai (18.06.2025. vēstule Nr.1-23/1428/25), 2025. gada pirmajos piecos mēnešos Latvijā vidēji no jauna pagaidu aizsardzības saņemšanai reģistrējās 526 Ukrainas civiliedzīvotāji; kopā šajos mēnešos no jauna reģistrējies 2631 pagaidu aizsardzības saņēmējs. Līdzīga no jauna ieceļojošo Ukrainas civiliedzīvotāju plūsma bija vērojama arī 2024. gadā. 2024. gadā Latvijā no jauna reģistrējās 6080 Ukrainas civiliedzīvotāji, savukārt 1744 personām 2024. gadā pagaidu aizsardzības statuss tika anulēts. Ņemot vērā minētos datus un pie nosacījuma, ka situācija Ukrainā 2026. gadā saglabājas relatīvi nemainīga, var prognozēt, ka 2026. gadā Latvijā no jauna ieradīsies vismaz 6000 Ukrainas civiliedzīvotāju. Dzimuma un vecuma proporcijas 2026. gadā, visticamāk, saglabāsies līdzīgas. Vienlaikus balstoties uz IeM sniegto informāciju prognozējams, ka 2025. gadā no jauna Latvijā būs ieradušies 6 312 Ukrainas civiliedzīvotāju, IeM prognoze 2026. gadā - 6000. Ņemot vērā minēto, 2026. gada izdevumu plāns tiek balstīts uz iepriekšējo mēnešu izpildes tendencēm.

Sheet 8.tab.
A1: 2.pielikuma 8.tabula
A2: Pasākumu plāns atbalsta sniegšanai Ukrainas civiliedzīvotājiem Latvijas Republikā 2026.gadā
A3: =Ietekme_LM_2026_!B191 -> 4.10.Atbalsta sniegšana ārkārtas aizbildņiem (atlīdzība par ārkārtas aizbildņa pienākumu pildīšanu, pabalsts nepavadīta bērna uzturam un pabalsts apģērba un mīkstā inventāra iegādei)
A4: Pašvaldības (VARAM)
A5: X | B5: 2023 | D5: 2023 | F5: 2023 | H5: 2023 | J5: 2023 | L5: 2023 | N5: 2023 | P5: 2023 | R5: 2023 | T5: 2023 | V5: 2023 | X5: 2023 | Z5: 2023
B6: janvāris | D6: februāris | F6: marts | H6: aprīlis | J6: maijs | L6: jūnijs | N6: jūlijs | P6: augusts | R6: septembris | T6: oktobris | V6: novembris | X6: decembris | Z6: KOPĀ
C7: (euro,centi) | E7: (euro,centi) | G7: (euro,centi) | I7: (euro,centi) | K7: (euro,centi) | M7: (euro,centi) | O7: (euro,centi) | Q7: (euro,centi) | S7: (euro,centi) | U7: (euro,centi) | W7: (euro,centi) | Y7: (euro,centi) | Z7: (euro,centi)
B8: Saņēmēju skaits | C8: Faktiskie izdevumi pārskata periodā | D8: Saņēmēju skaits | E8: Faktiskie izdevumi pārskata periodā | F8: Saņēmēju skaits | G8: Faktiskie izdevumi pārskata periodā | H8: Saņēmēju skaits | I8: Faktiskie izdevumi pārskata periodā | J8: Saņēmēju skaits | K8: Faktiskie izdevumi pārskata periodā | L8: Saņēmēju skaits | M8: Faktiskie izdevumi pārskata periodā | N8: Saņēmēju skaits | O8: Faktiskie izdevumi pārskata periodā | P8: Saņēmēju skaits | Q8: Faktiskie izdevumi pārskata periodā | R8: Saņēmēju skaits | S8: Faktiskie izdevumi pārskata periodā | T8: Saņēmēju skaits | U8: Faktiskie izdevumi pārskata periodā | V8: Saņēmēju skaits | W8: Faktiskie izdevumi pārskata periodā | X8: Saņēmēju skaits | Y8: Faktiskie izdevumi pārskata periodā | Z8: Faktiskie izdevumi pārskata periodā
A9: A | B9: 1 | C9: 2 | D9: 3 | E9: 4 | F9: 5 | G9: 6 | H9: 7 | I9: 8 | J9: 9 | K9: 10 | L9: 11 | M9: 12 | N9: 13 | O9: 14 | P9: 15 | Q9: 16 | R9: 17 | S9: 18 | T9: 19 | U9: 20 | V9: 21 | W9: 22 | X9: 23 | Y9: 24 | Z9: 25
A10: Atlīdzība par ārkārtas aizbildņa pienākumu pildīšanu (UCAL 19.panta pirmā un otrā daļa) | B10: 341 | C10: 47471.81 | D10: 321 | E10: 44611.71 | F10: 316 | G10: 48262.38 | H10: 292 | I10: 43583.21 | J10: 310 | K10: 44229.87 | L10: 290 | M10: 41556.88 | N10: 330 | O10: 41335.59 | P10: 286 | Q10: 41895.21 | R10: 272 | S10: 39122.04 | T10: 256 | U10: 37962.35 | V10: 252 | W10: 36761.32 | X10: 247 | Y10: 35856.32 | Z10: =G10+I10+K10+M10+O10+Q10+S10+U10+W10+Y10+E10+C10 -> 502648.69
A11: Pabalsts nepavadīta bērna uzturam (UCAL 19.panta pirmā, trešā un septītā daļa) | B11: 473 | C11: 121443.11 | D11: 453 | E11: 117342.04 | F11: 432 | G11: 110019.74 | H11: 447 | I11: 121240.99 | J11: 429 | K11: 110632.48 | L11: 410 | M11: 104573.21 | N11: 447 | O11: 107975.57 | P11: 403 | Q11: 104421.98 | R11: 376 | S11: 96512.75 | T11: 351 | U11: 89438.36 | V11: 336 | W11: 90237.1 | X11: 307 | Y11: 85869.63 | Z11: =G11+I11+K11+M11+O11+Q11+S11+U11+W11+Y11+E11+C11 -> 1259707
A12: Pabalsts apģērba un mīkstā inventāra iegādei (UCAL 19.panta pirmā un piektā daļa) | B12: 140 | C12: 14032.12 | D12: 104 | E12: 10261.61 | F12: 83 | G12: 7838.05 | H12: 99 | I12: 11645.8 | J12: 89 | K12: 7083.16 | L12: 78 | M12: 7225.36 | N12: 115 | O12: 9749.63 | P12: 75 | Q12: 7163.61 | R12: 73 | S12: 6533.05 | T12: 74 | U12: 6657.29 | V12: 62 | W12: 5687.83 | X12: 59 | Y12: 4642.78 | Z12: =G12+I12+K12+M12+O12+Q12+S12+U12+W12+Y12+E12+C12 -> 98520.29
Z13: =SUM(Z10:Z12) -> 1860875.9
A16: X | B16: 2024 | D16: 2024 | F16: 2024 | H16: 2024 | J16: 2024 | L16: 2024 | N16: 2024 | P16: 2024 | R16: 2024 | T16: 2024 | V16: 2024 | X16: 2024 | Z16: 2024
B17: janvāris | D17: februāris | F17: marts | H17: aprīlis | J17: maijs | L17: jūnijs | N17: jūlijs | P17: augusts | R17: septembris | T17: oktobris | V17: novembris | X17: decembris | Z17: KOPĀ
C18: (euro,centi) | E18: (euro,centi) | G18: (euro,centi) | I18: (euro,centi) | K18: (euro,centi) | M18: (euro,centi) | O18: (euro,centi) | Q18: (euro,centi) | S18: (euro,centi) | U18: (euro,centi) | W18: (euro,centi) | Y18: (euro,centi) | Z18: (euro,centi)
B19: Saņēmēju skaits | C19: Faktiskie izdevumi pārskata periodā | D19: Saņēmēju skaits | E19: Faktiskie izdevumi pārskata periodā | F19: Saņēmēju skaits | G19: Faktiskie izdevumi pārskata periodā | H19: Saņēmēju skaits | I19: Faktiskie izdevumi pārskata periodā | J19: Saņēmēju skaits | K19: Faktiskie izdevumi pārskata periodā | L19: Saņēmēju skaits | M19: Faktiskie izdevumi pārskata periodā | N19: Saņēmēju skaits | O19: Faktiskie izdevumi pārskata periodā | P19: Saņēmēju skaits | Q19: Faktiskie izdevumi pārskata periodā | R19: Saņēmēju skaits | S19: Faktiskie izdevumi pārskata periodā | T19: Saņēmēju skaits | U19: Faktiskie izdevumi pārskata periodā | V19: Saņēmēju skaits | W19: Faktiskie izdevumi pārskata periodā | X19: Saņēmēju skaits | Y19: Faktiskie izdevumi pārskata periodā | Z19: Faktiskie izdevumi pārskata periodā
A20: A | B20: 1 | C20: 2 | D20: 3 | E20: 4 | F20: 5 | G20: 6 | H20: 7 | I20: 8 | J20: 9 | K20: 10 | L20: 11 | M20: 12 | N20: 13 | O20: 14 | P20: 15 | Q20: 16 | R20: 17 | S20: 18 | T20: 19 | U20: 20 | V20: 21 | W20: 22 | X20: 23 | Y20: 24 | Z20: 25
A21: Atlīdzība par ārkārtas aizbildņa pienākumu pildīšanu (UCAL 19.panta pirmā un otrā daļa) | B21: 233 | C21: 34415.67 | D21: 223 | E21: 32403.82 | F21: 222 | G21: 33761.77 | H21: 219 | I21: 33654.2 | J21: 217 | K21: 32304.71 | L21: 216 | M21: 31682.26 | N21: 209 | O21: 30867.34 | P21: 212 | Q21: 31359.28 | R21: 216 | S21: 33032.76 | T21: 231 | U21: 35784.61 | V21: 215 | W21: 32392.1 | X21: 214 | Y21: 31788.35 | Z21: =ROUND(G21+I21+K21+M21+O21+Q21+S21+U21+W21+Y21+E21+C21,0) -> 393447
A22: Pabalsts nepavadīta bērna uzturam (UCAL 19.panta pirmā, trešā un septītā daļa) | B22: 323 | C22: 83621.02 | D22: 307 | E22: 77891.32 | F22: 300 | G22: 78309.8 | H22: 302 | I22: 77888.23 | J22: 292 | K22: 74523.53 | L22: 287 | M22: 72379.56 | N22: 279 | O22: 70589.44 | P22: 284 | Q22: 74072.43 | R22: 292 | S22: 76011.38 | T22: 303 | U22: 83786.05 | V22: 295 | W22: 79073.91 | X22: 280 | Y22: 73230.2 | Z22: =ROUND(G22+I22+K22+M22+O22+Q22+S22+U22+W22+Y22+E22+C22,0) -> 921377
A23: Pabalsts apģērba un mīkstā inventāra iegādei (UCAL 19.panta pirmā un piektā daļa) | B23: 66 | C23: 6625.46 | D23: 63 | E23: 5808.69 | F23: 66 | G23: 8000.19 | H23: 63 | I23: 5411.5 | J23: 61 | K23: 6248 | L23: 62 | M23: 6110.09 | N23: 58 | O23: 5264.65 | P23: 63 | Q23: 6952.96 | R23: 71 | S23: 8828.84 | T23: 75 | U23: 9653.19 | V23: 58 | W23: 4195.16 | X23: 58 | Y23: 4522.39 | Z23: =ROUND(G23+I23+K23+M23+O23+Q23+S23+U23+W23+Y23+E23+C23,0) -> 77621
Z24: =ROUND(SUM(Z21:Z23),0) -> 1392445
A27: X | B27: 2025 | D27: 2025 | F27: 2025 | H27: 2025 | J27: 2025 | L27: 2025 | N27: 2025 | P27: 2025 | R27: 2025 | T27: 2025 | V27: 2025 | X27: 2025 | Z27: 2025
B28: janvāris | D28: februāris | F28: marts | H28: aprīlis | J28: maijs | L28: jūnijs* | N28: jūlijs | P28: augusts | R28: septembris | T28: oktobris | V28: novembris | X28: decembris | Z28: KOPĀ
C29: (euro,centi) | E29: (euro,centi) | G29: (euro,centi) | I29: (euro,centi) | K29: (euro,centi) | M29: (euro,centi) | O29: (euro,centi) | Q29: (euro,centi) | S29: (euro,centi) | U29: (euro,centi) | W29: (euro,centi) | Y29: (euro,centi) | Z29: (euro,centi)
B30: Saņēmēju skaits | C30: Faktiskie izdevumi pārskata periodā | D30: Saņēmēju skaits | E30: Faktiskie izdevumi pārskata periodā | F30: Saņēmēju skaits | G30: Faktiskie izdevumi pārskata periodā | H30: Saņēmēju skaits | I30: Faktiskie izdevumi pārskata periodā | J30: Saņēmēju skaits | K30: Faktiskie izdevumi pārskata periodā | L30: Saņēmēju skaits | M30: Faktiskie izdevumi pārskata periodā | N30: Saņēmēju skaits | O30: Faktiskie izdevumi pārskata periodā | P30: Saņēmēju skaits | Q30: Faktiskie izdevumi pārskata periodā | R30: Saņēmēju skaits | S30: Faktiskie izdevumi pārskata periodā | T30: Saņēmēju skaits | U30: Plānotie izdevumi pārskata periodā | V30: Saņēmēju skaits | W30: Plānotie izdevumi pārskata periodā | X30: Saņēmēju skaits | Y30: Plānotie izdevumi pārskata periodā | Z30: Plānotie zdevumi pārskata periodā
A31: A | B31: 1 | C31: 2 | D31: 3 | E31: 4 | F31: 5 | G31: 6 | H31: 7 | I31: 8 | J31: 9 | K31: 10 | L31: 11 | M31: 12 | N31: 13 | O31: 14 | P31: 15 | Q31: 16 | R31: 17 | S31: 18 | T31: 19 | U31: 20 | V31: 21 | W31: 22 | X31: 23 | Y31: 24 | Z31: 25
A32: Atlīdzība par ārkārtas aizbildņa pienākumu pildīšanu (UCAL 19.panta pirmā un otrā daļa) | B32: 215 | C32: 32635.07 | D32: 229 | E32: 34909.21 | F32: 227 | G32: 33465.56 | H32: 221 | I32: 30827.59 | J32: 202 | K32: 28295.79 | L32: 193 | M32: 27556.4 | N32: 190 | O32: 26805.13 | P32: 195 | Q32: 28363.93 | R32: 205 | S32: 28339.28 | T32: =(B32+D32+F32+H32+J32+L32+N32+P32+R32)/9 -> 208.55556 | U32: =(C32+E32+G32+I32+K32+M32+O32+Q32+S32)/9 -> 30133.107 | V32: =T32 -> 208.55556 | W32: =U32 -> 30133.107 | X32: =V32 -> 208.55556 | Y32: =W32 -> 30133.107 | Z32: =ROUND(G32+I32+K32+M32+O32+Q32+S32+U32+W32+Y32+E32+C32,0) -> 361597
A33: Pabalsts nepavadīta bērna uzturam (UCAL 19.panta pirmā, trešā un septītā daļa) | B33: 284 | C33: 77552.54 | D33: 297 | E33: 79208.34 | F33: 294 | G33: 78947.73 | H33: 288 | I33: 74073.7 | J33: 267 | K33: 70123.52 | L33: 260 | M33: 67649.84 | N33: 257 | O33: 66531.53 | P33: 259 | Q33: 67638.53 | R33: 266 | S33: 69913.93 | T33: =(B33+D33+F33+H33+J33+L33+N33+P33+R33)/9 -> 274.66667 | U33: =(C33+E33+G33+I33+K33+M33+O33+Q33+S33)/9 -> 72404.407 | V33: =T33 -> 274.66667 | W33: =U33 -> 72404.407 | X33: =V33 -> 274.66667 | Y33: =W33 -> 72404.407 | Z33: =ROUND(G33+I33+K33+M33+O33+Q33+S33+U33+W33+Y33+E33+C33,0) -> 868853
A34: Pabalsts apģērba un mīkstā inventāra iegādei (UCAL 19.panta pirmā un piektā daļa) | B34: 50 | C34: 5354.29 | D34: 74 | E34: 11289.91 | F34: 60 | G34: 6322.28 | H34: 43 | I34: 2822.5 | J34: 56 | K34: 5912.74 | L34: 47 | M34: 5426.2 | N34: 49 | O34: 5129.62 | P34: 57 | Q34: 7320.27 | R34: 67 | S34: 7655.37 | T34: =(B34+D34+F34+H34+J34+L34+N34+P34+R34)/9 -> 55.888889 | U34: =(C34+E34+G34+I34+K34+M34+O34+Q34+S34)/9 -> 6359.2422 | V34: =T34 -> 55.888889 | W34: =U34 -> 6359.2422 | X34: =V34 -> 55.888889 | Y34: =W34 -> 6359.2422 | Z34: =ROUND(G34+I34+K34+M34+O34+Q34+S34+U34+W34+Y34+E34+C34,0) -> 76311
A35: *Izdevumu plāns periodā 2025. gada oktobris - 2025. gada decembris vidēji mēnesī atbilstoši faktiski sniegtajam pakalpojumu un atbalsta apjomam vidēji mēnesī periodā 2025. gada janvāris - 2025. gada septembris | Z35: =ROUND(SUM(Z32:Z34),0) -> 1306761
A38: X | B38: 2026 | D38: 2026 | F38: 2026 | H38: 2026 | J38: 2026 | L38: 2026 | N38: 2026 | P38: 2026 | R38: 2026 | T38: 2026 | V38: 2026 | X38: 2026 | Z38: 2026***
B39: janvāris | D39: februāris | F39: marts | H39: aprīlis | J39: maijs | L39: jūnijs | N39: jūlijs | P39: augusts | R39: septembris | T39: oktobris | V39: novembris | X39: decembris | Z39: KOPĀ
C40: (euro,centi) | E40: (euro,centi) | G40: (euro,centi) | I40: (euro,centi) | K40: (euro,centi) | M40: (euro,centi) | O40: (euro,centi) | Q40: (euro,centi) | S40: (euro,centi) | U40: (euro,centi) | W40: (euro,centi) | Y40: (euro,centi) | Z40: (euro,centi)
B41: Saņēmēju skaits | C41: Plānotie izdevumi pārskata periodā | D41: Saņēmēju skaits | E41: Plānotie izdevumi pārskata periodā | F41: Saņēmēju skaits | G41: Plānotie izdevumi pārskata periodā | H41: Saņēmēju skaits | I41: Plānotie izdevumi pārskata periodā | J41: Saņēmēju skaits | K41: Plānotie izdevumi pārskata periodā | L41: Saņēmēju skaits | M41: Plānotie izdevumi pārskata periodā | N41: Saņēmēju skaits | O41: Plānotie izdevumi pārskata periodā | P41: Saņēmēju skaits | Q41: Plānotie izdevumi pārskata periodā | R41: Saņēmēju skaits | S41: Plānotie izdevumi pārskata periodā | T41: Saņēmēju skaits | U41: Plānotie izdevumi pārskata periodā | V41: Saņēmēju skaits | W41: Plānotie izdevumi pārskata periodā | X41: Saņēmēju skaits | Y41: Plānotie izdevumi pārskata periodā | Z41: Plānotie zdevumi pārskata periodā
A42: A | B42: 1 | C42: 2 | D42: 3 | E42: 4 | F42: 5 | G42: 6 | H42: 7 | I42: 8 | J42: 9 | K42: 10 | L42: 11 | M42: 12 | N42: 13 | O42: 14 | P42: 15 | Q42: 16 | R42: 17 | S42: 18 | T42: 19 | U42: 20 | V42: 21 | W42: 22 | X42: 23 | Y42: 24 | Z42: 25
A43: Atlīdzība par ārkārtas aizbildņa pienākumu pildīšanu (UCAL 19.panta pirmā un otrā daļa)** | B43: =X32 -> 208.55556 | C43: =Y32 -> 30133.107 | D43: =B43 -> 208.55556 | E43: =C43 -> 30133.107 | F43: =D43 -> 208.55556 | G43: =E43 -> 30133.107 | H43: =F43 -> 208.55556 | I43: =G43 -> 30133.107 | J43: =H43 -> 208.55556 | K43: =I43 -> 30133.107 | ... Y43: =W43 -> 30133.107 | Z43: =ROUND(G43+I43+K43+M43+O43+Q43+S43+U43+W43+Y43+E43+C43,0) -> 361597
A44: Pabalsts nepavadīta bērna uzturam (UCAL 19.panta pirmā, trešā un septītā daļa)** | B44: =X33 -> 274.66667 | C44: =Y33 -> 72404.407 | D44: =B44 -> 274.66667 | E44: =C44 -> 72404.407 | F44: =D44 -> 274.66667 | G44: =E44 -> 72404.407 | H44: =F44 -> 274.66667 | I44: =G44 -> 72404.407 | J44: =H44 -> 274.66667 | K44: =I44 -> 72404.407 | ... Y44: =W44 -> 72404.407 | Z44: =ROUND(G44+I44+K44+M44+O44+Q44+S44+U44+W44+Y44+E44+C44,0) -> 868853
A45: Pabalsts apģērba un mīkstā inventāra iegādei (UCAL 19.panta pirmā un piektā daļa) | B45: =X34 -> 55.888889 | C45: =Y34 -> 6359.2422 | D45: =B45 -> 55.888889 | E45: =C45 -> 6359.2422 | F45: =D45 -> 55.888889 | G45: =E45 -> 6359.2422 | H45: =F45 -> 55.888889 | I45: =G45 -> 6359.2422 | J45: =H45 -> 55.888889 | K45: =I45 -> 6359.2422 | ... Y45: =W45 -> 6359.2422 | Z45: =ROUND(G45+I45+K45+M45+O45+Q45+S45+U45+W45+Y45+E45+C45,0) -> 76311
A46: **2026. gadā nav plānots UCAL 19. pantā mainīt noteikto apmēru: (2) Atlīdzība par ārkārtas aizbildņa pienākumu pildīšanu ir 171 euro mēnesī neatkarīgi no nepavadīto bērnu skaita. (3) Pabalsts nepavadīta bērna uzturam mēnesī ir: 1) 215 euro par nepavadītu bērnu līdz septiņu gadu vecumam; 2) 258 euro par nepavadītu bērnu vecumā no septiņiem līdz 18 gadiem. | Z46: =ROUND(SUM(Z43:Z45),0) -> 1306761
A47: **Atbilstoši Iekšlietu ministrijas sniegtajai informācijai (18.06.2025. vēstule Nr.1-23/1428/25), 2025. gada pirmajos piecos mēnešos Latvijā vidēji no jauna pagaidu aizsardzības saņemšanai reģistrējās 526 Ukrainas civiliedzīvotāji; kopā šajos mēnešos no jauna reģistrējies 2631 pagaidu aizsardzības saņēmējs. Līdzīga no jauna ieceļojošo Ukrainas civiliedzīvotāju plūsma bija vērojama arī 2024. gadā. 2024. gadā Latvijā no jauna reģistrējās 6080 Ukrainas civiliedzīvotāji, savukārt 1744 personām 2024. gadā pagaidu aizsardzības statuss tika anulēts. Ņemot vērā minētos datus un pie nosacījuma, ka situācija Ukrainā 2026. gadā saglabājas relatīvi nemainīga, var prognozēt, ka 2026. gadā Latvijā no jauna ieradīsies vismaz 6000 Ukrainas civiliedzīvotāju. Dzimuma un vecuma proporcijas 2026. gadā, visticamāk, saglabāsies līdzīgas. Vienlaikus balstoties uz IeM sniegto informāciju prognozējams, ka 2025. gadā no jauna Latvijā būs ieradušies 6 312 Ukrainas civiliedzīvotāju, IeM prognoze 2026. gadā - 6000. Ņemot vērā minēto, 2026. gada izdevumu plāns tiek balstīts uz iepriekšējo mēnešu izpildes tendencēm.

Sheet 9.tab.
A1: 2.pielikuma 9.tabula
A2: Pasākumu plāns atbalsta sniegšanai Ukrainas civiliedzīvotājiem Latvijas Republikā 2026.gadā
A3: =Ietekme_LM_2026_!B214 -> 4.12. Atbalsta sniegšana Ukrainas civiliedzīvotājiem, kuri sasnieguši likumā "Par valsts pensijām" noteikto vecuma pensijas piešķiršanai nepieciešamo vecumu, bet kuriem nav tiesību uz vecuma pensiju Latvijas Republikā
A4: VSAA/ 2023
A5: Gads | C5: 2023 | E5: 2023 | G5: 2023 | I5: 2023 | K5: 2023 | M5: 2023 | O5: 2023 | Q5: 2023 | S5: 2023 | U5: 2023 | W5: 2023 | Y5: 2023 | AA5: 2023
A6: Pārskata periods | C6: Janvāris | E6: Februāris | G6: Marts | I6: Aprīlis | K6: Maijs | M6: Jūnijs | O6: Jūlijs | Q6: Augusts | S6: Septembris | U6: Oktobris | W6: Novembris | Y6: Decembris | AA6: KOPĀ
A7: x | D7: (euro,centi) | F7: (euro,centi) | H7: (euro,centi) | J7: (euro,centi) | L7: (euro,centi) | N7: (euro,centi) | P7: (euro,centi) | R7: (euro,centi) | T7: (euro,centi) | V7: (euro,centi) | X7: (euro,centi) | Z7: (euro,centi) | AA7: (euro,centi)
A8: Rādītāja nosaukums | B8: mēr- vienība | C8: skaits | D8: Faktiskie izdevumi pārskata periodā | E8: skaits | F8: Faktiskie izdevumi pārskata periodā | G8: skaits | H8: Faktiskie izdevumi pārskata periodā | I8: skaits | J8: Faktiskie izdevumi pārskata periodā | K8: skaits | L8: Faktiskie izdevumi pārskata periodā | M8: skaits | N8: Faktiskie izdevumi pārskata periodā | O8: skaits | P8: Faktiskie izdevumi pārskata periodā | Q8: skaits | R8: Faktiskie izdevumi pārskata periodā | S8: skaits | T8: Faktiskie izdevumi pārskata periodā | U8: skaits | V8: Faktiskie izdevumi pārskata periodā | W8: skaits | X8: Faktiskie izdevumi pārskata periodā | Y8: skaits | Z8: Faktiskie izdevumi pārskata periodā | AA8: Faktiskie izdevumi pārskata periodā
A9: A | B9: B | C9: 1 | D9: 2 | E9: 3 | F9: 4 | G9: 5 | H9: 6 | I9: 7 | J9: 8 | K9: 9 | L9: 10 | M9: 11 | N9: 12 | O9: 13 | P9: 14 | Q9: 15 | R9: 16 | S9: 17 | T9: 18 | U9: 19 | V9: 20 | W9: 21 | X9: 22 | Y9: 23 | Z9: 24 | AA9: 25
A10: Valsts sociālā nodrošinājuma pabalsts vecuma gadījumā* | B10: personas | C10: 82 | D10: 9262.54 | E10: 93 | F10: 10738.63 | G10: 109 | H10: 19224.56 | I10: 120 | J10: 13827.31 | K10: 138 | L10: 19660.44 | M10: 148 | N10: 19081.65 | O10: 158 | P10: 20900.17 | Q10: 181 | R10: 23245.33 | S10: 201 | T10: 31047.48 | U10: 217 | V10: 28655.49 | W10: 230 | X10: 29452.41 | Y10: 241 | Z10: 27599.02 | AA10: =F10+H10+J10+L10+N10+P10+R10+T10+V10+X10+Z10+D10 -> 252695.03
A14: VSAA/ 2024
A15: Gads | C15: 2024 | E15: 2024 | G15: 2024 | I15: 2024 | K15: 2024 | M15: 2024 | O15: 2024 | Q15: 2024 | S15: 2024 | U15: 2024 | W15: 2024 | Y15: 2024 | AA15: 2024
A16: Pārskata periods | C16: Janvāris | E16: Februāris | G16: Marts | I16: Aprīlis | K16: Maijs | M16: Jūnijs | O16: Jūlijs | Q16: Augusts | S16: Septembris | U16: Oktobris | W16: Novembris | Y16: Decembris | AA16: KOPĀ
A17: x | D17: (euro,centi) | F17: (euro,centi) | H17: (euro,centi) | J17: (euro,centi) | L17: (euro,centi) | N17: (euro,centi) | P17: (euro,centi) | R17: (euro,centi) | T17: (euro,centi) | V17: (euro,centi) | X17: (euro,centi) | Z17: (euro,centi) | AA17: (euro,centi)
A18: Rādītāja nosaukums | B18: mēr- vienība | C18: skaits | D18: Faktiskie izdevumi pārskata periodā | E18: skaits | F18: Faktiskie izdevumi pārskata periodā | G18: skaits | H18: Faktiskie izdevumi pārskata periodā | I18: skaits | J18: Faktiskie izdevumi pārskata periodā | K18: skaits | L18: Faktiskie izdevumi pārskata periodā | M18: skaits | N18: Faktiskie izdevumi pārskata periodā | O18: skaits | P18: Faktiskie izdevumi pārskata periodā | Q18: skaits | R18: Faktiskie izdevumi pārskata periodā | S18: skaits | T18: Faktiskie izdevumi pārskata periodā | U18: skaits | V18: Faktiskie izdevumi pārskata periodā | W18: skaits | X18: Faktiskie izdevumi pārskata periodā | Y18: skaits | Z18: Faktiskie izdevumi pārskata periodā | AA18: Faktiskie izdevumi pārskata periodā
A19: A | B19: B | C19: 1 | D19: 2 | E19: 3 | F19: 4 | G19: 5 | H19: 6 | I19: 7 | J19: 8 | K19: 9 | L19: 10 | M19: 11 | N19: 12 | O19: 13 | P19: 14 | Q19: 15 | R19: 16 | S19: 17 | T19: 18 | U19: 19 | V19: 20 | W19: 21 | X19: 22 | Y19: 23 | Z19: 24 | AA19: 25
A20: Valsts sociālā nodrošinājuma pabalsts vecuma gadījumā* | B20: personas | C20: 255 | D20: 28537.69 | E20: 260 | F20: 27337.48 | G20: 293 | H20: 45884.52 | I20: 302 | J20: 35024.6 | K20: 300 | L20: 32483.91 | M20: 310 | N20: 37393.14 | O20: 320 | P20: 31120.16 | Q20: 328 | R20: 33300.78 | S20: 339 | T20: 36444.7 | U20: 347 | V20: 32848.61 | W20: 369 | X20: 40078.51 | Y20: 382 | Z20: 42782.88 | AA20: =F20+H20+J20+L20+N20+P20+R20+T20+V20+X20+Z20+D20 -> 423236.98
A23: VSAA/ 2025
A24: Gads | C24: 2025 | E24: 2025 | G24: 2025 | I24: 2025 | K24: 2025 | M24: 2025 | O24: 2025 | Q24: 2025 | S24: 2025 | U24: 2025 | W24: 2025 | Y24: 2025 | AA24: 2025
A25: Pārskata periods | C25: Janvāris | E25: Februāris | G25: Marts | I25: Aprīlis | K25: Maijs | M25: Jūnijs | O25: Jūlijs | Q25: Augusts | S25: Septembris | U25: Oktobris | W25: Novembris | Y25: Decembris | AA25: KOPĀ
A26: x | D26: (euro,centi) | F26: (euro,centi) | H26: (euro,centi) | J26: (euro,centi) | L26: (euro,centi) | N26: (euro,centi) | P26: (euro,centi) | R26: (euro,centi) | T26: (euro,centi) | V26: (euro,centi) | X26: (euro,centi) | Z26: (euro,centi) | AA26: (euro,centi)
A27: Rādītāja nosaukums | B27: mēr- vienība | C27: skaits | D27: Faktiskie izdevumi pārskata periodā | E27: skaits | F27: Faktiskie izdevumi pārskata periodā | G27: skaits | H27: Faktiskie izdevumi pārskata periodā | I27: skaits | J27: Faktiskie izdevumi pārskata periodā | K27: skaits | L27: Faktiskie izdevumi pārskata periodā | M27: skaits | N27: Faktiskie izdevumi pārskata periodā | O27: skaits | P27: Faktiskie izdevumi pārskata periodā | Q27: skaits | R27: Faktiskie izdevumi pārskata periodā | S27: skaits | T27: Faktiskie izdevumi pārskata periodā | U27: skaits | V27: Plānotie izdevumi pārskata periodā | W27: skaits | X27: Plānotie izdevumi pārskata periodā | Y27: skaits | Z27: Plānotie izdevumi pārskata periodā | AA27: Plānotie izdevumi pārskata periodā
A28: A | B28: B | C28: 1 | D28: 2 | E28: 3 | F28: 4 | G28: 5 | H28: 6 | I28: 7 | J28: 8 | K28: 9 | L28: 10 | M28: 11 | N28: 12 | O28: 13 | P28: 14 | Q28: 15 | R28: 16 | S28: 17 | T28: 18 | U28: 19 | V28: 20 | W28: 21 | X28: 22 | Y28: 23 | Z28: 24 | AA28: 25
A29: Valsts sociālā nodrošinājuma pabalsts vecuma gadījumā* | B29: personas | C29: 394 | D29: 43900.95 | E29: 420 | F29: 58217.89 | G29: 435 | H29: 66154.98 | I29: 448 | J29: 63930.79 | K29: 437 | L29: 58378.92 | M29: 444 | N29: 60487.21 | O29: 470 | P29: 68575.92 | Q29: 479 | R29: 60750.06 | S29: 504 | T29: 69717.21 | U29: =S29+14 -> 518 | V29: =U29*166 -> 85988 | W29: =U29+14 -> 532 | X29: =W29*166 -> 88312 | Y29: =W29+14 -> 546 | Z29: =Y29*166 -> 90636 | AA29: =F29+H29+J29+L29+N29+P29+R29+T29+V29+X29+Z29+D29 -> 815049.93
A30: *tiek pieņemts saņēmēju skaita pieaugums ik mēnesi par 14 personām (kas atbilst vidējam saņēmēju skaita pieaugumam mēnesī laika periodā no 2024.gada oktobra līdz 2025.gada septembrim), vidējais apmērs noteikts atbilstoši normatīvajos aktos noteiktajam vidējam apmēram - janvārī - 137 euro; ar 1.februāri - 166 euro.
A33: VSAA/ 2026
A34: Gads | C34: 2026 | E34: 2026 | G34: 2026 | I34: 2026 | K34: 2026 | M34: 2026 | O34: 2026 | Q34: 2026 | S34: 2026 | U34: 2026 | W34: 2026 | Y34: 2026 | AA34: 2026
A35: Pārskata periods | C35: Janvāris | E35: Februāris | G35: Marts | I35: Aprīlis | K35: Maijs | M35: Jūnijs | O35: Jūlijs | Q35: Augusts | S35: Septembris | U35: Oktobris | W35: Novembris | Y35: Decembris | AA35: KOPĀ
A36: x | D36: (euro,centi) | F36: (euro,centi) | H36: (euro,centi) | J36: (euro,centi) | L36: (euro,centi) | N36: (euro,centi) | P36: (euro,centi) | R36: (euro,centi) | T36: (euro,centi) | V36: (euro,centi) | X36: (euro,centi) | Z36: (euro,centi) | AA36: (euro,centi)
A37: Rādītāja nosaukums | B37: mēr- vienība | C37: skaits | D37: Plānotie izdevumi pārskata periodā | E37: skaits | F37: Plānotie izdevumi pārskata periodā | G37: skaits | H37: Plānotie izdevumi pārskata periodā | I37: skaits | J37: Plānotie izdevumi pārskata periodā | K37: skaits | L37: Plānotie izdevumi pārskata periodā | M37: skaits | N37: Plānotie izdevumi pārskata periodā | O37: skaits | P37: Plānotie izdevumi pārskata periodā | Q37: skaits | R37: Plānotie izdevumi pārskata periodā | S37: skaits | T37: Plānotie izdevumi pārskata periodā | U37: skaits | V37: Plānotie izdevumi pārskata periodā | W37: skaits | X37: Plānotie izdevumi pārskata periodā | Y37: skaits | Z37: Plānotie izdevumi pārskata periodā | AA37: Plānotie izdevumi pārskata periodā
A38: A | B38: B | C38: 1 | D38: 2 | E38: 3 | F38: 4 | G38: 5 | H38: 6 | I38: 7 | J38: 8 | K38: 9 | L38: 10 | M38: 11 | N38: 12 | O38: 13 | P38: 14 | Q38: 15 | R38: 16 | S38: 17 | T38: 18 | U38: 19 | V38: 20 | W38: 21 | X38: 22 | Y38: 23 | Z38: 24 | AA38: 25
A39: Valsts sociālā nodrošinājuma pabalsts vecuma gadījumā* | B39: personas | C39: =Y29+14 -> 560 | D39: =C39*166 -> 92960 | E39: =C39+14 -> 574 | F39: =E39*187 -> 107338 | G39: =E39+14 -> 588 | H39: =G39*187 -> 109956 | I39: =G39+14 -> 602 | J39: =I39*187 -> 112574 | K39: =I39+14 -> 616 | L39: =K39*187 -> 115192 | M39: =K39+14 -> 630 | N39: =M39*187 -> 117810 | O39: =M39+14 -> 644 | P39: =O39*187 -> 120428 | Q39: =O39+14 -> 658 | R39: =Q39*187 -> 123046 | S39: =Q39+14 -> 672 | T39: =S39*187 -> 125664 | U39: =S39+14 -> 686 | V39: =U39*187 -> 128282 | W39: =U39+14 -> 700 | X39: =W39*187 -> 130900 | Y39: =W39+14 -> 714 | Z39: =Y39*187 -> 133518 | AA39: =F39+H39+J39+L39+N39+P39+R39+T39+V39+X39+Z39+D39 -> 1417668
A40: *tiek pieņemts saņēmēju skaita pieaugums ik mēnesi par 14 personām (kas atbilst vidējam saņēmēju skaita pieaugumam mēnesī laika periodā no 2024.gada oktobra līdz 2025.gada septembrim), vidējais apmērs noteikts atbilstoši normatīvajos aktos noteiktajam vidējam apmēram - janvārī - 166 euro; ar 1.februāri - 187 euro.
