Workbook

Sheet Ietekme_LM_2026_
A1: 2.pielikums rīkojuma projekta
A2: pasākumu plāna atbalsta sniegšanai Ukrainas civiliedzīvotājiem Latvijas Republikā 2026.gadā sākotnējās ietekmes novērtējuma ziņojumam (anotācijai)
B3: Labklājības ministrija
B4: papildu nepieciešamo izdevumu aprēķins*
B5: EKK | C5: Apraksts | D5: Aprēķins | E5: 2026. gadā | F5: Pamatojums
C7: KOPĀ*: | E7: =SUM(E8:E13) -> 23264841 | F7: 2026. gada izdevumu prognoze balstīta uz faktiskajiem atbalsta pasākumu izdevumiem līdz 2025. gada 1. oktobrim.
B8: EKK 1000 | C8: Atlīdzība | E8: =E32+E46+E59+E70+E116+E127+E138+E150+E162+E173+E185+E196+E208+E220+E232+E20 -> 6336
B9: EKK 2000 | C9: Preces un pakalpojumi | E9: =E33+E47+E60+E71+E117+E128+E139+E151+E163+E174+E186+E197+E209+E221+E233+E21 -> 2112
B10: EKK 3000 | C10: Subsīdijas un dotācijas | E10: =E34+E48+E61+E72+E118+E129+E140+E152+E164+E175+E187+E198+E210+E222+E234+E22 -> 313279
B11: EKK 5000 | C11: Pamatkapitāla veidošana | E11: =E35+E49+E62+E73+E119+E130+E141+E153+E165+E176+E188+E199+E211+E223+E235+E23 -> 0
B12: EKK 6000 | C12: Sociāla rakstura maksājumi un kompensācijas | E12: =E36+E50+E63+E74+E120+E131+E142+E154+E166+E177+E189+E200+E212+E224+E236+E24 -> 8071679
B13: EKK 7000 | C13: Transferti, starptautiskā sadarbība | E13: =E37+E51+E64+E75+E121+E132+E143+E155+E167+E178+E190+E201+E213+E225+E237+E25 -> 14871435
B14: *ieskaitot pašvaldību nodrošinātus atbalsta pasākumus, kuru izdevumus pašvaldībām no budžeta resora "74. Gadskārtējā valsts budžeta izpildes procesā pārdalāmais finansējums" atsevišķās programmas 17. 00. 00 “Finansējums Ukrainas civiliedzīvotāju atbalsta likumā noteikto pasākumu īstenošanai” piešķirtiem finanšu līdzekļiem sedz VARAM.
A15: 3.3. | B15: 3.3. Virsstundu darba vai papildu darba apmaksa bāriņtiesu un pašvaldības sociālo dienestu darbiniekiem
A16: 3.3. | B16: Viedās administrācijas un reģionālās attīstības ministrija
A17: 3.3.
A18: 3.3. | B18: Pašvaldības
A19: 3.3. | D19: KOPĀ: | E19: =SUM(E20:E25) -> 79007 | F19: UCAL 13.panta pirmā prim daļa un pirmā divi prim daļa.
A20: 3.3. | B20: EKK 1000 | C20: Atlīdzība
A21: 3.3. | B21: EKK 2000 | C21: Preces un pakalpojumi
A22: 3.3. | B22: EKK 3000 | C22: Subsīdijas un dotācijas
A23: 3.3. | B23: EKK 5000 | C23: Pamatkapitāla veidošana
A24: 3.3. | B24: EKK 6000 | C24: Sociāla rakstura maksājumi un kompensācijas
A25: 3.3. | B25: EKK 7000 | C25: Transferti, starptautiskā sadarbība | D25: Detalizēti aprēķini 2. pielikuma 1.tabulā | E25: ='1.tab.'!Y27 -> 79007
A26: 3.3. | B26: Grozījumi Ukrainas civiliedzīvotāju atbalsta likumā (25-TA-2306) paredz no 2026. gada 1. janvār izslēgt izslēgt 1.1 un 1.2 daļu; Finansējums iekļauts 2026. gada izdevumu plānā, lai segtu pašvaldību izdevumus par izdevumiem, kas radušies 2025. gada decembrī.
A27: 4.1. | B27: 4.1. Atbalsta sniegšana Eiropas Sociālā fonda Plus programmas materiālās nenodrošinātības mazināšanai 2021.-2027.gadam ietvaros
A28: 4.1. | B28: Labklājības ministrija
A29: 4.1. | B29: Sabiedrības integrācijas fonds
A30: 4.1. | B30: 74.resora "Gadskārtējā valsts budžeta izpildes procesā pārdalāmais finansējums" 80.00.00 programmas "Nesadalītais finansējums Eiropas Savienības politiku instrumentu un pārējās ārvalstu finanšu palīdzības līdzfinansēto projektu un pasākumu īstenošanai"**
A31: 4.1. | D31: KOPĀ: | E31: =SUM(E32:E37) -> 0 | F31: UCAL 7.panta pirmās daļas 2.punkts
A32: 4.1. | B32: EKK 1000 | C32: Atlīdzība
A33: 4.1. | B33: EKK 2000 | C33: Preces un pakalpojumi*** | D33: Indikatīvi nepieciešamais finansējums 2026. gadā atbalsta nodrošināšanai UA civiliedzīvotājiem 1 381 689 euro. Prognozētais atbalsta apjoms 10 488 unikālajām personām:  57 % no unikālo personu kopskaita (IeM prognozētie 6 000 personu - no jaunā iebraukušie 2026. gadā) saņem programmas atbalstu trīs mēnešus kā krīzes situācijā nonākušās mājsaimniecības;  43 % no unikālo personu kopskaita (4 488 personas) 2026. gadā turpina saņemt programmas atbalstu vidēji trīs ceturkšņus gada laikā. Aprēķins – indikatīvs personu skaits x paku skaits x cena x 14 % vienotās likmes maksājums par izdali/ papildpasākumiem:  pārtikas pakas: (6 000 personu x 2 pakas + 4 488 personas x 6 pakas) x 25,37 euro x 1,14 = 1 125 868 euro.  higiēnas pakas: (6 000 personu x 1 paka + 4 488 personas x 3 pakas) x 6,05 euro x 1,14 = 134 243 euro.  bērnu pārtikas pakas: (95 bērni x 2 pakas + 71 bērns x 6 pakas) x 43,74 euro x 1,14 = 30 716 euro.  bērnu higiēnas pakas: (113 bērni x 1 paka + 84 bērni x 3 pakas) x 52,98 euro x 1,14 = 22 045 euro.  mācību piederumu pakas: 2 357 skolēni x 1 paka x 24,32 euro x 1,14 = 65 347 euro.  pārtikas pakas zupas virtuvēm: 30 pakas x 101,47 euro x 1,14 = 3 470 euro. | E33: 0
A34: 4.1. | B34: EKK 3000 | C34: Subsīdijas un dotācijas
A35: 4.1. | B35: EKK 5000 | C35: Pamatkapitāla veidošana
A36: 4.1. | B36: EKK 6000 | C36: Sociāla rakstura maksājumi un kompensācijas
A37: 4.1. | B37: EKK 7000 | C37: Transferti, starptautiskā sadarbība
A38: 4.1. | B38: ** Primāri finansē no 74.resora "Gadskārtējā valsts budžeta izpildes procesā pārdalāmais finansējums" 80.00.00 programmas "Nesadalītais finansējums Eiropas Savienības politiku instrumentu un pārējās ārvalstu finanšu palīdzības līdzfinansēto projektu un pasākumu īstenošanai". Nepieciešamības gadījumā tiks sagatavots pieprasījums par papildu līdzekļu piešķiršanu no 74. resorā atsevišķā programmā plānotā finansējuma.
A39: 4.1. | B39: ***Finansējums apmērs un sadalījums starp EKK2000 tiks pieprasīts atbilstoši faktiskajai nepieciešamībai.
A40: 4.2. | B40: 4.2. Sociālās rehabilitācijas pakalpojuma sniegšana Sociālās integrācijas valsts aģentūrā personām, kuras valsts apmaksātās medicīniskās transportēšanas ietvaros pārvestas no Ukrainas ārstniecības iestādes uz stacionāro ārstniecības iestādi Latvijā un saņem veselības aprūpes pakalpojumus atbilstoši medicīniskās transportēšanas mērķim (līdz 60 dienām)
A41: 4.2. | B41: Labklājības ministrija
...

Sheet 1.tab.
A1: 2.pielikuma 1.tabula
A2: Pasākumu plāns atbalsta sniegšanai Ukrainas civiliedzīvotājiem Latvijas Republikā 2026.gadā
A3: =[1]Ietekme_LM_2026_Sandra!B15 -> 3.3. Virsstundu darba vai papildu darba apmaksa bāriņtiesu un pašvaldības sociālo dienestu darbiniekiem
A4: X | B4: 2023 | D4: 2023 | F4: 2023 | H4: 2023 | J4: 2023 | L4: 2023 | N4: 2023 | P4: 2023 | R4: 2023 | T4: 2023 | V4: 2023 | X4: 2023 | Z4: 2023
B5: janvāris | D5: februāris | F5: marts | H5: aprīlis | J5: maijs | L5: jūnijs | N5: jūlijs | P5: augusts | R5: septembris | T5: oktobris | V5: novembris | X5: decembris
C6: (euro,centi) | E6: (euro,centi) | G6: (euro,centi) | I6: (euro,centi) | K6: (euro,centi) | M6: (euro,centi) | O6: (euro,centi) | Q6: (euro,centi) | S6: (euro,centi) | U6: (euro,centi) | W6: (euro,centi) | Y6: (euro,centi) | Z6: (euro,centi)
B7: Saņēmēju skaits | C7: Faktiskie izdevumi pārskata periodā | D7: Saņēmēju skaits | E7: Faktiskie izdevumi pārskata periodā | F7: Saņēmēju skaits | G7: Faktiskie izdevumi pārskata periodā | H7: Saņēmēju skaits | I7: Faktiskie izdevumi pārskata periodā | J7: Saņēmēju skaits | K7: Faktiskie izdevumi pārskata periodā | L7: Saņēmēju skaits | M7: Faktiskie izdevumi pārskata periodā | N7: Saņēmēju skaits | O7: Faktiskie izdevumi pārskata periodā | P7: Saņēmēju skaits | Q7: Faktiskie izdevumi pārskata periodā | R7: Saņēmēju skaits | S7: Faktiskie izdevumi pārskata periodā | T7: Saņēmēju skaits | U7: Faktiskie izdevumi pārskata periodā | V7: Saņēmēju skaits | W7: Faktiskie izdevumi pārskata periodā | X7: Saņēmēju skaits | Y7: Faktiskie izdevumi pārskata periodā | Z7: Faktiskie izdevumi pārskata periodā
A8: A | B8: 1 | C8: 2 | D8: 3 | E8: 4 | F8: 5 | G8: 6 | H8: 7 | I8: 8 | J8: 9 | K8: 10 | L8: 11 | M8: 12 | N8: 13 | O8: 14 | P8: 15 | Q8: 16 | R8: 17 | S8: 18 | T8: 19 | U8: 20 | V8: 21 | W8: 22 | X8: 23 | Y8: 24 | Z8: 25
A9: Piemaksa pie mēnešalgas un virsstundu darbs bāriņtiesu un sociālo dienestu darbiniekiem, kuri iesaistīti atbalsta sniegšanā Ukrainas civiliedzīvotājiem | B9: x | C9: =C10+C11 -> 82658.63 | D9: x | E9: =E10+E11 -> 175311.62 | F9: x | G9: =G10+G11 -> 190022.59 | H9: x | I9: =I10+I11 -> 169374.26 | J9: x | K9: =K10+K11 -> 169216.83 | L9: x | M9: =M10+M11 -> 157080.92 | N9: x | O9: =O10+O11 -> 136711.77 | P9: x | Q9: =Q10+Q11 -> 133006.24 | R9: x | S9: =S10+S11 -> 139827.32 | T9: x | U9: =U10+U11 -> 143451.11 | V9: x | W9: =W10+W11 -> 139874 | X9: x | Y9: =Y10+Y11 -> 170773.16 | Z9: =Z10+Z11 -> 1807308.5
A10: Piemaksa pie mēnešalgas | B10: 261 | C10: 82658.63 | D10: 487 | E10: 173672.37 | F10: 480 | G10: 188697.47 | H10: 454 | I10: 167022.74 | J10: 470 | K10: 166977.71 | L10: 439 | M10: 156043.49 | N10: 425 | O10: 135583.33 | P10: 409 | Q10: 131023.92 | R10: 419 | S10: 137360.7 | T10: 412 | U10: 141563.53 | V10: 409 | W10: 138271.04 | X10: 461 | Y10: 169135.05 | Z10: =G10+I10+K10+M10+O10+Q10+S10+U10+W10+Y10+C10+E10 -> 1788010
A11: Virsstundu darbs | B11: 0 | C11: 0 | D11: 4 | E11: 1639.25 | F11: 4 | G11: 1325.12 | H11: 4 | I11: 2351.52 | J11: 5 | K11: 2239.12 | L11: 2 | M11: 1037.43 | N11: 2 | O11: 1128.44 | P11: 6 | Q11: 1982.32 | R11: 7 | S11: 2466.62 | T11: 5 | U11: 1887.58 | V11: 4 | W11: 1602.96 | X11: 4 | Y11: 1638.11 | Z11: =G11+I11+K11+M11+O11+Q11+S11+U11+W11+Y11+C11+E11 -> 19298.47
A13: X | B13: 2024 | D13: 2024 | F13: 2024 | H13: 2024 | J13: 2024 | L13: 2024 | N13: 2024 | P13: 2024 | R13: 2024 | T13: 2024 | V13: 2024 | X13: 2024 | Z13: 2024
B14: janvāris | D14: februāris | F14: marts | H14: aprīlis | J14: maijs | L14: jūnijs | N14: jūlijs | P14: augusts | R14: septembris | T14: oktobris | V14: novembris | X14: decembris
C15: (euro,centi) | E15: (euro,centi) | G15: (euro,centi) | I15: (euro,centi) | K15: (euro,centi) | M15: (euro,centi) | O15: (euro,centi) | Q15: (euro,centi) | S15: (euro,centi) | U15: (euro,centi) | W15: (euro,centi) | Y15: (euro,centi) | Z15: (euro,centi)
B16: Saņēmēju skaits | C16: Faktiskie izdevumi pārskata periodā | D16: Saņēmēju skaits | E16: Faktiskie izdevumi pārskata periodā | F16: Saņēmēju skaits | G16: Faktiskie izdevumi pārskata periodā | H16: Saņēmēju skaits | I16: Faktiskie izdevumi pārskata periodā | J16: Saņēmēju skaits | K16: Faktiskie izdevumi pārskata periodā | L16: Saņēmēju skaits | M16: Faktiskie izdevumi pārskata periodā | N16: Saņēmēju skaits | O16: Faktiskie izdevumi pārskata periodā | P16: Saņēmēju skaits | Q16: Faktiskie izdevumi pārskata periodā | R16: Saņēmēju skaits | S16: Faktiskie izdevumi pārskata periodā | T16: Saņēmēju skaits | U16: Faktiskie izdevumi pārskata periodā | V16: Saņēmēju skaits | W16: Faktiskie izdevumi pārskata periodā | X16: Saņēmēju skaits | Y16: Faktiskie izdevumi pārskata periodā | Z16: Faktiskie izdevumi pārskata periodā
A17: A | B17: 1 | C17: 2 | D17: 3 | E17: 4 | F17: 5 | G17: 6 | H17: 7 | I17: 8 | J17: 9 | K17: 10 | L17: 11 | M17: 12 | N17: 13 | O17: 14 | P17: 15 | Q17: 16 | R17: 17 | S17: 18 | T17: 19 | U17: 20 | V17: 21 | W17: 22 | X17: 23 | Y17: 24 | Z17: 25
A18: Piemaksa pie mēnešalgas un virsstundu darbs bāriņtiesu un sociālo dienestu darbiniekiem, kuri iesaistīti atbalsta sniegšanā Ukrainas civiliedzīvotājiem | B18: x | C18: =C19+C20 -> 95185.01 | D18: x | E18: =E19+E20 -> 101991.45 | F18: x | G18: =G19+G20 -> 118264.76 | H18: x | I18: =I19+I20 -> 100611.41 | J18: x | K18: =K19+K20 -> 100890.9 | L18: x | M18: =M19+M20 -> 85239.97 | N18: x | O18: =O19+O20 -> 51453.96 | P18: x | Q18: =Q19+Q20 -> 114085.58 | R18: x | S18: =S19+S20 -> 78099.73 | T18: x | U18: =U19+U20 -> 84374.72 | V18: x | W18: =W19+W20 -> 82539.19 | X18: x | Y18: =Y19+Y20 -> 70119.55 | Z18: =Z19+Z20 -> 1082856
A19: Piemaksa pie mēnešalgas | B19: 272 | C19: 93662.48 | D19: 312 | E19: 99932.37 | F19: 327 | G19: 116526.23 | H19: 296 | I19: 98501.54 | J19: 311 | K19: 98725.87 | L19: 288 | M19: 83033.28 | N19: 234 | O19: 49689.99 | P19: 284 | Q19: 111996.25 | R19: 270 | S19: 75947.66 | T19: 282 | U19: 82385.06 | V19: 278 | W19: 79975.83 | X19: 244 | Y19: 67415.3 | Z19: =ROUND(G19+I19+K19+M19+O19+Q19+S19+U19+W19+Y19+C19+E19,0) -> 1057792
A20: Virsstundu darbs | B20: 4 | C20: 1522.53 | D20: 4 | E20: 2059.08 | F20: 4 | G20: 1738.53 | H20: 4 | I20: 2109.87 | J20: =ROUND((H20+F20+D20+B20+X11+V11)/6,0) -> 4 | K20: 2165.03 | L20: 3 | M20: 2206.69 | N20: 4 | O20: 1763.97 | P20: 3 | Q20: 2089.33 | R20: 4 | S20: 2152.07 | T20: =ROUND((R20+P20+N20+L20+J20+H20+F20+D20+B20)/9,0) -> 4 | U20: 1989.66 | V20: =T20 -> 4 | W20: 2563.36 | X20: =V20 -> 4 | Y20: 2704.25 | Z20: =ROUND(G20+I20+K20+M20+O20+Q20+S20+U20+W20+Y20+C20+E20,0) -> 25064
A22: X | B22: 2025 | D22: 2025 | F22: 2025 | H22: 2025 | J22: 2025 | L22: 2025 | N22: 2025 | P22: 2025 | R22: 2025 | T22: 2025 | V22: 2025 | X22: 2025** | Z22: 2025
B23: janvāris | D23: februāris | F23: marts | H23: aprīlis | J23: maijs | L23: jūnijs | N23: jūlijs | P23: augusts | R23: septembris | T23: oktobris* | V23: novembris* | X23: decembris*
C24: (euro,centi) | E24: (euro,centi) | G24: (euro,centi) | I24: (euro,centi) | K24: (euro,centi) | M24: (euro,centi) | O24: (euro,centi) | Q24: (euro,centi) | S24: (euro,centi) | U24: (euro,centi) | W24: (euro,centi) | Y24: (euro,centi) | Z24: (euro,centi)
B25: Saņēmēju skaits | C25: Faktiskie izdevumi pārskata periodā | D25: Saņēmēju skaits | E25: Faktiskie izdevumi pārskata periodā | F25: Saņēmēju skaits | G25: Faktiskie izdevumi pārskata periodā | H25: Saņēmēju skaits | I25: Faktiskie izdevumi pārskata periodā | J25: Saņēmēju skaits | K25: Faktiskie izdevumi pārskata periodā | L25: Saņēmēju skaits | M25: Faktiskie izdevumi pārskata periodā | N25: Saņēmēju skaits | O25: Faktiskie izdevumi pārskata periodā | P25: Saņēmēju skaits | Q25: Faktiskie izdevumi pārskata periodā | R25: Saņēmēju skaits | S25: Faktiskie izdevumi pārskata periodā | T25: Saņēmēju skaits | U25: Plānotie izdevumi pārskata periodā | V25: Saņēmēju skaits | W25: Plānotie izdevumi pārskata periodā | X25: Saņēmēju skaits | Y25: Plānotie izdevumi pārskata periodā | Z25: Plānotie izdevumi pārskata periodā
A26: A | B26: 1 | C26: 2 | D26: 3 | E26: 4 | F26: 5 | G26: 6 | H26: 7 | I26: 8 | J26: 9 | K26: 10 | L26: 11 | M26: 12 | N26: 13 | O26: 14 | P26: 15 | Q26: 16 | R26: 17 | S26: 18 | T26: 19 | U26: 20 | V26: 21 | W26: 22 | X26: 23 | Y26: 24 | Z26: 25
A27: Piemaksa pie mēnešalgas un virsstundu darbs bāriņtiesu un sociālo dienestu darbiniekiem, kuri iesaistīti atbalsta sniegšanā Ukrainas civiliedzīvotājiem | B27: x | C27: =C28+C29 -> 108837.11 | D27: x | E27: =E28+E29 -> 84509.88 | F27: x | G27: =G28+G29 -> 77502.27 | H27: x | I27: =I28+I29 -> 55500.06 | J27: x | K27: =K28+K29 -> 100814.75 | L27: x | M27: =M28+M29 -> 75142.84 | N27: x | O27: =O28+O29 -> 65771.24 | P27: x | Q27: =Q28+Q29 -> 69767.05 | R27: x | S27: =S28+S29 -> 73214.89 | T27: x | U27: =U28+U29 -> 79007 | V27: x | W27: =W28+W29 -> 79007 | X27: x | Y27: =Y28+Y29 -> 79007 | Z27: =Z28+Z29 -> 948081
A28: Piemaksa pie mēnešalgas | B28: 256 | C28: 106601.85 | D28: 285 | E28: 82090.52 | F28: 263 | G28: 75310.03 | H28: 216 | I28: 53050.99 | J28: 247 | K28: 98407.95 | L28: 253 | M28: 72949.64 | N28: 223 | O28: 63589.1 | P28: 246 | Q28: 67859.23 | R28: 242 | S28: 70980.63 | T28: =ROUND((R28+P28+N28+L28+J28+H28+F28+D28+B28)/9,0) -> 248 | U28: =ROUND((S28+Q28+O28+M28+K28+I28+G28+E28+C28)/9,0) -> 76760 | V28: =T28 -> 248 | W28: =U28 -> 76760 | X28: =V28 -> 248 | Y28: =W28 -> 76760 | Z28: =ROUND(G28+I28+K28+M28+O28+Q28+S28+U28+W28+Y28+C28+E28,0) -> 921120
A29: Virsstundu darbs | B29: 4 | C29: 2235.26 | D29: 4 | E29: 2419.36 | F29: 4 | G29: 2192.24 | H29: 4 | I29: 2449.07 | J29: 4 | K29: 2406.8 | L29: 3 | M29: 2193.2 | N29: 4 | O29: 2182.14 | P29: 4 | Q29: 1907.82 | R29: 4 | S29: 2234.26 | T29: =ROUND((R29+P29+N29+L29+J29+H29+F29+D29+B29)/9,0) -> 4 | U29: =ROUND((S29+Q29+O29+M29+K29+I29+G29+E29+C29)/9,0) -> 2247 | V29: =T29 -> 4 | W29: =U29 -> 2247 | X29: =V29 -> 4 | Y29: =W29 -> 2247 | Z29: =ROUND(G29+I29+K29+M29+O29+Q29+S29+U29+W29+Y29+C29+E29,0) -> 26961
A30: *Izdevumu plāns periodam 2025. gada oktobris - 2025. gada decembris balstīts uz faktiskajiem rādītājiem vidēji mēnesī 2025. gada iepriekšējos mēnešos.
A31: **Norēķins par 2025. gada decembri tiks veikts 2026. gada janvārī.

Sheet 2.tab.
A1: 2.pielikuma 2.tabula
A2: Pasākumu plāns atbalsta sniegšanai Ukrainas civiliedzīvotājiem Latvijas Republikā 2026.gadā
A3: =Ietekme_LM_2026_!B40 -> 4.2. Sociālās rehabilitācijas pakalpojuma sniegšana Sociālās integrācijas valsts aģentūrā personām, kuras valsts apmaksātās medicīniskās transportēšanas ietvaros pārvestas no Ukrainas ārstniecības iestādes uz stacionāro ārstniecības iestādi Latvijā un saņem veselības aprūpes pakalpojumus atbilstoši medicīniskās transportēšanas mērķim (līdz 60 dienām)
A4: Gads | C4: 2023 | E4: 2023 | G4: 2023 | I4: 2023 | K4: 2023 | M4: 2023 | O4: 2023 | Q4: 2023 | S4: 2023 | U4: 2023 | W4: 2023 | Y4: 2023 | AA4: 2023 | AB4: EKK
A5: Pārskata periods | C5: Janvāris | E5: Februāris | G5: Marts | I5: Aprīlis | K5: Maijs | M5: Jūnijs | O5: Jūlijs | Q5: Augusts | S5: Septembris | U5: Oktobris | W5: Novembris | Y5: Decembris | AA5: KOPĀ
A6: x | D6: (euro,centi) | F6: (euro,centi) | H6: (euro,centi) | J6: (euro,centi) | L6: (euro,centi) | N6: (euro,centi) | P6: (euro,centi) | R6: (euro,centi) | T6: (euro,centi) | V6: (euro,centi) | X6: (euro,centi) | Z6: (euro,centi) | AA6: (euro,centi)
A7: Rādītāja nosaukums | B7: mēr- vienība | C7: skaits | D7: Faktiskie izdevumi pārskata periodā | E7: skaits | F7: Faktiskie izdevumi pārskata periodā | G7: skaits | H7: Faktiskie izdevumi pārskata periodā | I7: skaits | J7: Faktiskie izdevumi pārskata periodā | K7: skaits | L7: Faktiskie izdevumi pārskata periodā | M7: skaits | N7: Faktiskie izdevumi pārskata periodā | O7: skaits | P7: Faktiskie izdevumi pārskata periodā | Q7: skaits | R7: Faktiskie izdevumi pārskata periodā | S7: skaits | T7: Faktiskie izdevumi pārskata periodā | U7: skaits | V7: Faktiskie izdevumi pārskata periodā | W7: skaits | X7: Faktiskie izdevumi pārskata periodā | Y7: skaits | Z7: Faktiskie izdevumi pārskata periodā | AA7: Faktiskie izdevumi pārskata periodā
A8: A | B8: B | C8: 1 | D8: 2 | E8: 3 | F8: 4 | G8: 5 | H8: 6 | I8: 7 | J8: 8 | K8: 9 | L8: 10 | M8: 11 | N8: 12 | O8: 13 | P8: 14 | Q8: 15 | R8: 16 | S8: 17 | T8: 18 | U8: 19 | V8: 20 | W8: 21 | X8: 22 | Y8: 23 | Z8: 24 | AA8: 25 | AB8: 26
A9: līdz 30 dienām ilgs sociālās rehabilitācijas pakalpojums SIVA, ja personai atbilstoši pašvaldības sociālā dienesta novērtējumam psihoemocionālā stāvokļa dēļ ir nepieciešams diennakts pakalpojums (pabeigtie kursi) | B9: kursi | C9: 0 | E9: 3 | F9: 5652 | G9: 3 | H9: 5652 | I9: 7 | J9: 13188 | K9: 5 | L9: 9420 | M9: 0 | O9: 1 | P9: 1884 | AA9: =Z9+X9+V9+T9+R9+P9+N9+L9+J9+H9+F9+D9 -> 35796 | AB9: 1000
AB10: 2000
A11: līdz 30 dienām ilgs sociālās rehabilitācijas pakalpojums SIVA, ja personai atbilstoši pašvaldības sociālā dienesta novērtējumam psihoemocionālā stāvokļa dēļ ir nepieciešams diennakts pakalpojums (pakalpojumu neturpinās) | B11: dienas | C11: 0 | G11: 4 (25;29;29;28) | H11: 6970.8 | I11: 1 (29) | J11: 1821.2 | K11: 1 (27) | L11: 1695.6 | M11: 0 | O11: 0 | AA11: =Z11+X11+V11+T11+R11+P11+N11+L11+J11+H11+F11+D11 -> 10487.6 | AB11: 1000
AB12: 2000
A13: līdz 60 dienām ilgs sociālās rehabilitācijas pakalpojums SIVA, ja personai atbilstoši pašvaldības sociālā dienesta novērtējumam psihoemocionālā stāvokļa dēļ ir nepieciešams diennakts pakalpojums (pabeigtie kursi) | B13: kursi | K13: 0 | L13: 0 | M13: 0 | N13: 0 | O13: 1 | P13: 4210.2 | Q13: 3 | R13: 12630.6 | S13: 0 | U13: 6 | V13: 23666.61 | W13: 1 | X13: 4210.2 | Y13: 0 | AA13: =Z13+X13+V13+T13+R13+P13+N13+L13+J13+H13+F13+D13 -> 44717.61 | AB13: 1000
AB14: 2000
A15: līdz 60 dienām ilgs sociālās rehabilitācijas pakalpojums SIVA, ja personai atbilstoši pašvaldības sociālā dienesta novērtējumam psihoemocionālā stāvokļa dēļ ir nepieciešams diennakts pakalpojums (pakalpojumu neturpinās) | B15: dienas | K15: 4 (5; 8; 5; 8) | L15: 1824.42 | M15: 1 (33) | N15: 2315.61 | O15: 2 (58; 25) | P15: 5824.11 | Q15: 0 | S15: 3 (58, 58, 29+24) | T15: 11858.73 | U15: 0 | W15: 0 | Y15: 0 | AA15: =Z15+X15+V15+T15+R15+P15+N15+L15+J15+H15+F15+D15 -> 21822.87 | AB15: 1000
AB16: 2000
A18: KOPĀ | C18: x | D18: =SUM(D9:D16) -> 0 | E18: x | F18: =SUM(F9:F16) -> 5652 | G18: x | H18: =SUM(H9:H16) -> 12622.8 | I18: x | J18: =SUM(J9:J16) -> 15009.2 | K18: x | L18: =SUM(L9:L16) -> 12940.02 | M18: x | N18: =SUM(N9:N16) -> 2315.61 | O18: x | P18: =SUM(P9:P16) -> 11918.31 | Q18: x | R18: =SUM(R9:R16) -> 12630.6 | S18: x | T18: =SUM(T9:T16) -> 11858.73 | U18: x | V18: =SUM(V9:V16) -> 23666.61 | W18: x | X18: =SUM(X9:X16) -> 4210.2 | Y18: x | Z18: =SUM(Z9:Z16) -> 0 | AA18: =SUM(AA9:AA16) -> 112824.08 | AB18: x
A21: Gads | C21: 2024 | E21: 2024 | G21: 2024 | I21: 2024 | K21: 2024 | M21: 2024 | O21: 2024 | Q21: 2024 | S21: 2024 | U21: 2024 | W21: 2024 | Y21: 2024 | AA21: 2024 | AB21: EKK
A22: Pārskata periods | C22: Janvāris | E22: Februāris | G22: Marts | I22: Aprīlis | K22: Maijs | M22: Jūnijs | O22: Jūlijs | Q22: Augusts | S22: Septembris | U22: Oktobris | W22: Novembris | Y22: Decembris | AA22: KOPĀ
A23: x | D23: (euro,centi) | F23: (euro,centi) | H23: (euro,centi) | J23: (euro,centi) | L23: (euro,centi) | N23: (euro,centi) | P23: (euro,centi) | R23: (euro,centi) | T23: (euro,centi) | V23: (euro,centi) | X23: (euro,centi) | Z23: (euro,centi) | AA23: (euro,centi)
A24: Rādītāja nosaukums | B24: mēr- vienība | C24: skaits | D24: Faktiskie izdevumi pārskata periodā | E24: skaits | F24: Faktiskie izdevumi pārskata periodā | G24: skaits | H24: Faktiskie izdevumi pārskata periodā | I24: skaits | J24: Faktiskie izdevumi pārskata periodā | K24: skaits | L24: Faktiskie izdevumi pārskata periodā | M24: skaits | N24: Faktiskie izdevumi pārskata periodā | O24: skaits | P24: Faktiskie izdevumi pārskata periodā | Q24: skaits | R24: Faktiskie izdevumi pārskata periodā | S24: skaits | T24: Faktiskie izdevumi pārskata periodā | U24: skaits | V24: Faktiskie izdevumi pārskata periodā | W24: skaits | X24: Faktiskie izdevumi pārskata periodā | Y24: skaits | Z24: Faktiskie izdevumi pārskata periodā | AA24: Faktiskie izdevumi pārskata periodā
A25: A | B25: B | C25: 1 | D25: 2 | E25: 3 | F25: 4 | G25: 5 | H25: 6 | I25: 7 | J25: 8 | K25: 9 | L25: 10 | M25: 11 | N25: 12 | O25: 13 | P25: 14 | Q25: 15 | R25: 16 | S25: 17 | T25: 18 | U25: 19 | V25: 20 | W25: 21 | X25: 22 | Y25: 23 | Z25: 24 | AA25: 25 | AB25: 26
A26: līdz 30 dienām ilgs sociālās rehabilitācijas pakalpojums SIVA,ja personai atbilstoši pašvaldības sociālā dienesta vai sociālo pakalpojumu sniedzēju reģistrā, ārstniecības iestāžu reģistrā vai izglītības iestāžu reģistrā reģistrēta pakalpojumu sniedzēja novērtējumam psihoemocionālā stāvokļa dēļ ir nepieciešams diennakts pakalpojums (pabeigtie kursi) | B26: kursi | E26: 1 (30) | F26: 1884 | S26: 1(13) | T26: 816.4 | U26: 0 (17) | V26: 1067.6 | W26: 0 | X26: 0 | Y26: 0 | Z26: 0 | AA26: =Z26+X26+V26+T26+R26+P26+N26+L26+J26+H26+F26+D26 -> 3768 | AB26: 1000
AB27: 2000
A28: līdz 30 dienām ilgs sociālās rehabilitācijas pakalpojums SIVA, ja personai atbilstoši pašvaldības sociālā dienesta vai sociālo pakalpojumu sniedzēju reģistrā, ārstniecības iestāžu reģistrā vai izglītības iestāžu reģistrā reģistrēta pakalpojumu sniedzēja novērtējumam psihoemocionālā stāvokļa dēļ ir nepieciešams diennakts pakalpojums (pakalpojumu neturpinās) | B28: dienas | AA28: =Z28+X28+V28+T28+R28+P28+N28+L28+J28+H28+F28+D28 -> 0 | AB28: 1000
AB29: 2000
A30: līdz 30 dienām ilgs sociālās rehabilitācijas pakalpojums SIVA, ja persona, kura valsts apmaksātās medicīniskās transportēšanas ietvaros pārvesta no Ukrainas ārstniecības iestādes uz stacionāro ārstniecības iestādi Latvijā un saņem veselības aprūpes pakalpojumus atbilstoši medicīniskās transportēšanas mērķim (pabeigtie kursi) | B30: dienas | S30: 2 (60) | T30: 4224 | U30: 2(58) | V30: 4083.2 | AA30: =Z30+X30+V30+T30+R30+P30+N30+L30+J30+H30+F30+D30 -> 8307.2 | AB30: 1000
AB31: 2000
A32: līdz 60 dienām ilgs sociālās rehabilitācijas pakalpojums SIVA, ja persona, kura valsts apmaksātās medicīniskās transportēšanas ietvaros pārvesta no Ukrainas ārstniecības iestādes uz stacionāro ārstniecības iestādi Latvijā un saņem veselības aprūpes pakalpojumus atbilstoši medicīniskās transportēšanas mērķim (pabeigtie kursi) | B32: kursi | C32: 2 (60+60) | D32: 8420.4 | E32: 1 (60) | F32: 4210.2 | K32: 2 (8+8) | L32: 1122.72 | M32: 2 (21+21) | N32: 2947.14 | W32: 0 | X32: 0 | Y32: 0 | Z32: 0 | AA32: =Z32+X32+V32+T32+R32+P32+N32+L32+J32+H32+F32+D32 -> 16700.46 | AB32: 1000
AB33: 2000
A34: līdz 60 dienām ilgs sociālās rehabilitācijas pakalpojums SIVA, ja persona, kura valsts apmaksātās medicīniskās transportēšanas ietvaros pārvesta no Ukrainas ārstniecības iestādes uz stacionāro ārstniecības iestādi Latvijā un saņem veselības aprūpes pakalpojumus atbilstoši medicīniskās transportēšanas mērķim (pakalpojumu neturpinās) | B34: dienas | C34: Pārejas pakalpojuma dienas no 2023. gada, personas kā unikālās (kursi) 2024.gadā netiek skaitītas, tikai pakalpojuma dienas. (5+26+24+26) | D34: 5683.77 | E34: Pārejas pakalpojuma dienas no 2023. gada, personas kā unikālās (kursi) 2024.gadā netiek skaitītas, tikai pakalpojuma dienas. (50) | F34: 3508.5 | G34: 1(26) | H34: 1824.42 | I34: 2 (30+30) | J34: 4210.2 | AA34: 15226.89 | AB34: 1000
AB35: 2000
A37: KOPĀ | C37: x | D37: =SUM(D26:D35) -> 14104.17 | E37: x | F37: =SUM(F26:F35) -> 9602.7 | G37: x | H37: =SUM(H26:H35) -> 1824.42 | I37: x | J37: =SUM(J26:J35) -> 4210.2 | K37: x | L37: =SUM(L26:L35) -> 1122.72 | M37: x | N37: =SUM(N26:N35) -> 2947.14 | O37: x | P37: =SUM(P26:P35) -> 0 | Q37: x | R37: =SUM(R26:R35) -> 0 | S37: x | T37: =SUM(T26:T35) -> 5040.4 | U37: x | V37: =SUM(V26:V35) -> 5150.8 | W37: x | X37: =SUM(X26:X35) -> 0 | Y37: x | Z37: =SUM(Z26:Z35) -> 0 | AA37: =SUM(AA26:AA35) -> 44002.55 | AB37: x
A40: Gads | C40: 2025 | E40: 2025 | G40: 2025 | I40: 2025 | K40: 2025 | M40: 2025 | O40: 2025 | Q40: 2025 | S40: 2025 | U40: 2025 | W40: 2025 | Y40: 2025 | AA40: 2025* | AB40: 2026** | AC40: EKK
A41: Pārskata periods | C41: Janvāris | E41: Februāris | G41: Marts | I41: Aprīlis | K41: Maijs | M41: Jūnijs | O41: Jūlijs | Q41: Augusts | S41: Septembris | U41: Oktobris | W41: Novembris | Y41: Decembris | AA41: KOPĀ | AB41: KOPĀ
A42: x | D42: (euro,centi) | F42: (euro,centi) | H42: (euro,centi) | J42: (euro,centi) | L42: (euro,centi) | N42: (euro,centi) | P42: (euro,centi) | R42: (euro,centi) | T42: (euro,centi) | V42: (euro,centi) | X42: (euro,centi) | Z42: (euro,centi) | AA42: (euro,centi) | AB42: (euro,centi)
A43: Rādītāja nosaukums | B43: mēr- vienība | C43: skaits | D43: Faktiskie izdevumi pārskata periodā | E43: skaits | F43: Faktiskie izdevumi pārskata periodā | G43: skaits | H43: Faktiskie izdevumi pārskata periodā | I43: skaits | J43: Faktiskie izdevumi pārskata periodā | K43: skaits | L43: Faktiskie izdevumi pārskata periodā | M43: skaits | N43: Plānotie izdevumi pārskata periodā | O43: skaits | P43: Plānotie izdevumi pārskata periodā | Q43: skaits | R43: Plānotie izdevumi pārskata periodā | S43: skaits | T43: Plānotie izdevumi pārskata periodā | U43: skaits | V43: Plānotie izdevumi pārskata periodā | W43: skaits | X43: Plānotie izdevumi pārskata periodā | Y43: skaits | Z43: Plānotie izdevumi pārskata periodā | AA43: Plānotie izdevumi pārskata periodā | AB43: Plānotie izdevumi pārskata periodā
A44: A | B44: B | C44: 1 | D44: 2 | E44: 3 | F44: 4 | G44: 5 | H44: 6 | I44: 7 | J44: 8 | K44: 9 | L44: 10 | M44: 11 | N44: 12 | O44: 13 | P44: 14 | Q44: 15 | R44: 16 | S44: 17 | T44: 18 | U44: 19 | V44: 20 | W44: 21 | X44: 22 | Y44: 23 | Z44: 24 | AA44: 25 | AB44: 25 | AC44: 27
A45: līdz 30 dienām ilgs sociālās rehabilitācijas pakalpojums SIVA,ja personai atbilstoši pašvaldības sociālā dienesta vai sociālo pakalpojumu sniedzēju reģistrā, ārstniecības iestāžu reģistrā vai izglītības iestāžu reģistrā reģistrēta pakalpojumu sniedzēja novērtējumam psihoemocionālā stāvokļa dēļ ir nepieciešams diennakts pakalpojums (pabeigtie kursi) | B45: kursi | AA45: =Z45+X45+V45+T45+R45+P45+N45+L45+J45+H45+F45+D45 -> 0 | AB45: =AA45 -> 0 | AC45: 1000
AC46: 2000
...

Sheet 3.tab.
A1: 2.pielikuma 3.tabula
A2: Pasākumu plāns atbalsta sniegšanai Ukrainas civiliedzīvotājiem Latvijas Republikā 2026.gadā
A3: =Ietekme_LM_2026_!B53 -> 4.3. Valsts finansēto tehnisko palīglīdzekļu nodrošināšana
A4: Gads | C4: 2023 | E4: 2023 | G4: 2023 | I4: 2023 | K4: 2023 | M4: 2023 | O4: 2023 | Q4: 2023 | S4: 2023 | U4: 2023 | W4: 2023 | Y4: 2023 | AA4: 2023
A5: Pārskata periods | C5: Janvāris | E5: Februāris | G5: Marts | I5: Aprīlis | K5: Maijs | M5: Jūnijs | O5: Jūlijs | Q5: Augusts | S5: Septembris | U5: Oktobris | W5: Novembris | Y5: Decembris | AA5: KOPĀ
A6: x | D6: (euro,centi) | F6: (euro,centi) | H6: (euro,centi) | J6: (euro,centi) | L6: (euro,centi) | N6: (euro,centi) | P6: (euro,centi) | R6: (euro,centi) | T6: (euro,centi) | V6: (euro,centi) | X6: (euro,centi) | Z6: (euro,centi) | AA6: (euro,centi)
A7: Rādītāja nosaukums | B7: mēr- vienība | C7: skaits | D7: Faktiskie izdevumi pārskata periodā | E7: skaits | F7: Faktiskie izdevumi pārskata periodā | G7: skaits | H7: Faktiskie izdevumi pārskata periodā | I7: skaits | J7: Faktiskie izdevumi pārskata periodā | K7: skaits | L7: Faktiskie izdevumi pārskata periodā | M7: skaits | N7: Faktiskie izdevumi pārskata periodā | O7: skaits | P7: Faktiskie izdevumi pārskata periodā | Q7: skaits | R7: Faktiskie izdevumi pārskata periodā | S7: skaits | T7: Faktiskie izdevumi pārskata periodā | U7: skaits | V7: Faktiskie izdevumi pārskata periodā | W7: skaits | X7: Faktiskie izdevumi pārskata periodā | Y7: skaits | Z7: Faktiskie izdevumi pārskata periodā | AA7: Faktiskie izdevumi pārskata periodā
A8: A | B8: B | C8: 1 | D8: 2 | E8: 1 | F8: 2 | G8: 3 | H8: 4 | I8: 5 | J8: 6 | K8: 7 | L8: 8 | M8: 9 | N8: 10 | O8: 11 | P8: 12 | Q8: 13 | R8: 14 | S8: 15 | T8: 16 | U8: 17 | V8: 18 | W8: 19 | X8: 20 | Y8: 21 | Z8: 22 | AA8: 23
A9: Tiflotehnikas nodrošināšana | B9: Izsniegto tehnisko palīglīdzekļu skaits | C9: 1 | D9: 1680 | E9: 1 | F9: 473.76 | O9: 3 | P9: 736.16 | Q9: 3 | R9: 576.26 | W9: 2 | X9: 557.76 | AA9: =Z9+X9+V9+T9+R9+P9+N9+L9+J9+H9+F9+D9 -> 4023.94
A10: Surdotehnikas nodrošināšana | B10: Izsniegto tehnisko palīglīdzekļu skaits | C10: 6 | D10: 1408.84 | G10: 17 | H10: 4398.84 | I10: 19 | J10: 4534.41 | K10: 10 | L10: 3177.94 | M10: 25 | N10: 5673.14 | S10: 4 | T10: 1376.56 | U10: 20 | V10: 5076.1 | W10: 15 | X10: 3629.84 | Y10: 8 | Z10: 1851.54 | AA10: =Z10+X10+V10+T10+R10+P10+N10+L10+J10+H10+F10+D10 -> 31127.21
A11: Pārējo tehnisko palīglīdzekļu nodrošināšana | B11: Izsniegto tehnisko palīglīdzekļu skaits | C11: 24 | D11: 15396.48 | E11: 23 | F11: 45679.28 | G11: 28 | H11: 58762.44 | I11: 9 | J11: 6780.5 | K11: 28 | L11: 21943.12 | M11: 20 | N11: 31703.8 | O11: 29 | P11: 22829.01 | Q11: 9 | R11: 11095.2 | S11: 33 | T11: 35174.43 | U11: 29 | V11: 29453.83 | W11: 23 | X11: 26446.23 | Y11: 26 | Z11: 29645.94 | AA11: =Z11+X11+V11+T11+R11+P11+N11+L11+J11+H11+F11+D11 -> 334910.26
A12: KOPĀ | C12: =SUM(C9:C11) -> 31 | D12: =SUM(D9:D11) -> 18485.32 | E12: =SUM(E9:E11) -> 24 | F12: =SUM(F9:F11) -> 46153.04 | G12: =SUM(G9:G11) -> 45 | H12: =SUM(H9:H11) -> 63161.28 | I12: =SUM(I9:I11) -> 28 | J12: =SUM(J9:J11) -> 11314.91 | ... AA12: =SUM(AA9:AA11) -> 370061.41
A14: Gads | C14: 2024 | E14: 2024 | G14: 2024 | I14: 2024 | K14: 2024 | M14: 2024 | O14: 2024 | Q14: 2024 | S14: 2024 | U14: 2024 | W14: 2024 | Y14: 2024 | AA14: 2024
A15: Pārskata periods | C15: Janvāris | E15: Februāris | G15: Marts | I15: Aprīlis | K15: Maijs | M15: Jūnijs | O15: Jūlijs | Q15: Augusts | S15: Septembris | U15: Oktobris | W15: Novembris | Y15: Decembris | AA15: KOPĀ
A16: x | D16: (euro,centi) | F16: (euro,centi) | H16: (euro,centi) | J16: (euro,centi) | L16: (euro,centi) | N16: (euro,centi) | P16: (euro,centi) | R16: (euro,centi) | T16: (euro,centi) | V16: (euro,centi) | X16: (euro,centi) | Z16: (euro,centi) | AA16: (euro,centi)
A17: Rādītāja nosaukums | B17: mēr- vienība | C17: skaits | D17: Faktiskie izdevumi pārskata periodā | E17: skaits | F17: Faktiskie izdevumi pārskata periodā | G17: skaits | H17: Faktiskie izdevumi pārskata periodā | I17: skaits | J17: Faktiskie izdevumi pārskata periodā | K17: skaits | L17: Faktiskie izdevumi pārskata periodā | M17: skaits | N17: Faktiskie izdevumi pārskata periodā | O17: skaits | P17: Faktiskie izdevumi pārskata periodā | Q17: skaits | R17: Faktiskie izdevumi pārskata periodā | S17: skaits | T17: Faktiskie izdevumi pārskata periodā | U17: skaits | V17: Faktiskie izdevumi pārskata periodā | W17: skaits | X17: Faktiskie izdevumi pārskata periodā | Y17: skaits | Z17: Faktiskie izdevumi pārskata periodā | AA17: Faktiskie izdevumi pārskata periodā
A18: A | B18: B | C18: 1 | D18: 2 | E18: 1 | F18: 2 | G18: 3 | H18: 4 | I18: 5 | J18: 6 | K18: 7 | L18: 8 | M18: 9 | N18: 10 | O18: 11 | P18: 12 | Q18: 13 | R18: 14 | S18: 15 | T18: 16 | U18: 17 | V18: 18 | W18: 19 | X18: 20 | Y18: 21 | Z18: 22 | AA18: 23
A19: Tiflotehnikas nodrošināšana | B19: Izsniegto tehnisko palīglīdzekļu skaits | I19: 2 | J19: 101.64 | M19: 10 | N19: 2886.33 | O19: 1 | P19: 473.76 | AA19: =Z19+X19+V19+T19+R19+P19+N19+L19+J19+H19+F19+D19 -> 3461.73
A20: Surdotehnikas nodrošināšana | B20: Izsniegto tehnisko palīglīdzekļu skaits | E20: 9 | F20: 2222.29 | G20: 2 | H20: 941.6 | I20: 8 | J20: 2419.42 | K20: 1 | L20: 861.24 | M20: 4 | N20: 890.34 | O20: 6 | P20: 1281.23 | S20: 19 | T20: 4491.96 | U20: 14 | V20: 3355.41 | W20: 8 | X20: 1773.44 | Y20: 9 | Z20: 1969.92 | AA20: =Z20+X20+V20+T20+R20+P20+N20+L20+J20+H20+F20+D20 -> 20206.85
A21: Pārējo tehnisko palīglīdzekļu nodrošināšana | B21: Izsniegto tehnisko palīglīdzekļu skaits | C21: 26 | D21: 15321.9 | E21: 27 | F21: 16434.1 | G21: 28 | H21: 15834.29 | I21: 36 | J21: 46274.68 | K21: 26 | L21: 25380.57 | M21: 25 | N21: 20170.63 | O21: 38 | P21: 26488.39 | Q21: 19 | R21: 31609.42 | S21: 20 | T21: 9065.5 | U21: 17 | V21: 6833.1 | W21: 36 | X21: 21819.96 | Y21: 34 | Z21: 23081.51 | AA21: =Z21+X21+V21+T21+R21+P21+N21+L21+J21+H21+F21+D21 -> 258314.05
A22: KOPĀ | C22: =SUM(C19:C21) -> 26 | D22: =SUM(D19:D21) -> 15321.9 | E22: =SUM(E19:E21) -> 36 | F22: =SUM(F19:F21) -> 18656.39 | G22: =SUM(G19:G21) -> 30 | H22: =SUM(H19:H21) -> 16775.89 | I22: =SUM(I19:I21) -> 46 | J22: =SUM(J19:J21) -> 48795.74 | ... AA22: =SUM(AA19:AA21) -> 281982.63
A24: Gads | C24: 2025 | E24: 2025 | G24: 2025 | I24: 2025 | K24: 2025 | M24: 2025 | O24: 2025 | Q24: 2025 | S24: 2025 | U24: 2025 | W24: 2025 | Y24: 2025 | AA24: 2025
A25: Pārskata periods | C25: Janvāris | E25: Februāris | G25: Marts | I25: Aprīlis | K25: Maijs | M25: Jūnijs | O25: Jūlijs | Q25: Augusts | S25: Septembris | U25: Oktobris | W25: Novembris | Y25: Decembris | AA25: KOPĀ
A26: x | D26: (euro,centi) | F26: (euro,centi) | H26: (euro,centi) | J26: (euro,centi) | L26: (euro,centi) | N26: (euro,centi) | P26: (euro,centi) | R26: (euro,centi) | T26: (euro,centi) | V26: (euro,centi) | X26: (euro,centi) | Z26: (euro,centi) | AA26: (euro,centi)
A27: Rādītāja nosaukums | B27: mēr- vienība | C27: skaits | D27: Faktiskie izdevumi pārskata periodā | E27: skaits | F27: Faktiskie izdevumi pārskata periodā | G27: skaits | H27: Faktiskie izdevumi pārskata periodā | I27: skaits | J27: Faktiskie izdevumi pārskata periodā | K27: skaits | L27: Faktiskie izdevumi pārskata periodā | M27: skaits | N27: Faktiskie izdevumi pārskata periodā | O27: skaits | P27: Faktiskie izdevumi pārskata periodā | Q27: skaits | R27: Faktiskie izdevumi pārskata periodā | S27: skaits | T27: Faktiskie izdevumi pārskata periodā | U27: skaits | V27: Plānotie izdevumi pārskata periodā | W27: skaits | X27: Plānotie izdevumi pārskata periodā | Y27: skaits | Z27: Plānotie izdevumi pārskata periodā | AA27: Plānotie izdevumi pārskata periodā
A28: A | B28: B | C28: 1 | D28: 2 | E28: 1 | F28: 2 | G28: 3 | H28: 4 | I28: 5 | J28: 6 | K28: 7 | L28: 8 | M28: 9 | N28: 10 | O28: 11 | P28: 12 | Q28: 13 | R28: 14 | S28: 15 | T28: 16 | U28: 17 | V28: 18 | W28: 19 | X28: 20 | Y28: 21 | Z28: 22 | AA28: 23
A29: Tiflotehnikas nodrošināšana | B29: Izsniegto tehnisko palīglīdzekļu skaits | C29: 1 | D29: 363 | E29: 4 | F29: 685.51 | G29: 2 | H29: 787.71 | I29: 1 | J29: 473.76 | M29: 0 | N29: 0 | O29: 6 | P29: 2140.66 | Q29: 0 | R29: 0 | S29: 1 | T29: 447.7 | U29: =AVERAGE(K29,M29,O29,Q29,S29,I29,G29,E29,C29) -> 1.875 | V29: =AVERAGE(L29,N29,P29,R29,T29,J29,H29,F29,D29) -> 612.2925 | W29: =U29 -> 1.875 | X29: =V29 -> 612.2925 | Y29: =W29 -> 1.875 | Z29: =X29 -> 612.2925 | AA29: =Z29+X29+V29+T29+R29+P29+N29+L29+J29+H29+F29+D29 -> 6735.2175
A30: Surdotehnikas nodrošināšana | B30: Izsniegto tehnisko palīglīdzekļu skaits | E30: 2 | F30: 997.6 | G30: 24 | H30: 5324.41 | K30: 5 | L30: 1211.46 | M30: 3 | N30: 561.56 | O30: 7 | P30: 1962.83 | Q30: 5 | R30: 1252.16 | S30: 11 | T30: 2233.57 | U30: =AVERAGE(K30,M30,O30,Q30,S30,I30,G30,E30,C30) -> 8.1428571 | V30: =AVERAGE(L30,N30,P30,R30,T30,J30,H30,F30,D30) -> 1934.7986 | W30: =U30 -> 8.1428571 | X30: =V30 -> 1934.7986 | Y30: =W30 -> 8.1428571 | Z30: =X30 -> 1934.7986 | AA30: =Z30+X30+V30+T30+R30+P30+N30+L30+J30+H30+F30+D30 -> 19347.986
A31: Pārējo tehnisko palīglīdzekļu nodrošināšana | B31: Izsniegto tehnisko palīglīdzekļu skaits | C31: 13 | D31: 7857.68 | E31: 22 | F31: 13487.54 | G31: 30 | H31: 44626.13 | I31: 16 | J31: 15353.89 | K31: 12 | L31: 11972.09 | M31: 11 | N31: 33762.11 | O31: 36 | P31: 44819.87 | Q31: 16 | R31: 13234.64 | S31: 2 | T31: 1982.42 | U31: =AVERAGE(K31,M31,O31,Q31,S31,I31,G31,E31,C31) -> 17.555556 | V31: =AVERAGE(L31,N31,P31,R31,T31,J31,H31,F31,D31) -> 20788.486 | W31: =U31 -> 17.555556 | X31: =V31 -> 20788.486 | Y31: =W31 -> 17.555556 | Z31: =X31 -> 20788.486 | AA31: =Z31+X31+V31+T31+R31+P31+N31+L31+J31+H31+F31+D31 -> 249461.83
A32: KOPĀ | C32: =SUM(C29:C31) -> 14 | D32: =SUM(D29:D31) -> 8220.68 | E32: =SUM(E29:E31) -> 28 | F32: =SUM(F29:F31) -> 15170.65 | G32: =SUM(G29:G31) -> 56 | H32: =SUM(H29:H31) -> 50738.25 | I32: =SUM(I29:I31) -> 17 | J32: =SUM(J29:J31) -> 15827.65 | ... AA32: =SUM(AA29:AA31) -> 275545.03
A34: *Atbilstoši Iekšlietu ministrijas sniegtajai informācijai (18.06.2025. vēstule Nr.1-23/1428/25), 2025. gada pirmajos piecos mēnešos Latvijā vidēji no jauna pagaidu aizsardzības saņemšanai reģistrējās 526 Ukrainas civiliedzīvotāji; kopā šajos mēnešos no jauna reģistrējies 2631 pagaidu aizsardzības saņēmējs. Līdzīga no jauna ieceļojošo Ukrainas civiliedzīvotāju plūsma bija vērojama arī 2024. gadā. 2024. gadā Latvijā no jauna reģistrējās 6080 Ukrainas civiliedzīvotāji, savukārt 1744 personām 2024. gadā pagaidu aizsardzības statuss tika anulēts. Ņemot vērā minētos datus un pie nosacījuma, ka situācija Ukrainā 2026. gadā saglabājas relatīvi nemainīga, var prognozēt, ka 2026. gadā Latvijā no jauna ieradīsies vismaz 6000 Ukrainas civiliedzīvotāju. Dzimuma un vecuma proporcijas 2026. gadā, visticamāk, saglabāsies līdzīgas. Vienlaikus balstoties uz IeM sniegto informāciju prognozējams, ka 2025. gadā no jauna Latvijā būs ieradušies 6 312 Ukrainas civiliedzīvotāju, IeM prognoze 2026. gadā - 6000. Ņemot vērā minēto, 2026. gada izdevumu plāns tiek balstīts uz iepriekšējo periodu faktisko izpildi. | V34: Plānotās vidējās TPL vienas vienības izmaksas, euro* | AA34: =ROUND((AA32/(C32+E32+G32+I32+K32+M32+O32+Q32+S32+U32+W32+Y32))*1.023,2) -> 901.39
V35: Plānotais TPL apjoms 2026. gadā** | AA35: =C32+E32+G32+I32+K32+M32+O32+Q32+S32+U32+W32+Y32 -> 312.72024
V36: Plānotie izdevumi 2026. gadā*** | AA36: =ROUND(AA34*AA35,0) -> 281883
U38: *vidējās TPL vienas vienības izmaksas aprēķinātas ņemot vērā plānotās vidējās izmaksas 2025.gadā, t.i. kopumā plānots izlietot 275 545 euro un izsniegt 313 TPL vienības (275 545 euro : 313), un pamatojoties uz patēriņa cenu pieaugumu 2026. gadā par 2.3% (https://www.fm.gov.lv/lv/tautsaimniecibas-un-budzeta-izpildes-analize) izmaksām piemērots koeficients 1.023.
U39: **Plānots, ka 2025. gadā tiks izsniegtas 313 TPL vienības. Progozējams, ka 2026. gadā izsniegto TPL vienību skaits saglabāsies 2025. gada līmenī.
U40: *** plānotie izdevumi 2026. gadā aprēķināti, pieņemot, ka 2026. gadā tiks izsniegta 313 TPL vienības, vienas vienības vidējās izmaksas 901.39 euro (rezultāts noapaļots ar 0 (nullle) zīmēm aiz komata).

Sheet 4.tab.
A1: 2.pielikuma 4.tabula
A2: Pasākumu plāns atbalsta sniegšanai Ukrainas civiliedzīvotājiem Latvijas Republikā 2026.gadā
A3: =Ietekme_LM_2026_!B65 -> 4.4. Atbalsta sniegšana Ukrainas civiliedzīvotājiem, kuriem Latvijā noteikta invaliditāte (pabalsti un pakalpojumi)
A4: I Pabalsti (VSAA) 2023
A5: Gads | C5: 2023 | E5: 2023 | G5: 2023 | I5: 2023 | K5: 2023 | M5: 2023 | O5: 2023 | Q5: 2023 | S5: 2023 | U5: 2023 | W5: 2023 | Y5: 2023 | AA5: 2023
A6: Pārskata periods | C6: Janvāris | E6: Februāris | G6: Marts | I6: Aprīlis | K6: Maijs | M6: Jūnijs | O6: Jūlijs | Q6: Augusts | S6: Septembris | U6: Oktobris | W6: Novembris | Y6: Decembris | AA6: KOPĀ
A7: x | D7: (euro,centi) | F7: (euro,centi) | H7: (euro,centi) | J7: (euro,centi) | L7: (euro,centi) | N7: (euro,centi) | P7: (euro,centi) | R7: (euro,centi) | T7: (euro,centi) | V7: (euro,centi) | X7: (euro,centi) | Z7: (euro,centi) | AA7: (euro,centi)
A8: Rādītāja nosaukums | B8: mēr- vienība | C8: skaits | D8: Faktiskie izdevumi pārskata periodā | E8: skaits | F8: Faktiskie izdevumi pārskata periodā | G8: skaits | H8: Faktiskie izdevumi pārskata periodā | I8: skaits | J8: Faktiskie izdevumi pārskata periodā | K8: skaits | L8: Faktiskie izdevumi pārskata periodā | M8: skaits | N8: Faktiskie izdevumi pārskata periodā | O8: skaits | P8: Faktiskie izdevumi pārskata periodā | Q8: skaits | R8: Faktiskie izdevumi pārskata periodā | S8: skaits | T8: Faktiskie izdevumi pārskata periodā | U8: skaits | V8: Faktiskie izdevumi pārskata periodā | W8: skaits | X8: Faktiskie izdevumi pārskata periodā | Y8: skaits | Z8: Faktiskie izdevumi pārskata periodā | AA8: Faktiskie izdevumi pārskata periodā
A9: A | B9: B | C9: 1 | D9: 2 | E9: 3 | F9: 4 | G9: 5 | H9: 6 | I9: 7 | J9: 8 | K9: 9 | L9: 10 | M9: 11 | N9: 12 | O9: 13 | P9: 14 | Q9: 15 | R9: 16 | S9: 17 | T9: 18 | U9: 19 | V9: 20 | W9: 21 | X9: 22 | Y9: 23 | Z9: 24 | AA9: 25
A10: Valsts sociālā nodrošinājuma pabalsts personām ar invaliditāti1 | B10: personas | C10: 124 | D10: 23982.17 | E10: 137 | F10: 20912.86 | G10: 155 | H10: 24257.54 | I10: 177 | J10: 28705.09 | K10: 185 | L10: 26953.66 | M10: 198 | N10: 30843.3 | O10: 208 | P10: 28586.95 | Q10: 233 | R10: 39405.35 | S10: 241 | T10: 36675.6 | U10: 242 | V10: 35660.25 | W10: 247 | X10: 37177.13 | Y10: 263 | Z10: 39522.15 | AA10: =F10+H10+J10+L10+N10+P10+R10+T10+V10+X10+Z10+D10 -> 372682.05
A11: Piemaksa pie ģimenes valsts pabalsta par bērnu ar invaliditāti1 | B11: bērnu skaits | C11: 84 | D11: 10665.23 | E11: 90 | F11: 10597.75 | G11: 99 | H11: 12654.91 | I11: 98 | J11: 12573.33 | K11: 97 | L11: 11090.51 | M11: 109 | N11: 13121.84 | O11: 114 | P11: 12768.65 | Q11: 114 | R11: 12683.61 | S11: 115 | T11: 12854.81 | U11: 116 | V11: 13365.23 | W11: 120 | X11: 13433.64 | Y11: 123 | Z11: 14692.57 | AA11: =F11+H11+J11+L11+N11+P11+R11+T11+V11+X11+Z11+D11 -> 150502.08
A12: Bērna ar invaliditāti kopšanas pabalsts1 | B12: bērnu skaits | C12: 58 | D12: 23165.2 | E12: 61 | F12: 20908.43 | G12: 67 | H12: 24614.52 | I12: 65 | J12: 19929.17 | K12: 64 | L12: 21127.87 | M12: 69 | N12: 23577.7 | O12: 68 | P12: 21126.2 | Q12: 70 | R12: 22358 | S12: 68 | T12: 21611.17 | U12: 68 | V12: 22597.29 | W12: 70 | X12: 22883.77 | Y12: 72 | Z12: 23476.92 | AA12: =F12+H12+J12+L12+N12+P12+R12+T12+V12+X12+Z12+D12 -> 267376.24
A13: Pabalsts personai ar invaliditāti, kurai nepieciešama kopšana (ar noteiktu invaliditāti Latvijā)1 | B13: personas | C13: 24 | D13: 8295.42 | E13: 26 | F13: 6599.89 | G13: 29 | H13: 11284.55 | I13: 24 | J13: 5034.76 | K13: 21 | L13: 5765.06 | M13: 26 | N13: 11107.15 | O13: 26 | P13: 6620.42 | Q13: 28 | R13: 9165.18 | S13: 30 | T13: 13096.85 | U13: 30 | V13: 7915.99 | W13: 34 | X13: 11076.2 | Y13: 35 | Z13: 8793.64 | AA13: =F13+H13+J13+L13+N13+P13+R13+T13+V13+X13+Z13+D13 -> 104755.11
AA14: =ROUND(SUM(AA10:AA13),0) -> 895315
A15: Valsts sociālā nodrošinājuma pabalsta apmēri
F16: līdz 31.12. 2023. | G16: no 01.01. 2024. | H16: Pieaugums, %
A17: 1.grupa/ strādā | F17: 175 | G17: 191.8 | H17: =G17*100/F17-100 -> 9.6
A18: 1.grupa/ nestrādā | F18: 227.5 | G18: 249.34 | H18: =G18*100/F18-100 -> 9.6
A19: 1.grupa/ invaliditāte kopš bērnības (strādā) | F19: 219.8 | G19: 239.4 | H19: =G19*100/F19-100 -> 8.9171975
A20: 1.grupa/ invaliditāte kopš bērnības (nestrādā) | F20: 285.74 | G20: 311.22 | H20: =G20*100/F20-100 -> 8.9171975
A21: 2.grupa/ strādā | F21: 150 | G21: 164.4 | H21: =G21*100/F21-100 -> 9.6
A22: 2.grupa/ nestrādā | F22: 180 | G22: 197.28 | H22: =G22*100/F22-100 -> 9.6
A23: 2.grupa/ invaliditāte kopš bērnības (strādā) | F23: 188.4 | G23: 205.2 | H23: =G23*100/F23-100 -> 8.9171975
A24: 2.grupa/ invaliditāte kopš bērnības (nestrādā) | F24: 226.08 | G24: 246.24 | H24: =G24*100/F24-100 -> 8.9171975
A25: 3.grupa/ neatkarīgi no nodarbinātības | F25: 125 | G25: 137 | H25: =G25*100/F25-100 -> 9.6
A26: 3.grupa/ invaliditāte kopš bērnības ( neatkarīgi no nodarbinātības) | F26: 157 | G26: 171 | H26: =G26*100/F26-100 -> 8.9171975
F27: =AVERAGE(F17:F26) -> 193.452 | G27: =AVERAGE(G17:G26) -> 211.288 | H27: =G27*100/F27-100 -> 9.2198582
A29: Gads | C29: 2024 | E29: 2024 | G29: 2024 | I29: 2024 | K29: 2024 | M29: 2024 | O29: 2024 | Q29: 2024 | S29: 2024 | U29: 2024 | W29: 2024 | Y29: 2024 | AA29: 2024
A30: Pārskata periods | C30: Janvāris | E30: Februāris | G30: Marts | I30: Aprīlis | K30: Maijs | M30: Jūnijs | O30: Jūlijs | Q30: Augusts | S30: Septembris | U30: Oktobris | W30: Novembris | Y30: Decembris | AA30: KOPĀ
A31: x | D31: (euro,centi) | F31: (euro,centi) | H31: (euro,centi) | J31: (euro,centi) | L31: (euro,centi) | N31: (euro,centi) | P31: (euro,centi) | R31: (euro,centi) | T31: (euro,centi) | V31: (euro,centi) | X31: (euro,centi) | Z31: (euro,centi) | AA31: (euro,centi)
A32: Rādītāja nosaukums | B32: mēr- vienība | C32: skaits | D32: Faktiskie izdevumi pārskata periodā | E32: skaits | F32: Faktiskie izdevumi pārskata periodā | G32: skaits | H32: Faktiskie izdevumi pārskata periodā | I32: skaits | J32: Faktiskie izdevumi pārskata periodā | K32: skaits | L32: Faktiskie izdevumi pārskata periodā | M32: skaits | N32: Faktiskie izdevumi pārskata periodā | O32: skaits | P32: Faktiskie izdevumi pārskata periodā | Q32: skaits | R32: Faktiskie izdevumi pārskata periodā | S32: skaits | T32: Faktiskie izdevumi pārskata periodā | U32: skaits | V32: Faktiskie izdevumi pārskata periodā | W32: skaits | X32: Faktiskie izdevumi pārskata periodā | Y32: skaits | Z32: Faktiskie izdevumi pārskata periodā | AA32: Faktiskie izdevumi pārskata periodā
A33: A | B33: B | C33: 1 | D33: 2 | E33: 3 | F33: 4 | G33: 5 | H33: 6 | I33: 7 | J33: 8 | K33: 9 | L33: 10 | M33: 11 | N33: 12 | O33: 13 | P33: 14 | Q33: 15 | R33: 16 | S33: 17 | T33: 18 | U33: 19 | V33: 20 | W33: 21 | X33: 22 | Y33: 23 | Z33: 24 | AA33: 25
A34: Valsts sociālā nodrošinājuma pabalsts personām ar invaliditāti | B34: personas | C34: 281 | D34: 45307.96 | E34: 287 | F34: 43992.6 | G34: 297 | H34: 51594.52 | I34: 311 | J34: 46782.14 | K34: 292 | L34: 49844.76 | M34: 315 | N34: 55320.95 | O34: 325 | P34: 51435.48 | Q34: 337 | R34: 53784.61 | S34: 351 | T34: 56658.37 | U34: 361 | V34: 57984.85 | W34: 374 | X34: 59199.73 | Y34: 384 | Z34: 61533.57 | AA34: =F34+H34+J34+L34+N34+P34+R34+T34+V34+X34+Z34+D34 -> 633439.54
A35: Piemaksa pie ģimenes valsts pabalsta par bērnu ar invaliditāti | B35: bērnu skaits | C35: 124 | D35: 13388.21 | E35: 126 | F35: 14990.45 | G35: 135 | H35: 29407.97 | I35: 113 | J35: 23723.06 | K35: 116 | L35: 19752.61 | M35: 128 | N35: 24994.42 | O35: 130 | P35: 21776.34 | Q35: 129 | R35: 20640 | S35: 133 | T35: 22465.82 | U35: 129 | V35: 20423.23 | W35: 127 | X35: 20320 | Y35: 143 | Z35: 23506.4 | AA35: =F35+H35+J35+L35+N35+P35+R35+T35+V35+X35+Z35+D35 -> 255388.51
A36: Bērna ar invaliditāti kopšanas pabalsts | B36: bērnu skaits | C36: 73 | D36: 23011.83 | E36: 73 | F36: 25205.44 | G36: 74 | H36: 17107.14 | I36: 72 | J36: 31236.36 | K36: 73 | L36: 23518.06 | M36: 78 | N36: 27804.6 | O36: 80 | P36: 26489.89 | Q36: 80 | R36: 26540.44 | S36: 84 | T36: 28742.89 | U36: 85 | V36: 28770.18 | W36: 86 | X36: 28286.55 | Y36: 89 | Z36: 28532.58 | AA36: =F36+H36+J36+L36+N36+P36+R36+T36+V36+X36+Z36+D36 -> 315245.96
A37: Pabalsts personai ar invaliditāti, kurai nepieciešama kopšana (ar noteiktu invaliditāti Latvijā) | B37: personas | C37: 35 | D37: 9096.57 | E37: 36 | F37: 10452.89 | G37: 38 | H37: 9290.99 | I37: 25 | J37: 8582.61 | K37: 35 | L37: 13771.71 | M37: 40 | N37: 13902.57 | O37: 43 | P37: 15654.12 | Q37: 48 | R37: 15720.3 | S37: 50 | T37: 15228.95 | U37: 54 | V37: 17744.98 | W37: 53 | X37: 14111.79 | Y37: 55 | Z37: 15915.61 | AA37: =F37+H37+J37+L37+N37+P37+R37+T37+V37+X37+Z37+D37 -> 159473.09
AA38: =ROUND(SUM(AA34:AA37),0) -> 1363547
A39: Valsts sociālā nodrošinājuma pabalsta apmēri
F40: līdz 31.12. 2024. | G40: no 01.01. 2025. | H40: Pieaugums, %
A41: 1.grupa/ strādā | F41: 191.8 | G41: 232.4 | H41: =G41*100/F41-100 -> 21.167883
...

Sheet 5.tab.
A1: 2.pielikuma 5.tabula
A2: Pasākumu plāns atbalsta sniegšanai Ukrainas civiliedzīvotājiem Latvijas Republikā 2026.gadā
A3: 4.6. Sociālās palīdzības pabalstu un sociālās rehabilitācijas pakalpojumu nodrošināšana Ukrainas civiliedzīvotājiem*
A4: * | B4: Plāns balstīts uz faktisko izpildi 2024. un 2025.gadā. 2026. gadā faktiski izmaksātie pabalsti un nodrošinātie pakalpojumi var atsķirties (papildus var tikt nodrošināts vēl kāds atbalsta veids) atbilstoši individuālajām personu vajadzībām. Likuma 7.panta trešā daļa paredz, ka Ukrainas civiliedzīvotājiem ir tādas pašas tiesības uz sociālajiem pakalpojumiem un sociālo palīdzību, kādas Sociālo pakalpojumu un sociālās palīdzības likumā noteiktas Latvijas pilsoņiem un Latvijas nepilsoņiem.
B5: X | D5: 2023 | F5: 2023 | H5: 2023 | J5: 2023 | L5: 2023 | N5: 2023 | P5: 2023 | R5: 2023 | T5: 2023 | V5: 2023 | X5: 2023 | Z5: 2023 | AB5: 2023
D6: janvāris | F6: februāris | H6: marts | J6: aprīlis | L6: maijs | N6: jūnijs | P6: jūlijs | R6: augusts | T6: septembris | V6: oktobris | X6: novembris | Z6: decembris | AB6: KOPĀ
E7: (euro,centi) | G7: (euro,centi) | I7: (euro,centi) | K7: (euro,centi) | M7: (euro,centi) | O7: (euro,centi) | Q7: (euro,centi) | S7: (euro,centi) | U7: (euro,centi) | W7: (euro,centi) | Y7: (euro,centi) | AA7: (euro,centi) | AB7: (euro,centi)
D8: Saņēmēju skaits | E8: Faktiskie izdevumi pārskata periodā | F8: Saņēmēju skaits | G8: Faktiskie izdevumi pārskata periodā | H8: Saņēmēju skaits | I8: Faktiskie izdevumi pārskata periodā | J8: Saņēmēju skaits | K8: Faktiskie izdevumi pārskata periodā | L8: Saņēmēju skaits | M8: Faktiskie izdevumi pārskata periodā | N8: Saņēmēju skaits | O8: Faktiskie izdevumi pārskata periodā | P8: Saņēmēju skaits | Q8: Faktiskie izdevumi pārskata periodā | R8: Saņēmēju skaits | S8: Faktiskie izdevumi pārskata periodā | T8: Saņēmēju skaits | U8: Faktiskie izdevumi pārskata periodā | V8: Saņēmēju skaits | W8: Faktiskie izdevumi pārskata periodā | X8: Saņēmēju skaits | Y8: Faktiskie izdevumi pārskata periodā | Z8: Saņēmēju skaits | AA8: Faktiskie izdevumi pārskata periodā | AB8: Faktiskie izdevumi pārskata periodā
B9: A | D9: 1 | E9: 2 | F9: 3 | G9: 4 | H9: 5 | I9: 6 | J9: 7 | K9: 8 | L9: 9 | M9: 10 | N9: 11 | O9: 12 | P9: 13 | Q9: 14 | R9: 15 | S9: 16 | T9: 17 | U9: 18 | V9: 19 | W9: 20 | X9: 21 | Y9: 22 | Z9: 23 | AA9: 24 | AB9: 25
A10: 4.6.1. VARAM/ pašvaldības | B10: Garantētais minimālais ienākums (GMI) – pabalsts 109 euro apmērā pirmajai personai un 76 euro apmērā katrai nākamajai personai mājsaimniecībā. No 01.07.2023. pabalsts 125 euro apmērā pirmajai personai un 87.50 euro apmērā katrai nākamajai personai mājsaimniecībā | D10: 6671 | E10: 567520.88 | F10: 6308 | G10: 545157.77 | H10: 6119 | I10: 527272.94 | J10: 5471 | K10: 440922.64 | L10: 4898 | M10: 404017.96 | N10: 4416 | O10: 361883.32 | P10: 4231 | Q10: 396198.81 | R10: 4183 | S10: 399625.98 | T10: 3792 | U10: 353240.46 | V10: 3582 | W10: 338438.36 | X10: 3616 | Y10: 341929.94 | Z10: 3304 | AA10: 299124.71 | AB10: =I10+K10+M10+O10+Q10+S10+U10+W10+Y10+AA10+G10+E10 -> 4975333.8
A11: 4.6.2. VARAM/ pašvaldības | B11: Vienreizējais pabalsts krīzes situācijā 272 euro apmērā pilngadīgai personai un 190 euro apmērā par katru bērnu. No 01.07.2023. 313 euro apmērā pilngadīgai personai un 219 euro apmērā par katru bērnu. | D11: 816 | E11: 202370 | F11: 628 | G11: 156356 | H11: 605 | I11: 152674 | J11: 423 | K11: 104716 | L11: 363 | M11: 90150 | N11: 446 | O11: 113948 | P11: 505 | Q11: 124441 | R11: 526 | S11: 131383 | T11: 423 | U11: 105168.25 | V11: 414 | W11: 105800.5 | X11: 430 | Y11: 110511 | Z11: 230 | AA11: 71322 | AB11: =I11+K11+M11+O11+Q11+S11+U11+W11+Y11+AA11+G11+E11 -> 1468839.8
A12: 4.6.3. VARAM/ pašvaldības | B12: Mājokļa pabalsts pēc aprēķina, ja ir noslēgts īres līgums | D12: 5156 | E12: 716601.25 | F12: 5655 | G12: 888002.39 | H12: 6018 | I12: 976591.67 | J12: 5911 | K12: 893401.79 | L12: 5694 | M12: 718064.93 | N12: 4437 | O12: 473345.1 | P12: 4012 | Q12: 472655.89 | R12: 3796 | S12: 468093.02 | T12: 3248 | U12: 378700.56 | V12: 3129 | W12: 378850.76 | X12: 3110 | Y12: 390736.7 | Z12: 1897 | AA12: 191504.66 | AB12: =I12+K12+M12+O12+Q12+S12+U12+W12+Y12+AA12+G12+E12 -> 6946548.7 | AD12: =D12+F12+H12+J12+L12+N12+P12+R12+T12+V12+X12+Z12 -> 52063 | AE12: =AB12/AD12 -> 133.42582
B13: KOPĀ | E13: =SUM(E10:E12) -> 1486492.1 | G13: =SUM(G10:G12) -> 1589516.2 | I13: =SUM(I10:I12) -> 1656538.6 | K13: =SUM(K10:K12) -> 1439040.4 | M13: =SUM(M10:M12) -> 1212232.9 | O13: =SUM(O10:O12) -> 949176.42 | Q13: =SUM(Q10:Q12) -> 993295.7 | S13: =SUM(S10:S12) -> 999102 | U13: =SUM(U10:U12) -> 837109.27 | W13: =SUM(W10:W12) -> 823089.62 | Y13: =SUM(Y10:Y12) -> 843177.64 | AA13: =SUM(AA10:AA12) -> 561951.37 | AB13: =SUM(AB10:AB12) -> 13390722
B15: X | D15: 2024 | F15: 2024 | H15: 2024 | J15: 2024 | L15: 2024 | N15: 2024 | P15: 2024 | R15: 2024 | T15: 2024 | V15: 2024 | X15: 2024 | Z15: 2024 | AB15: 2024
D16: janvāris | F16: februāris | H16: marts | J16: aprīlis | L16: maijs | N16: jūnijs | P16: jūlijs | R16: augusts | T16: septembris | V16: oktobris | X16: novembris | Z16: decembris | AB16: KOPĀ
E17: (euro,centi) | G17: (euro,centi) | I17: (euro,centi) | K17: (euro,centi) | M17: (euro,centi) | O17: (euro,centi) | Q17: (euro,centi) | S17: (euro,centi) | U17: (euro,centi) | W17: (euro,centi) | Y17: (euro,centi) | AA17: (euro,centi) | AB17: (euro,centi)
D18: Saņēmēju skaits | E18: Faktiskie izdevumi pārskata periodā | F18: Saņēmēju skaits | G18: Faktiskie izdevumi pārskata periodā | H18: Saņēmēju skaits | I18: Faktiskie izdevumi pārskata periodā | J18: Saņēmēju skaits | K18: Faktiskie izdevumi pārskata periodā | L18: Saņēmēju skaits | M18: Faktiskie izdevumi pārskata periodā | N18: Saņēmēju skaits | O18: Faktiskie izdevumi pārskata periodā | P18: Saņēmēju skaits | Q18: Faktiskie izdevumi pārskata periodā | R18: Saņēmēju skaits | S18: Faktiskie izdevumi pārskata periodā | T18: Saņēmēju skaits | U18: Faktiskie izdevumi pārskata periodā | V18: Saņēmēju skaits | W18: Faktiskie izdevumi pārskata periodā | X18: Saņēmēju skaits | Y18: Faktiskie izdevumi pārskata periodā | Z18: Saņēmēju skaits | AA18: Faktiskie izdevumi pārskata periodā | AB18: Faktiskie izdevumi pārskata periodā
B19: A | D19: 1 | E19: 2 | F19: 3 | G19: 4 | H19: 5 | I19: 6 | J19: 7 | K19: 8 | L19: 9 | M19: 10 | N19: 11 | O19: 12 | P19: 13 | Q19: 14 | R19: 15 | S19: 16 | T19: 17 | U19: 18 | V19: 19 | W19: 20 | X19: 21 | Y19: 22 | Z19: 23 | AA19: 24 | AB19: 25
A20: 4.6.1. VARAM/ pašvaldības | B20: Garantētais minimālais ienākums (GMI) – pabalsts 137 euro apmērā pirmajai personai un 96 euro apmērā katrai nākamajai personai mājsaimniecībā. | D20: 3069 | E20: 297618.7 | F20: 3068 | G20: 295542.73 | H20: 2934 | I20: 286007.16 | J20: 2923 | K20: 292258.63 | L20: 2752 | M20: 273032.44 | N20: 2673 | O20: 266285.77 | P20: 2722 | Q20: 271000.32 | R20: 2633 | S20: 264853.8 | T20: 2548 | U20: 254811.78 | V20: 2646 | W20: 270664.16 | X20: 2605 | Y20: 263853.35 | Z20: 2562 | AA20: 255637.6 | AB20: =ROUND(I20+K20+M20+O20+Q20+S20+U20+W20+Y20+AA20+G20+E20,0) -> 3291566
A21: 4.6.2. VARAM/ pašvaldības | B21: Vienreizējais pabalsts krīzes situācijā 343 euro apmērā pilngadīgai personai un 240 euro apmērā par katru bērnu. | D21: 275 | E21: 89682 | F21: 304 | G21: 95257 | H21: 264 | I21: 84546 | J21: 300 | K21: 96443 | L21: 292 | M21: 93493 | N21: 392 | O21: 121786 | P21: 407 | Q21: 127327 | R21: 374 | S21: 116849 | T21: 308 | U21: 96958 | V21: 541 | W21: 167858 | X21: 340 | Y21: 107247 | Z21: 270 | AA21: 85706 | AB21: =ROUND(I21+K21+M21+O21+Q21+S21+U21+W21+Y21+AA21+G21+E21,0) -> 1283152
A22: 4.6.3. VARAM/ pašvaldības | B22: Mājokļa pabalsts pēc aprēķina, ja ir noslēgts īres līgums | D22: 3680 | E22: 737564.42 | F22: 3225 | G22: 518972.23 | H22: 3135 | I22: 481185.72 | J22: 2753 | K22: 472882.09 | L22: 2789 | M22: 384551.27 | N22: 2489 | O22: 324975.19 | P22: 2520 | Q22: 331016.73 | R22: 2317 | S22: 297659.01 | T22: 2184 | U22: 281923.11 | V22: 2249 | W22: 302543.89 | X22: 2157 | Y22: 289347.94 | Z22: 1400 | AA22: 174898.76 | AB22: =ROUND(I22+K22+M22+O22+Q22+S22+U22+W22+Y22+AA22+G22+E22,0) -> 4597520 | AD22: =D22+F22+H22+J22+L22+N22+P22+R22+T22+V22+X22+Z22 -> 30898 | AE22: =AB22/AD22 -> 148.79669
B23: KOPĀ | E23: =SUM(E20:E22) -> 1124865.1 | G23: =SUM(G20:G22) -> 909771.96 | I23: =SUM(I20:I22) -> 851738.88 | K23: =SUM(K20:K22) -> 861583.72 | M23: =SUM(M20:M22) -> 751076.71 | O23: =SUM(O20:O22) -> 713046.96 | Q23: =SUM(Q20:Q22) -> 729344.05 | S23: =SUM(S20:S22) -> 679361.81 | U23: =SUM(U20:U22) -> 633692.89 | W23: =SUM(W20:W22) -> 741066.05 | Y23: =SUM(Y20:Y22) -> 660448.29 | AA23: =SUM(AA20:AA22) -> 516242.36 | AB23: =SUM(AB20:AB22) -> 9172238
B25: X | D25: 2025 | F25: 2025 | H25: 2025 | J25: 2025 | L25: 2025 | N25: 2025 | P25: 2025 | R25: 2025 | T25: 2025 | V25: 2025 | X25: 2025 | Z25: 2025 | AB25: 2025
D26: janvāris | F26: februāris | H26: marts | J26: aprīlis | L26: maijs | N26: jūnijs | P26: jūlijs | R26: augusts | T26: septembris | V26: oktobris | X26: novembris | Z26: decembris | AB26: KOPĀ
E27: (euro,centi) | G27: (euro,centi) | I27: (euro,centi) | K27: (euro,centi) | M27: (euro,centi) | O27: (euro,centi) | Q27: (euro,centi) | S27: (euro,centi) | U27: (euro,centi) | W27: (euro,centi) | Y27: (euro,centi) | AA27: (euro,centi) | AB27: (euro,centi)
D28: Saņēmēju skaits | E28: Faktiskie izdevumi pārskata periodā | F28: Saņēmēju skaits | G28: Faktiskie izdevumi pārskata periodā | H28: Saņēmēju skaits | I28: Faktiskie izdevumi pārskata periodā | J28: Saņēmēju skaits | K28: Faktiskie izdevumi pārskata periodā | L28: Saņēmēju skaits | M28: Faktiskie izdevumi pārskata periodā | N28: Saņēmēju skaits | O28: Faktiskie izdevumi pārskata periodā | P28: Saņēmēju skaits | Q28: Faktiskie izdevumi pārskata periodā | R28: Saņēmēju skaits | S28: Faktiskie izdevumi pārskata periodā | T28: Saņēmēju skaits | U28: Faktiskie izdevumi pārskata periodā | V28: Saņēmēju skaits | W28: Plānotie izdevumi pārskata periodā | X28: Saņēmēju skaits | Y28: Plānotie izdevumi pārskata periodā | Z28: Saņēmēju skaits | AA28: Plānotie izdevumi pārskata periodā | AB28: Plānotie zdevumi pārskata periodā
B29: A | D29: 1 | E29: 2 | F29: 3 | G29: 4 | H29: 5 | I29: 6 | J29: 7 | K29: 8 | L29: 9 | M29: 10 | N29: 11 | O29: 12 | P29: 13 | Q29: 14 | R29: 15 | S29: 16 | T29: 17 | U29: 18 | V29: 19 | W29: 20 | X29: 21 | Y29: 22 | Z29: 23 | AA29: 24 | AB29: 25
A30: 4.6.1. VARAM/ pašvaldības | B30: Garantētais minimālais ienākums (GMI) – pabalsts 166 euro apmērā pirmajai personai un 116 euro apmērā katrai nākamajai personai mājsaimniecībā. | D30: 2344 | E30: 275382.93 | F30: 2647 | G30: 339644.98 | H30: 2727 | I30: 326702.53 | J30: 2573 | K30: 298311.05 | L30: 2540 | M30: 300004.76 | N30: 2336 | O30: 269220.81 | P30: 2444 | Q30: 298904.09 | R30: 2369 | S30: 276042.38 | T30: 2366 | U30: 280752.97 | V30: =T30 -> 2366 | W30: =U30 -> 280752.97 | X30: =V30 -> 2366 | Y30: =W30 -> 280752.97 | Z30: =X30 -> 2366 | AA30: =Y30 -> 280752.97 | AB30: =ROUND(I30+K30+M30+O30+Q30+S30+U30+W30+Y30+AA30+G30+E30,0) -> 3507225
