Workbook

Sheet APKOPOJUMS
A1: Detalizēta informācija papildu nepieciešamajam finansējumam
A3: Pasākumi atbilstoši jomām | B3: Atbalstītais finansējums (janvāris - jūnijs), euro [1] | C3: Pamatojoties uz Finanšu ministrijas rīkojumiem: 1) 24.04.2023., Nr. 107, 2) 06.06.2023., Nr. 171, 3) 14.07.2023., Nr. 221 uz 15.08.2023. kopā pārdalītais finansējums par janvāri - maiju, euro | D3: Uz 15.08.2023. pašvaldībām pārskaitītais finansējums izdevumu segšanai par sniegto atbalstu Ukrainas civiliedzīvotājiem par 2023. gada janvāri - maiju, euro | E3: Pašvaldību faktiskie izdevumi par sniegto atbalstu Ukrainas civiliedzīvotājiem par 2023. gada janvāri - jūniju, euro | F3: Pašvaldību faktiskie izdevumi par sniegto atbalstu Ukrainas civiliedzīvotājiem par 2023. gada jūniju (FM pieprasījums nosūtīts 01.08.2023, vēstules Nr. 1-132/4430, apstiprināts ar FM 18.08.2023. rīkojumu Nr.267), euro | G3: Starpība starp atbalstīto finansējumu un faktiskajiem izdevumiem, jeb finanšu līdzekļu atlikums no MK rīkojuma Nr. 170 1. punktā paredzētā finansējuma, euro | H3: Papildus nepieciešamais finansējums/prognoze 2023. gada jūlijam - novembrim, euro | I3: Kopā nepieciešamais plānotais finansējums 2023. gada janvārim - novembrim, euro
A4: Par palīdzību sociālā atbalsta jomā kopā (LM) [2] 4. "Sociālā palīdzība, finansiālais atbalsts, pakalpojumi" un 5. "Nepilngadīgie" | B4: 13124161 | C4: =4013955+4206086+1719568 -> 9939609 | D4: ='2.pielikums_LM_prognoze'!C102+'2.pielikums_LM_prognoze'!E102+'2.pielikums_LM_prognoze'!G102+'2.pielikums_LM_prognoze'!I102+'2.pielikums_LM_prognoze'!K102 -> 9939608.5 | E4: =D4+F4 -> 11440988 | F4: ='2.pielikums_LM_prognoze'!P102 -> 1501379.3 | G4: =B4-E4 -> 1683172.8 | H4: ='2.pielikums_LM_prognoze'!R102+'2.pielikums_LM_prognoze'!T102+'2.pielikums_LM_prognoze'!V102+'2.pielikums_LM_prognoze'!X102+'2.pielikums_LM_prognoze'!Z102 -> 10332403 | I4: =E4+H4 -> 21773391
A5: Par palīdzību izglītības jomā (IzM) [2] 6. "Izglītība" | B5: 5031671.1 | C5: =1039336+1138950+580380 -> 2758666 | D5: ='3.pielikums_IzM_prognoze'!C13+'3.pielikums_IzM_prognoze'!E13+'3.pielikums_IzM_prognoze'!G13+'3.pielikums_IzM_prognoze'!I13+'3.pielikums_IzM_prognoze'!K13 -> 2758665.9 | E5: =D5+F5 -> 3166694.7 | F5: ='3.pielikums_IzM_prognoze'!M13 -> 408028.83 | G5: =B5-E5 -> 1864976.4 | H5: ='3.pielikums_IzM_prognoze'!O13+'3.pielikums_IzM_prognoze'!Q13+'3.pielikums_IzM_prognoze'!S13+'3.pielikums_IzM_prognoze'!U13+'3.pielikums_IzM_prognoze'!W13 -> 1786441 | I5: =E5+H5 -> 4953135.7
A6: Par palīdzību ēdināšanas jomā (EM) [2] 2. "Personu izmitināšana un ēdināšana" | B6: 602566.71 | C6: =184168+141208+44248 -> 369624 | D6: ='1.pielikums_EM_prognoze'!C10+'1.pielikums_EM_prognoze'!D10+'1.pielikums_EM_prognoze'!E10+'1.pielikums_EM_prognoze'!F10+'1.pielikums_EM_prognoze'!G10 -> 369624.04 | E6: =D6+F6 -> 394417.88 | F6: ='1.pielikums_EM_prognoze'!H10 -> 24793.84 | G6: =B6-E6 -> 208148.83 | H6: ='1.pielikums_EM_prognoze'!I10+'1.pielikums_EM_prognoze'!J10+'1.pielikums_EM_prognoze'!K10+'1.pielikums_EM_prognoze'!L10+'1.pielikums_EM_prognoze'!M10 -> 125000 | I6: =E6+H6 -> 519417.88
A7: Par palīdzību izmitināšanas jomā (EM) [2] 2. "Personu izmitināšana un ēdināšana" | B7: 2764245.3 | C7: =891323+866452+426453 -> 2184228 | D7: ='1.pielikums_EM_prognoze'!C9+'1.pielikums_EM_prognoze'!D9+'1.pielikums_EM_prognoze'!E9+'1.pielikums_EM_prognoze'!F9+'1.pielikums_EM_prognoze'!G9 -> 2184227.7 | E7: =D7+F7 -> 2510772.2 | F7: ='1.pielikums_EM_prognoze'!H9 -> 326544.53 | G7: =B7-E7 -> 253473.12 | H7: ='1.pielikums_EM_prognoze'!I9+'1.pielikums_EM_prognoze'!J9+'1.pielikums_EM_prognoze'!K9+'1.pielikums_EM_prognoze'!L9+'1.pielikums_EM_prognoze'!M9 -> 1675000 | I7: =E7+H7 -> 4185772.2
A8: Par izlietoto finansējumu valsts pārvaldes pakalpojumu pieteikšanas un fizisko personu reģistrācijas pasākumiem (VARAM) [2] 1. "Personu uzņemšana un reģistrācija, informēšanas pasākumi" 1.7. apakšpunkts | B8: 5486 | C8: =1610+2858+630 -> 5098 | D8: ='4.pielikums_VARAM_KAC_prognoze'!D17+'4.pielikums_VARAM_KAC_prognoze'!F17+'4.pielikums_VARAM_KAC_prognoze'!H17+'4.pielikums_VARAM_KAC_prognoze'!J17+'4.pielikums_VARAM_KAC_prognoze'!L17 -> 5098 | E8: =D8+F8 -> 5732 | F8: ='4.pielikums_VARAM_KAC_prognoze'!N17 -> 634 | G8: =B8-E8 -> -246 | H8: ='4.pielikums_VARAM_KAC_prognoze'!P17+'4.pielikums_VARAM_KAC_prognoze'!R17+'4.pielikums_VARAM_KAC_prognoze'!T17+'4.pielikums_VARAM_KAC_prognoze'!V17+'4.pielikums_VARAM_KAC_prognoze'!X17 -> 6782 | I8: =E8+H8 -> 12514
A9: Par pašvaldību veiktajiem uzlabojumiem pašvaldību ēkās, lai nodrošinātu Ukrainas civiliedzīvotāju izmitināšanu (VARAM) [2] 2. "Personu izmitināšana un ēdināšana" 2.3. apakšpunkts | B9: 1065355.9 | C9: =310461+522705 -> 833166 | D9: ='5.pielikums_VARAM_māj_uzlab'!C17+'5.pielikums_VARAM_māj_uzlab'!E17 -> 833166.08 | E9: =D9+F9 -> 833166.08 | F9: 0 | G9: =B9-E9 -> 232189.8 | H9: ='5.pielikums_VARAM_māj_uzlab'!I17 -> 354489.78 | I9: =E9+H9 -> 1187655.9
A10: Par vienotu valsts un pašvaldību sniegtā atbalsta koordinācijas punktu darbības nodrošināšanu [2] 1. "Personu uzņemšana un reģistrācija, informēšanas pasākumi" 1.6. apakšpunkts | B10: 350555.79 | C10: =126523 -> 126523 | D10: 607.24 | E10: 246362.12 | F10: 0 | G10: =B10-E10 -> 104193.67 | H10: =(245754.88/4)*7 -> 430071.04 | I10: =E10+H10 -> 676433.16
A11: VARAM budžeta programmā 30.00.00 “Attīstības nacionālie atbalsta instrumenti” pieejamais atlikums (neizlietotais finansējums) | B11: =-1155792.73 -> -1155792.7 | I11: =-1155792.73 -> -1155792.7
A12: KOPĀ | B12: =B4+B5+B6+B7+B8+B9+B10+B11 -> 21788249 | C12: =C4+C5+C6+C7+C8+C9+C10+C11 -> 16216914 | D12: =D4+D5+D6+D7+D8+D9+D10+D11 -> 16090997 | E12: =E4+E5+E6+E7+E8+E9+E10+E11 -> 18598133 | F12: =F4+F5+F6+F7+F8+F9+F10+F11 -> 2261380.5 | G12: =G4+G5+G6+G7+G8+G9+G10+G11 -> 4345908.6 | H12: =H4+H5+H6+H7+H8+H9+H10+H11 -> 14710187 | I12: =I4+I5+I6+I7+I8+I9+I10+I11 -> 32152527
A13: Papildus no valsts budžeta programmas 17.00.00 "Finansējums Ukrainas civiliedzīvotāju atbalsta likumā noteikto pasākumu īstenošanai" nepieciešamais finansējums 2023. gada jūlijs - novembris, euro | B13: =H12-G12 -> 10364278
A15: [1] Ar MK 28.03.2023. rīkojumu Nr. 170 "Par finanšu līdzekļu piešķiršanu no valsts budžeta programmas 17.00.00 "Finansējums Ukrainas civiliedzīvotāju atbalsta likumā noteikto pasākumu īstenošanai""
A17: [2] Saskaņā ar Ministru kabineta 2022. gada 21. decembra rīkojuma Nr. 966 “Par Pasākumu plānu atbalsta sniegšanai Ukrainas civiliedzīvotājiem Latvijas Republikā 2023. gadam” pielikumu "Pasākumu plāns atbalsta sniegšanai Ukrainas civiliedzīvotājiem Latvijas Republikā 2023. gadam".
A19: [3] Papildus nepieciešamais finansējums/prognoze vienotu valsts un pašvaldību sniegtā atbalsta koordinācijas punktu darbības nodrošināšanai tika aprēķināts, ņemot vērā Rīgas atbalsta centra darbības nodrošināšanas izdevumus vidēji mēnesī, sareizinot ar mēnešu skaitu:
A20: Izdevumi Rīgas atbalsta centra darbības nodrošināšanai laika periodā no 2023. gada janvāra līdz aprīlim kopā ir 245 754,88 euro.
A21: 245 754,88 euro : 4 mēnešiem = 61 438,72 euro/mēnesī
A22: 61 438,72 euro * 7 mēneši = 430 071,04 euro

Sheet 1.pielikums_EM_prognoze
N1: 1. pielikums
A2: Indikatīvais izdevumu aprēķins Ekonomikas ministrijas primāri sniedzamā atbalsta nodrošināšanai
A4: Gads | B4: 2023 | C4: 2023 | D4: 2023 | E4: 2023 | F4: 2023 | G4: 2023 | H4: 2023 | I4: 2023 | J4: 2023 | K4: 2023 | L4: 2023 | M4: 2023 | N4: komentāri
A5: Pārskata periods | B5: janvāris - novembris | C5: Janvāris | D5: Februāris | E5: Marts | F5: Aprīlis | G5: Maijs | H5: Jūnijs | I5: Jūlijs | J5: Augusts | K5: Septembris | L5: Oktobris | M5: Novembris
B6: (euro,centi) | C6: (euro,centi) | D6: (euro,centi) | E6: (euro,centi) | F6: (euro,centi) | G6: (euro,centi) | H6: (euro,centi) | I6: (euro,centi) | J6: (euro,centi) | K6: (euro,centi) | L6: (euro,centi) | M6: (euro,centi)
A7: Rādītāja nosaukums | B7: Plānotie izdevumi 2023. gadam izdevumi pārskata periodā | C7: Faktiskie izdevumi pārskata periodā | D7: Faktiskie izdevumi pārskata periodā | E7: Faktiskie izdevumi pārskata periodā | F7: Faktiskie izdevumi pārskata periodā | G7: Faktiskie izdevumi pārskata periodā | H7: Faktiskie izdevumi pārskata periodā | I7: Plānotie izdevumi pārskata periodā | J7: Plānotie izdevumi pārskata periodā | K7: Plānotie izdevumi pārskata periodā | L7: Plānotie izdevumi pārskata periodā | M7: Plānotie izdevumi pārskata periodā
A8: 1 | B8: 2 | C8: 3 | D8: 4 | E8: 5 | F8: 6 | G8: 7 | H8: 8 | I8: 9 | J8: 10 | K8: 11 | L8: 12 | M8: 13 | N8: 15
A9: Izmitināšana | B9: =SUM(C9:M9) -> 4185772.2 | C9: 439245.33 | D9: 452077.16 | E9: 470303.83 | F9: 396148.12 | G9: 426453.24 | H9: 326544.53 | I9: 335000 | J9: 335000 | K9: 335000 | L9: 335000 | M9: 335000 | N9: Indikatīvais izdevumu aprēķins primāri sniedzamā atbalsta nodrošināšanai līdz 2023.gada beigām tika veikts, ekstrapolējot līdz šim vērojamās izmitināšanas un ēdināšanas pakalpojumiem pašvaldību pieprasīto izdevumu kompensācijas tendences pa mēnešiem, sākot no 2023. gada sākuma. Turklāt tika ņemts vērā arī fakts, ka pašreiz primāri sniedzamā atbalsta apjoms Ukrainas civiliedzīvotāju atbalsta likuma 12.panta 1.2 prim daļā minēto īpašo personu grupām pieaug absolūtā izteiksmē, pateicoties augstākiem, salīdzinājumā ar citiem Ukrainas civiliedzīvotājiem, griestiem izmitināšanas izmaksām par cilvēknakti.
A10: Ēdināšana | B10: =SUM(C10:M10) -> 519417.88 | C10: 102566.71 | D10: 81601.63 | E10: 83198.71 | F10: 58009.24 | G10: 44247.75 | H10: 24793.84 | I10: 25000 | J10: 25000 | K10: 25000 | L10: 25000 | M10: 25000
A11: KOPĀ: | B11: =SUM(C11:M11) -> 4705190.1 | C11: =SUM(C9,C10) -> 541812.04 | D11: =SUM(D9,D10) -> 533678.79 | E11: =SUM(E9,E10) -> 553502.54 | F11: =SUM(F9,F10) -> 454157.36 | G11: =SUM(G9,G10) -> 470700.99 | H11: =SUM(H9,H10) -> 351338.37 | I11: =SUM(I9,I10) -> 360000 | J11: =SUM(J9,J10) -> 360000 | ... M11: =SUM(M9,M10) -> 360000

Sheet 2.pielikums_LM_prognoze
A1: 2. pielikums
A2: Indikatīvais izdevumu ietekmes aprēķins Labklājības ministrijas atbildības sociālā atbalsta nodrošināšanas jomai
A3: Gads | B3: 2023 | D3: 2023 | F3: 2023 | H3: 2023 | J3: 2023 | L3: 20223 | N3: Gads | O3: 2023 | Q3: 2023 | S3: 2023 | U3: 2023 | W3: 2023 | Y3: 2023 | AA3: 2023 | AC3: 2023 | AD3: 2023 | AE3: komentāri
A4: Pārskata periods | B4: Janvāris | D4: Februāris | F4: Marts | H4: Aprīlis | J4: Maijs | L4: Janvāris-maijs | N4: Pārskata periods | O4: Jūnijs | Q4: Jūlijs | S4: Augusts | U4: Septembris | W4: Oktobris | Y4: Novembris | AA4: Decembris | AC4: jūlijs-novembris | AD4: janvāris-novembris
C5: (euro,centi) | E5: (euro,centi) | G5: (euro,centi) | I5: (euro,centi) | K5: (euro,centi) | P5: (euro,centi) | R5: (euro,centi) | T5: (euro,centi) | V5: (euro,centi) | X5: (euro,centi) | Z5: (euro,centi) | AB5: (euro,centi) | AC5: (euro,centi) | AD5: (euro,centi)
A6: Rādītāja nosaukums | B6: Saņēmēju skaits | C6: Faktiskie izdevumi pārskata periodā | D6: Saņēmēju skaits | E6: Faktiskie izdevumi pārskata periodā | F6: Saņēmēju skaits | G6: Faktiskie izdevumi pārskata periodā | H6: Saņēmēju skaits | I6: Faktiskie izdevumi pārskata periodā | J6: Saņēmēju skaits | K6: Faktiskie izdevumi pārskata periodā | L6: Saņēmēju skaits | M6: Faktiskie izdevumi pārskata periodā | N6: Rādītāja nosaukums | O6: Saņēmēju skaits | P6: Faktiskie izdevumi pārskata periodā | Q6: Plānotais saņēmēju skaits | R6: Plānotie izdevumi pārskata periodā | S6: Plānotais saņēmēju skaits | T6: Plānotie izdevumi pārskata periodā | U6: Plānotais saņēmēju skaits | V6: Plānotie izdevumi pārskata periodā | W6: Plānotais saņēmēju skaits | X6: Plānotie izdevumi pārskata periodā | Y6: Plānotais saņēmēju skaits | Z6: Plānotie izdevumi pārskata periodā | AA6: Plānotais saņēmēju skaits | AB6: Plānotie izdevumi pārskata periodā | AC6: Plānotie izdevumi pārskata periodā | AD6: Plānotie izdevumi pārskata periodā
A7: 1 | B7: 2 | C7: 3 | D7: 4 | E7: 5 | F7: 6 | G7: 7 | H7: 8 | I7: 9 | J7: 10 | K7: 11 | N7: 1 | O7: 12 | P7: 13 | Q7: 14 | R7: 15 | S7: 16 | T7: 17 | U7: 18 | V7: 19 | W7: 20 | X7: 21 | Y7: 22 | Z7: 23 | AA7: 24 | AB7: 25 | AC7: 26 | AD7: 27 | AE7: 28
A8: Atlīdzība par ārkārtas aizbildņa pienākumu pildīšanu (UCAL 19.panta pirmā un otrā daļa) | B8: 341 | C8: 47471.81 | D8: 321 | E8: 44611.71 | F8: 316 | G8: 48262.38 | H8: 292 | I8: 43583.21 | J8: 310 | K8: 44229.87 | L8: =B8+D8+F8+H8+J8 -> 1580 | M8: =C8+E8+G8+I8+K8 -> 228158.98 | N8: Atlīdzība par ārkārtas aizbildņa pienākumu pildīšanu (UCAL 19.panta pirmā un otrā daļa) | O8: 290 | P8: 41556.88 | Q8: =L8/5 -> 316 | R8: =M8/5 -> 45631.796 | S8: =Q8 -> 316 | T8: =R8 -> 45631.796 | U8: =S8 -> 316 | V8: =T8 -> 45631.796 | W8: =U8 -> 316 | X8: =V8 -> 45631.796 | Y8: =W8 -> 316 | Z8: =X8 -> 45631.796 | ... AB8: =Z8 -> 45631.796 | AC8: =R8+T8+V8+X8+Z8 -> 228158.98 | AD8: =M8+P8+R8+T8+V8+X8+Z8+AB8 -> 543506.64 | AE8: Jūlija-decembra izdevumi plānoti atbilstoši vidējiem faktiskajiem izdevumiem mēnesī periodā 2023. gada janvāris - 2023. gada maijs.
A9: Pabalsts nepavadīta bērna uzturam (UCAL 19.panta pirmā, trešā un septītā daļa) | B9: 473 | C9: 121443.11 | D9: 453 | E9: 117342.04 | F9: 432 | G9: 110019.74 | H9: 447 | I9: 121240.99 | J9: 429 | K9: 110632.48 | L9: =B9+D9+F9+H9+J9 -> 2234 | M9: =C9+E9+G9+I9+K9 -> 580678.36 | N9: Pabalsts nepavadīta bērna uzturam (UCAL 19.panta pirmā, trešā un septītā daļa) | O9: 410 | P9: 104573.21 | Q9: =L9/5 -> 446.8 | R9: =M9/5 -> 116135.67 | S9: =Q9 -> 446.8 | T9: =R9 -> 116135.67 | U9: =S9 -> 446.8 | V9: =T9 -> 116135.67 | W9: =U9 -> 446.8 | X9: =V9 -> 116135.67 | Y9: =W9 -> 446.8 | Z9: =X9 -> 116135.67 | ... AB9: =Z9 -> 116135.67 | AC9: =R9+T9+V9+X9+Z9 -> 580678.36 | AD9: =M9+P9+R9+T9+V9+X9+Z9+AB9 -> 1382065.6 | AE9: Jūlija-decembra izdevumi plānoti atbilstoši vidējiem faktiskajiem izdevumiem mēnesī periodā 2023. gada janvāris - 2023. gada maijs.
A10: Pabalsts apģērba un mīkstā inventāra iegādei (UCAL 19.panta pirmā un piektā daļa) | B10: 140 | C10: 14032.12 | D10: 104 | E10: 10261.61 | F10: 83 | G10: 7838.05 | H10: 99 | I10: 11645.8 | J10: 89 | K10: 7083.16 | L10: =B10+D10+F10+H10+J10 -> 515 | M10: =C10+E10+G10+I10+K10 -> 50860.74 | N10: Pabalsts apģērba un mīkstā inventāra iegādei (UCAL 19.panta pirmā un piektā daļa) | O10: 78 | P10: 7225.36 | Q10: =L10/5 -> 103 | R10: =M10/5 -> 10172.148 | S10: =Q10 -> 103 | T10: =R10 -> 10172.148 | U10: =S10 -> 103 | V10: =T10 -> 10172.148 | W10: =U10 -> 103 | X10: =V10 -> 10172.148 | Y10: =W10 -> 103 | Z10: =X10 -> 10172.148 | ... AB10: =Z10 -> 10172.148 | AC10: =R10+T10+V10+X10+Z10 -> 50860.74 | AD10: =M10+P10+R10+T10+V10+X10+Z10+AB10 -> 119118.99 | AE10: Jūlija-decembra izdevumi plānoti atbilstoši vidējiem faktiskajiem izdevumiem mēnesī periodā 2023. gada janvāris - 2023. gada maijs.
A11: Garantētā minimālā ienākuma (GMI) pabalsts (UCAL 7.panta trešā daļa) | B11: 6671 | C11: 567520.88 | D11: 6308 | E11: 545157.77 | F11: 6119 | G11: 527272.94 | H11: 5471 | I11: 440922.64 | J11: 4898 | K11: 404017.96 | L11: =B11+D11+F11+H11+J11 -> 29467 | M11: =C11+E11+G11+I11+K11 -> 2484892.2 | N11: Garantētā minimālā ienākuma (GMI) pabalsts (UCAL 7.panta trešā daļa) | O11: 4416 | P11: 361883.32 | Q11: =L11/5 -> 5893.4 | R11: =M11/5*1.15 -> 571525.2 | S11: =Q11 -> 5893.4 | T11: =R11 -> 571525.2 | U11: =S11 -> 5893.4 | V11: =T11 -> 571525.2 | W11: =U11 -> 5893.4 | X11: =V11 -> 571525.2 | Y11: =W11 -> 5893.4 | Z11: =X11 -> 571525.2 | ... AB11: =Z11 -> 571525.2 | AC11: =R11+T11+V11+X11+Z11 -> 2857626 | AD11: =M11+P11+R11+T11+V11+X11+Z11+AB11 -> 6275926.7 | AE11: Jūlija-decembra saņēmēju skaits plānots atbilstoši vidējam faktiskajam saņēmēju skaitam mēnesī periodā 2023. gada janvāris - 2023. gada maijs, izdevumi palielināti par 15% (ar 01.07.2023. mainās GMI pabalsta apmērs) pret faktiskajiem izdevumiem mēnesī periodā 2023. gada janvāris - 2023. gada maijs.
A12: Pabalsts krīzes situācijā (UCAL 7.panta trešā daļa un 3 prim daļa) | B12: 816 | C12: 202370 | D12: 628 | E12: 156356 | F12: 605 | G12: 152674 | H12: 423 | I12: 104716 | J12: 363 | K12: 90150 | L12: =B12+D12+F12+H12+J12 -> 2835 | M12: =C12+E12+G12+I12+K12 -> 706266 | N12: Pabalsts krīzes situācijā (UCAL 7.panta trešā daļa un 3 prim daļa) | O12: 446 | P12: 113948 | Q12: =L12/5 -> 567 | R12: =M12/5 -> 141253.2 | S12: =Q12 -> 567 | T12: =R12 -> 141253.2 | U12: =S12 -> 567 | V12: =T12 -> 141253.2 | W12: =U12 -> 567 | X12: =V12 -> 141253.2 | Y12: =W12 -> 567 | Z12: =X12 -> 141253.2 | ... AB12: =Z12 -> 141253.2 | AC12: =R12+T12+V12+X12+Z12 -> 706266 | AD12: =M12+P12+R12+T12+V12+X12+Z12+AB12 -> 1667733.2 | AE12: Jūlija-decembra izdevumi plānoti atbilstoši vidējiem faktiskajiem izdevumiem mēnesī periodā 2023. gada janvāris - 2023. gada maijs.
A13: Mājokļa pabalsts mājsaimniecībai no Ukrainas ar īres līgumu (UCAL 7.panta trešā daļa) | B13: 5156 | C13: 716601.25 | D13: 5655 | E13: 888002.39 | F13: 6018 | G13: 976591.67 | H13: 5911 | I13: 893401.79 | J13: 5694 | K13: 718064.93 | L13: =B13+D13+F13+H13+J13 -> 28434 | M13: =C13+E13+G13+I13+K13 -> 4192662 | N13: Mājokļa pabalsts mājsaimniecībai no Ukrainas ar īres līgumu (UCAL 7.panta trešā daļa) | O13: 4437 | P13: 473345.1 | Q13: =L13/5*0.95 -> 5402.46 | R13: =M13/5*0.95 -> 796605.79 | S13: =Q13 -> 5402.46 | T13: =R13 -> 796605.79 | U13: =S13 -> 5402.46 | V13: =T13 -> 796605.79 | W13: =U13 -> 5402.46 | X13: =V13 -> 796605.79 | Y13: =L13/5 -> 5686.8 | Z13: =M13/5 -> 838532.41 | AA13: =Y13 -> 5686.8 | AB13: =Z13 -> 838532.41 | AC13: =R13+T13+V13+X13+Z13 -> 4024955.5 | AD13: =M13+P13+R13+T13+V13+X13+Z13+AB13 -> 9529495.1 | AE13: Jūlija-oktobra izdevumi plānoti ar 5% samazinājumu no vidējiem faktiskajiem izdevumiem mēnesī periodā 2023. gada janvāris - 2023. gada maijs. Novembra - decembra izdevumi plānoti atbilstoši vidējiem faktiskajiem izdevumiem mēnesī periodā 2023. gada janvāris - 2023. gada maijs.
A14: Pabalsts atsevišķu izdevumu apmaksai (UCAL 7.panta trešā daļa) | B14: 573 | C14: 50357.46 | D14: 657 | E14: 60892.6 | F14: 715 | G14: 80793.96 | H14: 660 | I14: 77020.94 | J14: 540 | K14: 61048.88 | L14: =B14+D14+F14+H14+J14 -> 3145 | M14: =C14+E14+G14+I14+K14 -> 330113.84 | N14: Pabalsts atsevišķu izdevumu apmaksai (UCAL 7.panta trešā daļa) | O14: 507 | P14: 75253.58 | Q14: =L14/5 -> 629 | R14: =M14/5 -> 66022.768 | S14: =Q14 -> 629 | T14: =R14 -> 66022.768 | U14: =S14 -> 629 | V14: =T14 -> 66022.768 | W14: =U14 -> 629 | X14: =V14 -> 66022.768 | Y14: =W14 -> 629 | Z14: =X14 -> 66022.768 | ... AB14: =Z14 -> 66022.768 | AC14: =R14+T14+V14+X14+Z14 -> 330113.84 | AD14: =M14+P14+R14+T14+V14+X14+Z14+AB14 -> 801504.03 | AE14: Jūlija-decembra izdevumi plānoti atbilstoši vidējiem faktiskajiem izdevumiem mēnesī periodā 2023. gada janvāris - 2023. gada maijs.
A15: Pakalpojums pārvietošanās atbalstam (UCAL 13.panta pirmās daļas 1.punkts) | B15: 5 | C15: 1146.28 | D15: 6 | E15: 1437.05 | F15: 8 | G15: 1524.47 | H15: 7 | I15: 1701.9 | J15: 5 | K15: 1273.94 | L15: =B15+D15+F15+H15+J15 -> 31 | M15: =C15+E15+G15+I15+K15 -> 7083.64 | N15: Pakalpojums pārvietošanās atbalstam (UCAL 13.panta pirmās daļas 1.punkts) | O15: 9 | P15: 3780.06 | Q15: =L15/5+1 -> 7.2 | R15: =M15/L15*Q15 -> 1645.2325 | S15: =Q15+1 -> 8.2 | T15: =R15/Q15*S15 -> 1873.737 | U15: =S15+1 -> 9.2 | V15: =T15/S15*U15 -> 2102.2415 | W15: =U15+1 -> 10.2 | X15: =V15/U15*W15 -> 2330.7461 | Y15: =W15+1 -> 11.2 | Z15: =X15/W15*Y15 -> 2559.2506 | AA15: =Y15+1 -> 12.2 | AB15: =Z15/Y15*AA15 -> 2787.7551 | AC15: =R15+T15+V15+X15+Z15 -> 10511.208 | AD15: =M15+P15+R15+T15+V15+X15+Z15+AB15 -> 24162.663 | AE15: Jūlija-decembra izdevumos ik mēnesi plānots palielinājums par 1 pakalpojuma saņēmēju, attiecīgi proporcionāli palielināti arī plānoti izdevumi.
A16: Sociālās rehabilitācijas pakalpojums vardarbībā cietušiem bērniem (UCAL 7.panta pirmā prim un trešā daļa) | J16: 0 | K16: 0 | L16: =B16+D16+F16+H16+J16 -> 0 | M16: =C16+E16+G16+I16+K16 -> 0 | N16: Sociālās rehabilitācijas pakalpojums vardarbībā cietušiem bērniem (UCAL 7.panta pirmā prim un trešā daļa) | AC16: =R16+T16+V16+X16+Z16 -> 0 | AD16: =M16+P16+R16+T16+V16+X16+Z16+AB16 -> 0
A17: Sociālās rehabilitācijas pakalpojums vardarbībā cietušām pilngadīgām personām (UCAL 7.panta pirmā prim un trešā daļa) | D17: 6 | E17: 1657.28 | F17: 4 | G17: 242 | H17: 4 | I17: 864.38 | J17: 2 | K17: 1083.2 | L17: =B17+D17+F17+H17+J17 -> 16 | M17: =C17+E17+G17+I17+K17 -> 3846.86 | N17: Sociālās rehabilitācijas pakalpojums vardarbībā cietušām pilngadīgām personām (UCAL 7.panta pirmā prim un trešā daļa) | O17: 2 | P17: 4205.6 | Q17: =L17/4 -> 4 | R17: =K17/J17*Q17 -> 2166.4 | S17: =Q17 -> 4 | T17: =R17 -> 2166.4 | U17: =S17 -> 4 | V17: =T17 -> 2166.4 | W17: =U17 -> 4 | X17: =V17 -> 2166.4 | Y17: =W17 -> 4 | Z17: =X17 -> 2166.4 | ... AB17: =Z17 -> 2166.4 | AC17: =R17+T17+V17+X17+Z17 -> 10832 | AD17: =M17+P17+R17+T17+V17+X17+Z17 -> 18884.46 | AE17: Jūlija-decembra izdevumi plānoti atbilstoši vidējiem faktiskajiem izdevumiem 2023.gada maijā.
A18: Ilgstošas sociālās aprūpes un sociālās rehabilitācijas pakalpojumi bērniem (UCAL 7.panta pirmā prim un trešā daļa un 18.panta deviņpadsmitā daļa) | B18: 1 | C18: 713 | D18: 1 | E18: 902.1 | F18: 1 | G18: 814.8 | H18: 1 | I18: 902.1 | J18: 0 | K18: 0 | L18: =B18+D18+F18+H18+J18 -> 4 | M18: =C18+E18+G18+I18+K18 -> 3332 | N18: Ilgstošas sociālās aprūpes un sociālās rehabilitācijas pakalpojumi bērniem (UCAL 7.panta pirmā prim un trešā daļa un 18.panta deviņpadsmitā daļa) | O18: 1 | P18: 420 | Q18: =H18 -> 1 | R18: =I18 -> 902.1 | S18: =Q18 -> 1 | T18: =R18 -> 902.1 | U18: =S18 -> 1 | V18: =T18 -> 902.1 | W18: =U18 -> 1 | X18: =V18 -> 902.1 | Y18: =W18 -> 1 | Z18: =X18 -> 902.1 | ... AB18: =Z18 -> 902.1 | AC18: =R18+T18+V18+X18+Z18 -> 4510.5 | AD18: =M18+P18+R18+T18+V18+X18+Z18 -> 8262.5 | AE18: Jūlija-decembra izdevumi plānoti atbilstoši vidējiem faktiskajiem izdevumiem mēnesī periodā 2023. gada janvāris - 2023. gada maijs.
A19: Ilgstošas sociālās aprūpes un sociālās rehabilitācijas pakalpojumi pilngadīgām personām (UCAL 7.panta pirmā prim un trešā daļa) | B19: 8 | C19: 9667.9 | D19: 11 | E19: 11290.47 | F19: 13 | G19: 13814.07 | H19: 13 | I19: 16908.62 | J19: 15 | K19: 17091.38 | L19: =B19+D19+F19+H19+J19 -> 60 | M19: =C19+E19+G19+I19+K19 -> 68772.44 | N19: Ilgstošas sociālās aprūpes un sociālās rehabilitācijas pakalpojumi pilngadīgām personām (UCAL 7.panta pirmā prim un trešā daļa) | O19: 19 | P19: 26343.07 | Q19: =J19+1 -> 16 | R19: =K19/J19*Q19 -> 18230.805 | S19: =Q19+1 -> 17 | T19: =R19/Q19*S19 -> 19370.231 | U19: =S19+1 -> 18 | V19: =T19/S19*U19 -> 20509.656 | W19: =U19+1 -> 19 | X19: =V19/U19*W19 -> 21649.081 | Y19: =W19+1 -> 20 | Z19: =X19/W19*Y19 -> 22788.507 | AA19: =Y19+1 -> 21 | AB19: =Z19/Y19*AA19 -> 23927.932 | AC19: =R19+T19+V19+X19+Z19 -> 102548.28 | AD19: =M19+P19+R19+T19+V19+X19+Z19 -> 197663.79 | AE19: Jūlija-decembra izdevumos ik mēnesi plānots palielinājums par 1 pakalpojuma saņēmēju, attiecīgi proporcionāli palielināti arī plānoti izdevumi.
A20: Piemaksa pie mēnešalgas un virsstundu darbs bāriņtiesu darbiniekiem, kuri iesaistīti atbalsta sniegšanā Ukrainas civiliedzīvotājiem (UCAL 13.panta pirmā prim daļa un pirmā divi prim daļa.) | B20: 94 | C20: 25857.87 | D20: 106 | E20: 35396.92 | F20: 82 | G20: 21862.73 | H20: 76 | I20: 22283.01 | J20: 84 | K20: 20672.9 | L20: =B20+D20+F20+H20+J20 -> 442 | M20: =C20+E20+G20+I20+K20 -> 126073.43 | N20: Piemaksa pie mēnešalgas un virsstundu darbs bāriņtiesu darbiniekiem, kuri iesaistīti atbalsta sniegšanā Ukrainas civiliedzīvotājiem (UCAL 13.panta pirmā prim daļa un pirmā divi prim daļa.) | O20: 101 | P20: 24287.69 | Q20: =L20/5 -> 88.4 | R20: =M20/5 -> 25214.686 | S20: =Q20 -> 88.4 | T20: =R20 -> 25214.686 | U20: =S20 -> 88.4 | V20: =T20 -> 25214.686 | W20: =U20 -> 88.4 | X20: =V20 -> 25214.686 | Y20: =W20 -> 88.4 | Z20: =X20 -> 25214.686 | ... AB20: =Z20 -> 25214.686 | AC20: =R20+T20+V20+X20+Z20 -> 126073.43 | AD20: =M20+P20+R20+T20+V20+X20+Z20 -> 276434.55 | AE20: Jūlija-decembra izdevumi plānoti atbilstoši vidējiem faktiskajiem izdevumiem mēnesī periodā 2023. gada janvāris - 2023. gada maijs.
A21: Piemaksa pie mēnešalgas | B21: 94 | C21: 25857.87 | D21: 106 | E21: 35396.92 | F21: 82 | G21: 21862.73 | H21: 76 | I21: 22283.01 | J21: 84 | K21: 20672.9 | L21: =B21+D21+F21+H21+J21 -> 442 | M21: =C21+E21+G21+I21+K21 -> 126073.43 | N21: Piemaksa pie mēnešalgas | O21: 101 | P21: 24287.69 | Q21: =L21/5 -> 88.4 | R21: =M21/5 -> 25214.686 | S21: =Q21 -> 88.4 | T21: =R21 -> 25214.686 | U21: =S21 -> 88.4 | V21: =T21 -> 25214.686 | W21: =U21 -> 88.4 | X21: =V21 -> 25214.686 | Y21: =W21 -> 88.4 | Z21: =X21 -> 25214.686 | ... AB21: =Z21 -> 25214.686 | AC21: =R21+T21+V21+X21+Z21 -> 126073.43 | AD21: =M21+P21+R21+T21+V21+X21+Z21 -> 276434.55
A22: Virsstundu darbs | J22: 0 | K22: 0 | L22: =B22+D22+F22+H22+J22 -> 0 | M22: =C22+E22+G22+I22+K22 -> 0 | N22: Virsstundu darbs | AC22: =R22+T22+V22+X22+Z22 -> 0 | AD22: =M22+P22+R22+T22+V22+X22+Z22 -> 0
A23: Piemaksa pie mēnešalgas un virsstundu darbs pašvaldības sociālo dienestu darbiniekiem, kuri iesaistīti atbalsta sniegšanā Ukrainas civiliedzīvotājiem (UCAL 13.panta pirmā prim daļa un pirmā divi prim daļa.) | B23: 167 | C23: 56800.76 | D23: 385 | E23: 139914.7 | F23: 402 | G23: 168159.86 | H23: 382 | I23: 147091.25 | J23: 391 | K23: 148543.93 | L23: =B23+D23+F23+H23+J23 -> 1727 | M23: =C23+E23+G23+I23+K23 -> 660510.5 | N23: Piemaksa pie mēnešalgas un virsstundu darbs pašvaldības sociālo dienestu darbiniekiem, kuri iesaistīti atbalsta sniegšanā Ukrainas civiliedzīvotājiem (UCAL 13.panta pirmā prim daļa un pirmā divi prim daļa.) | O23: 340 | P23: 132793.23 | Q23: =(D23+F23+H23+J23)/4 -> 390 | R23: =(E23+G23+I23+K23)/4 -> 150927.43 | S23: =Q23 -> 390 | T23: =R23 -> 150927.43 | U23: =S23 -> 390 | V23: =T23 -> 150927.43 | W23: =U23 -> 390 | X23: =V23 -> 150927.43 | Y23: =W23 -> 390 | Z23: =X23 -> 150927.43 | ... AB23: =Z23 -> 150927.43 | AC23: =R23+T23+V23+X23+Z23 -> 754637.18 | AD23: =M23+P23+R23+T23+V23+X23+Z23 -> 1547940.9 | AE23: Jūlija-decembra izdevumi plānoti atbilstoši vidējiem faktiskajiem izdevumiem mēnesī periodā 2023. gada janvāris - 2023. gada maijs.
A24: Piemaksa pie mēnešalgas | B24: 167 | C24: 56800.76 | D24: 381 | E24: 138275.45 | F24: 398 | G24: 166834.74 | H24: 378 | I24: 144739.73 | J24: 386 | K24: 146304.81 | L24: =B24+D24+F24+H24+J24 -> 1710 | M24: =C24+E24+G24+I24+K24 -> 652955.49 | N24: Piemaksa pie mēnešalgas | O24: 338 | P24: 131755.8 | Q24: =(D24+F24+H24+J24)/4 -> 385.75 | R24: =(E24+G24+I24+K24)/4 -> 149038.68 | S24: =Q24 -> 385.75 | T24: =R24 -> 149038.68 | U24: =S24 -> 385.75 | V24: =T24 -> 149038.68 | W24: =U24 -> 385.75 | X24: =V24 -> 149038.68 | Y24: =W24 -> 385.75 | Z24: =X24 -> 149038.68 | ... AB24: =Z24 -> 149038.68 | AC24: =R24+T24+V24+X24+Z24 -> 745193.41 | AD24: =M24+P24+R24+T24+V24+X24+Z24 -> 1529904.7
A25: Virsstundu darbs | D25: 4 | E25: 1639.25 | F25: 4 | G25: 1325.12 | H25: 4 | I25: 2351.52 | J25: 5 | K25: 2239.12 | L25: =B25+D25+F25+H25+J25 -> 17 | M25: =C25+E25+G25+I25+K25 -> 7555.01 | N25: Virsstundu darbs | O25: 2 | P25: 1037.43 | Q25: =(D25+F25+H25+J25)/4 -> 4.25 | R25: =(E25+G25+I25+K25)/4 -> 1888.7525 | S25: =Q25 -> 4.25 | T25: =R25 -> 1888.7525 | U25: =S25 -> 4.25 | V25: =T25 -> 1888.7525 | W25: =U25 -> 4.25 | X25: =V25 -> 1888.7525 | Y25: =W25 -> 4.25 | Z25: =X25 -> 1888.7525 | ... AB25: =Z25 -> 1888.7525 | AC25: =R25+T25+V25+X25+Z25 -> 9443.7625 | AD25: =M25+P25+R25+T25+V25+X25+Z25 -> 18036.202
A26: Citi pašvaldības piešķirtie sociālā atbalsta pasākumi (UCAL 7.panta trešā daļa, un pirmā prim daļa un 19.panta sestā daļa): | B26: =SUM(B27:B101) -> 1028 | C26: =SUM(C27:C101) -> 92333.29 | D26: =SUM(D27:D101) -> 941 | E26: =SUM(E27:E101) -> 94416.37 | F26: =SUM(F27:F101) -> 1015 | G26: =SUM(G27:G101) -> 97920.83 | H26: =SUM(H27:H101) -> 1104 | I26: =SUM(I27:I101) -> 116011.74 | ... K26: =SUM(K27:K101) -> 95675.24 | L26: =B26+D26+F26+H26+J26 -> 5211 | M26: =C26+E26+G26+I26+K26 -> 496357.47 | N26: Citi pašvaldības piešķirtie sociālā atbalsta pasākumi (UCAL 7.panta trešā daļa, un pirmā prim daļa un 19.panta sestā daļa): | O26: =SUM(O27:O101) -> 1116 | P26: =SUM(P27:P101) -> 131764.19 | Q26: =SUM(Q27:Q101) -> 1073.784 | R26: =SUM(R27:R101) -> 102532.02 | S26: =SUM(S27:S101) -> 1106.1979 | T26: =SUM(T27:T101) -> 105606.22 | U26: =SUM(U27:U101) -> 1139.8934 | V26: =SUM(V27:V101) -> 108800.85 | ... AD26: =SUM(AD27:AD101) -> 1172753.4
A27: Apbedīšanas pabalsts | B27: 1 | C27: 430 | D27: 2 | E27: 930 | F27: 6 | G27: 1833.24 | H27: 4 | I27: 1243.24 | J27: 4 | K27: 1640 | L27: =B27+D27+F27+H27+J27 -> 17 | M27: =C27+E27+G27+I27+K27 -> 6076.48 | N27: Dienas centru pakalpojums pilngadīgām personām un bērniem | O27: 3 | P27: 893.24 | Q27: =L40/5*1.03 -> 565.264 | R27: =M40/5*1.03 -> 55450.551 | S27: =Q27*1.03 -> 582.22192 | T27: =R27*1.03 -> 57114.067 | U27: =S27*1.03 -> 599.68858 | V27: =T27*1.03 -> 58827.489 | W27: =U27*1.03 -> 617.67923 | X27: =V27*1.03 -> 60592.314 | Y27: =W27*1.03 -> 636.20961 | Z27: =X27*1.03 -> 62410.083 | ... AB27: =Z27*1.03 -> 64282.386 | AC27: =R27+T27+V27+X27+Z27 -> 294394.5 | AD27: =M27+P27+R27+T27+V27+X27+Z27 -> 301364.22 | AE27: Jūlija-decembra izdevumi plānoti ar 3% palielinājumu pret vidējiem faktiskajiem izdevumiem mēnesī periodā 2023. gada janvāris - 2023. gada maijs.
A28: Aprūpe mājā pakalpojums | F28: 1 | G28: 147 | H28: 1 | I28: 147 | J28: 1 | K28: 147 | L28: =B28+D28+F28+H28+J28 -> 3 | M28: =C28+E28+G28+I28+K28 -> 441 | N28: Pabalsts zupas virtuves izmantošanai | Q28: =L80/5*1.05 -> 309.12 | R28: =M80/5*1.05 -> 28213.485 | S28: =Q28*1.05 -> 324.576 | T28: =R28*1.05 -> 29624.16 | U28: =S28*1.05 -> 340.8048 | V28: =T28*1.05 -> 31105.368 | W28: =U28*1.05 -> 357.84504 | X28: =V28*1.05 -> 32660.636 | Y28: =W28*1.05 -> 375.73729 | Z28: =X28*1.05 -> 34293.668 | ... AB28: =Z28*1.05 -> 36008.351 | AC28: =R28+T28+V28+X28+Z28 -> 155897.32 | AD28: =M28+P28+R28+T28+V28+X28+Z28 -> 156338.32 | AE28: Jūlija-decembra izdevumi plānoti ar 5% palielinājumu pret vidējiem faktiskajiem izdevumiem mēnesī periodā 2023. gada janvāris - 2023. gada maijs.
A29: Asistenta pakalpojums personām ar invaliditāti | B29: 1 | C29: 71.86 | D29: 1 | E29: 71.86 | F29: 1 | G29: 71.86 | H29: 0 | I29: 0 | J29: 0 | K29: 0 | L29: =B29+D29+F29+H29+J29 -> 3 | M29: =C29+E29+G29+I29+K29 -> 215.58 | N29: Asistenta pakalpojums personām ar īpašām vajadzībām | Q29: =(L29+L30+L49+L90+L94+L100)/5 -> 9.8 | R29: =(M29+M30+M49+M90+M94+M100)/5 -> 2936.62 | S29: =Q29 -> 9.8 | T29: =R29 -> 2936.62 | U29: =S29 -> 9.8 | V29: =T29 -> 2936.62 | W29: =U29 -> 9.8 | X29: =V29 -> 2936.62 | Y29: =W29 -> 9.8 | Z29: =X29 -> 2936.62 | ... AB29: =Z29 -> 2936.62 | AC29: =R29+T29+V29+X29+Z29 -> 14683.1 | AD29: =M29+P29+R29+T29+V29+X29+Z29 -> 14898.68 | AE29: Jūlija-decembra izdevumi plānoti atbilstoši vidējiem faktiskajiem izdevumiem mēnesī periodā 2023. gada janvāris - 2023. gada maijs.
A30: Asistenta pakalpojums personām ar īpašām vajadzībām | B30: 2 | C30: 526.9 | D30: 2 | E30: 526.9 | F30: 2 | G30: 479 | H30: 1 | I30: 56.21 | J30: 3 | K30: 327.05 | L30: =B30+D30+F30+H30+J30 -> 10 | M30: =C30+E30+G30+I30+K30 -> 1916.06 | N30: Psihologa konsultācijas | O30: 3 | P30: 715.41 | Q30: =(L35+L36+L84+L85+L86+L87+L88)/5 -> 9.8 | R30: =(M35+M36+M84+M85+M86+M87+M88)/5 -> 1320.61 | S30: =+Q30 -> 9.8 | T30: =R30 -> 1320.61 | U30: =S30 -> 9.8 | V30: =T30 -> 1320.61 | W30: =U30 -> 9.8 | X30: =V30 -> 1320.61 | Y30: =W30 -> 9.8 | Z30: =X30 -> 1320.61 | AA30: =Y30 -> 9.8 | AB30: =Z30 -> 1320.61 | AC30: =R30+T30+V30+X30+Z30 -> 6603.05 | AD30: =M30+P30+R30+T30+V30+X30+Z30 -> 9234.52 | AE30: Jūlija-decembra izdevumi plānoti atbilstoši vidējiem faktiskajiem izdevumiem mēnesī periodā 2023. gada janvāris - 2023. gada maijs.
A31: Atbalsts profesionālās ievirzes izglītības apmaksai | B31: 3 | C31: 21 | F31: 3 | G31: 21 | H31: 3 | I31: 21 | J31: 3 | K31: 21 | L31: =B31+D31+F31+H31+J31 -> 12 | M31: =C31+E31+G31+I31+K31 -> 84 | N31: Ēdināšana skolās un PII | Q31: =(L34+L42+L44+L45:L45+L46+L47+L64+L65+L66+L67+L74+L96+L97)/5 -> 74 | R31: =(M34+M42+M44+M45+M46+M47+M64+M65+M66+M67+M74+M96+M97)/5 -> 4307.134 | S31: =Q31 -> 74 | T31: =R31 -> 4307.134 | U31: =S31 -> 74 | V31: =T31 -> 4307.134 | W31: =U31 -> 74 | X31: =V31 -> 4307.134 | Y31: =W31 -> 74 | Z31: =X31 -> 4307.134 | ... AB31: =Z31 -> 4307.134 | AC31: =R31+T31+V31+X31+Z31 -> 21535.67 | AD31: =M31+P31+R31+T31+V31+X31+Z31 -> 21619.67 | AE31: Jūlija-decembra izdevumi plānoti atbilstoši vidējiem faktiskajiem izdevumiem mēnesī periodā 2023. gada janvāris - 2023. gada maijs.
A32: Bērna piedzimšanas pabalsts | J32: 1 | K32: 300 | L32: =B32+D32+F32+H32+J32 -> 1 | M32: =C32+E32+G32+I32+K32 -> 300 | N32: Materiālā palīdzība aizbildnim par bērna uzturēšanu, atbilstoši Saulkrastu novada domes 27.10.2021. Saistošajiem noteikumiem Nr.SN18/2021 "Par materiālo palīdzību Saulkrastu novadā" 32.punktam. | O32: 1 | P32: 350 | Q32: =L54/5 -> 13.6 | R32: =M54/5 -> 3465.194 | S32: =Q32 -> 13.6 | T32: =R32 -> 3465.194 | U32: =S32 -> 13.6 | V32: =T32 -> 3465.194 | W32: =U32 -> 13.6 | X32: =V32 -> 3465.194 | Y32: =W32 -> 13.6 | Z32: =X32 -> 3465.194 | ... AB32: =Z32 -> 3465.194 | AC32: =R32+T32+V32+X32+Z32 -> 17325.97 | AD32: =M32+P32+R32+T32+V32+X32+Z32 -> 17975.97 | AE32: Jūlija-decembra izdevumi plānoti atbilstoši vidējiem faktiskajiem izdevumiem mēnesī periodā 2023. gada janvāris - 2023. gada maijs.
A33: Bērna piedzimšanas pabalsts UK pilsonei | H33: 1 | I33: 270 | J33: 0 | K33: 0 | L33: =B33+D33+F33+H33+J33 -> 1 | M33: =C33+E33+G33+I33+K33 -> 270 | N33: Mājokļa pabalsts natūrā | Q33: =L56/5 -> 7.4 | R33: =M56/5 -> 843.932 | S33: =Q33 -> 7.4 | T33: =R33 -> 843.932 | U33: =S33 -> 7.4 | V33: =T33 -> 843.932 | W33: =U33 -> 7.4 | X33: =V33 -> 843.932 | Y33: =W33 -> 7.4 | Z33: =X33 -> 843.932 | ... AB33: =Z33 -> 843.932 | AC33: =R33+T33+V33+X33+Z33 -> 4219.66 | AD33: =M33+P33+R33+T33+V33+X33+Z33 -> 4489.66 | AE33: Jūlija-decembra izdevumi plānoti atbilstoši vidējiem faktiskajiem izdevumiem mēnesī periodā 2023. gada janvāris - 2023. gada maijs.
A34: bērnudārza apmaksa (netestēts) | B34: 1 | C34: 30.94 | D34: 2 | E34: 59.43 | H34: 3 | I34: 170.96 | J34: 2 | K34: 70.5 | L34: =B34+D34+F34+H34+J34 -> 8 | M34: =C34+E34+G34+I34+K34 -> 331.83 | N34: Patversmes pakalpojumi | O34: 2 | P34: 62.48 | Q34: =L82/3 -> 1 | R34: =M82/3 -> 796.91667 | S34: =Q34 -> 1 | T34: =R34 -> 796.91667 | U34: =S34 -> 1 | V34: =T34 -> 796.91667 | W34: =U34 -> 1 | X34: =V34 -> 796.91667 | Y34: =W34 -> 1 | Z34: =X34 -> 796.91667 | ... AB34: =Z34 -> 796.91667 | AC34: =R34+T34+V34+X34+Z34 -> 3984.5833 | AD34: =M34+P34+R34+T34+V34+X34+Z34 -> 4378.8933 | AE34: Jūlija-decembra izdevumi plānoti atbilstoši vidējiem faktiskajiem izdevumiem mēnesī periodā 2023. gada janvāris - 2023. gada maijs.
A35: Biedrība "Latvijas sarkanais Krusts" pirmā palīdzība - psiholoģiskās palīdzības sniegšana UCA centrā (6419) | B35: 13 | C35: 195 | H35: 0 | I35: 0 | J35: 0 | K35: 0 | L35: =B35+D35+F35+H35+J35 -> 13 | M35: =C35+E35+G35+I35+K35 -> 195 | N35: Pabalsts transporta izdevumu segšanai | Q35: =(L76+L79+L89)/5 -> 32.8 | R35: =(M76+M79+M89)/5 -> 1065.5 | S35: =Q35 -> 32.8 | T35: =R35 -> 1065.5 | U35: =S35 -> 32.8 | V35: =T35 -> 1065.5 | W35: =U35 -> 32.8 | X35: =V35 -> 1065.5 | Y35: =U35 -> 32.8 | Z35: =X35 -> 1065.5 | AA35: =Y35 -> 32.8 | AB35: =Z35 -> 1065.5 | AC35: =R35+T35+V35+X35+Z35 -> 5327.5 | AD35: =M35+P35+R35+T35+V35+X35+Z35 -> 5522.5 | AE35: Jūlija-decembra izdevumi plānoti atbilstoši vidējiem faktiskajiem izdevumiem mēnesī periodā 2023. gada janvāris - 2023. gada maijs.
A36: Biedrība "Skalbes" psiholoģiskā palīdzības sniegšana ārkārtas situācijā UCA centrā (6419) | B36: 1 | C36: 3735 | L36: =B36+D36+F36+H36+J36 -> 1 | M36: =C36+E36+G36+I36+K36 -> 3735 | N36: Pārējie izdevumi | Q36: =(L27+L28+L31+L32+L33+L37+L39+L41+L48+L50+L52+L53+L55+L57+L58+L59+L60+L61+L62+L63+L68+L69+L70+L71+L72+L73+L75+L77+L78+L81+L83+L91+L92+L93+L95+L101)/5 -> 51 | R36: =(M27+M28+M32+M33+M37+M39+M41+M48+M50+M52+M53+M55+M57+M58+M59+M60+M61+M62+N62+M63+M68+M69+M70+M71+M72+M73+M75+M77+M78+M81+M83+M91+M92+M93+M95+M101)/5 -> 4132.082 | S36: =Q36 -> 51 | T36: =R36 -> 4132.082 | U36: =S36 -> 51 | V36: =T36 -> 4132.082 | W36: =U36 -> 51 | X36: =V36 -> 4132.082 | Y36: =W36 -> 51 | Z36: =X36 -> 4132.082 | ... AB36: =Z36 -> 4132.082 | AC36: =R36+T36+V36+X36+Z36 -> 20660.41 | AD36: =M36+P36+R36+T36+V36+X36+Z36 -> 24395.41 | AE36: Jūlija-decembra izdevumi plānoti atbilstoši vidējiem faktiskajiem izdevumiem mēnesī periodā 2023. gada janvāris - 2023. gada maijs.
A37: DAC pakalpojumi | D37: 1 | E37: 165.62 | F37: 1 | G37: 191.1 | H37: 1 | I37: 350 | J37: 1 | K37: 210 | L37: =B37+D37+F37+H37+J37 -> 4 | M37: =C37+E37+G37+I37+K37 -> 916.72 | O37: 1 | P37: 332.5 | AD37: =M37+P37+R37+T37+V37+X37+Z37 -> 1249.22
A38: Daļējai apbedīšanas izdevumu segšanai | O38: 1 | P38: 150 | AD38: =M38+P38+R38+T38+V38+X38+Z38 -> 150
A39: Daudzbērnu ģimenes pabalsts | B39: 2 | C39: 100 | D39: 2 | E39: 100 | F39: 2 | G39: 100 | H39: 2 | I39: 100 | J39: 2 | K39: 100 | L39: =B39+D39+F39+H39+J39 -> 10 | M39: =C39+E39+G39+I39+K39 -> 500 | O39: 1 | P39: 50 | AD39: =M39+P39+R39+T39+V39+X39+Z39 -> 550
A40: Dienas centru pakalpojums pilngadīgām personām un bērniem | B40: 527 | C40: 49770.3 | D40: 522 | E40: 56590.26 | F40: 540 | G40: 52801.06 | H40: 555 | I40: 61202.05 | J40: 600 | K40: 48813.76 | L40: =B40+D40+F40+H40+J40 -> 2744 | M40: =C40+E40+G40+I40+K40 -> 269177.43 | O40: 561 | P40: 55417.61 | AD40: =M40+P40+R40+T40+V40+X40+Z40 -> 324595.04
...

Sheet 3.pielikums_IzM_prognoze
A1: 3. pielikums
A2: Indikatīvais izdevumu ietekmes aprēķins Izglītības un zinātnes ministrijas atbildības jomā plānotajiem atbalsta pasākumiem
A4: Gads | B4: 2023 | D4: 2023 | F4: 2023 | H4: 2023 | J4: 2023 | L4: 2023 | N4: 2023 | P4: 2023 | R4: 2023 | T4: 2023 | V4: 2023 | X4: 2023 | Y4: komentāri
A5: Pārskata periods | B5: Janvāris | D5: Februāris | F5: Marts | H5: Aprīlis | J5: Maijs | L5: Jūnijs | N5: Jūlijs | P5: Augusts | R5: Septembris | T5: Oktobris | V5: Novembris | X5: janvāris - novembris
C6: (euro,centi) | E6: (euro,centi) | G6: (euro,centi) | I6: (euro,centi) | K6: (euro,centi) | M6: (euro,centi) | O6: (euro,centi) | Q6: (euro,centi) | S6: (euro,centi) | U6: (euro,centi) | W6: (euro,centi) | X6: (euro,centi)
A7: Rādītāja nosaukums | B7: Faktiskais izglītojamo skaits | C7: Faktiskie izdevumi pārskata periodā | D7: Faktiskais izglītojamo skaits | E7: Faktiskie izdevumi pārskata periodā | F7: Faktiskais izglītojamo skaits | G7: Faktiskie izdevumi pārskata periodā | H7: Faktiskais izglītojamo skaits | I7: Faktiskie izdevumi pārskata periodā | J7: Faktiskais izglītojamo skaits | K7: Faktiskie izdevumi pārskata periodā | L7: Faktiskais izglītojamo skaits | M7: Faktiskie izdevumi pārskata periodā | N7: Plānotais izglītojamo skaits | O7: Plānotie izdevumi pārskata periodā | P7: Plānotais izglītojamo skaits | Q7: Plānotie izdevumi pārskata periodā | R7: Plānotais izglītojamo skaits² | S7: Plānotie izdevumi pārskata periodā | T7: Plānotais izglītojamo skaits² | U7: Plānotie izdevumi pārskata periodā | V7: Plānotais izglītojamo skaits² | W7: Plānotie izdevumi pārskata periodā | X7: Plānotie izdevumi kopā
A8: 1 | B8: 2 | C8: 3 | D8: 4 | E8: 5 | F8: 6 | G8: 7 | H8: 8 | I8: 9 | J8: 10 | K8: 11 | L8: 12 | M8: 13 | N8: 14 | O8: 15 | P8: 16 | Q8: 17 | R8: 18 | S8: 19 | T8: 20 | U8: 21 | V8: 22 | W8: 23 | X8: 26 | Y8: 27
A9: Pedagogu darba samaksa izglītības ieguves nodrošināšanai (UCAL 131.pants) | B9: =292+261+575+183+8+2 -> 1321 | C9: =215852.97+59285.69+71651.22+37416.83+2247.29+338.86 -> 386792.86 | D9: =2997+416+606+199+49+11 -> 4278 | E9: =416038.6+92892.41+79683.64+46380.32+4474.75+1850.4 -> 641320.12 | F9: =2913+401+650+215+51+11 -> 4241 | G9: =342807.27+72352.48+97934.32+48117.63+4038.12+1983.36 -> 567233.18 | H9: =2857+398+660+223+51+11 -> 4200 | I9: =327841.06+68707.93+103869.2+53261.11+4693.08+1799 -> 560171.38 | J9: =2792+389+652+222+57+11 -> 4123 | K9: =335152.28+71617.58+109705.01+51315.77+5288.73+1721.9 -> 574801.27 | L9: 3725 | M9: 403320.91 | N9: 1526 | O9: 322664 | P9: 1526 | Q9: 322664 | R9: 1501 | S9: 318056 | T9: 1590 | U9: 351832 | V9: 1686 | W9: 376505 | X9: =W9+U9+S9+Q9+O9+M9+K9+I9+G9+E9+C9 -> 4825360.7 | Y9: Aprēķini ir balstīti uz sekojošiem pieņēmumiem, ka 1) par tiem izglītojamajiem, kuriem no 1.septembra tiks aprēķināta mērķdotācija pedagogu darba samaksai, papildus atbalsts periodā no 1.septembra līdz 31.decembrim tiks nodrošināts tikai par tiem izglītojamajiem, kuri VIIS sistēmā būs reģistrēti sākot no 2023.gada 1.janvāra līdz 2023.gada 31.augustam. 2) Izglītojamo datu aplēses balstās uz VIIS pieejamo informāciju. Jāņem vērā, ka izglītojamo skaits un līdz ar to nepieciešamais finansējums no septembra mēneša var būtiski pieaugt, jo 2023/2024 mācību gadam izglītojamo skaits izglītības iestādēs ir jāapstiprina 5.septembrī.
A10: Vienreizēja palīdzība mācību līdzekļu nodrošināšanai (UCAL 131.pants) | C10: =100+1643.32 -> 1743.32 | E10: =100+1965.46 -> 2065.46 | G10: =100+937.55 -> 1037.55 | I10: =200+831.99 -> 1031.99 | K10: =100+799.29 -> 899.29 | M10: 691.32 | N10: 494 | O10: 42022 | R10: 233 | S10: 11650 | T10: 88 | U10: 4400 | V10: 97 | W10: 4850 | X10: =W10+U10+S10+Q10+O10+M10+K10+I10+G10+E10+C10 -> 70390.93
A11: Papildus izmaksas pašvaldību profesionālajām izglītības iestādēm profesionālās izglītības ieguves nodrošināšanai (stipendija, uzturēšanas izmaksas) (UCAL 131.pants) | C11: 0 | E11: 0 | G11: 0 | I11: 0 | K11: 0 | M11: 0 | R11: 4 | S11: 429 | T11: 4 | U11: 429 | V11: 4 | W11: 429 | X11: =W11+U11+S11+Q11+O11+M11+K11+I11+G11+E11+C11 -> 1287
A12: Nepilngadīgo Ukrainas civiliedzīvotāju, kuri izglītības iestādēs klātienē apgūst pamatizglītības programmas 1., 2., 3. un 4. klasē, ēdināšana. (UCAL 131.pants) | C12: =3133.1+68.8 -> 3201.9 | E12: =4139.01+73.72 -> 4212.73 | G12: =4694.28+131.5 -> 4825.78 | I12: =4370.05+279.87 -> 4649.92 | K12: =4343.21+335.9 -> 4679.11 | M12: 4016.6 | R12: =139+14 -> 153 | S12: 9928 | T12: =153+14 -> 167 | U12: 8773 | V12: =168+14 -> 182 | W12: 11810 | X12: =W12+U12+S12+Q12+O12+M12+K12+I12+G12+E12+C12 -> 56097.04
A13: KOPĀ | B13: x | C13: =SUM(C9:C12) -> 391738.08 | D13: x | E13: =SUM(E9:E12) -> 647598.31 | F13: x | G13: =SUM(G9:G12) -> 573096.51 | H13: x | I13: =SUM(I9:I12) -> 565853.29 | J13: x | K13: =SUM(K9:K12) -> 580379.67 | L13: x | M13: =SUM(M9:M12) -> 408028.83 | N13: x | O13: =SUM(O9:O12) -> 364686 | P13: x | Q13: =SUM(Q9:Q12) -> 322664 | R13: x | S13: =SUM(S9:S12) -> 340063 | T13: x | U13: =SUM(U9:U12) -> 365434 | V13: x | W13: =SUM(W9:W12) -> 393594 | X13: =SUM(X9:X12) -> 4953135.7

Sheet 4.pielikums_VARAM_KAC_prognoze
A1: 4. pielikums
A2: Indikatīvais izdevumu ietekmes aprēķins Vides aizsardzības un reģionālās attīstības ministrijas atbildības valsts pārvaldes pakalpojumu pieteikšanas atbalsta jomai
A3: Gads | C3: 2023 | E3: 2023 | G3: 2023 | I3: 2023 | K3: 2023 | M3: 2023 | O3: 2023 | Q3: 2023 | S3: 2023 | U3: 2023 | W3: 2023 | Y3: 2023 | Z3: komentāri
A4: Pārskata periods | C4: Janvāris | E4: Februāris | G4: Marts | I4: Aprīlis | K4: Maijs | M4: Jūnijs | O4: Jūlijs | Q4: Augusts | S4: Septembris | U4: Oktobris | W4: Novembris | Y4: Janvāris - novembris
D5: (euro,centi) | F5: (euro,centi) | H5: (euro,centi) | J5: (euro,centi) | L5: (euro,centi) | N5: (euro,centi) | P5: (euro,centi) | R5: (euro,centi) | T5: (euro,centi) | V5: (euro,centi) | X5: (euro,centi) | Y5: (euro,centi)
A6: Rādītāja nosaukums | B6: Rādītāja nosaukums (pēc izmaiņām 2023. maijā) | C6: Saņēmēju skaits | D6: Faktiskie izdevumi pārskata periodā | E6: Saņēmēju skaits | F6: Faktiskie izdevumi pārskata periodā | G6: Saņēmēju skaits | H6: Faktiskie izdevumi pārskata periodā | I6: Saņēmēju skaits | J6: Faktiskie izdevumi pārskata periodā | K6: Saņēmēju skaits | L6: Faktiskie izdevumi pārskata periodā | M6: Saņēmēju skaits | N6: Faktiskie izdevumi pārskata periodā | O6: Plānotais saņēmēju skaits | P6: Plānotie izdevumi pārskata periodā | Q6: Plānotais saņēmēju skaits | R6: Plānotie izdevumi pārskata periodā | S6: Plānotais saņēmēju skaits | T6: Plānotie izdevumi pārskata periodā | U6: Plānotais saņēmēju skaits | V6: Plānotie izdevumi pārskata periodā | W6: Plānotais saņēmēju skaits | X6: Plānotie izdevumi pārskata periodā | Y6: Plānotie izdevumi pārskata periodā
A7: 1 | B7: 2 | C7: 3 | D7: 4 | E7: 5 | F7: 6 | G7: 7 | H7: 8 | I7: 9 | J7: 10 | K7: 11 | L7: 12 | M7: 13 | N7: 14 | O7: 15 | P7: 16 | Q7: 17 | R7: 18 | S7: 19 | T7: 20 | U7: 21 | V7: 22 | W7: 23 | X7: 24 | Y7: 27 | Z7: 28
A8: E-paklapojuma “Vīzas pieteikums” aizpildīšana un iesniegšana | B8: E-paklapojuma “Vīzas pieteikums” aizpildīšana un iesniegšana | C8: 6 | D8: 12 | E8: 8 | F8: 16 | G8: 29 | H8: 58 | I8: 2 | J8: 4 | K8: 0 | L8: 0 | M8: 0 | N8: 0 | O8: 0 | P8: 0 | Q8: 0 | R8: 0 | S8: 0 | T8: 0 | U8: 0 | V8: 0 | W8: 0 | X8: 0 | Y8: =X8+V8+T8+R8+P8+N8+L8+J8+H8+F8+D8 -> 90 | Z8: Aprēkinot potenciālo saņēmēju skaitu, ņemts vērā sekojošais 1) 3.ceturksnī skaits varētu būt mazāks, tādēļ atzīmēts 2023.gada 1.pusgada vidējais saņēmēju skaits; 2) 4.ceturksnī skaits var pieaugt, tādēl atzīmēts augstākais 1.pusgada saņēmēju skaits; 3) viena pakalpojuma izmaksas ir 2 EUR.
A9: E-pakalpojuma “Anketas iesniegšanas uzturēšanās atļaujas pieprasīšanai” aizpildīšana un iesniegšana | B9: Uzturēšanās atļaujas pieprasīšana un reģistrācija; Ielūguma vai izsaukuma apstiprināšanas vīzas vai uzturēšanās atļaujas pieprasīšanai Latvijas Republikā | C9: 153 | D9: 306 | E9: 236 | F9: 472 | G9: 445 | H9: 890 | I9: 224 | J9: 448 | K9: =72+97 -> 169 | L9: =144+194 -> 338 | M9: =56+127 -> 183 | N9: =112+254 -> 366 | O9: 242 | P9: =O9*2 -> 484 | Q9: 242 | R9: =Q9*2 -> 484 | S9: 242 | T9: =S9*2 -> 484 | U9: 445 | V9: =U9*2 -> 890 | W9: 445 | X9: =W9*2 -> 890 | Y9: =X9+V9+T9+R9+P9+N9+L9+J9+H9+F9+D9 -> 6052
A10: Fizisko personu reģistrācija Fizisko personu reģistrā | B10: Ziņu iekļaušana un aktualizēšana Fizisko personu reģistrā | C10: 104 | D10: 208 | E10: 86 | F10: 172 | G10: 138 | H10: 276 | I10: 65 | J10: 130 | K10: 34 | L10: 68 | M10: 65 | N10: 130 | O10: 88 | P10: =O10*2 -> 176 | Q10: 88 | R10: =Q10*2 -> 176 | S10: 88 | T10: =S10*2 -> 176 | U10: 138 | V10: =U10*2 -> 276 | W10: 138 | X10: =W10*2 -> 276 | Y10: =X10+V10+T10+R10+P10+N10+L10+J10+H10+F10+D10 -> 2064
A11: Fizisko personu reģistrācija Ukrainas civiliedzīvotāju atbalsta sniegšanai nepieciešamās informācijas reģistrā (UCANIR) | B11: Ukrainas civiliedzīvotāju reģistrācija UCANIR | C11: 59 | D11: 118 | E11: 100 | F11: 200 | G11: 206 | H11: 406 | I11: 250 | J11: 500 | K11: 106 | L11: 212 | M11: 57 | N11: 114 | O11: 137 | P11: =O11*2 -> 274 | Q11: 137 | R11: =Q11*2 -> 274 | S11: 137 | T11: =S11*2 -> 274 | U11: 250 | V11: =U11*2 -> 500 | W11: 250 | X11: =W11*2 -> 500 | Y11: =X11+V11+T11+R11+P11+N11+L11+J11+H11+F11+D11 -> 3372
A12: Izdruka no Fizisko personu reģistra | B12: Izziņa no fizisko personu reģistra | C12: 0 | D12: 0 | E12: 0 | F12: 0 | G12: 0 | H12: 0 | I12: 0 | J12: 0 | K12: 2 | L12: 4 | M12: 0 | N12: 0 | O12: 2 | P12: =O12*2 -> 4 | Q12: 2 | R12: =Q12*2 -> 4 | S12: 2 | T12: =S12*2 -> 4 | U12: 10 | V12: =U12*2 -> 20 | W12: 10 | X12: =W12*2 -> 20 | Y12: =X12+V12+T12+R12+P12+N12+L12+J12+H12+F12+D12 -> 56
A13: Pakalpojuma "Pabalsts Ukrainas civiliedzīvotājam" aizpildīšana un iesniegšana | B13: Bērna piedzimšanas pabalsts | C13: 14 | D13: 28 | E13: 13 | F13: 26 | G13: 11 | H13: 22 | I13: 14 | J13: 28 | K13: 0 | L13: 0 | M13: 0 | N13: 0 | O13: 12 | P13: =O13*2 -> 24 | Q13: 12 | R13: =Q13*2 -> 24 | S13: 12 | T13: =S13*2 -> 24 | U13: 14 | V13: =U13*2 -> 28 | W13: 14 | X13: =W13*2 -> 28 | Y13: =D13+F13+H13+J13+N15+P13+P14+P15+R13+R14+R15+T13+T14+T15+V13+V14+V15+X13+X14+X15 -> 490
B14: Bērna kopšanas pabalsts | K14: 0 | L14: 0 | M14: 0 | N14: 0 | O14: 12 | P14: =O14*2 -> 24 | Q14: 12 | R14: =Q14*2 -> 24 | S14: 12 | T14: =S14*2 -> 24 | U14: 14 | V14: =U14*2 -> 28 | W14: 14 | X14: =W14*2 -> 28
B15: Ģimenes valsts pabalsts | K15: 0 | L15: 0 | M15: 1 | N15: 2 | O15: 12 | P15: =O15*2 -> 24 | Q15: 12 | R15: =Q15*2 -> 24 | S15: 12 | T15: =S15*2 -> 24 | U15: 14 | V15: =U15*2 -> 28 | W15: 14 | X15: =W15*2 -> 28
A16: Atbalsts pagaidu aizsardzības statusa anulēšanas pieteikšanai | B16: Nepilsoņa statusa zaudēšana | C16: 7 | D16: 14 | E16: 19 | F16: 38 | G16: 19 | H16: 38 | I16: 29 | J16: 58 | K16: 4 | L16: 8 | M16: 11 | N16: 22 | O16: 16 | P16: =O16*2 -> 32 | Q16: 16 | R16: =Q16*2 -> 32 | S16: 16 | T16: =S16*2 -> 32 | U16: 29 | V16: =U16*2 -> 58 | W16: 29 | X16: =W16*2 -> 58 | Y16: =X16+V16+T16+R16+P16+N16+L16+J16+H16+F16+D16 -> 390
A17: KOPĀ | C17: =SUM(C8:C16) -> 343 | D17: =SUM(D8:D16) -> 686 | E17: =SUM(E8:E16) -> 462 | F17: =SUM(F8:F16) -> 924 | G17: =SUM(G8:G16) -> 848 | H17: =SUM(H8:H16) -> 1690 | I17: =SUM(I8:I16) -> 584 | J17: =SUM(J8:J16) -> 1168 | ... Y17: =SUM(Y8:Y16) -> 12514

Sheet 5.pielikums_VARAM_māj_uzlab
K1: 5. pielikums
A3: Plānotais finansējuma apmērs pašvaldībām 2023. gadā par veiktajiem/plānotajiem uzlabojumiem pašvaldību ēkās, lai nodrošinātu Ukrainas civiliedzīvotāju izmitināšanu
A5: Nr. p. k. | B5: Pašvaldības nosaukums | C5: Saskaņā ar 24.04.2023. FM rīkojumu Nr. 107 izmaksātais finansējums (Komisijas par ēku uzlabošanu Ukrainas civiliedzīvotāju atbalstam 2023. gada 25. janvāra sēdē atbalstītais finansējums), euro | D5: Jaunizveidoto vietu skaits | E5: Saskaņā ar 06.06.2023. FM rīkojumu Nr. 171 izmaksātais finansējums (Komisijas par ēku uzlabošanu Ukrainas civiliedzīvotāju atbalstam 2023. gada 17. maija sēdē atbalstītais finansējums), euro | F5: Jaunizveidoto vietu skaits | G5: Pašvaldībām kopā izmaksātais finansējums, euro | H5: Kopā jaunizveidoto vietu skaits | I5: Plānotais papildus nepieciešamais finansējums līdz 30.11.2023., euro | J5: Plānotais jaunizveidoto vietu skaits | K5: Kopā 2023. gadā plānotais nepieciešamais finansējums, euro
A6: 1 | B6: Balvu novada pašvaldībai | C6: 42156.79 | D6: 100 | G6: =C6+E6 -> 42156.79 | H6: =D6+F6 -> 100 | K6: =G6+I6 -> 42156.79
A7: 2 | B7: Bauskas novada pašvaldībai | E7: 125364.13 | F7: 75 | G7: =C7+E7 -> 125364.13 | H7: =D7+F7 -> 75 | I7: 25000 | J7: 60 | K7: =G7+I7 -> 150364.13
A8: 3 | B8: Cēsu novada pašvaldībai | I8: 62000 | J8: 80 | K8: =G8+I8 -> 62000
A9: 4 | B9: Jēkabpils novada pašvaldībai | E9: 17980.9 | F9: 18 | G9: =C9+E9 -> 17980.9 | H9: =D9+F9 -> 18 | K9: =G9+I9 -> 17980.9
A10: 5 | B10: Liepājas valstspilsētas pašvaldībai | C10: 240394.37 | D10: 100 | E10: 107671.37 | F10: 100 | G10: =C10+E10 -> 348065.74 | H10: =D10+F10 -> 200 | K10: =G10+I10 -> 348065.74
A11: 6 | B11: Limbažu novada pašvaldībai | I11: 9995 | J11: 30 | K11: =G11+I11 -> 9995
A12: 7 | B12: Rīgas valstspilsētas pašvaldībai | I12: 152494.78 | J12: 125 | K12: =G12+I12 -> 152494.78
A13: 8 | B13: Siguldas novada pašvaldība | I13: 95000 | J13: 96 | K13: =G13+I13 -> 95000
A14: 9 | B14: Smiltenes novada pašvaldībai | C14: 19947.28 | D14: 35 | E14: 32664.05 | F14: 40 | G14: =C14+E14 -> 52611.33 | H14: =D14+F14 -> 75 | I14: 10000 | J14: 9 | K14: =G14+I14 -> 62611.33
A15: 10 | B15: Valmieras novada pašvaldībai | E15: 239024.75 | F15: 80 | G15: =C15+E15 -> 239024.75 | H15: =D15+F15 -> 80 | K15: =G15+I15 -> 239024.75
A16: 11 | B16: Varakļānu novada pašvaldībai | C16: 7962.44 | D16: 16 | G16: =C16+E16 -> 7962.44 | H16: =D16+F16 -> 16 | K16: =G16+I16 -> 7962.44
B17: KOPĀ | C17: =SUM(C6:C16) -> 310460.88 | D17: =SUM(D6:D16) -> 251 | E17: =SUM(E6:E16) -> 522705.2 | F17: =SUM(F6:F16) -> 313 | G17: =SUM(G6:G16) -> 833166.08 | H17: =SUM(H6:H16) -> 564 | I17: =SUM(I6:I16) -> 354489.78 | J17: =SUM(J6:J16) -> 400 | K17: =SUM(K6:K16) -> 1187655.9
