Workbook
Name Recover: [1]Macro1!$A$99
Name Rikojums2222: [2]Macro1!$A$106
Name TableName: "Dummy"

Sheet Kopsavilkums
C1: Pielikums Nr.93 Ministru kabineta rīkojuma "Par finanšu līdzekļu piešķiršanu no valsts budžeta programmas "Līdzekļi neparedzētiem gadījumiem"" projekta sākotnējās ietekmes novērtējuma ziņojumam (anotācijai)
B2: Jūnijs | C2: EUR | D2: EKK 3000 | E2: EKK 7472 | F2: EKK 2000
B3: Izmaksas par Covid 19 izmeklējumiem (NVD) | C3: =C4+C7+C21 -> 1801981 | D3: =D4+D7+D21 -> 1792822 | E3: =E4+E7+E21 -> 9159 | F3: =F4+F7+F21 -> 0
B4: Covid-19 diagnostika | C4: =SUM(C5:C6) -> 378050 | D4: =SUM(D5:D6) -> 378050 | E4: =SUM(E5:E6) -> 0 | F4: =SUM(F5:F6) -> 0
B5: Piemaksa par Covid-19 diagnostiku stacionāros | C5: =ātrie_testi_stac_daļa!K61 -> 331239 | D5: =C5 -> 331239
B6: COVID-19 ātrie testi (ambulatorā daļa) | C6: =ātrie_testi_amb_daļa!H25 -> 46811 | D6: =C6 -> 46811
B7: Covid-19 pakalpojumu programma laboratorijām | C7: =SUM(C8:C20) -> 1220231 | D7: =SUM(D8:D20) -> 1211072 | E7: =SUM(E8:E20) -> 9159 | F7: =SUM(F8:F20) -> 0
B8: Rīgas Austrumu klīniskā universitātes slimnīca, SIA | C8: =Covid_pakalp_progr!I15 -> 68205 | D8: =C8 -> 68205
B9: Pārtikas drošības, dzīvnieku veselības un vides zinātniskais institūts "BIOR" | C9: =Covid_pakalp_progr!I24 -> 9159 | E9: =C9 -> 9159 | F9: =D9 -> 0
B10: „Centrālā laboratorija” SIA | C10: =Covid_pakalp_progr!I57 -> 526868 | D10: =C10 -> 526868
B11: “E. Gulbja Laboratorija” SIA | C11: =Covid_pakalp_progr!I67 -> 480672 | D11: =C11 -> 480672
B12: Dziedniecība, Sabiedrība ar ierobežotu atbildību | C12: =Covid_pakalp_progr!I36 -> 62264 | D12: =C12 -> 62264
B13: NMS Laboratorija, SIA | C13: =Covid_pakalp_progr!I44 -> 20601 | D13: =C13 -> 20601
B14: iVF Riga, SIA | C14: =Covid_pakalp_progr!I80 -> 91 | D14: =C14 -> 91
B15: Paula Stradiņa klīniskā universitātes slimnīca, VSIA | C15: =Covid_pakalp_progr!I74 -> 29674 | D15: =C15 -> 29674
B16: „Veselības centrs 4” SIA | C16: =Covid_pakalp_progr!I88 -> 8032 | D16: =C16 -> 8032
B17: Sendito, SIA | C17: =Covid_pakalp_progr!I105 -> 2478 | D17: =C17 -> 2478
B18: Alūksnes slimnīca SIA | C18: =Covid_pakalp_progr!I110 -> 186 | D18: =C18 -> 186
B19: Ogres rajona slimnīca SIA | C19: =Covid_pakalp_progr!I118 -> 5106 | D19: =C19 -> 5106
B20: Ziemeļkurzemes reģionālā slimnīca, SIA | C20: =Covid_pakalp_progr!I96 -> 6895 | D20: =C20 -> 6895
B21: Citas saistītās Covid-19 izmeklējumu izmaksas | C21: =SUM(C22:C23) -> 203700 | D21: =SUM(D22:D23) -> 203700 | E21: =SUM(E22:E23) -> 0 | F21: =SUM(F22:F23) -> 0
B22: Rīgas Austrumu klīniskā universitātes slimnīca SIA (11.pielikums: antivielas un ātrā diagnostika ar Multiplex reaģentiem) | C22: =RAKUS_antivielu_testi!H12 -> 37647 | D22: =C22 -> 37647
B23: Rīgas Austrumu klīniskā universitātes slimnīca SIA: Sekvencēšana | C23: =Sekvencēšana!E13 -> 166053 | D23: =C23 -> 166053
B24: Izmaksas par Covid 19 izmeklējumiem (VTMEC) | C24: =VTMEC_test!H7 -> 541 | D24: =D25+D28+D42 -> 0 | E24: =E25+E28+E42 -> 0 | F24: =C24 -> 541
B26: Pavisam kopā, euro | C26: =C3+C24 -> 1802522 | D26: =D3+D24 -> 1792822 | E26: =E3+E24 -> 9159 | F26: =F3+F24 -> 541

Sheet ātrie_testi_stac_daļa
H1: Turpinājums pielikumam Nr.93 Ministru kabineta rīkojuma "Par finanšu līdzekļu piešķiršanu no valsts budžeta programmas "Līdzekļi neparedzētiem gadījumiem"" projekta sākotnējās ietekmes novērtējuma ziņojumam (anotācijai)
A2: COVID-19 diagnostikas manipulācijas (ātrie testi, stacionārā daļa)*
A3: Ārstniecības iestādes nosaukums | B3: Manipulācijas kods | C3: Manupulācijas nosaukums | D3: Tarifs, euro | E3: Janvāris | F3: Februāris | G3: Marts | H3: Aprīlis | I3: Maijs | J3: Jūnijs | K3: Summa, euro
A4: Aizkraukles slimnīca | B4: 47268 | C4: SARS-CoV-2 (COVID-19) antigēna noteikšana (Ag eksprestests) (ar reaģenta komplekta vērtību) | D4: 4.52 | I4: 47 | J4: 219 | K4: =ROUND(D4*E4+D4*F4+D4*G4+D4*H4+D4*I4+D4*J4,2) -> 1202.32
A5: Alūksnes slimnīca | B5: 47268 | C5: SARS-CoV-2 (COVID-19) antigēna noteikšana (Ag eksprestests) (ar reaģenta komplekta vērtību) | D5: 4.52 | H5: 1 | I5: 40 | J5: 150 | K5: =ROUND(D5*E5+D5*F5+D5*G5+D5*H5+D5*I5+D5*J5,2) -> 863.32
A6: Balvu un Gulbenes slimnīcu apvienība | B6: 47328 | C6: SARS-CoV-2 (COVID-19) antigēna noteikšana (Ag eksprestests) (bez reaģenta komplekta vērtības) | D6: 3.83 | I6: 30 | J6: 124 | K6: =ROUND(D6*E6+D6*F6+D6*G6+D6*H6+D6*I6+D6*J6,2) -> 589.82
A7: Bauskas slimnīca | B7: 47328 | C7: SARS-CoV-2 (COVID-19) antigēna noteikšana (Ag eksprestests) (bez reaģenta komplekta vērtības) | D7: 3.83 | I7: 41 | J7: 35 | K7: =ROUND(D7*E7+D7*F7+D7*G7+D7*H7+D7*I7+D7*J7,2) -> 291.08
A8: Bērnu klīniskā universitātes slimnīca | B8: 47078 | C8: SARS-CoV-2 RNS (COVID-19) noteikšana ar reālā laika PĶR (bez parauga paņemšanas) ātrai diagnostikai un diferenciāldiagnostikai (ar reaģenta vērtību) | D8: 44.25 | H8: 5 | I8: -2 | K8: =ROUND(D8*E8+D8*F8+D8*G8+D8*H8+D8*I8+D8*J8,2) -> 132.75
A9: Bērnu klīniskā universitātes slimnīca | B9: 47078 | C9: SARS-CoV-2 RNS (COVID-19) noteikšana ar reālā laika PĶR (bez parauga paņemšanas) ātrai diagnostikai un diferenciāldiagnostikai (ar reaģenta vērtību) | D9: 48.58 | E9: 2 | K9: =ROUND(D9*E9+D9*F9+D9*G9+D9*H9+D9*I9+D9*J9,2) -> 97.16
A10: Cēsu klīnika | B10: 47268 | C10: SARS-CoV-2 (COVID-19) antigēna noteikšana (Ag eksprestests) (ar reaģenta komplekta vērtību) | D10: 4.52 | I10: 47 | J10: 208 | K10: =ROUND(D10*E10+D10*F10+D10*G10+D10*H10+D10*I10+D10*J10,2) -> 1152.6
A11: Daugavpils psihoneiroloģiskā slimnīca | B11: 47268 | C11: SARS-CoV-2 (COVID-19) antigēna noteikšana (Ag eksprestests) (ar reaģenta komplekta vērtību) | D11: 4.52 | H11: 4 | I11: 121 | J11: 102 | K11: =ROUND(D11*E11+D11*F11+D11*G11+D11*H11+D11*I11+D11*J11,2) -> 1026.04
A12: Daugavpils psihoneiroloģiskā slimnīca | B12: 47268 | C12: SARS-CoV-2 (COVID-19) antigēna noteikšana (Ag eksprestests) (ar reaģenta komplekta vērtību) | D12: 5.28 | G12: 1 | K12: =ROUND(D12*E12+D12*F12+D12*G12+D12*H12+D12*I12+D12*J12,2) -> 5.28
A13: Daugavpils reģionālā slimnīca | B13: 47078 | C13: SARS-CoV-2 RNS (COVID-19) noteikšana ar reālā laika PĶR (bez parauga paņemšanas) ātrai diagnostikai un diferenciāldiagnostikai (ar reaģenta vērtību) | D13: 44.25 | H13: 7 | I13: 199 | J13: 685 | K13: =ROUND(D13*E13+D13*F13+D13*G13+D13*H13+D13*I13+D13*J13,2) -> 39426.75
A14: Daugavpils reģionālā slimnīca | B14: 47078 | C14: SARS-CoV-2 RNS (COVID-19) noteikšana ar reālā laika PĶR (bez parauga paņemšanas) ātrai diagnostikai un diferenciāldiagnostikai (ar reaģenta vērtību) | D14: 48.58 | G14: 4 | K14: =ROUND(D14*E14+D14*F14+D14*G14+D14*H14+D14*I14+D14*J14,2) -> 194.32
A15: Daugavpils reģionālā slimnīca | B15: 47268 | C15: SARS-CoV-2 (COVID-19) antigēna noteikšana (Ag eksprestests) (ar reaģenta komplekta vērtību) | D15: 4.52 | H15: 3 | I15: 15 | J15: 43 | K15: =ROUND(D15*E15+D15*F15+D15*G15+D15*H15+D15*I15+D15*J15,2) -> 275.72
A16: Daugavpils reģionālā slimnīca | B16: 47268 | C16: SARS-CoV-2 (COVID-19) antigēna noteikšana (Ag eksprestests) (ar reaģenta komplekta vērtību) | D16: 5.28 | G16: 22 | K16: =ROUND(D16*E16+D16*F16+D16*G16+D16*H16+D16*I16+D16*J16,2) -> 116.16
A17: Dobeles un apkārtnes slimnīca | B17: 47328 | C17: SARS-CoV-2 (COVID-19) antigēna noteikšana (Ag eksprestests) (bez reaģenta komplekta vērtības) | D17: 3.83 | I17: 35 | J17: 171 | K17: =ROUND(D17*E17+D17*F17+D17*G17+D17*H17+D17*I17+D17*J17,2) -> 788.98
A18: Jelgavas pilsētas slimnīca | B18: 47078 | C18: SARS-CoV-2 RNS (COVID-19) noteikšana ar reālā laika PĶR (bez parauga paņemšanas) ātrai diagnostikai un diferenciāldiagnostikai (ar reaģenta vērtību) | D18: 44.25 | H18: 3 | I18: 42 | J18: 121 | K18: =ROUND(D18*E18+D18*F18+D18*G18+D18*H18+D18*I18+D18*J18,2) -> 7345.5
A19: Jelgavas pilsētas slimnīca | B19: 47078 | C19: SARS-CoV-2 RNS (COVID-19) noteikšana ar reālā laika PĶR (bez parauga paņemšanas) ātrai diagnostikai un diferenciāldiagnostikai (ar reaģenta vērtību) | D19: 48.58 | G19: 5 | K19: =ROUND(D19*E19+D19*F19+D19*G19+D19*H19+D19*I19+D19*J19,2) -> 242.9
A20: Jelgavas pilsētas slimnīca | B20: 47328 | C20: SARS-CoV-2 (COVID-19) antigēna noteikšana (Ag eksprestests) (bez reaģenta komplekta vērtības) | D20: 3.83 | G20: 1 | I20: 195 | J20: 856 | K20: =ROUND(D20*E20+D20*F20+D20*G20+D20*H20+D20*I20+D20*J20,2) -> 4029.16
A21: Jēkabpils reģionālā slimnīca | B21: 47078 | C21: SARS-CoV-2 RNS (COVID-19) noteikšana ar reālā laika PĶR (bez parauga paņemšanas) ātrai diagnostikai un diferenciāldiagnostikai (ar reaģenta vērtību) | D21: 44.25 | H21: 9 | I21: 73 | J21: 391 | K21: =ROUND(D21*E21+D21*F21+D21*G21+D21*H21+D21*I21+D21*J21,2) -> 20930.25
A22: Jēkabpils reģionālā slimnīca | B22: 47268 | C22: SARS-CoV-2 (COVID-19) antigēna noteikšana (Ag eksprestests) (ar reaģenta komplekta vērtību) | D22: 4.52 | H22: 5 | I22: 78 | J22: 338 | K22: =ROUND(D22*E22+D22*F22+D22*G22+D22*H22+D22*I22+D22*J22,2) -> 1902.92
A23: Jēkabpils reģionālā slimnīca | B23: 47268 | C23: SARS-CoV-2 (COVID-19) antigēna noteikšana (Ag eksprestests) (ar reaģenta komplekta vērtību) | D23: 5.28 | G23: 1 | K23: =ROUND(D23*E23+D23*F23+D23*G23+D23*H23+D23*I23+D23*J23,2) -> 5.28
A24: Jūrmalas slimnīca | B24: 47328 | C24: SARS-CoV-2 (COVID-19) antigēna noteikšana (Ag eksprestests) (bez reaģenta komplekta vērtības) | D24: 3.83 | I24: 59 | J24: 303 | K24: =ROUND(D24*E24+D24*F24+D24*G24+D24*H24+D24*I24+D24*J24,2) -> 1386.46
A25: Kuldīgas slimnīca | B25: 47073 | C25: SARS-CoV-2 RNS (COVID-19) noteikšana ar reālā laika PĶR (bez parauga paņemšanas) | D25: 23.32 | H25: -172 | I25: -152 | K25: =ROUND(D25*E25+D25*F25+D25*G25+D25*H25+D25*I25+D25*J25,2) -> -7555.68
A26: Kuldīgas slimnīca | B26: 47073 | C26: SARS-CoV-2 RNS (COVID-19) noteikšana ar reālā laika PĶR (bez parauga paņemšanas) | D26: 27.03 | E26: -453 | F26: -343 | G26: -385 | K26: =ROUND(D26*E26+D26*F26+D26*G26+D26*H26+D26*I26+D26*J26,2) -> -31922.43
A27: Kuldīgas slimnīca | B27: 47078 | C27: SARS-CoV-2 RNS (COVID-19) noteikšana ar reālā laika PĶR (bez parauga paņemšanas) ātrai diagnostikai un diferenciāldiagnostikai (ar reaģenta vērtību) | D27: 44.25 | H27: -4 | K27: =ROUND(D27*E27+D27*F27+D27*G27+D27*H27+D27*I27+D27*J27,2) -> -177
A28: Liepājas reģionālā slimnīca | B28: 47268 | C28: SARS-CoV-2 (COVID-19) antigēna noteikšana (Ag eksprestests) (ar reaģenta komplekta vērtību) | D28: 4.52 | I28: 163 | J28: 831 | K28: =ROUND(D28*E28+D28*F28+D28*G28+D28*H28+D28*I28+D28*J28,2) -> 4492.88
A29: Limbažu slimnīca | B29: 47268 | C29: SARS-CoV-2 (COVID-19) antigēna noteikšana (Ag eksprestests) (ar reaģenta komplekta vērtību) | D29: 4.52 | I29: 69 | J29: 92 | K29: =ROUND(D29*E29+D29*F29+D29*G29+D29*H29+D29*I29+D29*J29,2) -> 727.72
A30: Limbažu slimnīca | B30: 47268 | C30: SARS-CoV-2 (COVID-19) antigēna noteikšana (Ag eksprestests) (ar reaģenta komplekta vērtību) | D30: 5.28 | G30: 1 | K30: =ROUND(D30*E30+D30*F30+D30*G30+D30*H30+D30*I30+D30*J30,2) -> 5.28
A31: Ludzas medicīnas centrs | B31: 47268 | C31: SARS-CoV-2 (COVID-19) antigēna noteikšana (Ag eksprestests) (ar reaģenta komplekta vērtību) | D31: 4.52 | I31: 33 | J31: 57 | K31: =ROUND(D31*E31+D31*F31+D31*G31+D31*H31+D31*I31+D31*J31,2) -> 406.8
A32: Madonas slimnīca | B32: 47268 | C32: SARS-CoV-2 (COVID-19) antigēna noteikšana (Ag eksprestests) (ar reaģenta komplekta vērtību) | D32: 4.52 | H32: 2 | I32: 11 | J32: 86 | K32: =ROUND(D32*E32+D32*F32+D32*G32+D32*H32+D32*I32+D32*J32,2) -> 447.48
A33: Ogres rajona slimnīca | B33: 47073 | C33: SARS-CoV-2 RNS (COVID-19) noteikšana ar reālā laika PĶR (bez parauga paņemšanas) | D33: 23.32 | I33: 62 | J33: 318 | K33: =ROUND(D33*E33+D33*F33+D33*G33+D33*H33+D33*I33+D33*J33,2) -> 8861.6
A34: Ogres rajona slimnīca | B34: 47268 | C34: SARS-CoV-2 (COVID-19) antigēna noteikšana (Ag eksprestests) (ar reaģenta komplekta vērtību) | D34: 4.52 | I34: 27 | J34: 137 | K34: =ROUND(D34*E34+D34*F34+D34*G34+D34*H34+D34*I34+D34*J34,2) -> 741.28
A35: Ogres rajona slimnīca | B35: 47328 | C35: SARS-CoV-2 (COVID-19) antigēna noteikšana (Ag eksprestests) (bez reaģenta komplekta vērtības) | D35: 3.83 | I35: 15 | J35: 154 | K35: =ROUND(D35*E35+D35*F35+D35*G35+D35*H35+D35*I35+D35*J35,2) -> 647.27
A36: Paula Stradiņa klīniskā universitātes slimnīca | B36: 47073 | C36: SARS-CoV-2 RNS (COVID-19) noteikšana ar reālā laika PĶR (bez parauga paņemšanas) | D36: 23.32 | H36: 24 | I36: 371 | J36: 1489 | K36: =ROUND(D36*E36+D36*F36+D36*G36+D36*H36+D36*I36+D36*J36,2) -> 43934.88
A37: Paula Stradiņa klīniskā universitātes slimnīca | B37: 47073 | C37: SARS-CoV-2 RNS (COVID-19) noteikšana ar reālā laika PĶR (bez parauga paņemšanas) | D37: 27.03 | E37: 1 | F37: 1 | G37: 1 | K37: =ROUND(D37*E37+D37*F37+D37*G37+D37*H37+D37*I37+D37*J37,2) -> 81.09
A38: Paula Stradiņa klīniskā universitātes slimnīca | B38: 47078 | C38: SARS-CoV-2 RNS (COVID-19) noteikšana ar reālā laika PĶR (bez parauga paņemšanas) ātrai diagnostikai un diferenciāldiagnostikai (ar reaģenta vērtību) | D38: 44.25 | H38: 5 | I38: 164 | J38: 498 | K38: =ROUND(D38*E38+D38*F38+D38*G38+D38*H38+D38*I38+D38*J38,2) -> 29514.75
A39: Paula Stradiņa klīniskā universitātes slimnīca | B39: 47078 | C39: SARS-CoV-2 RNS (COVID-19) noteikšana ar reālā laika PĶR (bez parauga paņemšanas) ātrai diagnostikai un diferenciāldiagnostikai (ar reaģenta vērtību) | D39: 48.58 | E39: 1 | G39: 2 | K39: =ROUND(D39*E39+D39*F39+D39*G39+D39*H39+D39*I39+D39*J39,2) -> 145.74
A40: Paula Stradiņa klīniskā universitātes slimnīca | B40: 60046 | C40: COVID-19 transporta barotne ar diviem lokaniem tamponiem ātrajam molekulārajam testam | D40: 0.8 | H40: 5 | I40: 163 | J40: 498 | K40: =ROUND(D40*E40+D40*F40+D40*G40+D40*H40+D40*I40+D40*J40,2) -> 532.8
...

Sheet ātrie_testi_amb_daļa
F1: Turpinājums pielikumam Nr.93 Ministru kabineta rīkojuma "Par finanšu līdzekļu piešķiršanu no valsts budžeta programmas "Līdzekļi neparedzētiem gadījumiem"" projekta sākotnējās ietekmes novērtējuma ziņojumam (anotācijai)
A2: Rēķina mēnesis: jūnijs 2022
A3: COVID-19 diagnostikas manipulācijas (ātrie testi, ambulatorā daļa)
A4: NVD TN (pakalpojumu sniedzēja) | B4: ĀI (pakalpojumu sniedzēja) kods | C4: ĀI (pakalpojumu sniedzēja) nosaukums | D4: Manipulācijas kods | E4: Manipulācijas nosaukums | F4: Manipulāciju skaits | G4: Tarifs, euro | H4: Summa, euro
A5: NVD Kurzemes nodaļa | B5: 640800004 | C5: Dr. Būmanes ģimenes ārsta prakse, SIA | D5: 47268 | E5: SARS-CoV-2 (COVID-19) antigēna noteikšana (Ag eksprestests) (ar reaģenta komplekta vērtību) | F5: 2 | G5: 4.52 | H5: =F5*G5 -> 9.04
A6: NVD Kurzemes nodaļa | B6: 900200046 | C6: Tukuma slimnīca, Sabiedrība ar ierobežotu atbildību | D6: 47328 | E6: SARS-CoV-2 (COVID-19) antigēna noteikšana (Ag eksprestests) (bez reaģenta komplekta vērtības) | F6: 98 | G6: 3.83 | H6: =F6*G6 -> 375.34
A7: NVD Latgales nodaļa | B7: 50020401 | C7: Daugavpils reģionālā slimnīca, Sabiedrība ar ierobežotu atbildību | D7: 47078 | E7: SARS-CoV-2 RNS (COVID-19) noteikšana ar reālā laika PĶR (bez parauga paņemšanas) ātrai diagnostikai un diferenciāldiagnostikai (ar reaģenta vērtību) | F7: 412 | G7: 44.25 | H7: =F7*G7 -> 18231
A8: NVD Latgales nodaļa | B8: 50075422 | C8: Voicehoviča Jekaterīna - ģimenes ārsta prakse | D8: 47268 | E8: SARS-CoV-2 (COVID-19) antigēna noteikšana (Ag eksprestests) (ar reaģenta komplekta vērtību) | F8: 1 | G8: 4.52 | H8: =F8*G8 -> 4.52
A9: NVD Latgales nodaļa | B9: 681000006 | C9: Vorkale Anita - ģimenes ārsta un arodveselības un arodslimību ārsta prakse | D9: 47268 | E9: SARS-CoV-2 (COVID-19) antigēna noteikšana (Ag eksprestests) (ar reaģenta komplekta vērtību) | F9: 1 | G9: 4.52 | H9: =F9*G9 -> 4.52
A10: NVD Rīgas nodaļa | B10: 1000043 | C10: Apotheka, SIA | D10: 47268 | E10: SARS-CoV-2 (COVID-19) antigēna noteikšana (Ag eksprestests) (ar reaģenta komplekta vērtību) | F10: 24 | G10: 4.52 | H10: =F10*G10 -> 108.48
A11: NVD Rīgas nodaļa | B11: 10011804 | C11: Bērnu klīniskā universitātes slimnīca, Valsts sabiedrība ar ierobežotu atbildību | D11: 47078 | E11: SARS-CoV-2 RNS (COVID-19) noteikšana ar reālā laika PĶR (bez parauga paņemšanas) ātrai diagnostikai un diferenciāldiagnostikai (ar reaģenta vērtību) | F11: 485 | G11: 44.25 | H11: =F11*G11 -> 21461.25
A12: NVD Rīgas nodaļa | B12: 10064120 | C12: Veselības centru apvienība, AS | D12: 47268 | E12: SARS-CoV-2 (COVID-19) antigēna noteikšana (Ag eksprestests) (ar reaģenta komplekta vērtību) | F12: 218 | G12: 4.52 | H12: =F12*G12 -> 985.36
A13: NVD Rīgas nodaļa | B13: 130020302 | C13: Jūrmalas slimnīca, Sabiedrība ar ierobežotu atbildību | D13: 47268 | E13: SARS-CoV-2 (COVID-19) antigēna noteikšana (Ag eksprestests) (ar reaģenta komplekta vērtību) | F13: 5 | G13: 4.52 | H13: =F13*G13 -> 22.6
A14: NVD Rīgas nodaļa | B14: 130020302 | C14: Jūrmalas slimnīca, Sabiedrība ar ierobežotu atbildību | D14: 47328 | E14: SARS-CoV-2 (COVID-19) antigēna noteikšana (Ag eksprestests) (bez reaģenta komplekta vērtības) | F14: 138 | G14: 3.83 | H14: =F14*G14 -> 528.54
A15: NVD Vidzemes nodaļa | B15: 250000092 | C15: Vidzemes slimnīca, Sabiedrība ar ierobežotu atbildību | D15: 47078 | E15: SARS-CoV-2 RNS (COVID-19) noteikšana ar reālā laika PĶR (bez parauga paņemšanas) ātrai diagnostikai un diferenciāldiagnostikai (ar reaģenta vērtību) | F15: 33 | G15: 44.25 | H15: =F15*G15 -> 1460.25
A16: NVD Vidzemes nodaļa | B16: 250000092 | C16: Vidzemes slimnīca, Sabiedrība ar ierobežotu atbildību | D16: 47268 | E16: SARS-CoV-2 (COVID-19) antigēna noteikšana (Ag eksprestests) (ar reaģenta komplekta vērtību) | F16: 191 | G16: 4.52 | H16: =F16*G16 -> 863.32
... A23: NVD Zemgales nodaļa | B23: 741400024 | C23: Pokule Ineta - ģimenes ārsta prakse | D23: 47268 | E23: SARS-CoV-2 (COVID-19) antigēna noteikšana (Ag eksprestests) (ar reaģenta komplekta vērtību) | F23: 2 | G23: 4.52 | H23: =F23*G23 -> 9.04
G24: Pavisam kopā: | H24: =SUM(H5:H23) -> 46810.23
G25: Kopā | H25: =ROUNDUP(H24,0) -> 46811

Sheet Covid_pakalp_progr
H1: Turpinājums pielikumam Nr.93 Ministru kabineta rīkojuma "Par finanšu līdzekļu piešķiršanu no valsts budžeta programmas "Līdzekļi neparedzētiem gadījumiem"" projekta sākotnējās ietekmes novērtējuma ziņojumam (anotācijai)
A2: Covid-19 pakalpojumu programma
A3: Rēķina mēnesis: jūnijs 2022
A4: NVD TN (pakalpojumu sniedzēja) | B4: ĀI kods (pakalpojumu sniedzēja) | C4: ĀI nosaukums (pakalpojumu sniedzēja) | D4: Pakalpojumu programma | E4: Manipulācijas kods | F4: Manipulācijas nosaukums | G4: Manipulāciju skaits | H4: Tarifs | I4: Summa
A5: NVD Rīgas nodaļa | B5: 10000234 | C5: Rīgas Austrumu klīniskā universitātes slimnīca, SIA | D5: AP82 - Covid-19 laboratorijas pakalpojumi | E5: 47060 | F5: SARS-CoV-2 (COVID-19) ambulatora parauga (nazofaringeāla uztriepe) paņemšana pārvietojamā teltī, modulī vai izbraukumā | G5: 505 | H5: 3.24 | I5: =G5*H5 -> 1636.2
A6: NVD Rīgas nodaļa | B6: 10000234 | C6: Rīgas Austrumu klīniskā universitātes slimnīca, SIA | D6: AP82 - Covid-19 laboratorijas pakalpojumi | E6: 47073 | F6: SARS-CoV-2 RNS (COVID-19) noteikšana ar reālā laika PĶR (bez parauga paņemšanas) | G6: 938 | H6: 23.32 | I6: =G6*H6 -> 21874.16
A7: NVD Rīgas nodaļa | B7: 10000234 | C7: Rīgas Austrumu klīniskā universitātes slimnīca, SIA | D7: AP82 - Covid-19 laboratorijas pakalpojumi | E7: 47075 | F7: SARS-CoV-2 RNS (COVID-19) apstiprināšana ar reālā laika PĶR (bez parauga paņemšanas) | G7: 3 | H7: 24.59 | I7: =G7*H7 -> 73.77
A8: NVD Rīgas nodaļa | B8: 10000234 | C8: Rīgas Austrumu klīniskā universitātes slimnīca, SIA | D8: AP82 - Covid-19 laboratorijas pakalpojumi | E8: 47078 | F8: SARS-CoV-2 RNS (COVID-19) noteikšana ar reālā laika PĶR (bez parauga paņemšanas) ātrai diagnostikai un diferenciāldiagnostikai (ar reaģenta vērtību) | G8: 605 | H8: 44.25 | I8: =G8*H8 -> 26771.25
A9: NVD Rīgas nodaļa | B9: 10000234 | C9: Rīgas Austrumu klīniskā universitātes slimnīca, SIA | D9: AP82 - Covid-19 laboratorijas pakalpojumi | E9: 47079 | F9: SARS-CoV-2 (COVID-19) transporta barotne ar diviem lokaniem tamponiem | G9: 3972 | H9: 0.8 | I9: =G9*H9 -> 3177.6
A10: NVD Rīgas nodaļa | B10: 10000234 | C10: Rīgas Austrumu klīniskā universitātes slimnīca, SIA | D10: AP82 - Covid-19 laboratorijas pakalpojumi | E10: 47416 | F10: SARS-CoV-2 (COVID-19) ambulatora parauga (1 paraugs) (nazofaringeāla uztriepe) paņemšana laboratorijā | G10: 82 | H10: 2.29 | I10: =G10*H10 -> 187.78
A11: NVD Rīgas nodaļa | B11: 10000234 | C11: Rīgas Austrumu klīniskā universitātes slimnīca, SIA | D11: AP82 - Covid-19 laboratorijas pakalpojumi | E11: 47075R | F11: R SARS-CoV-2 RNS (COVID 19) apstiprināšana ar reālā laika PĶR (bez parauga paņemšanas) | G11: 589 | H11: 24.59 | I11: =G11*H11 -> 14483.51
H12: Kopā: | I12: =SUM(I5:I11) -> 68204.27
H13: Reaģenti | I13: 0
H14: Pavisam kopā: | I14: =I12+I13 -> 68204.27
I15: =ROUNDUP(I14,0) -> 68205
A17: NVD TN (pakalpojumu sniedzēja) | B17: ĀI kods (pakalpojumu sniedzēja) | C17: ĀI nosaukums (pakalpojumu sniedzēja) | D17: Pakalpojumu programma | E17: Manipulācijas kods | F17: Manipulācijas nosaukums | G17: Manipulāciju skaits | H17: Tarifs | I17: Summa
A18: NVD Rīgas nodaļa | B18: 10000297 | C18: Pārtikas drošības, dzīvnieku veselības un vides zinātniskais institūts "BIOR" | D18: AP82 - Covid-19 laboratorijas pakalpojumi | E18: 47060 | F18: SARS-CoV-2 (COVID-19) ambulatora parauga (nazofaringeāla uztriepe) paņemšana pārvietojamā teltī, modulī vai izbraukumā | G18: 253 | H18: 3.24 | I18: =G18*H18 -> 819.72
A19: NVD Rīgas nodaļa | B19: 10000297 | C19: Pārtikas drošības, dzīvnieku veselības un vides zinātniskais institūts "BIOR" | D19: AP82 - Covid-19 laboratorijas pakalpojumi | E19: 47073 | F19: SARS-CoV-2 RNS (COVID-19) noteikšana ar reālā laika PĶR (bez parauga paņemšanas) | G19: 320 | H19: 23.32 | I19: =G19*H19 -> 7462.4
A20: NVD Rīgas nodaļa | B20: 10000297 | C20: Pārtikas drošības, dzīvnieku veselības un vides zinātniskais institūts "BIOR" | D20: AP82 - Covid-19 laboratorijas pakalpojumi | E20: 47079 | F20: SARS-CoV-2 (COVID-19) transporta barotne ar diviem lokaniem tamponiem | G20: 253 | H20: 0.8 | I20: =G20*H20 -> 202.4
A21: NVD Rīgas nodaļa | B21: 10000297 | C21: Pārtikas drošības, dzīvnieku veselības un vides zinātniskais institūts "BIOR" | D21: AP82 - Covid-19 laboratorijas pakalpojumi | E21: 47268 | F21: SARS-CoV-2 (COVID-19) antigēna noteikšana (Ag eksprestests) (ar reaģenta komplekta vērtību) | G21: 124 | H21: 4.52 | I21: =G21*H21 -> 560.48
A22: NVD Rīgas nodaļa | B22: 10000297 | C22: Pārtikas drošības, dzīvnieku veselības un vides zinātniskais institūts "BIOR" | D22: AP82 - Covid-19 laboratorijas pakalpojumi | E22: 47405 | F22: Siekalu parauga paņemšanas komplekts un loģistika SARS-CoV-2 (COVID-19) izmeklējumam | G22: 67 | H22: 1.7 | I22: =G22*H22 -> 113.9
H23: Pavisam kopā: | I23: =SUM(I18:I22) -> 9158.9
I24: =ROUNDUP(I23,0) -> 9159
A26: NVD TN (pakalpojumu sniedzēja) | B26: ĀI kods (pakalpojumu sniedzēja) | C26: ĀI nosaukums (pakalpojumu sniedzēja) | D26: Pakalpojumu programma | E26: Manipulācijas kods | F26: Manipulācijas nosaukums | G26: Manipulāciju skaits | H26: Tarifs | I26: Summa
A27: NVD Rīgas nodaļa | B27: 10064111 | C27: Dziedniecība, Sabiedrība ar ierobežotu atbildību | D27: AP82 - Covid-19 laboratorijas pakalpojumi | E27: 47060 | F27: SARS-CoV-2 (COVID-19) ambulatora parauga (nazofaringeāla uztriepe) paņemšana pārvietojamā teltī, modulī vai izbraukumā | G27: 1373 | H27: 3.2407356 | I27: =G27*H27 -> 4449.53
A28: NVD Rīgas nodaļa | B28: 10064111 | C28: Dziedniecība, Sabiedrība ar ierobežotu atbildību | D28: AP82 - Covid-19 laboratorijas pakalpojumi | E28: 47073 | F28: SARS-CoV-2 RNS (COVID-19) noteikšana ar reālā laika PĶR (bez parauga paņemšanas) | G28: 1373 | H28: 23.322702 | I28: =G28*H28 -> 32022.07
A29: NVD Rīgas nodaļa | B29: 10064111 | C29: Dziedniecība, Sabiedrība ar ierobežotu atbildību | D29: AP82 - Covid-19 laboratorijas pakalpojumi | E29: 47075 | F29: SARS-CoV-2 RNS (COVID-19) apstiprināšana ar reālā laika PĶR (bez parauga paņemšanas) | G29: 406 | H29: 24.59 | I29: =G29*H29 -> 9983.54
A30: NVD Rīgas nodaļa | B30: 10064111 | C30: Dziedniecība, Sabiedrība ar ierobežotu atbildību | D30: AP82 - Covid-19 laboratorijas pakalpojumi | E30: 47079 | F30: SARS-CoV-2 (COVID-19) transporta barotne ar diviem lokaniem tamponiem | G30: 1373 | H30: 0.80050983 | I30: =G30*H30 -> 1099.1
A31: NVD Rīgas nodaļa | B31: 10064111 | C31: Dziedniecība, Sabiedrība ar ierobežotu atbildību | D31: AP82 - Covid-19 laboratorijas pakalpojumi | E31: 47268 | F31: SARS-CoV-2 (COVID-19) antigēna noteikšana (Ag eksprestests) (ar reaģenta komplekta vērtību) | G31: 286 | H31: 4.52 | I31: =G31*H31 -> 1292.72
A32: NVD Rīgas nodaļa | B32: 10064111 | C32: Dziedniecība, Sabiedrība ar ierobežotu atbildību | D32: AP82 - Covid-19 laboratorijas pakalpojumi | E32: 47403 | F32: SARS-CoV-2 RNS (COVID-19) noteikšana ar "pooling" metodi (10 paraugi) (bez parauga paņemšanas) | G32: 2 | H32: 6.37 | I32: =G32*H32 -> 12.74
A33: NVD Rīgas nodaļa | B33: 10064111 | C33: Dziedniecība, Sabiedrība ar ierobežotu atbildību | D33: AP82 - Covid-19 laboratorijas pakalpojumi | E33: 47405 | F33: Siekalu parauga paņemšanas komplekts un loģistika SARS-CoV-2 (COVID-19) izmeklējumam | G33: 2 | H33: 1.7 | I33: =G33*H33 -> 3.4
A34: NVD Rīgas nodaļa | B34: 10064111 | C34: Dziedniecība, Sabiedrība ar ierobežotu atbildību | D34: AP82 - Covid-19 laboratorijas pakalpojumi | E34: 47417 | F34: SARS-CoV-2 vīrusa variantu skrīninga PĶR tests | G34: 394 | H34: 34.01 | I34: =G34*H34 -> 13399.94
H35: Pavisam kopā: | I35: =SUM(I27:I34) -> 62263.04
I36: =ROUNDUP(I35,0) -> 62264
A38: NVD TN (pakalpojumu sniedzēja) | B38: ĀI kods (pakalpojumu sniedzēja) | C38: ĀI nosaukums (pakalpojumu sniedzēja) | D38: Pakalpojumu programma | E38: Manipulācijas kods | F38: Manipulācijas nosaukums | G38: Manipulāciju skaits | H38: Tarifs | I38: Summa
A39: NVD Rīgas nodaļa | B39: 10068301 | C39: NMS Laboratorija, SIA | D39: AP82 - Covid-19 laboratorijas pakalpojumi | E39: 47073 | F39: SARS-CoV-2 RNS (COVID-19) noteikšana ar reālā laika PĶR (bez parauga paņemšanas) | G39: 768 | H39: 23.32 | I39: =G39*H39 -> 17909.76
A40: NVD Rīgas nodaļa | B40: 10068301 | C40: NMS Laboratorija, SIA | D40: AP82 - Covid-19 laboratorijas pakalpojumi | E40: 47079 | F40: SARS-CoV-2 (COVID-19) transporta barotne ar diviem lokaniem tamponiem | G40: 767 | H40: 0.8 | I40: =G40*H40 -> 613.6
A41: NVD Rīgas nodaļa | B41: 10068301 | C41: NMS Laboratorija, SIA | D41: AP82 - Covid-19 laboratorijas pakalpojumi | E41: 47268 | F41: SARS-CoV-2 (COVID-19) antigēna noteikšana (Ag eksprestests) (ar reaģenta komplekta vērtību) | G41: 82 | H41: 4.52 | I41: =G41*H41 -> 370.64
A42: NVD Rīgas nodaļa | B42: 10068301 | C42: NMS Laboratorija, SIA | D42: AP82 - Covid-19 laboratorijas pakalpojumi | E42: 47416 | F42: SARS-CoV-2 (COVID-19) ambulatora parauga (1 paraugs) (nazofaringeāla uztriepe) paņemšana laboratorijā | G42: 745 | H42: 2.29 | I42: =G42*H42 -> 1706.05
H43: Pavisam kopā: | I43: =SUM(I39:I42) -> 20600.05
...

Sheet RAKUS_antivielu_testi
E1: Turpinājums pielikumam Nr.93 Ministru kabineta rīkojuma "Par finanšu līdzekļu piešķiršanu no valsts budžeta programmas "Līdzekļi neparedzētiem gadījumiem"" projekta sākotnējās ietekmes novērtējuma ziņojumam (anotācijai)
A2: Rīgas Austrumu klīniskā universitātes slimnīca SIA (11.pielikums: antivielas un ātrā diagnostika ar Multiplex reaģentiem), Jūnijs
A3: NVD TN (pakalpojuma sniedzēja) | B3: ĀI kods (pakalpojuma sniedzēja) | C3: ĀI nosaukums (pakalpojuma sniedzēja) | D3: Manipulācijas nosaukums | E3: Manipulācijas kods | F3: Manipulāciju skaits | G3: Tarifs | H3: Summa, euro
A4: NVD Rīgas nodaļa | B4: 10000234 | C4: Rīgas Austrumu klīniskā universitātes slimnīca, SIA | D4: R Asins ņemšana ar slēgtu sistēmu vienā stobriņā antivielu pret SARS-CoV-2 (COVID-19) noteikšanai | E4: 47076R | F4: 165 | G4: 1.3 | H4: =F4*G4 -> 214.5
A5: NVD Rīgas nodaļa | B5: 10000234 | C5: Rīgas Austrumu klīniskā universitātes slimnīca, SIA | D5: R IgA klases antivielu pret SARS-CoV-2 (COVID-19) noteikšana ar imūnfermentatīvo metodi (ELISA, CMIA, ECLIA, CLIA) | E5: 47046R | F5: 1 | G5: 13.32 | H5: =F5*G5 -> 13.32
A6: NVD Rīgas nodaļa | B6: 10000234 | C6: Rīgas Austrumu klīniskā universitātes slimnīca, SIA | D6: R IgG klases antivielu pret SARS-CoV-2 (COVID-19) kvantitatīva noteikšana ar imūnfermentatīvo metodi (ELISA, CMIA, ECLIA, CLIA) | E6: 47051R | F6: 101 | G6: 20.48 | H6: =F6*G6 -> 2068.48
A7: NVD Rīgas nodaļa | B7: 10000234 | C7: Rīgas Austrumu klīniskā universitātes slimnīca, SIA | D7: R IgG klases antivielu pret SARS-CoV-2 (COVID-19) noteikšana ar imūnfermentatīvo metodi (ELISA, CMIA, ECLIA, CLIA) | E7: 47049R | F7: 142 | G7: 13.32 | H7: =F7*G7 -> 1891.44
A8: NVD Rīgas nodaļa | B8: 10000234 | C8: Rīgas Austrumu klīniskā universitātes slimnīca, SIA | D8: R IgM klases antivielu pret SARS-CoV-2 (COVID-19) noteikšana ar imūnfermentatīvo metodi (ELISA, CMIA, ECLIA, CLIA) | E8: 47047R | F8: 132 | G8: 13.32 | H8: =F8*G8 -> 1758.24
A9: NVD Rīgas nodaļa | B9: 10000234 | C9: Rīgas Austrumu klīniskā universitātes slimnīca, SIA | D9: R Kopējo antivielu pret SARS-CoV-2 (COVID-19) noteikšana ar imūnfermentatīvo metodi (ELISA, CMIA, ECLIA, CLIA) | E9: 47064R | F9: 8 | G9: 6.79 | H9: =F9*G9 -> 54.32
A10: NVD Rīgas nodaļa | B10: 10000234 | C10: Rīgas Austrumu klīniskā universitātes slimnīca, SIA | D10: R SARS-CoV-2 RNS (COVID-19) noteikšana ar reālā laika PĶR (bez parauga paņemšanas) ātrai diagnostikai un diferenciāldiagnostikai - izmeklējums ar Multiplex reaģentiem | E10: 47077R | F10: 185 | G10: 171.06 | H10: =F10*G10 -> 31646.1
F11: Pavisam kopā: | H11: =SUM(H4:H10) -> 37646.4
F12: Kopā | H12: =ROUNDUP(H11,0) -> 37647

Sheet Sekvencēšana
C1: Turpinājums pielikumam Nr.93 Ministru kabineta rīkojuma "Par finanšu līdzekļu piešķiršanu no valsts budžeta programmas "Līdzekļi neparedzētiem gadījumiem"" projekta sākotnējās ietekmes novērtējuma ziņojumam (anotācijai)
A2: Atskaite par Covid-19 vīrusa sekvencēšanu LIC laboratorijā
A3: Pārskata periods (mēnesis): JŪNIJS_2022
A4: Nr.p.k. | B4: Pasākums | D4: Vienas vienības cena, euro | E4: Kopā, euro
A5: 1 | B5: Primārā parauga uzglabāšana (kriostobriņi paraugu uzglabāšanai) | C5: paraugu skaits | D5: 0 | E5: 3568
C6: Summa, euro | D6: 0.79 | E6: =E5*D6 -> 2818.72
A7: SARS-CoV-2 vīrusu celmu sekvencēšana
A8: 2 | B8: Nacionālā References laboratorija (NRL)*
B9: Pirmais etaps (RNS izdalīšana no primārā parauga) | C9: paraugu skaits | E9: 803
C10: Summa, euro | D10: =8*1.21 -> 9.68 | E10: =E9*D10 -> 7773.04
B11: Otrais etaps - SEKVENCĒŠANA | C11: paraugu skaits | E11: 803
C12: Summa, euro | D12: =160*1.21 -> 193.6 | E12: =E11*D12 -> 155460.8
A13: Kopā NRL (1.1+3.1+3.2.) | C13: Summa, euro | E13: =ROUNDUP(SUM(E6,E10,E12),0) -> 166053
B14: *datu apstrādi veic NRL personāls - bioinformātikas speciālisti

Sheet VTMEC_test
G1: Pielikums Nr.93 Ministru kabineta rīkojuma "Par finanšu līdzekļu piešķiršanu no valsts budžeta programmas "Līdzekļi neparedzētiem gadījumiem"" projekta sākotnējās ietekmes novērtējuma ziņojumam (anotācijai)
A2: SIA "Rīgas Austrumu klīniskā universitātes slimnīca" veiktie laboratoriskie izmeklējumi Valsts tiesu medicīnas ekspertīzes centrā
A3: Mēnesis | B3: Analīzes nosaukums | C3: Manip.kods | D3: Skaits | E3: 1 pakalpojuma cena | F3: Summa, atbilstoši RAKUS cenrādim, euro | G3: Attiecināmās izmaksas, atbilstoši valsts manipulāciju tarifam, euro | H3: Papildus nepieciešamais finansējums, euro
A4: Janvāris | B4: SARS-CoV-2 RNS (COVID-19) noteikšana | C4: 47073 | D4: 7 | E4: 50 | F4: =D4*E4 -> 350 | G4: 27.03 | H4: =D4*G4 -> 189.21
A5: Februāris | B5: SARS-CoV-2 RNS (COVID-19) noteikšana | C5: 47073 | D5: 11 | E5: 50 | F5: =D5*E5 -> 550 | G5: 27.03 | H5: =D5*G5 -> 297.33
A6: Marts | B6: SARS-CoV-2 RNS (COVID-19) noteikšana | C6: 47073 | D6: 2 | E6: 50 | F6: =D6*E6 -> 100 | G6: 27.03 | H6: =D6*G6 -> 54.06
A7: Pavisam kopā, t.sk.: | D7: =SUM(D4:D6) -> 20 | F7: =ROUND(SUM(F4:F6),0) -> 1000 | H7: =ROUND(SUM(H4:H6),0) -> 541
