Workbook

Sheet Kopsavilkums
B1: 1. Pielikums MK rīkojuma projekta "Par apropriācijas pārdali" anotācijai
A3: Pārdales 2025.gadam Veselības ministrijas apakšprogrammu ietvaros, tai skaitā starp prioritārajiem pasākumiem
A5: Apakšprogramma | B5: Pārdale no, euro | C5: Pārdale uz, euro
A6: 33.03.00 "Kompensējamo medikamentu un materiālu apmaksāšana" | B6: =SUM(B7:B10) -> -2103969 | C6: =SUM(C7:C10) -> 2103969
A7: 2024.-2026.gada PP "Veselības aprūpes pakalpojumu pieejamības un kvalitātes uzlabošana" | B7: =-aprēķini!H5 -> -1107802
A8: 2024.-2026.gada PP "Veselības aprūpes pakalpojumu pieejamības un kvalitātes uzlabošana" | B8: =-aprēķini!H6 -> -167365
A9: 2024.-2026.gada PP "Veselības aprūpes pakalpojumu pieejamības un kvalitātes uzlabošana" | B9: =-aprēķini!H7 -> -828802
A10: Veselības ministrijas fiskāli neitrāls pasākums 2025. gadā "Veselības aprūpes pakalpojumu onkoloģijas un citu slimību, kurām neatliekami turpināma terapija, uzlabošana" | C10: =-aprēķini!H14 -> 2103969
A11: 33.04.00 "Centralizēta medikamentu un materiālu iegāde" | B11: =SUM(B12:B14) -> -651981 | C11: =SUM(C12:C14) -> 651981
A12: 2024.-2026.gada PP "Veselības aprūpes pakalpojumu pieejamības un kvalitātes uzlabošana" | B12: =-aprēķini!H28 -> -651981
A13: Parenterāli ievadāmo zāļu iegādei onkoloģisko saslimšanu ārstēšanai | C13: =-aprēķini!H35 -> 432593
A14: Peritoneālās dialīzes ārstniecības līdzekļu iegāde | C14: =-aprēķini!H36 -> 219388
A15: 33.14.00 "Primārās ambulatorās veselības aprūpes nodrošināšana" | B15: =SUM(B16:B21) -> -4026934 | C15: =SUM(C16:C21) -> 1094225
A16: 2024.-2026.gada PP "Veselības aprūpes pakalpojumu pieejamības un kvalitātes uzlabošana" | B16: =-aprēķini!H51 -> -19948
A17: 2024.-2026.gada PP "Veselības aprūpes pakalpojumu pieejamības un kvalitātes uzlabošana" | B17: =-aprēķini!H52 -> -400000
A18: 2024.-2026.gada PP "Veselības aprūpes pakalpojumu pieejamības un kvalitātes uzlabošana" | B18: =-aprēķini!H53 -> -150000
A19: Zarnu vēža un prostatas vēža skrīninga aptveres maksājuma nodrošināšanai ģimenes ārstu paraksēm | C19: =-aprēķini!H62 -> 569948
A20: 2024.-2026.gada PP "Veselības aprūpes pakalpojumu pieejamības un kvalitātes uzlabošana" | B20: =-aprēķini!H77 -> -3456986
A21: 2024.-2026.gada PP "Veselības aprūpes pakalpojumu pieejamības un kvalitātes uzlabošana" | C21: =-aprēķini!H162 -> 524277
A22: 33.15.00 "Laboratorisko izmeklējumu nodrošināšana ambulatorajā aprūpē" | B22: =SUM(B23:B27) -> -579463 | C22: =SUM(C23:C27) -> 55186
A23: 2024.-2026.gada PP "Veselības aprūpes pakalpojumu pieejamības un kvalitātes uzlabošana" | B23: =-aprēķini!H153 -> -524277
A24: 2024.-2026.gada PP "Veselības aprūpes pakalpojumu pieejamības un kvalitātes uzlabošana" | B24: =-aprēķini!H176 -> -30805
A25: 2024.-2026.gada PP "Veselības aprūpes pakalpojumu pieejamības un kvalitātes uzlabošana" | B25: =-aprēķini!H177 -> -8813
A26: 2024.-2026.gada PP "Veselības aprūpes pakalpojumu pieejamības un kvalitātes uzlabošana" | B26: =-aprēķini!H178 -> -15568
A27: 2023.-2025.gada PP Veselības aprūpes pakalpojumu onkoloģijas jomā uzlabošana apakšpasākumam "Laboratorijas pakalpojumi onkoloģijas pacientiem nodrošinot savlaicīgu diagnostiku" | C27: =-aprēķini!H185 -> 55186
A28: 33.16.00 "Plānveida stacionāro veselības aprūpes pakalpojumu nodrošināšana" | B28: =SUM(B29:B39) -> -1047538 | C28: =SUM(C29:C39) -> 2732585
A29: 2024.-2026.gada PP "Veselības aprūpes pakalpojumu pieejamības un kvalitātes uzlabošana" | B29: =-aprēķini!H199 -> -403827
A30: 2024.-2026.gada PP "Veselības aprūpes pakalpojumu pieejamības un kvalitātes uzlabošana" | B30: =-aprēķini!H200 -> -100435
A31: 2024.-2026.gada PP "Veselības aprūpes pakalpojumu pieejamības un kvalitātes uzlabošana" | B31: =-aprēķini!H201 -> -87776
A32: 2024.-2026.gada PP "Veselības aprūpes pakalpojumu pieejamības un kvalitātes uzlabošana" | B32: =-aprēķini!H202 -> -189699
A33: 2024.-2026.gada PP "Veselības aprūpes pakalpojumu pieejamības un kvalitātes uzlabošana" | B33: =-aprēķini!H203 -> -10000
A34: 2024.-2026.gada PP "Veselības aprūpes pakalpojumu pieejamības un kvalitātes uzlabošana" | B34: =-aprēķini!H204 -> -48771
A35: 2024.-2026.gada PP "Veselības aprūpes pakalpojumu pieejamības un kvalitātes uzlabošana" | B35: =-aprēķini!H205 -> -157783
A36: 2024.-2026.gada PP "Veselības aprūpes pakalpojumu pieejamības un kvalitātes uzlabošana" | B36: =-aprēķini!H206 -> -40491
A37: 2024.-2026.gada PP "Veselības aprūpes pakalpojumu pieejamības un kvalitātes uzlabošana" | B37: =-aprēķini!H207 -> -8756
A38: 2024.-2026.gada PP "Veselības aprūpes pakalpojumu pieejamības un kvalitātes uzlabošana" | C38: =-aprēķini!H214 -> 1047538
A39: Daļējai samaksai par Latvijas iedzīvotājiem sniegtajiem veselības aprūpes pakalpojumiem Eiropas Savienības sociālā nodrošinājuma sistēmas ietvaros | C39: =aprēķini!H320 -> 1685047
A40: 33.17.00 "Plānveida stacionāro veselības aprūpes pakalpojumu nodrošināšana" | B40: =SUM(B41:B42) -> -7620 | C40: =SUM(C41:C42) -> 7620
A41: 2024.-2026.gada PP "Veselības aprūpes pakalpojumu pieejamības un kvalitātes uzlabošana" | B41: =-aprēķini!H228 -> -7620
A42: 2024.-2026.gada PP "Veselības aprūpes pakalpojumu pieejamības un kvalitātes uzlabošana" | C42: =-aprēķini!H235 -> 7620
...

Sheet aprēķini
I1: 2. Pielikums MK rīkojuma projekta "Par apropriācijas pārdali" anotācijai
A2: Finanšu līdzekļu neizpilde apakšprogrammā 33.03.00 "Kompensējamo medikamentu un materiālu apmaksāšana" pārdalei apakšprogrammas 33.03.00 "Kompensējamo medikamentu un materiālu apmaksāšana" ietvaros
A3: Pasākums | B3: Plānotais finansējums 2025.gadam, euro | C3: Izpilde 2025. gada (janvāris-augusts), euro | D3: Izpildes prognoze 2025.gada (septembris- decembris), euro | E3: Izpildes prognoze 2025.gads, euro | F3: % izpilde 2025.gads pret plānoto finansējumu | G3: Līdzekļu neizpilde (+), euro | H3: Līdzekļu neizpilde (+), kura tiek pārdalīta, euro | I3: Skaidrojumi par neizpildēm un līdzekļu deficītiem
A4: Līdzekļu neizpilde 2024.-2026.gada prioritārā pasākuma "Veselības aprūpes pakalpojumu pieejamības un kvalitātes uzlabošana", tajā skaitā:
A5: apakšpasākuma "Veselības aprūpes pakalpojumu onkoloģijas jomā uzlabošana" ietvaros īstenotai aktivitātei "Pacientiem ar mākslīgo atveri aprūpi (stoma) veselības aprūpes uzlabošana" | B5: 1650000 | C5: 361465 | D5: 180733 | E5: =D5+C5 -> 542198 | F5: =ROUND((E5/B5)*100,1) -> 32.9 | G5: =B5-E5 -> 1107802 | H5: =SUM(G5) -> 1107802 | I5: Finansējumu 1 107 802 euro apmērā plānots novirzīt 2025.-2027. gada prioritārā pasākuma "Veselības aprūpes pakalpojumu onkoloģijas un citu slimību, kurām neatliekami turpināma terapija, uzlabošan" apakšpasākuma "Esošās onkoloģijas terapijas turpināšana" iztrūkuma daļējai segšanai, kas ļautu nodrošināt terapijas turpināšanu onkoloģijas pacientiem. Neizpildes iemesls - salīdzinot pacientu skaitu 2024. gada 8. mēnešos ar 2025.gada 8 mēnešiem, konstatēts, ka pacientu ar mākslīgo atveri pieaudzis par 111 pacientiem. Līdz šim stomas preču izlietojums nenotiek tik strauji, kā plānots. Šobrīd pacienti ar stomām tiek nodrošināti atbilstoši Eiropas vadlīnijās noteiktajam minimālajam līmenim.
A6: apakšpasākuma "Mātes un bērna veselības uzlabošana" ietvaros īstenotai aktivitātei "Reproduktīvā materiāla saglabāšana pacientiem pirms ķīmijterapijas procedūrām, nodrošinot reproduktīvā materiāla uzglabāšanu un sieviešu kontracepcija - medikamenti" | B6: 180000 | C6: 8423 | D6: 4212 | E6: =D6+C6 -> 12635 | F6: =ROUND((E6/B6)*100,1) -> 7 | G6: =B6-E6 -> 167365 | H6: =SUM(G6) -> 167365 | I6: Finansējumu 167 365 euro apmērā plānots novirzīt 2025.-2027. gada prioritārā pasākuma "Veselības aprūpes pakalpojumu onkoloģijas un citu slimību, kurām neatliekami turpināma terapija, uzlabošan" apakšpasākuma "Esošās onkoloģijas terapijas turpināšana" iztrūkuma daļējai segšanai, kas ļautu nodrošināt terapijas turpināšanu onkoloģijas pacientiem. Neizpildes iemesls - Atbilstoši ārstniecības iestāžu sniegtajai informācijai, sākotnēji prognozētais provizoriskais pacientu skaits, kuri izmantos iespēju saglabāt reproduktīvo materiālu pirms ķīmijterapijas uzsākšanas, ir lielāks par faktisko. 2025.gadā izpildes aktivitāte ir atkarīga no izmeklējumiem ambulatorā sadaļā, jo medikamenti nepieciešami tikai tajā gadījumā, ja pacients ir nolēmis veikt procedūru reproduktīvā materiāla saglabāšanai un viņa veselības stāvoklis to atļauj.
A7: apakšpasākumam "Kompensējamo zāļu kompensācijas apmēra palielināšanai no 50% uz 75% no 2024. gada 1. jūlija" | B7: 3407727 | C7: 1719283 | D7: 859642 | E7: =D7+C7 -> 2578925 | F7: =ROUND((E7/B7)*100,1) -> 75.7 | G7: =B7-E7 -> 828802 | H7: =SUM(G7) -> 828802 | I7: Finansējumu 828 802 euro apmērā plānots novirzīt 2025.-2027. gada prioritārā pasākuma "Veselības aprūpes pakalpojumu onkoloģijas un citu slimību, kurām neatliekami turpināma terapija, uzlabošan" apakšpasākuma "Esošās onkoloģijas terapijas turpināšana" iztrūkuma daļējai segšanai, kas ļautu nodrošināt terapijas turpināšanu onkoloģijas pacientiem. Neizpildes iemesls - Pārskata periodā medikamenti atsevišķām diagnozēm ar 75% kompensāciju tika izsniegti mazākam pacientu skaitam nekā bija sākotnēji plānots. Plānošanā tika ņemts vērā pieņēmums, ka visi pacienti, ņemot vērā valsts nekompensējamo daļu, nevar atļauties saņemt nepieciešamo terapiju dēl līdzmaksājuma, bet fakstiski pēc kompensācijas apmēra palielināšanas pacientu skaits nepalielinājās.
A8: KOPĀ, euro | H8: =SUM(H5:H7) -> 2103969
A9: Līdzekļu ekonomija 2024.-2026.gada prioritārā pasākuma "Veselības aprūpes pakalpojumu pieejamības un kvalitātes uzlabošana" apakšpasākumiem "Veselības aprūpes pakalpojumu onkoloģijas jomā uzlabošana" ietvaros īstenotai aktivitātei "Pacientiem ar mākslīgo atveri aprūpi (stoma) veselības aprūpes uzlabošana" 1 107 802 euro apmērā, apakšpasākuma "Mātes un bērna veselības uzlabošana" ietvaros īstenotai aktivitātei "Reproduktīvā materiāla saglabāšana pacientiem pirms ķīmijterapijas procedūrām, nodrošinot reproduktīvā materiāla uzglabāšanu un sieviešu kontracepcija -medikamenti" 167 365 euro apmērā un "Kompensējamo zāļu kompensācijas apmēra palielināšanai no 50% uz 75% no 2024. gada 1. jūlija" 828 802 euro apmērā, kur pavisam kopā veido 2 103 969 euro, no tā 2 103 969 euro tiks novirzīti Veselības ministrijas fiskāli neitrāla pasākuma 2025. gadā "Veselības aprūpes pakalpojumu onkoloģijas un citu slimību, kurām neatliekami turpināma terapija, uzlabošana" apakšpasākuma "Esošās onkoloģijas terapijas turpināšana" īstenošanai.
A10: PAVISAM KOPĀ: | H10: =H8 -> 2103969
A12: Līdzekļu neizpildi plānots novirzīt, tajā skaitā:
A13: Pasākums | B13: Plānotais finansējums 2025.gadam, euro | C13: Izpilde 2025. gada (janvāris-augusts), euro | D13: Izpildes prognoze 2025.gada (septembris- decembris), euro | E13: Izpildes prognoze 2025.gads, euro | F13: % izpilde 2025.gads pret plānoto finansējumu | G13: Līdzekļu deficīts (-), euro | H13: Līdzekļu deficīts (-), kuram tiek pārdalīts finansējums, euro | I13: Skaidrojumi par neizpildēm un līdzekļu deficītiem
A14: Veselības ministrijas fiskāli neitrāla pasākuma 2025. gadā "Veselības aprūpes pakalpojumu onkoloģijas un citu slimību, kurām neatliekami turpināma terapija, uzlabošana" apakšpasākuma "Esošās onkoloģijas terapijas turpināšana" īstenošanai | B14: 12414897 | C14: 12702283 | D14: 6351142 | E14: =C14+D14 -> 19053425 | F14: =ROUND((E14/B14)*100,1) -> 153.5 | G14: =SUM(B14-E14) -> -6638528 | H14: =-H8 -> -2103969 | I14: Pārpildes iemesls: Ar katru gadu aizvien vairāk pacienti uzsāk inovatīvās terapijas lietošanu, kas ir efektīvākā, palielinot terapijas lietošanas ilgumu, kas atspoguļojas arī valsts budžeta līdzekļu izlietojuma pieaugumā. Katru gadu pacientu skaits, kas lieto inovatīvo medikamentu terapiju pieaug par aptuveni 20%.
A15: KOPĀ, euro | H15: =SUM(H14:H14) -> -2103969
A17: Rezultatīvais rādītājs
A19: Izdevumu pozīcijas nosaukums | G19: Pacientu skaits
A20: Esošās onkoloģijas terapijas turpināšana | G20: 107
A21: KOPĀ: | G21: =SUM(G20) -> 107
A25: Finanšu līdzekļu neizpilde apakšprogrammā 33.04.00 "Centralizēta medikamentu un materiālu iegāde" pārdalei apakšprogrammas 33.04.00 "Centralizēta medikamentu un materiālu iegāde" ietvaros
A26: Pasākums | B26: Plānotais finansējums 2025.gadam, euro | C26: Izpilde 2025. gada (janvāris-augusts), euro | D26: Izpildes prognoze 2025.gada (septembris- decembris), euro | E26: Izpildes prognoze 2025.gads, euro | F26: % izpilde 2025.gads pret plānoto finansējumu | G26: Līdzekļu neizpilde (+), euro | H26: Līdzekļu neizpilde (+), kura tiek pārdalīta, euro | I26: Skaidrojumi par neizpildēm un līdzekļu deficītiem
A27: Līdzekļu neizpilde 2024.-2026.gada prioritārā pasākuma "Veselības aprūpes pakalpojumu pieejamības un kvalitātes uzlabošana", tajā skaitā:
A28: apakšpasākuma "Mātes un bērna veselības uzlabošana" ietvaros īstenotai aktivitātei "Pneimokoka vakcīnas nodrošināšana" | B28: 1696493 | C28: 663712 | D28: 380800 | E28: =D28+C28 -> 1044512 | F28: =ROUND((E28/B28)*100,1) -> 61.6 | G28: =SUM(B28-E28) -> 651981 | H28: =G28 -> 651981 | I28: Finansējumu 651 981 euro plānots novirzīt pasākumiem apakšprogrammas ietvaros, t.sk. 219 388 euro apmērā peritoneālās dialīzes ārstniecības līdzekļu iegādei un 432 593 euro apmērā parenterāli ievadāmo zāļu iegādei onkoloģisko saslimšanu ārstēšanai, lai daļēji segtu līdzekļu iztrūkumu. Neizpildes iemesls: Atbilstoši iepirkuma rezultātiem tika noslēgts piegādes līgums 2024./2025.gadam, kura ietvaros vienas vakcīnas pret pneimokoka infekciju (kas satur antivielas pret 15 pneimokoka paveidiem) cena ir 28 euro, kas ir par 50 % zemāka nekā prognozētā cena pirms iepirkuma izsludināšanas (56,14 euro), kā arī pieprasījums pēc vakcinācijas pret pneimokoka vīrusa infekciju samazinās, jo dzimušo bērnu skaits katru gadu turpina samazināties. Līdz ar to izveidojusies pasākuma neizpilde.
A29: KOPĀ, euro | G29: =G28 -> 651981 | H29: =H28 -> 651981
A30: Līdzekļu ekonomija 2024.-2026.gada prioritārā pasākuma "Veselības aprūpes pakalpojumu pieejamības un kvalitātes uzlabošana" apakšpasākumam "Mātes un bērna veselības uzlabošana" ietvaros īstenotai aktivitātei "Pneimokoka vakcīnas nodrošināšana" veidojas 651 981 euro, no tā 432 593 euro tiks novirzīti parenterāli ievadāmo zāļu iegādei onkoloģisko saslimšanu ārstēšanai, savukārt 219 388 euro tiks novirzīti peritoneālās dialīzes ārstniecības līdzekļu iegādei.
A31: PAVISAM KOPĀ: | H31: =H29 -> 651981
A33: Līdzekļu neizpildi plānots novirzīt, tajā skaitā:
A34: Pasākums | B34: Plānotais finansējums 2025.gadam, euro | C34: Izpilde 2025. gada (janvāris-augusts), euro | D34: Izpildes prognoze 2025.gada (septembris- decembris), euro | E34: Izpildes prognoze 2025.gads, euro | F34: % izpilde 2025.gads pret plānoto finansējumu | G34: Līdzekļu deficīts (-), euro | H34: Līdzekļu deficīts (-), kuram tiek pārdalīts finansējums, euro | I34: Skaidrojumi par neizpildēm un līdzekļu deficītiem
A35: Parenterāli ievadāmo zāļu iegādei onkoloģisko saslimšanu ārstēšanai | B35: 2938559 | C35: 3235718.9 | D35: 1617859.4 | E35: =C35+D35 -> 4853578.3 | F35: =ROUND((E35/B35)*100,1) -> 165.2 | G35: =SUM(B35-E35) -> -1915019.3 | H35: -432593 | I35: Saskaņā ar ārstniecības iestāžu iesniegtajiem pārskatiem, būtiski pieaudzis zāļu izlietojuma apjoms, kas veido finanšu līdzekļu iztrūkumu parenterāli ievadāmo zāļu iegādei onkoloģisko saslimšanu ārstēšanai. Pārpilde izveidojusies, jo 2025.-2026.gada centralizētajā iepirkumā tika iekļauti papildus jauni medikamenti, kas iepriekš tika apmaksāti kompensējamo zāļu sistēmas ietvaros. 2025. gada astoņu mēnešu periodā parenterāli ievadāmo zāļu terapiju onkoloģisko saslimšanu ārstēšanai saņēmuši 5 446 unikālie pacienti, kuru nodrošināšanai kopējās izmaksas veidoja 3 235 719 euro. Līdz ar to vidējās izmaksas uz vienu pacientu minētajā periodā bija 594,15 euro. Ņemot vērā papildus piešķirto finansējumu 432 593 euro apmērā, būs iespējams nodrošināt parenterāli ievadāmo zāļu terapiju onkoloģisko saslimšanu ārstēšanai vēl 728 pacientiem.
A36: Peritoneālās dialīzes ārstniecības līdzekļu iegādei | B36: 2718086 | C36: 1953610 | D36: 983864 | E36: =D36+C36 -> 2937474 | F36: =ROUND((E36/B36)*100,1) -> 108.1 | G36: =SUM(B36-E36) -> -219388 | H36: -219388 | I36: Pārskata periodā ir pieaudzis vidējais pacientu skaits mēnesī no 120 pacientiem uz 127, kuriem tiek ordinēta nieru aizstājterapijas metode - peritoneālā dialīze. Ņemot vērā, ka kopējais pacientu skaits gada laikā ir mainīgs un ārsta nozīmētais peritoneālās dialīzes komplekts pacientiem ir atšķirīgs, viena pakalpojuma (komplekta) vidējās izmaksas mēnesī ir pieaugušas un sastāda 1924,46 euro. Līdz ar to ir izveidojusies līgumu summas pārstrāde.
A37: KOPĀ, euro | G37: =SUM(G35:G36) -> -2134407.3 | H37: =SUM(H35:H36) -> -651981
A39: Rezultatīvais rādītājs
A41: Izdevumu pozīcija | G41: Pacientu/ Pakalpojumu skaits
A42: Parenterāli ievadāmo zāļu iegādei onkoloģisko saslimšanu ārstēšanai | G42: 728
A43: Peritoneālās dialīzes ārstniecības līdzekļu iegādei | G43: 114
A44: KOPĀ | G44: =SUM(G42:H43) -> 842
A48: Finanšu līdzekļu neizpilde apakšprogrammā 33.14.00 "Primārās ambulatorās veselības aprūpes nodrošināšana" pārdalei apakšprogrammas 33.14.00 "Primārās ambulatorās veselības aprūpes nodrošināšana" ietvaros
A49: Pasākums | B49: Plānotais finansējums 2025.gadam, euro | C49: Izpilde 2025. gada (janvāris-augusts), euro | D49: Izpildes prognoze 2025.gada (septembris- decembris), euro | E49: Izpildes prognoze 2025.gads, euro | F49: % izpilde 2025.gads pret plānoto finansējumu | G49: Līdzekļu neizpilde (+), euro | H49: Līdzekļu neizpilde (+), kura tiek pārdalīta, euro | I49: Skaidrojumi par neizpildēm un līdzekļu deficītiem
A50: Līdzekļu neizpilde 2024.-2026.gada prioritārā pasākuma "Veselības aprūpes pakalpojumu pieejamības un kvalitātes uzlabošana", tajā skaitā:
A51: apakšpasākuma "Veselības aprūpes pakalpojumu pieejamības un kvalitātes uzlabošana" ietvaros īstenotai aktivitātei "Ģimenes ārstu prakses uzturēšanas maksājums (trīs mēneši)" | B51: 979158 | C51: 959210 | D51: 0 | E51: =SUM(C51:D51) -> 959210 | F51: =ROUND((E51/B51)*100,1) -> 98 | G51: =B51-E51 -> 19948 | H51: =SUM(G51) -> 19948 | I51: Finansējumu 19 948 euro apmērā plānots pārdalīt ģimenes ārstu zarnu vēža skrīninga un prostatas vēža skrīninga aptveres maksājumam. Neizpildes iemesls: mazāks prakšu skaits, nekā bija paredzēts plānā. Lai gan finansējuma izpilde sasniedza 98%, rezultativitātes rādītājs veido 97,5%. Šī atšķirība skaidrojama ar to, ka prakšu skaits, kas saņēma maksājumu, katru mēnesi bija mainīgs. Kopumā attiecīgajā periodā uzturēšanas maksājumu saņēma 1472 prakses, taču prakšu skaits nebija vienmērīgi sadalīts visa perioda laikā.
A52: apakšpasākuma "Primārās veselības aprūpes pakalpojumu nepārtrauktības nodrošināšanai" ietvaros īstenotai aktivitātei "Samaksa par ģimenes ārstu praksē nodarbināto ārstniecības personu aizvietošanu to attaisnotas prombūtnes laikā ar 2024.gada 1.februāri"* | B52: =5798896+180446 -> 5979342 | C52: 5546392 | D52: 32950 | E52: =SUM(C52:D52) -> 5579342 | F52: =ROUND((E52/B52)*100,1) -> 93.3 | G52: =B52-E52 -> 400000 | H52: =G52 -> 400000 | I52: Finansējumu 400 000 euro apmērā plānots pārdalīt ģimenes ārstu zarnu vēža skrīninga un prostatas vēža skrīninga aptveres maksājumam. Neizpildes iemesls - mazāks prakšu skaits, nekā bija paredzēts plānā. Šī pasākuma izpilde tiks pārskatīta līdz 2025. gada 31. decembrim, un pastāv iespēja, ka palielināsies prakšu skaits, kas saņems maksājumu, jo ir saņemti iesniegumi par jaunām praksēm, kas atbilst piemaksas saņemšanas kritērijiem.
...
