Workbook

Sheet Kopsavilkums
B1: 1. Pielikums MK rīkojuma projekta "Par apropriācijas pārdali" anotācijai
A3: Pārdales 2025.gadam Veselības ministrijas apakšprogrammu ietvaros, tai skaitā starp prioritārajiem pasākumiem
A5: Apakšprogramma | B5: Pārdale no, euro | C5: Pārdale uz, euro
A6: 33.03.00 "Kompensējamo medikamentu un materiālu apmaksāšana" | B6: =SUM(B7:B10) -> -2103969 | C6: =SUM(C7:C10) -> 2103969
A7: 2024.-2026.gada PP "Veselības aprūpes pakalpojumu pieejamības un kvalitātes uzlabošana" | B7: =-aprēķini!H5 -> -1107802
A8: 2024.-2026.gada PP "Veselības aprūpes pakalpojumu pieejamības un kvalitātes uzlabošana" | B8: =-aprēķini!H6 -> -167365
A9: 2024.-2026.gada PP "Veselības aprūpes pakalpojumu pieejamības un kvalitātes uzlabošana" | B9: =-aprēķini!H7 -> -828802
A10: Veselības ministrijas fiskāli neitrāls pasākums 2025. gadā "Veselības aprūpes pakalpojumu onkoloģijas un citu slimību, kurām neatliekami turpināma terapija, uzlabošana" | C10: =-aprēķini!H14 -> 2103969
A11: 33.04.00 "Centralizēta medikamentu un materiālu iegāde" | B11: =SUM(B12:B14) -> -651981 | C11: =SUM(C12:C14) -> 651981
A12: 2024.-2026.gada PP "Veselības aprūpes pakalpojumu pieejamības un kvalitātes uzlabošana" | B12: =-aprēķini!H28 -> -651981
A13: Parenterāli ievadāmo zāļu iegādei onkoloģisko saslimšanu ārstēšanai | C13: =-aprēķini!H35 -> 432593
A14: Peritoneālās dialīzes ārstniecības līdzekļu iegāde | C14: =-aprēķini!H36 -> 219388
A15: 33.14.00 "Primārās ambulatorās veselības aprūpes nodrošināšana" | B15: =SUM(B16:B21) -> -4026934 | C15: =SUM(C16:C21) -> 1094225
A16: 2024.-2026.gada PP "Veselības aprūpes pakalpojumu pieejamības un kvalitātes uzlabošana" | B16: =-aprēķini!H51 -> -19948
A17: 2024.-2026.gada PP "Veselības aprūpes pakalpojumu pieejamības un kvalitātes uzlabošana" | B17: =-aprēķini!H52 -> -400000
A18: 2024.-2026.gada PP "Veselības aprūpes pakalpojumu pieejamības un kvalitātes uzlabošana" | B18: =-aprēķini!H53 -> -150000
A19: Zarnu vēža un prostatas vēža skrīninga aptveres maksājuma nodrošināšanai ģimenes ārstu paraksēm | C19: =-aprēķini!H62 -> 569948
A20: 2024.-2026.gada PP "Veselības aprūpes pakalpojumu pieejamības un kvalitātes uzlabošana" | B20: =-aprēķini!H77 -> -3456986
A21: 2024.-2026.gada PP "Veselības aprūpes pakalpojumu pieejamības un kvalitātes uzlabošana" | C21: =-aprēķini!H162 -> 524277
A22: 33.15.00 "Laboratorisko izmeklējumu nodrošināšana ambulatorajā aprūpē" | B22: =SUM(B23:B27) -> -579463 | C22: =SUM(C23:C27) -> 55186
A23: 2024.-2026.gada PP "Veselības aprūpes pakalpojumu pieejamības un kvalitātes uzlabošana" | B23: =-aprēķini!H153 -> -524277
A24: 2024.-2026.gada PP "Veselības aprūpes pakalpojumu pieejamības un kvalitātes uzlabošana" | B24: =-aprēķini!H176 -> -30805
A25: 2024.-2026.gada PP "Veselības aprūpes pakalpojumu pieejamības un kvalitātes uzlabošana" | B25: =-aprēķini!H177 -> -8813
A26: 2024.-2026.gada PP "Veselības aprūpes pakalpojumu pieejamības un kvalitātes uzlabošana" | B26: =-aprēķini!H178 -> -15568
A27: 2023.-2025.gada PP Veselības aprūpes pakalpojumu onkoloģijas jomā uzlabošana apakšpasākumam "Laboratorijas pakalpojumi onkoloģijas pacientiem nodrošinot savlaicīgu diagnostiku" | C27: =-aprēķini!H185 -> 55186
A28: 33.16.00 "Plānveida stacionāro veselības aprūpes pakalpojumu nodrošināšana" | B28: =SUM(B29:B39) -> -1047538 | C28: =SUM(C29:C39) -> 2732585
A29: 2024.-2026.gada PP "Veselības aprūpes pakalpojumu pieejamības un kvalitātes uzlabošana" | B29: =-aprēķini!H199 -> -403827
A30: 2024.-2026.gada PP "Veselības aprūpes pakalpojumu pieejamības un kvalitātes uzlabošana" | B30: =-aprēķini!H200 -> -100435
A31: 2024.-2026.gada PP "Veselības aprūpes pakalpojumu pieejamības un kvalitātes uzlabošana" | B31: =-aprēķini!H201 -> -87776
A32: 2024.-2026.gada PP "Veselības aprūpes pakalpojumu pieejamības un kvalitātes uzlabošana" | B32: =-aprēķini!H202 -> -189699
A33: 2024.-2026.gada PP "Veselības aprūpes pakalpojumu pieejamības un kvalitātes uzlabošana" | B33: =-aprēķini!H203 -> -10000
A34: 2024.-2026.gada PP "Veselības aprūpes pakalpojumu pieejamības un kvalitātes uzlabošana" | B34: =-aprēķini!H204 -> -48771
A35: 2024.-2026.gada PP "Veselības aprūpes pakalpojumu pieejamības un kvalitātes uzlabošana" | B35: =-aprēķini!H205 -> -157783
A36: 2024.-2026.gada PP "Veselības aprūpes pakalpojumu pieejamības un kvalitātes uzlabošana" | B36: =-aprēķini!H206 -> -40491
A37: 2024.-2026.gada PP "Veselības aprūpes pakalpojumu pieejamības un kvalitātes uzlabošana" | B37: =-aprēķini!H207 -> -8756
A38: 2024.-2026.gada PP "Veselības aprūpes pakalpojumu pieejamības un kvalitātes uzlabošana" | C38: =-aprēķini!H214 -> 1047538
A39: Daļējai samaksai par Latvijas iedzīvotājiem sniegtajiem veselības aprūpes pakalpojumiem Eiropas Savienības sociālā nodrošinājuma sistēmas ietvaros | C39: =aprēķini!H320 -> 1685047
A40: 33.17.00 "Plānveida stacionāro veselības aprūpes pakalpojumu nodrošināšana" | B40: =SUM(B41:B42) -> -7620 | C40: =SUM(C41:C42) -> 7620
A41: 2024.-2026.gada PP "Veselības aprūpes pakalpojumu pieejamības un kvalitātes uzlabošana" | B41: =-aprēķini!H228 -> -7620
A42: 2024.-2026.gada PP "Veselības aprūpes pakalpojumu pieejamības un kvalitātes uzlabošana" | C42: =-aprēķini!H235 -> 7620
A43: 33.18.00 "Plānveida stacionāro veselības aprūpes pakalpojumu nodrošināšana" | B43: =SUM(B44:B70) -> -1101656 | C43: =SUM(C44:C70) -> 4674515
A44: 2024.-2026.gada PP "Veselības aprūpes pakalpojumu pieejamības un kvalitātes uzlabošana" | B44: =-aprēķini!H249 -> -126629
A45: 2023.-2025.gada PP "Veselības aprūpes pakalpojumu onkoloģijas jomā uzlabošana" | C45: 76012
A46: 2024.-2026.gada PP "Veselības aprūpes pakalpojumu pieejamības un kvalitātes uzlabošana" | C46: 50617
A47: 2024.-2026.gada PP "Veselības aprūpes pakalpojumu pieejamības un kvalitātes uzlabošana" | B47: =-aprēķini!H250 -> -230577
A48: 2023.-2025.gada PP "Veselības aprūpes pakalpojumu onkoloģijas jomā uzlabošana" | C48: 230577
A49: 2024.-2026.gada PP "Veselības aprūpes pakalpojumu pieejamības un kvalitātes uzlabošana" | B49: =-aprēķini!H251 -> -41972
A50: 2023.-2025.gada PP "Veselības aprūpes pakalpojumu onkoloģijas jomā uzlabošana" | C50: 41972
A51: 2024.-2026.gada PP "Veselības aprūpes pakalpojumu pieejamības un kvalitātes uzlabošana" | B51: =-aprēķini!H252 -> -106505
A52: 2023.-2025.gada PP "Veselības aprūpes pakalpojumu onkoloģijas jomā uzlabošana" | C52: 106505
A53: 2024.-2026.gada PP "Veselības aprūpes pakalpojumu pieejamības un kvalitātes uzlabošana" | B53: =-aprēķini!H253 -> -58656
A54: Veselības ministrijas fiskāli neitrāls pasākums 2025. gadā "Veselības aprūpes pakalpojumu onkoloģijas un citu slimību, kurām neatliekami turpināma terapija, uzlabošana" | C54: 56520
A55: 2024.-2026.gada PP "Veselības aprūpes pakalpojumu pieejamības un kvalitātes uzlabošana" | C55: 2136
A56: 2024.-2026.gada PP "Veselības aprūpes pakalpojumu pieejamības un kvalitātes uzlabošana" | B56: =-aprēķini!H254 -> -5181
A57: 2024.-2026.gada PP "Veselības aprūpes pakalpojumu pieejamības un kvalitātes uzlabošana" | C57: 5181
A58: 2024.-2026.gada PP "Veselības aprūpes pakalpojumu pieejamības un kvalitātes uzlabošana" | B58: =-aprēķini!H255 -> -36000
A59: 2024.-2026.gada PP "Veselības aprūpes pakalpojumu pieejamības un kvalitātes uzlabošana" | C59: 36000
A60: 2024.-2026.gada PP "Veselības aprūpes pakalpojumu pieejamības un kvalitātes uzlabošana" | B60: =-aprēķini!H256 -> -47436
A61: 2024.-2026.gada PP "Veselības aprūpes pakalpojumu pieejamības un kvalitātes uzlabošana" | C61: 47436
A62: 2024.-2026.gada PP "Veselības aprūpes pakalpojumu pieejamības un kvalitātes uzlabošana" | B62: =-aprēķini!H257 -> -448700
A63: 2023.-2025.gada PP "Veselības aprūpes pakalpojumu onkoloģijas jomā uzlabošana" | C63: 222988
A64: 2024.-2026.gada PP "Veselības aprūpes pakalpojumu pieejamības un kvalitātes uzlabošana" | C64: 182034
A65: 2024.-2026.gada PP "Veselības aprūpes pakalpojumu pieejamības un kvalitātes uzlabošana" | C65: 43678
A66: Plānveida satcionāro pakalpojumu nodrošināšanai | C66: =-aprēķini!H85 -> 3456986
A67: 2023.-2025.gada PP "Veselības aprūpes pakalpojumu onkoloģijas jomā uzlabošana" | C67: 8664
A68: 2023.-2025.gada PP "Veselības aprūpes pakalpojumu onkoloģijas jomā uzlabošana" | C68: 2183
A69: 2023.-2025.gada PP "Veselības aprūpes pakalpojumu onkoloģijas jomā uzlabošana" | C69: 2643
A70: 2023.-2025.gada PP "Veselības aprūpes pakalpojumu onkoloģijas jomā uzlabošana" | C70: 102383
A71: 45.01.00 "Veselības aprūpes finansējuma administrēšana un ekonomiskā novērtēšana" | B71: =SUM(B72:B76) -> -1800920 | C71: =SUM(C72:C76) -> 0
A72: 2024.-2026.gada PP "Veselības aprūpes pakalpojumu pieejamības un kvalitātes uzlabošana" | B72: =-aprēķini!H312 -> -1685047
A73: 2024.-2026.gada PP "Veselības aprūpes pakalpojumu pieejamības un kvalitātes uzlabošana" | B73: =-aprēķini!H333 -> -8664
A74: 2024.-2026.gada PP "Veselības aprūpes pakalpojumu pieejamības un kvalitātes uzlabošana" | B74: =-aprēķini!H334 -> -2183
A75: 2024.-2026.gada PP "Veselības aprūpes pakalpojumu pieejamības un kvalitātes uzlabošana" | B75: =-aprēķini!H335 -> -2643
A76: 2024.-2026.gada PP "Veselības aprūpes pakalpojumu pieejamības un kvalitātes uzlabošana" | B76: =-aprēķini!H336 -> -102383
A77: Pavisam kopā: | B77: =B6+B11+B15+B22+B28+B40+B43+B71 -> -11320081 | C77: =C6+C11+C15+C22+C28+C40+C43+C71 -> 11320081

Sheet aprēķini
I1: 2. Pielikums MK rīkojuma projekta "Par apropriācijas pārdali" anotācijai
A2: Finanšu līdzekļu neizpilde apakšprogrammā 33.03.00 "Kompensējamo medikamentu un materiālu apmaksāšana" pārdalei apakšprogrammas 33.03.00 "Kompensējamo medikamentu un materiālu apmaksāšana" ietvaros
A3: Pasākums | B3: Plānotais finansējums 2025.gadam, euro | C3: Izpilde 2025. gada (janvāris-augusts), euro | D3: Izpildes prognoze 2025.gada (septembris- decembris), euro | E3: Izpildes prognoze 2025.gads, euro | F3: % izpilde 2025.gads pret plānoto finansējumu | G3: Līdzekļu neizpilde (+), euro | H3: Līdzekļu neizpilde (+), kura tiek pārdalīta, euro | I3: Skaidrojumi par neizpildēm un līdzekļu deficītiem
A4: Līdzekļu neizpilde 2024.-2026.gada prioritārā pasākuma "Veselības aprūpes pakalpojumu pieejamības un kvalitātes uzlabošana", tajā skaitā:
A5: apakšpasākuma "Veselības aprūpes pakalpojumu onkoloģijas jomā uzlabošana" ietvaros īstenotai aktivitātei "Pacientiem ar mākslīgo atveri aprūpi (stoma) veselības aprūpes uzlabošana" | B5: 1650000 | C5: 361465 | D5: 180733 | E5: =D5+C5 -> 542198 | F5: =ROUND((E5/B5)*100,1) -> 32.9 | G5: =B5-E5 -> 1107802 | H5: =SUM(G5) -> 1107802 | I5: Finansējumu 1 107 802 euro apmērā plānots novirzīt 2025.-2027. gada prioritārā pasākuma "Veselības aprūpes pakalpojumu onkoloģijas un citu slimību, kurām neatliekami turpināma terapija, uzlabošan" apakšpasākuma "Esošās onkoloģijas terapijas turpināšana" iztrūkuma daļējai segšanai, kas ļautu nodrošināt terapijas turpināšanu onkoloģijas pacientiem. Neizpildes iemesls - salīdzinot pacientu skaitu 2024. gada 8. mēnešos ar 2025.gada 8 mēnešiem, konstatēts, ka pacientu ar mākslīgo atveri pieaudzis par 111 pacientiem. Līdz šim stomas preču izlietojums nenotiek tik strauji, kā plānots. Šobrīd pacienti ar stomām tiek nodrošināti atbilstoši Eiropas vadlīnijās noteiktajam minimālajam līmenim.
A6: apakšpasākuma "Mātes un bērna veselības uzlabošana" ietvaros īstenotai aktivitātei "Reproduktīvā materiāla saglabāšana pacientiem pirms ķīmijterapijas procedūrām, nodrošinot reproduktīvā materiāla uzglabāšanu un sieviešu kontracepcija - medikamenti" | B6: 180000 | C6: 8423 | D6: 4212 | E6: =D6+C6 -> 12635 | F6: =ROUND((E6/B6)*100,1) -> 7 | G6: =B6-E6 -> 167365 | H6: =SUM(G6) -> 167365 | I6: Finansējumu 167 365 euro apmērā plānots novirzīt 2025.-2027. gada prioritārā pasākuma "Veselības aprūpes pakalpojumu onkoloģijas un citu slimību, kurām neatliekami turpināma terapija, uzlabošan" apakšpasākuma "Esošās onkoloģijas terapijas turpināšana" iztrūkuma daļējai segšanai, kas ļautu nodrošināt terapijas turpināšanu onkoloģijas pacientiem. Neizpildes iemesls - Atbilstoši ārstniecības iestāžu sniegtajai informācijai, sākotnēji prognozētais provizoriskais pacientu skaits, kuri izmantos iespēju saglabāt reproduktīvo materiālu pirms ķīmijterapijas uzsākšanas, ir lielāks par faktisko. 2025.gadā izpildes aktivitāte ir atkarīga no izmeklējumiem ambulatorā sadaļā, jo medikamenti nepieciešami tikai tajā gadījumā, ja pacients ir nolēmis veikt procedūru reproduktīvā materiāla saglabāšanai un viņa veselības stāvoklis to atļauj.
A7: apakšpasākumam "Kompensējamo zāļu kompensācijas apmēra palielināšanai no 50% uz 75% no 2024. gada 1. jūlija" | B7: 3407727 | C7: 1719283 | D7: 859642 | E7: =D7+C7 -> 2578925 | F7: =ROUND((E7/B7)*100,1) -> 75.7 | G7: =B7-E7 -> 828802 | H7: =SUM(G7) -> 828802 | I7: Finansējumu 828 802 euro apmērā plānots novirzīt 2025.-2027. gada prioritārā pasākuma "Veselības aprūpes pakalpojumu onkoloģijas un citu slimību, kurām neatliekami turpināma terapija, uzlabošan" apakšpasākuma "Esošās onkoloģijas terapijas turpināšana" iztrūkuma daļējai segšanai, kas ļautu nodrošināt terapijas turpināšanu onkoloģijas pacientiem. Neizpildes iemesls - Pārskata periodā medikamenti atsevišķām diagnozēm ar 75% kompensāciju tika izsniegti mazākam pacientu skaitam nekā bija sākotnēji plānots. Plānošanā tika ņemts vērā pieņēmums, ka visi pacienti, ņemot vērā valsts nekompensējamo daļu, nevar atļauties saņemt nepieciešamo terapiju dēl līdzmaksājuma, bet fakstiski pēc kompensācijas apmēra palielināšanas pacientu skaits nepalielinājās.
A8: KOPĀ, euro | H8: =SUM(H5:H7) -> 2103969
A9: Līdzekļu ekonomija 2024.-2026.gada prioritārā pasākuma "Veselības aprūpes pakalpojumu pieejamības un kvalitātes uzlabošana" apakšpasākumiem "Veselības aprūpes pakalpojumu onkoloģijas jomā uzlabošana" ietvaros īstenotai aktivitātei "Pacientiem ar mākslīgo atveri aprūpi (stoma) veselības aprūpes uzlabošana" 1 107 802 euro apmērā, apakšpasākuma "Mātes un bērna veselības uzlabošana" ietvaros īstenotai aktivitātei "Reproduktīvā materiāla saglabāšana pacientiem pirms ķīmijterapijas procedūrām, nodrošinot reproduktīvā materiāla uzglabāšanu un sieviešu kontracepcija -medikamenti" 167 365 euro apmērā un "Kompensējamo zāļu kompensācijas apmēra palielināšanai no 50% uz 75% no 2024. gada 1. jūlija" 828 802 euro apmērā, kur pavisam kopā veido 2 103 969 euro, no tā 2 103 969 euro tiks novirzīti Veselības ministrijas fiskāli neitrāla pasākuma 2025. gadā "Veselības aprūpes pakalpojumu onkoloģijas un citu slimību, kurām neatliekami turpināma terapija, uzlabošana" apakšpasākuma "Esošās onkoloģijas terapijas turpināšana" īstenošanai.
A10: PAVISAM KOPĀ: | H10: =H8 -> 2103969
A12: Līdzekļu neizpildi plānots novirzīt, tajā skaitā:
A13: Pasākums | B13: Plānotais finansējums 2025.gadam, euro | C13: Izpilde 2025. gada (janvāris-augusts), euro | D13: Izpildes prognoze 2025.gada (septembris- decembris), euro | E13: Izpildes prognoze 2025.gads, euro | F13: % izpilde 2025.gads pret plānoto finansējumu | G13: Līdzekļu deficīts (-), euro | H13: Līdzekļu deficīts (-), kuram tiek pārdalīts finansējums, euro | I13: Skaidrojumi par neizpildēm un līdzekļu deficītiem
A14: Veselības ministrijas fiskāli neitrāla pasākuma 2025. gadā "Veselības aprūpes pakalpojumu onkoloģijas un citu slimību, kurām neatliekami turpināma terapija, uzlabošana" apakšpasākuma "Esošās onkoloģijas terapijas turpināšana" īstenošanai | B14: 12414897 | C14: 12702283 | D14: 6351142 | E14: =C14+D14 -> 19053425 | F14: =ROUND((E14/B14)*100,1) -> 153.5 | G14: =SUM(B14-E14) -> -6638528 | H14: =-H8 -> -2103969 | I14: Pārpildes iemesls: Ar katru gadu aizvien vairāk pacienti uzsāk inovatīvās terapijas lietošanu, kas ir efektīvākā, palielinot terapijas lietošanas ilgumu, kas atspoguļojas arī valsts budžeta līdzekļu izlietojuma pieaugumā. Katru gadu pacientu skaits, kas lieto inovatīvo medikamentu terapiju pieaug par aptuveni 20%.
A15: KOPĀ, euro | H15: =SUM(H14:H14) -> -2103969
A17: Rezultatīvais rādītājs
A19: Izdevumu pozīcijas nosaukums | G19: Pacientu skaits
A20: Esošās onkoloģijas terapijas turpināšana | G20: 107
A21: KOPĀ: | G21: =SUM(G20) -> 107
A25: Finanšu līdzekļu neizpilde apakšprogrammā 33.04.00 "Centralizēta medikamentu un materiālu iegāde" pārdalei apakšprogrammas 33.04.00 "Centralizēta medikamentu un materiālu iegāde" ietvaros
A26: Pasākums | B26: Plānotais finansējums 2025.gadam, euro | C26: Izpilde 2025. gada (janvāris-augusts), euro | D26: Izpildes prognoze 2025.gada (septembris- decembris), euro | E26: Izpildes prognoze 2025.gads, euro | F26: % izpilde 2025.gads pret plānoto finansējumu | G26: Līdzekļu neizpilde (+), euro | H26: Līdzekļu neizpilde (+), kura tiek pārdalīta, euro | I26: Skaidrojumi par neizpildēm un līdzekļu deficītiem
A27: Līdzekļu neizpilde 2024.-2026.gada prioritārā pasākuma "Veselības aprūpes pakalpojumu pieejamības un kvalitātes uzlabošana", tajā skaitā:
A28: apakšpasākuma "Mātes un bērna veselības uzlabošana" ietvaros īstenotai aktivitātei "Pneimokoka vakcīnas nodrošināšana" | B28: 1696493 | C28: 663712 | D28: 380800 | E28: =D28+C28 -> 1044512 | F28: =ROUND((E28/B28)*100,1) -> 61.6 | G28: =SUM(B28-E28) -> 651981 | H28: =G28 -> 651981 | I28: Finansējumu 651 981 euro plānots novirzīt pasākumiem apakšprogrammas ietvaros, t.sk. 219 388 euro apmērā peritoneālās dialīzes ārstniecības līdzekļu iegādei un 432 593 euro apmērā parenterāli ievadāmo zāļu iegādei onkoloģisko saslimšanu ārstēšanai, lai daļēji segtu līdzekļu iztrūkumu. Neizpildes iemesls: Atbilstoši iepirkuma rezultātiem tika noslēgts piegādes līgums 2024./2025.gadam, kura ietvaros vienas vakcīnas pret pneimokoka infekciju (kas satur antivielas pret 15 pneimokoka paveidiem) cena ir 28 euro, kas ir par 50 % zemāka nekā prognozētā cena pirms iepirkuma izsludināšanas (56,14 euro), kā arī pieprasījums pēc vakcinācijas pret pneimokoka vīrusa infekciju samazinās, jo dzimušo bērnu skaits katru gadu turpina samazināties. Līdz ar to izveidojusies pasākuma neizpilde.
A29: KOPĀ, euro | G29: =G28 -> 651981 | H29: =H28 -> 651981
A30: Līdzekļu ekonomija 2024.-2026.gada prioritārā pasākuma "Veselības aprūpes pakalpojumu pieejamības un kvalitātes uzlabošana" apakšpasākumam "Mātes un bērna veselības uzlabošana" ietvaros īstenotai aktivitātei "Pneimokoka vakcīnas nodrošināšana" veidojas 651 981 euro, no tā 432 593 euro tiks novirzīti parenterāli ievadāmo zāļu iegādei onkoloģisko saslimšanu ārstēšanai, savukārt 219 388 euro tiks novirzīti peritoneālās dialīzes ārstniecības līdzekļu iegādei.
A31: PAVISAM KOPĀ: | H31: =H29 -> 651981
A33: Līdzekļu neizpildi plānots novirzīt, tajā skaitā:
A34: Pasākums | B34: Plānotais finansējums 2025.gadam, euro | C34: Izpilde 2025. gada (janvāris-augusts), euro | D34: Izpildes prognoze 2025.gada (septembris- decembris), euro | E34: Izpildes prognoze 2025.gads, euro | F34: % izpilde 2025.gads pret plānoto finansējumu | G34: Līdzekļu deficīts (-), euro | H34: Līdzekļu deficīts (-), kuram tiek pārdalīts finansējums, euro | I34: Skaidrojumi par neizpildēm un līdzekļu deficītiem
A35: Parenterāli ievadāmo zāļu iegādei onkoloģisko saslimšanu ārstēšanai | B35: 2938559 | C35: 3235718.9 | D35: 1617859.4 | E35: =C35+D35 -> 4853578.3 | F35: =ROUND((E35/B35)*100,1) -> 165.2 | G35: =SUM(B35-E35) -> -1915019.3 | H35: -432593 | I35: Saskaņā ar ārstniecības iestāžu iesniegtajiem pārskatiem, būtiski pieaudzis zāļu izlietojuma apjoms, kas veido finanšu līdzekļu iztrūkumu parenterāli ievadāmo zāļu iegādei onkoloģisko saslimšanu ārstēšanai. Pārpilde izveidojusies, jo 2025.-2026.gada centralizētajā iepirkumā tika iekļauti papildus jauni medikamenti, kas iepriekš tika apmaksāti kompensējamo zāļu sistēmas ietvaros. 2025. gada astoņu mēnešu periodā parenterāli ievadāmo zāļu terapiju onkoloģisko saslimšanu ārstēšanai saņēmuši 5 446 unikālie pacienti, kuru nodrošināšanai kopējās izmaksas veidoja 3 235 719 euro. Līdz ar to vidējās izmaksas uz vienu pacientu minētajā periodā bija 594,15 euro. Ņemot vērā papildus piešķirto finansējumu 432 593 euro apmērā, būs iespējams nodrošināt parenterāli ievadāmo zāļu terapiju onkoloģisko saslimšanu ārstēšanai vēl 728 pacientiem.
A36: Peritoneālās dialīzes ārstniecības līdzekļu iegādei | B36: 2718086 | C36: 1953610 | D36: 983864 | E36: =D36+C36 -> 2937474 | F36: =ROUND((E36/B36)*100,1) -> 108.1 | G36: =SUM(B36-E36) -> -219388 | H36: -219388 | I36: Pārskata periodā ir pieaudzis vidējais pacientu skaits mēnesī no 120 pacientiem uz 127, kuriem tiek ordinēta nieru aizstājterapijas metode - peritoneālā dialīze. Ņemot vērā, ka kopējais pacientu skaits gada laikā ir mainīgs un ārsta nozīmētais peritoneālās dialīzes komplekts pacientiem ir atšķirīgs, viena pakalpojuma (komplekta) vidējās izmaksas mēnesī ir pieaugušas un sastāda 1924,46 euro. Līdz ar to ir izveidojusies līgumu summas pārstrāde.
A37: KOPĀ, euro | G37: =SUM(G35:G36) -> -2134407.3 | H37: =SUM(H35:H36) -> -651981
A39: Rezultatīvais rādītājs
A41: Izdevumu pozīcija | G41: Pacientu/ Pakalpojumu skaits
A42: Parenterāli ievadāmo zāļu iegādei onkoloģisko saslimšanu ārstēšanai | G42: 728
A43: Peritoneālās dialīzes ārstniecības līdzekļu iegādei | G43: 114
A44: KOPĀ | G44: =SUM(G42:H43) -> 842
A48: Finanšu līdzekļu neizpilde apakšprogrammā 33.14.00 "Primārās ambulatorās veselības aprūpes nodrošināšana" pārdalei apakšprogrammas 33.14.00 "Primārās ambulatorās veselības aprūpes nodrošināšana" ietvaros
A49: Pasākums | B49: Plānotais finansējums 2025.gadam, euro | C49: Izpilde 2025. gada (janvāris-augusts), euro | D49: Izpildes prognoze 2025.gada (septembris- decembris), euro | E49: Izpildes prognoze 2025.gads, euro | F49: % izpilde 2025.gads pret plānoto finansējumu | G49: Līdzekļu neizpilde (+), euro | H49: Līdzekļu neizpilde (+), kura tiek pārdalīta, euro | I49: Skaidrojumi par neizpildēm un līdzekļu deficītiem
A50: Līdzekļu neizpilde 2024.-2026.gada prioritārā pasākuma "Veselības aprūpes pakalpojumu pieejamības un kvalitātes uzlabošana", tajā skaitā:
A51: apakšpasākuma "Veselības aprūpes pakalpojumu pieejamības un kvalitātes uzlabošana" ietvaros īstenotai aktivitātei "Ģimenes ārstu prakses uzturēšanas maksājums (trīs mēneši)" | B51: 979158 | C51: 959210 | D51: 0 | E51: =SUM(C51:D51) -> 959210 | F51: =ROUND((E51/B51)*100,1) -> 98 | G51: =B51-E51 -> 19948 | H51: =SUM(G51) -> 19948 | I51: Finansējumu 19 948 euro apmērā plānots pārdalīt ģimenes ārstu zarnu vēža skrīninga un prostatas vēža skrīninga aptveres maksājumam. Neizpildes iemesls: mazāks prakšu skaits, nekā bija paredzēts plānā. Lai gan finansējuma izpilde sasniedza 98%, rezultativitātes rādītājs veido 97,5%. Šī atšķirība skaidrojama ar to, ka prakšu skaits, kas saņēma maksājumu, katru mēnesi bija mainīgs. Kopumā attiecīgajā periodā uzturēšanas maksājumu saņēma 1472 prakses, taču prakšu skaits nebija vienmērīgi sadalīts visa perioda laikā.
A52: apakšpasākuma "Primārās veselības aprūpes pakalpojumu nepārtrauktības nodrošināšanai" ietvaros īstenotai aktivitātei "Samaksa par ģimenes ārstu praksē nodarbināto ārstniecības personu aizvietošanu to attaisnotas prombūtnes laikā ar 2024.gada 1.februāri"* | B52: =5798896+180446 -> 5979342 | C52: 5546392 | D52: 32950 | E52: =SUM(C52:D52) -> 5579342 | F52: =ROUND((E52/B52)*100,1) -> 93.3 | G52: =B52-E52 -> 400000 | H52: =G52 -> 400000 | I52: Finansējumu 400 000 euro apmērā plānots pārdalīt ģimenes ārstu zarnu vēža skrīninga un prostatas vēža skrīninga aptveres maksājumam. Neizpildes iemesls - mazāks prakšu skaits, nekā bija paredzēts plānā. Šī pasākuma izpilde tiks pārskatīta līdz 2025. gada 31. decembrim, un pastāv iespēja, ka palielināsies prakšu skaits, kas saņems maksājumu, jo ir saņemti iesniegumi par jaunām praksēm, kas atbilst piemaksas saņemšanas kritērijiem.
A53: apakšpasākuma "Primārās veselības aprūpes pakalpojumu nepārtrauktības nodrošināšanai" ietvaros īstenotai aktivitātei "Ikmēneša fiksētā maksājuma paaugstināšanu ģimenes ārstu praksēm ar 2024.gada 1.februāri"** | B53: =4554939+90556 -> 4645495 | C53: 2977547 | D53: 1517948 | E53: =SUM(C53:D53) -> 4495495 | F53: =ROUND((E53/B53)*100,1) -> 96.8 | G53: =B53-E53 -> 150000 | H53: 150000 | I53: Finansējumu 150 000 euro apmērā plānots pārdalīt ģimenes ārstu zarnu vēža skrīninga un prostatas vēža skrīninga aptveres maksājumam. Neizpildes iemesls - mazāks prakšu skaits, nekā bija paredzēts plānā. Lai gan finansējuma izpilde veido 98.1%, rezultativitātes rādītājs sasniedz 100.1%. Tas skaidrojams ar to, ka prakšu skaits, kas saņēma maksājumu, katru mēnesi bija mainīgs. Kopumā attiecīgajā periodā maksājumu saņēma 1472 prakses, tomēr prakšu skaits nebija vienmērīgi sadalīts visa perioda ietvaros.
A54: KOPĀ, euro | G54: =SUM(G51:G53) -> 569948 | H54: =SUM(H51:H53) -> 569948
A55: * tajā skaitā 180 446 euro apropriācias palielinājums atbilstoši FM 04.07.2025. rīkojumam Nr.1.1-1/12/206 "Par pārdali no budžeta programmas 01.00.00. "Apropriācijas rezerve""
A56: ** tajā skaitā 90 556 euro apropriācias palielinājums atbilstoši FM 04.07.2025. rīkojumam Nr.1.1-1/12/206 "Par pārdali no budžeta programmas 01.00.00. "Apropriācijas rezerve""
A57: Līdzekļu ekonomija 2024.-2026.gada prioritārā pasākuma "Veselības aprūpes pakalpojumu pieejamības un kvalitātes uzlabošana" apakšpasākumiem "Veselības aprūpes pakalpojumu pieejamības un kvalitātes uzlabošana" ietvaros īstenotai aktivitātei "Ģimenes ārstu prakses uzturēšanas maksājums (trīs mēneši)" 19 948 euro apmērā,"Primārās veselības aprūpes pakalpojumu nepārtrauktības nodrošināšanai" ietvaros īstenotai aktivitātei "Samaksa par ģimenes ārstu praksē nodarbināto ārstniecības personu aizvietošanu to attaisnotas prombūtnes laikā ar 2024.gada 1.februāri" 400 000 euro apmērā un "Primārās veselības aprūpes pakalpojumu nepārtrauktības nodrošināšanai" ietvaros īstenotai aktivitātei "Ikmēneša fiksētā maksājuma paaugstināšanu ģimenes ārstu praksēm ar 2024.gada 1.februāri" 150 000 euro apmērā, kur pavisam kopā veido 569 948 euro, no tā 569 948 euro tiks novirzīti ģimenes ārstu zarnu vēža skrīninga un prostatas vēža skrīninga aptveres maksājuma veikšanai.
A58: PAVISAM KOPĀ: | H58: =H54 -> 569948
A60: Līdzekļu neizpildi plānots novirzīt, tajā skaitā:
A61: Pasākums | B61: Plānotais finansējums 2025.gadam, euro | C61: Izpilde 2025. gada (janvāris-augusts), euro | D61: Izpildes prognoze 2025.gada (septembris- decembris), euro | E61: Izpildes prognoze 2025.gads, euro | F61: % izpilde 2025.gads pret plānoto finansējumu | G61: Līdzekļu deficīts (-), euro | H61: Līdzekļu deficīts (-), kuram tiek pārdalīts finansējums, euro | I61: Skaidrojumi par neizpildēm un līdzekļu deficītiem
A62: Ģimenes ārstu zarnu vēža skrīninga un prostatas vēža skrīninga aptveres maksājums | B62: 520000 | C62: 1332460 | D62: 0 | E62: 1332460 | F62: 256.2 | G62: -812460 | H62: =-H54 -> -569948 | I62: Atbilstoši MK 555. 11.pielikuma 20.punktam, ģimenes ārstu praksēm piemaksa par skrīninga aptveri (skrīninga atsaucība). Palielinājusies ģimenes ārstu aktivitāte, iesaistot iedzīvotājus skrīninga programmās, uzrunājot pacientus un izsniedzot nosūtījumus veikt prostatas vēža profilaktisko izmeklējumu. Aptveres maksājumu par sasniegto prostatas vēža skrīninga atsaucību praksē reģistrēto pacientu vidū, par periodu 01.07.2024-30.06.2025, saņēma 447 ārstniecības iestādes, ar vidējo maksājuma apjomu 806.70 euro. No tām praksēm, kuras ir saņēmušas izmaksu, vidējais izmeklējumu skaits par prostatas vēža skrīningu ir 63. Aptveres maksājumu par sasniegto zarnu vēža skrīninga atsaucību praksē reģistrēto pacientu vidū, par periodu 01.07.2024-30.06.2024, saņēma 712 ārstniecības iestāde, kur vidējais maksājuma apjoms bija 1363 euro, no tām praksēm, kuras ir saņēmušas izmaksu, vidējais izmeklējumu skaits par zarnu vēža skrīningu ir 93.
A63: KOPĀ, euro | G63: =SUM(G62:G62) -> -812460 | H63: =SUM(H62:H62) -> -569948
A65: Rezultatīvais rādītājs
A67: Izdevumu pozīcija | G67: Ģimenes ārstu prakšu skaits, kas papildus saņēma aptveres maksājumu
A68: Ģimenes ārstu zarnu vēža skrīninga aptveres maksājums | G68: 191
A69: Ģimenes ārstu prostatas vēža skrīninga aptveres maksājums | G69: 305
A70: KOPĀ: | G70: =SUM(G68:H69) -> 496
A74: Finanšu līdzekļu neizpilde apakšprogrammā 33.14.00 "Primārās ambulatorās veselības aprūpes nodrošināšana" pārdalei uz apakšprogrammu 33.18.00 "Plānveida stacionāro veselības aprūpes pakalpojumu nodrošināšana"
A75: Pasākums | B75: Plānotais finansējums 2025.gadam, euro* | C75: Izpilde 2025. gada (janvāris-augusts), euro | D75: Izpildes prognoze 2025.gada (septembris- decembris), euro | E75: Izpildes prognoze 2025.gads, euro | F75: % izpilde 2025.gads pret plānoto finansējumu | G75: Līdzekļu neizpilde (+), euro | H75: Līdzekļu neizpilde (+), kura tiek pārdalīta, euro | I75: Skaidrojumi par neizpildēm un līdzekļu deficītiem
A76: Līdzekļu neizpilde 2024.-2026.gada prioritārā pasākuma "Veselības aprūpes pakalpojumu pieejamības un kvalitātes uzlabošana", tajā skaitā:
A77: apakšpasākumam "Papildu darbinieka nodrošināšana ģimenes ārsta praksēs (no 2024. gada 1.jūnija)" | B77: =6818090+2142705 -> 8960795 | C77: =3999809 -> 3999809 | D77: 300000 | E77: =C77+D77 -> 4299809 | F77: =ROUND((E77/B77)*100,1) -> 48 | G77: =B77-E77 -> 4660986 | H77: 3456986 | I77: Finansējumu 3 456 986 euro apmērā plānots novirzīt plānveida stacionāro veselības aprūpes pakalpojumu pārstrādes segšanai. Neizpildes iemesls - No 2024. gada 1. jūlija paplašināti Ministru kabineta noteikumu Nr. 555 nosacījumi, ļaujot vairākām ģimenes ārstu praksēm piesaistīt papildu darbiniekus. Tomēr ģimenes ārstu prakšu aptauja rāda, ka daudzas prakses šo iespēju nevar izmantot personāla trūkuma dēļ. Saistībā ar to veidojas būtiska paredzētā finansējuma neizpilde.
A78: KOPĀ, euro | G78: =G77 -> 4660986 | H78: =H77 -> 3456986
A79: * tajā skaitā 2 142 705 euro apropriācias palielinājums atbilstoši FM 04.07.2025. rīkojumam Nr.1.1-1/12/206 "Par pārdali no budžeta programmas 01.00.00. "Apropriācijas rezerve"".
A80: Līdzekļu ekonomija 2024.-2026.gada prioritārā pasākuma "Veselības aprūpes pakalpojumu pieejamības un kvalitātes uzlabošana" apakšpasākuma "Papildu darbinieka nodrošināšana ģimenes ārsta praksēs (no 2024. gada 1.jūnija)", kur pavisam kopā neizpildi veido 4 660 986 euro, no tā 3 456 986 euro tiks novirzīti plānveida stacionāro veselības aprūpes pakalpojumu pārstrādes segšanai un 1 204 000 euro vienreizēja digitalizācijas atbalsta maksājumam ģimenes ārstu praksēm ( 1 204 000 euro pārdale ir iekļauta atsevišķā MK rīkojumā 25-TA-2846).
A81: PAVISAM KOPĀ: | H81: =H78 -> 3456986
A83: Līdzekļu neizpildi plānots novirzīt, tajā skaitā:
A84: Pasākums | B84: Plānotais finansējums 2025.gadam, euro | C84: Izpilde 2025. gada (janvāris-augusts), euro | D84: Izpildes prognoze 2025.gada (septembris- decembris), euro | E84: Izpildes prognoze 2025.gads, euro | F84: % izpilde 2025.gads pret plānoto finansējumu | G84: Līdzekļu deficīts (-), euro | H84: Līdzekļu deficīts (-), kuram tiek pārdalīts finansējums, euro | I84: Skaidrojumi par neizpildēm un līdzekļu deficītiem
A85: Plānveida stacionāro veselības aprūpes pakalpojumu pārstrādes segšana | B85: 34009140 | C85: 28923332 | D85: 8542794 | E85: =C85+D85 -> 37466126 | F85: =ROUND((E85/B85)*100,1) -> 110.2 | G85: =B85-E85 -> -3456986 | H85: =-H78 -> -3456986 | I85: Pieprasījums pēc plānveida stacionāro veselības aprūpes pakalpojumiem saglabājas augsts (iekļaujot piemaksājamās manipulācijas pie pakalpojumu programmām), īpaši šadās pakalpojumu programmās - gūžas locītavu endoprotezēšana un revīziju endoprotezēšana, hronisko pacientu aprūpe ar ārstēšanās ilgumu līdz 14 gultasdienām, mikrodiskektomija, mikrofenestrācija, paliatīvā aprūpe u.c.
A86: KOPĀ, euro | G86: =SUM(G85:G85) -> -3456986 | H86: =SUM(H85:H85) -> -3456986
A88: Rezultatīvais rādītājs
A90: Pakalpojuma programmas virssadaļa | B90: Ārstniecības iestāde | C90: Papildus nepieciešams pacientu skaits 2025. gadam 33.18.00 | D90: Papildus nepieciešams finansējums 2025. gadam, EUR 33.18.00
A91: 01. DRG fiksētais maksājums | B91: Bērnu klīniskā universitātes slimnīca | C91: 520 | D91: 898451
A92: 04. DRG fiksētais maksājums - "Krūšu rekonstrukcija" | B92: Liepājas reģionālā slimnīca | C92: 2 | D92: 4837
A93: 04. DRG fiksētais maksājums - "Krūšu rekonstrukcija" | B93: Paula Stradiņa klīniskā universitātes slimnīca | C93: 14 | D93: 53260
A94: 07. Maksājums pa pakalpojumu programmām | B94: Aizkraukles klīnika | C94: 81 | D94: 60689
A95: 07. Maksājums pa pakalpojumu programmām | B95: Balvu un Gulbenes slimnīcu apvienība | C95: 8 | D95: 5994
A96: 07. Maksājums pa pakalpojumu programmām | B96: Bauskas slimnīca | C96: 22 | D96: 19191
A97: 07. Maksājums pa pakalpojumu programmām | B97: Cēsu klīnika | C97: 87 | D97: 33473
A98: 07. Maksājums pa pakalpojumu programmām | B98: Daugavpils reģionālā slimnīca | C98: 96 | D98: 210050
A99: 07. Maksājums pa pakalpojumu programmām | B99: Dobeles un apkārtnes slimnīca | C99: 3 | D99: 2248
A100: 07. Maksājums pa pakalpojumu programmām | B100: Jelgavas pilsētas slimnīca | C100: 28 | D100: 14868
A101: 07. Maksājums pa pakalpojumu programmām | B101: Jēkabpils reģionālā slimnīca | C101: 74 | D101: 293429
A102: 07. Maksājums pa pakalpojumu programmām | B102: Jūrmalas slimnīca | C102: 4 | D102: 2997
... A145: 09. Piemaksājamās manipulācijas | B145: Ziemeļkurzemes reģionālā slimnīca | C145: 0 | D145: 2948
A146: Kopā: | C146: =SUM(C91:C145) -> 1873 | D146: =SUM(D91:D145) -> 3456986
A150: Finanšu līdzekļu neizpildes apakšprogrammā 33.15.00 "Laboratorisko izmeklējumu nodrošināšana ambulatorajā aprūpē" pārdalei uz apakšprogrammu 33.14.00 "Primārās ambulatorās veselības aprūpes nodrošināšana"
A151: Pasākums | B151: Plānotais finansējums 2025.gadam, euro | C151: Izpilde 2025. gada (janvāris-augusts), euro | D151: Izpildes prognoze 2025.gada (septembris- decembris), euro ** | E151: Izpildes prognoze 2025.gads, euro | F151: % izpilde 2025.gads pret plānoto finansējumu | G151: Līdzekļu neizpilde (+), euro | H151: Līdzekļu neizpilde (+), kura tiek pārdalīta, euro | I151: Skaidrojumi par neizpildēm un līdzekļu deficītiem
A152: Līdzekļu neizpilde 2024.-2026.gada prioritārā pasākuma "Veselības aprūpes pakalpojumu pieejamības un kvalitātes uzlabošana", tajā skaitā:
A153: apakšpasākumam "Laboratorijas pakalpojumu nodrošināšana, lai 2024.gadā segtu izdevumus, kas pārsniedz līgumos ar pakalpojuma sniedzējiem iekļauto apjomu"* | B153: =10305039+2802467 -> 13107506 | C153: 6870026 | D153: 5713203 | E153: =SUM(C153:D153) -> 12583229 | F153: =ROUND((E153/B153)*100,1) -> 96 | G153: =B153-E153 -> 524277 | H153: =SUM(G153) -> 524277 | I153: Finansējumu 524 277 euro apmērā plānots pārdalīt 2024.-2026. gada prioritārā pasākuma "Veselības aprūpes pakalpojumu pieejamības un kvalitātes uzlabošana" apakšpasākuma "Mātes un bērna veselības uzlabošana" aktivitātes "Zobārstniecības pakalpojumu pilnveidošana bērniem, lai uzlabotu pakalpojumu pieejamību bērniem - Apjoma palielināšana" daļējai iztrūkuma segšanai. Neizpildes iemesls - pēc laboratoriju veiktā darba prognozes secināms, ka uz gada beigām viss pieejamais finansējums pilnībā netiks izpildīts. 2025.gada 1.ceturksnī tika novērota lielāka izpilde saistībā ar vairāku akūtu augšējo elpceļu infekciju strauju izplatību. Savukārt 2025.gada 2. un 3.ceturksnī ir mazinājies akūtu augšējo elpceļu infekciju skaits, kā rezultātā ir mazinājusies nepieciešamība pēc laboratoriskiem izmeklējumiem un pakalpojumu sniedzēju izpildes.
A154: KOPĀ, euro | G154: =SUM(G153:G153) -> 524277 | H154: =SUM(H153:H153) -> 524277
A155: * tajā skaitā 2 802 467 euro apropriācias palielinājums atbilstoši FM 04.07.2025. rīkojumam Nr.1.1-1/12/206 "Par pārdali no budžeta programmas 01.00.00. "Apropriācijas rezerve""
A156: ** Laboratorisko pakalpojumu plānošanā tiek ņemta vērā ne tikai 2025. gada 8 mēnešu faktiskā izpilde, bet ņemti vērā arī ar sezonalitāti saistītie riski.
A157: Līdzekļu ekonomija 2024.-2026.gada prioritārā pasākuma "Veselības aprūpes pakalpojumu pieejamības un kvalitātes uzlabošana" apakšpasākumam"Laboratorijas pakalpojumu nodrošināšana, lai 2024.gadā segtu izdevumus, kas pārsniedz līgumos ar pakalpojuma sniedzējiem iekļauto apjomu" veidojas 524 277 euro, no tā 524 277 euro tiks novirzīti 2024.-2026. gada prioritārā pasākuma "Veselības aprūpes pakalpojumu pieejamības un kvalitātes uzlabošana" apakšpasākuma "Mātes un bērna veselības uzlabošana" aktivitātei "Zobārstniecības pakalpojumu pilnveidošana bērniem, lai uzlabotu pakalpojumu pieejamību bērniem - apjoma palielināšana" īstenošanai.
A158: PAVISAM KOPĀ: | H158: =H154 -> 524277
A160: Līdzekļu neizpildi plānots novirzīt, tajā skaitā:
A161: Pasākums | B161: Plānotais finansējums 2025.gadam, euro | C161: Izpilde 2025. gada (janvāris-augusts), euro | D161: Izpildes prognoze 2025.gada (septembris- decembris), euro | E161: Izpildes prognoze 2025.gads, euro | F161: % izpilde 2025.gads pret plānoto finansējumu | G161: Līdzekļu deficīts (-), euro | H161: Līdzekļu deficīts (-), kuram tiek pārdalīts finansējums, euro | I161: Skaidrojumi par neizpildēm un līdzekļu deficītiem
A162: 2024.-2026. gada prioritārā pasākuma "Veselības aprūpes pakalpojumu pieejamības un kvalitātes uzlabošana" apakšpasākuma "Mātes un bērna veselības uzlabošana" aktivitātei "Zobārstniecības pakalpojumu pilnveidošana bērniem, lai uzlabotu pakalpojumu pieejamību bērniem - apjoma palielināšana" | B162: 2888567 | C162: 3097480 | D162: 1548740 | E162: =D162+C162 -> 4646220 | F162: =ROUND((E162/B162)*100,1) -> 160.8 | G162: =B162-E162 -> -1757653 | H162: =-H154 -> -524277 | I162: Pieprasījums pēc zobārstniecības pakalpojumiem saglabājas augsts un esošais finansējums nav pietiekams, lai pilnībā segtu visas izmaksas zobārstniecības iestādēm. Izmaksas un apmeklējumu skaits pārsniedz plānoto, kā rezultātā zobārstniecības pakalpojumu sniedzējiem veidojas līgumu summas pārstrāde, kas norāda uz papildu nepieciešamo līdzekļu apjomu. Papildus līdzekļu piešķiršana ļaus segt radušos pārstrādi zobārstniecības iestādēm un nodrošinās lielāku valsts apmaksāto zobārstniecības pakalpojumu skaitu. Atbilstoši vidējām izmaksām valstī, tiks nodrošināti papildus 8 228 zobārstniecības apmeklējumi.
A163: KOPĀ, euro | G163: =SUM(G162:G162) -> -1757653 | H163: =SUM(H162:H162) -> -524277
A165: Rezultatīvais rādītājs
A167: Izdevumu pozīcija | G167: Sniegto pakalpojumu skaits
A168: Zobārstniecības pakalpojumu pilnveidošana bērniem, lai uzlabotu pakalpojumu pieejamību bērniem - Apjoma palielināšana | G168: 8 228
A169: KOPĀ, euro | G169: =G168 -> 8 228
...
