Workbook

Sheet VP jūnijs
D1: 2.pielikums
D2: Ministru kabineta rīkojuma projekta “Par apropriācijas pārdali no budžeta resora
D3: “74. Gadskārtējā valsts budžeta izpildes procesā pārdalāmais finansējums”
D4: programmas 22.00.00 “Valsts ārējās robežas drošības pasākumu nodrošināšana””
D5: sākotnējās ietekmes novērtējuma ziņojumam (anotācijai)
A7: Valsts policijas izdevumi
A8: Kopasavilkums
A10: Kods | B10: Koda nosaukums | C10: Detalizēts izdevumu aprēķins | D10: Izdevumi, euro
A11: Izdevumi kopā ar vidējās izpeļņas pieauguma kompensēšanu | D11: =D12+D15 -> 155695
A12: 1000 | B12: Atlīdzība | C12: × | D12: =D18+D36 -> 61937
A13: 1100 | B13: Atalgojums | C13: × | D13: =D37+D19 -> 50115.79
A14: 1210 | B14: Darba devēja valsts sociālās apdrošināšanas obligātās iemaksas | C14: × | D14: =D39+D27 -> 11820.52
A15: 2000 | B15: Preces un pakalpojumi | C15: × | D15: =D28 -> 93758
A17: 1) Izdevumi saistībā ar rīkojuma Nr. 184 izpildei nepieciešamo pasākumu īstenošanu | D17: =D18+D28 -> 150932
A18: 1000 | B18: Atlīdzība | C18: × | D18: =ROUNDUP(D19+D27,0) -> 57174
A19: 1100 | B19: Atalgojums | C19: × | D19: =SUM(D20:D26) -> 46261.79
A20: 1116 | B20: Mēnešalga amatpersonām ar speciālajām dienesta pakāpēm
A21: 1141
A22: 1141 | B22: Piemaksa par nakts darbu | C22: Detalizēts aprēķins par laika periodu no 2024. gada 1. jūnija līdz 30. jūnijam 1.tabulā. Iesaistītas 230 personas, kopējais iesaistes laiks 3 346 stundas. | D22: ='1.tabula'!G6 -> 15441.86
A23: 1142 | B23: Samaksa par virsstundu darbu un darbu svētku dienās | C23: 1) Piemaksa par virsstundu darbu Detalizēts aprēķins par laika periodu no 2024. gada 01. maija līdz 31. maijam 2.tabulā. Iesaistītas ___ personas, kopējais iesaistes laiks _________ stundas. | D23: =' 2.tabula'!G6 -> 0
C24: 1) Piemaksa par darbu svētku dienās (23.06., 24.06.) Detalizēts aprēķins par laika periodu no 2024. gada 1. jūnija līdz 30. jūnijam 3.tabulā. Iesaistītas 58 personas, kopējais iesaistes laiks 857,50 stundas. | D24: ='3.tabula'!G6 -> 7880.83
C25: 2) Piemaksa par virsstundu darbu 3 amatpersonām ar speciālo dienesta pakāpi ar kurām 2024. gada jūnija mēnesī izbeigtas dienesta attiecības (aprēķins par laika periodu no 2024. gada 1. jūnija līdz 30.jūnijam 2. tabulā) | D25: ='2. tabula'!G6 -> 3670.98
A26: 1145 | B26: Piemaksa par darbu īpašos apstākļos, speciālās piemaksas | C26: Detalizēts aprēķins par laika periodu no 2024. gada 1. jūnija līdz 30. jūnijam 4.tabulā. Iesaistītas 385 personas, kopējais iesaistes laiks 10 032,50 stundas. | D26: ='4.tabula'!H7 -> 19268.12
A27: 1210 | B27: Darba devēja valsts sociālās apdrošināšanas obligātās iemaksas | C27: 23,59% no aprēķinātā atalgojuma * izņemot 2 personas, kurām tiek piemērota nodokļu likme 21,94% (izdienas pensionārs) | D27: ='1.tabula'!H6+'2. tabula'!H6+'3.tabula'!H6+'4.tabula'!I7 -> 10911.45
A28: 2000 | B28: Preces un pakalpojumi | C28: × | D28: =ROUNDUP(SUM(D29:D33),0) -> 93758
A29: 2111 | B29: Dienas nauda | C29: Detalizēts aprēķins 5.tabulā. Dienas nauda par periodu no 2024.gada 23. aprīļa līdz 5. jūnijam ir izmaksāta 26 personām. Valsts policijas pavēles: Nr.2249 no 18.04.2024., Nr.2963 no 23.05.2024. "Par komandējumiem uz Daugavpili un Dagdu (Latvijā)" dienas nauda: 100% (8,00 euro) pirmā un pēdējā diena, 30% (2,40 euro) pārējās dienas *Valsts policija iekšzemes komandējumiem nemaksā dienas naudu avansā, bet gan izmaksā tad, kad no komandējuma amatpersonas ir atgriezušās. Komandējuma laika ietvars saskaņā ar Valsts policijas pavēli par komandējumu, ir tāds, ka uz mēnesi tiek sūtīta komandējumā viena amatpersonu grupa, pēc tam – uz mēnesi tika nosūtīta cita amatpersonu grupa. | D29: ='5.tabula'!G6 -> 1582.4
A30: 2112 | B30: Pārējie komandējumu un darba braucienu izdevumi | C30: Dienesta viesnīcas pakalpojumi Naktsmītnes izdevumi Daugavpilī: 17 nakts x 13 gultasvietas x 15,00 euro = 3 315,00 euro; 8 nakts x 12 gultasvietas × 15,00 euro = 1 440,00 euro; 5 nakts x 11 gultasvietas × 15,00 euro = 825,00 euro; 1 nakts x 2 gultasvietas × 15,00 euro = 30,00 euro; Aprēķins veikts par dienesta viesnīcas pakalpojumiem (naktsmītni), kas tika nodrošināti no 2024.gada 1. maija līdz 31. maijam, izdevumi pakalpojuma sniedzējam tika apmaksāti 2024.gada jūnijā. | D30: 5610
A31: 2322 | B31: Degviela | C31: Detalizēts aprēķins par laika periodu no 2024. gada 01. jūnija līdz 31. jūnijam 6.tabulā. Pasākuma nodrošināšanai tika iesaistīti 58 transportlīdzekļi; Vidēji viena transportlīdzekļa nobraukums 1 448,26 km; Vidējā degvielas cena 1,4272 euro/l; Vidējais degvielas patēriņš 6,927 l/km uz 100 km. 58 t-ldz. x 1 448,26 km x 1,4272 euro/l x 6,927 l/km ÷ 100 km = 8 304,10 euro | D31: ='6. tabula'!F6 -> 8304.1
A32: 2363 | B32: Ēdināšanas izdevumi | C32: Aprēķins veikts par ēdināšanas pakalpojumiem, kas tika nodrošināti no 2024.gada 01. maija līdz 31. maijam, izdevumi pakalpojuma sniedzējam tika apmaksāti 2024.gada jūnijā. Ēdināšanas pakalpojumi Daugavpilī: brokastis 261 porcijas × 8,00 euro = 2 088,00 euro; pusdienas 249 porcijas × 9,00 euro = 2 241,00 euro; vakariņas 256 porcijas × 10,00 euro = 2 560,00 euro; launags (sausā uztura paka uz 24 stundam) 116 pakas × 27,00 euro = 3 132,00 euro; launags (sausā uztura paka) 5 pakas × 18,00 euro = 90,00 euro. Saskaņā ar līgumu par izmitināšanu un ēdināšanu Daugavpilī ir noteikts, ka ēdināšana 3 reizes dienā nedrīkst pārsniegt 27,00 euro: Ēdināšanas izmaksas sastāda: Brokastis 8 euro /1 pers Pusdienas 9 euro /1 pers Vakariņas 10 euro /1 pers Amatpersonām, kuras ir maiņā uz robežas un tām nav iespējams atgriezties uz pusdienām un vakariņām, tad, lai nodrošinātu ēdināšanu amatpersonām dod līdzi pārtikas pakas: sausie produkti uz 24 stundām - 27 euro /1 pers. sausie produkti (vakariņaas un brokastis) - 18 euro /1 pers. Pārtikas pakas tiek dotas arī Latgales reģiona pārvaldes amatpersonām, kuras arī tiek norīkotas uz robežu, augstākminēto iemeslu dēļ, komandējama izdevumi un dienas nauda viņām nav. Papildus jāatzīmē, ka dienas nauda dienās, kad nodrošināta 3 reižu ēdināšana sastāda 30% no Ministru kabineta noteikumos par komandējumu paredzētā limita. | D32: =(261*8)+(249*9)+(256*10)+(116*27)+(5*18) -> 10111
A33: 2364 | B33: Speciālais apģērbs amatpersonām ar speciālajām dienesta pakāpēm | C33: Pamatojoties uz 12.03.2024 MK Rīkojuma Nr.184 anotāciju (24-TA-589), pasākuma izpildei tika iegādāta kamuflāža: Taktiskie cimdi 150 gab. x 29,50 euro = 4 425,00 euro; Trubveida šalle 150 gab. x 9,25 euro = 1 387,50 euro; T-krekls 150 gab. x 37,499 euro = 5 624,85 euro; Taktiskā galvassega (cepure) 150 gab. x 31,4965 euro = 4 724,48 euro; Taktiskā rudens / pavasara virsjaka 150 gab.x 346,59 euro = 51 988,50 euro. | D33: =ROUND((150*29.5)+(150*9.25)+(150*37.499)+(150*31.4965)+(150*346.59),2) -> 68150.33
A35: 2) Vidējās izpeļņas pieauguma kompensēšanai | D35: =D36 -> 4763
A36: 1000 | B36: Atlīdzība | C36: × | D36: =ROUND(D37+D39,0) -> 4763
A37: 1100 | B37: Atalgojums | C37: × | D37: =ROUND(D38,0) -> 3854
A38: 1116 | B38: Mēnešalga amatpersonām ar speciālajām dienesta pakāpēm | C38: 46 261,79 euro × 8,33% = 3 853,61 euro. | D38: =ROUND((D19)*8.33%,2) -> 3853.61
A39: 1210 | B39: Darba devēja valsts sociālās apdrošināšanas obligātās iemaksas | C39: 23,59% no aprēķinātā atalgojuma | D39: =ROUND(D38*0.2359,2) -> 909.07

Sheet 1.tabula
I1: 1.tabula
A2: Valsts policija
A3: Piemaksa par nakts darbu amatpersonām ar speciālajām dienesta pakāpēm, kuras laika periodā no 2024. gada 1. jūnija līdz 30. jūnijam tika iesaistītas atbalsta sniegšanā Valsts robežsardzei Latvijas Republikas-Baltkrievijas Republikas valsts robežas robežuzraudzības nodrošināšanā
E4: 166.92
A5: Nr. p.k. | B5: Struktūrvienība | C5: Amats | D5: Mēnešalga amatpersonām ar speciālajām pakāpēm | E5: Stundas likme | F5: Stundu skaits | G5: Piemaksa par nakts darbu | H5: DD VSAOI | I5: Atlīdzība
A6: kopā | F6: =SUM(F7:F236) -> 3346 | G6: =SUM(G7:G236) -> 15441.86 | H6: =SUM(H7:H236) -> 3642.77 | I6: =SUM(I7:I236) -> 19084.63
A7: 1 | B7: VP LATGALES RP ZIEMEĻLATGALES IECIRKNIS | C7: iecirkņa priekšnieka vietnieks, Reaģēšanas nodaļas priekšnieks | D7: 2305 | E7: 13.809 | F7: 6 | G7: 41.43 | H7: =ROUND(G7*0.2359,2) -> 9.77 | I7: =G7+H7 -> 51.2
A8: 2 | B8: VP LATGALES RP ZIEMEĻLATGALES IECIRKŅA IZMEKLĒŠANAS NODAĻAS 2.GRUPA | C8: inspektors | D8: 1553 | E8: 9.304 | F8: 16 | G8: 74.43 | H8: =ROUND(G8*0.2359,2) -> 17.56 | I8: =G8+H8 -> 91.99
A9: 3 | B9: VP LATGALES RP DIENVIDLATGALES IECIRKŅA REAĢĒŠANAS NODAĻAS 3.GRUPA | C9: vecākais inspektors | D9: 1495 | E9: 8.956 | F9: 14 | G9: 62.69 | H9: =ROUND(G9*0.2359,2) -> 14.79 | I9: =G9+H9 -> 77.48
A10: 4 | B10: VP LATGALES RP DIENVIDLATGALES IECIRKŅA REAĢĒŠANAS NODAĻAS 7.GRUPA | C10: inspektors | D10: 1425 | E10: 8.537 | F10: 6 | G10: 25.61 | H10: =ROUND(G10*0.2359,2) -> 6.04 | I10: =G10+H10 -> 31.65
A11: 5 | B11: VP LATGALES RP DIENVIDLATGALES IECIRKŅA REAĢĒŠANAS NODAĻAS 7.GRUPA | C11: jaunākais inspektors | D11: 1242 | E11: 7.441 | F11: 8 | G11: 29.76 | H11: =ROUND(G11*0.2359,2) -> 7.02 | I11: =G11+H11 -> 36.78
A12: 6 | B12: VP LATGALES RP ZIEMEĻLATGALES IECIRKŅA PREVENCIJAS GRUPA | C12: vecākais inspektors | D12: 1523 | E12: 9.124 | F12: 8 | G12: 36.5 | H12: =ROUND(G12*0.2359,2)-0.01 -> 8.6 | I12: =G12+H12 -> 45.1
A13: 7 | B13: VP LATGALES RP KĀRTPB ATĻAUJU SISTĒMAS GRUPA | C13: inspektors | D13: 1297 | E13: 7.77 | F13: 24 | G13: 93.24 | H13: =ROUND(G13*0.2359,2) -> 22 | I13: =G13+H13 -> 115.24
A14: 8 | B14: VP LATGALES RP DIENVIDLATGALES IECIRKŅA IZMEKLĒŠANAS NODAĻAS 7.GRUPA | C14: vecākais inspektors | D14: 1495 | E14: 8.956 | F14: 8 | G14: 35.82 | H14: =ROUND(G14*0.2359,2) -> 8.45 | I14: =G14+H14 -> 44.27
A15: 9 | B15: VP LATGALES RP ZIEMEĻLATGALES IECIRKŅA REAĢĒŠANAS NODAĻAS 10.GRUPA | C15: galvenais inspektors | D15: 1680 | E15: 10.065 | F15: 8 | G15: 40.26 | H15: =ROUND(G15*0.2359,2) -> 9.5 | I15: =G15+H15 -> 49.76
A16: 10 | B16: VP LATGALES RP DIENVIDLATGALES IECIRKŅA REAĢĒŠANAS NODAĻAS 6.GRUPA | C16: jaunākais inspektors | D16: 1242 | E16: 7.441 | F16: 24 | G16: 89.29 | H16: =ROUND(G16*0.2359,2) -> 21.06 | I16: =G16+H16 -> 110.35
A17: 11 | B17: VP LATGALES RP ZIEMEĻLATGALES IECIRKŅA IZMEKLĒŠANAS NODAĻAS 2.GRUPA | C17: galvenais inspektors | D17: 2040 | E17: 12.221 | F17: 16 | G17: 97.77 | H17: =ROUND(G17*0.2359,2) -> 23.06 | I17: =G17+H17 -> 120.83
A18: 12 | B18: VP LATGALES RP DIENVIDLATGALES IECIRKŅA IZMEKLĒŠANAS NODAĻAS 2.GRUPA | C18: galvenais inspektors | D18: 1821 | E18: 10.909 | F18: 8 | G18: 43.64 | H18: =ROUND(G18*0.2359,2) -> 10.29 | I18: =G18+H18 -> 53.93
A19: 13 | B19: VP LATGALES RP ZIEMEĻLATGALES IECIRKŅA REAĢĒŠANAS NODAĻAS 10.GRUPA | C19: inspektors | D19: 1445 | E19: 8.657 | F19: 8 | G19: 34.63 | H19: =ROUND(G19*0.2359,2) -> 8.17 | I19: =G19+H19 -> 42.8
A20: 14 | B20: VP LATGALES RP DIENVIDLATGALES IECIRKŅA REAĢĒŠANAS NODAĻAS 2.GRUPA | C20: vecākais inspektors | D20: 1523 | E20: 9.124 | F20: 24 | G20: 109.49 | H20: =ROUND(G20*0.2359,2) -> 25.83 | I20: =G20+H20 -> 135.32
A21: 15 | B21: VP LATGALES RP DIENVIDLATGALES IECIRKŅA IZMEKLĒŠANAS NODAĻAS 1.GRUPA | C21: galvenais inspektors | D21: 1875 | E21: 11.233 | F21: 8 | G21: 44.93 | H21: =ROUND(G21*0.2359,2) -> 10.6 | I21: =G21+H21 -> 55.53
A22: 16 | B22: VP LATGALES RP DIENVIDLATGALES IECIRKŅA IZMEKLĒŠANAS NODAĻAS 6.GRUPA | C22: galvenais inspektors | D22: 1640 | E22: 9.825 | F22: 8 | G22: 39.3 | H22: =ROUND(G22*0.2359,2) -> 9.27 | I22: =G22+H22 -> 48.57
A23: 17 | B23: VP LATGALES RP ZIEMEĻLATGALES IECIRKŅA IZMEKLĒŠANAS NODAĻAS 4.GRUPA | C23: inspektors | D23: 1851 | E23: 11.089 | F23: 8 | G23: 44.36 | H23: =ROUND(G23*0.2359,2)-0.01 -> 10.45 | I23: =G23+H23 -> 54.81
A24: 18 | B24: VP LATGALES RP DIENVIDLATGALES IECIRKŅA IZMEKLĒŠANAS NODAĻAS 8.GRUPA | C24: inspektors | D24: 1472 | E24: 8.819 | F24: 8 | G24: 35.28 | H24: =ROUND(G24*0.2359,2) -> 8.32 | I24: =G24+H24 -> 43.6
A25: 19 | B25: VP LATGALES RP KĀRTPB ATĻAUJU SISTĒMAS GRUPA | C25: vecākais inspektors | D25: 1340 | E25: 8.028 | F25: 24 | G25: 96.34 | H25: =ROUND(G25*0.2359,2) -> 22.73 | I25: =G25+H25 -> 119.07
A26: 20 | B26: VP LATGALES RP DIENVIDLATGALES IECIRKŅA REAĢĒŠANAS NODAĻAS 1.GRUPA | C26: inspektors | D26: 1445 | E26: 8.657 | F26: 8 | G26: 34.63 | H26: =ROUND(G26*0.2359,2) -> 8.17 | I26: =G26+H26 -> 42.8
A27: 21 | B27: VP GKĀRTPP RKVP SPECIĀLO UZDEVUMU BATALJONA 1.ROTA | C27: jaunākais inspektors | D27: 1700 | E27: 10.185 | F27: 16 | G27: 81.48 | H27: =ROUND(G27*0.2359,2) -> 19.22 | I27: =G27+H27 -> 100.7
A28: 22 | B28: VP LATGALES RP ZIEMEĻLATGALES IECIRKŅA IZMEKLĒŠANAS NODAĻAS 3.GRUPA | C28: inspektors | D28: 1581 | E28: 9.472 | F28: 8 | G28: 37.89 | H28: =ROUND(G28*0.2359,2) -> 8.94 | I28: =G28+H28 -> 46.83
A29: 23 | B29: VP LATGALES REĢIONA PĀRVALDES DISCIPLINĀRĀS UZRAUDZĪBAS GRUPA | C29: galvenais inspektors | D29: 1692 | E29: 10.137 | F29: 24 | G29: 121.64 | H29: =ROUND(G29*0.2359,2)-0.01 -> 28.68 | I29: =G29+H29 -> 150.32
A30: 24 | B30: VP LATGALES RP KĀRTPB ATĻAUJU SISTĒMAS GRUPA | C30: inspektors | D30: 1277 | E30: 7.65 | F30: 32 | G30: 122.4 | H30: =ROUND(G30*0.2359,2) -> 28.87 | I30: =G30+H30 -> 151.27
A31: 25 | B31: VP LATGALES RP DIENVIDLATGALES IECIRKŅA REAĢĒŠANAS NODAĻAS 4.GRUPA | C31: jaunākais inspektors | D31: 1242 | E31: 7.441 | F31: 16 | G31: 59.53 | H31: =ROUND(G31*0.2359,2) -> 14.04 | I31: =G31+H31 -> 73.57
A32: 26 | B32: VP LATGALES RP ZIEMEĻLATGALES IECIRKŅA REAĢĒŠANAS NODAĻAS 6.GRUPA | C32: vecākais inspektors | D32: 1579 | E32: 9.46 | F32: 8 | G32: 37.84 | H32: =ROUND(G32*0.2359,2) -> 8.93 | I32: =G32+H32 -> 46.77
A33: 27 | B33: VP GKĀRTPP RKVP SPECIĀLO UZDEVUMU BATALJONA 6.ROTA (ZEMGALES REĢIONA) | C33: rotas komandiera vietnieks | D33: 1994 | E33: 11.946 | F33: 56 | G33: 334.49 | H33: =ROUND(G33*0.2359,2) -> 78.91 | I33: =G33+H33 -> 413.4
A34: 28 | B34: VP LATGALES RP ZIEMEĻLATGALES IECIRKŅA REAĢĒŠANAS NODAĻAS 5.GRUPA | C34: inspektors | D34: 1445 | E34: 8.657 | F34: 8 | G34: 34.63 | H34: =ROUND(G34*0.2359,2) -> 8.17 | I34: =G34+H34 -> 42.8
A35: 29 | B35: VP LATGALES RP KRIMPB EKONOMISKO NOZIEGUMU APKAROŠANAS NODAĻA | C35: vecākais inspektors | D35: 1652 | E35: 9.897 | F35: 8 | G35: 39.59 | H35: =ROUND(G35*0.2359,2) -> 9.34 | I35: =G35+H35 -> 48.93
A36: 30 | B36: VP LATGALES RP DIENVIDLATGALES IECIRKŅA PREVENCIJAS GRUPA | C36: vecākais inspektors | D36: 1523 | E36: 9.124 | F36: 8 | G36: 36.5 | H36: =ROUND(G36*0.2359,2) -> 8.61 | I36: =G36+H36 -> 45.11
A37: 31 | B37: VP LATGALES RP KĀRTPB RESURSU UN KRĪZES VADĪBAS NODAĻA | C37: nodaļas priekšnieka vietnieks | D37: 1706 | E37: 10.22 | F37: 24 | G37: 122.64 | H37: =ROUND(G37*0.2359,2) -> 28.93 | I37: =G37+H37 -> 151.57
A38: 32 | B38: VP LATGALES RP KĀRTPB PREVENCIJAS GRUPA | C38: galvenais inspektors | D38: 2043 | E38: 12.239 | F38: 16 | G38: 97.91 | H38: =ROUND(G38*0.2359,2) -> 23.1 | I38: =G38+H38 -> 121.01
A39: 33 | B39: VP LATGALES RP DIENVIDLATGALES IECIRKŅA REAĢĒŠANAS NODAĻAS 10.GRUPA | C39: vecākais inspektors | D39: 1475 | E39: 8.837 | F39: 16 | G39: 70.7 | H39: =ROUND(G39*0.2359,2) -> 16.68 | I39: =G39+H39 -> 87.38
A40: 34 | B40: VP LATGALES RP DIENVIDLATGALES IECIRKŅA IZMEKLĒŠANAS NODAĻAS 9.GRUPA | C40: vecākais inspektors | D40: 1523 | E40: 9.124 | F40: 8 | G40: 36.5 | H40: =ROUND(G40*0.2359,2) -> 8.61 | I40: =G40+H40 -> 45.11
...

Sheet 2. tabula
I1: 2.tabula
A2: Valsts policija
A3: Detalizēts aprēķins samaksai par virsstundu darbu amatpersonām ar speciālo dienesta pakāpi, sniedzot atbalstu Valsts robežsardzei Latvijas Republikas-Baltkrievijas Republikas valsts robežas nelikumīgas šķērsošanas nodrošināšanā, par laika periodu no 2024. gada 1. jūnija līdz 30. jūnijam
E4: 166.92
A5: Nr. p.k. | B5: Struktūrvienība | C5: Amats | D5: Mēnešalga amatpersonām ar speciālajām pakāpēm | E5: Stundas likme | F5: Stundu skaits | G5: Samaksa par virsstundu darbu | H5: DD VSAOI | I5: Atlīdzība
A6: kopā | F6: =SUM(F7:F9) -> 187.5 | G6: =SUM(G7:G9) -> 3670.98 | H6: =SUM(H7:H9) -> 865.98 | I6: =SUM(I7:I9) -> 4536.96
A7: 1 | B7: VP LATGALES RP DIENVIDLATGALES IECIRKŅA REAĢĒŠANAS NODAĻAS 7.GRUPA | C7: jaunākais inspektors | D7: 1739 | E7: =ROUND(D7/$E$4,3) -> 10.418 | F7: 103.5 | G7: 2156.53 | H7: =ROUND(G7*0.2359,2) -> 508.73 | I7: =G7+H7 -> 2665.26 | J7: *
A8: =A7+1 -> 2 | B8: VP LATGALES RP DIENVIDLATGALES IECIRKŅA IZMEKLĒŠANAS NODAĻAS 6.GRUPA | C8: vecākais inspektors | D8: 1523 | E8: =ROUND(D8/$E$4,3) -> 9.124 | F8: 71 | G8: 1295.61 | H8: =ROUND(G8*0.2359,2) -> 305.63 | I8: =G8+H8 -> 1601.24 | J8: *
A9: =A8+1 -> 3 | B9: VP LATGALES RP DIENVIDLATGALES IECIRKŅA IZMEKLĒŠANAS NODAĻAS 9.GRUPA | C9: inspektors | D9: 1405 | E9: =ROUND(D9/$E$4,3) -> 8.417 | F9: 13 | G9: 218.84 | H9: =ROUND(G9*0.2359,2) -> 51.62 | I9: =G9+H9 -> 270.46 | J9: *
B11: *Aprēķins par papildu nepieciešamo finansējumu samaksai par virsstundu darbu ir veikts, jo 2024.gada jūnijā tika izbeigtas dienesta attiecības ar 3 (trim) amatpersonām.

Sheet 3.tabula
I1: 3.tabula
A2: Valsts policija
A3: Detalizēts aprēķins piemaksai par darbu svētku dienās amatpersonām ar speciālo dienesta pakāpi, sniedzot atbalstu Valsts robežsardzei Latvijas Republikas-Baltkrievijas Republikas valsts robežas nelikumīgas šķērsošanas nodrošināšanā, par laika periodu no 2024. gada 1. jūnija līdz 30. jūnijam (par 23.06., 24.06.)
E4: 166.92
A5: Nr. p.k. | B5: Struktūrvienība | C5: Amats | D5: Mēnešalga amatpersonām ar speciālajām pakāpēm | E5: Stundas likme | F5: Stundu skaits | G5: Piemaksa par darbu svētku dienās | H5: DD VSAOI | I5: Atlīdzība
A6: kopā | F6: =SUM(F7:F64) -> 857.5 | G6: =SUM(G7:G64) -> 7880.83 | H6: =SUM(H7:H64) -> 1859.13 | I6: =SUM(I7:I64) -> 9739.96
A7: 1 | B7: VP LATGALES RP DIENVIDLATGALES IECIRKŅA REAĢĒŠANAS NODAĻAS 3.GRUPA | C7: vecākais inspektors | D7: 1495 | E7: =ROUND(D7/$E$4,3) -> 8.956 | F7: 13 | G7: 116.43 | H7: =ROUND(G7*0.2359,2) -> 27.47 | I7: =H7+G7 -> 143.9
A8: =A7+1 -> 2 | B8: VP LATGALES RP DIENVIDLATGALES IECIRKŅA REAĢĒŠANAS NODAĻAS 7.GRUPA | C8: inspektors | D8: 1425 | E8: =ROUND(D8/$E$4,3) -> 8.537 | F8: 15 | G8: 128.06 | H8: =ROUND(G8*0.2359,2) -> 30.21 | I8: =H8+G8 -> 158.27
A9: =A8+1 -> 3 | B9: VP LATGALES RP ZIEMEĻLATGALES IECIRKŅA PREVENCIJAS GRUPA | C9: vecākais inspektors | D9: 1523 | E9: =ROUND(D9/$E$4,3) -> 9.124 | F9: 16 | G9: 145.98 | H9: =ROUND(G9*0.2359,2) -> 34.44 | I9: =H9+G9 -> 180.42
A10: =A9+1 -> 4 | B10: VP LATGALES RP KĀRTPB ATĻAUJU SISTĒMAS GRUPA | C10: inspektors | D10: 1297 | E10: =ROUND(D10/$E$4,3) -> 7.77 | F10: 5 | G10: 38.85 | H10: =ROUND(G10*0.2359,2) -> 9.16 | I10: =H10+G10 -> 48.01
A11: =A10+1 -> 5 | B11: VP LATGALES RP ZIEMEĻLATGALES IECIRKŅA IZMEKLĒŠANAS NODAĻAS 2.GRUPA | C11: galvenais inspektors | D11: 2040 | E11: =ROUND(D11/$E$4,3) -> 12.221 | F11: 27.5 | G11: 336.08 | H11: =ROUND(G11*0.2359,2) -> 79.28 | I11: =H11+G11 -> 415.36
A12: =A11+1 -> 6 | B12: VP LATGALES RP ZIEMEĻLATGALES IECIRKŅA REAĢĒŠANAS NODAĻAS 10.GRUPA | C12: inspektors | D12: 1445 | E12: =ROUND(D12/$E$4,3) -> 8.657 | F12: 5.5 | G12: 47.61 | H12: =ROUND(G12*0.2359,2) -> 11.23 | I12: =H12+G12 -> 58.84
A13: =A12+1 -> 7 | B13: VP LATGALES RP DIENVIDLATGALES IECIRKŅA IZMEKLĒŠANAS NODAĻAS 6.GRUPA | C13: galvenais inspektors | D13: 1640 | E13: =ROUND(D13/$E$4,3) -> 9.825 | F13: 9.5 | G13: 93.34 | H13: =ROUND(G13*0.2359,2) -> 22.02 | I13: =H13+G13 -> 115.36
A14: =A13+1 -> 8 | B14: VP LATGALES RP KĀRTPB ATĻAUJU SISTĒMAS GRUPA | C14: vecākais inspektors | D14: 1340 | E14: =ROUND(D14/$E$4,3) -> 8.028 | F14: 5 | G14: 40.14 | H14: =ROUND(G14*0.2359,2) -> 9.47 | I14: =H14+G14 -> 49.61
A15: =A14+1 -> 9 | B15: VP LATGALES RP KRIMPB ORGANIZĒTĀS NOZIEDZĪBAS SMAGO UN SĒRIJVEIDA NOZIEGUMU APKAROŠANAS NODAĻA | C15: vecākais inspektors | D15: 1672 | E15: =ROUND(D15/$E$4,3) -> 10.017 | F15: 14 | G15: 140.24 | H15: =ROUND(G15*0.2359,2) -> 33.08 | I15: =H15+G15 -> 173.32
A16: =A15+1 -> 10 | B16: VP GKĀRTPP RKVP SPECIĀLO UZDEVUMU BATALJONA 6.ROTA (ZEMGALES REĢIONA) | C16: rotas komandiera vietnieks | D16: 1994 | E16: =ROUND(D16/$E$4,3) -> 11.946 | F16: 23 | G16: 274.76 | H16: =ROUND(G16*0.2359,2) -> 64.82 | I16: =H16+G16 -> 339.58
A17: =A16+1 -> 11 | B17: VP LATGALES RP SLEPENĪBAS REŽĪMA NODROŠINĀŠANAS UN SEVIŠĶĀS LIETVEDĪBAS GRUPA | C17: vecākais inspektors | D17: 1591 | E17: =ROUND(D17/$E$4,3) -> 9.532 | F17: 14 | G17: 133.45 | H17: =ROUND(G17*0.2359,2) -> 31.48 | I17: =H17+G17 -> 164.93
A18: =A17+1 -> 12 | B18: VP GKĀRTPP RKVP SPECIĀLO UZDEVUMU BATALJONA 6.ROTA (ZEMGALES REĢIONA) | C18: jaunākais inspektors | D18: 1566 | E18: =ROUND(D18/$E$4,3) -> 9.382 | F18: 23 | G18: 215.79 | H18: =ROUND(G18*0.2359,2) -> 50.9 | I18: =H18+G18 -> 266.69
A19: =A18+1 -> 13 | B19: VP LATGALES RP DIENVIDLATGALES IECIRKŅA IZMEKLĒŠANAS NODAĻAS 5.GRUPA | C19: inspektors | D19: 1561 | E19: =ROUND(D19/$E$4,3) -> 9.352 | F19: 13 | G19: 121.58 | H19: =ROUND(G19*0.2359,2) -> 28.68 | I19: =H19+G19 -> 150.26
... A64: =A63+1 -> 58 | B64: VP LATGALES RP DIENVIDLATGALES IECIRKŅA IZMEKLĒŠANAS NODAĻAS 6.GRUPA | C64: inspektors | D64: 1365 | E64: =ROUND(D64/$E$4,3) -> 8.178 | F64: 15 | G64: 122.67 | H64: =ROUND(G64*0.2359,2) -> 28.94 | I64: =H64+G64 -> 151.61

Sheet 4.tabula
J1: 4.tabula
A2: Valsts policija
A3: Piemaksa par darbu īpašos apstākļos amatpersonām ar speciālajām dienesta pakāpēm, kuras laika periodāno 2024. gada 1. jūnija līdz 30. jūnijam tika iesaistītas atbalsta sniegšanā Valsts robežsardzei Latvijas Republikas-Baltkrievijas Republikas valsts robežas robežuzraudzības nodrošināšanā
F4: 166.92
A5: Nr. p.k. | B5: Struktūrvienība | C5: Amats | D5: Mēnešalga amatpersonām ar speciālajām pakāpēm | E5: Piemaksas apmērs % | F5: Stundas likme | G5: Stundu skaits | H5: Piemaksa par darbu īpašos apstākļos | I5: DD VSAOI | J5: Atlīdzība
A7: kopā | G7: =SUM(G8:G392) -> 10032.5 | H7: =SUM(H8:H392) -> 19268.12 | I7: =SUM(I8:I392) -> 4543.57 | J7: =SUM(J8:J392) -> 23811.69
A8: 1 | B8: VP LATGALES RP ZIEMEĻLATGALES IECIRKNIS | C8: iecirkņa priekšnieka vietnieks, Reaģēšanas nodaļas priekšnieks | D8: 2305 | E8: 20% | F8: =ROUND(D8/$F$4,3) -> 13.809 | G8: 9 | H8: 24.86 | I8: =ROUND(H8*23.59%,2) -> 5.86 | J8: =H8+I8 -> 30.72
A9: =A8+1 -> 2 | B9: VP LATGALES RP ZIEMEĻLATGALES IECIRKŅA IZMEKLĒŠANAS NODAĻAS 2.GRUPA | C9: inspektors | D9: 1553 | E9: 50% | F9: =ROUND(D9/$F$4,3) -> 9.304 | G9: 1 | H9: 4.65 | I9: =ROUND(H9*23.59%,2) -> 1.1 | J9: =H9+I9 -> 5.75
A10: =A9+1 -> 3 | B10: VP LATGALES RP ZIEMEĻLATGALES IECIRKŅA IZMEKLĒŠANAS NODAĻAS 2.GRUPA | C10: inspektors | D10: 1553 | E10: 20% | F10: =ROUND(D10/$F$4,3) -> 9.304 | G10: 23 | H10: 42.8 | I10: =ROUND(H10*23.59%,2) -> 10.1 | J10: =H10+I10 -> 52.9
A11: =A10+1 -> 4 | B11: VP LATGALES RP DIENVIDLATGALES IECIRKŅA REAĢĒŠANAS NODAĻAS 3.GRUPA | C11: vecākais inspektors | D11: 1495 | E11: 20% | F11: =ROUND(D11/$F$4,3) -> 8.956 | G11: 57 | H11: 102.1 | I11: =ROUND(H11*23.59%,2) -> 24.09 | J11: =H11+I11 -> 126.19
A12: =A11+1 -> 5 | B12: VP LATGALES RP DIENVIDLATGALES IECIRKŅA REAĢĒŠANAS NODAĻAS 7.GRUPA | C12: inspektors | D12: 1425 | E12: 20% | F12: =ROUND(D12/$F$4,3) -> 8.537 | G12: 32 | H12: 54.64 | I12: =ROUND(H12*23.59%,2)-0.01 -> 12.88 | J12: =H12+I12 -> 67.52
A13: =A12+1 -> 6 | B13: VP LATGALES RP DIENVIDLATGALES IECIRKŅA REAĢĒŠANAS NODAĻAS 7.GRUPA | C13: jaunākais inspektors | D13: 1242 | E13: 20% | F13: =ROUND(D13/$F$4,3) -> 7.441 | G13: 36 | H13: 53.58 | I13: =ROUND(H13*23.59%,2) -> 12.64 | J13: =H13+I13 -> 66.22
A14: =A13+1 -> 7 | B14: VP LATGALES RP DIENVIDLATGALES IECIRKŅA IZMEKLĒŠANAS NODAĻAS 5.GRUPA | C14: inspektors | D14: 1553 | E14: 20% | F14: =ROUND(D14/$F$4,3) -> 9.304 | G14: 24 | H14: 44.66 | I14: =ROUND(H14*23.59%,2) -> 10.54 | J14: =H14+I14 -> 55.2
A15: =A14+1 -> 8 | B15: VP LATGALES RP DIENVIDLATGALES IECIRKŅA REAĢĒŠANAS NODAĻAS 1.GRUPA | C15: inspektors | D15: 1425 | E15: 50% | F15: =ROUND(D15/$F$4,3) -> 8.537 | G15: 0.5 | H15: 2.13 | I15: =ROUND(H15*23.59%,2) -> 0.5 | J15: =H15+I15 -> 2.63
A16: =A15+1 -> 9 | B16: VP LATGALES RP DIENVIDLATGALES IECIRKŅA REAĢĒŠANAS NODAĻAS 1.GRUPA | C16: inspektors | D16: 1425 | E16: 20% | F16: =ROUND(D16/$F$4,3) -> 8.537 | G16: 23.5 | H16: 40.12 | I16: =ROUND(H16*23.59%,2) -> 9.46 | J16: =H16+I16 -> 49.58
A17: =A16+1 -> 10 | B17: VP LATGALES RP ZIEMEĻLATGALES IECIRKŅA PREVENCIJAS GRUPA | C17: vecākais inspektors | D17: 1523 | E17: 20% | F17: =ROUND(D17/$F$4,3) -> 9.124 | G17: 36 | H17: 65.69 | I17: =ROUND(H17*23.59%,2) -> 15.5 | J17: =H17+I17 -> 81.19
A18: =A17+1 -> 11 | B18: VP LATGALES RP ZIEMEĻLATGALES IECIRKŅA REAĢĒŠANAS NODAĻAS 9.GRUPA | C18: inspektors | D18: 1425 | E18: 20% | F18: =ROUND(D18/$F$4,3) -> 8.537 | G18: 12 | H18: 20.49 | I18: =ROUND(H18*23.59%,2)-0.01 -> 4.82 | J18: =H18+I18 -> 25.31
A19: =A18+1 -> 12 | B19: VP LATGALES RP KĀRTPB ATĻAUJU SISTĒMAS GRUPA | C19: inspektors | D19: 1297 | E19: 20% | F19: =ROUND(D19/$F$4,3) -> 7.77 | G19: 48 | H19: 74.59 | I19: =ROUND(H19*23.59%,2) -> 17.6 | J19: =H19+I19 -> 92.19
A20: =A19+1 -> 13 | B20: VP LATGALES RP DIENVIDLATGALES IECIRKŅA IZMEKLĒŠANAS NODAĻAS 7.GRUPA | C20: vecākais inspektors | D20: 1495 | E20: 20% | F20: =ROUND(D20/$F$4,3) -> 8.956 | G20: 24 | H20: 42.99 | I20: =ROUND(H20*23.59%,2) -> 10.14 | J20: =H20+I20 -> 53.13
A21: =A20+1 -> 14 | B21: VP LATGALES RP ZIEMEĻLATGALES IECIRKŅA REAĢĒŠANAS NODAĻAS 10.GRUPA | C21: galvenais inspektors | D21: 1680 | E21: 20% | F21: =ROUND(D21/$F$4,3) -> 10.065 | G21: 24 | H21: 48.31 | I21: =ROUND(H21*23.59%,2) -> 11.4 | J21: =H21+I21 -> 59.71
A22: =A21+1 -> 15 | B22: VP LATGALES RP ZIEMEĻLATGALES IECIRKŅA REAĢĒŠANAS NODAĻAS 7.GRUPA | C22: vecākais inspektors | D22: 1495 | E22: 20% | F22: =ROUND(D22/$F$4,3) -> 8.956 | G22: 12 | H22: 21.49 | I22: =ROUND(H22*23.59%,2) -> 5.07 | J22: =H22+I22 -> 26.56
A23: =A22+1 -> 16 | B23: VP LATGALES RP DIENVIDLATGALES IECIRKŅA REAĢĒŠANAS NODAĻAS 6.GRUPA | C23: jaunākais inspektors | D23: 1242 | E23: 20% | F23: =ROUND(D23/$F$4,3) -> 7.441 | G23: 36 | H23: 53.58 | I23: =ROUND(H23*23.59%,2) -> 12.64 | J23: =H23+I23 -> 66.22
A24: =A23+1 -> 17 | B24: VP LATGALES RP ZIEMEĻLATGALES IECIRKŅA IZMEKLĒŠANAS NODAĻAS 2.GRUPA | C24: galvenais inspektors | D24: 2040 | E24: 20% | F24: =ROUND(D24/$F$4,3) -> 12.221 | G24: 48 | H24: 117.32 | I24: =ROUND(H24*23.59%,2)-0.01 -> 27.67 | J24: =H24+I24 -> 144.99
A25: =A24+1 -> 18 | B25: VP LATGALES RP DIENVIDLATGALES IECIRKŅA IZMEKLĒŠANAS NODAĻAS 2.GRUPA | C25: galvenais inspektors | D25: 1821 | E25: 20% | F25: =ROUND(D25/$F$4,3) -> 10.909 | G25: 12 | H25: 26.18 | I25: =ROUND(H25*23.59%,2) -> 6.18 | J25: =H25+I25 -> 32.36
A26: =A25+1 -> 19 | B26: VP LATGALES RP ZIEMEĻLATGALES IECIRKŅA REAĢĒŠANAS NODAĻAS 10.GRUPA | C26: inspektors | D26: 1445 | E26: 20% | F26: =ROUND(D26/$F$4,3) -> 8.657 | G26: 24 | H26: 41.55 | I26: =ROUND(H26*23.59%,2) -> 9.8 | J26: =H26+I26 -> 51.35
A27: =A26+1 -> 20 | B27: VP LATGALES RP DIENVIDLATGALES IECIRKŅA REAĢĒŠANAS NODAĻAS 2.GRUPA | C27: vecākais inspektors | D27: 1523 | E27: 20% | F27: =ROUND(D27/$F$4,3) -> 9.124 | G27: 36 | H27: 65.69 | I27: =ROUND(H27*23.59%,2) -> 15.5 | J27: =H27+I27 -> 81.19
A28: =A27+1 -> 21 | B28: VP LATGALES RP DIENVIDLATGALES IECIRKŅA IZMEKLĒŠANAS NODAĻAS 1.GRUPA | C28: galvenais inspektors | D28: 1875 | E28: 20% | F28: =ROUND(D28/$F$4,3) -> 11.233 | G28: 25 | H28: 56.17 | I28: =ROUND(H28*23.59%,2)-0.01 -> 13.24 | J28: =H28+I28 -> 69.41
A29: =A28+1 -> 22 | B29: VP LATGALES RP DIENVIDLATGALES IECIRKŅA IZMEKLĒŠANAS NODAĻAS 6.GRUPA | C29: galvenais inspektors | D29: 1640 | E29: 20% | F29: =ROUND(D29/$F$4,3) -> 9.825 | G29: 24 | H29: 47.16 | I29: =ROUND(H29*23.59%,2) -> 11.13 | J29: =H29+I29 -> 58.29
A30: =A29+1 -> 23 | B30: VP LATGALES RP DIENVIDLATGALES IECIRKŅA IZMEKLĒŠANAS NODAĻAS 6.GRUPA | C30: vecākais inspektors | D30: 1503 | E30: 20% | F30: =ROUND(D30/$F$4,3) -> 9.004 | G30: 12 | H30: 21.61 | I30: =ROUND(H30*23.59%,2) -> 5.1 | J30: =H30+I30 -> 26.71
A31: =A30+1 -> 24 | B31: VP LATGALES RP ZIEMEĻLATGALES IECIRKŅA IZMEKLĒŠANAS NODAĻAS 4.GRUPA | C31: inspektors | D31: 1851 | E31: 20% | F31: =ROUND(D31/$F$4,3) -> 11.089 | G31: 24 | H31: 53.23 | I31: =ROUND(H31*23.59%,2) -> 12.56 | J31: =H31+I31 -> 65.79
A32: =A31+1 -> 25 | B32: VP LATGALES RP ZIEMEĻLATGALES IECIRKŅA REAĢĒŠANAS NODAĻAS 3.GRUPA | C32: inspektors | D32: 1504 | E32: 20% | F32: =ROUND(D32/$F$4,3) -> 9.01 | G32: 12 | H32: 21.62 | I32: =ROUND(H32*23.59%,2) -> 5.1 | J32: =H32+I32 -> 26.72
A33: =A32+1 -> 26 | B33: VP LATGALES RP DIENVIDLATGALES IECIRKŅA IZMEKLĒŠANAS NODAĻAS 8.GRUPA | C33: inspektors | D33: 1472 | E33: 20% | F33: =ROUND(D33/$F$4,3) -> 8.819 | G33: 12 | H33: 21.17 | I33: =ROUND(H33*23.59%,2) -> 4.99 | J33: =H33+I33 -> 26.16
A34: =A33+1 -> 27 | B34: VP LATGALES RP KĀRTPB ATĻAUJU SISTĒMAS GRUPA | C34: vecākais inspektors | D34: 1340 | E34: 20% | F34: =ROUND(D34/$F$4,3) -> 8.028 | G34: 36 | H34: 57.8 | I34: =ROUND(H34*23.59%,2) -> 13.64 | J34: =H34+I34 -> 71.44
A35: =A34+1 -> 28 | B35: VP LATGALES RP DIENVIDLATGALES IECIRKŅA REAĢĒŠANAS NODAĻAS 1.GRUPA | C35: inspektors | D35: 1445 | E35: 20% | F35: =ROUND(D35/$F$4,3) -> 8.657 | G35: 13 | H35: 22.51 | I35: =ROUND(H35*23.59%,2) -> 5.31 | J35: =H35+I35 -> 27.82
A36: =A35+1 -> 29 | B36: VP GKĀRTPP RKVP SPECIĀLO UZDEVUMU BATALJONA 1.ROTA | C36: jaunākais inspektors | D36: 1700 | E36: 50% | F36: =ROUND(D36/$F$4,3) -> 10.185 | G36: 2.5 | H36: 12.73 | I36: =ROUND(H36*23.59%,2) -> 3 | J36: =H36+I36 -> 15.73
A37: =A36+1 -> 30 | B37: VP GKĀRTPP RKVP SPECIĀLO UZDEVUMU BATALJONA 1.ROTA | C37: jaunākais inspektors | D37: 1700 | E37: 20% | F37: =ROUND(D37/$F$4,3) -> 10.185 | G37: 45.5 | H37: 92.68 | I37: =ROUND(H37*23.59%,2) -> 21.86 | J37: =H37+I37 -> 114.54
A38: =A37+1 -> 31 | B38: VP LATGALES RP ZIEMEĻLATGALES IECIRKŅA IZMEKLĒŠANAS NODAĻAS 3.GRUPA | C38: inspektors | D38: 1581 | E38: 20% | F38: =ROUND(D38/$F$4,3) -> 9.472 | G38: 12 | H38: 22.73 | I38: =ROUND(H38*23.59%,2) -> 5.36 | J38: =H38+I38 -> 28.09
A39: =A38+1 -> 32 | B39: VP LATGALES REĢIONA PĀRVALDES DISCIPLINĀRĀS UZRAUDZĪBAS GRUPA | C39: galvenais inspektors | D39: 1692 | E39: 20% | F39: =ROUND(D39/$F$4,3) -> 10.137 | G39: 36 | H39: 72.99 | I39: =ROUND(H39*23.59%,2) -> 17.22 | J39: =H39+I39 -> 90.21
A40: =A39+1 -> 33 | B40: VP LATGALES RP KĀRTPB ATĻAUJU SISTĒMAS GRUPA | C40: inspektors | D40: 1277 | E40: 20% | F40: =ROUND(D40/$F$4,3) -> 7.65 | G40: 48 | H40: 73.44 | I40: =ROUND(H40*23.59%,2) -> 17.32 | J40: =H40+I40 -> 90.76
... A42: =A41+1 -> 35 | B42: VP LATGALES RP DIENVIDLATGALES IECIRKŅA REAĢĒŠANAS NODAĻAS 10.GRUPA | C42: inspektors | D42: 1445 | E42: 20% | F42: =ROUND(D42/$F$4,3) -> 8.657 | G42: 24 | H42: 41.55 | I42: =ROUND(H42*23.59%,2) -> 9.8 | J42: =H42+I42 -> 51.35
...

Sheet 5.tabula
G1: 5.tabula
A2: Valsts policija
A3: Detalizēts aprēķins dienas naudas samaksai amatpersonām ar speciālajām dienesta pakāpēm, sniedzot atbalstu Valsts robežsardzei Latvijas Republikas-Baltkrievijas Republikas valsts robežas robežuzraudzības nodrošināšanā par laika periodu no 2024.gada 23. aprīļa līdz 5. jūnijam
A5: Nr. p.k. | B5: Struktūrvienība | C5: Amats | D5: Laika periods | E5: Dienu skaits | F5: Likme | G5: Dienas nauda (kopsumma)
A6: kopā: | G6: =SUM(G7:G58) -> 1582.4
A7: 1 | B7: VP GKĀRTPP RKVP SPECIĀLO UZDEVUMU BATALJONA 5.ROTA (VIDZEMES REĢIONA) | C7: jaunākais inspektors | D7: 01.05.2024.-15.05.2024./ | E7: 2 | F7: 8 | G7: =ROUND(E7*F7,2) -> 16
E8: 13 | F8: 2.4 | G8: =ROUND(E8*F8,2) -> 31.2
A9: 2 | B9: VP GKĀRTPP RKVP SPECIĀLO UZDEVUMU BATALJONA 5.ROTA (VIDZEMES REĢIONA) | C9: jaunākais inspektors | D9: 04.05.2024.-14.05.2024./ | E9: 2 | F9: 8 | G9: =ROUND(E9*F9,2) -> 16
E10: 9 | F10: 2.4 | G10: =ROUND(E10*F10,2) -> 21.6
A11: 3 | B11: VP GKĀRTPP RKVP SPECIĀLO UZDEVUMU BATALJONA 5.ROTA (VIDZEMES REĢIONA) | C11: jaunākais inspektors | D11: 23.04.2024.-03.05.2024./ | E11: 2 | F11: 8 | G11: =ROUND(E11*F11,2) -> 16
E12: 9 | F12: 2.4 | G12: =ROUND(E12*F12,2) -> 21.6
A13: 4 | B13: VP GKĀRTPP RKVP SPECIĀLO UZDEVUMU BATALJONA 5.ROTA (VIDZEMES REĢIONA) | C13: jaunākais inspektors | D13: 23.04.2024.-08.05.2024./ | E13: 2 | F13: 8 | G13: =ROUND(E13*F13,2) -> 16
E14: 14 | F14: 2.4 | G14: =ROUND(E14*F14,2) -> 33.6
A15: 5 | B15: VP GKĀRTPP RKVP SPECIĀLO UZDEVUMU BATALJONA 5.ROTA (VIDZEMES REĢIONA) | C15: jaunākais inspektors | D15: 23.04.2024.-14.05.2024./ | E15: 2 | F15: 8 | G15: =ROUND(E15*F15,2) -> 16
E16: 20 | F16: 2.4 | G16: =ROUND(E16*F16,2) -> 48
A17: 6 | B17: VP GKĀRTPP RKVP SPECIĀLO UZDEVUMU BATALJONA 5.ROTA (VIDZEMES REĢIONA) | C17: jaunākais inspektors | D17: 23.04.2024.-14.05.2024./ | E17: 2 | F17: 8 | G17: =ROUND(E17*F17,2) -> 16
E18: 20 | F18: 2.4 | G18: =ROUND(E18*F18,2) -> 48
A19: 7 | B19: VP GKĀRTPP RKVP SPECIĀLO UZDEVUMU BATALJONA 5.ROTA (VIDZEMES REĢIONA) | C19: jaunākais inspektors | D19: 23.04.2024.-14.05.2024./ | E19: 2 | F19: 8 | G19: =ROUND(E19*F19,2) -> 16
E20: 20 | F20: 2.4 | G20: =ROUND(E20*F20,2) -> 48
A21: 8 | B21: VP GKĀRTPP RKVP SPECIĀLO UZDEVUMU BATALJONA 5.ROTA (VIDZEMES REĢIONA) | C21: vada komandiera vietnieks | D21: 23.04.2024.-15.05.2024./ | E21: 2 | F21: 8 | G21: =ROUND(E21*F21,2) -> 16
E22: 21 | F22: 2.4 | G22: =ROUND(E22*F22,2) -> 50.4
A23: 9 | B23: VP GKĀRTPP RKVP SPECIĀLO UZDEVUMU BATALJONA 5.ROTA (VIDZEMES REĢIONA) | C23: vada komandiera vietnieks | D23: 23.04.2024.-15.05.2024./ | E23: 2 | F23: 8 | G23: =ROUND(E23*F23,2) -> 16
E24: 21 | F24: 2.4 | G24: =ROUND(E24*F24,2) -> 50.4
A25: 10 | B25: VP GKĀRTPP RKVP SPECIĀLO UZDEVUMU BATALJONA 5.ROTA (VIDZEMES REĢIONA) | C25: jaunākais inspektors | D25: 23.04.2024.-15.05.2024./ | E25: 2 | F25: 8 | G25: =ROUND(E25*F25,2) -> 16
E26: 21 | F26: 2.4 | G26: =ROUND(E26*F26,2) -> 50.4
A27: 11 | B27: VP GKĀRTPP RKVP SUB DIENESTA ORGANIZĀCIJAS, KOORDINĀCIJAS UN KONTROLES GRUPA | C27: galvenais inspektors | D27: 23.04.2024.-15.05.2024./ | E27: 2 | F27: 8 | G27: =ROUND(E27*F27,2) -> 16
E28: 21 | F28: 2.4 | G28: =ROUND(E28*F28,2) -> 50.4
A29: 12 | B29: VP GKĀRTPP RKVP SPECIĀLO UZDEVUMU BATALJONA 5.ROTA (VIDZEMES REĢIONA) | C29: rotas komandiera vietnieks | D29: 23.04.2024.-15.05.2024./ | E29: 2 | F29: 8 | G29: =ROUND(E29*F29,2) -> 16
E30: 21 | F30: 2.4 | G30: =ROUND(E30*F30,2) -> 50.4
A31: 13 | B31: VP GKĀRTPP RKVP SPECIĀLO UZDEVUMU BATALJONA 5.ROTA (VIDZEMES REĢIONA) | C31: jaunākais inspektors | D31: 25.04.2024.-14.05.2024./ | E31: 2 | F31: 8 | G31: =ROUND(E31*F31,2) -> 16
E32: 18 | F32: 2.4 | G32: =ROUND(E32*F32,2) -> 43.2
A33: 14 | B33: VP GKĀRTPP RKVP SPECIĀLO UZDEVUMU BATALJONA 6.ROTA (ZEMGALES REĢIONA) | C33: rotas komandieris | D33: 15.05.2024.-03.06.2024./ | E33: 2 | F33: 8 | G33: =ROUND(E33*F33,2) -> 16
E34: 18 | F34: 2.4 | G34: =ROUND(E34*F34,2) -> 43.2
A35: 15 | B35: VP GKĀRTPP RKVP SPECIĀLO UZDEVUMU BATALJONA 7.ROTA (KURZEMES REĢIONA) | C35: rotas komandieris | D35: 15.05.2024.-05.06.2024./ | E35: 2 | F35: 8 | G35: =ROUND(E35*F35,2) -> 16
E36: 20 | F36: 2.4 | G36: =ROUND(E36*F36,2) -> 48
A37: 16 | B37: VP GKĀRTPP RKVP SPECIĀLO UZDEVUMU BATALJONA 7.ROTA (KURZEMES REĢIONA) | C37: jaunākais inspektors | D37: 15.05.2024.-05.06.2024./ | E37: 2 | F37: 8 | G37: =ROUND(E37*F37,2) -> 16
E38: 20 | F38: 2.4 | G38: =ROUND(E38*F38,2) -> 48
A39: 17 | B39: VP GKĀRTPP RKVP SPECIĀLO UZDEVUMU BATALJONA 6.ROTA (ZEMGALES REĢIONA) | C39: jaunākais inspektors | D39: 15.05.2024.-05.06.2024./ | E39: 2 | F39: 8 | G39: =ROUND(E39*F39,2) -> 16
E40: 20 | F40: 2.4 | G40: =ROUND(E40*F40,2) -> 48
A41: 18 | B41: VP GKĀRTPP RKVP SPECIĀLO UZDEVUMU BATALJONA 7.ROTA (KURZEMES REĢIONA) | C41: jaunākais inspektors | D41: 15.05.2024.-05.06.2024./ | E41: 2 | F41: 8 | G41: =ROUND(E41*F41,2) -> 16
...

Sheet 6. tabula
F1: 6.tabula
A2: Valsts policija
A3: Degvielas izmaksu aprēķins degvielas izdevumiem sniedzot atbalstu Valsts robežsardzei Latvijas Republikas-Baltkrievijas Republikas valsts robežas nelikumīgas šķērsošanas nodrošināšanā par laika periodu no 2024. gada 1. jūnija līdz 30. jūnijam
A5: Nr.p.k. | B5: Transportlīdzekļa marka | C5: Iesaistīto transportlīdzekļu skaits | D5: Faktiskais nobraukums pasākumā (km) | E5: Pasākuma laikā patērētā degviela (l) | F5: Summa euro
A6: Kopā: | C6: =ROUNDUP(SUM(C8:C54),2) -> 58 | D6: =ROUNDUP(SUM(D8:D54),2) -> 83999 | E6: =ROUNDUP(SUM(E8:E54),2) -> 5818.33 | F6: =ROUNDUP(SUM(F8:F54),2) -> 8304.1
A7: Vidzemes reģiona pārvalde
A15: Latgales reģiona pārvalde
A16: 1 | B16: Citroen Berlingo | C16: 1 | D16: 1315 | E16: 72.33 | F16: 102.7
A17: =A16+1 -> 2 | B17: Citroen Jumper | C17: 1 | D17: 2845 | E17: 284.5 | F17: 403.99
A18: =A17+1 -> 3 | B18: Fiat 500xCross | C18: 1 | D18: 160 | E18: 10.88 | F18: 15.88
A19: =A18+1 -> 4 | B19: KIA Cee'd | C19: 3 | D19: 739 | E19: 43.19 | F19: 64.28
A20: =A19+1 -> 5 | B20: Opel Mokka | C20: 30 | D20: 39764 | E20: 2478.55 | F20: 3544.83
A21: =A20+1 -> 6 | B21: Opel Combo Van | C21: 1 | D21: 5815 | E21: 395.42 | F21: 561.49
A22: =A21+1 -> 7 | B22: Opel Insignia Limousine | C22: 3 | D22: 1149 | E22: 64.18 | F22: 93.18
A23: =A22+1 -> 8 | B23: Renault Kangoo | C23: 6 | D23: 16649 | E23: 1135.89 | F23: 1618.1
A24: =A23+1 -> 9 | B24: Renault Laguna | C24: 1 | D24: 949 | E24: 54.09 | F24: 77.34
A25: =A24+1 -> 10 | B25: Renault Trafic | C25: 3 | D25: 2963 | E25: 248.79 | F25: 353.65
A26: =A25+1 -> 11 | B26: Toyota RAV4 | C26: 1 | D26: 780 | E26: 47.58 | F26: 70.41
A27: =A26+1 -> 12
A28: =A27+1 -> 13
A29: =A28+1 -> 14
A30: =A29+1 -> 15
A31: =A30+1 -> 16
A32: =A31+1 -> 17
A33: =A32+1 -> 18
A34: =A33+1 -> 19
A35: =A34+1 -> 20
A36: =A35+1 -> 21
A37: Zemgales reģiona pārvalde
A38: 12 | B38: Renault Trafic | C38: 1 | D38: 3340 | E38: 252 | F38: 358.28
A39: 13 | B39: Peugeot Boxer | C39: 2 | D39: 3266 | E39: 309 | F39: 439.71
A40: 14 | B40: Ford Transit Custom | C40: 1 | D40: 453 | E40: 52.69 | F40: 75.4
A43: Kurzemes reģiona pārvalde
A44: 15 | B44: Peugeot Boxer | C44: 2 | D44: 2907 | E44: 267.88 | F44: 380.93
A45: 16 | B45: VW Crafter | C45: 1 | D45: 905 | E45: 101.36 | F45: 143.93
A48: Rīgas reģiona pārvalde

Sheet  2.tabula
I1: 2.tabula
A2: Valsts policija
A3: Detalizēts aprēķins samaksai par virsstundu darbu amatpersonām ar speciālo dienesta pakāpi, sniedzot atbalstu Valsts robežsardzei Latvijas Republikas-Baltkrievijas Republikas valsts robežas nelikumīgas šķērsošanas nodrošināšanā, par laika periodu no 2024. gada 01. maija līdz 31. maijam.
E4: 166.92
A5: Nr. p.k. | B5: Struktūrvienība | C5: Amats | D5: Mēnešalga amatpersonām ar speciālajām pakāpēm | E5: Stundas likme | F5: Stundu skaits | G5: Samaksa par virsstundu darbu | H5: DD VSAOI | I5: Atlīdzība
A6: kopā | F6: =SUM(F7:F608) -> 0 | G6: =SUM(G7:G608) -> 0 | H6: =SUM(H7:H608) -> 0 | I6: =SUM(I7:I608) -> 0
A7: 1 | E7: =ROUND(D7/$E$4,3) -> 0 | H7: =ROUND(G7*0.2359,2) -> 0 | I7: =G7+H7 -> 0
A8: =A7+1 -> 2 | E8: =ROUND(D8/$E$4,3) -> 0 | H8: =ROUND(G8*0.2359,2) -> 0 | I8: =G8+H8 -> 0
A9: =A8+1 -> 3 | E9: =ROUND(D9/$E$4,3) -> 0 | H9: =ROUND(G9*0.2359,2) -> 0 | I9: =G9+H9 -> 0
A10: =A9+1 -> 4 | E10: =ROUND(D10/$E$4,3) -> 0 | H10: =ROUND(G10*0.2359,2) -> 0 | I10: =G10+H10 -> 0
A11: =A10+1 -> 5 | E11: =ROUND(D11/$E$4,3) -> 0 | H11: =ROUND(G11*0.2359,2) -> 0 | I11: =G11+H11 -> 0
A12: =A11+1 -> 6 | E12: =ROUND(D12/$E$4,3) -> 0 | H12: =ROUND(G12*0.2359,2) -> 0 | I12: =G12+H12 -> 0
A13: =A12+1 -> 7 | E13: =ROUND(D13/$E$4,3) -> 0 | H13: =ROUND(G13*0.2359,2) -> 0 | I13: =G13+H13 -> 0
A14: =A13+1 -> 8 | E14: =ROUND(D14/$E$4,3) -> 0 | H14: =ROUND(G14*0.2359,2) -> 0 | I14: =G14+H14 -> 0
A15: =A14+1 -> 9 | E15: =ROUND(D15/$E$4,3) -> 0 | H15: =ROUND(G15*0.2359,2) -> 0 | I15: =G15+H15 -> 0
A16: =A15+1 -> 10 | E16: =ROUND(D16/$E$4,3) -> 0 | H16: =ROUND(G16*0.2359,2) -> 0 | I16: =G16+H16 -> 0
A17: =A16+1 -> 11 | E17: =ROUND(D17/$E$4,3) -> 0 | H17: =ROUND(G17*0.2359,2) -> 0 | I17: =G17+H17 -> 0
A18: =A17+1 -> 12 | E18: =ROUND(D18/$E$4,3) -> 0 | H18: =ROUND(G18*0.2359,2) -> 0 | I18: =G18+H18 -> 0
A19: =A18+1 -> 13 | E19: =ROUND(D19/$E$4,3) -> 0 | H19: =ROUND(G19*0.2359,2) -> 0 | I19: =G19+H19 -> 0
... A608: =A607+1 -> 602 | E608: =ROUND(D608/$E$4,3) -> 0 | H608: =ROUND(G608*0.2359,2) -> 0 | I608: =G608+H608 -> 0

Sheet 6.tabula
G1: 6.tabula
A2: Valsts policija
A3: Detalizēts aprēķins dienas naudas samaksai amatpersonām ar speciālajām dienesta pakāpēm, sniedzot atbalstu Valsts robežsardzei Latvijas Republikas-Baltkrievijas Republikas valsts robežas robežuzraudzības nodrošināšanā par laika perioduno 2024. gada 01. maija līdz 31. maijam
A5: Nr. p.k. | B5: Struktūrvienība | C5: Amats | D5: Laika periods | E5: Dienu skaits | F5: Likme | G5: Dienas nauda (kopsumma)
A6: kopā: | G6: =SUM(G7:G84) -> 2527.2
A7: 1 | D7: 03.09.2023.-26.09.2023/ | E7: 2 | F7: 8 | G7: =ROUND(E7*F7,2) -> 16
E8: 22 | F8: 2.4 | G8: =ROUND(E8*F8,2) -> 52.8
A9: 2 | D9: 03.09.2023.-26.09.2023/ | E9: 2 | F9: 8 | G9: =ROUND(E9*F9,2) -> 16
E10: 22 | F10: 2.4 | G10: =ROUND(E10*F10,2) -> 52.8
A11: 3 | D11: 03.09.2023.-26.09.2023/ | E11: 2 | F11: 8 | G11: =ROUND(E11*F11,2) -> 16
E12: 22 | F12: 2.4 | G12: =ROUND(E12*F12,2) -> 52.8
A13: 4 | D13: 03.09.2023.-26.09.2023/ | E13: 2 | F13: 8 | G13: =ROUND(E13*F13,2) -> 16
E14: 22 | F14: 2.4 | G14: =ROUND(E14*F14,2) -> 52.8
A15: 5 | D15: 03.09.2023.-26.09.2023/ | E15: 2 | F15: 8 | G15: =ROUND(E15*F15,2) -> 16
E16: 22 | F16: 2.4 | G16: =ROUND(E16*F16,2) -> 52.8
A17: 6 | D17: 03.09.2023.-26.09.2023/ | E17: 2 | F17: 8 | G17: =ROUND(E17*F17,2) -> 16
E18: 22 | F18: 2.4 | G18: =ROUND(E18*F18,2) -> 52.8
A19: 7 | D19: 03.09.2023.-26.09.2023/ | E19: 2 | F19: 8 | G19: =ROUND(E19*F19,2) -> 16
E20: 22 | F20: 2.4 | G20: =ROUND(E20*F20,2) -> 52.8
A21: 8 | D21: 03.09.2023.-26.09.2023/ | E21: 2 | F21: 8 | G21: =ROUND(E21*F21,2) -> 16
E22: 22 | F22: 2.4 | G22: =ROUND(E22*F22,2) -> 52.8
A23: 9 | D23: 03.09.2023.-26.09.2023/ | E23: 2 | F23: 8 | G23: =ROUND(E23*F23,2) -> 16
E24: 22 | F24: 2.4 | G24: =ROUND(E24*F24,2) -> 52.8
A25: 10 | D25: 03.09.2023.-26.09.2023/ | E25: 2 | F25: 8 | G25: =ROUND(E25*F25,2) -> 16
E26: 22 | F26: 2.4 | G26: =ROUND(E26*F26,2) -> 52.8
A27: 11 | D27: 03.09.2023.-26.09.2023/ | E27: 2 | F27: 8 | G27: =ROUND(E27*F27,2) -> 16
E28: 22 | F28: 2.4 | G28: =ROUND(E28*F28,2) -> 52.8
A29: 12 | D29: 03.09.2023.-26.09.2023/ | E29: 2 | F29: 8 | G29: =ROUND(E29*F29,2) -> 16
E30: 22 | F30: 2.4 | G30: =ROUND(E30*F30,2) -> 52.8
A31: 13 | D31: 03.09.2023.-26.09.2023/ | E31: 2 | F31: 8 | G31: =ROUND(E31*F31,2) -> 16
E32: 22 | F32: 2.4 | G32: =ROUND(E32*F32,2) -> 52.8
A33: 14 | D33: 26.09.2023.-17.10.2023/ | E33: 2 | F33: 8 | G33: =ROUND(E33*F33,2) -> 16
E34: 20 | F34: 2.4 | G34: =ROUND(E34*F34,2) -> 48
A35: 15 | D35: 26.09.2023.-17.10.2023/ | E35: 2 | F35: 8 | G35: =ROUND(E35*F35,2) -> 16
E36: 20 | F36: 2.4 | G36: =ROUND(E36*F36,2) -> 48
A37: 16 | D37: 26.09.2023.-17.10.2023/ | E37: 2 | F37: 8 | G37: =ROUND(E37*F37,2) -> 16
E38: 20 | F38: 2.4 | G38: =ROUND(E38*F38,2) -> 48
A39: 17 | D39: 26.09.2023.-17.10.2023/ | E39: 2 | F39: 8 | G39: =ROUND(E39*F39,2) -> 16
E40: 20 | F40: 2.4 | G40: =ROUND(E40*F40,2) -> 48
A41: 18 | D41: 26.09.2023.-17.10.2023/ | E41: 2 | F41: 8 | G41: =ROUND(E41*F41,2) -> 16
...
