Workbook

Sheet VP nov
D1: 2.pielikums
D2: Ministru kabineta rīkojuma projekta “Par apropriācijas pārdali no budžeta resora
D3: “74. Gadskārtējā valsts budžeta izpildes procesā pārdalāmais finansējums”
D4: programmas 22.00.00 “Valsts ārējās robežas drošības pasākumu nodrošināšana””
D5: sākotnējās ietekmes novērtējuma ziņojumam (anotācijai)
A7: Valsts policijas izdevumi
A8: Kopasavilkums
A10: Kods | B10: Koda nosaukums | C10: Detalizēts izdevumu aprēķins | D10: Izdevumi, euro
A11: Izdevumi kopā ar vidējās izpeļņas pieauguma kompensēšanu | D11: =D12+D15 -> 97787.01
A12: 1000 | B12: Atlīdzība | C12: × | D12: =D18+D40 -> 53475.01
A13: 1100 | B13: Atalgojums | C13: × | D13: =ROUNDUP(D41+D19,2) -> 43268.83
A14: 1210 | B14: Darba devēja valsts sociālās apdrošināšanas obligātās iemaksas | C14: × | D14: =ROUND(D43+D25,0) -> 10206
A15: 2000 | B15: Preces un pakalpojumi | C15: × | D15: =D26 -> 44312
A17: 1) Izdevumi saistībā ar 12.03.2024 MK rīkojuma Nr. 184 un 10.09.2024 MK rīkojuma Nr. 744 izpildei nepieciešamo pasākumu īstenošanu | D17: =D18+D26 -> 93675
A18: 1002 | B18: Atlīdzība | C18: × | D18: =ROUNDUP(D19+D25,0) -> 49363
A19: 1100 | B19: Atalgojums | C19: × | D19: =SUM(D20:D24) -> 39941.69
A20: 1141 | B20: Piemaksa par nakts darbu | C20: Detalizēts aprēķins par laika periodu no 2024. gada 01. novembra līdz 30. novembrim 1. tabulā. Iesaistītas 179 personas, kopējais iesaistes laiks 2 768 stundas. | D20: ='1.tabula'!G6 -> 13079.958
A21: 1142 | B21: Samaksa par virsstundu darbu un darbu svētku dienās | C21: Samaksa par virsstundu darbu Detalizēts aprēķins par laika periodu no 2024. gada 01. septembra līdz 30. novembrim 2.tabulā. Iesaistītas 2 personas, kopējais iesaistes laiks 235,50 stundas. Aprēķins veikts, jo 2024.gada novembrī tika izbeigtas dienesta attiecības ar 2 (divām) amatpersonām. | D21: =' 2.tabula'!G6 -> 4205.944
C22: Piemaksa par darbu svētku dienā (18.11) Detalizēts aprēķins par laika periodu no 2024. gada 01. novembra līdz 30. novembrim 3. tabulā. Iesaistītas 49 personas, kopējais iesaistes laiks 569 stundas. | D22: ='3.tabula'!G6 -> 5733.248
A23: 1145 | B23: Piemaksa par darbu īpašos apstākļos, speciālās piemaksas | C23: Detalizēts aprēķins par laika periodu nno 2024. gada 01. novembra līdz 30. novembrim 4. tabulā. Iesaistītas 236 personas, kopējais iesaistes laiks 6 879 stundas. | D23: ='4.tabula'!H7 -> 16922.54
A24: 1146 | B24: Piemaksa par personisko darba ieguldījumu un darba kvalitāti
A25: 1210 | B25: Darba devēja valsts sociālās apdrošināšanas obligātās iemaksas | C25: 23,59% no aprēķinātā atalgojuma * izņemot 1 personu, kurai tiek piemērota nodokļu likme 21,94% (izdienas pensionārs) | D25: ='1.tabula'!H6+' 2.tabula'!H6+'3.tabula'!H6+'4.tabula'!I7 -> 9420.9
A26: 2001 | B26: Preces un pakalpojumi | C26: × | D26: =ROUNDUP(D27+D28+D29+D30+D31+D32+D33+D34+D35,0) -> 44312
A27: 2111 | B27: Dienas nauda | C27: Detalizēts aprēķins 5. tabulā. Dienas nauda par periodu no 2024.gada 21. oktobra līdz 30.novembrim ir izmaksāta 38 personām. Valsts policijas 14.10.2024. pavēle Nr.5828; 06.11.2024 pavēle Nr.6337. "Par komandējumiem uz Daugavpili un Dagdu (Latvijā)" dienas nauda: 100% (8,00 euro) pirmā un pēdējā diena, 30% (2,40 euro) pārējās dienas *Valsts policija iekšzemes komandējumiem nemaksā dienas naudu avansā, bet gan izmaksā tad, kad no komandējuma amatpersonas ir atgriezušās. Komandējuma laika ietvars saskaņā ar Valsts policijas pavēli par komandējumu, ir tāds, ka uz mēnesi tiek sūtīta komandējumā viena amatpersonu grupa, pēc tam – uz mēnesi tika nosūtīta cita amatpersonu grupa. | D27: ='5.tabula'!G6 -> 2313.6
A28: 2112 | B28: Pārējie komandējumu un darba braucienu izdevumi | C28: Aprēķins veikts par dienesta viesnīcas pakalpojumiem (naktsmītni), kas tika nodrošināti no 2024. gada 01. novembra līdz 30. novembrim. Dienesta viesnīcas pakalpojumi Naktsmītnes izdevumi Daugavpilī: 22 nakts x 12 gultasvietas x 15,00 euro = 3 960,00 euro; 20 nakts x 26 gultasvietas x 15,00 euro = 7 800,00 euro; | D28: =ROUND(22*12*15+20*26*15,2) -> 11760
A29: 2271 | B29: Izdevumi, kas saistīti ar operatīvo darbību | C29: Izdevumi, kas saistīti ar operatīvo darbību _____________________
A30: 2312 | B30: Inventārs
A31: 2322 | B31: Degviela | C31: Detalizēts aprēķins par laika periodu no 2024. gada 01. novembra līdz 30. novembrim 6. tabulā. Pasākuma nodrošināšanai tika iesaistīti 68 transportlīdzekļi; Vidēji viena transportlīdzekļa nobraukums 1 150 km; Vidējā degvielas cena 1,354 euro/l; Vidējais degvielas patēriņš 7,64 l/km uz 100 km. 68 t-ldz. x 1 150 km x 1,354 euro/l x 7,64 l/km ÷ 100 km = 8 089,45 euro | D31: ='6.tabula'!F6 -> 8089.45
A32: 2350 | B32: Kārtējā remonta un iestāžu uzturēšanas materiāli
A33: 2363 | B33: Ēdināšanas izdevumi | C33: Aprēķins veikts par ēdināšanas pakalpojumiem, kas tika nodrošināti no 2024. gada 01. novembra līdz 30. novembrim. Ēdināšanas pakalpojumi Daugavpilī: brokastis 355 porcijas × 8,00 euro = 2 840,00 euro; pusdienas 355 porcijas × 9,00 euro = 3 195,00 euro; vakariņas 355 porcijas × 10,00 euro = 3 550,00 euro; launags (sausā uztura paka) 25 pakas × 27,00 euro = 675,00 euro. Saskaņā ar līgumu par izmitināšanu un ēdināšanu Daugavpilī ir noteikts, ka ēdināšana 3 reizes dienā nedrīkst pārsniegt 27,00 euro: Ēdināšanas izmaksas sastāda: Brokastis 8 euro /1 pers Pusdienas 9 euro /1 pers Vakariņas 10 euro /1 pers Amatpersonām, kuras ir maiņā uz robežas un tām nav iespējams atgriezties uz pusdienām un vakariņām, tad, lai nodrošinātu ēdināšanu amatpersonām dod līdzi pārtikas pakas: sausie produkti uz 24 stundām - 27 euro /1 pers. sausie produkti (vakariņaas un brokastis) - 18 euro /1 pers. Pārtikas pakas tiek dotas arī Latgales reģiona pārvaldes amatpersonām, kuras arī tiek norīkotas uz robežu, augstākminēto iemeslu dēļ, komandējama izdevumi un dienas nauda viņām nav. Papildus jāatzīmē, ka dienas nauda dienās, kad nodrošināta 3 reižu ēdināšana sastāda 30% no Ministru kabineta noteikumos par komandējumu paredzētā limita. | D33: =ROUND(355*8+355*9+355*10+25*27,2) -> 10260
A34: 2364 | B34: Speciālais apģērbs amatpersonām ar speciālajām dienesta pakāpēm | C34: Pamatojoties uz 12.03.2024 MK Rīkojumu Nr.184 (anotācija 24-TA-589), pasākuma izpildei tika iegādāta kamuflāža: Funkcionāls krekls bruņu vestes nēsāšanai 150 gab. x 79,255 euro = 11 888,25 euro | D34: =ROUND(150*79.255,2) -> 11888.25
A35: 2390 | B35: Pārējās preces | C35: Dzeramais ūdens negāzēts 5L 200 gab. x 0,8228 euro = 164,56 euro
A36: 5000 | B36: Pamatkapitāla veidošana | D36: =ROUNDUP(SUM(D37),0) -> 0
A37: 5239 | B37: Pārējie iepriekš neklasificētie pamatlīdzekļi un ieguldījuma īpašumi | C37: Pamatojoties uz 10.09.2024 MK Rīkojumu Nr.744 (anotācija 24-TA-2020) Termālās kameras (binokļi) SUB vajadzībām 7 gab. x 4 086,497 euro = 28 605,48 euro. | D37: =ROUND(,2) -> 0
A39: 2) Vidējās izpeļņas pieauguma kompensēšanai | D39: =D40 -> 4112.01
A40: 1000 | B40: Atlīdzība | C40: × | D40: =ROUNDUP(D41+D43,2) -> 4112.01
A41: 1100 | B41: Atalgojums | C41: × | D41: =D42 -> 3327.14
A42: 1116 | B42: Mēnešalga amatpersonām ar speciālajām dienesta pakāpēm | C42: 39 941,69 euro × 8,33% = 3 327,14 euro. | D42: =ROUND(D19*8.33%,2) -> 3327.14
A43: 1210 | B43: Darba devēja valsts sociālās apdrošināšanas obligātās iemaksas | C43: 23,59% no aprēķinātā atalgojuma | D43: =ROUND(D42*0.2359,2) -> 784.87

Sheet 1.tabula
I1: 1.tabula
A2: Valsts policija
A3: Piemaksa par nakts darbu amatpersonām ar speciālajām dienesta pakāpēm, kuras laika periodā no 2024.gada 01. novembra līdz 30. novembrim tika iesaistītas atbalsta sniegšanā Valsts robežsardzei Latvijas Republikas-Baltkrievijas Republikas valsts robežas robežuzraudzības nodrošināšanā
E4: 166.92
A5: Nr. p.k. | B5: Struktūrvienība | C5: Amats | D5: Mēnešalga amatpersonām ar speciālajām pakāpēm | E5: Stundas likme | F5: Stundu skaits | G5: Piemaksa par nakts darbu | H5: DD VSAOI | I5: Atlīdzība
A6: kopā | F6: =SUM(F7:F185) -> 2768 | G6: =SUM(G7:G185) -> 13079.958 | H6: =SUM(H7:H185) -> 3084.21 | I6: =SUM(I7:I185) -> 16164.168
A7: 1 | B7: VP GKĀRTPP RKVP SPECIĀLO UZDEVUMU BATALJONA (BIROJA) 4.TAKTISKĀ NODAĻA | C7: inspektors | D7: 1816 | E7: =ROUND(D7/$E$4,3) -> 10.879 | F7: 16 | G7: =E7*F7*50% -> 87.032 | H7: =ROUND(G7*0.2359,2) -> 20.53 | I7: =G7+H7 -> 107.562
A8: =A7+1 -> 2 | B8: VP GKĀRTPP RKVP SPECIĀLO UZDEVUMU BATALJONA (BIROJA) 4.TAKTISKĀ NODAĻA | C8: inspektors | D8: 1805 | E8: =ROUND(D8/$E$4,3) -> 10.814 | F8: 16 | G8: =E8*F8*50% -> 86.512 | H8: =ROUND(G8*0.2359,2) -> 20.41 | I8: =G8+H8 -> 106.922
A9: =A8+1 -> 3 | B9: VP GKĀRTPP RKVP SPECIĀLO UZDEVUMU BATALJONA (BIROJA) 4.TAKTISKĀ NODAĻA | C9: inspektors | D9: 1816 | E9: =ROUND(D9/$E$4,3) -> 10.879 | F9: 22 | G9: =E9*F9*50% -> 119.669 | H9: =ROUND(G9*0.2359,2) -> 28.23 | I9: =G9+H9 -> 147.899
A10: =A9+1 -> 4 | B10: VP GKĀRTPP RKVP SPECIĀLO UZDEVUMU BATALJONA (BIROJA) 4.TAKTISKĀ NODAĻA | C10: inspektors | D10: 1796 | E10: =ROUND(D10/$E$4,3) -> 10.76 | F10: 16 | G10: =E10*F10*50% -> 86.08 | H10: =ROUND(G10*0.2359,2) -> 20.31 | I10: =G10+H10 -> 106.39
A11: =A10+1 -> 5 | B11: VP GKĀRTPP RKVP SPECIĀLO UZDEVUMU BATALJONA (BIROJA) 4.TAKTISKĀ NODAĻA | C11: inspektors | D11: 1765 | E11: =ROUND(D11/$E$4,3) -> 10.574 | F11: 22 | G11: =E11*F11*50% -> 116.314 | H11: =ROUND(G11*0.2359,2) -> 27.44 | I11: =G11+H11 -> 143.754
A12: =A11+1 -> 6 | B12: VP GKĀRTPP RKVP SPECIĀLO UZDEVUMU BATALJONA (BIROJA) 4.TAKTISKĀ NODAĻA | C12: inspektors | D12: 1836 | E12: =ROUND(D12/$E$4,3) -> 10.999 | F12: 22 | G12: =E12*F12*50% -> 120.989 | H12: =ROUND(G12*0.2359,2) -> 28.54 | I12: =G12+H12 -> 149.529
A13: =A12+1 -> 7 | B13: VP GKĀRTPP RKVP SPECIĀLO UZDEVUMU BATALJONA (BIROJA) 4.TAKTISKĀ NODAĻA | C13: inspektors | D13: 1745 | E13: =ROUND(D13/$E$4,3) -> 10.454 | F13: 24 | G13: =E13*F13*50% -> 125.448 | H13: =ROUND(G13*0.2359,2) -> 29.59 | I13: =G13+H13 -> 155.038
A14: =A13+1 -> 8 | B14: VP GKĀRTPP RKVP SPECIĀLO UZDEVUMU BATALJONA (BIROJA) 4.TAKTISKĀ NODAĻA | C14: inspektors | D14: 1765 | E14: =ROUND(D14/$E$4,3) -> 10.574 | F14: 16 | G14: =E14*F14*50% -> 84.592 | H14: =ROUND(G14*0.2359,2) -> 19.96 | I14: =G14+H14 -> 104.552
A15: =A14+1 -> 9 | B15: VP GKĀRTPP RKVP SPECIĀLO UZDEVUMU BATALJONA (BIROJA) 4.TAKTISKĀ NODAĻA | C15: inspektors | D15: 1776 | E15: =ROUND(D15/$E$4,3) -> 10.64 | F15: 16 | G15: =E15*F15*50% -> 85.12 | H15: =ROUND(G15*0.2359,2) -> 20.08 | I15: =G15+H15 -> 105.2
A16: =A15+1 -> 10 | B16: VP GKĀRTPP RKVP SPECIĀLO UZDEVUMU BATALJONA (BIROJA) 4.TAKTISKĀ NODAĻA | C16: inspektors | D16: 1745 | E16: =ROUND(D16/$E$4,3) -> 10.454 | F16: 16 | G16: =E16*F16*50% -> 83.632 | H16: =ROUND(G16*0.2359,2) -> 19.73 | I16: =G16+H16 -> 103.362
A17: =A16+1 -> 11 | B17: VP GKĀRTPP RKVP SPECIĀLO UZDEVUMU BATALJONA (BIROJA) 4.TAKTISKĀ NODAĻA | C17: inspektors | D17: 1805 | E17: =ROUND(D17/$E$4,3) -> 10.814 | F17: 16 | G17: =E17*F17*50% -> 86.512 | H17: =ROUND(G17*0.2359,2) -> 20.41 | I17: =G17+H17 -> 106.922
A18: =A17+1 -> 12 | B18: VP GKĀRTPP RKVP SPECIĀLO UZDEVUMU BATALJONA (BIROJA) 4.TAKTISKĀ NODAĻA | C18: inspektors | D18: 1745 | E18: =ROUND(D18/$E$4,3) -> 10.454 | F18: 16 | G18: =E18*F18*50% -> 83.632 | H18: =ROUND(G18*0.2359,2) -> 19.73 | I18: =G18+H18 -> 103.362
A19: =A18+1 -> 13 | B19: VP GKĀRTPP RKVP SPECIĀLO UZDEVUMU BATALJONA (BIROJA) 4.TAKTISKĀ NODAĻA | C19: inspektors | D19: 1725 | E19: =ROUND(D19/$E$4,3) -> 10.334 | F19: 16 | G19: =E19*F19*50% -> 82.672 | H19: =ROUND(G19*0.2359,2) -> 19.5 | I19: =G19+H19 -> 102.172
... A52: =A51+1 -> 46 | B52: VP LATGALES RP DIENVIDLATGALES IECIRKŅA REAĢĒŠANAS NODAĻAS 4.GRUPA | C52: vecākais inspektors | D52: 1765 | E52: =ROUND(D52/$E$4,3) -> 10.574 | F52: 40 | G52: =E52*F52*50% -> 211.48 | H52: =ROUND(G52*0.2359,2) -> 49.89 | I52: =G52+H52 -> 261.37
A53: =A52+1 -> 47 | B53: VP LATGALES RP DIENVIDLATGALES IECIRKŅA REAĢĒŠANAS NODAĻAS 4.GRUPA | C53: inspektors | D53: 1445 | E53: =ROUND(D53/$E$4,3) -> 8.657 | F53: 20 | G53: =E53*F53*50% -> 86.57 | H53: =ROUND(G53*0.2194,2) -> 18.99 | I53: =G53+H53 -> 105.56 | J53: ***
A54: =A53+1 -> 48 | B54: VP LATGALES RP DIENVIDLATGALES IECIRKŅA REAĢĒŠANAS NODAĻAS 5.GRUPA | C54: jaunākais inspektors | D54: 1162 | E54: =ROUND(D54/$E$4,3) -> 6.961 | F54: 24 | G54: =E54*F54*50% -> 83.532 | H54: =ROUND(G54*0.2359,2) -> 19.71 | I54: =G54+H54 -> 103.242
A55: =A54+1 -> 49 | B55: VP LATGALES RP DIENVIDLATGALES IECIRKŅA REAĢĒŠANAS NODAĻAS 6.GRUPA | C55: jaunākais inspektors | D55: 1429 | E55: =ROUND(D55/$E$4,3) -> 8.561 | F55: 24 | G55: =E55*F55*50% -> 102.732 | H55: =ROUND(G55*0.2359,2) -> 24.23 | I55: =G55+H55 -> 126.962
A56: =A55+1 -> 50 | B56: VP LATGALES RP DIENVIDLATGALES IECIRKŅA REAĢĒŠANAS NODAĻAS 6.GRUPA | C56: galvenais inspektors | D56: 1692 | E56: =ROUND(D56/$E$4,3) -> 10.137 | F56: 8 | G56: =E56*F56*50% -> 40.548 | H56: =ROUND(G56*0.2359,2) -> 9.57 | I56: =G56+H56 -> 50.118
A57: =A56+1 -> 51 | B57: VP LATGALES RP DIENVIDLATGALES IECIRKŅA REAĢĒŠANAS NODAĻAS 6.GRUPA | C57: jaunākais inspektors | D57: 1242 | E57: =ROUND(D57/$E$4,3) -> 7.441 | F57: 8 | G57: =E57*F57*50% -> 29.764 | H57: =ROUND(G57*0.2359,2) -> 7.02 | I57: =G57+H57 -> 36.784
A58: =A57+1 -> 52 | B58: VP LATGALES RP DIENVIDLATGALES IECIRKŅA REAĢĒŠANAS NODAĻAS 6.GRUPA | C58: jaunākais inspektors | D58: 1162 | E58: =ROUND(D58/$E$4,3) -> 6.961 | F58: 32 | G58: =E58*F58*50% -> 111.376 | H58: =ROUND(G58*0.2359,2) -> 26.27 | I58: =G58+H58 -> 137.646
A59: =A58+1 -> 53 | B59: VP LATGALES RP DIENVIDLATGALES IECIRKŅA REAĢĒŠANAS NODAĻAS 6.GRUPA | C59: jaunākais inspektors | D59: 1162 | E59: =ROUND(D59/$E$4,3) -> 6.961 | F59: 16 | G59: =E59*F59*50% -> 55.688 | H59: =ROUND(G59*0.2359,2) -> 13.14 | I59: =G59+H59 -> 68.828
A60: =A59+1 -> 54 | B60: VP LATGALES RP DIENVIDLATGALES IECIRKŅA REAĢĒŠANAS NODAĻAS 7.GRUPA | C60: inspektors | D60: 1425 | E60: =ROUND(D60/$E$4,3) -> 8.537 | F60: 8 | G60: =E60*F60*50% -> 34.148 | H60: =ROUND(G60*0.2359,2) -> 8.06 | I60: =G60+H60 -> 42.208
A61: =A60+1 -> 55 | B61: VP LATGALES RP DIENVIDLATGALES IECIRKŅA REAĢĒŠANAS NODAĻAS 7.GRUPA | C61: jaunākais inspektors | D61: 1242 | E61: =ROUND(D61/$E$4,3) -> 7.441 | F61: 8 | G61: =E61*F61*50% -> 29.764 | H61: =ROUND(G61*0.2359,2) -> 7.02 | I61: =G61+H61 -> 36.784
A62: =A61+1 -> 56 | B62: VP LATGALES RP DIENVIDLATGALES IECIRKŅA REAĢĒŠANAS NODAĻAS 7.GRUPA | C62: galvenas inspektors | D62: 1950 | E62: =ROUND(D62/$E$4,3) -> 11.682 | F62: 8 | G62: =E62*F62*50% -> 46.728 | H62: =ROUND(G62*0.2359,2) -> 11.02 | I62: =G62+H62 -> 57.748
A63: =A62+1 -> 57 | B63: VP LATGALES RP DIENVIDLATGALES IECIRKŅA REAĢĒŠANAS NODAĻAS 7.GRUPA | C63: galvenais inspektors | D63: 1950 | E63: =ROUND(D63/$E$4,3) -> 11.682 | F63: 16 | G63: =E63*F63*50% -> 93.456 | H63: =ROUND(G63*0.2359,2) -> 22.05 | I63: =G63+H63 -> 115.506
A64: =A63+1 -> 58 | B64: VP LATGALES RP DIENVIDLATGALES IECIRKŅA REAĢĒŠANAS NODAĻAS 8.GRUPA | C64: inspektors | D64: 1425 | E64: =ROUND(D64/$E$4,3) -> 8.537 | F64: 24 | G64: =E64*F64*50% -> 102.444 | H64: =ROUND(G64*0.2359,2) -> 24.17 | I64: =G64+H64 -> 126.614
A65: =A64+1 -> 59 | B65: VP LATGALES RP DIENVIDLATGALES IECIRKŅA REAĢĒŠANAS NODAĻAS 8.GRUPA | C65: galvenais inspektors | D65: 1826 | E65: =ROUND(D65/$E$4,3) -> 10.939 | F65: 16 | G65: =E65*F65*50% -> 87.512 | H65: =ROUND(G65*0.2359,2) -> 20.64 | I65: =G65+H65 -> 108.152
... A185: =A184+1 -> 179 | B185: VP LATGALES RP ZIEMEĻLATGALES IECIRKŅA REAĢĒŠANAS NODAĻAS 9.GRUPA | C185: vecākais inspektors | D185: 1435 | E185: =ROUND(D185/$E$4,3) -> 8.597 | F185: 14 | G185: =E185*F185*50% -> 60.179 | H185: =ROUND(G185*0.2359,2) -> 14.2 | I185: =G185+H185 -> 74.379
B187: *** - izdienas pensionārs

Sheet  2.tabula
I1: 2.tabula
A2: Valsts policija
A3: Detalizēts aprēķins samaksai par virsstundu darbu amatpersonām ar speciālo dienesta pakāpi, sniedzot atbalstu Valsts robežsardzei Latvijas Republikas-Baltkrievijas Republikas valsts robežas nelikumīgas šķērsošanas nodrošināšanā, par laika periodu no 2024.gada 01. septembra līdz 30. novembrim
E4: 166.92
A5: Nr. p.k. | B5: Struktūrvienība | C5: Amats | D5: Mēnešalga amatpersonām ar speciālajām pakāpēm | E5: Stundas likme | F5: Stundu skaits | G5: Samaksa par virsstundu darbu | H5: DD VSAOI | I5: Atlīdzība
A6: kopā | F6: =SUM(F7:F8) -> 235.5 | G6: =SUM(G7:G8) -> 4205.944 | H6: =SUM(H7:H8) -> 992.19 | I6: =SUM(I7:I8) -> 5198.134
A7: 1 | B7: VP LATGALES RP ZIEMEĻLATGALES IECIRKŅA REAĢĒŠANAS NODAĻAS 7.GRUPA | C7: inspektors | D7: 1472 | E7: =ROUND(D7/$E$4,3) -> 8.819 | F7: 53 | G7: =E7*F7*2 -> 934.814 | H7: =ROUND(G7*0.2359,2)+0.01 -> 220.53 | I7: =G7+H7 -> 1155.344 | J7: *
A8: =A7+1 -> 2 | B8: VP LATGALES RP KĀRTPB RESURSU UN KRĪZES VADĪBAS NODAĻA | C8: jaunākais inspektors | D8: 1496 | E8: =ROUND(D8/$E$4,3) -> 8.962 | F8: 182.5 | G8: =E8*F8*2 -> 3271.13 | H8: =ROUND(G8*0.2359,2) -> 771.66 | I8: =G8+H8 -> 4042.79 | J8: *
B11: * Aprēķins par papildu nepieciešamo finansējumu samaksai par virsstundu darbu ir veikts, jo 2024.gada novembrī tika izbeigtas dienesta attiecības ar 2 (divām) amatpersonām.

Sheet 3.tabula
I1: 3.tabula
A2: Valsts policija
A3: Detalizēts aprēķins piemaksai par darbu svētku dienās amatpersonām ar speciālo dienesta pakāpi, sniedzot atbalstu Valsts robežsardzei Latvijas Republikas-Baltkrievijas Republikas valsts robežas nelikumīgas šķērsošanas nodrošināšanā, par laika periodu no 2024.gada 01. novembra līdz 30. novembrim (par 18.11.)
E4: 166.92
A5: Nr. p.k. | B5: Struktūrvienība | C5: Amats | D5: Mēnešalga amatpersonām ar speciālajām pakāpēm | E5: Stundas likme | F5: Stundu skaits | G5: Piemaksa par darbu svētku dienās | H5: DD VSAOI | I5: Atlīdzība
A6: kopā | F6: =SUM(F7:F55) -> 569 | G6: =SUM(G7:G55) -> 5733.248 | H6: =SUM(H7:H55) -> 1352.46 | I6: =SUM(I7:I55) -> 7085.708
A7: 1 | B7: VP LATGALES RP KĀRTPB RESURSU UN KRĪZES VADĪBAS NODAĻA | C7: nodaļas priekšnieks | D7: 1898 | E7: =ROUND(D7/$E$4,3) -> 11.371 | F7: 4 | G7: =E7*F7 -> 45.484 | H7: =ROUND(G7*0.2359,2) -> 10.73 | I7: =G7+H7 -> 56.214
A8: =A7+1 -> 2 | B8: VP LATGALES RP DIENVIDLATGALES IECIRKŅA IZMEKLĒŠANAS NODAĻAS 6.GRUPA | C8: inspektors | D8: 1445 | E8: =ROUND(D8/$E$4,3) -> 8.657 | F8: 12 | G8: =E8*F8 -> 103.884 | H8: =ROUND(G8*0.2359,2) -> 24.51 | I8: =G8+H8 -> 128.394
A9: =A8+1 -> 3 | B9: VP LATGALES RP DIENVIDLATGALES IECIRKŅA REAĢĒŠANAS NODAĻAS 10.GRUPA | C9: vecākais inspektors | D9: 1475 | E9: =ROUND(D9/$E$4,3) -> 8.837 | F9: 8 | G9: =E9*F9 -> 70.696 | H9: =ROUND(G9*0.2359,2) -> 16.68 | I9: =G9+H9 -> 87.376
A10: =A9+1 -> 4 | B10: VP LATGALES RP DIENVIDLATGALES IECIRKŅA REAĢĒŠANAS NODAĻAS 4.GRUPA | C10: vecākais inspektors | D10: 1765 | E10: =ROUND(D10/$E$4,3) -> 10.574 | F10: 16 | G10: =E10*F10 -> 169.184 | H10: =ROUND(G10*0.2359,2) -> 39.91 | I10: =G10+H10 -> 209.094
A11: =A10+1 -> 5 | B11: VP LATGALES RP ZIEMEĻLATGALES IECIRKŅA IZMEKLĒŠANAS NODAĻAS 5.GRUPA | C11: vecākais inspektors | D11: 1591 | E11: =ROUND(D11/$E$4,3) -> 9.532 | F11: 9 | G11: =E11*F11 -> 85.788 | H11: =ROUND(G11*0.2359,2) -> 20.24 | I11: =G11+H11 -> 106.028
A12: =A11+1 -> 6 | B12: VP LATGALES RP ZIEMEĻLATGALES IECIRKŅA PREVENCIJAS GRUPA | C12: inspektors | D12: 1472 | E12: =ROUND(D12/$E$4,3) -> 8.819 | F12: 9.5 | G12: =E12*F12 -> 83.7805 | H12: =ROUND(G12*0.2359,2) -> 19.76 | I12: =G12+H12 -> 103.5405
A13: =A12+1 -> 7 | B13: VP LATGALES RP KRIMPB EKONOMISKO NOZIEGUMU APKAROŠANAS NODAĻA | C13: galvenais inspektors | D13: 1791 | E13: =ROUND(D13/$E$4,3) -> 10.73 | F13: 5 | G13: =E13*F13 -> 53.65 | H13: =ROUND(G13*0.2359,2) -> 12.66 | I13: =G13+H13 -> 66.31
A14: =A13+1 -> 8 | B14: VP LATGALES RP KĀRTPB ATĻAUJU SISTĒMAS GRUPA | C14: galvenais inspektors | D14: 1559 | E14: =ROUND(D14/$E$4,3) -> 9.34 | F14: 13 | G14: =E14*F14 -> 121.42 | H14: =ROUND(G14*0.2359,2) -> 28.64 | I14: =G14+H14 -> 150.06
A15: =A14+1 -> 9 | B15: VP LATGALES RP ZIEMEĻLATGALES IECIRKNIS | C15: iecirkņa priekšnieks | D15: 2483 | E15: =ROUND(D15/$E$4,3) -> 14.875 | F15: 16.5 | G15: =E15*F15 -> 245.4375 | H15: =ROUND(G15*0.2359,2) -> 57.9 | I15: =G15+H15 -> 303.3375
A16: =A15+1 -> 10 | B16: VP LATGALES RP ZIEMEĻLATGALES IECIRKŅA REAĢĒŠANAS NODAĻAS 8.GRUPA | C16: vecākais inspektors | D16: 1475 | E16: =ROUND(D16/$E$4,3) -> 8.837 | F16: 16.5 | G16: =E16*F16 -> 145.8105 | H16: =ROUND(G16*0.2359,2) -> 34.4 | I16: =G16+H16 -> 180.2105
A17: =A16+1 -> 11 | B17: VP LATGALES RP ZIEMEĻLATGALES IECIRKŅA IZMEKLĒŠANAS NODAĻAS 3.GRUPA | C17: vecākais inspektors | D17: 1640 | E17: =ROUND(D17/$E$4,3) -> 9.825 | F17: 14 | G17: =E17*F17 -> 137.55 | H17: =ROUND(G17*0.2359,2) -> 32.45 | I17: =G17+H17 -> 170
A18: =A17+1 -> 12 | B18: VP LATGALES RP DIENVIDLATGALES IECIRKŅA REAĢĒŠANAS NODAĻAS 3.GRUPA | C18: inspektors | D18: 1425 | E18: =ROUND(D18/$E$4,3) -> 8.537 | F18: 5 | G18: =E18*F18 -> 42.685 | H18: =ROUND(G18*0.2359,2) -> 10.07 | I18: =G18+H18 -> 52.755
A19: =A18+1 -> 13 | B19: VP LATGALES RP KĀRTĪBAS POLICIJAS BIROJS (LRP KĀRTPB) | C19: biroja priekšnieka vietnieks | D19: 2318 | E19: =ROUND(D19/$E$4,3) -> 13.887 | F19: 6 | G19: =E19*F19 -> 83.322 | H19: =ROUND(G19*0.2359,2) -> 19.66 | I19: =G19+H19 -> 102.982
... A55: =A54+1 -> 49 | B55: VP GKĀRTPP RKVP SPECIĀLO UZDEVUMU BATALJONA (BIROJA) 5.TAKTISKĀ NODAĻA | C55: jaunākais inspektors | D55: 1615 | E55: =ROUND(D55/$E$4,3) -> 9.675 | F55: 8.5 | G55: =E55*F55 -> 82.2375 | H55: =ROUND(G55*0.2359,2) -> 19.4 | I55: =G55+H55 -> 101.6375

Sheet 4.tabula
J1: 4. tabula
A2: Valsts policija
A3: Piemaksa par darbu paaugstināta riska un slodzes apstākļos amatpersonām ar speciālajām dienesta pakāpēm, kuras laika periodā no 2024.gada 01. novembra līdz 30. novembrim tika iesaistītas atbalsta sniegšanā Valsts robežsardzei Latvijas Republikas-Baltkrievijas Republikas valsts robežas robežuzraudzības nodrošināšanā
F4: 166.92
A5: Nr. p.k. | B5: Struktūrvienība | C5: Amats | D5: Mēnešalga amatpersonām ar speciālajām pakāpēm | E5: Piemaksas apmērs % | F5: Stundas likme | G5: Stundu skaits | H5: Piemaksa par darbu īpašos apstākļos | I5: DD VSAOI | J5: Atlīdzība
A7: kopā | G7: =SUM(G8:G243) -> 6879 | H7: =SUM(H8:H243) -> 16922.54 | I7: =SUM(I8:I243) -> 3992.04 | J7: =SUM(J8:J243) -> 20914.58
A8: 1 | B8: VP LATGALES RP DIENVIDLATGALES IECIRKŅA IZMEKLĒŠANAS NODAĻAS 8.GRUPA | C8: vecākais inspektors | D8: 1443 | E8: 20% | F8: =ROUND(D8/$F$4,3) -> 8.645 | G8: 12 | H8: =ROUND(F8*G8*E8,2) -> 20.75 | I8: =ROUND(H8*23.59%,2) -> 4.89 | J8: =H8+I8 -> 25.64
A9: =A8+1 -> 2 | B9: VP LATGALES RP DIENVIDLATGALES IECIRKŅA IZMEKLĒŠANAS NODAĻAS 6.GRUPA | C9: inspektors | D9: 1365 | E9: 20% | F9: =ROUND(D9/$F$4,3) -> 8.178 | G9: 48 | H9: =ROUND(F9*G9*E9,2) -> 78.51 | I9: =ROUND(H9*23.59%,2) -> 18.52 | J9: =H9+I9 -> 97.03
A10: =A9+1 -> 3 | B10: VP LATGALES RP DIENVIDLATGALES IECIRKŅA REAĢĒŠANAS NODAĻAS 1.GRUPA | C10: inspektors | D10: 1365 | E10: 20% | F10: =ROUND(D10/$F$4,3) -> 8.178 | G10: 24 | H10: =ROUND(F10*G10*E10,2) -> 39.25 | I10: =ROUND(H10*23.59%,2) -> 9.26 | J10: =H10+I10 -> 48.51
A11: =A10+1 -> 4 | B11: VP LATGALES RP ZIEMEĻLATGALES IECIRKŅA REAĢĒŠANAS NODAĻAS 4.GRUPA | C11: inspektors | D11: 1365 | E11: 20% | F11: =ROUND(D11/$F$4,3) -> 8.178 | G11: 28 | H11: =ROUND(F11*G11*E11,2) -> 45.8 | I11: =ROUND(H11*23.59%,2) -> 10.8 | J11: =H11+I11 -> 56.6
A12: =A11+1 -> 5 | B12: VP LATGALES RP ZIEMEĻLATGALES IECIRKŅA REAĢĒŠANAS NODAĻAS 4.GRUPA | C12: inspektors | D12: 1365 | E12: 20% | F12: =ROUND(D12/$F$4,3) -> 8.178 | G12: 24 | H12: =ROUND(F12*G12*E12,2) -> 39.25 | I12: =ROUND(H12*23.59%,2) -> 9.26 | J12: =H12+I12 -> 48.51
A13: =A12+1 -> 6 | B13: VP LATGALES RP DIENVIDLATGALES IECIRKŅA REAĢĒŠANAS NODAĻAS 9.GRUPA | C13: inspektors | D13: 1365 | E13: 20% | F13: =ROUND(D13/$F$4,3) -> 8.178 | G13: 12 | H13: =ROUND(F13*G13*E13,2) -> 19.63 | I13: =ROUND(H13*23.59%,2) -> 4.63 | J13: =H13+I13 -> 24.26
A14: =A13+1 -> 7 | B14: VP LATGALES RP DIENVIDLATGALES IECIRKŅA IZMEKLĒŠANAS NODAĻAS 3.GRUPA | C14: inspektors | D14: 1501 | E14: 20% | F14: =ROUND(D14/$F$4,3) -> 8.992 | G14: 12 | H14: =ROUND(F14*G14*E14,2) -> 21.58 | I14: =ROUND(H14*23.59%,2) -> 5.09 | J14: =H14+I14 -> 26.67
A15: =A14+1 -> 8 | B15: VP LATGALES RP DIENVIDLATGALES IECIRKŅA REAĢĒŠANAS NODAĻAS 7.GRUPA | C15: inspektors | D15: 1385 | E15: 20% | F15: =ROUND(D15/$F$4,3) -> 8.297 | G15: 24 | H15: =ROUND(F15*G15*E15,2) -> 39.83 | I15: =ROUND(H15*23.59%,2) -> 9.4 | J15: =H15+I15 -> 49.23
A16: =A15+1 -> 9 | B16: VP GKĀRTPP RKVP SPECIĀLO UZDEVUMU BATALJONA (BIROJA) 5.TAKTISKĀ NODAĻA | C16: jaunākais inspektors | D16: 1615 | E16: 20% | F16: =ROUND(D16/$F$4,3) -> 9.675 | G16: 12 | H16: =ROUND(F16*G16*E16,2) -> 23.22 | I16: =ROUND(H16*23.59%,2) -> 5.48 | J16: =H16+I16 -> 28.7
A17: =A16+1 -> 10 | B17: VP GKĀRTPP RKVP SPECIĀLO UZDEVUMU BATALJONA (BIROJA) 5.TAKTISKĀ NODAĻA | C17: jaunākais inspektors | D17: 1615 | E17: 20% | F17: =ROUND(D17/$F$4,3) -> 9.675 | G17: 12 | H17: =ROUND(F17*G17*E17,2) -> 23.22 | I17: =ROUND(H17*23.59%,2) -> 5.48 | J17: =H17+I17 -> 28.7
A18: =A17+1 -> 11 | B18: VP LATGALES RP KĀRTPB RESURSU UN KRĪZES VADĪBAS NODAĻA | C18: inspektors | D18: 1310 | E18: 20% | F18: =ROUND(D18/$F$4,3) -> 7.848 | G18: 24 | H18: =ROUND(F18*G18*E18,2) -> 37.67 | I18: =ROUND(H18*23.59%,2) -> 8.89 | J18: =H18+I18 -> 46.56
A19: =A18+1 -> 12 | B19: VP LATGALES RP DIENVIDLATGALES IECIRKŅA REAĢĒŠANAS NODAĻAS 6.GRUPA | C19: jaunākais inspektors | D19: 1162 | E19: 20% | F19: =ROUND(D19/$F$4,3) -> 6.961 | G19: 12 | H19: =ROUND(F19*G19*E19,2) -> 16.71 | I19: =ROUND(H19*23.59%,2) -> 3.94 | J19: =H19+I19 -> 20.65
A20: =A19+1 -> 13 | B20: VP LATGALES RP DIENVIDLATGALES IECIRKŅA REAĢĒŠANAS NODAĻAS 5.GRUPA | C20: jaunākais inspektors | D20: 1162 | E20: 20% | F20: =ROUND(D20/$F$4,3) -> 6.961 | G20: 12 | H20: =ROUND(F20*G20*E20,2) -> 16.71 | I20: =ROUND(H20*23.59%,2) -> 3.94 | J20: =H20+I20 -> 20.65
... A43: =A42+1 -> 36 | B43: VP LATGALES RP DIENVIDLATGALES IECIRKŅA REAĢĒŠANAS NODAĻAS 6.GRUPA | C43: jaunākais inspektors | D43: 1162 | E43: 20% | F43: =ROUND(D43/$F$4,3) -> 6.961 | G43: 12 | H43: =ROUND(F43*G43*E43,2) -> 16.71 | I43: =ROUND(H43*23.59%,2) -> 3.94 | J43: =H43+I43 -> 20.65
A44: =A43+1 -> 37 | B44: VP LATGALES RP ZIEMEĻLATGALES IECIRKNIS | C44: iecirkņa priekšnieka vietnieks | D44: 2305 | E44: 0.2 | F44: =ROUND(D44/$F$4,3) -> 13.809 | G44: 24 | H44: =ROUND(F44*G44*E44,2) -> 66.28 | I44: =ROUND(H44*23.59%,2) -> 15.64 | J44: =H44+I44 -> 81.92
A45: =A44+1 -> 38 | B45: VP LATGALES RP ZIEMEĻLATGALES IECIRKŅA IZMEKLĒŠANAS NODAĻAS 2.GRUPA | C45: inspektors | D45: 1553 | E45: 0.2 | F45: =ROUND(D45/$F$4,3) -> 9.304 | G45: 12 | H45: =ROUND(F45*G45*E45,2) -> 22.33 | I45: =ROUND(H45*23.59%,2) -> 5.27 | J45: =H45+I45 -> 27.6
A46: =A45+1 -> 39 | B46: VP LATGALES RP DIENVIDLATGALES IECIRKŅA REAĢĒŠANAS NODAĻAS 3.GRUPA | C46: vecākais inspektors | D46: 1495 | E46: 0.2 | F46: =ROUND(D46/$F$4,3) -> 8.956 | G46: 24 | H46: =ROUND(F46*G46*E46,2) -> 42.99 | I46: =ROUND(H46*23.59%,2) -> 10.14 | J46: =H46+I46 -> 53.13
A47: =A46+1 -> 40 | B47: VP LATGALES RP DIENVIDLATGALES IECIRKŅA REAĢĒŠANAS NODAĻAS 7.GRUPA | C47: inspektors | D47: 1425 | E47: 0.2 | F47: =ROUND(D47/$F$4,3) -> 8.537 | G47: 12 | H47: =ROUND(F47*G47*E47,2) -> 20.49 | I47: =ROUND(H47*23.59%,2) -> 4.83 | J47: =H47+I47 -> 25.32
A48: =A47+1 -> 41 | B48: VP LATGALES RP DIENVIDLATGALES IECIRKŅA REAĢĒŠANAS NODAĻAS 7.GRUPA | C48: jaunākais inspektors | D48: 1242 | E48: 0.2 | F48: =ROUND(D48/$F$4,3) -> 7.441 | G48: 24 | H48: =ROUND(F48*G48*E48,2) -> 35.72 | I48: =ROUND(H48*23.59%,2) -> 8.43 | J48: =H48+I48 -> 44.15
A49: =A48+1 -> 42 | B49: VP LATGALES RP DIENVIDLATGALES IECIRKŅA REAĢĒŠANAS NODAĻAS 1.GRUPA | C49: inspektors | D49: 1425 | E49: 0.2 | F49: =ROUND(D49/$F$4,3) -> 8.537 | G49: 24 | H49: =ROUND(F49*G49*E49,2) -> 40.98 | I49: =ROUND(H49*23.59%,2) -> 9.67 | J49: =H49+I49 -> 50.65
A50: =A49+1 -> 43 | B50: VP LATGALES RP ZIEMEĻLATGALES IECIRKŅA PREVENCIJAS GRUPA | C50: vecākais inspektors | D50: 1523 | E50: 0.2 | F50: =ROUND(D50/$F$4,3) -> 9.124 | G50: 24 | H50: =ROUND(F50*G50*E50,2) -> 43.8 | I50: =ROUND(H50*23.59%,2) -> 10.33 | J50: =H50+I50 -> 54.13
A51: =A50+1 -> 44 | B51: VP LATGALES RP ZIEMEĻLATGALES IECIRKŅA REAĢĒŠANAS NODAĻAS 9.GRUPA | C51: inspektors | D51: 1425 | E51: 0.2 | F51: =ROUND(D51/$F$4,3) -> 8.537 | G51: 24 | H51: =ROUND(F51*G51*E51,2) -> 40.98 | I51: =ROUND(H51*23.59%,2) -> 9.67 | J51: =H51+I51 -> 50.65
A52: =A51+1 -> 45 | B52: VP LATGALES RP KĀRTPB ATĻAUJU SISTĒMAS GRUPA | C52: inspektors | D52: 1340 | E52: 0.2 | F52: =ROUND(D52/$F$4,3) -> 8.028 | G52: 24 | H52: =ROUND(F52*G52*E52,2) -> 38.53 | I52: =ROUND(H52*23.59%,2) -> 9.09 | J52: =H52+I52 -> 47.62
A53: =A52+1 -> 46 | B53: VP LATGALES RP KRIMPB KRIMINĀLIZLŪKOŠANAS INFORMĀCIJAS ANALĪZES GRUPA | C53: vecākais inspektors | D53: 1672 | E53: 0.2 | F53: =ROUND(D53/$F$4,3) -> 10.017 | G53: 24 | H53: =ROUND(F53*G53*E53,2) -> 48.08 | I53: =ROUND(H53*23.59%,2) -> 11.34 | J53: =H53+I53 -> 59.42
A54: =A53+1 -> 47 | B54: VP LATGALES RP DIENVIDLATGALES IECIRKŅA IZMEKLĒŠANAS NODAĻAS 7.GRUPA | C54: vecākais inspektors | D54: 1495 | E54: 0.2 | F54: =ROUND(D54/$F$4,3) -> 8.956 | G54: 12 | H54: =ROUND(F54*G54*E54,2) -> 21.49 | I54: =ROUND(H54*23.59%,2) -> 5.07 | J54: =H54+I54 -> 26.56
A55: =A54+1 -> 48 | B55: VP LATGALES RP ZIEMEĻLATGALES IECIRKŅA REAĢĒŠANAS NODAĻAS 10.GRUPA | C55: galvenais inspektors | D55: 1680 | E55: 0.2 | F55: =ROUND(D55/$F$4,3) -> 10.065 | G55: 12 | H55: =ROUND(F55*G55*E55,2) -> 24.16 | I55: =ROUND(H55*23.59%,2) -> 5.7 | J55: =H55+I55 -> 29.86
... A243: =A242+1 -> 236 | B243: VP LATGALES RP DIENVIDLATGALES IECIRKŅA IZMEKLĒŠANAS NODAĻAS 9.GRUPA | C243: inspektors | D243: 1385 | E243: 0.5 | F243: =ROUND(D243/$F$4,3) -> 8.297 | G243: 76 | H243: =ROUND(F243*G243*E243,2) -> 315.29 | I243: =ROUND(H243*23.59%,2) -> 74.38 | J243: =H243+I243 -> 389.67

Sheet 5.tabula
G1: 5.tabula
A2: Valsts policija
A3: Atskaite par dienas naudas samaksu amatpersonām ar speciālajām dienesta pakāpēm, sniedzot atbalstu Valsts robežsardzei Latvijas Republikas - Baltkrievijas Republikas valsts robežas robežuzraudzības nodrošināšanā par laika periodu no 2024.gada 21. oktobra septembra līdz 30. novembrim
A5: Nr. p.k. | B5: Struktūrvienība | C5: Amats | D5: Laika periods | E5: Dienu skaits | F5: Likme | G5: Dienas nauda (kopsumma)
A6: kopā: | G6: =SUM(G7:G84) -> 2313.6
A7: 1 | B7: VP GKĀRTPP RKVP SPECIĀLO UZDEVUMU BATALJONA (BIROJA) 6.TAKTISKĀ NODAĻA | C7: jaunākais inspektors | D7: 21.10.2024.-11.11.2024/ | E7: 2 | F7: 8 | G7: =ROUND(E7*F7,2) -> 16
E8: 20 | F8: 2.4 | G8: =ROUND(E8*F8,2) -> 48
A9: =A7+1 -> 2 | B9: VP GKĀRTPP RKVP SPECIĀLO UZDEVUMU BATALJONA (BIROJA) 6.TAKTISKĀ NODAĻA | C9: jaunākais inspektors | D9: 21.10.2024.-11.11.2024/ | E9: 2 | F9: 8 | G9: =ROUND(E9*F9,2) -> 16
E10: 20 | F10: 2.4 | G10: =ROUND(E10*F10,2) -> 48
A11: 3 | B11: VP GKĀRTPP RKVP SPECIĀLO UZDEVUMU BATALJONA (BIROJA) 6.TAKTISKĀ NODAĻA | C11: jaunākais inspektors | D11: 21.10.2024.-11.11.2024/ | E11: 2 | F11: 8 | G11: =ROUND(E11*F11,2) -> 16
E12: 20 | F12: 2.4 | G12: =ROUND(E12*F12,2) -> 48
A13: 4 | B13: VP GKĀRTPP RKVP SPECIĀLO UZDEVUMU BATALJONA (BIROJA) 6.TAKTISKĀ NODAĻA | C13: inspektors | D13: 21.10.2024.-11.11.2024/ | E13: 2 | F13: 8 | G13: =ROUND(E13*F13,2) -> 16
E14: 20 | F14: 2.4 | G14: =ROUND(E14*F14,2) -> 48
A15: 5 | B15: VP GKĀRTPP RKVP SPECIĀLO UZDEVUMU BATALJONA (BIROJA) 6.TAKTISKĀ NODAĻA | C15: jaunākais inspektors | D15: 21.10.2024.-11.11.2024/ | E15: 2 | F15: 8 | G15: =ROUND(E15*F15,2) -> 16
E16: 20 | F16: 2.4 | G16: =ROUND(E16*F16,2) -> 48
A17: 6 | B17: VP GKĀRTPP RKVP SPECIĀLO UZDEVUMU BATALJONA (BIROJA) 6.TAKTISKĀ NODAĻA | C17: priekšnieka vietnieks | D17: 21.10.2024.-11.11.2024/ | E17: 2 | F17: 8 | G17: =ROUND(E17*F17,2) -> 16
E18: 20 | F18: 2.4 | G18: =ROUND(E18*F18,2) -> 48
A19: 7 | B19: VP GKĀRTPP RKVP SPECIĀLO UZDEVUMU BATALJONA (BIROJA) 6.TAKTISKĀ NODAĻA | C19: inspektors | D19: 21.10.2024.-11.11.2024/ | E19: 2 | F19: 8 | G19: =ROUND(E19*F19,2) -> 16
E20: 20 | F20: 2.4 | G20: =ROUND(E20*F20,2) -> 48
A21: 8 | B21: VP GKĀRTPP RKVP SPECIĀLO UZDEVUMU BATALJONA (BIROJA) 6.TAKTISKĀ NODAĻA | C21: jaunākais inspektors | D21: 21.10.2024.-11.11.2024/ | E21: 2 | F21: 8 | G21: =ROUND(E21*F21,2) -> 16
E22: 20 | F22: 2.4 | G22: =ROUND(E22*F22,2) -> 48
A23: 9 | B23: VP GKĀRTPP RKVP SPECIĀLO UZDEVUMU BATALJONA (BIROJA) 6.TAKTISKĀ NODAĻA | C23: jaunākais inspektors | D23: 21.10.2024.-11.11.2024/ | E23: 2 | F23: 8 | G23: =ROUND(E23*F23,2) -> 16
E24: 20 | F24: 2.4 | G24: =ROUND(E24*F24,2) -> 48
A25: 10 | B25: VP GKĀRTPP RKVP SPECIĀLO UZDEVUMU BATALJONA (BIROJA) 6.TAKTISKĀ NODAĻA | C25: jaunākais inspektors | D25: 21.10.2024.-11.11.2024/ | E25: 2 | F25: 8 | G25: =ROUND(E25*F25,2) -> 16
E26: 20 | F26: 2.4 | G26: =ROUND(E26*F26,2) -> 48
A27: 11 | B27: VP GKĀRTPP RKVP SPECIĀLO UZDEVUMU BATALJONA (BIROJA) 6.TAKTISKĀ NODAĻA | C27: jaunākais inspektors | D27: 21.10.2024.-11.11.2024/ | E27: 2 | F27: 8 | G27: =ROUND(E27*F27,2) -> 16
E28: 20 | F28: 2.4 | G28: =ROUND(E28*F28,2) -> 48
A29: 12 | B29: VP GKĀRTPP RKVP SPECIĀLO UZDEVUMU BATALJONA (BIROJA) 6.TAKTISKĀ NODAĻA | C29: jaunākais inspektors | D29: 21.10.2024.-11.11.2024/ | E29: 2 | F29: 8 | G29: =ROUND(E29*F29,2) -> 16
E30: 20 | F30: 2.4 | G30: =ROUND(E30*F30,2) -> 48
A31: 13 | B31: VP GKĀRTPP RKVP SPECIĀLO UZDEVUMU BATALJONA (BIROJA) 6.TAKTISKĀ NODAĻA | C31: nodaļas priekšnieks | D31: 21.10.2024.- 22.10.2024/ | E31: 2 | F31: 8 | G31: =ROUND(E31*F31,2) -> 16
E32: 0 | F32: 2.4 | G32: =ROUND(E32*F32,2) -> 0
D33: 25.10.2024.- 11.11.2024/ | E33: 2 | F33: 8 | G33: =ROUND(E33*F33,2) -> 16
E34: 16 | F34: 2.4 | G34: =ROUND(E34*F34,2) -> 38.4
A35: =A31+1 -> 14 | B35: VP GKĀRTPP RKVP SPECIĀLO UZDEVUMU BATALJONA (BIROJA) 1.TAKTISKĀ NODAĻA | C35: nodaļas priekšnieks | D35: 11.11.2021.-30.11.2024/ | E35: 2 | F35: 8 | G35: =ROUND(E35*F35,2) -> 16
E36: 18 | F36: 2.4 | G36: =ROUND(E36*F36,2) -> 43.2
A37: =A35+1 -> 15 | B37: VP GKĀRTPP RKVP SPECIĀLO UZDEVUMU BATALJONA (BIROJA) 1.TAKTISKĀ NODAĻA | C37: galvenais inspektors | D37: 11.11.2021.-30.11.2024/ | E37: 2 | F37: 8 | G37: =ROUND(E37*F37,2) -> 16
E38: 18 | F38: 2.4 | G38: =ROUND(E38*F38,2) -> 43.2
A39: =A37+1 -> 16 | B39: VP GKĀRTPP RKVP SPECIĀLO UZDEVUMU BATALJONA (BIROJA) 1.TAKTISKĀ NODAĻA | C39: inspektors | D39: 11.11.2021.-30.11.2024/ | E39: 2 | F39: 8 | G39: =ROUND(E39*F39,2) -> 16
E40: 18 | F40: 2.4 | G40: =ROUND(E40*F40,2) -> 43.2
A41: =A39+1 -> 17 | B41: VP GKĀRTPP RKVP SPECIĀLO UZDEVUMU BATALJONA (BIROJA) 1.TAKTISKĀ NODAĻA | C41: inspektors | D41: 11.11.2021.-30.11.2024/ | E41: 2 | F41: 8 | G41: =ROUND(E41*F41,2) -> 16
E42: 18 | F42: 2.4 | G42: =ROUND(E42*F42,2) -> 43.2
A43: =A41+1 -> 18 | B43: VP GKĀRTPP RKVP SPECIĀLO UZDEVUMU BATALJONA (BIROJA) 1.TAKTISKĀ NODAĻA | C43: inspektors | D43: 11.11.2021.-30.11.2024/ | E43: 2 | F43: 8 | G43: =ROUND(E43*F43,2) -> 16
E44: 18 | F44: 2.4 | G44: =ROUND(E44*F44,2) -> 43.2
A45: =A43+1 -> 19 | B45: VP GKĀRTPP RKVP SPECIĀLO UZDEVUMU BATALJONA (BIROJA) 1.TAKTISKĀ NODAĻA | C45: inspektors | D45: 11.11.2021.-30.11.2024/ | E45: 2 | F45: 8 | G45: =ROUND(E45*F45,2) -> 16
E46: 18 | F46: 2.4 | G46: =ROUND(E46*F46,2) -> 43.2
A47: =A45+1 -> 20 | B47: VP GKĀRTPP RKVP SPECIĀLO UZDEVUMU BATALJONA (BIROJA) 1.TAKTISKĀ NODAĻA | C47: inspektors | D47: 11.11.2021.-30.11.2024/ | E47: 2 | F47: 8 | G47: =ROUND(E47*F47,2) -> 16
E48: 18 | F48: 2.4 | G48: =ROUND(E48*F48,2) -> 43.2
A49: =A47+1 -> 21 | B49: VP GKĀRTPP RKVP SPECIĀLO UZDEVUMU BATALJONA (BIROJA) 1.TAKTISKĀ NODAĻA | C49: inspektors | D49: 11.11.2021.-30.11.2024/ | E49: 2 | F49: 8 | G49: =ROUND(E49*F49,2) -> 16
E50: 18 | F50: 2.4 | G50: =ROUND(E50*F50,2) -> 43.2
A51: =A49+1 -> 22 | B51: VP GKĀRTPP RKVP SPECIĀLO UZDEVUMU BATALJONA (BIROJA) 1.TAKTISKĀ NODAĻA | C51: jaunākais inspektors | D51: 11.11.2021.-30.11.2024/ | E51: 2 | F51: 8 | G51: =ROUND(E51*F51,2) -> 16
E52: 18 | F52: 2.4 | G52: =ROUND(E52*F52,2) -> 43.2
A53: =A51+1 -> 23 | B53: VP GKĀRTPP RKVP SPECIĀLO UZDEVUMU BATALJONA (BIROJA) 1.TAKTISKĀ NODAĻA | C53: jaunākais inspektors | D53: 11.11.2021.-30.11.2024/ | E53: 2 | F53: 8 | G53: =ROUND(E53*F53,2) -> 16
E54: 18 | F54: 2.4 | G54: =ROUND(E54*F54,2) -> 43.2
A55: =A53+1 -> 24 | B55: VP GKĀRTPP RKVP SPECIĀLO UZDEVUMU BATALJONA (BIROJA) 1.TAKTISKĀ NODAĻA | C55: jaunākais inspektors | D55: 11.11.2021.-30.11.2024/ | E55: 2 | F55: 8 | G55: =ROUND(E55*F55,2) -> 16
E56: 18 | F56: 2.4 | G56: =ROUND(E56*F56,2) -> 43.2
A57: 25 | B57: VP GKĀRTPP RKVP SPECIĀLO UZDEVUMU BATALJONA (BIROJA) 1.TAKTISKĀ NODAĻA | C57: jaunākais inspektors | D57: 11.11.2021.-30.11.2024/ | E57: 2 | F57: 8 | G57: =ROUND(E57*F57,2) -> 16
E58: 18 | F58: 2.4 | G58: =ROUND(E58*F58,2) -> 43.2
A59: 26 | B59: VP GKĀRTPP RKVP SPECIĀLO UZDEVUMU BATALJONA (BIROJA) 1.TAKTISKĀ NODAĻA | C59: jaunākais inspektors | D59: 11.11.2021.-30.11.2024/ | E59: 2 | F59: 8 | G59: =ROUND(E59*F59,2) -> 16
E60: 18 | F60: 2.4 | G60: =ROUND(E60*F60,2) -> 43.2
A61: =A59+1 -> 27 | B61: VP GKĀRTPP RKVP SPECIĀLO UZDEVUMU BATALJONA (BIROJA) 2.TAKTISKĀ NODAĻA | C61: jaunākais inspektors | D61: 11.11.2021.-30.11.2024/ | E61: 2 | F61: 8 | G61: =ROUND(E61*F61,2) -> 16
E62: 18 | F62: 2.4 | G62: =ROUND(E62*F62,2) -> 43.2
A63: =A61+1 -> 28 | B63: VP GKĀRTPP RKVP SPECIĀLO UZDEVUMU BATALJONA (BIROJA) 2.TAKTISKĀ NODAĻA | C63: jaunākais inspektors | D63: 11.11.2021.-30.11.2024/ | E63: 2 | F63: 8 | G63: =ROUND(E63*F63,2) -> 16
E64: 18 | F64: 2.4 | G64: =ROUND(E64*F64,2) -> 43.2
A65: =A63+1 -> 29 | B65: VP GKĀRTPP RKVP SPECIĀLO UZDEVUMU BATALJONA (BIROJA) 2.TAKTISKĀ NODAĻA | C65: jaunākais inspektors | D65: 11.11.2021.-30.11.2024/ | E65: 2 | F65: 8 | G65: =ROUND(E65*F65,2) -> 16
E66: 18 | F66: 2.4 | G66: =ROUND(E66*F66,2) -> 43.2
A67: =A65+1 -> 30 | B67: VP GKĀRTPP RKVP SPECIĀLO UZDEVUMU BATALJONA (BIROJA) 2.TAKTISKĀ NODAĻA | C67: jaunākais inspektors | D67: 11.11.2021.-30.11.2024/ | E67: 2 | F67: 8 | G67: =ROUND(E67*F67,2) -> 16
E68: 18 | F68: 2.4 | G68: =ROUND(E68*F68,2) -> 43.2
A69: =A67+1 -> 31 | B69: VP GKĀRTPP RKVP SPECIĀLO UZDEVUMU BATALJONA (BIROJA) 2.TAKTISKĀ NODAĻA | C69: inspektors | D69: 11.11.2021.-30.11.2024/ | E69: 2 | F69: 8 | G69: =ROUND(E69*F69,2) -> 16
E70: 18 | F70: 2.4 | G70: =ROUND(E70*F70,2) -> 43.2
A71: =A69+1 -> 32 | B71: VP GKĀRTPP RKVP SPECIĀLO UZDEVUMU BATALJONA (BIROJA) 2.TAKTISKĀ NODAĻA | C71: inspektors | D71: 11.11.2021.-30.11.2024/ | E71: 2 | F71: 8 | G71: =ROUND(E71*F71,2) -> 16
E72: 18 | F72: 2.4 | G72: =ROUND(E72*F72,2) -> 43.2
A73: =A71+1 -> 33 | B73: VP GKĀRTPP RKVP SPECIĀLO UZDEVUMU BATALJONA (BIROJA) 2.TAKTISKĀ NODAĻA | C73: inspektors | D73: 11.11.2021.-30.11.2024/ | E73: 2 | F73: 8 | G73: =ROUND(E73*F73,2) -> 16
E74: 18 | F74: 2.4 | G74: =ROUND(E74*F74,2) -> 43.2
A75: =A73+1 -> 34 | B75: VP GKĀRTPP RKVP SPECIĀLO UZDEVUMU BATALJONA (BIROJA) 2.TAKTISKĀ NODAĻA | C75: inspektors | D75: 11.11.2021.-30.11.2024/ | E75: 2 | F75: 8 | G75: =ROUND(E75*F75,2) -> 16
E76: 18 | F76: 2.4 | G76: =ROUND(E76*F76,2) -> 43.2
A77: =A75+1 -> 35 | B77: VP GKĀRTPP RKVP SPECIĀLO UZDEVUMU BATALJONA (BIROJA) 2.TAKTISKĀ NODAĻA | C77: inspektors | D77: 11.11.2021.-30.11.2024/ | E77: 2 | F77: 8 | G77: =ROUND(E77*F77,2) -> 16
E78: 18 | F78: 2.4 | G78: =ROUND(E78*F78,2) -> 43.2
A79: 36 | B79: VP GKĀRTPP RKVP SPECIĀLO UZDEVUMU BATALJONA (BIROJA) 2.TAKTISKĀ NODAĻA | C79: inspektors | D79: 11.11.2021.-30.11.2024/ | E79: 2 | F79: 8 | G79: =ROUND(E79*F79,2) -> 16
E80: 18 | F80: 2.4 | G80: =ROUND(E80*F80,2) -> 43.2
A81: 37 | B81: VP GKĀRTPP RKVP SPECIĀLO UZDEVUMU BATALJONA (BIROJA) 2.TAKTISKĀ NODAĻA | C81: inspektors | D81: 11.11.2021.-30.11.2024/ | E81: 2 | F81: 8 | G81: =ROUND(E81*F81,2) -> 16
E82: 18 | F82: 2.4 | G82: =ROUND(E82*F82,2) -> 43.2
A83: 38 | B83: VP GKĀRTPP RKVP SPECIĀLO UZDEVUMU BATALJONA (BIROJA) 2.TAKTISKĀ NODAĻA | C83: nodaļas priekšnieks | D83: 11.11.2021.-28.11.2024/ | E83: 2 | F83: 8 | G83: =ROUND(E83*F83,2) -> 16
E84: 16 | F84: 2.4 | G84: =ROUND(E84*F84,2) -> 38.4

Sheet 6.tabula
F1: 6.tabula
A2: Valsts policija
A3: Atskaite par degvielas izlietojumu, sniedzot atbalstu Valsts robežsardzei saistībā ar situāciju uz Latvijas Republikas - Baltkrievijas Republikas valsts robežas par laika periodu no 2024.gada 01. novembra līdz 30. novembrim
A5: Nr.p.k. | B5: Transportlīdzekļa marka | C5: Iesaistīto transportlīdzekļu skaits | D5: Faktiskais nobraukums pasākumā (km) | E5: Pasākuma laikā patērētā degviela (l) | F5: Summa euro
A6: Kopā: | C6: =ROUNDUP(SUM(C8:C54),2) -> 68 | D6: =ROUNDUP(SUM(D8:D54),2) -> 78200 | E6: =ROUNDUP(SUM(E8:E54),2) -> 5974.48 | F6: =ROUNDUP(SUM(F8:F54),2) -> 8089.45
A7: Rīgas reģiona pārvalde
A15: Latgales reģiona pārvalde
A16: 1 | B16: Citroen Berlingo | C16: 1 | D16: 1933 | E16: 148.52 | F16: =199.72+0.24 -> 199.96
A17: =A16+1 -> 2 | B17: Citroen Jumper | C17: 1 | D17: 331 | E17: 25.5 | F17: 34.29
A18: =A17+1 -> 3 | B18: Fiat 55x Cross | C18: 1 | D18: 37 | E18: 2.73 | F18: 3.84
A19: =A18+1 -> 4 | B19: KIA Cee'd | C19: 4 | D19: 1159 | E19: 87.12 | F19: 119.93
A20: =A19+1 -> 5 | B20: Opel Mokka | C20: 42 | D20: 43814 | E20: 3274.29 | F20: 4444.38
A21: =A20+1 -> 6 | B21: Opel Insignia Limousine | C21: 1 | D21: 59 | E21: 4.36 | F21: 6.12
A22: =A21+1 -> 7 | B22: Renault Kangoo | C22: 6 | D22: 12243 | E22: 933.75 | F22: 1266.5
A23: =A22+1 -> 8 | B23: Renault Laguna | C23: 1 | D23: 1074 | E23: 82.61 | F23: 111.06
A24: =A23+1 -> 9 | B24: Peugeot Boxer | C24: 2 | D24: 5863 | E24: 449.62 | F24: 606.51
A25: =A24+1 -> 10 | B25: VW Crafter | C25: 1 | D25: 3967 | E25: 302.77 | F25: 410.4
A26: =A25+1 -> 11 | B26: Škoda Superb | C26: 2 | D26: 416 | E26: 31.33 | F26: 43.05
A27: =A26+1 -> 12 | B27: Toyota RAV4 | C27: 1 | D27: 730 | E27: 55.09 | F27: 75.51
A28: =A27+1 -> 13 | B28: VW Transporter | C28: 2 | D28: 933 | E28: 73.41 | F28: 96.52
A38: Zemgales reģiona pārvalde
A39: 14 | B39: Peugeot Boxer | C39: 1 | D39: 1438 | E39: 102.31 | F39: 135.86
A40: 15 | B40: VW Crafter | C40: 1 | D40: 1655 | E40: 192.05 | F40: 257.38
A41: 16 | B41: Renault Trafic | C41: 1 | D41: 2548 | E41: 209.02 | F41: 278.14
A43: Kurzemes reģiona pārvalde
