Workbook

Sheet KOPSAVILKUMS
C1: Pielikums Nr.1
A2: Aprēķins ārstniecības personu darba samaksas pieaugumam no 01.04.2023 - finansiālā ietekme uz MK noteikumiem Nr.851 2023.gadam
A4: Resori/budžeta programmas (apakšprogrammas) | B4: Finanasējums 2023.gadam darba samaksas pieaugumam no 01.04.2023
B5: =B6+B31 -> 26450882
A6: Veselības ministrija | B6: =B7+B9+B11+B13+B15+B17+B19+B21+B24+B26+B28 -> 25526724
A7: 02.04.00 "Rezidentu apmācība" | B7: =B8 -> 1401410
A8: EKK 7470 | B8: ='rezidenti_fin (valsts_apmaks) '!N18+'rezidenti_fin (maksas)'!K23 -> 1401410
A9: 33.12.00 "Reto slimību ārstēšana" | B9: =B10 -> 4875
A10: EKK 3000 | B10: ='caur tarifiem'!E36 -> 4875
A11: 33.14.00 "Primārās ambulatorās veselības aprūpes nodrošināšana" | B11: =B12 -> 4456940
A12: EKK 3000 | B12: ='caur tarifiem'!E37 -> 4456940
A13: 33.15.00 "Laboratorisko izmeklējumu nodrošināšana ambulatorajā aprūpē" | B13: =B14 -> 0
A14: EKK 3000 | B14: ='caur tarifiem'!E38 -> 0
A15: 33.16.00 "Pārējo ambulatoro veselības aprūpes pakalpojumu nodrošināšana" | B15: =B16 -> 6584992
A16: EKK 3000 | B16: ='caur tarifiem'!E39 -> 6584992
A17: 33.17.00 "Neatliekamās medicīniskās palīdzības nodrošināšana stacionārās ārstniecības iestādēs" | B17: =B18 -> 3923768
A18: EKK 3000 | B18: ='caur tarifiem'!E40 -> 3923768
A19: 33.18.00 "Plānveida stacionāro veselības aprūpes pakalpojumu nodrošināšana" | B19: =B20 -> 4831678
A20: EKK 3000 | B20: ='caur tarifiem'!E41 -> 4831678
A21: 39.03.00 "Asins un asins komponentu nodrošināšana" | B21: =SUM(B22:B23) -> 177532
A22: EKK 1000 | B22: ='VM VADC MK851'!F60 -> 149501
A23: EKK 2000 | B23: ='VM VADC MK851'!F73 -> 28031
A24: 39.04.00 "Neatliekamā medicīniskā palīdzība" | B24: =B25 -> 4066048
A25: EKK 1000 | B25: ='VM NMPD MK851'!F111 -> 4066048
A26: 39.06.00 "Tiesu medicīniskā ekspertīze" | B26: =B27 -> 67744
A27: EKK 1000 | B27: ='VM VTMEC MK851'!F44 -> 67744
A28: 45.01.00 "Veselības aprūpes finansējuma administrēšana un ekonomiskā novērtēšana" | B28: =SUM(B29:B29) -> 11737
A29: EKK 3000 | B29: ='caur tarifiem'!E42 -> 11737
A31: citas ministrijas t.sk. 62.resors | B31: =B32+B35+B42+B45 -> 924158
A32: Aizsardzības ministrija | B32: =B33 -> 62009
A33: 22.10.00 "Starptautisko operāciju un Nacionālo bruņoto spēku centralizētais atalgojums" | B33: =B34 -> 62009
A34: EKK 1000 | B34: ='Pārējās ministrijas MK851'!F101 -> 62009
A35: Labklājības ministrija | B35: =B36+B38+B40 -> 684624
A36: 05.03.00 "Aprūpe valsts sociālās aprūpes institūcijās" | B36: =B37 -> 437147
A37: EKK 1000 | B37: =LM_līgumorg_851!G451 -> 437147
A38: 05.37.00 "Sociālās integrācijas valsts aģentūras administrēšana un profesionālās un sociālās rehabilitācijas pakalpojumu nodrošināšana" | B38: =B39 -> 72412
A39: EKK 1000 | B39: =LM_līgumorg_851!G483 -> 72412
A40: Labklājības ministrijas līgumorganizācijas 05.01.00 "Sociālās rehabilitācijas valsts programmas" | B40: =B41 -> 175065
A41: EKK 3000 | B41: =LM_līgumorg_851!G241 -> 175065
A42: Tieslietu ministrija | B42: =B43 -> 146824
...

Sheet 29_01_H_2020
A1: A | K1: F | L1: G
O8: Pieaugums (%)
J10: Darba samaksas pieaugums Ārsti un funkcionālie speciālisti | O10: 0.044 | P10: Ārsti | S10: Šos darba samaksas pieauguma procentus šeit var mainīt/modelēt, bet tie koriģēsies TIKAI padotības iestādēm un citām ministrijām!!! Mainot pieauguma % rezidentiem un tarifiem, viss jāpārrēķina manuāli.
J14: Darba samaksas pieaugums Ārstniecības un pacientu aprūpes personas | O14: 0.0474 | P14: Māsas
J17: Darba samaksas pieaugums Ārstniecības un pacientu aprūpes atbalsta pesonas | O17: 0 | P17: Pārējās māsas
K25: VSAOI jaunais nodoklis | O25: 0.2359

Sheet caur tarifiem
L1: Pielikums Nr.1.1.
B3: Ārstniecības personu zemāko mēnešalgu izmaiņas no 2023.gada 1.aprīļa (finansējums 2023.gadam)
B6: =120*0.7 -> 84 | C6: 1.5038
B7: =120*0.7 -> 84 | C7: 1.5038
B8: =120*0.7 -> 84 | C8: 1.5038
B9: Ārstniecības personas amata kvalifikācijas kategorija | D9: Slodzes (strādājošo skaits normālā darba laika ietvaros) | E9: Zemākā mēnešalgas likme par slodzi (atbilstoši MK not. Nr.851) | F9: Amatalga pēc izmaiņām | G9: Starpība, EUR | H9: Darba samaksa atbilstoši slodzēm | I9: Plus 50,38% piemaksām | J9: Kopā ar Sociālo nodokli | L9: Amatalgas pieaugums % 2023.gads/ 2022.gadu
B12: Ārsti un funkcionālie speciālisti
D13: =D14+D15+D16 -> 7818.003
B14: 1 (6) | D14: 6069.62 | E14: 1555 | F14: =ROUND(E14+84,0) -> 1639 | G14: =$B$6 -> 84 | H14: =ROUND(G14*D14*9,0) -> 4588633 | I14: =ROUND(H14*$C$6,0) -> 6900386 | J14: =ROUND(I14*1.2359,0) -> 8528187 | L14: =F14/E14-1 -> 0.054019293
B15: 2 (7) | D15: =599.43+1040.383 -> 1639.813 | E15: 1369 | F15: =ROUND(E15+84,0) -> 1453 | G15: =$B$6 -> 84 | H15: =ROUND(G15*D15*9,0) -> 1239699 | I15: =ROUND(H15*$C$6,0) -> 1864259 | J15: =ROUND(I15*1.2359,0) -> 2304038 | L15: =F15/E15-1 -> 0.061358656
B16: 3 (8) | D16: =108.57 -> 108.57 | E16: 1032 | F16: =ROUND(E16+84,0) -> 1116 | G16: =$B$6 -> 84 | H16: =ROUND(G16*D16*9,0) -> 82079 | I16: =ROUND(H16*$C$6,0) -> 123430 | J16: =ROUND(I16*1.2359,0) -> 152547 | L16: =F16/E16-1 -> 0.081395349
B17: Ārstniecības un pacientu aprūpes personas | G17: 71 | L17: =F17/E17-1 -> #DIV/0!
D18: =D19+D20+D21 -> 11316.151
B19: 3 (8) | D19: 10970.186 | E19: 1032 | F19: =ROUND(E19+84,0) -> 1116 | G19: =$B$6 -> 84 | H19: =ROUND(G19*D19*9,0) -> 8293461 | I19: =ROUND(H19*$C$7,0) -> 12471707 | J19: =ROUND(I19*1.2359,0) -> 15413783 | L19: =F19/E19-1 -> 0.081395349
B20: 4 (9) | D20: 301 | E20: 908 | F20: =ROUND(E20+84,0) -> 992 | G20: =$B$6 -> 84 | H20: =ROUND(G20*D20*9,0) -> 227556 | I20: =ROUND(H20*$C$7,0) -> 342199 | J20: =ROUND(I20*1.2359,0) -> 422924 | L20: =F20/E20-1 -> 0.092511013
B21: 5 (11) | D21: 44.965 | E21: 809 | F21: =ROUND(E21+84,0) -> 893 | G21: =$B$6 -> 84 | H21: =ROUND(G21*D21*9,0) -> 33994 | I21: =ROUND(H21*$C$7,0) -> 51120 | J21: =ROUND(I21*1.2359,0) -> 63179 | L21: =F21/E21-1 -> 0.10383189
B22: Ārstniecības un pacientu aprūpes atbalsta personas | L22: =F22/E22-1 -> #DIV/0!
D23: =D24 -> 3040.207 | E23: =E24 -> 723 | F23: =F24 -> 807 | G23: =G24 -> 84
B24: 6 (13) | D24: 3040.207 | E24: 723 | F24: =ROUND(E24+84,0) -> 807 | G24: =$B$6 -> 84 | H24: =ROUND(G24*D24*9,0) -> 2298396 | I24: =ROUND(H24*$C$8,0) -> 3456328 | J24: =ROUND(I24*1.2359,0) -> 4271676 | L24: =F24/E24-1 -> 0.11618257
B25: KOPĀ Ārstniecības personas | D25: =SUM(D23+D18+D13) -> 22174.361 | H25: =H14+H15+H16+H19+H20+H21+H24 -> 16763818 | I25: =I14+I15+I16+I19+I20+I21+I24 -> 25209429 | J25: =J14+J15+J16+J19+J20+J21+J24 -> 31156334
B27: Pārējā personāla zemāko mēnešalgu izmaiņas no 2023.gada*
B29: Ārstniecības personas amata kvalifikācijas kategorija | C29: Slodzes (strādājošo skaits normālā darba laika ietvaros) | G29: darba samaksas pieaugums, EUR | H29: Darba samaksa atbilstoši slodzēm | J29: Kopā ar Sociālo nodokli
B31: Pārējam personālam | C31: 10822.518 | G31: 22.76 | H31: =ROUND(G31*C31*9,0) -> 2216885 | J31: =ROUND(H31*1.2359,0) -> 2739848
B32: * Pasākums tiek īstenots prioritārā pasākuma "Veselības aprūpes pakalpojumu pieejamība" ietvaros
B34: Finanšu avoti prioritārā pasākuma "Ārstniecības personu darba samaksas pieauguma nodrošināšana" realizācijai 2023.gadā
E35: Papildus finansējums prioritārā pasākumam "Ārstniecības personu darba samaksas pieauguma nodrošināšana" ietvaros | F35: Nacionālā veselības dienesta esošā finansējuma ietvors | G35: Finansējuma pārdale no apakš-programmas 33.15.00 | H35: KOPĀ
B36: 33.12.00 "Reto slimību ārstēšana" | E36: 4875 | F36: 0 | G36: 0 | H36: =E36+F36+G36 -> 4875
B37: 33.14.00 "Primārās ambulatorās veselības aprūpes nodrošināšana" | E37: 4456940 | F37: 0 | G37: 504021 | H37: =E37+F37+G37 -> 4960961
B38: 33.15.00 "Laboratorisko izmeklējumu nodrošināšana ambulatorajā aprūpē" | E38: 0 | F38: 0 | G38: 1311909 | H38: =E38+F38+G38 -> 1311909
B39: 33.16.00 "Pārējo ambulatoro veselības aprūpes pakalpojumu nodrošināšana" | E39: 6584992 | F39: 1305202 | G39: 892279 | H39: =E39+F39+G39 -> 8782473
B40: 33.17.00 "Neatliekamās medicīniskās palīdzības nodrošināšana stacionārās ārstniecības iestādēs" | E40: 3923768 | F40: 5372400 | G40: 1051276 | H40: =E40+F40+G40 -> 10347444
B41: 33.18.00 "Plānveida stacionāro veselības aprūpes pakalpojumu nodrošināšana" | E41: 4831678 | F41: 322398 | G41: 582859 | H41: =E41+F41+G41 -> 5736935
B42: 45.01.00 "Veselības aprūpes finansējuma administrēšana un ekonomiskā novērtēšana" | E42: 11737 | F42: 0 | G42: 0 | H42: =E42+F42+G42 -> 11737
B43: kopā | E43: =SUM(E36:E42) -> 19813990 | F43: =SUM(F36:F42) -> 7000000 | G43: =SUM(G36:G42) -> 4342344 | H43: =E43+F43+G43 -> 31156334
E44: =SUM(E43+F43+G43) -> 31156334

Sheet rezidenti_alga (valsts_apmaks)
L1: Pielikums Nr.1.2.
A2: Nepieciešamais finanšu līdzekļu apmērs viena valsts apmaksāta rezidenta apmācībai, euro
C4: 2022.gads - finanšu līdzekļu apmērs viena rezidenta apmācībai pirmajā un otrajā rezidentūras gadā pamatspecialitātē | F4: 2022.gads - finanšu līdzekļu apmērs viena rezidenta apmācībai no trešā rezidentūras gada pamatspecialitātē un no pirmā rezidentūras gada papildspecialitātē un apakšspecialitātē | I4: No 2023.gada 1.aprīļa - finanšu līdzekļu apmērs viena rezidenta apmācībai pirmajā un otrajā rezidentūras gadā pamatspecialitātē - ar pieaugumu | L4: No 2023.gada 1.aprīļa - finanšu līdzekļu apmērs viena rezidenta apmācībai no trešā rezidentūras gada pamatspecialitātē un no pirmā rezidentūras gada papildspecialitātē un apakšspecialitātē - ar pieaugumu
A5: Nr.p.k. | C5: Pārējās ārstniecības iestādēs (t.sk. budžeta iestādēs) | D5: Reģionālajā daudzprofilu slimnīcā vai ģimenes (vispārējās prakses) ārsta praksē ārpus Rīgas | F5: Pārējās ārstniecības iestādēs (t.sk. budžeta iestādēs) | G5: Reģionālajā daudzprofilu slimnīcā vai ģimenes (vispārējās prakses) ārsta praksē ārpus Rīgas | I5: Pārējās ārstniecības iestādēs (t.sk. budžeta iestādēs) | J5: Reģionālajā daudzprofilu slimnīcā vai ģimenes (vispārējās prakses) ārsta praksē ārpus Rīgas | L5: Pārējās ārstniecības iestādēs (t.sk. budžeta iestādēs) | M5: Reģionālajā daudzprofilu slimnīcā vai ģimenes (vispārējās prakses) ārsta praksē ārpus Rīgas
B6: Kopā | C6: 2601.81 | D6: 3254.74 | F6: 2819.45 | G6: 3537.66 | I6: 2724.3131 | J6: 3414 | L6: 2954.2014 | M6: 3712.85
A7: 1. | B7: Augstskolas izdevumi | C7: 108.14 | D7: 108.14 | F7: 108.14 | G7: 108.14 | I7: 108.14 | J7: 108.14 | L7: 108.14 | M7: 108.14
A8: 2. | B8: Ārstniecības iestādes izdevumi | C8: 2493.67 | D8: 3146.6 | F8: 2711.31 | G8: 3429.52 | I8: 2616.1731 | J8: 3305.86 | L8: 2846.0614 | M8: 3604.71
A9: 2.1. | B9: Rezidenta atlīdzība | C9: 2176.37 | D9: 2829.3 | F9: 2394.01 | G9: 3112.22 | I9: 2298.8731 | J9: 2988.56 | L9: 2528.7614 | M9: 3287.41
A10: 2.1.1. | B10: Atalgojums | C10: 1760.96 | D10: 2289.26 | F10: 1937.06 | G10: 2518.18 | I10: 1860.0831 | J10: 2418.12 | L10: 2046.0914 | M10: 2659.93
A11: 2.1.1.1. | B11: t.sk. amatalga | C11: 1492.34 | D11: 1940.05 | F11: 1641.58 | G11: 2134.05 | I11: 1576.3416 | J11: 2049.25 | L11: 1733.9758 | M11: 2254.17
A12: 2.1.1.2. | B12: t.sk. pārējie izdevumi rezidentu atlīdzībai - samaksa par dežūru stundām virs normālā darba laika (24 h mēnesī), piemaksas par nakts dežūrām, svētku dienām, mājas dežūrām un darba samaksas mainīgajai daļai | C12: 268.62 | D12: 349.21 | F12: 295.48 | G12: 384.13 | I12: 283.74149 | J12: 368.87 | L12: 312.11564 | M12: 405.76
A13: 2.1.2. | B13: VSAOI | C13: 415.41 | D13: 540.04 | F13: 456.95 | G13: 594.04 | I13: 438.79 | J13: 570.44 | L13: 482.67 | M13: 627.48
A14: 2.2. | B14: Rezidentu teorētisko un praktisko apmācību saistīto izdevumu apmaksai ārstniecības iestādē | C14: 317.3 | D14: 317.3 | F14: 317.3 | G14: 317.3 | I14: 317.3 | J14: 317.3 | L14: 317.3 | M14: 317.3
A15: 2.2.1. | B15: Ārstu un cita mācību personāla atlīdzībai | C15: 286 | D15: 286 | F15: 286 | G15: 286 | I15: 286 | J15: 286 | L15: 286 | M15: 286
A16: 2.2.1.1. | B16: Ārstu un cita mācību personāla atlīdzībai par rezidentu teorētisko un praktisko apmācību | C16: 254.69 | D16: 254.69 | F16: 254.69 | G16: 254.69 | I16: 254.69 | J16: 254.69 | L16: 254.69 | M16: 254.69
A17: 2.2.1.1.1. | B17: t.sk. atalgojums | C17: 206.08 | D17: 206.08 | F17: 206.08 | G17: 206.08 | I17: 206.08 | J17: 206.08 | L17: 206.08 | M17: 206.08
A18: 2.2.1.1.2. | B18: t.sk. VSAOI | C18: 48.61 | D18: 48.61 | F18: 48.61 | G18: 48.61 | I18: 48.61 | J18: 48.61 | L18: 48.61 | M18: 48.61
... A24: 2.2.2.2. | B24: t.sk.ar rezidentūras organizēšanu saistīto izdevumu segšanai saimniecisko, komunālo un ārstniecības iestādes citu kārtējo izdevumu segšanai, kas attiecas uz rezidentūras organizēšanu ārstniecības iestādē, t.sk. rezidentu telpu iekārtošanas, identifikācijas karšu iegādes, vienotas e-adreses nodrošināšanai, zīmogu izgatavošanas izdevumi u.tml.)) | C24: 15.65 | D24: 15.65 | F24: 15.65 | G24: 15.65 | I24: 15.65 | J24: 15.65 | L24: 15.65 | M24: 15.65
B26: Augstskolas izdevumi gadam | C26: =C7*12 -> 1297.68 | D26: =D7*12 -> 1297.68 | F26: =F7*12 -> 1297.68 | G26: =G7*12 -> 1297.68 | I26: =I7*12 -> 1297.68 | J26: =J7*12 -> 1297.68 | L26: =L7*12 -> 1297.68 | M26: =M7*12 -> 1297.68
B27: Ārstniecības iestādes izdevumi gadam | C27: =C8*12 -> 29924.04 | D27: =D8*12 -> 37759.2 | F27: =F8*12 -> 32535.72 | G27: =G8*12 -> 41154.24 | I27: =I8*12 -> 31394.077 | J27: =J8*12 -> 39670.32 | L27: =L8*12 -> 34152.737 | M27: =M8*12 -> 43256.52
B28: Rezidenta atlīdzība gadam | C28: =C9*12 -> 26116.44 | D28: =D9*12 -> 33951.6 | F28: =F9*12 -> 28728.12 | G28: =G9*12 -> 37346.64 | I28: =I9*12 -> 27586.477 | J28: =J9*12 -> 35862.72 | L28: =L9*12 -> 30345.137 | M28: =M9*12 -> 39448.92
B31: Valsts apmaksāto rezidentu amatalga mēnesī, euro
C33: 2022.gadā (euro) | D33: 2023.gadā (euro) | E33: Starpība (2023.gada pieaugums pret 2022.gadu)
B34: Rezidentu mēnešalga reģionālajā daudzprofilu slimnīcā vai ģimenes (vispārējās prakses) ārsta praksē ārpus Rīgas | C34: 1940.05 | D34: 2049.25 | E34: =D34/C34-1 -> 0.056287209
B35: Rezidentu mēnešalga pārējās ārstniecības iestādēs | C35: 1492.34 | D35: 1576.34 | E35: =D35/C35-1 -> 0.056287441
B36: (tai skaitā Veselības ministrijas padotības iestādes)
B37: Rezidentu mēnešalga ar koeficientu 1.1 no trešā rezidentūras gada pamatspecialitātē un no pirmā gada papildspecialitātēs reģionālajā daudzprofilu slimnīcā vai ģimenes (vispārējās prakses) ārsta praksē ārpus Rīgas | C37: 2134.05 | D37: 2254.17 | E37: =D37/C37-1 -> 0.056287341
B38: Rezidentu mēnešalga ar koeficientu 1.1 no trešā rezidentūras gada pamatspecialitātē un no pirmā gada papildspecialitātēs pārējās ārstniecības iestādēs | C38: 1641.58 | D38: 1733.98 | E38: =D38/C38-1 -> 0.056287235
B39: (tai skaitā Veselības ministrijas padotības iestādes)

Sheet rezidenti_fin (valsts_apmaks) 
M1: Pielikums Nr.1.3.
B2: Nepieciešamais papildus finansējums valsts apmaksātiem rezidentiem, euro
B4: Nr. | D4: Plānotais rezidentu skaits janv-sept | E4: Plānotais rezidentūras absolventu skaits | F4: Plānotais uzņemamo rezidentu skaits | G4: Plānotais rezidentu skaits okt-dec | H4: Plānotais vidējais rezidentu skaits | I4: Plānotais vidējais rezidentu skaits | K4: Finanšu līdzekļu apmērs mēnesim viena rezidenta apmācībai no 01.04.2023, euro | L4: Finanšu līdzekļu apmērs mēnesim viena rezidenta apmācībai - ar pieaugumu euro | M4: Finanšu līdzekļu apmēra palielinājums mēnesim viena rezidenta apmācībai, euro | N4: Finanšu līdzekļu apmēra palielinājums gadam plānotam rezidentu skaitam apmācībai, euro
B5: 1 | D5: 2 | E5: 3 | F5: 4 | G5: 5=2-3+4 | H5: 6 | I5: 7
B6: KOPĀ | C6: kopā, t.sk. | D6: 857 | E6: 241 | F6: 244 | G6: 860 | H6: 859 | I6: 942
C7: Reģionālajā daudzprofilu slimnīcā vai ģimenes (vispārējās prakses) ārsta praksē ārpus Rīgas | D7: 213 | E7: 68 | F7: 61 | G7: 206 | H7: 212 | I7: 232
C8: Pārējās ārstniecības iestādēs (t.sk. budžeta iestādēs) | D8: 644 | E8: 173 | F8: 183 | G8: 654 | H8: 647 | I8: 710
C9: t.sk. no 3.gada pamatspecialitātē un papildspecialitātē un apakšspecialitātē no 1.gada, t.sk. | D9: 464 | E9: 241 | F9: 20 | G9: 243 | H9: 410 | I9: 410
C10: Reģionālajā daudzprofilu slimnīcā vai ģimenes (vispārējās prakses) ārsta praksē ārpus Rīgas | D10: 127 | E10: 68 | F10: 5 | G10: 64 | H10: 112 | I10: 112 | K10: 3537.66 | L10: 3712.85 | M10: =L10-K10 -> 175.19 | N10: =ROUND(I10*M10*12,0) -> 235455
C11: Pārējās ārstniecības iestādēs (t.sk. budžeta iestādēs) | D11: 337 | E11: 173 | F11: 15 | G11: 179 | H11: 298 | I11: 298 | K11: 2819.4494 | L11: 2954.2014 | M11: =L11-K11 -> 134.752 | N11: =ROUND(I11*M11*12,0) -> 481873
C12: t.sk. atlikušie, t.sk. | D12: 393 | E12: 0 | F12: 224 | G12: 617 | H12: 449 | I12: 532
C13: Reģionālajā daudzprofilu slimnīcā vai ģimenes (vispārējās prakses) ārsta praksē ārpus Rīgas | D13: 86 | E13: 0 | F13: 56 | G13: 142 | H13: 100 | I13: 120 | K13: 3254.74 | L13: 3414 | M13: =L13-K13 -> 159.26 | N13: =ROUND(I13*M13*12,0) -> 229334
C14: Pārējās ārstniecības iestādēs (t.sk. budžeta iestādēs) | D14: 307 | E14: 0 | F14: 168 | G14: 475 | H14: 349 | I14: 412 | K14: 2601.8131 | L14: 2724.3131 | M14: =L14-K14 -> 122.5 | N14: =ROUND(I14*M14*12,0) -> 605640
N16: =SUM(N10:N14) -> 1552302
M18: 2023.gadam | N18: =ROUND(N16/12*9,0) -> 1164227
M20: 2024.gadam un turpmāk ik gadu | N20: =N16 -> 1552302

Sheet rezidenti_alga (maksas)
D1: Pielikums Nr.1.4.
A3: Nepieciešamais finanšu līdzekļu apmērs viena rezidenta, kuru rezidentūras apmācības izmaksas tiek segtas no juridisku vai fizisku personu līdzekļiem, apmācībai, euro
A5: Nr.p.k. | C5: 2022.gads - finanšu līdzekļu apmērs viena rezidenta apmācībai pirmajā un otrajā rezidentūras gadā pamatspecialitātē | E5: 2022.gads - finanšu līdzekļu apmērs viena rezidenta apmācībai no trešā rezidentūras gada pamatspecialitātē un no pirmā rezidentūras gada apakšspecialitātē
B6: Kopā | C6: =C7 -> 2176.37 | E6: =E7 -> 2394.01
A7: 1 | B7: Ārstniecības iestādes izdevumi | C7: =C8 -> 2176.37 | E7: =E8 -> 2394.01
A8: 1.1. | B8: Rezidenta atlīdzība | C8: 2176.37 | E8: 2394.01
A9: 1.1.1. | B9: Atalgojums | C9: 1760.96 | E9: 1937.06
A10: 1.1.1.1. | B10: t.sk. amatalga | C10: 1492.34 | E10: 1641.58
A11: 1.1.1.2. | B11: t.sk. pārējie izdevumi rezidentu atlīdzībai - samaksa par dežūru stundām virs normālā darba laika (11 h mēnesī), piemaksas par nakts dežūrām, svētku dienām, mājas dežūrām un darba samaksas mainīgajai daļai | C11: 268.62 | E11: 295.48
A12: 1.1.2. | B12: VSAOI | C12: 415.41 | E12: 456.95
B14: Rezidenta atlīdzība gadam | C14: =C6*12 -> 26116.44 | E14: =E6*12 -> 28728.12
A16: Nr.p.k. | C16: No 2023.gada 1.aprīļa - finanšu līdzekļu apmērs viena rezidenta apmācībai pirmajā un otrajā rezidentūras gadā pamatspecialitātē | E16: No 2023.gada 1.aprīļa - finanšu līdzekļu apmērs viena rezidenta apmācībai no trešā rezidentūras gada pamatspecialitātē un no pirmā rezidentūras gada apakšspecialitātē
B17: Kopā | C17: =C18 -> 2298.8731 | E17: =E18 -> 2528.7614
A18: 1 | B18: Ārstniecības iestādes izdevumi | C18: =C19 -> 2298.8731 | E18: =E19 -> 2528.7614
A19: 1.1. | B19: Rezidenta atlīdzība | C19: =C20+C23 -> 2298.8731 | E19: =E20+E23 -> 2528.7614
A20: 1.1.1. | B20: Atalgojums | C20: =C21+C22 -> 1860.0831 | E20: ='[2]valsts apmaksātie rezidenti'!R11 -> 2046.0914
A21: 1.1.1.1. | B21: t.sk. amatalga | C21: ='[2]valsts apmaksātie rezidenti'!O12 -> 1576.3416 | E21: ='[2]valsts apmaksātie rezidenti'!R12 -> 1733.9758
A22: 1.1.1.2. | B22: t.sk. pārējie izdevumi rezidentu atlīdzībai - samaksa par dežūru stundām virs normālā darba laika (11 h mēnesī), piemaksas par nakts dežūrām, svētku dienām, mājas dežūrām un darba samaksas mainīgajai daļai | C22: ='[2]valsts apmaksātie rezidenti'!O13 -> 283.74149 | E22: ='[2]valsts apmaksātie rezidenti'!R13 -> 312.11564
A23: 1.1.2. | B23: VSAOI | C23: ='[2]valsts apmaksātie rezidenti'!O14 -> 438.79 | E23: ='[2]valsts apmaksātie rezidenti'!R14 -> 482.67
B25: Rezidenta atlīdzība gadam | C25: =C17*12 -> 27586.477 | E25: =E17*12 -> 30345.137

Sheet rezidenti_fin (maksas)
H1: Pielikums Nr.1.5.
B3: Nepieciešamais papildus finansējums rezidentu atlīdzībai, kuru rezidentūras apmācības izmaksas tiek segtas no juridisku vai fizisku personu līdzekļiem, euro
G5: Precizētās viena rezidenta izmaksas
G6: no 2023.gada 1.aprīļa - finanšu līdzekļu apmērs viena rezidenta apmācībai pirmajā un otrajā rezidentūras gadā pamatspecialitātē - ar pieaugumu | I6: no 2023.gada 1.aprīļa - finanšu līdzekļu apmērs viena rezidenta apmācībai no trešā rezidentūras gada pamatspecialitātē un no pirmā rezidentūras gada apakšspecialitātē - ar pieaugumu
G7: Pārējās ārstniecības iestādēs (t.sk. budžeta iestādēs) | H7: Reģionālajā daudzprofilu slimnīcā vai ģimenes (vispārējās prakses) ārsta praksē ārpus Rīgas | I7: Pārējās ārstniecības iestādēs (t.sk. budžeta iestādēs) | J7: Reģionālajā daudzprofilu slimnīcā vai ģimenes (vispārējās prakses) ārsta praksē ārpus Rīgas
E14: Rezidentu darba samaksa | G14: 2298.8731 | H14: 2298.8731 | I14: 2528.7614 | J14: 2528.7614
K15: KOPĀ:
D16: Proporcijas plānotajam rezidentu skaitam | G16: =ROUND($K$16*G17,0) -> 94 | H16: =ROUND($K$16*H17,0) -> 27 | I16: =ROUND($K$16*I17,0) -> 75 | J16: =ROUND($K$16*J17,0) -> 10 | K16: 206
G17: 0.45631068 | H17: 0.13106796 | I17: 0.36407767 | J17: 0.048543689 | K17: =G17+H17+I17+J17 -> 1
D19: Kopā nepieciešamais finansējums GADAM visu rezidentu apmācībai ar plānoto pieaugumu | G19: =ROUND(G14*G16*12,0) -> 2593129 | H19: =ROUND(H14*H16*12,0) -> 744835 | I19: =ROUND(I14*I16*12,0) -> 2275885 | J19: =ROUND(J14*J16*12,0) -> 303451 | K19: =SUM(G19:J19) -> 5917300
D21: Esošais finansējums budžetā | K21: 5601056
D23: Papildus nepieciešamais finansējums 2023.gadam | K23: =ROUND(K25/12*9,0) -> 237183
D25: Papildus nepieciešamais finansējums 2024.gadam un turpmāk ik gadu | K25: =K19-K21 -> 316244

Sheet Pārējās ministrijas MK851
F1: Pielikums Nr.1.6.
A2: Ārstniecības personu darba samaksas pieaugums no 2023.gada 1.aprīļa 10.Aisardzības ministrijai un 19.Tieslietu ministrijai
A4: Ārstniecības personas amata kvalifikācijas kategorija | B4: Profesiju klasifikātora kods (atbilstoši MK noteikumiem Nr.264) | C4: Ārstniecības personas profesijas vai specialitātes kodu (atbilstoši MK noteikumiem Nr.317) | D4: Slodzes (strādājošo skaits normālā darba laika ietvaros) | F4: Finansējums darba samaksas pieaugumam 2023.gada 9 mēnešiem, tai skaita DD VSAOI
A7: 19.Tieslietu ministrija
A8: Programma
A9: I.Sertificētu ārstniecības personu amati
A10: 1.kategorija - Ārsts, zobārsts
A11: Galvenais ārsts | B11: 1342 01 | C11: P27,P63 | D11: 1 | F11: =ROUND(D11*9*120*1.2359,0) -> 1335
A12: Daļas vadītājs (ārsts) | B12: 1342 01 | C12: P34,P01,P25,P39,P53,P54,P63 | D12: 7 | F12: =ROUND(D12*9*120*1.2359,0) -> 9343
A13: Nodaļas vadītājs (ārsts) | B13: 1342 03 | C13: P19,P02,P57 | D13: 3 | F13: =ROUND(D13*9*120*1.2359,0) -> 4004
A14: Nodaļas vadītājs (ārsts) | B14: 1342 03 | C14: P00 | D14: 1 | F14: =ROUND(D14*9*120*1.2359,0) -> 1335
A15: Daļas vadītāja vietnieks (ārsts) | B15: 1342 02 | C15: P13 | D15: 1 | F15: =ROUND(D15*9*120*1.2359,0) -> 1335
A16: Ārsts | B16: 2211 01,2212 28, 2212 82, 2212 104, 2212 86, 2212 37, 2261 02, 2211 03, 2212 61, 2212 83, 2212 47, 2212 70 | C16: P00, P01, P02, P03, P14, P15, P19, P23, P25, P27, P28, P36, P39, P64 | D16: 22.5 | F16: =ROUND(D16*9*120*1.2359,0) -> 30032
A17: Kopā | D17: =SUM(D11:D16) -> 35.5
A18: 3.kategorija - Māsa (vispārējās aprūpes māsa), ārsta palīgs (feldšeris), vecmāte, biomedicīnas laborants, radiologa asistents, radiogrāfers*
A19: Ārsta palīgs | B19: 2240 01 | C19: n86, n53, n74, n29, n27 | D19: 19.5 | F19: =ROUND(D19*9*120*1.2359,0) -> 26028
A20: Radiologa asistents | B20: 3211 01 | C20: n85, n94 | D20: 4 | F20: =ROUND(D20*9*120*1.2359,0) -> 5339
A21: Kopā | D21: =SUM(D19:D26) -> 70.5
A22: II.Reģistrētu ārstniecības personu amati
A23: 3.kategorija - Fizioterapeits, audiologopēds, uztura speciālists, ergoterapeits, tehniskais ortopēds, mākslas terapeits, optometrists, māsa (vispārējās aprūpes māsa)
A24: Vecākā māsa | B24: 2221 01 | C24: n120, n121, n122, n123,n124 | D24: 7 | F24: =ROUND(D24*9*120*1.2359,0) -> 9343
A25: Virsmāsa | B25: 2221 02 | C25: n123 | D25: 1 | F25: =ROUND(D25*9*120*1.2359,0) -> 1335
A26: Māsa | B26: 2221 50, 2221 46, 2221 48, 2221 49, 2221 47 | C26: n120, n122, 124, 123, 121 | D26: 39 | F26: =ROUND(D26*9*120*1.2359,0) -> 52056
A27: 6.kategorija - Māsas palīgs
A28: Māsas palīgs | B28: 5321 03 | C28: n70 | D28: 4 | F28: =ROUND(D28*9*120*1.2359,0) -> 5339
A29: Kopā | D29: =SUM(D28) -> 4
A30: Kopā iestādei | D30: =SUM(D17,D21,D29) -> 110 | F30: =SUM(F11:F16,F19:F20,F24:F26,F28) -> 146824
A32: 10.Aizsardzības ministrija
A33: Budžeta programma 22.00.00 "Nacionālie bruņotie spēki" (apakšprogramma 22.10.00 "Starptautisko operāciju un Nacionālo bruņoto spēku centralizētais atalgojums")
A34: I. Sertificētu ārstniecības personu amati
A35: 1.kategorija - Ārsts, zobārsts
A36: vecākais ārsts | B36: 2211 03 | C36: P00 | D36: 1 | F36: =ROUND(D36*9*120*1.2359,0) -> 1335
A37: vecākais ārsts | B37: 2211 03 | C37: P00 | D37: 0.6 | F37: =ROUND(D37*9*120*1.2359,0) -> 801
A38: vecākais ārsts | B38: 2211 03 | C38: P00 | D38: 0.3 | F38: =ROUND(D38*9*120*1.2359,0) -> 400
A39: vecākais ārsts | B39: 2211 03 | C39: P00 | D39: 0.4 | F39: =ROUND(D39*9*120*1.2359,0) -> 534
A40: vecākais ārsts | B40: 2211 03 | C40: P00 | D40: 0.2 | F40: =ROUND(D40*9*120*1.2359,0) -> 267
A41: vecākais ārsts | B41: 2211 03 | C41: P00 | D41: 0.2 | F41: =ROUND(D41*9*120*1.2359,0) -> 267
A42: vecākais ārsts | B42: 2211 03 | C42: P00 | D42: 0.6 | F42: =ROUND(D42*9*120*1.2359,0) -> 801
A43: vecākais ārsts | B43: 2211 03 | C43: P00 | D43: 0.4 | F43: =ROUND(D43*9*120*1.2359,0) -> 534
A44: vecākais ārsts | B44: 2211 03 | C44: P00 | D44: 0.4 | F44: =ROUND(D44*9*120*1.2359,0) -> 534
...

Sheet VM NMPD MK851
F1: Pielikums Nr.1.7.
A2: Neatliekamās medicīniskās palīdzības dienesta ārstniecības personu faktiskā darba samaksas pieaugums (MK noteikumi Nr.851) no 2023.gada 1.aprīļa
A5: Informācija par ārstniecības personām
A6: Ārstniecības personas amata kvalifikācijas kategorija | B6: Profesiju klasifikātora kods (atbilstoši MK noteikumiem Nr.264) | C6: Ārstniecības personas profesijas vai specialitātes kodu (atbilstoši MK noteikumiem Nr.317) | D6: Slodzes (strādājošo skaits normālā darba laika ietvaros) | F6: Finansējums darba samaksas pieaugumam 2023.gada 9 mēnešiem, tai skaita DD VSAOI
A8: Neatliekamās medicīniskās palīdzības dienests
A9: 39.04.00 Neatliekamā medicīniskā palīdzība
A10: I. Sertificētu ārstniecības personu amati | F10: =F11+F47 -> 1994347
A11: 1.kategorija - Ārsts, zobārsts | F11: =SUM(F12:F46) -> 316605
A12: BAC vadītājs (ārsts) | B12: 2212 28 | C12: P 00 | D12: 2 | F12: =ROUND(D12*9*120*1.2359,0) -> 2670
A13: BAC vadītājs (ārsts) | B13: 2212 28 | C13: P 00 | D13: 2 | F13: =ROUND(D13*9*120*1.2359,0) -> 2670
A14: Vadības ārsts (operatīvais dežurants) | B14: 2212 11 | C14: P 00 / P 18 / P 39 | D14: 4 | F14: =ROUND(D14*9*120*1.2359,0) -> 5339
A15: Ārsta speciālista brigādes vadītājs - NM ārsts, anesteziologs-reanimatologs | B15: 2211 01 | C15: P 39 / P 18 | D15: 28.5 | F15: =ROUND(D15*9*120*1.2359,0) -> 38041
A16: Intensīvās terapijas brigādes vadītājs - NM ārsts | B16: 2212 28 | C16: P 39 | D16: 42.75 | F16: =ROUND(D16*9*120*1.2359,0) -> 57062
A17: Reanimācijas brigādes vadītājs - ārsts (NM/ anesteziologs-reanimatologs) | B17: 2211 01 | C17: P 18 | D17: 4.75 | F17: =ROUND(D17*9*120*1.2359,0) -> 6340
A18: Anesteziologs - reanimatologs | B18: 2212 05 | C18: P 18 | D18: 4.75 | F18: =ROUND(D18*9*120*1.2359,0) -> 6340
A19: Bērnu IT brigādes anesteziologs-reanimatologs | B19: 2212 05 | C19: P 18 | D19: 4.75 | F19: =ROUND(D19*9*120*1.2359,0) -> 6340
A20: Neonatologs | B20: 2212 76 | C20: A 151 | D20: 9.5 | F20: =ROUND(D20*9*120*1.2359,0) -> 12680
A21: Anesteziologs - reanimatologs | B21: 2212 05 | C21: P 18 | D21: 4.75 | F21: =ROUND(D21*9*120*1.2359,0) -> 6340
A22: Apdegumu traumatologs | B22: 2212 58 | C22: PP 30 | D22: 4.75 | F22: =ROUND(D22*9*120*1.2359,0) -> 6340
A23: Asinsvadu ķirurgs | B23: 2212 63 | C23: P 07 | D23: 4.75 | F23: =ROUND(D23*9*120*1.2359,0) -> 6340
... A46: Ārsts-eksperts | B46: 2212 11 | C46: P 18 / P 39 | D46: 7 | F46: =ROUND(D46*9*120*1.2359,0) -> 9343
A47: 3.kategorija - Māsa (vispārējās aprūpes māsa), ārsta palīgs (feldšeris), vecmāte, biomedicīnas laborants, radiologa asistents, radiogrāfers | F47: =SUM(F48:F84) -> 1677742
A48: BAC vadītājs ( ārsta palīgs) | B48: 2212 28 | C48: n74 | D48: 10 | F48: =ROUND(D48*9*120*1.2359,0) -> 13348
A49: BAC galvenais ārsta palīgs | B49: 3258 01 | C49: n74 | D49: 1 | F49: =ROUND(D49*9*120*1.2359,0) -> 1335
A50: BAC galvenais ārsta palīgs | B50: 3258 01 | C50: n74 | D50: 10 | F50: =ROUND(D50*9*120*1.2359,0) -> 13348
A51: BAC galvenais ārsta palīgs | B51: 3258 01 | C51: n74 | D51: 4 | F51: =ROUND(D51*9*120*1.2359,0) -> 5339
A52: BAC vecākais ārsta palīgs | B52: 3258 01 | C52: n74 | D52: 6 | F52: =ROUND(D52*9*120*1.2359,0) -> 8009
A53: RC galvenais ārsta palīgs | B53: 3258 01 | C53: n74 | D53: 6 | F53: =ROUND(D53*9*120*1.2359,0) -> 8009
A54: Brigādes (2AP) vadītājs - NM ārsta palīgs | B54: 3258 01 | C54: n74 | D54: 32 | F54: =ROUND(D54*9*120*1.2359,0) -> 42713
A55: Brigādes (2SP) vadītājs - NM ārsta palīgs | B55: 3258 01 | C55: n74 | D55: 44.8 | F55: =ROUND(D55*9*120*1.2359,0) -> 59798
A56: Brigādes vadītājs - NM ārsta palīgs | B56: 3258 01 | C56: n74 | D56: 595.7 | F56: =ROUND(D56*9*120*1.2359,0) -> 795124
A57: Brigādes (2AP) otrā ārstniecības persona - NM ārsta palīgs | B57: 3258 01 | C57: n74 | D57: 3.2 | F57: =ROUND(D57*9*120*1.2359,0) -> 4271
A58: Brigādes otrā ārstniecības persona - NM ārsta palīgs 85% no brig vad sert | B58: 3258 01 | C58: n74 | D58: 215.5 | F58: =ROUND(D58*9*120*1.2359,0) -> 287643
A59: Brigādes vadītājs - vecākais NM ārsta palīgs | B59: 3258 01 | C59: n74 | D59: 28 | F59: =ROUND(D59*9*120*1.2359,0) -> 37374
... A84: Galvenais speciālists ārstniecības kvalitātes jautājumos | B84: 2421 04 | C84: n74 | D84: 4 | F84: =ROUND(D84*9*120*1.2359,0) -> 5339
A85: II. Reģistrētu ārstniecības personu amati | F85: =F86+F89+F92 -> 796859
A86: 2.kategorija - Ārsts, zobārsts, rezidents | F86: =F87+F88 -> 3671
A87: Ģimenes ārstu konsultatīvā tāruņa konsultants (ārsts rezidents) | B87: 3258 01 | C87: P 00 | D87: 0.75 | F87: =ROUND(D87*9*120*1.2359,0) -> 1001
A88: Jaunākais dežūrārsts | B88: 2211 04 | C88: P 00 | D88: 2 | F88: =ROUND(D88*9*120*1.2359,0) -> 2670
A89: 3.kategorija - Fizioterapeits, audiologopēds, uztura speciālists, ergoterapeits, tehniskais ortopēds, mākslas terapeits, optometrists, māsa (vispārējās aprūpes māsa) | F89: =F90+F91 -> 86093
...

Sheet VM VADC MK851
F1: Pielikums Nr.1.8.
A2: Valsts asinsdonoru centra ārstniecības personu faktiskā darba samaksas pieaugums (MK noteikumi Nr.851) no 2023.gada 1.aprīļa
A5: Informācija par ārstniecības personām | F5: Finansējums darba samaksas pieaugumam 2023.gada 9 mēnešiem, tai skaita DD VSAOI
A6: Ārstniecības personas amata kvalifikācijas kategorija | B6: Profesiju klasifikātora kods (atbilstoši MK noteikumiem Nr.264) | C6: Ārstniecības personas profesijas vai specialitātes kodu (atbilstoši MK noteikumiem Nr.317) | D6: Slodzes (strādājošo skaits normālā darba laika ietvaros)
A8: Valsts asinsdonoru centrs
A9: 39.03.00 Specializētās veselības aprūpes nodrošināšana, Asins un asins komponentu nodrošināšana
A10: I. Sertificētu ārstniecības personu amati | F10: =F11+F27 -> 61404
A11: 1.kategorija - Ārsts, zobārsts | F11: =SUM(F12:F26) -> 20025
A12: Transfuzioloģiskā departamenta direktors (ārsts) | B12: 121305 | C12: PP24 | D12: 1 | F12: =ROUND(D12*9*120*1.2359,0) -> 1335
A13: ASD Nodaļas vadītājs (virsārsts) | B13: 121305 | C13: PP24 | D13: 1 | F13: =ROUND(D13*9*120*1.2359,0) -> 1335
A14: LF Vadītājs (virsārsts) | B14: 121305 | C14: PP24 | D14: 1 | F14: =ROUND(D14*9*120*1.2359,0) -> 1335
A15: KF Vadītājs (virsārsts) | B15: 121305 | C15: PP24 | D15: 1 | F15: =ROUND(D15*9*120*1.2359,0) -> 1335
A16: ID nodaļas vadītājs (virsārsts) | B16: 121305 | C16: PP24 | D16: 1 | F16: =ROUND(D16*9*120*1.2359,0) -> 1335
A17: Ārsts Donoru nodaļa | B17: 221101 | C17: P01 | D17: 1 | F17: =ROUND(D17*9*120*1.2359,0) -> 1335
A18: Ārsts Donoru nodaļa | B18: 221101 | C18: P53 | D18: 1 | F18: =ROUND(D18*9*120*1.2359,0) -> 1335
A19: Ārsts Donoru nodaļa | B19: 221101 | C19: PP24/P01 | D19: 1 | F19: =ROUND(D19*9*120*1.2359,0) -> 1335
A20: Ārsts Donoru nodaļa | B20: 221101 | C20: PP24/P01 | D20: 1 | F20: =ROUND(D20*9*120*1.2359,0) -> 1335
A21: Ārsts E nodaļa | B21: 221101 | C21: PP24 | D21: 1 | F21: =ROUND(D21*9*120*1.2359,0) -> 1335
A22: Ārsts LF | B22: 221101 | C22: PP24 | D22: 1 | F22: =ROUND(D22*9*120*1.2359,0) -> 1335
A23: Ārsts ID | B23: 221101 | C23: P29 | D23: 1 | F23: =ROUND(D23*9*120*1.2359,0) -> 1335
... A26: Ārsts ID (10/2022 pabeigs rezidentūru transfuzioloģijā, tad kods būs PP24) | B26: 221101 | C26: P29 | D26: 1 | F26: =ROUND(D26*9*120*1.2359,0) -> 1335
A27: 3.kategorija - Ārsta palīgs (feldšeris), vecmāte, biomedicīnas laborants, radiologa asistents, radiogrāfers | F27: =SUM(F28:F37) -> 41379
A28: Laboratoriju departamenta direktors (Biomedicīnas laborants) | B28: 1213 05 | C28: n76 | D28: 1 | F28: =ROUND(D28*9*120*1.2359,0) -> 1335
A29: Donoru nodaļas vadītājs (Ārsta palīgs) | B29: 1213 05 | C29: n27 | D29: 1 | F29: =ROUND(D29*9*120*1.2359,0) -> 1335
A30: KL Laboratorijas vadītājs (Medicīnas laborants) | B30: 1223 03 | C30: n108 | D30: 1 | F30: =ROUND(D30*9*120*1.2359,0) -> 1335
A31: Vecākais biomedicīnas laborants | B31: 3212 03 | C31: n76 | D31: 2 | F31: =ROUND(D31*9*120*1.2359,0) -> 2670
A32: Biomedicīnas laborants | B32: 3212 03 | C32: n76 | D32: 9 | F32: =ROUND(D32*9*120*1.2359,0) -> 12013
A33: Biomedicīnas laborants LF | B33: 3212 03 | C33: n76 | D33: 1.5 | F33: =ROUND(D33*9*120*1.2359,0) -> 2002
A34: Medicīnas laborants | B34: 3212 02 | C34: n76 | D34: 1 | F34: =ROUND(D34*9*120*1.2359,0) -> 1335
A35: Vecākais ārsta palīgs (feldšeris) DAD* | B35: 2240 01 | C35: n27 | D35: 1 | F35: =ROUND(D35*9*120*1.2359,0) -> 1335
A36: Ārsta palīgs* | B36: 2240 01 | C36: n27 | D36: 12 | F36: =ROUND(D36*9*120*1.2359,0) -> 16017
A37: Ārsta palīgs | B37: 2240 01 | C37: n27 | D37: 1.5 | F37: =ROUND(D37*9*120*1.2359,0) -> 2002
A38: II. Reģistrētu ārstniecības personu amati | F38: =F50+F39 -> 78754
A39: 3.kategorija - Fizioterapeits, audiologopēds, uztura speciālists, ergoterapeits, tehniskais ortopēds, mākslas terapeits, optometrists, māsa (vispārējās aprūpes māsa) | F39: =SUM(F40:F49) -> 58064
A40: Eksperts Asins dienestā (Māsa) | B40: 2422 10 | C40: PP13 | D40: 1 | F40: =ROUND(D40*9*120*1.2359,0) -> 1335
A41: Noliktavas pārzinis (medicīniskā noliktava) (Māsa) | B41: 4321 03 | C41: n120 | D41: 1 | F41: =ROUND(D41*9*120*1.2359,0) -> 1335
A42: BVD Laboratorijas vadītājs (Māsa) | B42: 1223 03 | C42: n108 | D42: 1 | F42: =ROUND(D42*9*120*1.2359,0) -> 1335
A43: Galvenā māsa | B43: 1342 05 | C43: n120 | D43: 1 | F43: =ROUND(D43*9*120*1.2359,0) -> 1335
A44: Virsmāsa (ASD, E, LF) | B44: 2221 02 | C44: n120 | D44: 3 | F44: =ROUND(D44*9*120*1.2359,0) -> 4004
A45: Māsa ASD | B45: 2221 46 | C45: n120 | D45: 19 | F45: =ROUND(D45*9*120*1.2359,0) -> 25361
...

Sheet VM VTMEC MK851
F1: Pielikums Nr.1.9.
A2: Valsts tiesu medicīnas ekspertīzes centra ārstniecības personu faktiskās darba samaksas pieaugums (MK noteikumi Nr.851) no 2023.gada 1.aprīļa
A5: Informācija par ārstniecības personām | F5: Finansējums darba samaksas pieaugumam 2023.gada 9 mēnešiem, tai skaita DD VSAOI
A6: Ārstniecības personas amata kvalifikācijas kategorija | B6: Profesiju klasifikātora kods (atbilstoši MK noteikumiem Nr.264) | C6: Ārstniecības personas profesijas vai specialitātes kodu (atbilstoši MK noteikumiem Nr.317) | D6: Slodzes (strādājošo skaits normālā darba laika ietvaros)
A8: Valsts tiesu medicīnas ekspertīzes centrs
A9: 39.06.00 Tiesu medicīniskā ekspertīze
A10: I. Sertificētu ārstniecības personu amati | F10: =F11 -> 67744
A11: 1.kategorija - Ārsts, zobārsts | F11: =SUM(F12:F43) -> 67744
A12: Direktora vietnieks - vecākais tiesu medicīnas eksperts | B12: 121302 | C12: P34 | D12: 1 | F12: =ROUND(D12*9*120*1.2359,0) -> 1335
A13: Tiesu medicīnas ekspertīžu departamenta direktors - vecākais tiesu medicīnas eksperts | B13: 121305 | C13: P34 | D13: 1 | F13: =ROUND(D13*9*120*1.2359,0) -> 1335
A14: Tiesu medicīnas laboratoriju departamenta direktors - vecākais tiesu medicīnas eksperts | B14: 121305 | C14: P34 | D14: 1 | F14: =ROUND(D14*9*120*1.2359,0) -> 1335
A15: Nodaļas vadītājs - vecākais tiesu medicīnas eksperts | B15: 221239 | C15: P34 | D15: 1 | F15: =ROUND(D15*9*120*1.2359,0) -> 1335
A16: Nodaļas vadītājs - vecākais tiesu medicīnas eksperts | B16: 221239 | C16: P34 | D16: 1 | F16: =ROUND(D16*9*120*1.2359,0) -> 1335
A17: Nodaļas vadītājs - vecākais tiesu medicīnas eksperts | B17: 221239 | C17: P34 | D17: 3 | F17: =ROUND(D17*9*120*1.2359,0) -> 4004
A18: Nodaļas vadītājs - vecākais tiesu medicīnas eksperts | B18: 221239 | C18: P34 | D18: 1 | F18: =ROUND(D18*9*120*1.2359,0) -> 1335
A19: Nodaļas vadītājs - vecākais tiesu medicīnas eksperts | B19: 221239 | C19: P34 | D19: 1 | F19: =ROUND(D19*9*120*1.2359,0) -> 1335
A20: Nodaļas vadītājs - vecākais tiesu medicīnas eksperts | B20: 221239 | C20: P34 | D20: 1 | F20: =ROUND(D20*9*120*1.2359,0) -> 1335
A21: Nodaļas vadītājs - vecākais tiesu medicīnas eksperts | B21: 221239 | C21: P34 | D21: 1 | F21: =ROUND(D21*9*120*1.2359,0) -> 1335
A22: Laboratorijas vadītājs, vecākais tiesu medicīnas eksperts | B22: 221239 | C22: P34 | D22: 2 | F22: =ROUND(D22*9*120*1.2359,0) -> 2670
A23: Laboratorijas vadītājs, vecākais tiesu medicīnas eksperts | B23: 221239 | C23: P34 | D23: 1 | F23: =ROUND(D23*9*120*1.2359,0) -> 1335
... A43: Tiesu medicīnas eksperts | B43: 221239 | C43: P34 | D43: 1 | F43: =ROUND(D43*9*120*1.2359,0) -> 1335
A44: Kopā | D44: =SUM(D12:D43) -> 50.75 | F44: =+F10 -> 67744

Sheet LM_līgumorg_851
G1: Pielikums Nr.1.10.
B3: Labklājības ministrijas ārstniecības personu faktiskās darba samaksa par slodzi (atbilstoši MK noteikumiem Nr. 851) no 2023.gada 1.aprīļa
B5: Informācija par ārstniecības personām | G5: Finansējums darba samaksas pieaugumam 2023.gada 9 mēnešiem, tai skaita DD VSAOI
B6: Ārstniecības personas amata kvalifikācijas kategorija | C6: Profesiju klasifikātora kods (atbilstoši MK noteikumiem Nr.264) | D6: Ārstniecības personas profesijas vai specialitātes kodu (atbilstoši MK noteikumiem Nr.317) | E6: Slodzes (strādājošo skaits normālā darba laika ietvaros)
B8: 05.01.00 "Sociālās rehabilitācijas valsts programmas"
B9: VSIA "Nacionālais rehabilitācijas centrs "Vaivari" (28.01.2020. līgums Nr.LM2020/24-1-04/1e par personu nodrošināšanu ar tehniskajiem palīglīdzekļiem)
B10: I. Sertificētu ārstniecības personu amati | E10: =E11+E14+E23+E27 -> 7.75
B11: 1.kategorija - Ārsts, zobārsts | E11: =SUM(E12:E13) -> 0.75
B12: Ārsts konsultants | C12: 2211 01 | D12: P03 | E12: 0.5 | G12: =ROUND(E12*9*120*1.2359,0) -> 667
B13: Ārsts konsultants | C13: 2211 01 | D13: P54 | E13: 0.25 | G13: =ROUND(E13*9*120*1.2359,0) -> 334
B14: 2.kategorija - Fizioterapeits, audiologopēds, uztura speciālists, ergoterapeits, tehniskais ortopēds, mākslas terapeits, optometrists | E14: =SUM(E15:E22) -> 7
B15: Galvenais ergoterapeits (sertificēts) | C15: 2264 04 | D15: T02 | E15: 1 | G15: =ROUND(E15*9*120*1.2359,0) -> 1335
B16: Ergoterapeits (sertificēts) | C16: 2264 04 | D16: T02 | E16: 1 | G16: =ROUND(E16*9*120*1.2359,0) -> 1335
B17: Ergoterapeits (sertificēts) | C17: 2264 04 | D17: T02 | E17: 1 | G17: =ROUND(E17*9*120*1.2359,0) -> 1335
B18: Vecākais fizioterapeits (sertificēts) | C18: 2264 02 | D18: T01 | E18: 1 | G18: =ROUND(E18*9*120*1.2359,0) -> 1335
B19: Vecākais fizioterapeits (sertificēts) | C19: 2264 02 | D19: T01 | E19: 1 | G19: =ROUND(E19*9*120*1.2359,0) -> 1335
B20: Fizioterapeits (sertificēts) | C20: 2264 02 | D20: T01 | E20: 1 | G20: =ROUND(E20*9*120*1.2359,0) -> 1335
B21: Vecākais tehniskais ortopēds (sertificēts) | C21: 3226 17 | D21: T06 | E21: 1 | G21: =ROUND(E21*9*120*1.2359,0) -> 1335
G22: =ROUND(E22*9*120*1.2359,0) -> 0
B23: 3.kategorija - Māsa, ārsta palīgs (feldšeris), vecmāte, biomedicīnas laborants, radiologa asistents, radiogrāfers | E23: =SUM(E24:E26) -> 0 | G23: =ROUND(E23*9*120*1.2359,0) -> 0
G24: =ROUND(E24*9*120*1.2359,0) -> 0
G25: =ROUND(E25*9*120*1.2359,0) -> 0
G26: =ROUND(E26*9*120*1.2359,0) -> 0
B27: 4.kategorija - Masieris, ergoterapeita asistents, fizioterapeita asistents, zobu higiēnists, zobārstniecības māsa, kosmētiķis, podologs, zobu tehniķis | E27: =SUM(E28:E28) -> 0 | G27: =ROUND(E27*9*120*1.2359,0) -> 0
G28: =ROUND(E28*9*120*1.2359,0) -> 0
B29: II. Reģistrētu ārstniecības personu amati | E29: =E38+E30 -> 12
B30: 3.kategorija - Fizioterapeits, audiologopēds, uztura speciālists, ergoterapeits, tehniskais ortopēds, mākslas terapeits, optometrists, māsa (vispārējās aprūpes māsa) | E30: =SUM(E31:E35) -> 10
B31: Vecākais ergoterapeits (nesertificēts) | C31: 2264 04 | D31: T02 | E31: 1 | G31: =ROUND(E31*9*120*1.2359,0) -> 1335
B32: Ergoterapeits (nesertificēts) | C32: 2264 04 | D32: T02 | E32: 1 | G32: =ROUND(E32*9*120*1.2359,0) -> 1335
B33: Ergoterapeits (nesertificēts) | C33: 2264 04 | D33: T02 | E33: 1 | G33: =ROUND(E33*9*120*1.2359,0) -> 1335
B34: Fizioterapeits (nesertificēts) | C34: 2264 02 | D34: T01 | E34: 5 | G34: =ROUND(E34*9*120*1.2359,0) -> 6674
B35: Tehniskais ortopēds (nesertificēts) | C35: 3226 17 | D35: T06 | E35: 2 | G35: =ROUND(E35*9*120*1.2359,0) -> 2670
G36: =ROUND(E36*9*120*1.2359,0) -> 0
B37: IV. Medicīnas asistenta amats | E37: =E38 -> 2
B38: 6.kategorija - Medicīnas asistents | E38: =E39+E40 -> 2
B39: Rehabilitācijas asistente | C39: 5321 05 | E39: 1 | G39: =ROUND(E39*9*120*1.2359,0) -> 1335
B40: Rehabilitācijas asistente (fizioterapeits) | C40: 5321 05 | E40: 1 | G40: =ROUND(E40*9*120*1.2359,0) -> 1335
B41: Kopā iestāde | E41: =E10+E29+E37 -> 21.75
B42: Latvijas Nedzirdīgo savienība (12.02.2020. līgums Nr.LM2020/24-1-04/2e par personu ar dzirdes invaliditāti nodrošināšanu ar tehniskajiem palīglīdzekļiem - surdotehniku)
B43: I. Sertificētu ārstniecības personu amati | E43: =E44+E46+E50 -> 5.5
...

Sheet IEM_kapitsab_851
H1: Pielikums Nr.1.11.
B2: Ārstniecības personu darba samaksas pieaugums 14.Iekšlietu ministrijas kapitālsabiedrībai VSIA "Iekšlietu ministrijas poliklīnika" no 2023.gada 1.aprīļa
B5: Informācija par ārstniecības personām | H5: Finansējums darba samaksas pieaugumam 2023.gada 9 mēnešiem, tai skaita DD VSAOI
B6: Ārstniecības personas amata kvalifikācijas kategorija | C6: Profesiju klasifikātora kods (atbilstoši MK noteikumiem Nr.264) | D6: Ārstniecības personas profesijas vai specialitātes kodu (atbilstoši MK noteikumiem Nr.317) | E6: Slodzes (strādājošo skaits normālā darba laika ietvaros) | F6: Faktiskā mēnešalgas likme par 1 (vienu) slodzi
B8: VSIA Iekšlietu ministrijas poliklīnika
B9: 38.05.00. Veselības aprūpe un fiziskā sagatavotība
B10: I. Sertificētu ārstniecības personu amati
B11: 1.kategorija - Ārsts, zobārsts
B12: Ārsts | C12: 1439 15 | D12: P53 | E12: 1 | F12: 2400 | H12: =ROUND(E12*9*120*1.2359,0) -> 1335
B13: Ārsts | C13: 1223 03 | D13: n108 | E13: 0.7 | F13: 2100 | H13: =ROUND(E13*9*120*1.2359,0) -> 934
B14: Ārsts | C14: 1439 16 | D14: P53 | E14: 0.8 | F14: 2250 | H14: =ROUND(E14*9*120*1.2359,0) -> 1068
B15: Ārsts | C15: 2212 08 | D15: P53 | E15: 0.4 | F15: 2200 | H15: =ROUND(E15*9*120*1.2359,0) -> 534
B16: Ārsts | C16: 2212 86 | D16: P19 | E16: 1 | F16: 2200 | H16: =ROUND(E16*9*120*1.2359,0) -> 1335
B17: Ārsts | C17: 2212 74 | D17: P20 | E17: 1 | F17: 2200 | H17: =ROUND(E17*9*120*1.2359,0) -> 1335
B18: Ārsts | C18: 2212 82 | D18: P23 | E18: 0.5 | F18: 2200 | H18: =ROUND(E18*9*120*1.2359,0) -> 667
B19: Ārsts | C19: 2212 61 | D19: P03 | E19: 0.4 | F19: 2200 | H19: =ROUND(E19*9*120*1.2359,0) -> 534
B20: Ārsts | C20: 2212 08 | D20: P53 | E20: 0.2 | F20: 2100 | H20: =ROUND(E20*9*120*1.2359,0) -> 267
B21: Ārsts | C21: 2212 08 | D21: P53 | E21: 0.2 | F21: 2100 | H21: =ROUND(E21*9*120*1.2359,0) -> 267
B22: Ārsts | C22: 2212 61 | D22: P03 | E22: 0.4 | F22: 2100 | H22: =ROUND(E22*9*120*1.2359,0) -> 534
B23: Ārsts | C23: 2212 77 | D23: P22 | E23: 0.2 | F23: 2100 | H23: =ROUND(E23*9*120*1.2359,0) -> 267
... B34: Ārsts | C34: 3212 04 | D34: n108 | E34: 0.3 | F34: 1700 | H34: =ROUND(E34*9*120*1.2359,0) -> 400
B35: 2.kategorija - Fizioterapeits, audiologopēds, uztura speciālists, ergoterapeits, tehniskais ortopēds, mākslas terapeits, optometrists | F35: =SUM(F36:F37) -> 1500
B36: Optometrists | C36: 2267 01 | D36: n114 | E36: 0.8 | F36: 1500 | H36: =ROUND(E36*9*120*1.2359,0) -> 1068
B37: 3.kategorija - Ārsta palīgs (feldšeris), vecmāte, biomedicīnas laborants, radiologa asistents, radiogrāfers
B38: Radiologa asistents | C38: 3211 01 | D38: n85 | E38: 0.5 | F38: 1240 | H38: =ROUND(E38*9*120*1.2359,0) -> 667
B39: Radiologa asistents | C39: 3211 01 | D39: n85 | E39: 0.5 | F39: 1240 | H39: =ROUND(E39*9*120*1.2359,0) -> 667
B40: Radiologa asistents | C40: 3211 01 | D40: n85 | E40: 0.5 | F40: 1240 | H40: =ROUND(E40*9*120*1.2359,0) -> 667
B41: Biomedicinas laborants | C41: 3212 03 | D41: n76 | E41: 0.5 | F41: 1240 | H41: =ROUND(E41*9*120*1.2359,0) -> 667
B42: Biomedicinas laborants | C42: 3212 03 | D42: n76 | E42: 1 | F42: 1240 | H42: =ROUND(E42*9*120*1.2359,0) -> 1335
B43: Biomedicinas laborants | C43: 3212 03 | D43: n76 | E43: 0.9 | F43: 1240 | H43: =ROUND(E43*9*120*1.2359,0) -> 1201
B44: II. Reģistrētu ārstniecības personu amati
B45: 3.kategorija - Fizioterapeits, audiologopēds, uztura speciālists, ergoterapeits, tehniskais ortopēds, mākslas terapeits, optometrists, māsa (vispārējās aprūpes māsa)
B46: Virsmāsa | C46: 2221 02 | D46: n120 | E46: 1 | F46: 1350 | H46: =ROUND(E46*9*120*1.2359,0) -> 1335
B47: Māsa | C47: 2221 46 | D47: n120 | E47: 1 | F47: 1240 | H47: =ROUND(E47*9*120*1.2359,0) -> 1335
B48: Māsa | C48: 2221 46 | D48: n120 | E48: 1 | F48: 1240 | H48: =ROUND(E48*9*120*1.2359,0) -> 1335
B49: Māsa | C49: 2221 46 | D49: n120 | E49: 0.4 | F49: 1240 | H49: =ROUND(E49*9*120*1.2359,0) -> 534
B50: Māsa | C50: 2221 46 | D50: n120 | E50: 1 | F50: 1240 | H50: =ROUND(E50*9*120*1.2359,0) -> 1335
B51: Māsa | C51: 2221 46 | D51: n120 | E51: 0.2 | F51: 1240 | H51: =ROUND(E51*9*120*1.2359,0) -> 267
B52: Māsa | C52: 2221 46 | D52: n120 | E52: 1 | F52: 1240 | H52: =ROUND(E52*9*120*1.2359,0) -> 1335
B53: Māsa | C53: 2221 46 | D53: n120 | E53: 1 | F53: 1240 | H53: =ROUND(E53*9*120*1.2359,0) -> 1335
...
