Workbook

Sheet kopsavilkums
A3: Izmaksas atlīdzībai, darbavietas uzturēšanai un darbavietas iekārtošani
A4: EKK | B4: 2025 | C4: 2026 | D4: 2027 | E4: 2028 | F4: turpmāk ik gadu
A5: 1000 Atlīdzība | B5: =atlīdzība!O6+atlīdzība!O15+atlīdzība!O24 -> 164249 | C5: =atlīdzība!O7+atlīdzība!O16+atlīdzība!O25 -> 174091 | D5: =atlīdzība!O8+atlīdzība!O17+atlīdzība!O26 -> 181760 | E5: =atlīdzība!O9+atlīdzība!O18+atlīdzība!O27 -> 188559 | F5: =atlīdzība!O10+atlīdzība!O19+atlīdzība!O28 -> 194699
A6: 2000 Preces pakalpojumi | B6: ='pakalpojumi, kapitālie'!D1 -> 18282 | C6: ='pakalpojumi, kapitālie'!J1 -> 14907 | D6: =C6 -> 14907 | E6: =D6 -> 14907 | F6: =E6 -> 14907
A7: 5000 Pamatkapitāla veidošana | B7: ='pakalpojumi, kapitālie'!D2 -> 8619
A8: Pavisam kopā | B8: =SUM(B5:B7) -> 191150 | C8: =SUM(C5:C7) -> 188998 | D8: =SUM(D5:D7) -> 196667 | E8: =SUM(E5:E7) -> 203466 | F8: =SUM(F5:F7) -> 209606

Sheet atlīdzība
C4: Slodze | D4: Amata saime | E4: Amata līmenis | F4: mēnešalgu grupa | G4: Gads | H4: atalgojums | J4: vispārējās piemaksas 5% no gada mēnešalgu kopsummas | K4: naudas balvas un prēmijas 10% no gada mēnešalgu kopsummas | L4: sociālās garantijas 5% no gada mēnešalgu kopsummas | M4: Kopā izdevumi atalgojumam | N4: DD soc nod. 23,59% | O4: Kopā
H5: mēnesī | I5: gadā
B6: Produkta portfeļa vadītājs | C6: 1 | D6: 21.8. | E6: III | F6: 12 | G6: 2025 | H6: 3292 | I6: =H6*12 -> 39504 | J6: =I6*0.05 -> 1975.2 | K6: =I6*0.1 -> 3950.4 | L6: =I6*0.05 -> 1975.2 | M6: =I6+J6+K6+L6 -> 47404.8 | N6: =M6*23.59% -> 11182.792 | O6: =ROUND(M6+N6,0) -> 58588
G7: 2026 | H7: 3489 | I7: =H7*12 -> 41868 | J7: =I7*0.05 -> 2093.4 | K7: =I7*0.1 -> 4186.8 | L7: =I7*0.05 -> 2093.4 | M7: =I7+J7+K7+L7 -> 50241.6 | N7: =M7*23.59% -> 11851.993 | O7: =ROUND(M7+N7,0) -> 62094
G8: 2027 | H8: 3643 | I8: =H8*12 -> 43716 | J8: =I8*0.05 -> 2185.8 | K8: =I8*0.1 -> 4371.6 | L8: =I8*0.05 -> 2185.8 | M8: =I8+J8+K8+L8 -> 52459.2 | N8: =M8*23.59% -> 12375.125 | O8: =ROUND(M8+N8,0) -> 64834
G9: 2028 | H9: 3779 | I9: =H9*12 -> 45348 | J9: =I9*0.05 -> 2267.4 | K9: =I9*0.1 -> 4534.8 | L9: =I9*0.05 -> 2267.4 | M9: =I9+J9+K9+L9 -> 54417.6 | N9: =M9*23.59% -> 12837.112 | O9: =ROUND(M9+N9,0) -> 67255
G10: 2029 | H10: 3902 | I10: =H10*12 -> 46824 | J10: =I10*0.05 -> 2341.2 | K10: =I10*0.1 -> 4682.4 | L10: =I10*0.05 -> 2341.2 | M10: =I10+J10+K10+L10 -> 56188.8 | N10: =M10*23.59% -> 13254.938 | O10: =ROUND(M10+N10,0) -> 69444
O11: =SUM(O6:O10) -> 322215
C13: Slodze | D13: Amata saime | E13: Amata līmenis | F13: mēnešalgu grupa | G13: Gads | H13: atalgojums | J13: vispārējās piemaksas 5% no gada mēnešalgu kopsummas | K13: naudas balvas un prēmijas 10% no gada mēnešalgu kopsummas | L13: sociālās garantijas 5% no gada mēnešalgu kopsummas | M13: Kopā izdevumi atalgojumam | N13: DD soc nod. 23,59% | O13: Kopā
H14: mēnesī | I14: gadā
B15: Sistēmu un biznesa procesu analītiķis | C15: 1 | D15: 21.4. | E15: IV | F15: 12 | G15: 2025 | H15: 3292 | I15: =H15*12 -> 39504 | J15: =I15*0.05 -> 1975.2 | K15: =I15*0.1 -> 3950.4 | L15: =I15*0.05 -> 1975.2 | M15: =I15+J15+K15+L15 -> 47404.8 | N15: =M15*23.59% -> 11182.792 | O15: =ROUND(M15+N15,0) -> 58588
G16: 2026 | H16: 3489 | I16: =H16*12 -> 41868 | J16: =I16*0.05 -> 2093.4 | K16: =I16*0.1 -> 4186.8 | L16: =I16*0.05 -> 2093.4 | M16: =I16+J16+K16+L16 -> 50241.6 | N16: =M16*23.59% -> 11851.993 | O16: =ROUND(M16+N16,0) -> 62094
G17: 2027 | H17: 3643 | I17: =H17*12 -> 43716 | J17: =I17*0.05 -> 2185.8 | K17: =I17*0.1 -> 4371.6 | L17: =I17*0.05 -> 2185.8 | M17: =I17+J17+K17+L17 -> 52459.2 | N17: =M17*23.59% -> 12375.125 | O17: =ROUND(M17+N17,0) -> 64834
G18: 2028 | H18: 3779 | I18: =H18*12 -> 45348 | J18: =I18*0.05 -> 2267.4 | K18: =I18*0.1 -> 4534.8 | L18: =I18*0.05 -> 2267.4 | M18: =I18+J18+K18+L18 -> 54417.6 | N18: =M18*23.59% -> 12837.112 | O18: =ROUND(M18+N18,0) -> 67255
G19: 2029 | H19: 3902 | I19: =H19*12 -> 46824 | J19: =I19*0.05 -> 2341.2 | K19: =I19*0.1 -> 4682.4 | L19: =I19*0.05 -> 2341.2 | M19: =I19+J19+K19+L19 -> 56188.8 | N19: =M19*23.59% -> 13254.938 | O19: =ROUND(M19+N19,0) -> 69444
O20: =SUM(O15:O19) -> 322215
C22: Slodze | D22: Amata saime | E22: Amata līmenis | F22: mēnešalgu grupa | G22: Gads | H22: atalgojums | J22: vispārējās piemaksas 5% no gada mēnešalgu kopsummas | K22: naudas balvas un prēmijas 10% no gada mēnešalgu kopsummas | L22: sociālās garantijas 5% no gada mēnešalgu kopsummas | M22: Kopā izdevumi atalgojumam | N22: DD soc nod. 23,59% | O22: Kopā
H23: mēnesī | I23: gadā
B24: Vadošais informācijas sistēmu uzturētājs | C24: 1 | D24: 21.5. | E24: IV | F24: 11 | G24: 2025 | H24: 2645 | I24: =H24*12 -> 31740 | J24: =I24*0.05 -> 1587 | K24: =I24*0.1 -> 3174 | L24: =I24*0.05 -> 1587 | M24: =I24+J24+K24+L24 -> 38088 | N24: =M24*23.59% -> 8984.9592 | O24: =ROUND(M24+N24,0) -> 47073
G25: 2026 | H25: 2804 | I25: =H25*12 -> 33648 | J25: =I25*0.05 -> 1682.4 | K25: =I25*0.1 -> 3364.8 | L25: =I25*0.05 -> 1682.4 | M25: =I25+J25+K25+L25 -> 40377.6 | N25: =M25*23.59% -> 9525.0758 | O25: =ROUND(M25+N25,0) -> 49903
G26: 2027 | H26: 2927 | I26: =H26*12 -> 35124 | J26: =I26*0.05 -> 1756.2 | K26: =I26*0.1 -> 3512.4 | L26: =I26*0.05 -> 1756.2 | M26: =I26+J26+K26+L26 -> 42148.8 | N26: =M26*23.59% -> 9942.9019 | O26: =ROUND(M26+N26,0) -> 52092
G27: 2028 | H27: 3037 | I27: =H27*12 -> 36444 | J27: =I27*0.05 -> 1822.2 | K27: =I27*0.1 -> 3644.4 | L27: =I27*0.05 -> 1822.2 | M27: =I27+J27+K27+L27 -> 43732.8 | N27: =M27*23.59% -> 10316.568 | O27: =ROUND(M27+N27,0) -> 54049
G28: 2029 | H28: 3136 | I28: =H28*12 -> 37632 | J28: =I28*0.05 -> 1881.6 | K28: =I28*0.1 -> 3763.2 | L28: =I28*0.05 -> 1881.6 | M28: =I28+J28+K28+L28 -> 45158.4 | N28: =M28*23.59% -> 10652.867 | O28: =ROUND(M28+N28,0) -> 55811
O29: =SUM(O24:O28) -> 258928

Sheet pakalpojumi, kapitālie
A1: 2025 | B1: EKK 2000 | D1: =D7+E114 -> 18282 | G1: 2026 | H1: EKK 2000 | J1: =J7+K114 -> 14907
B2: EKK 5000 | D2: =E115 -> 8619 | H2: EKK 5000 | J2: =K115 -> 0
A4: Uzturēšanas izdevumi gadā | G4: Uzturēšanas izdevumi gadā
A5: Ieņēmumu, izdevumu, finasēšanas klasifikācijas kods | B5: Klasifikācijas koda nosaukums | C5: Administratīvās izmaksas uz 1 darbinieku gadā | D5: Administratīvās izmaksas uz pierasīto darbinieku skaitu gadā | E5: Darbinieku skaits | G5: Ieņēmumu, izdevumu, finasēšanas klasifikācijas kods | H5: Klasifikācijas koda nosaukums | I5: Administratīvās izmaksas uz 1 darbinieku gadā | J5: Administratīvās izmaksas uz pierasīto darbinieku skaitu gadā | K5: Darbinieku skaits
A6: 1 | B6: 2 | G6: 1 | H6: 2
A7: 2000 | B7: Preces un pakalpojumi | C7: =C8+C15+C60+C91+C92 -> 4969 | D7: =C7*E7 -> 14907 | E7: 3 | G7: 2000 | H7: Preces un pakalpojumi | I7: =I8+I15+I60+I91+I92 -> 4969 | J7: =I7*K7 -> 14907 | K7: 3
A8: 2100 | B8: Mācību, darba un dienesta komandējumi, dienesta, darba braucieni | C8: =C9+C12 -> 0 | G8: 2100 | H8: Mācību, darba un dienesta komandējumi, dienesta, darba braucieni | I8: =I9+I12 -> 0
A9: 2110 | B9: Iekšzemes mācību, darba un dienesta komandējumi,darba braucieni | C9: =SUM(C10:C11) -> 0 | G9: 2110 | H9: Iekšzemes mācību, darba un dienesta komandējumi,darba braucieni | I9: =SUM(I10:I11) -> 0
A10: 2111 | B10: Dienas nauda | G10: 2111 | H10: Dienas nauda
A11: 2112 | B11: Pārējie komandējumu un darba braucienu izdevumi | G11: 2112 | H11: Pārējie komandējumu un darba braucienu izdevumi
A12: 2120 | B12: Ārvalstu mācību, darba un dienesta komandējumi, darba braucieni | C12: =SUM(C13:C14) -> 0 | G12: 2120 | H12: Ārvalstu mācību, darba un dienesta komandējumi, darba braucieni | I12: =SUM(I13:I14) -> 0
A13: 2121 | B13: Dienas nauda | G13: 2121 | H13: Dienas nauda
A14: 2122 | B14: Pārējie komandējumu un darba braucienu izdevumi | G14: 2122 | H14: Pārējie komandējumu un darba braucienu izdevumi
A15: 2200 | B15: Pakalpojumi | C15: =C16+C17+C23+C33+C42+C43+C49+C56 -> 4400 | G15: 2200 | H15: Pakalpojumi | I15: =I16+I17+I23+I33+I42+I43+I49+I56 -> 4400
A16: 2210 | B16: Izdevumi par sakaru pakalpojumiem | C16: 151 | G16: 2210 | H16: Izdevumi par sakaru pakalpojumiem | I16: 151
A17: 2220 | B17: Izdevumi par komunālajiem pakalpojumiem | C17: =SUM(C18:C22) -> 515 | G17: 2220 | H17: Izdevumi par komunālajiem pakalpojumiem | I17: =SUM(I18:I22) -> 515
A18: 2221 | B18: Izdevumi par siltumenerģiju | C18: 312 | G18: 2221 | H18: Izdevumi par siltumenerģiju | I18: 312
A19: 2222 | B19: Izdevumi par ūdensapgādi un kanalizāciju | C19: 9 | G19: 2222 | H19: Izdevumi par ūdensapgādi un kanalizāciju | I19: 9
A20: 2223 | B20: Izdevumi par elektroenerģiju | C20: 176 | G20: 2223 | H20: Izdevumi par elektroenerģiju | I20: 176
A21: 2224 | B21: Izdevumi par atkritumu savākšanu, izvešanu | C21: 15 | G21: 2224 | H21: Izdevumi par atkritumu savākšanu, izvešanu | I21: 15
A22: 2229 | B22: Izdevumi par pārējiem komunālajiem pakalpojumiem | C22: 3 | G22: 2229 | H22: Izdevumi par pārējiem komunālajiem pakalpojumiem | I22: 3
A23: 2230 | B23: Dažādi pakalpojumi | C23: =SUM(C24:C32) -> 269 | G23: 2230 | H23: Dažādi pakalpojumi | I23: =SUM(I24:I32) -> 269
A24: 2231 | B24: Izdevumi iestādes sabiedrisko aktivitāšu īstenošanai | G24: 2231 | H24: Izdevumi iestādes sabiedrisko aktivitāšu īstenošanai
A25: 2232 | B25: Izdevumi par profesionālās darbības pakalpojumiem | C25: 38 | G25: 2232 | H25: Izdevumi par profesionālās darbības pakalpojumiem | I25: 38
A26: 2233 | B26: Izdevumi par transporta pakalpojumiem | G26: 2233 | H26: Izdevumi par transporta pakalpojumiem
A27: 2234 | B27: Normatīvajos aktos noteiktie darba devēja veselības izdevumi darba ņēmējiem | C27: 0 | G27: 2234 | H27: Normatīvajos aktos noteiktie darba devēja veselības izdevumi darba ņēmējiem | I27: 0
A28: 2235 | B28: Izdevumi par saņemtajiem apmācību pakalpojumiem | C28: 100 | G28: 2235 | H28: Izdevumi par saņemtajiem apmācību pakalpojumiem | I28: 100
A29: 2236 | B29: Maksājumu pakalpojumi un komisijas | C29: 0 | G29: 2236 | H29: Maksājumu pakalpojumi un komisijas | I29: 0
A30: 2237 | B30: Ārvalstīs strādājošo darbinieku bērna pirmsskolas un skolas izdevumu kompensācija | C30: 0 | G30: 2237 | H30: Ārvalstīs strādājošo darbinieku bērna pirmsskolas un skolas izdevumu kompensācija | I30: 0
A31: 2238 | B31: Ārvalstīs strādājošo darbinieku dzīvokļa īres un komunālo izdevumu kompensācija | C31: 0 | G31: 2238 | H31: Ārvalstīs strādājošo darbinieku dzīvokļa īres un komunālo izdevumu kompensācija | I31: 0
A32: 2239 | B32: Pārējie neklasificētie pakalpojumi | C32: 131 | G32: 2239 | H32: Pārējie neklasificētie pakalpojumi | I32: 131
A33: 2240 | B33: Remontdarbi un iestāžu uzturēšanas pakalpojumi (izņemot kapitālo remontu) | C33: =SUM(C34:C41) -> 1221 | G33: 2240 | H33: Remontdarbi un iestāžu uzturēšanas pakalpojumi (izņemot kapitālo remontu) | I33: =SUM(I34:I41) -> 1221
A34: 2241 | B34: Ēku, būvju un telpu būvdarbi | G34: 2241 | H34: Ēku, būvju un telpu būvdarbi
A35: 2242 | B35: Transportlīdzekļu uzturēšana un remonts | C35: 172 | G35: 2242 | H35: Transportlīdzekļu uzturēšana un remonts | I35: 172
A36: 2243 | B36: Iekārtas, inventāra un aparatūras remonts, tehniskā apkalpošana | C36: 72 | G36: 2243 | H36: Iekārtas, inventāra un aparatūras remonts, tehniskā apkalpošana | I36: 72
A37: 2244 | B37: Nekustamā īpašuma uzturēšana | C37: 977 | G37: 2244 | H37: Nekustamā īpašuma uzturēšana | I37: 977
A38: 2246 | B38: Autoceļu un ielu pārvaldīšana un uzturēšana | C38: 0 | G38: 2246 | H38: Autoceļu un ielu pārvaldīšana un uzturēšana | I38: 0
A39: 2247 | B39: Apdrošināšanas izdevumi | G39: 2247 | H39: Apdrošināšanas izdevumi
A40: 2248 | B40: Profesionālās darbības civiltiesiskās atbildības apdrošināšanas izdevumi | C40: 0 | G40: 2248 | H40: Profesionālās darbības civiltiesiskās atbildības apdrošināšanas izdevumi | I40: 0
A41: 2249 | B41: Pārējie remontdarbu un iestāžu uzturēšanas pakalpojumi | C41: 0 | G41: 2249 | H41: Pārējie remontdarbu un iestāžu uzturēšanas pakalpojumi | I41: 0
...
