Workbook

Sheet ĀRF_finansējums_2014-2028
N1: 1. Pielikums noteikumu projekta "Grozījumi Ministru kabineta 2013. gada 5. novembra noteikumos Nr. 1268 "Ārstniecības riska fonda darbības noteikumi"" anotācijai
A3: Ārstniecības riska fondā saņemtās iemaksas un izmaksāto atlīdzību kopsummas 2014. - 2024. gadā, kā arī prognoze 2025. - 2028. gadam
B5: Pārskata gads | N5: Uz 04.09.2025 | O5: Prognoze 2025 * | P5: Prognoze 2026 ** | Q5: Prognoze 2027 - 2028 **
B6: 2013 | C6: 2014 | D6: 2015 | E6: 2016 | F6: 2017 | G6: 2018 | H6: 2019 | I6: 2020 | J6: 2021 | K6: 2022 | L6: 2023 | M6: 2024
A7: Resursi kopā, euro: | C7: =SUM(C9:C10) -> 1618282 | D7: =SUM(D9:D10) -> 2967153 | E7: =SUM(E9:E10) -> 3356461 | F7: =SUM(F9:F10) -> 1893783 | G7: =SUM(G9:G10) -> 1852227 | H7: =SUM(H9:H10) -> 1904444 | I7: =SUM(I9:I10) -> 1952783 | J7: =SUM(J9:J10) -> 1798825 | ... Q7: =SUM(Q9:Q10) -> 4366958
A8: no tā:
A9: Saņemtās iemaksas ĀRF | C9: 1466774 | D9: 1368225 | E9: 1426427 | F9: 1366558 | G9: 1418521 | H9: 1454444 | I9: 1412643 | J9: 1348825 | K9: 1211013 | L9: 1301053 | M9: 1404404 | N9: 1401190 | O9: 1689735 | P9: ='2026_2028_iemaksu_prognoze'!J8 -> 3133165 | Q9: ='2026_2028_iemaksu_prognoze'!J13 -> 4230341
A10: Gada laikā pārdalītā summa no maksājumu uzkrājuma | C10: 151508 | D10: 1598928 | E10: 1930034 | F10: 527225 | G10: 433706 | H10: 450000 | I10: 540140 | J10: 450000 | K10: 450000 | L10: 450000 | M10: 450000 | N10: 1450000 | O10: =1450000 -> 1450000 | P10: =O17 -> 780542 | Q10: =P17 -> 136617
A11: Indikatīvi prognozētā summa no maksājumu uzkrājuma, kas papildus 2025.g beigās tiktu pārdalīta | O11: 637356
A13: Izmaksāts kopā, euro: | C13: 19353 | D13: 1037120 | E13: 1738777 | F13: 1015854 | G13: 615760 | H13: 1207626 | I13: 892171 | J13: 1240056 | K13: 1366790 | L13: 1511144 | M13: 1817847 | N13: 2518060 | O13: =ROUND(N13/8*12,0) -> 3777090 | P13: =O13 -> 3777090 | Q13: =O13 -> 3777090
A15: Starpība starp saņemtām iemaksām un izmaksāto gada ietvaros, euro | C15: =C9-C13 -> 1447421 | D15: =D9-D13 -> 331105 | E15: =E9-E13 -> -312350 | F15: =F9-F13 -> 350704 | G15: =G9-G13 -> 802761 | H15: =H9-H13 -> 246818 | I15: =I9-I13 -> 520472 | J15: =J9-J13 -> 108769 | ... Q15: =Q9-Q13 -> 453251
A17: Uzkrātais finansējums, euro | B17: 151507.9 | C17: =SUM(C7-C13) -> 1598929 | D17: =SUM(C17+D9-D13) -> 1930034 | E17: =SUM(D17+E9-E13) -> 1617684 | F17: =SUM(E17+F9-F13) -> 1968388 | G17: =SUM(F17+G9-G13) -> 2771149 | H17: =SUM(G17+H9-H13) -> 3017967 | I17: =SUM(H17+I9-I13) -> 3538439 | J17: =SUM(I17+J9-J13) -> 3647208 | K17: =SUM(J17+K9-K13) -> 3491431 | L17: =SUM(K17+L9-L13) -> 3281340 | M17: =SUM(L17+M9)-M13 -> 2867897 | N17: =SUM(M17+N9)-N13 -> 1751027 | O17: =SUM(M17+O9)-O13 -> 780542 | P17: =SUM(O17+P9-P13) -> 136617 | Q17: =SUM(P17+Q9-Q13) -> 589868
A19: * Prognoze 2025. gadam: Saņemtās iemaksas ĀRF - atbilstoši 2025. gadā aprēķinātajai kopsummai un norādītajām iemaksām konkrētajām ārstniecības iestādēm, Izmaksāts kopā - 2025. gada 8 mēnešu faktiskā izpilde, attiecināta uz pilnu gadu
A20: ** Izmaksājamās atlīdzību kopsummas 2026. - 2028. gadam tiek prognozētas 2025. gada apmērā
C22: Ietekme uz valsts budžetu
C23: 2026. gads | D23: 2027., 2028. gads
A24: Indikatīvi prognozētās iemaksas ĀRF, euro | C24: =P9 -> 3133165 | D24: =Q9 -> 4230341
A25: Likumā "Par valsts budžetu 2025. gadam un budžeta ietvaru 2025., 2026. un 2027. gadam" ieplānoti citi pašu ieņēmumi, euro | C25: 1421386 | D25: 1421386
A26: "Resursi izdevumu segšanai" pieugums pret likumu "Par valsts budžetu 2025. gadam un budžeta ietvaru 2025., 2026. un 2027. gadam", euro | C26: =C24-C25 -> 1711779 | D26: =D24-D25 -> 2808955
A27: Indikatīvi prognozētās atlīdzību izmaksas, euro | C27: =P13 -> 3777090 | D27: =Q13 -> 3777090
A28: Likumā "Par valsts budžetu 2025. gadam un budžeta ietvaru 2025., 2026. un 2027. gadam" ieplānoti budžeta izdevumi, euro | C28: 1871386 | D28: 1871386
A29: "Budžeta izdevumi" pieugums pret likumu "Par valsts budžetu 2025. gadam un budžeta ietvaru 2025., 2026. un 2027. gadam", euro | C29: =C27-C28 -> 1905704 | D29: =D27-D28 -> 1905704
A30: Finansēšana no iepriekšējā gada citu pašu ieņēmumu atlikumiem, euro | C30: =C29-C26 -> 193925
A31: Citi pašu ieņēmumu atlikumi uz gada beigām, euro | D31: =D26-D29 -> 903251

Sheet 2025_iemaksu_aprēķins
E1: 2. Pielikums noteikumu projekta "Grozījumi Ministru kabineta 2013. gada 5. novembra noteikumos Nr. 1268 "Ārstniecības riska fonda darbības noteikumi"" anotācijai
A3: Vidējā riska maksājuma apmēra aprēķins par vienu ārstniecības personu 2025.gadam un kopējais maksājuma apjoms (pēc stāvokļa uz 02.01.2025.), atbilstoši MK noteikumos Nr. 1268 noteiktajiem principiem un formulām
A5: 1. Ārstniecības personu skaits un ārstniecības atbalsta personu skaits un riska apjoms iestādēs, kuras sniedz ārstniecības pakalpojumus
A6: Riska grupa | B6: Riska koeficients | C6: Ārstniecības personu darba vietu skaits atbilstoši specialitātei | D6: Riska apjoms kopā
A7: I | B7: 10 | C7: 3022 | D7: 30220
A8: II | B8: 8 | C8: 2309 | D8: 18472
A9: III | B9: 5 | C9: 8761 | D9: 43805
A10: IV | B10: 2 | C10: 2994 | D10: 5988
A11: V | B11: 1 | C11: 3278 | D11: 3278
A12: VI | B12: 0.5 | C12: 27734 | D12: 13867
A13: Kopā | C13: =SUM(C7:C12) -> 48098 | D13: =SUM(D7:D12) -> 115630
A15: 2. Prognozējamās atlīdzības summas aprēķins 2025.gadam, ņemot vērā faktiski izmaksātās atlīdzības iepriekšējo četru kalendāro gadu periodā (2021.-2024.gads), atbilstoši 05.11.2013. MK noteikumu Nr.1268 "Ārstniecības riska fonda darbības noteikumi" (grozījumi no 18.05.2021.) 24.punktam:
A16: 2.1. Prognozējamās atlīdzības summas aprēķins
A17: Atlīdzību summu sadalījums pa grupām | B17: Faktisko lēmumu par atlīdzību izmaksu skaits | C17: Faktiski izmaksāto atlīdzību summas, EUR | D17: Vidējā atlīdzība, EUR (A) | E17: Vidējais atlīdzību skaits gadā (S) | F17: Prognozējamā atlīdzības summa vienā gadā, ņemot vērā faktiski izmaksātās atlīdzības, EUR
A18: līdz 10 000 EUR | B18: 101 | C18: 370422.34 | D18: =ROUND(C18/B18,0) -> 3668 | E18: =ROUND(B18/4,2) -> 25.25 | F18: =ROUND(D18*E18,0) -> 92617
A19: 10 000 - 30 000 EUR | B19: 44 | C19: 906084.83 | D19: =ROUND(C19/B19,0) -> 20593 | E19: =ROUND(B19/4,2) -> 11 | F19: =ROUND(D19*E19,0) -> 226523
A20: 30 000 - 75 000 EUR | B20: 65 | C20: 2953490.3 | D20: =ROUND(C20/B20,0) -> 45438 | E20: =ROUND(B20/4,2) -> 16.25 | F20: =ROUND(D20*E20,0) -> 738368
A21: virs 75 000 EUR | B21: 16 | C21: 1804732 | D21: =ROUND(C21/B21,0) -> 112796 | E21: =ROUND(B21/4,2) -> 4 | F21: =ROUND(D21*E21,0) -> 451184
B22: =SUM(B18:B21) -> 226 | C22: =SUM(C18:C21) -> 6034729.5 | D22: =SUM(D18:D21) -> 182495 | E22: =SUM(E18:E21) -> 56.5 | F22: =SUM(F18:F21) -> 1508692
A24: 2.2. Veselības inspekcijā saņemto atlīdzības pieprasījumu un sagatavoto atzinumu skaits (Veselības inspekcijas 25.01.2025. vēstule Nr.1.3.1.-1/869)
A25: Gads | B25: Veselības inspekcijā gadā saņemto atlīdzības prasījumu skaits | C25: Veselības inspekcijā gadā sagatavoto atzinumu skaits | D25: Neizskatīto atlīdzību skaits 2024.gada beigās | E25: Īpatsvars neizskatīto atlīdzību prasījumu skaitam pret kopējo saņemto atlīdzību prasījumu skaitu
A26: 2021 | B26: 189 | C26: 210
A27: 2022 | B27: 181 | C27: 159
A28: 2023 | B28: 220 | C28: 173
A29: 2024 | B29: 221 | C29: 171
B30: =SUM(B26:B29) -> 811 | C30: =SUM(C26:C29) -> 713 | D30: 95 | E30: =ROUND(D30/B30,2) -> 0.12
A32: 2.3. Prognozējamā atlīdzības summas aprēķins 2025.gadam, ņemot vērā vidējo atlīdzību skaitu, vidējo atlīdzību un koeficientu
A33: Atlīdzību summu sadalījums pa grupām | B33: Vidējais atlīdzību skaits (S) | D33: Vidējā atlīdzība (A) | F33: Prognozējamā atlīdzības summa par kaitējumiem vienā gadā, ņemot vērā vidējo atlīdzību skaitu (S * A) | G33: Koeficients, ņemot vērā neizskatīto atlīdzības pieprasījumu lietu skaitu (K) | H33: Prognozējamā atlīdzības summa vienā gadā, ņemot vērā vidējo atlīdzību skaitu, vidējo atlīdzību un koeficientu (S * A * K)
B34: Sadalījums par grupām | C34: Skaits | D34: Sadalījums par grupām | E34: Atlīdzība, EUR
A35: līdz 10 000 EUR | B35: S1 | C35: 25.25 | D35: A1 | E35: 3668 | F35: =ROUND(C35*E35,0) -> 92617
A36: 10 000 - 30 000 EUR | B36: S2 | C36: 11 | D36: A2 | E36: 20593 | F36: =ROUND(C36*E36,0) -> 226523
A37: 30 000 - 75 000 EUR | B37: S3 | C37: 16.25 | D37: A3 | E37: 45438 | F37: =ROUND(C37*E37,0) -> 738368
A38: virs 75 000 EUR | B38: S4 | C38: 4 | D38: A4 | E38: 112796 | F38: =ROUND(C38*E38,0) -> 451184
C39: =SUM(C35:C38) -> 56.5 | F39: =SUM(F35:F38) -> 1508692 | G39: 1.12 | H39: =ROUND(F39*G39,0) -> 1689735
A41: 3.Vidējais gada riska maksājuma apmērs par vienu ārstniecības personu*
A42: Vienas riska vienības vērtība, EUR | B42: 14.613292
A43: Plānotā maksimālā izmaksas summa 2025.gadā, EUR | B43: =H39 -> 1689735
A44: * Aprēķinot vidējā riska maksājuma apmēru par vienu ārstniecības personu 2025.gadam, dati (dati uz 02.01.2025.) Ārstniecības personu un ārstniecības atbalsta personu reģistrā precizēti, ņemot vērā no reģistra svītrotās iestādes, kuras 2025.gadā vairs neveic darbību, kā arī aprēķinā nav iekļautas iestādes, kas atrodas reģistrā, bet neveic ārstnieciskas darbības (sarakstu skatīt 5.punktā)

Sheet 2026_2028_iemaksu_prognoze
I1: 3. Pielikums noteikumu projekta "Grozījumi Ministru kabineta 2013. gada 5. novembra noteikumos Nr. 1268 "Ārstniecības riska fonda darbības noteikumi"" anotācijai
A3: Indikatīvi prognozētās saņemtās riska maksājuma kopsummas 2026. - 2028. gadam, atbilstoši esošajam regulējumam un noteikumu projektā plānotajam regulējumam *
A5: Aprēķins iemaksājamai riska maksājumu kopsummai 2026.gadā, atbilstoši esošajam regulējumam (4 gadi) | G5: Aprēķins iemaksājamai riska maksājumu kopsummai 2026.gadā, atbilstoši noteikumu projektā plānotajam regulējumam (2 gadi)
B6: Izmaksāto atlīdzību kopsumma, euro | C6: Koeficients, ņemot vērā neizskatīto atlīdzības pieprasījumu lietu skaitu (K) ** | D6: Indikatīvi prognozētā ĀRF iemaksājamā riska maksājuma kopsumma 2026.gadā, euro | H6: Izmaksāto atlīdzību kopsumma, euro | I6: Koeficients, ņemot vērā neizskatīto atlīdzības pieprasījumu lietu skaitu (K) ** | J6: Indikatīvi prognozētā ĀRF iemaksājamā riska maksājuma kopsumma 2027. - 2028. gadā, euro | M6: Noteikumu projekta ietekme 2026. gadam, mainot formulā izmaksājamo atlīdzību kopsummu no 4 uz 2 gadiem, euro
A7: Izmaksāto atlīdzību kopsumma pēdējiem 4 gadiem | B7: ='ĀRF_finansējums_2014-2028'!K13+'ĀRF_finansējums_2014-2028'!L13+'ĀRF_finansējums_2014-2028'!M13+'ĀRF_finansējums_2014-2028'!O13 -> 8472871 | G7: Izmaksāto atlīdzību kopsumma pēdējiem 2 gadiem | H7: ='ĀRF_finansējums_2014-2028'!M13+'ĀRF_finansējums_2014-2028'!O13 -> 5594937
A8: Izmaksātā vidējā atlīdzība vidēji vienā gadā | B8: =ROUND(B7/4,0) -> 2118218 | C8: ='2025_iemaksu_aprēķins'!G39 -> 1.12 | D8: =ROUND(B8*C8,0) -> 2372404 | G8: Izmaksātā vidējā atlīdzība vidēji vienā gadā | H8: =ROUND(H7/2,0) -> 2797469 | I8: ='2025_iemaksu_aprēķins'!G39 -> 1.12 | J8: =ROUND(H8*I8,0) -> 3133165 | M8: =J8-D8 -> 760761
A10: Aprēķins iemaksājamai riska maksājumu kopsummai 2027. - 2028. gadā, atbilstoši esošajam regulējumam (4 gadi) | G10: Aprēķins iemaksājamai riska maksājumu kopsummai 2027. - 2028. gadā, atbilstoši noteikumu projektā plānotajam regulējumam (2 gadi)
B11: Izmaksāto atlīdzību kopsumma, euro | C11: Koeficients, ņemot vērā neizskatīto atlīdzības pieprasījumu lietu skaitu (K) ** | D11: Indikatīvi prognozētā ĀRF iemaksājamā riska maksājuma kopsumma 2026.gadā, euro | H11: Izmaksāto atlīdzību kopsumma, euro | I11: Koeficients, ņemot vērā neizskatīto atlīdzības pieprasījumu lietu skaitu (K) ** | J11: Indikatīvi prognozētā ĀRF iemaksājamā riska maksājuma kopsumma 2027. - 2028. gadā, euro | M11: Noteikumu projekta ietekme 2027. - 2028. gadam, mainot formulā izmaksājamo atlīdzību kopsummu no 4 uz 2 gadiem, euro
A12: Izmaksāto atlīdzību kopsumma pēdējiem 4 gadiem | B12: ='ĀRF_finansējums_2014-2028'!L13+'ĀRF_finansējums_2014-2028'!M13+'ĀRF_finansējums_2014-2028'!O13+'ĀRF_finansējums_2014-2028'!P13 -> 10883171 | G12: Izmaksāto atlīdzību kopsumma pēdējiem 2 gadiem | H12: ='ĀRF_finansējums_2014-2028'!P13+'ĀRF_finansējums_2014-2028'!Q13 -> 7554180
A13: Izmaksātā vidējā atlīdzība vidēji vienā gadā | B13: =ROUND(B12/4,0) -> 2720793 | C13: ='2025_iemaksu_aprēķins'!G39 -> 1.12 | D13: =ROUND(B13*C13,0) -> 3047288 | G13: Izmaksātā vidējā atlīdzība vidēji vienā gadā | H13: =ROUND(H12/2,0) -> 3777090 | I13: ='2025_iemaksu_aprēķins'!G39 -> 1.12 | J13: =ROUND(H13*I13,0) -> 4230341 | M13: =J13-D13 -> 1183053
A15: * Prognoze 2026. - 2028. gadam ir indikatīva, jo faktiskai gada prognozei ir nepieciešama iepriekšējā gada pilni dati par iesniegto un izskatīto iesniegumu skaitu, kopējo atlīdzības izmaksu un iesniegumu skaitu pa grupām
A16: ** Koeficients tiek ņemts no 2025. gadu iemaksu aprēķina, kas ir pēdējais pieejamais, 2026. gadam būtu jāaprēķina pēc pilna 2025. gada datiem par saņemto, izskatīto iesniegumu skaitu

Sheet Ārstniecības_iestāžu_maksājumi
F1: 4. Pielikums noteikumu projekta "Grozījumi Ministru kabineta 2013. gada 5. novembra noteikumos Nr. 1268 "Ārstniecības riska fonda darbības noteikumi"" anotācijai
A3: Riska maksājuma kospummu 2026. - 2028. gadam, veicot izmaiņas formulā ietvertajos rādītājos S un A par atskaites periodu no četru gadu datiem uz datiem par pēdējiem diviem gadiem, pa ārtniecības iestāžu veidiem
A5: Riska grupa | B5: Riska koeficients | C5: Ārstniecības personu darba vietu skaits atbilstoši specialitātei (dati no 2025. gada aprēķina) | D5: Riska apjoms kopā
A6: I | B6: 10 | C6: 3022 | D6: =B6*C6 -> 30220
A7: II | B7: 8 | C7: 2309 | D7: =B7*C7 -> 18472
A8: III | B8: 5 | C8: 8761 | D8: =B8*C8 -> 43805
A9: IV | B9: 2 | C9: 2994 | D9: =B9*C9 -> 5988
A10: V | B10: 1 | C10: 3278 | D10: =B10*C10 -> 3278
A11: VI | B11: 0.5 | C11: 27734 | D11: =B11*C11 -> 13867
A12: Kopā | C12: =SUM(C6:C11) -> 48098 | D12: =SUM(D6:D11) -> 115630
A14: Riska koeficienti un riska apjomi
B15: Formulā izmanto 4 pēdējos gadus (esošais regulējums) | C15: Formulā izmanto 4 pēdējos gadus (esošais regulējums) | D15: Formulā izmanto 2 pēdējos gadus (plānotais regulējums) | E15: Formulā izmanto 4 pēdējos gadus (esošais regulējums) | F15: Formulā izmanto 2 pēdējos gadus (plānotais regulējums)
B16: 2025.gadam | C16: 2026.gadam | E16: 2027. - 2028. gadam
A17: Vienas riska vienības vērtība (M) | B17: =B18/D12 -> 14.613292 | C17: =C18/D12 -> 20.517201 | D17: =D18/D12 -> 27.096472 | E17: =E18/D12 -> 26.353787 | F17: =F18/D12 -> 36.585155
A18: Indikatīvi prognozētā ĀRF iemaksājamā riska maksājuma kopsumma, euro | B18: ='ĀRF_finansējums_2014-2028'!O9 -> 1689735 | C18: ='2026_2028_iemaksu_prognoze'!D8 -> 2372404 | D18: ='2026_2028_iemaksu_prognoze'!J8 -> 3133165 | E18: 3047288.4 | F18: 4230341.4
A19: Noteikumu projekta ietekme, mainot formulā izmaksājamo atlīdzību kopsummu no 4 uz 2 gadiem, euro | D19: =D18-C18 -> 760761 | F19: =F18-E18 -> 1183053.1
A24: Ārstniecības iestādes nosaukums | B24: Riska grupa | C24: Riska koeficients (K) | D24: Ārstniecības personu darba vietu skaits atbilstoši specialitātei (D) | E24: Riska gada maksājums (Rm) 2025. gadam, euro | F24: Riska gada maksājums (Rm) 2026. gadam (esošais regulējums - 4 gadi), euro | G24: Riska gada maksājums (Rm) 2026. gadam (plānotais regulejums - 2 gadi), euro | H24: Riska gada maksājums (Rm) 2027. - 2028. gadam (esošais regulējums - 4 gadi), euro | I24: Riska gada maksājums (Rm) 2027. - 2028. gadam (plānotais regulejums - 2 gadi), euro
A25: Ģimenes ārsta prakse (1 ārsts un 1 māsa) | B25: III (ģimenes (vispārējās prakses) ārsts) | C25: 5 | D25: 1 | E25: =ROUND($B$17*C25*D25,2) -> 73.07 | F25: =ROUND(C17*C25*D25,2) -> 102.59 | G25: =ROUND(D17*C25*D25,2) -> 135.48 | H25: =ROUND(C25*D25*E17,2) -> 131.77 | I25: =ROUND(C25*D25*F17,2) -> 182.93
B26: VI (māsa) | C26: 0.5 | D26: 1 | E26: =ROUND(B17*C26*D26,2) -> 7.31 | F26: =ROUND(C17*C26*D26,2) -> 10.26 | G26: =ROUND(D17*C26*D26,2) -> 13.55 | H26: =ROUND(C26*D26*E17,2) -> 13.18 | I26: =ROUND(C26*D26*F17,2) -> 18.29
A27: KOPĀ | E27: =E25+E26 -> 80.38 | F27: =F25+F26 -> 112.85 | G27: =G25+G26 -> 149.03 | H27: =H25+H26 -> 144.95 | I27: =I25+I26 -> 201.22
A28: Noteikumu projekta ietekme, mainot formulā izmaksājamo atlīdzību kopsummu no 4 uz 2 gadiem | G28: =G27-F27 -> 36.18 | I28: =I27-H27 -> 56.27
A30: Ārstniecības iestādes nosaukums | B30: Riska grupa | C30: Riska koeficients (K) | D30: Ārstniecības personu darba vietu skaits atbilstoši specialitātei (D) | E30: Riska gada maksājums (Rm) 2025. gadam, euro | F30: Riska gada maksājums (Rm) 2026. gadam (esošais regulējums - 4 gadi), euro | G30: Riska gada maksājums (Rm) 2026. gadam (plānotais regulejums - 2 gadi), euro | H30: Riska gada maksājums (Rm) 2027. - 2028. gadam (esošais regulējums - 4 gadi), euro | I30: Riska gada maksājums (Rm) 2027. - 2028. gadam (plānotais regulejums - 2 gadi), euro
A31: Slimnīca Nr.1 (KUS) | B31: I | C31: 10 | D31: 226 | E31: =ROUND($B$17*C31*D31,2) -> 33026.04 | F31: =ROUND($C$17*C31*D31,2) -> 46368.88 | G31: =ROUND($D$17*C31*D31,2) -> 61238.03 | H31: =ROUND($E$17*C31*D31,2) -> 59559.56 | I31: =ROUND($F$17*C31*D31,2) -> 82682.45
B32: II | C32: 8 | D32: 300 | E32: =ROUND($B$17*C32*D32,2) -> 35071.9 | F32: =ROUND($C$17*C32*D32,2) -> 49241.28 | G32: =ROUND($D$17*C32*D32,2) -> 65031.53 | H32: =ROUND($E$17*C32*D32,2) -> 63249.09 | I32: =ROUND($F$17*C32*D32,2) -> 87804.37
B33: III | C33: 5 | D33: 568 | E33: =ROUND($B$17*C33*D33,2) -> 41501.75 | F33: =ROUND($C$17*C33*D33,2) -> 58268.85 | G33: =ROUND($D$17*C33*D33,2) -> 76953.98 | H33: =ROUND($E$17*C33*D33,2) -> 74844.75 | I33: =ROUND($F$17*C33*D33,2) -> 103901.84
B34: IV | C34: 2 | D34: 36 | E34: =ROUND($B$17*C34*D34,2) -> 1052.16 | F34: =ROUND($C$17*C34*D34,2) -> 1477.24 | G34: =ROUND($D$17*C34*D34,2) -> 1950.95 | H34: =ROUND($E$17*C34*D34,2) -> 1897.47 | I34: =ROUND($F$17*C34*D34,2) -> 2634.13
B35: V | C35: 1 | D35: 279 | E35: =ROUND($B$17*C35*D35,2) -> 4077.11 | F35: =ROUND($C$17*C35*D35,2) -> 5724.3 | G35: =ROUND($D$17*C35*D35,2) -> 7559.92 | H35: =ROUND($E$17*C35*D35,2) -> 7352.71 | I35: =ROUND($F$17*C35*D35,2) -> 10207.26
B36: VI | C36: 0.5 | D36: 2138 | E36: =ROUND($B$17*C36*D36,2) -> 15621.61 | F36: =ROUND($C$17*C36*D36,2) -> 21932.89 | G36: =ROUND($D$17*C36*D36,2) -> 28966.13 | H36: =ROUND($E$17*C36*D36,2) -> 28172.2 | I36: =ROUND($F$17*C36*D36,2) -> 39109.53
A37: KOPĀ | E37: =SUM(E31:E36) -> 130350.57 | F37: =SUM(F31:F36) -> 183013.44 | G37: =SUM(G31:G36) -> 241700.54 | H37: =SUM(H31:H36) -> 235075.78 | I37: =SUM(I31:I36) -> 326339.58
A38: Noteikumu projekta ietekme, mainot formulā izmaksājamo atlīdzību kopsummu no 4 uz 2 gadiem | G38: =G37-F37 -> 58687.1 | I38: =I37-H37 -> 91263.8
A40: Ārstniecības iestādes nosaukums | B40: Riska grupa | C40: Riska koeficients (K) | D40: Ārstniecības personu darba vietu skaits atbilstoši specialitātei (D) | E40: Riska gada maksājums (Rm) 2025. gadam, euro | F40: Riska gada maksājums (Rm) 2026. gadam (esošais regulējums - 4 gadi), euro | G40: Riska gada maksājums (Rm) 2026. gadam (plānotais regulejums - 2 gadi), euro | H40: Riska gada maksājums (Rm) 2027. - 2028. gadam (esošais regulējums - 4 gadi), euro | I40: Riska gada maksājums (Rm) 2027. - 2028. gadam (plānotais regulejums - 2 gadi), euro
A41: Slimnīca Nr.2 (reģionālā slimnīca) | B41: I | C41: 10 | D41: 13 | E41: =ROUND($B$17*C41*D41,2) -> 1899.73 | F41: =ROUND($C$17*C41*D41,2) -> 2667.24 | G41: =ROUND($D$17*C41*D41,2) -> 3522.54 | H41: =ROUND($E$17*C41*D41,2) -> 3425.99 | I41: =ROUND($F$17*C41*D41,2) -> 4756.07
B42: II | C42: 8 | D42: 11 | E42: =ROUND($B$17*C42*D42,2) -> 1285.97 | F42: =ROUND($C$17*C42*D42,2) -> 1805.51 | G42: =ROUND($D$17*C42*D42,2) -> 2384.49 | H42: =ROUND($E$17*C42*D42,2) -> 2319.13 | I42: =ROUND($F$17*C42*D42,2) -> 3219.49
B43: III | C43: 5 | D43: 62 | E43: =ROUND($B$17*C43*D43,2) -> 4530.12 | F43: =ROUND($C$17*C43*D43,2) -> 6360.33 | G43: =ROUND($D$17*C43*D43,2) -> 8399.91 | H43: =ROUND($E$17*C43*D43,2) -> 8169.67 | I43: =ROUND($F$17*C43*D43,2) -> 11341.4
B44: IV | C44: 2 | D44: 4 | E44: =ROUND($B$17*C44*D44,2) -> 116.91 | F44: =ROUND($C$17*C44*D44,2) -> 164.14 | G44: =ROUND($D$17*C44*D44,2) -> 216.77 | H44: =ROUND($E$17*C44*D44,2) -> 210.83 | I44: =ROUND($F$17*C44*D44,2) -> 292.68
B45: V | C45: 1 | D45: 6 | E45: =ROUND($B$17*C45*D45,2) -> 87.68 | F45: =ROUND($C$17*C45*D45,2) -> 123.1 | G45: =ROUND($D$17*C45*D45,2) -> 162.58 | H45: =ROUND($E$17*C45*D45,2) -> 158.12 | I45: =ROUND($F$17*C45*D45,2) -> 219.51
B46: VI | C46: 0.5 | D46: 93 | E46: =ROUND($B$17*C46*D46,2) -> 679.52 | F46: =ROUND($C$17*C46*D46,2) -> 954.05 | G46: =ROUND($D$17*C46*D46,2) -> 1259.99 | H46: =ROUND($E$17*C46*D46,2) -> 1225.45 | I46: =ROUND($F$17*C46*D46,2) -> 1701.21
A47: KOPĀ | E47: =SUM(E41:E46) -> 8599.93 | F47: =SUM(F41:F46) -> 12074.37 | G47: =SUM(G41:G46) -> 15946.28 | H47: =SUM(H41:H46) -> 15509.19 | I47: =SUM(I41:I46) -> 21530.36
A48: Noteikumu projekta ietekme, mainot formulā izmaksājamo atlīdzību kopsummu no 4 uz 2 gadiem | G48: =G47-F47 -> 3871.91 | I48: =I47-H47 -> 6021.17
