Workbook
Name PPP: #REF!
Name q: #REF!
Name q: #REF!
Name q: #REF!
Name q: #REF!
Name q: #REF!
Name q: #REF!
Name s: #REF!
Name ssss: #REF!
Name ssss: #REF!
Name ssss: #REF!
Name ssss: #REF!
Name ssss: #REF!
Name ssss: #REF!
Name Valsts_policijas_amatpersonas_ar_speciālo_dienesta_pakāpi_dalība_Eiropas_Savienības_policijas_misijā_Gruzijā__EUMM_GEORGIA_________M.Štange__līdz_2019.gada_28.februārim: #REF!
Name Valsts_policijas_amatpersonas_ar_speciālo_dienesta_pakāpi_dalība_Eiropas_Savienības_policijas_misijā_Gruzijā__EUMM_GEORGIA_________M.Štange__līdz_2019.gada_28.februārim: #REF!
Name Valsts_policijas_amatpersonas_ar_speciālo_dienesta_pakāpi_dalība_Eiropas_Savienības_policijas_misijā_Gruzijā__EUMM_GEORGIA_________M.Štange__līdz_2019.gada_28.februārim: #REF!
Name Valsts_policijas_amatpersonas_ar_speciālo_dienesta_pakāpi_dalība_Eiropas_Savienības_policijas_misijā_Gruzijā__EUMM_GEORGIA_________M.Štange__līdz_2019.gada_28.februārim: #REF!
Name Valsts_policijas_amatpersonas_ar_speciālo_dienesta_pakāpi_dalība_Eiropas_Savienības_policijas_misijā_Gruzijā__EUMM_GEORGIA_________M.Štange__līdz_2019.gada_28.februārim: #REF!
Name Valsts_policijas_amatpersonas_ar_speciālo_dienesta_pakāpi_dalība_Eiropas_Savienības_policijas_misijā_Gruzijā__EUMM_GEORGIA_________M.Štange__līdz_2019.gada_28.februārim: #REF!
Name z: #REF!
Name z: #REF!
Name z: #REF!
Name z: #REF!
Name z: #REF!
Name z: #REF!

Sheet K.Eiduka
A1: IZDEVUMU APRĒĶINS
A2: Valsts policijas amatpersonas ar speciālo dienesta pakāpi dalība Eiropas Savienības novērošanas misijā Gruzijā (EUMM GEORGIA) Kristīne Eiduka (19.02.2026.-18.02.2027.)
A5: EUMM GEORGIA (19.02.2026.-31.12.2026.) | C5: 2026.gads
A6: Izdevumi kopā | C6: =C7+C11 -> 46454
A7: 1000 | B7: Atlīdzība | C7: =SUM(C8:C10) -> 31293
A8: 1149 | B8: Citas normatīvajos aktos noteiktās piemaksas, kas nav iepriekš klasificētas Ministru kabineta 2021. gada 07. decembra noteikumos Nr. 793 amatpersonai atbilstoši amata līmenim noteiktais piemaksas apmērs gadā 23 193 euro gadā (mēnesī 1 932,75 euro) (Operacionālais amata līmenis). Koeficients - 1,4; (1 932,75 euro × 1,4 × 9 mēn.) + (1 932,75 euro × 1,4 : 28 d. × 10 d.) = 25 320 euro* | C8: =ROUNDUP((((B31*1.4))/28*10)+(B31*1.4*9),0) -> 25320
A9: 1210 | B9: Darba devēja valsts sociālās apdrošināšanas obligātās iemaksas 23,59% no EKK 1149 summas (25 320 euro × 23,59 %) = 5 973 euro | C9: =ROUND(C8*0.2359,0) -> 5973
A10: 1226 | B10: Dienesta pienākumu izpildei nepieciešamā apģērba iegādes kompensācija Kompensācijas apmērs gadā - 120,94 euro
A11: 2000 | B11: Preces un pakalpojumi | C11: =SUM(C12:C16) -> 15161
A12: 2122 | B12: Pārējie komandējumu un darba braucienu izdevumi Ceļa izdevumi: Vienam braucienam un bagāžai 560,00 euro; reizi kalendāra gadā ceļa izdevumi dodoties uz Latviju un atgriežoties no Latvijas, ievērojot, ka dalības laiks tiek pagarināts, šim mērķim paredzami izdevumi, kas jau 2026.gadā plānoti, lai amatpersona atgrieztos Latvijā. Apdrošināšana par ceļojuma dienām 2,00 euro par 1 dienu 560,00 euro + 2,00 euro = 562 euro. | C12: =ROUNDUP(560+2,0) -> 562
A13: 2238 | B13: Ārvalstīs nodarbināto amatpersonu (darbinieku) kompensācijas Saskaņā ar Ministru kabineta 2021.gada 07.decembra noteikumiem Nr.793 atbilstoši amata līmenim (operacionālais amata līmenis) izdevumu kompensācijas apmērs amatpersonām par dzīvokļa (dzīvojamās telpas) īri un citiem pakalpojumiem, kas saistīti ar dzīvojamās telpas lietošanu 15 793,88 euro gadā (mēnesī 1 316,16 euro). (15 793,88 euro (gadā) : 12 mēn. × 10 mēn.) + (1 316,16 euro : 28 d. × 10 d.) = 13 632 euro. | C13: =ROUNDUP((B35/12*10)+((B36/28)*10),0) -> 13632
A14: 2312
A15: 2364 | B15: Formas tērpi un speciālais apģērbs Saskaņā Valsts policijas 2024.gada 12.jūnija iekšējiem noteikumiem Nr.8.“Noteikumi par Valsts policijas un Valsts policijas koledžas amatpersonu ar speciālajām dienesta pakāpēm formas tērpu, atšķirības zīmēm, speciālo apģērbu, individuālajiem aizsardzības līdzekļiem un inventāru, atpazīšanas zīmju aprakstu un darbinieku darba apģērbu” Valsts policijas amatpersonas var lūgt atjaunot formas tērpu, ja tas ir nolietots un lūgt izsniegt jaunu. Atsevišām formas tērpa daļām - specapģērbam, ekipējumam lietošanas termiņš ir sasniedzīs lietošanas termiņa beigas. Formas tērpa atjaunošanas izdevumi sastāda 967,00 euro, tai skaitā: Jaka - 121 euro; Pulovers - 72,60 euro; Sporta tērps - 129,47 euro; Zeķes - 6,05 euro × 3 pāri = 18,15 euro; Zeķes - 15,73 euro × 3 pāri = 47,19 euro; Šņorzābaki - 139,15 euro; Sporta apavi - 96,80 euro; Termoss - 36,30 euro; Bikses - 78,65 euro × 2.gab. = 157,30 euro; Krekls ar garām piedurknēm - 78,65 euro; Krekls ar īsām piedurknēm - 70,18 euro. | C15: =ROUNDUP(121+72.6+129.47+18.15+47.19+139.15+96.8+36.3+157.3+78.65+70.18,0) -> 967
A16: 2389
C18: euro
A19: EUMM GEORGIA (01.01.2027.-18.02.2027.) | C19: 2027.gads
A20: Izdevumi kopā | C20: =C21+C24 -> 11564.16
A21: 1000 | B21: Atlīdzība | C21: =SUM(C22:C23) -> 8839.16
A22: 1149 | B22: Citas normatīvajos aktos noteiktās piemaksas, kas nav iepriekš klasificētas Ministru kabineta 2021. gada 07. decembra noteikumos Nr. 793 amatpersonai atbilstoši amata līmenim noteiktais piemaksas apmērs gadā 23 193 euro (mēnesī 1 932,75 euro) (Operacionālais amata līmenis). Koeficients - 1,4; (1 932,75 euro × 1,4 × 2 mēn.) + (1 932,75 euro × 1,4 : 28 d. × 18 d) = 7 152 euro * | C22: =ROUNDUP((((B31*1.4))/28*18)+(B31*1.4*2),0) -> 7152
A23: 1210 | B23: Darba devēja valsts sociālās apdrošināšanas obligātās iemaksas 23,59% no EKK 1149 summas (7 152 euro × 23,59 %) = 1 687 euro | C23: =ROUNDUP(C22*0.2359,2) -> 1687.16
A24: 2000 | B24: Preces un pakalpojumi | C24: =SUM(C25:C26) -> 2725
A25: 2122 | B25: Pārējie komandējumu un darba braucienu izdevumi Ceļa izdevumi: Vienam braucieniem un bagāžai (atgriežoties Latvijā) 560 euro; Apdrošināšana par ceļojuma dienām 2,00 euro par 1 dienu 560 euro + 2,00 euro = 562 euro. Finansējums ceļa izdevumiem 2026.gadam, kas piešķirts iepriekšējā gadā (kad šīm amatpersonām jau tika pagarināts dalības laiks misijā), bija plānots amatpersonām, lai amatpersona atgrieztos Latvijā pēc misijas pabeigšanas. Ņemot vērā, ka dalības laiks misijā ir pagarināts, amatpersonai būs tiesības 2026.gadā izmantot ikgadējo atvaļinājumu (dodoties uz Latviju). Līdz ar to faktiski nepieciešamais finansējums ceļa izdevumiem 2026.gadam ir 1 124 euro ((560,00 euro + 2,00 euro) x 2 = 1 124 euro), to tiem finansējums 562 euro piešķirts iepriekšējā gadā un 562 euro pieprasīts papildus. | C25: =ROUNDUP(560*1+2*1,0) -> 562
A26: 2238 | B26: Ārvalstīs nodarbināto amatpersonu (darbinieku) kompensācijas Saskaņā ar Ministru kabineta 2021.gada 07.decembra noteikumiem Nr.793 atbilstoši amata līmenim (operacionālais amata līmenis) izdevumu kompensācijas apmērs amatpersonām par dzīvokļa (dzīvojamās telpas) īri un citiem pakalpojumiem, kas saistīti ar dzīvojamās telpas lietošanu 15 793,88 euro gadā (mēnesī 1 316,16 euro). (15 793,88 euro (gadā) : 12 mēn. × 1 mēn.) + (1 316,16 euro : 28 d. × 18 d.) = 2 163 euro. | C26: =ROUNDUP((B35/12*1)+((B36/28)*18),0) -> 2163
A27: *Izdevumi atlīdzībai Valsts policijas amatpersonas ar speciālo dienesta pakāpi dalības nodrošināšanai Eiropas Savienības misijā Gruzijā (EUMM Georgia) tiek attiecināti atbilstoši faktiskajam atlīdzības izmaksas periodam, proti, atlīdzības izdevumi par kalendāra gada decembra mēnesi tiek iekļauti nākamā gada izdevumos.
B29: Operacionālais amata līmenis (Ministru kabineta 2021. gada 07. decembra noteikumos Nr. 793 amatpersonai atbilstoši amata līmenim noteiktais piemaksas apmērs gadā 23 193 euro (mēnesī 1 932,75 euro)
A30: gadā | B30: 23193
A31: mēnesī | B31: =ROUND(B30/12,2) -> 1932.75 | C31: =ROUND(B31*1.4,2) -> 2705.85
B34: Operacionālais amata līmenis (Atbilstoši amata līmenim (operacionālais amata līmenis) izdevumu kompensācijas apmērs amatpersonām par dzīvokļa (dzīvojamās telpas) īri un citiem pakalpojumiem, kas saistīti ar dzīvojamās telpas lietošanu
A35: gadā | B35: 15793.88
A36: mēnesī | B36: =ROUND(B35/12,2) -> 1316.16

Sheet D.Kosarevs
A1: IZDEVUMU APRĒĶINS
A2: Valsts policijas amatpersonas ar speciālo dienesta pakāpi dalība Eiropas Savienības novērošanas misijā Gruzijā (EUMM GEORGIA) Dmitrijs Kosarevs (13.05.2025.-12.05.2026.)
C4: euro
A5: EUMM GEORGIA (13.05.2025.-31.12.2025.) | C5: 2025.gads
A6: Izdevumi kopā | C6: =C7+C11 -> 0
A7: 1000 | B7: Atlīdzība | C7: =SUM(C8:C10) -> 0
A8: 1149 | B8: Citas normatīvajos aktos noteiktās piemaksas, kas nav iepriekš klasificētas Ministru kabineta 2021. gada 07. decembra noteikumos Nr. 793 amatpersonai atbilstoši amata līmenim noteiktais piemaksas apmērs gadā 23 193 euro gadā (mēnesī 1 932,75 euro) (Operacionālais amata līmenis). Koeficients - 1,4; (1 932,75 euro × 1,4 × 6 mēn.) + (1 932,75 euro × 1,4 : 31 d. × 19 d.) = 17 893,52 euro *
A9: 1210 | B9: Darba devēja valsts sociālās apdrošināšanas obligātās iemaksas 23,59% no EKK 1149 summas (17 893,52 euro × 23,59 %) = 4 221,08 euro
A10: 1226 | B10: Dienesta pienākumu izpildei nepieciešamā apģērba iegādes kompensācija Kompensācijas apmērs gadā - 120,94 euro
A11: 2000 | B11: Preces un pakalpojumi | C11: =SUM(C12:C16) -> 0
A12: 2122 | B12: Pārējie komandējumu un darba braucienu izdevumi Ceļa izdevumi: Vienam braucienam un bagāžai 560,00 euro; reizi kalendāra gadā ceļa izdevumi dodoties uz Latviju un atgriežoties no Latvijas, ievērojot, ka dalības laiks tiek pagarināts, šim mērķim paredzami izdevumi, kas jau 2025.gadā plānoti, lai amatpersona atgrieztos Latvijā. Apdrošināšana par ceļojuma dienām 2,00 euro par 1 dienu 560,00 euro + 2,00 euro = 562,00 euro.
A13: 2238 | B13: Ārvalstīs nodarbināto amatpersonu (darbinieku) kompensācijas Dzīvokļa (dzīvojamās telpas) īres un citi pakalpojumi, kas saistīti ar dzīvojamās telpas lietošanu gadā 15 793,88 euro (mēnesī 1 316,16 euro) (15 793,88 euro: 12 mēn. × 7 mēn.) + (1 316,16 euro: 31 d. × 19 d.) =10 019,78 euro
A14: 2312
A15: 2364 | B15: Formas tērpi un speciālais apģērbs Saskaņā Valsts policijas 2024.gada 12.jūnija iekšējiem noteikumiem Nr.8.“Noteikumi par Valsts policijas un Valsts policijas koledžas amatpersonu ar speciālajām dienesta pakāpēm formas tērpu, atšķirības zīmēm, speciālo apģērbu, individuālajiem aizsardzības līdzekļiem un inventāru, atpazīšanas zīmju aprakstu un darbinieku darba apģērbu” Valsts policijas amatpersonas var lūgt atjaunot formas tērpu, ja tas ir nolietots un lūgt izsniegt jaunu. Atsevišām formas tērpa daļām - specapģērbam, ekipējumam lietošanas termiņš ir sasniedzīs lietošanas termiņa beigas. Formas tērpa atjaunošanas izdevumi sastāda 967,00 euro, tai skaitā: Jaka - 121 euro; Pulovers - 72,60 euro; Sporta tērps - 129,47 euro; Zeķes - 6,05 euro × 3 pāri = 18,15 euro; Zeķes - 15,73 euro × 3 pāri = 47,19 euro; Šņorzābaki - 139,15 euro; Sporta apavi - 96,80 euro; Termoss - 36,30 euro; Bikses - 78,65 euro × 2.gab. = 157,30 euro; Krekls ar garām piedurknēm - 78,65 euro; Krekls ar īsām piedurknēm - 70,18 euro.
A16: 2389
C18: euro
A19: EUMM GEORGIA (01.01.2026.-12.05.2026.) | C19: 2026.gads
A20: Izdevumi kopā | C20: =C21+C24 -> 0
A21: 1000 | B21: Atlīdzība | C21: =SUM(C22:C23) -> 0
A22: 1149 | B22: Citas normatīvajos aktos noteiktās piemaksas, kas nav iepriekš klasificētas Ministru kabineta 2021. gada 07. decembra noteikumos Nr. 793 amatpersonai atbilstoši amata līmenim noteiktais piemaksas apmērs gadā 23 193 euro (mēnesī 1 932,75 euro) (Operacionālais amata līmenis). Koeficients - 1,4; (1 932,75 euro × 1,4 × 5 mēn.) + (1 932,75 euro × 1,4 : 31 d. × 12 d.) = 14 576,68 euro *
A23: 1210 | B23: Darba devēja valsts sociālās apdrošināšanas obligātās iemaksas 23,59% no EKK 1149 summas (14 576,68 euro × 23,59 %) = 3 438,71 euro
A24: 2000 | B24: Preces un pakalpojumi | C24: =SUM(C25:C26) -> 0
A25: 2122 | B25: Pārējie komandējumu un darba braucienu izdevumi Ceļa izdevumi: Vienam braucieniem un bagāžai 560 euro; Apdrošināšana par ceļojuma dienām 2,00 euro par 1 dienu 560 euro + 2,00 euro = 562,00 euro.
A26: 2238 | B26: Ārvalstīs nodarbināto amatpersonu (darbinieku) kompensācijas Dzīvokļa (dzīvojamās telpas) īres un komunālo pakalpojumu izdevumi: (15 793,88 euro (gadā) : 12 mēn. × 4 mēn.) + (1 316,16 euro : 31 d. × 12 d.) = 5 774,11 euro.
A27: *Izdevumi atlīdzībai Valsts policijas amatpersonas ar speciālo dienesta pakāpi dalības nodrošināšanai Eiropas Savienības misijā Gruzijā (EUMM Georgia) tiek attiecināti atbilstoši faktiskajam atlīdzības izmaksas periodam, proti, atlīdzības izdevumi par kalendāra gada decembra mēnesi tiek iekļauti nākamā gada izdevumos.
B29: Operacionālais amata līmenis
A30: gadā | B30: 23193
A31: mēnesī | B31: 1932.75
B34: Operacionālais amata līmenis
A35: gadā | B35: 15793.88
A36: mēnesī | B36: =ROUND(B35/12,2) -> 1316.16

Sheet O.Lagutins
A1: IZDEVUMU APRĒĶINS
A2: Valsts policijas amatpersonas ar speciālo dienesta pakāpi dalība Eiropas Savienības novērošanas misijā Gruzijā (EUMM GEORGIA) Oļegs Lagutins (07.01.2026.-06.01.2027.)
C4: euro
A5: EUMM GEORGIA (07.01.2026.-31.12.2026.) | C5: 2026.gads
A6: Izdevumi kopā | C6: =C7+C11 -> 44057
A7: 1000 | B7: Atlīdzība | C7: =SUM(C8:C10) -> 30818
A8: 1149 | B8: Citas normatīvajos aktos noteiktās piemaksas, kas nav iepriekš klasificētas Ministru kabineta 2021.gada 7.decembra noteikumos Nr.793 amatpersonai atbilstoši amata līmenim noteiktais piemaksas apmērs gadā 19 778 euro (mēnesī 1 648,17 euro) (Taktiskais amata līmenis). Koeficients - 1,4; (1 648,17 euro × 1,4 × 10 mēn.) + (1 648,17 euro × 1,4 : 31 d. × 25 d.) =24 936 euro * | C8: =ROUNDUP((((B32*1.4))/31*25)+(B32*1.4*10),0) -> 24936
A9: 1210 | B9: Darba devēja valsts sociālās apdrošināšanas obligātās iemaksas 23,59% no EKK 1149 summas (24 936 euro × 23,59 %) = 5 882 euro | C9: =ROUND(C8*0.2359,0) -> 5882
A10: 1226 | B10: Dienesta pienākumu izpildei nepieciešamā apģērba iegādes kompensācija Kompensācijas apmērs gadā - 120,94 euro
A11: 2000 | B11: Preces un pakalpojumi | C11: =SUM(C12:C16) -> 13239
A12: 2122 | B12: Pārējie komandējumu un darba braucienu izdevumi Ceļa izdevumi: Vienam braucienam un bagāžai 560,00 euro; reizi kalendāra gadā ceļa izdevumi dodoties uz Latviju un atgriežoties no Latvijas, ievērojot, ka dalības laiks tiek pagarināts, šim mērķim paredzami izdevumi, kas jau 2026.gadā plānoti, lai amatpersona atgrieztos Latvijā. Apdrošināšana par ceļojuma dienām 2,00 euro par 1 dienu 560,00 euro + 2,00 euro = 562 euro. | C12: =ROUNDUP(560+2,0) -> 562
A13: 2238 | B13: Ārvalstīs nodarbināto amatpersonu (darbinieku) kompensācijas Saskaņā ar Ministru kabineta 2021.gada 07.decembra noteikumiem Nr.793 atbilstoši amata līmenim (taktiskais amata līmenis) izdevumu kompensācijas apmērs amatpersonām par dzīvokļa (dzīvojamās telpas) īri un citiem pakalpojumiem, kas saistīti ar dzīvojamās telpas lietošanu 11 895,21 euro gadā (mēnesī 991,27 euro) (11 895,21 euro: 12 mēn. × 11 mēn.) + (991,27 euro: 31 d. × 25 d.) =11 704 euro | C13: =ROUNDUP((B40/12*11)+((B41/31)*25),0) -> 11704
A14: 2312
A15: 2364 | B15: Formas tērpi un speciālais apģērbs Saskaņā Valsts policijas 2024.gada 12.jūnija iekšējiem noteikumiem Nr.8.“Noteikumi par Valsts policijas un Valsts policijas koledžas amatpersonu ar speciālajām dienesta pakāpēm formas tērpu, atšķirības zīmēm, speciālo apģērbu, individuālajiem aizsardzības līdzekļiem un inventāru, atpazīšanas zīmju aprakstu un darbinieku darba apģērbu” Valsts policijas amatpersonas var lūgt atjaunot formas tērpu, ja tas ir nolietots un lūgt izsniegt jaunu. Atsevišām formas tērpa daļām - specapģērbam, ekipējumam lietošanas termiņš ir sasniedzīs lietošanas termiņa beigas. Formas tērpa atjaunošanas izdevumi sastāda 973,00 euro, tai skaitā: Jaka - 127,05 euro; Pulovers - 72,60 euro; Sporta tērps - 129,47 euro; Zeķes - 6,05 euro × 3 pāri = 18,15 euro; Zeķes - 15,73 euro × 3 pāri = 47,19 euro; Šņorzābaki - 139,15 euro; Sporta apavi - 96,80 euro; Termoss - 36,30 euro; Bikses - 78,65 euro × 2.gab. = 157,30 euro; Krekls ar garām piedurknēm - 78,65 euro; Krekls ar īsām piedurknēm - 70,18 euro. | C15: =ROUNDUP(127.05+72.6+129.47+18.15+47.19+139.15+96.8+36.3+157.3+78.65+70.18,0) -> 973
A16: 2389
C18: euro
A19: EUMM GEORGIA (01.01.2027.-06.01.2027.) | C19: 2027.gads
A20: Izdevumi kopā | C20: =C21+C24 -> 4159
A21: 1000 | B21: Atlīdzība | C21: =SUM(C22:C23) -> 3405
A22: 1149 | B22: Citas normatīvajos aktos noteiktās piemaksas, kas nav iepriekš klasificētas Ministru kabineta 2021.gada 7.decembra noteikumos Nr.793 amatpersonai atbilstoši amata līmenim noteiktais piemaksas apmērs gadā 19 778 euro (mēnesī 1 648,17 euro) (Taktiskais amata līmenis). Koeficients - 1,4; (1 648,17 euro × 1,4 × 1 mēn.) + (1 648,17 euro × 1,4 : 31 d. × 6 d.) =2 755 euro * | C22: =ROUNDUP((((B32*1.4))/31*6)+(B32*1.4*1),0) -> 2755
A23: 1210 | B23: Darba devēja valsts sociālās apdrošināšanas obligātās iemaksas 23,59% no EKK 1149 summas (2 755 euro × 23,59 %) = 650 euro | C23: =ROUNDUP(C22*0.2359,0) -> 650
A24: 2000 | B24: Preces un pakalpojumi | C24: =SUM(C25:C26) -> 754
A25: 2122 | B25: Pārējie komandējumu un darba braucienu izdevumi Ceļa izdevumi: Vienam braucieniem un bagāžai (atgriežoties Latvijā) 560 euro; Apdrošināšana par ceļojuma dienām 2,00 euro par 1 dienu 560 euro + 2,00 euro = 562 euro. Finansējums ceļa izdevumiem 2026.gadam, kas piešķirts iepriekšējā gadā (kad šīm amatpersonām jau tika pagarināts dalības laiks misijā), bija plānots amatpersonām, lai amatpersona atgrieztos Latvijā pēc misijas pabeigšanas. Ņemot vērā, ka dalības laiks misijā ir pagarināts, amatpersonai būs tiesības 2026.gadā izmantot ikgadējo atvaļinājumu (dodoties uz Latviju). Līdz ar to faktiski nepieciešamais finansējums ceļa izdevumiem 2026.gadam ir 1 124 euro ((560,00 euro + 2,00 euro) x 2 = 1 124 euro), to tiem finansējums 562 euro piešķirts iepriekšējā gadā un 562 euro pieprasīts papildus. | C25: =ROUNDUP(560*1+2*1,0) -> 562
A26: 2238 | B26: Ārvalstīs nodarbināto amatpersonu (darbinieku) kompensācijas Saskaņā ar Ministru kabineta 2021.gada 07.decembra noteikumiem Nr.793 atbilstoši amata līmenim (taktiskais amata līmenis) izdevumu kompensācijas apmērs amatpersonām par dzīvokļa (dzīvojamās telpas) īri un citiem pakalpojumiem, kas saistīti ar dzīvojamās telpas lietošanu 11 895,21 euro gadā (mēnesī 991,27 euro) (991,27 euro: 31 d. × 6 d.) =192 euro | C26: =ROUNDUP((B41/31)*6,0) -> 192
A27: *Izdevumi atlīdzībai Valsts policijas amatpersonas ar speciālo dienesta pakāpi dalības nodrošināšanai Eiropas Savienības misijā Gruzijā (EUMM Georgia) tiek attiecināti atbilstoši faktiskajam atlīdzības izmaksas periodam, proti, atlīdzības izdevumi par kalendāra gada decembra mēnesi tiek iekļauti nākamā gada izdevumos.
B30: Taktiskais amata līmenis
A31: gadā | B31: 19778
A32: mēnesī | B32: =ROUND(B31/12,2) -> 1648.17 | C32: =ROUND(B32*1.4,2) -> 2307.44
B39: Taktiskais amata līmenis | C39: 11895.21
A40: gadā | B40: =C39 -> 11895.21
A41: mēnesī | B41: =ROUND(B40/12,2) -> 991.27

Sheet M.Štange
A1: IZDEVUMU APRĒĶINS
A2: Valsts policijas amatpersona ar speciālo dienesta pakāpi dalība Eiropas Savienības novērošanas misijā Gruzijā (EUMM GEORGIA) Mārtiņš Štange (07.02.2025.- 02.03.2027.)
C4: euro
A5: EUMM GEORGIA (07.02.2026. - 31.12.2026.) | C5: 2026.gads
A6: Izdevumi kopā | C6: =C7+C11 -> 48450
A7: 1000 | B7: Atlīdzība | C7: =SUM(C8:C10) -> 32725
A8: 1149 | B8: Citas normatīvajos aktos noteiktās piemaksas, kas nav iepriekš klasificētas Ministru kabineta 2021. gada 07. decembra noteikumos Nr. 793 amatpersonai atbilstoši amata līmenim noteiktais piemaksas apmērs gadā 23 193 euro gadā (mēnesī 1 932,75 euro) (Operacionālais amata līmenis). Koeficients - 1,4; (1 932,75 euro × 1,4 × 9 mēn.) + (1 932,75 euro × 1,4 : 28 d. × 22 d.) = 26 479 euro* | C8: =ROUNDUP((((B31*1.4))/28*22)+(B31*1.4*9),0) -> 26479
A9: 1210 | B9: Darba devēja valsts sociālās apdrošināšanas obligātās iemaksas 23,59% no EKK 1149 summas (26 479 euro × 23,59 %) = 6 246 euro | C9: =ROUND(C8*0.2359,0) -> 6246
A10: 1226 | B10: Dienesta pienākumu izpildei nepieciešamā apģērba iegādes kompensācija Kompensācijas apmērs gadā - 120,94 euro
A11: 2000 | B11: Preces un pakalpojumi | C11: =SUM(C12:C16) -> 15725
A12: 2122 | B12: Pārējie komandējumu un darba braucienu izdevumi Ceļa izdevumi: Vienam braucienam un bagāžai 560,00 euro; reizi kalendāra gadā ceļa izdevumi dodoties uz Latviju un atgriežoties no Latvijas, ievērojot, ka dalības laiks tiek pagarināts, šim mērķim paredzami izdevumi, kas jau 2026.gadā plānoti, lai amatpersona atgrieztos Latvijā. Apdrošināšana par ceļojuma dienām 2,00 euro par 1 dienu 560,00 euro + 2,00 euro = 562 euro. | C12: =ROUNDUP(560+2,0) -> 562
A13: 2238 | B13: Ārvalstīs nodarbināto amatpersonu (darbinieku) kompensācijas Saskaņā ar Ministru kabineta 2021.gada 07.decembra noteikumiem Nr.793 atbilstoši amata līmenim (operacionālais amata līmenis) izdevumu kompensācijas apmērs amatpersonām par dzīvokļa (dzīvojamās telpas) īri un citiem pakalpojumiem, kas saistīti ar dzīvojamās telpas lietošanu 15 793,88 euro gadā (mēnesī 1 316,16 euro). (15 793,88 euro (gadā) : 12 mēn. × 10 mēn.) + (1 316,16 euro : 28 d. × 22 d.) = 14 196 euro. | C13: =ROUNDUP((B39/12*10)+((B40/28)*22),0) -> 14196
A14: 2312 | B14: Inventārs Personīgās pirmās palīdzības komplekts, kurā ietilpst pamatmedikamenti, pārsēji, ķirurģiskās līmlentes ruļļi utt. - 60,00 euro; patruļas soma - 50,00 euro.
A15: 2364 | B15: Formas tērpi un speciālais apģērbs Saskaņā Valsts policijas 2024.gada 12.jūnija iekšējiem noteikumiem Nr.8.“Noteikumi par Valsts policijas un Valsts policijas koledžas amatpersonu ar speciālajām dienesta pakāpēm formas tērpu, atšķirības zīmēm, speciālo apģērbu, individuālajiem aizsardzības līdzekļiem un inventāru, atpazīšanas zīmju aprakstu un darbinieku darba apģērbu” Valsts policijas amatpersonas var lūgt atjaunot formas tērpu, ja tas ir nolietots un lūgt izsniegt jaunu. Atsevišām formas tērpa daļām - specapģērbam, ekipējumam lietošanas termiņš ir sasniedzīs lietošanas termiņa beigas. Formas tērpa atjaunošanas izdevumi sastāda 967,00 euro, tai skaitā: Jaka - 121 euro; Pulovers - 72,60 euro; Sporta tērps - 129,47 euro; Zeķes - 6,05 euro × 3 pāri = 18,15 euro; Zeķes - 15,73 euro × 3 pāri = 47,19 euro; Šņorzābaki - 139,15 euro; Sporta apavi - 96,80 euro; Termoss - 36,30 euro; Bikses - 78,65 euro × 2.gab. = 157,30 euro; Krekls ar garām piedurknēm - 78,65 euro; Krekls ar īsām piedurknēm - 70,18 euro. | C15: =ROUNDUP(121+72.6+129.47+18.15+47.19+139.15+96.8+36.3+157.3+78.65+70.18,0) -> 967
A16: 2389 | B16: Pārējie specifiskas lietošanas materiāli un inventārs kombinētais kabatas nazis - 76,00 euro.
C18: euro
A19: EUMM GEORGIA (01.01.2027. - 02.03.2027.) | C19: 2027.gads
A20: Izdevumi kopā | C20: =C21+C24 -> 13529
A21: 1000 | B21: Atlīdzība | C21: =SUM(C22:C23) -> 10249
A22: 1149 | B22: Citas normatīvajos aktos noteiktās piemaksas, kas nav iepriekš klasificētas Ministru kabineta 2021. gada 07. decembra noteikumos Nr. 793 amatpersonai atbilstoši amata līmenim noteiktais piemaksas apmērs gadā 23 193 euro gadā (mēnesī 1 932,75 euro) (Operacionālais amata līmenis). Koeficients - 1,4; (1 932,75 euro × 1,4 × 3 mēn.) + (1 932,75 euro × 1,4 : 31 d. × 2 d.) = 8 293 euro * | C22: =ROUNDUP((((B31*1.4))/31*2)+(B31*1.4*3),0) -> 8293
A23: 1210 | B23: Darba devēja valsts sociālās apdrošināšanas obligātās iemaksas 23,59% no EKK 1149 summas (8 293 euro × 23,59 %) = 1 956 euro | C23: =ROUNDUP(C22*0.2359,0)-1 -> 1956
A24: 2000 | B24: Preces un pakalpojumi | C24: =SUM(C25:C26) -> 3280
A25: 2122 | B25: Pārējie komandējumu un darba braucienu izdevumi Ceļa izdevumi: Vienam braucieniem un bagāžai (atgriežoties Latvijā) 560 euro; Apdrošināšana par ceļojuma dienām 2,00 euro par 1 dienu 560 euro + 2,00 euro = 562 euro. Finansējums ceļa izdevumiem 2026.gadam, kas piešķirts iepriekšējā gadā (kad šīm amatpersonām jau tika pagarināts dalības laiks misijā), bija plānots amatpersonām, lai amatpersona atgrieztos Latvijā pēc misijas pabeigšanas. Ņemot vērā, ka dalības laiks misijā ir pagarināts, amatpersonai būs tiesības 2026.gadā izmantot ikgadējo atvaļinājumu (dodoties uz Latviju). Līdz ar to faktiski nepieciešamais finansējums ceļa izdevumiem 2026.gadam ir 1 124 euro ((560,00 euro + 2,00 euro) x 2 = 1 124 euro), to tiem finansējums 562 euro piešķirts iepriekšējā gadā un 562 euro pieprasīts papildus. | C25: =ROUNDUP(560*1+2*1,0) -> 562
A26: 2238 | B26: Ārvalstīs nodarbināto amatpersonu (darbinieku) kompensācijas Saskaņā ar Ministru kabineta 2021.gada 07.decembra noteikumiem Nr.793 atbilstoši amata līmenim (operacionālais amata līmenis) izdevumu kompensācijas apmērs amatpersonām par dzīvokļa (dzīvojamās telpas) īri un citiem pakalpojumiem, kas saistīti ar dzīvojamās telpas lietošanu 15 793,88 euro gadā (mēnesī 1 316,16 euro). (15 793,88 euro : 12 mēn. × 2 mēn.) + (1 316,16 euro : 31 d. × 2 d.) = 2 718 euro. | C26: =ROUNDUP((B39/12*2)+((B40/31)*2),0) -> 2718
A27: *Izdevumi atlīdzībai Valsts policijas amatpersonas ar speciālo dienesta pakāpi dalības nodrošināšanai Eiropas Savienības misijā Gruzijā (EUMM Georgia) tiek attiecināti atbilstoši faktiskajam atlīdzības izmaksas periodam, proti, atlīdzības izdevumi par kalendāra gada decembra mēnesi tiek iekļauti nākamā gada izdevumos.
B29: Operacionālais amata līmenis (Ministru kabineta 2021. gada 07. decembra noteikumos Nr. 793 amatpersonai atbilstoši amata līmenim noteiktais piemaksas apmērs gadā 23 193 euro (mēnesī 1 932,75 euro)
A30: gadā | B30: 23193
A31: mēnesī | B31: =ROUND(B30/12,2) -> 1932.75 | C31: =ROUND(B31*1.4,2) -> 2705.85
B38: Operacionālais amata līmenis (Atbilstoši amata līmenim (operacionālais amata līmenis) izdevumu kompensācijas apmērs amatpersonām par dzīvokļa (dzīvojamās telpas) īri un citiem pakalpojumiem, kas saistīti ar dzīvojamās telpas lietošanu
A39: gadā | B39: 15793.88
A40: mēnesī | B40: =ROUND(B39/12,2) -> 1316.16

Sheet D.Uļģis
A1: IZDEVUMU APRĒĶINS
A2: Valsts policijas amatpersona ar speciālo dienesta pakāpi dalība Eiropas Savienības novērošanas misijā Gruzijā (EUMM GEORGIA) Dāvis Uļģis (28.02.2026.-27.02.2027.)
C4: euro
A5: EUMM GEORGIA (28.02.2026. - 31.12.2026.) | C5: 2026.gads
A6: Izdevumi kopā | C6: =C7+C10 -> 37253
A7: 1000 | B7: Atlīdzība | C7: =SUM(C8:C9) -> 25769
A8: 1149 | B8: Citas normatīvajos aktos noteiktās piemaksas, kas nav iepriekš klasificētas Ministru kabineta 2021.gada 7.decembra noteikumos Nr.793 amatpersonai atbilstoši amata līmenim noteiktais piemaksas apmērs gadā 19 778 euro (mēnesī 1 648,17 euro). (Taktiskais amata līmenis). Koeficients - 1,4; (1 648,17 euro × 1,4 × 9 mēn.) + (1 648,17 euro × 1,4 : 28 d. × 1 d.) = 20 850 euro * | C8: =ROUNDUP((((B30*1.4))/28*1)+(B30*1.4*9),0) -> 20850
A9: 1210 | B9: Darba devēja valsts sociālās apdrošināšanas obligātās iemaksas 23,59% no EKK 1149 summas (20 850 euro × 23,59 %) = 4 919 euro | C9: =ROUND(C8*0.2359,0) -> 4919
A10: 2000 | B10: Preces un pakalpojumi | C10: =SUM(C11:C15) -> 11484
A11: 2122 | B11: Pārējie komandējumu un darba braucienu izdevumi Ceļa izdevumi: Vienam braucienam un bagāžai 560,00 euro; reizi kalendāra gadā ceļa izdevumi dodoties uz Latviju un atgriežoties no Latvijas, ievērojot, ka dalības laiks tiek pagarināts, šim mērķim paredzami izdevumi, kas jau 2026.gadā plānoti, lai amatpersona atgrieztos Latvijā. Apdrošināšana par ceļojuma dienām 2,00 euro par 1 dienu 560,00 euro + 2,00 euro = 562 euro. | C11: =ROUNDUP(560+2,0) -> 562
A12: 2238 | B12: Ārvalstīs nodarbināto amatpersonu (darbinieku) kompensācijas Saskaņā ar Ministru kabineta 2021.gada 07.decembra noteikumiem Nr.793 atbilstoši amata līmenim (taktiskais amata līmenis) izdevumu kompensācijas apmērs amatpersonām par dzīvokļa (dzīvojamās telpas) īri un citiem pakalpojumiem, kas saistīti ar dzīvojamās telpas lietošanu 11 895,21 euro gadā (mēnesī 991,27 euro) (11 895,21 euro: 12 mēn. × 10 mēn.) + (991,27 euro: 28 d. × 1 d.) = 9 949 euro | C12: =ROUNDUP((B34/12*10)+((B35/28)*1),0) -> 9949
A13: 2313
A14: 2364 | B14: Formas tērpi un speciālais apģērbs Saskaņā Valsts policijas 2024.gada 12.jūnija iekšējiem noteikumiem Nr.8.“Noteikumi par Valsts policijas un Valsts policijas koledžas amatpersonu ar speciālajām dienesta pakāpēm formas tērpu, atšķirības zīmēm, speciālo apģērbu, individuālajiem aizsardzības līdzekļiem un inventāru, atpazīšanas zīmju aprakstu un darbinieku darba apģērbu” Valsts policijas amatpersonas var lūgt atjaunot formas tērpu, ja tas ir nolietots un lūgt izsniegt jaunu. Atsevišām formas tērpa daļām - specapģērbam, ekipējumam lietošanas termiņš ir sasniedzīs lietošanas termiņa beigas. Formas tērpa atjaunošanas izdevumi sastāda 973,00 euro, tai skaitā: Jaka - 127,05 euro; Pulovers - 72,60 euro; Sporta tērps - 129,47 euro; Zeķes - 6,05 euro × 3 pāri = 18,15 euro; Zeķes - 15,73 euro × 3 pāri = 47,19 euro; Šņorzābaki - 139,15 euro; Sporta apavi - 96,80 euro; Termoss - 36,30 euro; Bikses - 78,65 euro × 2.gab. = 157,30 euro; Krekls ar garām piedurknēm - 78,65 euro; Krekls ar īsām piedurknēm - 70,18 euro. | C14: =ROUNDUP(127.05+72.6+129.47+18.15+47.19+139.15+96.8+36.3+157.3+78.65+70.18,0) -> 973
A15: 2389
C17: euro
A18: EUMM GEORGIA (01.01.2027. - 27.02.2027.) | C18: 2027.gads
A19: Izdevumi kopā | C19: =C20+C23 -> 10964
A20: 1000 | B20: Atlīdzība | C20: =SUM(C21:C22) -> 8454
A21: 1149 | B21: Citas normatīvajos aktos noteiktās piemaksas, kas nav iepriekš klasificētas Ministru kabineta 2021.gada 7.decembra noteikumos Nr.793 amatpersonai atbilstoši amata līmenim noteiktais piemaksas apmērs gadā 19 778 euro (mēnesī 1 648,17 euro) (Taktiskais amata līmenis). Koeficients - 1,4; (1 648,17 euro × 1,4 × 2 mēn.) + (1 648,17 euro × 1,4 : 28 d. × 27 d.) = 6 840 euro * | C21: =ROUNDUP((((B30*1.4))/28*27)+(B30*1.4*2),0) -> 6840
A22: 1210 | B22: Darba devēja valsts sociālās apdrošināšanas obligātās iemaksas 23,59% no EKK 1149 summas (6 840 euro × 23,59 %) = 1 614 euro | C22: =ROUNDUP(C21*0.2359,0) -> 1614
A23: 2000 | B23: Preces un pakalpojumi | C23: =SUM(C24:C25) -> 2510
A24: 2122 | B24: Pārējie komandējumu un darba braucienu izdevumi Ceļa izdevumi: Vienam braucieniem un bagāžai (atgriežoties Latvijā) 560 euro; Apdrošināšana par ceļojuma dienām 2,00 euro par 1 dienu 560 euro + 2,00 euro = 562 euro. Finansējums ceļa izdevumiem 2026.gadam, kas piešķirts iepriekšējā gadā (kad šīm amatpersonām jau tika pagarināts dalības laiks misijā), bija plānots amatpersonām, lai amatpersona atgrieztos Latvijā pēc misijas pabeigšanas. Ņemot vērā, ka dalības laiks misijā ir pagarināts, amatpersonai būs tiesības 2026.gadā izmantot ikgadējo atvaļinājumu (dodoties uz Latviju). Līdz ar to faktiski nepieciešamais finansējums ceļa izdevumiem 2026.gadam ir 1 124 euro ((560,00 euro + 2,00 euro) x 2 = 1 124 euro), to tiem finansējums 562 euro piešķirts iepriekšējā gadā un 562 euro pieprasīts papildus. | C24: =ROUNDUP(560*1+2*1,0) -> 562
A25: 2238 | B25: Ārvalstīs nodarbināto amatpersonu (darbinieku) kompensācijas Saskaņā ar Ministru kabineta 2021.gada 07.decembra noteikumiem Nr.793 atbilstoši amata līmenim (taktiskais amata līmenis) izdevumu kompensācijas apmērs amatpersonām par dzīvokļa (dzīvojamās telpas) īri un citiem pakalpojumiem, kas saistīti ar dzīvojamās telpas lietošanu 11 895,21 euro gadā (mēnesī 991,27 euro) (11 895,21 euro : 12 mēn. × 1 mēn.) + (991,27 euro : 28 d. × 27 d.) = 1 948 euro. | C25: =ROUNDUP((B34/12*1)+((B35/28)*27),0) -> 1948
A26: *Izdevumi atlīdzībai Valsts policijas amatpersonas ar speciālo dienesta pakāpi dalības nodrošināšanai Eiropas Savienības misijā Gruzijā (EUMM Georgia) tiek attiecināti atbilstoši faktiskajam atlīdzības izmaksas periodam, proti, atlīdzības izdevumi par kalendāra gada decembra mēnesi tiek iekļauti nākamā gada izdevumos.
B28: Taktiskais amata līmenis
A29: gadā | B29: 19778
A30: mēnesī | B30: =ROUND(B29/12,2) -> 1648.17 | C30: =ROUND(B30*1.4,2) -> 2307.44
B33: Taktiskais amata līmenis | C33: 11895.21
A34: gadā | B34: =C33 -> 11895.21
A35: mēnesī | B35: =ROUND(B34/12,2) -> 991.27

Sheet Kopsavilkums
A1: KOPSAVILKUMS
C3: euro
A4: EUMM GEORGIA | C4: 2026.gads
A5: Izdevumi kopā | C5: =C6+C11 -> 176214
A6: 1000 | B6: Atlīdzība | C6: =C7+C9 -> 120605
A7: 1100 | B7: Atalgojums | C7: =C8 -> 97585
A8: 1149 | B8: Citas normatīvajos aktos noteiktās piemaksas, kas nav iepriekš klasificētas | C8: =K.Eiduka!C8+D.Kosarevs!C8+O.Lagutins!C8+M.Štange!C8+D.Uļģis!C8 -> 97585
A9: 1200 | B9: Darba devēja valsts sociālās apdrošināšanas obligātās iemaksas, pabalsti un kompensācijas | C9: =C10 -> 23020
A10: 1210 | B10: Darba devēja valsts sociālās apdrošināšanas obligātās iemaksas | C10: =K.Eiduka!C9+D.Kosarevs!C9+O.Lagutins!C9+M.Štange!C9+D.Uļģis!C9 -> 23020
A11: 2000 | B11: Preces un pakalpojumi | C11: =C12+C14+C16 -> 55609
A12: 2100 | B12: Mācību, darba un dienesta komandējumi, darba braucieni | C12: =C13 -> 2248
A13: 2122 | B13: Pārējie komandējumu un darba braucienu izdevumi | C13: =K.Eiduka!C12+D.Kosarevs!C12+O.Lagutins!C12+M.Štange!C12+D.Uļģis!C11 -> 2248
A14: 2200 | B14: Pakalpojumi | C14: =C15 -> 49481
A15: 2238 | B15: Ārvalstīs nodarbināto amatpersonu (darbinieku) kompensācijas | C15: =K.Eiduka!C13+D.Kosarevs!C13+O.Lagutins!C13+M.Štange!C13+D.Uļģis!C12 -> 49481
A16: 2300 | B16: Krājumi, materiāli, energoresursi, preces, biroja preces un inventārs, kurus neuzskaita kodā 5000 | C16: =SUM(C17:C19) -> 3880
A17: 2312 | B17: Inventārs
A18: 2364 | B18: Formas tērpi un speciālais apģērbs | C18: =K.Eiduka!C15+D.Kosarevs!C15+O.Lagutins!C15+M.Štange!C15+D.Uļģis!C14 -> 3880
A19: 2389 | B19: Pārējie specifiskas lietošanas materiāli un inventārs
C21: euro
A22: EUMM GEORGIA | C22: 2027.gads
A23: Izdevumi kopā | C23: =C24+C29 -> 40216.16
A24: 1000 | B24: Atlīdzība | C24: =C25+C27 -> 30947.16
A25: 1100 | B25: Atalgojums | C25: =C26 -> 25040
A26: 1149 | B26: Citas normatīvajos aktos noteiktās piemaksas, kas nav iepriekš klasificētas | C26: =K.Eiduka!C22+D.Kosarevs!C22+O.Lagutins!C22+M.Štange!C22+D.Uļģis!C21 -> 25040
A27: 1200 | B27: Darba devēja valsts sociālās apdrošināšanas obligātās iemaksas, pabalsti un kompensācijas | C27: =C28 -> 5907.16
A28: 1210 | B28: Darba devēja valsts sociālās apdrošināšanas obligātās iemaksas | C28: =K.Eiduka!C23+D.Kosarevs!C23+O.Lagutins!C23+M.Štange!C23+D.Uļģis!C22 -> 5907.16
A29: 2000 | B29: Preces un pakalpojumi | C29: =C30+C32 -> 9269
A30: 2100 | B30: Mācību, darba un dienesta komandējumi, darba braucieni | C30: =C31 -> 2248
A31: 2122 | B31: Pārējie komandējumu un darba braucienu izdevumi | C31: =K.Eiduka!C25+D.Kosarevs!C25+O.Lagutins!C25+M.Štange!C25+D.Uļģis!C24 -> 2248
A32: 2200 | B32: Pakalpojumi | C32: =C33 -> 7021
A33: 2238 | B33: Ārvalstīs nodarbināto amatpersonu (darbinieku) kompensācijas | C33: =K.Eiduka!C26+D.Kosarevs!C26+O.Lagutins!C26+M.Štange!C26+D.Uļģis!C25 -> 7021

Sheet J.Padāns
A1: 10.00.00. programma ( Ministru kabineta rīkojums Nr. 555, Rīgā 2024. gada 9. jūlijā (prot. Nr. 28 16. §))
A2: EUMM Georgia (01.01.2026.-26.01.2026.) (piešķirts) | C2: 2026. gads
A3: Izdevumi kopā | C3: =C4+C9 -> 4553
A4: 1000 | B4: Atlīdzība | C4: =C5+C7 -> 2806
A5: 1100 | B5: Atalgojums | C5: =C6 -> 2270
A6: 1149 | B6: Citas normatīvajos aktos noteiktās piemaksas, kas nav iepriekš klasificētas Ministru kabineta 2021. gada 7. decembra noteikumos Nr. 793 amatpersonai atbilstoši amata līmenim noteiktais piemaksas apmērs gadā - Operacionālais amata līmenis - 23 193 euro (mēnesī 1 932,75 euro) koeficients - 1,4 (1932,75 euro × 1,4 : 31 dienas × 26 dienas) = 2269,42 euro | C6: 2270
A7: 1200 | B7: Darba devēja valsts sociālās apdrošināšanas obligātās iemaksas, pabalsti un kompensācijas | C7: =C8 -> 536
A8: 1210 | B8: Darba devēja valsts sociālās apdrošināšanas obligātās iemaksas 23,59% no EKK 1149 summas (2269,42 euro × 23,59 %) = 535,37 euro | C8: 536
A9: 2000 | B9: Preces un pakalpojumi | C9: =C10+C12 -> 1747
A10: 2100 | B10: Mācību, darba un dienesta komandējumi, darba braucieni | C10: =C11 -> 571
A11: 2122 | B11: Pārējie komandējumu un darba braucienu izdevumi Ceļa izdevumi: -braucienam un bagāžai 570,00 euro (ceļa izdevumi atgriežoties no misijas atpakaļ Latvijā), apdrošināšana par ceļojuma dienām 0,60 euro par 1 dienu x 1 amatpersona (570 euro + 0,60 euro = 570,60 euro). | C11: 571
A12: 2200 | B12: Pakalpojumi | C12: =C13+C14 -> 1176
A13: 2210 | B13: Izdevumi par sakaru pakalpojumiem 85,00 euro (vienam dalībniekam mēnesī) (85,00 euro: 31 diena x 26 dienas) = 71,29 euro | C13: 72
A14: 2230 | B14: Dažādi pakalpojumi | C14: =C15 -> 1104
A15: 2238 | B15: Ārvalstīs nodarbināto amatpersonu (darbinieku) kompensācijas Ministru kabineta 2021. gada 7. decembra noteikumos Nr. 793 paredzētais izdevumu kompensācijas apmērs amatpersonām par dzīvokļa (dzīvojamās telpas) īri un citiem pakalpojumiem, kas saistīti ar dzīvojamās telpas lietošanu: 15 793,88 euro gadā (Operacionālais amata līmenis). Dzīvokļa (dzīvojamās telpas) īres un komunālo pakalpojumu izdevumi: (15 793,88 euro: 12 mēn. : 31 dienas x 26 dienas) = 1 103,87 euro. | C15: 1104
A19: EUMM Georgia (27.01.2026. -31.12.2026.) (papildus) | C19: 2026. gads
A20: Izdevumi kopā | C20: =C21+C26 -> 52965
A21: 1000 | B21: Atlīdzība | C21: =C22+C24 -> 37326
A22: 1100 | B22: Atalgojums | C22: =C23 -> 30201
A23: 1149 | B23: Citas normatīvajos aktos noteiktās piemaksas, kas nav iepriekš klasificētas Ministru kabineta 2021. gada 7. decembra noteikumos Nr. 793 amatpersonai atbilstoši amata līmenim noteiktais piemaksas apmērs gadā: no 2025.gada 27.janvāra Operacionālais amata līmenis - 23 193 euro (mēnesī 1 932,75 euro) koeficients - 1,4 (1932,75 euro × 1,4 : 31 d. × 5 d.) + (1932,75 euro x 1,4 x 11 mēn.) = 30 200,78 euro. | C23: 30201
A24: 1200 | B24: Darba devēja valsts sociālās apdrošināšanas obligātās iemaksas, pabalsti un kompensācijas | C24: =C25 -> 7125
A25: 1210 | B25: Darba devēja valsts sociālās apdrošināšanas obligātās iemaksas 23,59% no EKK 1149 summas (30200,78 euro × 23,59 %) = 7 124,36 euro | C25: 7125
A26: 2000 | B26: Preces un pakalpojumi | C26: =C27+C29 -> 15639
A27: 2100 | B27: Mācību, darba un dienesta komandējumi, darba braucieni | C27: =C28 -> 0
A28: 2122 | B28: Pārējie komandējumu un darba braucienu izdevumi Ceļa izdevumi: nav plānots, jo 2026.gadā pieķits finansējums 571 euro apmērā ar Ministru kabineta rīkojumu Nr. 555, 2024. gada 9. jūlijā (prot. Nr. 28 16. §)) | C28: 0
A29: 2200 | B29: Pakalpojumi | C29: =C30+C31 -> 15639
A30: 2210 | B30: Izdevumi par sakaru pakalpojumiem 85,00 euro (vienam dalībniekam mēnesī) (85,00 euro: 31 diena x 5 dienas) + (85,00 euro x 11 mēn) = 948,71 euro | C30: 949
A31: 2230 | B31: Dažādi pakalpojumi | C31: =C32 -> 14690
A32: 2238 | B32: Ārvalstīs nodarbināto amatpersonu (darbinieku) kompensācijas Ministru kabineta 2021. gada 7. decembra noteikumos Nr. 793 paredzētais izdevumu kompensācijas apmērs amatpersonām par dzīvokļa (dzīvojamās telpas) īri un citiem pakalpojumiem, kas saistīti ar dzīvojamās telpas lietošanu: 15 793,88 euro gadā (Operacionālais amata līmenis). Dzīvokļa (dzīvojamās telpas) īres un komunālo pakalpojumu izdevumi: (15 793,88 euro : 12 mēn. : 31 dienas x 5 dienas) + (15 793,88 euro: 12 mēn.x 11 mēn.) = 14 690 euro. | C32: 14690
A36: EUMM Georgia (01.01.2027.-26.01.2027.) (papildus) | C36: 2027. gads
A37: Izdevumi kopā | C37: =C38+C43 -> 4553
A38: 1000 | B38: Atlīdzība | C38: =C39+C41 -> 2806
A39: 1100 | B39: Atalgojums | C39: =C40 -> 2270
A40: 1149 | B40: Citas normatīvajos aktos noteiktās piemaksas, kas nav iepriekš klasificētas Ministru kabineta 2021. gada 7. decembra noteikumos Nr. 793 amatpersonai atbilstoši amata līmenim noteiktais piemaksas apmērs gadā - Operacionālais amata līmenis - 23 193 euro (mēnesī 1 932,75 euro) koeficients - 1,4 (1932,75 euro × 1,4 : 31 dienas × 26 dienas) = 2269,42 euro | C40: 2270
A41: 1200 | B41: Darba devēja valsts sociālās apdrošināšanas obligātās iemaksas, pabalsti un kompensācijas | C41: =C42 -> 536
A42: 1210 | B42: Darba devēja valsts sociālās apdrošināšanas obligātās iemaksas 23,59% no EKK 1149 summas (2269,42 euro × 23,59 %) = 535,37 euro | C42: 536
A43: 2000 | B43: Preces un pakalpojumi | C43: =C44+C46 -> 1747
A44: 2100 | B44: Mācību, darba un dienesta komandējumi, darba braucieni | C44: =C45 -> 571
A45: 2122 | B45: Pārējie komandējumu un darba braucienu izdevumi Ceļa izdevumi: -braucienam un bagāžai 570,00 euro (ceļa izdevumi atgriežoties no misijas atpakaļ Latvijā), apdrošināšana par ceļojuma dienām 0,60 euro par 1 dienu x 1 amatpersona (570 euro + 0,60 euro = 570,60 euro). | C45: 571
A46: 2200 | B46: Pakalpojumi | C46: =C47+C48 -> 1176
...
