Workbook
Name Excel_BuiltIn__FilterDatabase: #REF!
Name Excel_BuiltIn_Print_Area: '[1]EL fasāde'!#REF!
Name Excel_BuiltIn_Print_Area_1: '[1]EL fasāde'!#REF!
Name Excel_BuiltIn_Print_Area_1_1: '[1]EL fasāde'!#REF!

Sheet Budžets
B2: =KOPTĀME!A11 -> Objekta nosaukums: Sanitārā mezgla un garderobes atjaunošana
B4: =KOPTĀME!A13 -> Objekta adrese: Ukrainas neatkarības iela 1, Rīga
A7: Nr.p.k. | B7: Izmaksu pozīcija | C7: Budžets (izmaksas bez PVN) | F7: Budžets (izmaksas ar PVN)
B9: IZMAKSAS KOPĀ | C9: =C10+C11+C12+C13+C14+C15+C17+C18 -> 24327.4 | F9: =C9*1.21 -> 29436.154
A10: 1 | B10: Pirms projekta izpēte | C10: =ROUND(C13*D10,-2) -> 0 | D10: 0 | F10: =C10*1.21 -> 0
A11: 2 | B11: Būvniecības ieceres dokumentācija | C11: =ROUND(C13*D11,-2) -> 0 | D11: 0 | F11: =C11*1.21 -> 0
A12: 3 | B12: Tehniskā projekta ekspertīze | C12: =ROUND(C13*D12,-2) -> 0 | D12: 0 | F12: =C12*1.21 -> 0
A13: 4 | B13: Būvniecības darbi kopā: | C13: =KOPTĀME!C24 -> 21927.4 | F13: =C13*1.21 -> 26532.154
A14: 5 | B14: Būvniecības autoruzraudzība | C14: 0 | D14: 0.03 | E14: =C14+C11 -> 0 | F14: =C14*1.21 -> 0
A15: 6 | B15: Būvniecības būvuzraudzība | C15: =ROUND(C13*D15,-2) -> 700 | D15: 0.03 | F15: =C15*1.21 -> 847
A16: 7 | B16: Citas ar būvniecību saistītas izmaksas | C16: 0 | F16: 0
A17: 8 | B17: Administratīvās izmaksas | C17: =ROUND(POWER((SUM(C10+C11+C12+C13+C14+C15)),1/1.79)*E17,-2) -> 500 | D17: mēneši | E17: 2 | F17: =C17*1.21 -> 605
A18: 9 | B18: Projekta finanšu rezerve | C18: =ROUND(SUM(C10:C13,C14:C17)*D18,-2) -> 1200 | D18: 0.05 | F18: =C18*1.21 -> 1452

Sheet KOPTĀME
C1: APSTIPRINU
B3: (pasūtītāja paraksts un tā atšifrējums)
C4: Z.v.
C5: ................gada ...............................
B8: BŪVNIECĪBAS KOPTĀME
A10: Pasūtītājs: VAS "Valsts Nekustamie Īpašumi"
A11: Objekta nosaukums: Sanitārā mezgla un garderobes atjaunošana
A12: Būves nosaukums: Paula Stradiņa medicīnas muzejs
A13: Objekta adrese: Ukrainas neatkarības iela 1, Rīga
A14: Pasūtījuma Nr.:
C16: Budžets sastādīts 2023. gada 11. septembrī
A18: N.p.k. | B18: Objekta nosaukums | C18: Objekta izmaksas (Euro)
A22: 1 | B22: ='Kopsavilkums Nr.1.'!C19 -> Iekšējie remonta darbi | C22: ='Kopsavilkums Nr.1.'!D25 -> 21927.4
B24: Kopā: | C24: =SUM(C22:C23) -> 21927.4
B25: PVN 21%: | C25: =ROUND(C24*0.21,2) -> 4604.75
B26: Pavisam būvniecības izmaksas: | C26: =C24+C25 -> 26532.15
A30: Sastādīja:
B31: (paraksts un tā atšifrējums)
A32: LBS sert. Nr.:
A36: Pārbaudīja:
B37: (paraksts un tā atšifrējums)
A38: LBS sert. Nr.:

Sheet Kopsavilkums Nr.1.
B1: KOPSAVILKUMA aprēķins Nr.1.
A2: WC telpu pārbūve, nodrošinot vides pieejamību
A4: Pasūtītājs: VAS "Valsts Nekustamie Īpašumi"
A5: Objekta nosaukums: Sanitārā mezgla un garderobes atjaunošana
A6: Būves nosaukums: Paula Stradiņa medicīnas muzejs
A7: Objekta adrese: Ukrainas neatkarības iela 1, Rīga
C10: par kopējo summu Euro | D10: =D25 -> 21927.4
C11: Kopējā darbietilpība c/st. | D11: =H21 -> 784.91
H13: =KOPTĀME!C16 -> Budžets sastādīts 2023. gada 11. septembrī
A15: Nr.p.k. | B15: Kods, tāmes Nr. | C15: Darba veids vai konstruktīvā elementa nosaukums | D15: Tāmes izmaksas | E15: tai skaitā | H15: Darbietilpība c/h
E16: Darba alga /Euro/ | F16: Būvizstrādājumi /Euro/ | G16: Mehānismi /Euro/
D17: /Euro/
A19: 1 | B19: 1 | C19: ='Tāme Nr.1 Iekšējie apd.'!H5 -> Iekšējie remonta darbi | D19: =E19+F19+G19 -> 17683.39 | E19: ='Tāme Nr.1 Iekšējie apd.'!M42 -> 7619.57 | F19: ='Tāme Nr.1 Iekšējie apd.'!N42 -> 7944.6 | G19: ='Tāme Nr.1 Iekšējie apd.'!O42 -> 2119.22 | H19: ='Tāme Nr.1 Iekšējie apd.'!L42 -> 784.91
C21: kopā: | D21: =SUM(D19:D20) -> 17683.39 | E21: =SUM(E19:E20) -> 7619.57 | F21: =SUM(F19:F20) -> 7944.6 | G21: =SUM(G19:G20) -> 2119.22 | H21: =SUM(H19:H20) -> 784.91
C22: Virsizdevumi 18 %: | D22: ='Tāme Nr.1 Iekšējie apd.'!P43 -> 3183.01
C23: t.sk. Darba aizsardzība | D23: =ROUND(D22*2%,2) -> 63.66
C24: Plānotā peļņa 6 %: | D24: ='Tāme Nr.1 Iekšējie apd.'!P45 -> 1061
C25: Pavisam kopā: | D25: =D21+D22+D24 -> 21927.4
B30: Sastādīja:
C31: (paraksts un tā atšifrējums)
B32: LBS sert. Nr.:
B38: Pārbaudīja:
C39: (paraksts un tā atšifrējums)
B40: LBS sert. Nr.:
B51: .

Sheet Tāme Nr.1 Iekšējie apd.
H4: Lokālā tāme Nr.1
H5: Iekšējie remonta darbi
C6: Pasūtītājs: VAS "Valsts Nekustamie Īpašumi"
C7: Objekta nosaukums: Sanitārā mezgla un garderobes atjaunošana
C8: Būves nosaukums: Paula Stradiņa medicīnas muzejs
C9: Objekta adrese: Ukrainas neatkarības iela 1, Rīga | N9: Tāmes izmaksas | O9: =P42 -> 17683.39 | P9: Euro
C10: Tāme sastādīta 2023.gada tirgus cenās
M11: ='Kopsavilkums Nr.1.'!H13 -> Budžets sastādīts 2023. gada 11. septembrī
A13: N.p.k. | B13: Kods | D13: Vienības izmaksas | L13: Kopā uz visu apjomu
C14: Darba nosaukums | D14: Mērvienība | E14: Daudzums | F14: Laika norma (c/h) | G14: Darba samaksas likme* (Euro/h) | H14: Darba alga (Euro) | I14: Būvizstrādājumi (Euro) | J14: Mehānismi (Euro) | K14: Kopā (Euro) | L14: Darbietilpība (c/h) | M14: Darba alga (Euro) | N14: Būvizstrādājumi (Euro) | O14: Mehānismi (Euro) | P14: Summa (Euro)
A16: 1 | B16: 2 | C16: 3 | D16: 4 | E16: 5 | F16: 6 | G16: 7 | H16: 8 | I16: 9 | J16: 10 | K16: 11 | L16: 12 | M16: 13 | N16: 14 | O16: 15 | P16: 16
C17: Pagrabstāvs | D17: m2 | E17: 75.7 | W17: =W14+W15 -> 0
C18: 1.1.Demontāžas un sagatavošanas darbi | D18: m2 | E18: 75,70
A19: 1 | B19: jauna poz. | C19: Pagraba grīdas konstrukcijas demontāža, būvgružu utilizācija un grunts blietēšana | D19: m² | E19: 75.7 | F19: 0.89 | G19: 9.5 | H19: =ROUND(F19*G19,2) -> 8.46 | I19: 0 | J19: 4.5 | K19: =SUM(H19:J19) -> 12.96 | L19: =ROUND(E19*F19,2) -> 67.37 | M19: =ROUND(E19*H19,2) -> 640.42 | N19: =ROUND(E19*I19,2) -> 0 | O19: =ROUND(E19*J19,2) -> 340.65 | P19: =SUM(M19:O19) -> 981.07
A20: =A19+1 -> 2 | B20: jauna poz. | C20: Izlīdzinošais slānis-smilts b=200 mm | D20: m² | E20: 75.7 | F20: 0.57 | G20: 9.5 | H20: =ROUND(F20*G20,2) -> 5.42 | I20: 5 | J20: 3.5 | K20: =SUM(H20:J20) -> 13.92 | L20: =ROUND(E20*F20,2) -> 43.15 | M20: =ROUND(E20*H20,2) -> 410.29 | N20: =ROUND(E20*I20,2) -> 378.5 | O20: =ROUND(E20*J20,2) -> 264.95 | P20: =SUM(M20:O20) -> 1053.74
A21: =A20+1 -> 3 | B21: jauna poz. | C21: Siltumizolācijas no Finnfoam FL 300 putu polistirola izbūve, 50 mm. | D21: m² | E21: 75.7 | F21: 0.44 | G21: 9.5 | H21: =ROUND(F21*G21,2) -> 4.18 | I21: 7 | J21: 0.2 | K21: =SUM(H21:J21) -> 11.38 | L21: =ROUND(E21*F21,2) -> 33.31 | M21: =ROUND(E21*H21,2) -> 316.43 | N21: =ROUND(E21*I21,2) -> 529.9 | O21: =ROUND(E21*J21,2) -> 15.14 | P21: =SUM(M21:O21) -> 861.47
A22: =A21+1 -> 4 | B22: jauna poz. | C22: Polietilēna plēve ELT-PEFOIL 200 ieklāšana | D22: m³ | E22: 75.7 | F22: 0.35 | G22: 9.5 | H22: =ROUND(F22*G22,2) -> 3.33 | I22: 1.2 | J22: 0.1 | K22: =SUM(H22:J22) -> 4.63 | L22: =ROUND(E22*F22,2) -> 26.5 | M22: =ROUND(E22*H22,2) -> 252.08 | N22: =ROUND(E22*I22,2) -> 90.84 | O22: =ROUND(E22*J22,2) -> 7.57 | P22: =SUM(M22:O22) -> 350.49
A23: =A22+1 -> 5 | B23: jauna poz. | C23: Estrich betona slāņa izbūve, b=70mm. | D23: gb | E23: 75.7 | F23: 1.04 | G23: 9.5 | H23: =ROUND(F23*G23,2) -> 9.88 | I23: 7.5 | J23: 2.2 | K23: =SUM(H23:J23) -> 19.58 | L23: =ROUND(E23*F23,2) -> 78.73 | M23: =ROUND(E23*H23,2) -> 747.92 | N23: =ROUND(E23*I23,2) -> 567.75 | O23: =ROUND(E23*J23,2) -> 166.54 | P23: =SUM(M23:O23) -> 1482.21
A24: =A23+1 -> 6 | C24: 1.2.Demontāžas un sagatavošanas darbi telpu Nr. 023 un Nr. 021 pārbūvei | D24: m2 | E24: 35.9
A25: =A24+1 -> 7 | B25: jauna poz. | C25: Pagraba grīdas konstrukcijas demontāža, būvgružu utilizācija un grunts blietēšana | D25: m² | E25: 35.9 | F25: 0.89 | G25: 9.5 | H25: =ROUND(F25*G25,2) -> 8.46 | I25: 0 | J25: 4.5 | K25: =SUM(H25:J25) -> 12.96 | L25: =ROUND(E25*F25,2) -> 31.95 | M25: =ROUND(E25*H25,2) -> 303.71 | N25: =ROUND(E25*I25,2) -> 0 | O25: =ROUND(E25*J25,2) -> 161.55 | P25: =SUM(M25:O25) -> 465.26
A26: =A25+1 -> 8 | B26: jauna poz. | C26: Izlīdzinošais slānis-smilts b=400 mm | D26: m² | E26: 35.9 | F26: 0.57 | G26: 9.5 | H26: =ROUND(F26*G26,2) -> 5.42 | I26: 7.5 | J26: 3.5 | K26: =SUM(H26:J26) -> 16.42 | L26: =ROUND(E26*F26,2) -> 20.46 | M26: =ROUND(E26*H26,2) -> 194.58 | N26: =ROUND(E26*I26,2) -> 269.25 | O26: =ROUND(E26*J26,2) -> 125.65 | P26: =SUM(M26:O26) -> 589.48
A27: =A26+1 -> 9 | B27: jauna poz. | C27: Siltumizolācijas no Finnfoam FL 300 putu polistirola izbūve, 50 mm. | D27: m² | E27: 35.9 | F27: 0.44 | G27: 9.5 | H27: =ROUND(F27*G27,2) -> 4.18 | I27: 7 | J27: 0.2 | K27: =SUM(H27:J27) -> 11.38 | L27: =ROUND(E27*F27,2) -> 15.8 | M27: =ROUND(E27*H27,2) -> 150.06 | N27: =ROUND(E27*I27,2) -> 251.3 | O27: =ROUND(E27*J27,2) -> 7.18 | P27: =SUM(M27:O27) -> 408.54
A28: =A27+1 -> 10 | B28: jauna poz. | C28: Polietilēna plēve ELT-PEFOIL 200 ieklāšana | D28: m³ | E28: 35.9 | F28: 0.35 | G28: 9.5 | H28: =ROUND(F28*G28,2) -> 3.33 | I28: 1.2 | J28: 0.1 | K28: =SUM(H28:J28) -> 4.63 | L28: =ROUND(E28*F28,2) -> 12.57 | M28: =ROUND(E28*H28,2) -> 119.55 | N28: =ROUND(E28*I28,2) -> 43.08 | O28: =ROUND(E28*J28,2) -> 3.59 | P28: =SUM(M28:O28) -> 166.22
A29: =A28+1 -> 11 | B29: jauna poz. | C29: Estrich betona slāņa izbūve, b=70mm. | D29: gb | E29: 35.9 | F29: 1.04 | G29: 9.5 | H29: =ROUND(F29*G29,2) -> 9.88 | I29: 7.5 | J29: 2.2 | K29: =SUM(H29:J29) -> 19.58 | L29: =ROUND(E29*F29,2) -> 37.34 | M29: =ROUND(E29*H29,2) -> 354.69 | N29: =ROUND(E29*I29,2) -> 269.25 | O29: =ROUND(E29*J29,2) -> 78.98 | P29: =SUM(M29:O29) -> 702.92
A30: =A29+1 -> 12 | C30: 1.3. Logailes
A31: =A30+1 -> 13 | B31: jauna poz. | C31: Esošo logailu aizpildījumu (veco logu koka konstrukcijas, stiklojums, restes, koka apšuvums) demontāža. Logailu izmēri - 1000mm x 1150mm 2 gb., 1200mm x 850mm,1200 x 900mm. Būvgružu uztilizācija. FKA Nr.6 | D31: gab | E31: 4 | F31: 5 | G31: 9.5 | H31: =ROUND(F31*G31,2) -> 47.5 | I31: 0 | J31: 4.5 | K31: =SUM(H31:J31) -> 52 | L31: =ROUND(E31*F31,2) -> 20 | M31: =ROUND(E31*H31,2) -> 190 | N31: =ROUND(E31*I31,2) -> 0 | O31: =ROUND(E31*J31,2) -> 18 | P31: =SUM(M31:O31) -> 208
A32: =A31+1 -> 14 | B32: jauna poz. | C32: Logailes siltināšana ar Paroc cietā akmens vate b-100 mm biezumā | D32: m2 | E32: 4.4 | F32: 0.88 | G32: 9.5 | H32: =ROUND(F32*G32,2) -> 8.36 | I32: 6.05 | J32: 3.5 | K32: =SUM(H32:J32) -> 17.91 | L32: =ROUND(E32*F32,2) -> 3.87 | M32: =ROUND(E32*H32,2) -> 36.78 | N32: =ROUND(E32*I32,2) -> 26.62 | O32: =ROUND(E32*J32,2) -> 15.4 | P32: =SUM(M32:O32) -> 78.8
A33: =A32+1 -> 15 | B33: jauna poz. | C33: Logailes azimūrēšana ar fibo blokiem 5-Mp b-150mm | D33: m2 | E33: 4.4 | F33: 5 | G33: 9.5 | H33: =ROUND(F33*G33,2) -> 47.5 | I33: 28 | J33: 7.5 | K33: =SUM(H33:J33) -> 83 | L33: =ROUND(E33*F33,2) -> 22 | M33: =ROUND(E33*H33,2) -> 209 | N33: =ROUND(E33*I33,2) -> 123.2 | O33: =ROUND(E33*J33,2) -> 33 | P33: =SUM(M33:O33) -> 365.2
A34: =A33+1 -> 16 | C34: Foajē, jauna grīdas seguma izbūve
A35: =A34+1 -> 17 | C35: 1.1.Demontāžas un sagatavošanas darbi
A36: =A35+1 -> 18 | C36: Iekšējo grīdu apdares demontāža, būvgruzu utilizācija | D36: m² | E36: 31.3 | F36: 1.5 | G36: 9.5 | H36: =ROUND(F36*G36,2) -> 14.25 | J36: 8.5 | K36: =SUM(H36:J36) -> 22.75 | L36: =ROUND(E36*F36,2) -> 46.95 | M36: =ROUND(E36*H36,2) -> 446.03 | N36: =ROUND(E36*I36,2) -> 0 | O36: =ROUND(E36*J36,2) -> 266.05 | P36: =SUM(M36:O36) -> 712.08
A37: =A36+1 -> 19 | C37: Grīdas virsmu špaktelēšana b=1mm Mapei Plan R | D37: m² | E37: 31.3 | F37: 0.3 | G37: 9.5 | H37: =ROUND(F37*G37,2) -> 2.85 | I37: 8.5 | J37: 1.5 | K37: =SUM(H37:J37) -> 12.85 | L37: =ROUND(E37*F37,2) -> 9.39 | M37: =ROUND(E37*H37,2) -> 89.21 | N37: =ROUND(E37*I37,2) -> 266.05 | O37: =ROUND(E37*J37,2) -> 46.95 | P37: =SUM(M37:O37) -> 402.21
A38: =A37+1 -> 20 | C38: Grīdas virsmu apdare ar mikrocementu piem. Mapei UltraTop Loft, ieskaitot grīdlīstes. Dažādu grīdas segumu sadurvietām jābūt vienā līmenī bez redzamiem sliekšņiem un citiem papildus elementiem | D38: m² | E38: 31.3 | F38: 4 | G38: 9.5 | H38: =ROUND(F38*G38,2) -> 38 | I38: 45.6 | J38: 8.5 | K38: =SUM(H38:J38) -> 92.1 | L38: =ROUND(E38*F38,2) -> 125.2 | M38: =ROUND(E38*H38,2) -> 1189.4 | N38: =ROUND(E38*I38,2) -> 1427.28 | O38: =ROUND(E38*J38,2) -> 266.05 | P38: =SUM(M38:O38) -> 2882.73
A39: =A38+1 -> 21 | C39: Iebūvejamo kājslauķu montāža, t.sk. pievienošana LK tīkliem | D39: kompl. | E39: 1 | F39: 150 | G39: 9.5 | H39: =ROUND(F39*G39,2) -> 1425 | I39: 1786 | J39: 60 | K39: =SUM(H39:J39) -> 3271 | L39: =ROUND(E39*F39,2) -> 150 | M39: =ROUND(E39*H39,2) -> 1425 | N39: =ROUND(E39*I39,2) -> 1786 | O39: =ROUND(E39*J39,2) -> 60 | P39: =SUM(M39:O39) -> 3271
C40: WC sienu apdare aiz urinaliem | K40: =SUM(H40:J40) -> 0 | L40: =ROUND(E40*F40,2) -> 0 | M40: =ROUND(E40*H40,2) -> 0 | N40: =ROUND(E40*I40,2) -> 0 | O40: =ROUND(E40*J40,2) -> 0 | P40: =SUM(M40:O40) -> 0
A41: =A39+1 -> 22 | C41: Nerūsejoša tērauda sienu apdare (papildu apjoms) | D41: m² | E41: =3.68-1.22 -> 2.46 | F41: 16.39 | G41: 7.79 | H41: 221.31 | I41: 778.69 | J41: 98.36 | K41: =SUM(H41:J41) -> 1098.36 | L41: =ROUND(E41*F41,2) -> 40.32 | M41: =ROUND(E41*H41,2) -> 544.42 | N41: =ROUND(E41*I41,2) -> 1915.58 | O41: =ROUND(E41*J41,2) -> 241.97 | P41: =SUM(M41:O41) -> 2701.97
J42: Tiešās izmaksas kopā, t.sk. darba devēja sociālais nodoklis 23.59% : | L42: =SUM(L17:L41) -> 784.91 | M42: =SUM(M17:M41) -> 7619.57 | N42: =SUM(N17:N41) -> 7944.6 | O42: =SUM(O17:O41) -> 2119.22 | P42: =SUM(P17:P41) -> 17683.39
I43: Virsizdevumi | J43: 0.18 | M43: =M42*$J$43 -> 1371.5226 | N43: =N42*$J$43 -> 1430.028 | O43: =O42*$J$43 -> 381.4596 | P43: =ROUND(P42*$J$43,2) -> 3183.01
I44: t.sk. darba aizsardzība
I45: Peļņa | J45: 0.06 | M45: =M42*$J$45 -> 457.1742 | N45: =N42*$J$45 -> 476.676 | O45: =O42*$J$45 -> 127.1532 | P45: =ROUND(P42*$J$45,2) -> 1061
...
