Workbook

Sheet Kopā
A2: Pieejamais finansējums
A3: 10000000
B5: Zinātnes un studiju kritēriji
B6: 2023 | C6: 2024 | D6: 2025 | E6: Kopā | F6: % | G6: Iegūtais finansējums | H6: Noapaļots rīkojumam
A7: DU | B7: =SUM(INDEX('2023'!I:O, MATCH(Kopā!A7, '2023'!A:A, 0), 0)) -> 398403.45 | C7: =SUM(INDEX('2024'!I:O, MATCH(Kopā!A7, '2024'!A:A, 0), 0)) -> 700807.31 | D7: =SUM(INDEX('2025'!I:O, MATCH(Kopā!A7, '2025'!A:A, 0), 0)) -> 683610.97 | E7: =SUM(B7:D7) -> 1782821.7 | F7: =E7/E$18 -> 0.037213328 | G7: =F7*A$3 -> 372133.28 | H7: =ROUND(G7,0) -> 372133
A8: BA | B8: =SUM(INDEX('2023'!I:O, MATCH(Kopā!A8, '2023'!A:A, 0), 0)) -> 137051.51 | C8: =SUM(INDEX('2024'!I:O, MATCH(Kopā!A8, '2024'!A:A, 0), 0)) -> 207698.24 | D8: =SUM(INDEX('2025'!I:O, MATCH(Kopā!A8, '2025'!A:A, 0), 0)) -> 197114.51 | E8: =SUM(B8:D8) -> 541864.26 | F8: =E8/E$18 -> 0.011310482 | G8: =F8*A$3 -> 113104.82 | H8: =ROUND(G8,0) -> 113105
A9: JVLMA | B9: =SUM(INDEX('2023'!I:O, MATCH(Kopā!A9, '2023'!A:A, 0), 0)) -> 303912.63 | C9: =SUM(INDEX('2024'!I:O, MATCH(Kopā!A9, '2024'!A:A, 0), 0)) -> 538602.07 | D9: =SUM(INDEX('2025'!I:O, MATCH(Kopā!A9, '2025'!A:A, 0), 0)) -> 585976.25 | E9: =SUM(B9:D9) -> 1428491 | F9: =E9/E$18 -> 0.029817285 | G9: =F9*A$3 -> 298172.85 | H9: =ROUND(G9,0) -> 298173
A10: LKA | B10: =SUM(INDEX('2023'!I:O, MATCH(Kopā!A10, '2023'!A:A, 0), 0)) -> 399562.76 | C10: =SUM(INDEX('2024'!I:O, MATCH(Kopā!A10, '2024'!A:A, 0), 0)) -> 753276.25 | D10: =SUM(INDEX('2025'!I:O, MATCH(Kopā!A10, '2025'!A:A, 0), 0)) -> 444290.29 | E10: =SUM(B10:D10) -> 1597129.3 | F10: =E10/E$18 -> 0.033337319 | G10: =F10*A$3 -> 333373.19 | H10: =ROUND(G10,0) -> 333373
A11: LBTU | B11: =SUM('2023'!I9:O9) -> 869177.02 | C11: =SUM('2024'!I6:O6) -> 1242465.5 | D11: =SUM('2025'!I5:O5) -> 982762.43 | E11: =SUM(B11:D11) -> 3094404.9 | F11: =E11/E$18 -> 0.064590365 | G11: =F11*A$3 -> 645903.65 | H11: =ROUND(G11,0) -> 645904
A12: LMA | B12: =SUM(INDEX('2023'!I:O, MATCH(Kopā!A12, '2023'!A:A, 0), 0)) -> 397384.35 | C12: =SUM(INDEX('2024'!I:O, MATCH(Kopā!A12, '2024'!A:A, 0), 0)) -> 343528.38 | D12: =SUM(INDEX('2025'!I:O, MATCH(Kopā!A12, '2025'!A:A, 0), 0)) -> 469480.39 | E12: =SUM(B12:D12) -> 1210393.1 | F12: =E12/E$18 -> 0.025264868 | G12: =F12*A$3 -> 252648.68 | H12: =ROUND(G12,0) -> 252649
A13: LU | B13: =SUM(INDEX('2023'!I:O, MATCH(Kopā!A13, '2023'!A:A, 0), 0)) -> 3678010.5 | C13: =SUM(INDEX('2024'!I:O, MATCH(Kopā!A13, '2024'!A:A, 0), 0)) -> 5055914.2 | D13: =SUM('2025'!I3:O3) -> 5496539.1 | E13: =SUM(B13:D13) -> 14230464 | F13: =E13/E$18 -> 0.29703638 | G13: =F13*A$3 -> 2970363.8 | H13: =ROUND(G13,0) -> 2970364
A14: RSU+LSPA | B14: =SUM('2023'!I21:O21)+SUM('2023'!I11:O11) -> 1743942.1 | C14: =SUM('2024'!I8:O8)+SUM('2024'!I16:O16) -> 2814112.5 | D14: =SUM('2025'!I7:O7) -> 2746595.8 | E14: =SUM(B14:D14) -> 7304650.5 | F14: =E14/E$18 -> 0.15247198 | G14: =F14*A$3 -> 1524719.8 | H14: =ROUND(G14,0) -> 1524720
A15: RTU + LJA + LiepU+RTA | B15: =SUM('2023'!I22:O22)+SUM('2023'!I17:O17)+SUM('2023'!I19:O19) -> 4157712.8 | C15: =SUM('2024'!I5:O5)+SUM('2024'!I13:O13)+SUM('2024'!I15:O15) -> 5355327.8 | D15: =SUM('2025'!I4:O4)+SUM('2025'!I13:O13) -> 5634778.9 | E15: =SUM(B15:D15) -> 15147820 | F15: =E15/E$18 -> 0.3161846 | G15: =F15*A$3 -> 3161846 | H15: =ROUND(G15,0) -> 3161846
A16: VeA | B16: =SUM(INDEX('2023'!I:O, MATCH(Kopā!A16, '2023'!A:A, 0), 0)) -> 134550.69 | C16: =SUM(INDEX('2024'!I:O, MATCH(Kopā!A16, '2024'!A:A, 0), 0)) -> 423190.83 | D16: =SUM(INDEX('2025'!I:O, MATCH(Kopā!A16, '2025'!A:A, 0), 0)) -> 320264.46 | E16: =SUM(B16:D16) -> 878005.98 | F16: =E16/E$18 -> 0.01832686 | G16: =F16*A$3 -> 183268.6 | H16: =ROUND(G16,0)-1 -> 183268
A17: ViA | B17: =SUM(INDEX('2023'!I:O, MATCH(Kopā!A17, '2023'!A:A, 0), 0)) -> 189696.19 | C17: =SUM(INDEX('2024'!I:O, MATCH(Kopā!A17, '2024'!A:A, 0), 0)) -> 257817.78 | D17: =SUM(INDEX('2025'!I:O, MATCH(Kopā!A17, '2025'!A:A, 0), 0)) -> 244592.31 | E17: =SUM(B17:D17) -> 692106.29 | F17: =E17/E$18 -> 0.014446525 | G17: =F17*A$3 -> 144465.25 | H17: =ROUND(G17,0) -> 144465
A18: Kopā | B18: =SUM(B7:B17) -> 12409404 | C18: =SUM(C7:C17) -> 17692741 | D18: =SUM(D7:D17) -> 17806005 | E18: =SUM(E7:E17) -> 47908150 | F18: =SUM(F7:F17) -> 1 | G18: =SUM(G7:G17) -> 10000000 | H18: =SUM(H7:H17) -> 10000000

Sheet 2023
B1: Sniegums | I1: Iegūtais finansējums
B2: Pz (PLE) | C2: Dz (skaits)^^ | D2: Sz (EUR)** | E2: Lz (EUR)*** | F2: Mz(EUR)^ | G2: As (Skaits) | H2: Ks (Skaits) | I2: Pz (PLE) | J2: Dz (skaits) | K2: Sz (EUR) | L2: Lz (EUR) | M2: Mz(EUR) | N2: As (Skaits) | O2: Ks (Skaits) | P2: Noapaļots rīkojumam 2023
A3: BA | B3: 0 | C3: 2 | D3: 0 | E3: 0 | F3: 0 | G3: 498 | H3: 418 | I3: 0 | J3: 9514.9784 | K3: 0 | L3: 0 | M3: 0 | N3: 40178.015 | O3: 87358.512 | P3: 137051
A4: DU | B4: 14.44 | C4: 8 | D4: 261557.9 | E4: 54217.37 | F4: 0 | G4: 1582 | H4: 584 | I4: 56638.968 | J4: 38059.914 | K4: 35090.649 | L4: 18929.016 | M4: 0 | N4: 127633.77 | O4: 122051.13 | P4: 398403
A5: DU DMK | G5: 399 | H5: 107 | I5: 0 | J5: 0 | K5: 0 | L5: 0 | M5: 0 | N5: 32190.819 | O5: 22362.107 | P5: 54553
A6: JVLMA | B6: 3.23 | C6: 0 | D6: 20972 | E6: 0 | F6: 135061.74 | G6: 913 | H6: 236 | I6: 12669.243 | J6: 0 | K6: 2813.6068 | L6: 0 | M6: 165448.06 | N6: 73659.694 | O6: 49322.031 | P6: 303913
A7: JAK | G7: 115 | H7: 49 | I7: 0 | J7: 0 | K7: 0 | L7: 0 | M7: 0 | N7: 9278.0557 | O7: 10240.591 | P7: 19519
A8: LKA | B8: 2.55 | C8: 2 | D8: 0 | E8: 107981.5 | F8: 184565.93 | G8: 840 | H8: 232 | I8: 10002.034 | J8: 9514.9784 | K8: 0 | L8: 37699.792 | M8: 226089.75 | N8: 67770.146 | O8: 48486.064 | P8: 399563
A9: LBTU | B9: 19.99 | C9: 14 | D9: 449910.69 | E9: 700041.61 | F9: 0 | G9: 2538 | H9: 1027 | I9: 78408.101 | J9: 66604.849 | K9: 60360.088 | L9: 244406.9 | M9: 0 | N9: 204762.65 | O9: 214634.43 | P9: 869177
A10: LMA | B10: 4.45 | C10: 1 | D10: 346034.32 | E10: 0 | F10: 181762.73 | G10: 828 | H10: 188 | I10: 17454.53 | J10: 4757.4892 | K10: 46424.018 | L10: 0 | M10: 222655.88 | N10: 66802.001 | O10: 39290.431 | P10: 397384
A11: LSPA | B11: 2.31 | C11: 5 | D11: 0 | E11: 0 | F11: 0 | G11: 701 | H11: 277 | I11: 9060.666 | J11: 23787.446 | K11: 0 | L11: 0 | M11: 0 | N11: 56555.8 | O11: 57890.689 | P11: 147295
A12: LU | B12: 149.37 | C12: 42 | D12: 3801223.8 | E12: 1573667.9 | F12: 1925 | G12: 10670 | H12: 4640 | I12: 585883.84 | J12: 199814.55 | K12: 509972.77 | L12: 549417.73 | M12: 2358.0883 | N12: 860842.21 | O12: 969721.29 | P12: 3678010
A13: LU PSMK | G13: 1689 | H13: 407 | I13: 0 | J13: 0 | K13: 0 | L13: 0 | M13: 0 | N13: 136266.4 | O13: 85059.604 | P13: 221326
A14: LU RMK | G14: 1304 | H14: 370 | I14: 0 | J14: 0 | K14: 0 | L14: 0 | M14: 0 | N14: 105205.08 | O14: 77326.913 | P14: 182532
A15: LU R1MK | G15: 1100 | H15: 304 | I15: 0 | J15: 0 | K15: 0 | L15: 0 | M15: 0 | N15: 88746.619 | O15: 63533.464 | P15: 152280
A16: LJK | G16: 308 | H16: 140 | I16: 0 | J16: 0 | K16: 0 | L16: 0 | M16: 0 | N16: 24849.053 | O16: 29258.832 | P16: 54108
A17: LiepU | B17: 6.4 | C17: 1 | D17: 81254 | E17: 2000 | F17: 13453 | G17: 1231 | H17: 407 | I17: 25103.144 | J17: 4757.4892 | K17: 10901.049 | L17: 698.26391 | M17: 16479.669 | N17: 99315.535 | O17: 85059.604 | P17: 242315
A18: RTK | G18: 534 | H18: 181 | I18: 0 | J18: 0 | K18: 0 | L18: 0 | M18: 0 | N18: 43082.45 | O18: 37827.49 | P18: 80910
A19: RTA | B19: 3.345 | C19: 0 | D19: 0 | E19: 8229.57 | F19: 0 | G19: 1010 | H19: 405 | I19: 13120.315 | J19: 0 | K19: 0 | L19: 2873.2059 | M19: 0 | N19: 81485.532 | O19: 84641.621 | P19: 182121
A20: RCK | G20: 292 | H20: 82 | I20: 0 | J20: 0 | K20: 0 | L20: 0 | M20: 0 | N20: 23558.193 | O20: 17137.316 | P20: 40695
A21: RSU | B21: 14.53 | C21: 21 | D21: 957505.24 | E21: 525322.41 | F21: 23070.2 | G21: 7151 | H21: 2501 | I21: 56991.981 | J21: 99907.273 | K21: 128459.05 | L21: 183406.84 | M21: 28260.555 | N21: 576933.7 | O21: 522688.13 | P21: 1596648
A22: RTU | B22: 274.61 | C22: 43 | D22: 5422079 | E22: 1720474.1 | F22: 0 | G22: 6522 | H22: 2858 | I22: 1077121 | J22: 204572.04 | K22: 727426.96 | L22: 600672.49 | M22: 0 | N22: 526186.77 | O22: 597298.15 | P22: 3733277
A23: RTU OTK | G23: 32 | H23: 8 | I23: 0 | J23: 0 | K23: 0 | L23: 0 | M23: 0 | N23: 2581.7198 | O23: 1671.9333 | P23: 4254
A24: SIVA | G24: 36 | H24: 16 | I24: 0 | J24: 0 | K24: 0 | L24: 0 | M24: 0 | N24: 2904.4348 | O24: 3343.8665 | P24: 6248
A25: VeA | B25: 3.4 | C25: 0 | D25: 293992 | E25: 37640 | F25: 0 | G25: 330 | H25: 201 | I25: 13336.045 | J25: 0 | K25: 39442.013 | L25: 13141.327 | M25: 0 | N25: 26623.986 | O25: 42007.323 | P25: 134550
A26: ViA | B26: 7.16 | C26: 0 | D26: 688272.84 | E26: 5681.06 | F26: 0 | G26: 360 | H26: 183 | I26: 28084.142 | J26: 0 | K26: 92338.791 | L26: 1983.4396 | M26: 0 | N26: 29044.348 | O26: 38245.473 | P26: 189696
A27: Kopā | B27: 505.785 | C27: 139 | D27: 12322802 | E27: 4735255.5 | F27: 539838.6 | G27: 40983 | H27: 15821 | I27: 1983874 | J27: 661291 | K27: 1653229 | L27: 1653229 | M27: 661292 | N27: 3306457 | O27: 3306457 | P27: 13225828

Sheet 2024
A1: DATI | I1: PIESAISTĪTAIS FINANSĒJUMS NO KATRA KRITĒRIJA
B2: Pz (PLE)* | C2: Dz (skaits)^^ | D2: Sz (EUR)** | E2: Lz (EUR)*** | F2: Mz(EUR)^ | G2: As (Skaits) | H2: Ks (Skaits) | I2: Pz (PLE) - 0,15 | J2: Dz (skaits) - 0,05 | K2: Sz (EUR) - 0,125 | L2: Lz (EUR) - 0,125 | M2: Mz(EUR) - 0,05 | N2: As (Skaits) - 0,25 | O2: Ks (Skaits) -0,25 | P2: Kopā
A3: Īpatsvars | I3: 0.1 | J3: 0.05 | K3: 0.1 | L3: 0.1 | M3: 0.05 | N3: 0.4 | O3: 0.2
A4: LU | B4: 168.0452 | C4: 40 | D4: 3356323.1 | E4: 1778277 | F4: 0 | G4: 10670 | H4: 4640 | I4: 609739.78 | J4: 255677.71 | K4: 494140.29 | L4: 565474.62 | M4: 0 | N4: 2002605.8 | O4: 1128276 | P4: =SUM(I4:O4) -> 5055914.2
A5: RTU | B5: 260.1473 | C5: 51 | D5: 5867538.9 | E5: 1696054.9 | F5: 3610 | G5: 6522 | H5: 2858 | I5: 943925.55 | J5: 325989.08 | K5: 863858.25 | L5: 539328.81 | M5: 10829.251 | N5: 1224085.8 | O5: 694959.63 | P5: =SUM(I5:O5) -> 4602976.3
A6: LBTU | B6: 23.756 | C6: 15 | D6: 768823.92 | E6: 763627.97 | F6: 0 | G6: 2450.87 | H6: 1005 | I6: 86196.918 | J6: 95879.14 | K6: 113191.39 | L6: 242826.2 | M6: 0 | N6: 459993.11 | O6: 244378.74 | P6: =SUM(I6:O6) -> 1242465.5
A7: VeA | B7: 4.67 | C7: 0 | D7: 205836.77 | E7: 833766 | F7: 0 | G7: 330 | H7: 201 | I7: 16944.755 | J7: 0 | K7: 30304.663 | L7: 265129.4 | M7: 0 | N7: 61936.262 | O7: 48875.747 | P7: =SUM(I7:O7) -> 423190.83
A8: RSU | B8: 15.23 | C8: 17 | D8: 1514586.6 | E8: 522931.44 | F8: 23086.2 | G8: 7151 | H8: 2501 | I8: 55260.947 | J8: 108663.03 | K8: 222987.54 | L8: 166287.06 | M8: 69253.812 | N8: 1342140 | O8: 608150.47 | P8: =SUM(I8:O8) -> 2572742.9
A9: JVLMA | B9: 3.5 | C9: 0 | D9: 3156 | E9: 0 | F9: 98905 | G9: 913 | H9: 236 | I9: 12699.495 | J9: 0 | K9: 464.64738 | L9: 0 | M9: 296694.49 | N9: 171356.99 | O9: 57386.45 | P9: =SUM(I9:O9) -> 538602.07
A10: DU | B10: 27.84 | C10: 8 | D10: 384794.65 | E10: 166918.63 | F10: 0 | G10: 1582 | H10: 584 | I10: 101015.41 | J10: 51135.541 | K10: 56652.037 | L10: 53078.485 | M10: 0 | N10: 296918.69 | O10: 142007.15 | P10: =SUM(I10:O10) -> 700807.31
A11: LMA | B11: 5.2 | C11: 3 | D11: 77247 | E11: 0 | F11: 31000 | G11: 828 | H11: 188 | I11: 18867.822 | J11: 19175.828 | K11: 11372.819 | L11: 0 | M11: 92993.571 | N11: 155403.71 | O11: 45714.629 | P11: =SUM(I11:O11) -> 343528.38
A12: LKA | B12: 4.71 | C12: 3 | D12: 119200.03 | E12: 61604.04 | F12: 155278.03 | G12: 840 | H12: 232 | I12: 17089.892 | J12: 19175.828 | K12: 17549.424 | L12: 19589.48 | M12: 465801.88 | N12: 157655.94 | O12: 56413.798 | P12: =SUM(I12:O12) -> 753276.25
A13: LiepU | B13: 6.65 | C13: 6 | D13: 251201 | E13: 0 | F13: 7740 | G13: 1231 | H13: 407 | I13: 24129.041 | J13: 38351.656 | K13: 36983.488 | L13: 0 | M13: 23218.395 | N13: 231041.03 | O13: 98967.309 | P13: =SUM(I13:O13) -> 452690.91
A14: ViA | B14: 3.88 | C14: 0 | D14: 475988.83 | E14: 193702.8 | F14: 0 | G14: 360 | H14: 183 | I14: 14078.298 | J14: 0 | K14: 70078.252 | L14: 61595.588 | M14: 0 | N14: 67566.831 | O14: 44498.815 | P14: =SUM(I14:O14) -> 257817.78
A15: RTA | B15: 0.7882 | C15: 1 | D15: 0 | E15: 7438.02 | F15: 0 | G15: 1010 | H15: 405 | I15: 2859.9264 | J15: 6391.9427 | K15: 0 | L15: 2365.2173 | M15: 0 | N15: 189562.5 | O15: 98480.983 | P15: =SUM(I15:O15) -> 299660.57
... A17: BA | B17: 1.182 | C17: 1 | D17: 0 | E17: 6000 | F17: 0 | G17: 498 | H17: 418 | I17: 4288.801 | J17: 6391.9427 | K17: 0 | L17: 1907.9411 | M17: 0 | N17: 93467.45 | O17: 101642.1 | P17: =SUM(I17:O17) -> 207698.24
A18: DU DMK | G18: 399 | H18: 107 | N18: 74886.571 | O18: 26018.433 | P18: =SUM(I18:O18) -> 100905
A19: LBTU MK | G19: 87.1 | H19: 22 | N19: 16347.419 | O19: 5349.5843 | P19: =SUM(I19:O19) -> 21697.004
A20: LU PSMK | G20: 1689 | H20: 407 | N20: 317001.05 | O20: 98967.309 | P20: =SUM(I20:O20) -> 415968.36
A21: LU RMK | G21: 1304 | H21: 370 | N21: 244742.08 | O21: 89970.281 | P21: =SUM(I21:O21) -> 334712.36
A22: LU R1MK | G22: 1100 | H22: 304 | N22: 206454.21 | O22: 73921.528 | P22: =SUM(I22:O22) -> 280375.73
A23: LJK | G23: 308 | H23: 140 | N23: 57807.178 | O23: 34042.809 | P23: =SUM(I23:O23) -> 91849.987
A24: RTK | G24: 534 | H24: 181 | N24: 100224.13 | O24: 44012.489 | P24: =SUM(I24:O24) -> 144236.62
A25: RCK | G25: 292 | H25: 82 | N25: 54804.208 | O25: 19939.36 | P25: =SUM(I25:O25) -> 74743.567
A26: RTU OTK | G26: 32 | H26: 8 | N26: 6005.9406 | O26: 1945.3034 | P26: =SUM(I26:O26) -> 7951.2439
A27: SIVA | G27: 36 | H27: 16 | N27: 6756.6831 | O27: 3890.6067 | P27: =SUM(I27:O27) -> 10647.29
A28: KOPĀ | B28: 528.4887 | C28: 150 | D28: 13024697 | E28: 6030320.8 | F28: 319619.23 | G28: 40867.97 | H28: 15772 | I28: 1917582.8 | J28: 958791.4 | K28: 1917582.8 | L28: 1917582.8 | M28: 958791.4 | N28: 7670331.2 | O28: 3835165.6 | P28: =SUM(I28:O28) -> 19175828
K30: =SUM(I4:O27) -> 19175828

Sheet 2025
A1: DATI | I1: PIESAISTĪTAIS FINANSĒJUMS NO KATRA KRITĒRIJA
B2: Pz (PLE)* | C2: Dz (skaits)^^ | D2: Sz (EUR)** | E2: Lz (EUR)*** | F2: Mz(EUR)^ | G2: As (Skaits) | H2: Ks (Skaits) | I2: Pz (PLE) - 0,1 | J2: Dz (skaits) - 0,05 | K2: Sz (EUR) - 0,1 | L2: Lz (EUR) - 0,1 | M2: Mz(EUR) - 0,05 | N2: As (Skaits) - 0,4 | O2: Ks (Skaits) -0,2 | P2: Kopā
A3: LU | B3: 201.373 | C3: 60 | D3: 9748105 | E3: 2301801 | F3: 0 | G3: 11201.024 | H3: 4769 | I3: 649690.29 | J3: 330617.72 | K3: 701539.95 | L3: 570323.89 | M3: 0 | N3: 2093914 | O3: 1150453.2 | P3: =SUM(I3:O3) -> 5496539.1
A4: RTU | B4: 296.5688 | C4: 62 | D4: 12632672 | E4: 2988104.6 | F4: 105024.68 | G4: 7643.158 | H4: 3295 | I4: 956820.77 | J4: 341638.31 | K4: 909133.04 | L4: 740371.32 | M4: 185723.5 | N4: 1428808.3 | O4: 794871.72 | P4: =SUM(I4:O4) -> 5357366.9
A5: LBTU | B5: 19.41 | C5: 16 | D5: 641260.92 | E5: 428010.38 | F5: 0 | G5: 2370.414 | H5: 981 | I5: 62622.539 | J5: 88164.726 | K5: 46149.498 | L5: 106049.37 | M5: 0 | N5: 443124.05 | O5: 236652.25 | P5: =SUM(I5:O5) -> 982762.43
A6: VeA | B6: 4.292 | C6: 0 | D6: 204763.5 | E6: 770272.28 | F6: 0 | G6: 298.05 | H6: 187 | I6: 13847.292 | J6: 0 | K6: 14736.174 | L6: 190852.59 | M6: 0 | N6: 55717.323 | O6: 45111.081 | P6: =SUM(I6:O6) -> 320264.46
A7: RSU | B7: 20.6 | C7: 20 | D7: 1428448.9 | E7: 734763.82 | F7: 23102.2 | G7: 8217.59 | H7: 2935 | I7: 66461.839 | J7: 110205.91 | K7: 102800.9 | L7: 182054.56 | M7: 40853.458 | N7: 1536192.3 | O7: 708026.86 | P7: =SUM(I7:O7) -> 2746595.8
A8: JVLMA | B8: 3.84 | C8: 1 | D8: 9665 | E8: 0 | F8: 203413 | G8: 839.9 | H8: 210 | I8: 12389.003 | J8: 5510.2954 | K8: 695.55915 | L8: 0 | M8: 359711.39 | N8: 157010.5 | O8: 50659.503 | P8: =SUM(I8:O8) -> 585976.25
A9: DU | B9: 33.3947 | C9: 9 | D9: 232212.64 | E9: 233182.07 | F9: 0 | G9: 1638.626 | H9: 603 | I9: 107741.42 | J9: 49592.659 | K9: 16711.601 | L9: 57776.196 | M9: 0 | N9: 306323.95 | O9: 145465.14 | P9: =SUM(I9:O9) -> 683610.97
A10: LMA | B10: 4.375 | C10: 3 | D10: 121512 | E10: 0 | F10: 128265.16 | G10: 837 | H10: 194 | I10: 14115.075 | J10: 16530.886 | K10: 8744.8302 | L10: 0 | M10: 226821.49 | N10: 156468.38 | O10: 46799.731 | P10: =SUM(I10:O10) -> 469480.39
A11: LKA | B11: 5.46 | C11: 1 | D11: 145374.59 | E11: 139595.4 | F11: 82381.39 | G11: 889.4 | H11: 266 | I11: 17615.614 | J11: 5510.2954 | K11: 10462.144 | L11: 34587.956 | M11: 145681.57 | N11: 166264.01 | O11: 64168.704 | P11: =SUM(I11:O11) -> 444290.29
A12: ViA | B12: 2.7 | C12: 0 | D12: 1455231.4 | E12: 73547.18 | F12: 0 | G12: 351.171 | H12: 196 | I12: 8711.0178 | J12: 0 | K12: 104728.35 | L12: 18222.997 | M12: 0 | N12: 65647.737 | O12: 47282.203 | P12: =SUM(I12:O12) -> 244592.31
A13: RTA | B13: 0.642 | C13: 2 | D13: 0 | E13: 7999.28 | F13: 0 | G13: 932.318 | H13: 365 | I13: 2071.2865 | J13: 11020.591 | K13: 0 | L13: 1982.0047 | M13: 0 | N13: 174287.08 | O13: 88051.041 | P13: =SUM(I13:O13) -> 277412
A14: BA | B14: 1.7037 | C14: 0 | D14: 26133.61 | E14: 62000 | F14: 0 | G14: 445 | H14: 378 | I14: 5496.6522 | J14: 0 | K14: 1880.7524 | L14: 15361.919 | M14: 0 | N14: 83188.085 | O14: 91187.105 | P14: =SUM(I14:O14) -> 197114.51
A15: DU DMK | G15: 433.5 | H15: 115 | N15: 81038.28 | O15: 27742.109 | P15: =SUM(I15:O15) -> 108780.39
A16: LBTU MK | G16: 90.9 | H16: 21 | N16: 16992.802 | O16: 5065.9503 | P16: =SUM(I16:O16) -> 22058.752
A17: LU PSMK | G17: 1904 | H17: 463 | N17: 355932.84 | O17: 111692.14 | P17: =SUM(I17:O17) -> 467624.98
A18: LU RMK | G18: 1001 | H18: 288 | N18: 187126.46 | O18: 69475.89 | P18: =SUM(I18:O18) -> 256602.35
A19: LU R1MK | G19: 1016.5 | H19: 290 | N19: 190024.02 | O19: 69958.361 | P19: =SUM(I19:O19) -> 259982.38
A20: LJK | G20: 218.195 | H20: 112 | N20: 40789.268 | O20: 27018.402 | P20: =SUM(I20:O20) -> 67807.669
A21: RTK | G21: 435.969 | H21: 152 | N21: 81499.834 | O21: 36667.831 | P21: =SUM(I21:O21) -> 118167.66
A22: RBK | G22: 224.614 | H22: 62 | N22: 41989.233 | O22: 14956.615 | P22: =SUM(I22:O22) -> 56945.848
A23: RTU OTK | G23: 12.516 | H23: 5 | N23: 2339.735 | O23: 1206.1786 | P23: =SUM(I23:O23) -> 3545.9136
A24: SIVA | G24: 30.24 | H24: 11 | N24: 5653.051 | O24: 2653.593 | P24: =SUM(I24:O24) -> 8306.644
A25: KOPĀ | B25: 594.3592 | C25: 174 | D25: 26645380 | E25: 7739276.1 | F25: 542186.43 | G25: 41031.085 | H25: 15898 | I25: 1917582.8 | J25: 958791.4 | K25: 1917582.8 | L25: 1917582.8 | M25: 958791.4 | N25: 7670331.2 | O25: 3835165.6 | P25: =SUM(I25:O25) -> 19175828
K26: =SUM(I3:O24) -> 19175828
