Workbook

Sheet VP jūlijs
D1: 2.pielikums
D2: Ministru kabineta rīkojuma projekta
D3: “Par finanšu līdzekļu piešķiršanu no valsts budžeta programmas
D4: “Līdzekļi neparedzētiem gadījumiem”” sākotnējās ietekmes novērtējuma ziņojumam (anotācijai)
A6: Valsts policijai papildu nepieciešamais finansējums saistībā ar situāciju uz Latvijas Republikas - Baltkrievijas Republikas valsts robežas laikposmā no 2023.gada 1.jūlija līdz 31.jūlijam
A7: Kopasavilkums
A9: Kods | B9: Koda nosaukums | C9: Detalizēts izdevumu aprēķins | D9: Izdevumi, euro
A10: Izdevumi kopā ar vidējās izpeļņas pieauguma kompensēšanu | D10: =D11+D14 -> 86335
A11: 1000 | B11: Atlīdzība | C11: × | D11: =ROUNDUP(D12+D13,0) -> 70820
A12: 1100 | B12: Atalgojums | C12: × | D12: =D37+D18 -> 57304.57
A13: 1210 | B13: Darba devēja valsts sociālās apdrošināšanas obligātās iemaksas | C13: × | D13: =D39+D27 -> 13515.4
A14: 2000 | B14: Preces un pakalpojumi | C14: × | D14: =D40+D28 -> 15515
A16: 1) Izdevumi saistībā ar rīkojuma Nr. 518 izpildei nepieciešamo pasākumu īstenošanu | D16: =D17+D28 -> 80584
A17: 1000 | B17: Atlīdzība | C17: × | D17: =ROUNDUP(D18+D27,0) -> 65375
A18: 1100 | B18: Atalgojums | C18: × | D18: =SUM(D19:D26) -> 52898.57
A19: 1116 | B19: Mēnešalga amatpersonām ar speciālajām dienesta pakāpēm | G19: 19441.49
A20: 1141 | B20: Piemaksa par nakts darbu | G20: 6811.86
C21: Detalizēts aprēķins par laika periodu no 2023.gada 1.jūlija līdz 31.jūlijam 1.tabulā. Iesaistītas 284 personas, kopējais iesaistes laiks 4 760 stundas. | D21: ='1.tabula'!G6 -> 19441.49
A22: 1142 | B22: Samaksa par virsstundu darbu un darbu svētku dienās
C23: 1) Piemaksa par virsstundu darbu Detalizēts aprēķins par laika periodu no 2023.gada 1.maija līdz 31.jūlijam 2.tabulā. Iesaistītas 2 personas, kopējais iesaistes laiks 103 stundas. Aprēķins par papildu nepieciešamo finansējumu samaksai par virsstundu darbu veikts, jo 2023.gada jūlijā tika izbeigtas dienesta attiecības ar divām amatpersonām. 2) Piemaksa par darbu svētku dienās (10.07.) Detalizēts aprēķins par laika periodu no 2023.gada 1.jūlija līdz 31.jūlijam 3.tabulā. Iesaistītas 59 personas, kopējais iesaistes laiks 614 stundas. | D23: =' 2.tabula'!G6+'3.tabula'!G6 -> 6811.86
A24: 1145 | B24: Piemaksa par darbu īpašos apstākļos, speciālās piemaksas | C24: Detalizēts aprēķins par laika periodu no 2023.gada 1.jūlija līdz 31.jūlijam 4.tabulā. Iesaistītas 452 personas, kopējais iesaistes laiks 14 986,5 stundas. | D24: ='4.tabula'!H6 -> 26645.22
G25: 5643
A26: 1146 | B26: Piemaksa par personisko darba ieguldījumu un darba kvalitāti | G26: 8733.98
A27: 1210 | B27: Darba devēja valsts sociālās apdrošināšanas obligātās iemaksas | C27: 23,59% no aprēķinātā atalgojuma * izņemot divas personas, kurām tiek piemērota nodokļu likme 21,94% (izdienas pensionārs) | D27: ='1.tabula'!H6+' 2.tabula'!H6+'3.tabula'!H6+'4.tabula'!I6 -> 12475.92
A28: 2000 | B28: Preces un pakalpojumi | C28: × | D28: =ROUNDUP(SUM(D29:D33),0) -> 15209
A29: 2111 | B29: Dienas nauda | C29: Detalizēts aprēķins 5.tabulā. Dienas nauda par periodu no 2023.gada 01.jūlija līdz 22.jūlijam izmaksāta 13 personām. Valsts policijas pavēle 22.06.2023 Nr.3300 “Par komandējumu uz Daugavpili (Latvijā)” dienas nauda: 100% (8,00 euro) pirmā un pēdējā diena, 30% (2,40 euro) pārējās dienas *Valsts policija iekšzemes komandējumiem nemaksā dienas naudu avansā, bet gan izmaksā tad, kad no komandējuma amatpersonas ir atgriezušās. Komandējuma laika ietvars saskaņā ar Valsts policijas pavēli par komandējumu, ir tāds, ka uz mēnesi tiek sūtīta komandējumā viena amatpersonu grupa, pēc tam – uz mēnesi tika nosūtīta cita amatpersonu grupa. | D29: ='5.tabula'!G6 -> 832
A30: 2112 | B30: Pārējie komandējumu un darba braucienu izdevumi
A31: 2271 | B31: Izdevumi, kas saistīti ar operatīvo darbību | C31: Izdevumi, kas saistīti ar operatīvo darbību 2023.gada jūlijā | D31: 5643
A32: 2312 | B32: Inventārs
A33: 2322 | B33: Degviela | C33: Detalizēts aprēķins par laika periodu no 2023.gada 1.jūlija līdz 31.jūlijam 6.tabulā. Pasākuma nodrošināšanai tika iesaistīti 87 transportlīdzekļi; Vidēji viena transportlīdzekļa nobraukums 1063,83 km; Vidējā degvielas cena 1,3234 euro/l; Vidējais degvielas patēriņš 7,131 l/km uz 100 km. 87 t-ldz. x 1063,83 km x 1,3234 euro/l x 7,131 l/km ÷ 100 km =8 733,98 euro | D33: ='6.tabula'!F6 -> 8733.98
A35: 2) Vidējās izpeļņas pieauguma kompensēšanai | D35: =D36+D40 -> 5751.48
A36: 1000 | B36: Atlīdzība | C36: × | D36: =D37+D39 -> 5445.48
A37: 1100 | B37: Atalgojums | C37: × | D37: =ROUND(SUM(D38:D38),0) -> 4406
A38: 1116 | B38: Mēnešalga amatpersonām ar speciālajām dienesta pakāpēm | C38: 52 898,57 euro × 8,33% = 4 406,45 euro. | D38: =ROUND((D21+D22+D24+D26+D25+D23+D20)*8.33%,2) -> 4406.45
A39: 1210 | B39: Darba devēja valsts sociālās apdrošināšanas obligātās iemaksas | C39: 23,59% no aprēķinātā atalgojuma | D39: =ROUND(D38*0.2359,2) -> 1039.48
A40: 2000 | B40: Preces un pakalpojumi | D40: =ROUND(SUM(D41:D41),2) -> 306
A41: 2271 | B41: Izdevumi, kas saistīti ar operatīvo darbību | C41: Informācija klasificēta | D41: 306

Sheet 1.tabula
I1: 2.pielikuma 1.tabula
A2: Valsts policija
A3: Piemaksa par nakts darbu amatpersonām ar speciālajām dienesta pakāpēm, kuras laika periodā no 2023.gada 1. jūlija līdz 31. jūlijam tika iesaistītas atbalsta sniegšanā Valsts robežsardzei Latvijas Republikas-Baltkrievijas Republikas valsts robežas robežuzraudzības nodrošināšanā
E4: 166.33
A5: Nr. p.k. | B5: Struktūrvienība | C5: Amats | D5: Mēnešalga amatpersonām ar speciālajām pakāpēm | E5: Stundas likme | F5: Stundu skaits | G5: Piemaksa par nakts darbu | H5: DD VSAOI | I5: Atlīdzība
A6: kopā | F6: =SUM(F8:F292) -> 4760 | G6: =SUM(G8:G292) -> 19441.49 | H6: =SUM(H8:H292) -> 4585.02 | I6: =SUM(I8:I292) -> 24026.51
B7: LATGALES REĢIONA PĀRVALDE
A8: 1 | B8: VP LATGALES RP ZIEMEĻLATGALES IECIRKNIS | C8: iecirkņa priekšnieka vietnieks, Reaģēšanas nodaļas priekšnieks | D8: 2040 | E8: =ROUND(D8/$E$4,3) -> 12.265 | F8: 8 | G8: 49.06 | H8: =ROUND(G8*0.2359,2) -> 11.57 | I8: =G8+H8 -> 60.63
A9: =A8+1 -> 2 | B9: VP LATGALES RP DIENVIDLATGALES IECIRKŅA REAĢĒŠANAS NODAĻAS 3.GRUPA | C9: vecākais inspektors | D9: 1463 | E9: =ROUND(D9/$E$4,3) -> 8.796 | F9: 38 | G9: 167.12 | H9: =ROUND(G9*0.2359,2) -> 39.42 | I9: =G9+H9 -> 206.54
A10: =A9+1 -> 3 | B10: VP LATGALES RP ZIEMEĻLATGALES IECIRKŅA IZMEKLĒŠANAS NODAĻAS 5.GRUPA | C10: galvenais inspektors | D10: 1774 | E10: =ROUND(D10/$E$4,3) -> 10.666 | F10: 24 | G10: 127.99 | H10: =ROUND(G10*0.2359,2) -> 30.19 | I10: =G10+H10 -> 158.18
A11: =A10+1 -> 4 | B11: VP LATGALES RP DIENVIDLATGALES IECIRKŅA REAĢĒŠANAS NODAĻAS 7.GRUPA | C11: inspektors | D11: 1317 | E11: =ROUND(D11/$E$4,3) -> 7.918 | F11: 32 | G11: 126.69 | H11: =ROUND(G11*0.2359,2) -> 29.89 | I11: =G11+H11 -> 156.58
A12: =A11+1 -> 5 | B12: VP LATGALES RP DIENVIDLATGALES IECIRKŅA REAĢĒŠANAS NODAĻAS 7.GRUPA | C12: jaunākais inspektors | D12: 1140 | E12: =ROUND(D12/$E$4,3) -> 6.854 | F12: 24 | G12: 82.25 | H12: =ROUND(G12*0.2359,2) -> 19.4 | I12: =G12+H12 -> 101.65
A13: =A12+1 -> 6 | B13: VP LATGALES RP DIENVIDLATGALES IECIRKŅA IZMEKLĒŠANAS NODAĻAS 5.GRUPA | C13: inspektors | D13: 1437 | E13: =ROUND(D13/$E$4,3) -> 8.639 | F13: 8 | G13: 34.56 | H13: =ROUND(G13*0.2359,2) -> 8.15 | I13: =G13+H13 -> 42.71
A14: =A13+1 -> 7 | B14: VP LATGALES RP DIENVIDLATGALES IECIRKŅA REAĢĒŠANAS NODAĻAS 1.GRUPA | C14: inspektors | D14: 1317 | E14: =ROUND(D14/$E$4,3) -> 7.918 | F14: 16 | G14: 63.34 | H14: =ROUND(G14*0.2359,2) -> 14.94 | I14: =G14+H14 -> 78.28
A15: =A14+1 -> 8 | B15: VP LATGALES RP ZIEMEĻLATGALES IECIRKŅA PREVENCIJAS GRUPA | C15: vecākais inspektors | D15: 1381 | E15: =ROUND(D15/$E$4,3) -> 8.303 | F15: 14 | G15: 58.12 | H15: =ROUND(G15*0.2359,2) -> 13.71 | I15: =G15+H15 -> 71.83
A16: =A15+1 -> 9 | B16: VP LATGALES RP ZIEMEĻLATGALES IECIRKŅA REAĢĒŠANAS NODAĻAS 9.GRUPA | C16: inspektors | D16: 1317 | E16: =ROUND(D16/$E$4,3) -> 7.918 | F16: 8 | G16: 31.67 | H16: =ROUND(G16*0.2359,2) -> 7.47 | I16: =G16+H16 -> 39.14
A17: =A16+1 -> 10 | B17: VP LATGALES RP KĀRTPB ATĻAUJU SISTĒMAS GRUPA | C17: inspektors | D17: 1196 | E17: =ROUND(D17/$E$4,3) -> 7.191 | F17: 10 | G17: 35.96 | H17: =ROUND(G17*0.2359,2) -> 8.48 | I17: =G17+H17 -> 44.44
A18: =A17+1 -> 11 | B18: VP LATGALES RP ZIEMEĻLATGALES IECIRKŅA IZMEKLĒŠANAS NODAĻAS 3.GRUPA | C18: vecākais inspektors | D18: 1490 | E18: =ROUND(D18/$E$4,3) -> 8.958 | F18: 16 | G18: 71.66 | H18: =ROUND(G18*0.2359,2) -> 16.9 | I18: =G18+H18 -> 88.56
A19: =A18+1 -> 12 | B19: VP LATGALES RP ZIEMEĻLATGALES IECIRKŅA IZMEKLĒŠANAS NODAĻAS 3.GRUPA | C19: vecākais inspektors | D19: 1610 | E19: =ROUND(D19/$E$4,3) -> 9.68 | F19: 8 | G19: 38.72 | H19: =ROUND(G19*0.2359,2) -> 9.13 | I19: =G19+H19 -> 47.85
A20: =A19+1 -> 13 | B20: VP LATGALES RP DIENVIDLATGALES IECIRKŅA REAĢĒŠANAS NODAĻAS 6.GRUPA | C20: jaunākais inspektors | D20: 1140 | E20: =ROUND(D20/$E$4,3) -> 6.854 | F20: 24 | G20: 82.25 | H20: =ROUND(G20*0.2359,2) -> 19.4 | I20: =G20+H20 -> 101.65
... A66: =A65+1 -> 59 | B66: VP LATGALES RP DIENVIDLATGALES IECIRKŅA REAĢĒŠANAS NODAĻAS 5.GRUPA | C66: vecākais inspektors | D66: 1335 | E66: =ROUND(D66/$E$4,3) -> 8.026 | F66: 8 | G66: 32.1 | H66: =ROUND(G66*0.2359,2) -> 7.57 | I66: =G66+H66 -> 39.67
A67: =A66+1 -> 60 | B67: VP LATGALES RP DIENVIDLATGALES IECIRKŅA REAĢĒŠANAS NODAĻAS 4.GRUPA | C67: vecākais inspektors | D67: 1475 | E67: =ROUND(D67/$E$4,3) -> 8.868 | F67: 8 | G67: 35.47 | H67: 7.78 | I67: =G67+H67 -> 43.25 | J67: ***
A68: =A67+1 -> 61 | B68: VP LATGALES RP DIENVIDLATGALES IECIRKŅA IZMEKLĒŠANAS NODAĻAS 9.GRUPA | C68: galvenais inspektors | D68: 1422 | E68: =ROUND(D68/$E$4,3) -> 8.549 | F68: 18 | G68: 76.94 | H68: =ROUND(G68*0.2359,2) -> 18.15 | I68: =G68+H68 -> 95.09
A69: =A68+1 -> 62 | B69: VP LATGALES RP KĀRTPB ATĻAUJU SISTĒMAS GRUPA | C69: inspektors | D69: 1176 | E69: =ROUND(D69/$E$4,3) -> 7.07 | F69: 32 | G69: 113.12 | H69: =ROUND(G69*0.2359,2) -> 26.69 | I69: =G69+H69 -> 139.81
A70: =A69+1 -> 63 | B70: VP LATGALES RP DIENVIDLATGALES IECIRKŅA IZMEKLĒŠANAS NODAĻAS 1.GRUPA | C70: inspektors | D70: 1443 | E70: =ROUND(D70/$E$4,3) -> 8.676 | F70: 2 | G70: 8.68 | H70: =ROUND(G70*0.2359,2) -> 2.05 | I70: =G70+H70 -> 10.73
A71: =A70+1 -> 64 | B71: VP LATGALES RP ZIEMEĻLATGALES IECIRKŅA IZMEKLĒŠANAS NODAĻAS 8.GRUPA | C71: vecākais inspektors | D71: 1335 | E71: =ROUND(D71/$E$4,3) -> 8.026 | F71: 6 | G71: 24.08 | H71: =ROUND(G71*0.2359,2) -> 5.68 | I71: =G71+H71 -> 29.76
A72: =A71+1 -> 65 | B72: VP LATGALES RP KRIMPB RĒZEKNES REĢIONĀLĀ NODAĻA | C72: vecākais inspektors | D72: 1593 | E72: =ROUND(D72/$E$4,3) -> 9.577 | F72: 8 | G72: 38.31 | H72: =ROUND(G72*0.2359,2) -> 9.04 | I72: =G72+H72 -> 47.35
A73: =A72+1 -> 66 | B73: VP LATGALES RP DIENVIDLATGALES IECIRKŅA IZMEKLĒŠANAS NODAĻAS 6.GRUPA | C73: inspektors | D73: 1362 | E73: =ROUND(D73/$E$4,3) -> 8.189 | F73: 8 | G73: 32.76 | H73: =ROUND(G73*0.2359,2) -> 7.73 | I73: =G73+H73 -> 40.49
A74: =A73+1 -> 67 | B74: VP LATGALES RP DIENVIDLATGALES IECIRKŅA IZMEKLĒŠANAS NODAĻAS 2.GRUPA | C74: inspektors | D74: 1463 | E74: =ROUND(D74/$E$4,3) -> 8.796 | F74: 8 | G74: 35.18 | H74: =ROUND(G74*0.2359,2) -> 8.3 | I74: =G74+H74 -> 43.48
A75: =A74+1 -> 68 | B75: VP LATGALES RP ZIEMEĻLATGALES IECIRKŅA IZMEKLĒŠANAS NODAĻAS 9.GRUPA | C75: inspektors | D75: 1317 | E75: =ROUND(D75/$E$4,3) -> 7.918 | F75: 8 | G75: 31.67 | H75: =ROUND(G75*0.2359,2) -> 7.47 | I75: =G75+H75 -> 39.14
A76: =A75+1 -> 69 | B76: VP LATGALES RP ZIEMEĻLATGALES IECIRKŅA IZMEKLĒŠANAS NODAĻAS 2.GRUPA | C76: vecākais inspektors | D76: 1517 | E76: =ROUND(D76/$E$4,3) -> 9.12 | F76: 8 | G76: 36.48 | H76: =ROUND(G76*0.2359,2) -> 8.61 | I76: =G76+H76 -> 45.09
A77: =A76+1 -> 70 | B77: VP LATGALES RP KRIMPB RĒZEKNES REĢIONĀLĀ NODAĻA | C77: vecākais inspektors | D77: 1573 | E77: =ROUND(D77/$E$4,3) -> 9.457 | F77: 8 | G77: 37.83 | H77: =ROUND(G77*0.2359,2) -> 8.92 | I77: =G77+H77 -> 46.75
A78: =A77+1 -> 71 | B78: VP LATGALES RP ZIEMEĻLATGALES IECIRKŅA IZMEKLĒŠANAS NODAĻAS 1.GRUPA | C78: inspektors | D78: 1463 | E78: =ROUND(D78/$E$4,3) -> 8.796 | F78: 16 | G78: 70.37 | H78: =ROUND(G78*0.2359,2) -> 16.6 | I78: =G78+H78 -> 86.97
A79: =A78+1 -> 72 | B79: VP LATGALES RP ZIEMEĻLATGALES IECIRKŅA IZMEKLĒŠANAS NODAĻAS 3.GRUPA | C79: vecākais inspektors | D79: 1517 | E79: =ROUND(D79/$E$4,3) -> 9.12 | F79: 40 | G79: 182.4 | H79: =ROUND(G79*0.2359,2) -> 43.03 | I79: =G79+H79 -> 225.43
... A132: =A131+1 -> 125 | B132: VP LATGALES RP ZIEMEĻLATGALES IECIRKŅA IZMEKLĒŠANAS NODAĻAS 1.GRUPA | C132: galvenais inspektors | D132: 1838 | E132: =ROUND(D132/$E$4,3) -> 11.05 | F132: 24 | G132: 132.6 | H132: =ROUND(G132*0.2359,2) -> 31.28 | I132: =G132+H132 -> 163.88
A133: =A132+1 -> 126 | B133: VP LATGALES RP DIENVIDLATGALES IECIRKŅA IZMEKLĒŠANAS NODAĻAS 4.GRUPA | C133: vecākais inspektors | D133: 1637 | E133: =ROUND(D133/$E$4,3) -> 9.842 | F133: 8 | G133: 39.37 | H133: 8.64 | I133: =G133+H133 -> 48.01 | J133: ***
A134: =A133+1 -> 127 | B134: VP LATGALES RP DIENVIDLATGALES IECIRKŅA IZMEKLĒŠANAS NODAĻAS 7.GRUPA | C134: vecākais inspektors | D134: 1335 | E134: =ROUND(D134/$E$4,3) -> 8.026 | F134: 16 | G134: 64.21 | H134: =ROUND(G134*0.2359,2) -> 15.15 | I134: =G134+H134 -> 79.36
A135: =A134+1 -> 128 | B135: VP LATGALES RP ZIEMEĻLATGALES IECIRKŅA PREVENCIJAS GRUPA | C135: vecākais inspektors | D135: 1474 | E135: =ROUND(D135/$E$4,3) -> 8.862 | F135: 8 | G135: 35.45 | H135: =ROUND(G135*0.2359,2) -> 8.36 | I135: =G135+H135 -> 43.81
A136: =A135+1 -> 129 | B136: VP LATGALES RP KRIMPB EKONOMISKO NOZIEGUMU APKAROŠANAS NODAĻA | C136: vecākais inspektors | D136: 1545 | E136: =ROUND(D136/$E$4,3) -> 9.289 | F136: 8 | G136: 37.16 | H136: =ROUND(G136*0.2359,2) -> 8.77 | I136: =G136+H136 -> 45.93
A137: =A136+1 -> 130 | B137: VP LATGALES RP DIENVIDLATGALES IECIRKŅA IZMEKLĒŠANAS NODAĻAS 5.GRUPA | C137: vecākais inspektors | D137: 1517 | E137: =ROUND(D137/$E$4,3) -> 9.12 | F137: 8 | G137: 36.48 | H137: =ROUND(G137*0.2359,2) -> 8.61 | I137: =G137+H137 -> 45.09
A138: =A137+1 -> 131 | B138: VP LATGALES RP ZIEMEĻLATGALES IECIRKŅA REAĢĒŠANAS NODAĻAS 7.GRUPA | C138: jaunākais inspektors | D138: 1140 | E138: =ROUND(D138/$E$4,3) -> 6.854 | F138: 8 | G138: 27.42 | H138: =ROUND(G138*0.2359,2) -> 6.47 | I138: =G138+H138 -> 33.89
A139: =A138+1 -> 132 | B139: VP LATGALES RP DIENVIDLATGALES IECIRKŅA IZMEKLĒŠANAS NODAĻAS 2.GRUPA | C139: inspektors | D139: 1463 | E139: =ROUND(D139/$E$4,3) -> 8.796 | F139: 8 | G139: 35.18 | H139: =ROUND(G139*0.2359,2) -> 8.3 | I139: =G139+H139 -> 43.48
A140: =A139+1 -> 133 | B140: VP LATGALES RP ZIEMEĻLATGALES IECIRKŅA REAĢĒŠANAS NODAĻAS 5.GRUPA | C140: inspektors | D140: 1337 | E140: =ROUND(D140/$E$4,3) -> 8.038 | F140: 8 | G140: 32.15 | H140: =ROUND(G140*0.2359,2) -> 7.58 | I140: =G140+H140 -> 39.73
A141: =A140+1 -> 134 | B141: VP LATGALES RP ZIEMEĻLATGALES IECIRKŅA IZMEKLĒŠANAS NODAĻAS 6.GRUPA | C141: vecākais inspektors | D141: 1517 | E141: =ROUND(D141/$E$4,3) -> 9.12 | F141: 16 | G141: 72.96 | H141: =ROUND(G141*0.2359,2) -> 17.21 | I141: =G141+H141 -> 90.17
A142: =A141+1 -> 135 | B142: VP LATGALES RP ZIEMEĻLATGALES IECIRKŅA PREVENCIJAS GRUPA | C142: galvenais inspektors | D142: 1474 | E142: =ROUND(D142/$E$4,3) -> 8.862 | F142: 8 | G142: 35.45 | H142: =ROUND(G142*0.2359,2) -> 8.36 | I142: =G142+H142 -> 43.81
A143: =A142+1 -> 136 | B143: VP LATGALES RP ZIEMEĻLATGALES IECIRKŅA IZMEKLĒŠANAS NODAĻAS 2.GRUPA | C143: vecākais inspektors | D143: 1470 | E143: =ROUND(D143/$E$4,3) -> 8.838 | F143: 8 | G143: 35.35 | H143: =ROUND(G143*0.2359,2) -> 8.34 | I143: =G143+H143 -> 43.69
A144: =A143+1 -> 137 | B144: VP LATGALES RP KRIMPB EKONOMISKO NOZIEGUMU APKAROŠANAS NODAĻA | C144: nodaļas priekšnieka vietnieks | D144: 2012 | E144: =ROUND(D144/$E$4,3) -> 12.096 | F144: 8 | G144: 48.38 | H144: =ROUND(G144*0.2359,2) -> 11.41 | I144: =G144+H144 -> 59.79
A145: =A144+1 -> 138 | B145: VP LATGALES RP DIENVIDLATGALES IECIRKŅA REAĢĒŠANAS NODAĻAS 6.GRUPA | C145: jaunākais inspektors | D145: 1140 | E145: =ROUND(D145/$E$4,3) -> 6.854 | F145: 16 | G145: 54.83 | H145: =ROUND(G145*0.2359,2) -> 12.93 | I145: =G145+H145 -> 67.76
... A261: =A260+1 -> 254 | B261: VP LATGALES RP ZIEMEĻLATGALES IECIRKŅA PREVENCIJAS GRUPA | C261: inspektors | D261: 1262 | E261: =ROUND(D261/$E$4,3) -> 7.587 | F261: 8 | G261: 30.35 | H261: =ROUND(G261*0.2359,2) -> 7.16 | I261: =G261+H261 -> 37.51
B262: RĪGAS REĢIONA PĀRVALDE
A263: 255 | B263: VP RĪGAS RP KĀRTPP PPP SUB 6.ROTA (ZEMGALES REĢIONA) (BIJUŠ) | C263: rotas komandiera vietnieks | D263: 1449 | E263: =ROUND(D263/$E$4,3) -> 8.712 | F263: 24 | G263: 104.54 | H263: =ROUND(G263*0.2359,2) -> 24.66 | I263: =G263+H263 -> 129.2
A264: =A263+1 -> 256 | B264: VP RĪGAS RP KĀRTPP PPP SUB 4.ROTA (LATGALES REĢIONA) (BIJUŠ) | C264: rotas komandiera vietnieks | D264: 1475 | E264: =ROUND(D264/$E$4,3) -> 8.868 | F264: 6 | G264: 26.6 | H264: =ROUND(G264*0.2359,2) -> 6.27 | I264: =G264+H264 -> 32.87
A265: =A264+1 -> 257 | B265: VP RĪGAS RP KĀRTPP PPP SUB 5.ROTA (VIDZEMES REĢIONA) (BIJUŠ) | C265: jaunākais inspektors | D265: 1225 | E265: =ROUND(D265/$E$4,3) -> 7.365 | F265: 56 | G265: 206.22 | H265: =ROUND(G265*0.2359,2) -> 48.65 | I265: =G265+H265 -> 254.87
A266: =A265+1 -> 258 | B266: VP RĪGAS RP KĀRTPP PPP SUB 6.ROTA (ZEMGALES REĢIONA) (BIJUŠ) | C266: jaunākais inspektors | D266: 1323 | E266: =ROUND(D266/$E$4,3) -> 7.954 | F266: 24 | G266: 95.45 | H266: =ROUND(G266*0.2359,2) -> 22.52 | I266: =G266+H266 -> 117.97
A267: =A266+1 -> 259 | B267: VP RĪGAS RP KĀRTPP PPP SUB 5.ROTA (VIDZEMES REĢIONA) (BIJUŠ) | C267: jaunākais inspektors | D267: 1245 | E267: =ROUND(D267/$E$4,3) -> 7.485 | F267: 56 | G267: 209.58 | H267: =ROUND(G267*0.2359,2) -> 49.44 | I267: =G267+H267 -> 259.02
A268: =A267+1 -> 260 | B268: VP RĪGAS RP KĀRTPP PPP SUB 5.ROTA (VIDZEMES REĢIONA) (BIJUŠ) | C268: jaunākais inspektors | D268: 1225 | E268: =ROUND(D268/$E$4,3) -> 7.365 | F268: 56 | G268: 206.22 | H268: =ROUND(G268*0.2359,2) -> 48.65 | I268: =G268+H268 -> 254.87
A269: =A268+1 -> 261 | B269: VP RĪGAS RP KĀRTPP PPP SUB 5.ROTA (VIDZEMES REĢIONA) (BIJUŠ) | C269: rotas komandieris | D269: 1566 | E269: =ROUND(D269/$E$4,3) -> 9.415 | F269: 56 | G269: 263.62 | H269: =ROUND(G269*0.2359,2) -> 62.19 | I269: =G269+H269 -> 325.81
A270: =A269+1 -> 262 | B270: VP RĪGAS RP KĀRTPP PPP SUB 5.ROTA (VIDZEMES REĢIONA) (BIJUŠ) | C270: jaunākais inspektors | D270: 1205 | E270: =ROUND(D270/$E$4,3) -> 7.245 | F270: 56 | G270: 202.86 | H270: =ROUND(G270*0.2359,2) -> 47.85 | I270: =G270+H270 -> 250.71
A271: =A270+1 -> 263 | B271: VP RĪGAS RP KĀRTPP PPP SUB 6.ROTA (ZEMGALES REĢIONA) (BIJUŠ) | C271: rotas komandieris | D271: 1539 | E271: =ROUND(D271/$E$4,3) -> 9.253 | F271: 26 | G271: 120.29 | H271: =ROUND(G271*0.2359,2) -> 28.38 | I271: =G271+H271 -> 148.67
A272: =A271+1 -> 264 | B272: VP RĪGAS RP KĀRTPP PPP SUB 6.ROTA (ZEMGALES REĢIONA) (BIJUŠ) | C272: jaunākais inspektors | D272: 1225 | E272: =ROUND(D272/$E$4,3) -> 7.365 | F272: 24 | G272: 88.38 | H272: =ROUND(G272*0.2359,2) -> 20.85 | I272: =G272+H272 -> 109.23
A273: =A272+1 -> 265 | B273: VP RĪGAS RP KĀRTPP PPP SUB 5.ROTA (VIDZEMES REĢIONA) (BIJUŠ) | C273: jaunākais inspektors | D273: 1245 | E273: =ROUND(D273/$E$4,3) -> 7.485 | F273: 56 | G273: 209.58 | H273: =ROUND(G273*0.2359,2) -> 49.44 | I273: =G273+H273 -> 259.02
A274: =A273+1 -> 266 | B274: VP RĪGAS RP KĀRTPP PPP SUB 4.ROTA (LATGALES REĢIONA) (BIJUŠ) | C274: jaunākais inspektors | D274: 1205 | E274: =ROUND(D274/$E$4,3) -> 7.245 | F274: 6 | G274: 21.74 | H274: =ROUND(G274*0.2359,2) -> 5.13 | I274: =G274+H274 -> 26.87
A275: =A274+1 -> 267 | B275: VP RĪGAS RP KĀRTPP PPP SUB 4.ROTA (LATGALES REĢIONA) (BIJUŠ) | C275: jaunākais inspektors | D275: 1245 | E275: =ROUND(D275/$E$4,3) -> 7.485 | F275: 6 | G275: 22.46 | H275: =ROUND(G275*0.2359,2) -> 5.3 | I275: =G275+H275 -> 27.76
... A277: =A276+1 -> 269 | B277: VP RĪGAS RP KĀRTPP PPP SUB 4.ROTA (LATGALES REĢIONA) (BIJUŠ) | C277: jaunākais inspektors | D277: 1205 | E277: =ROUND(D277/$E$4,3) -> 7.245 | F277: 6 | G277: 21.74 | H277: =ROUND(G277*0.2359,2) -> 5.13 | I277: =G277+H277 -> 26.87
A278: =A277+1 -> 270 | B278: VP RĪGAS RP KĀRTPP PPP SUB 6.ROTA (ZEMGALES REĢIONA) (BIJUŠ) | C278: jaunākais inspektors | D278: 1205 | E278: =ROUND(D278/$E$4,3) -> 7.245 | F278: 24 | G278: 86.94 | H278: =ROUND(G278*0.2359,2)+0.01 -> 20.52 | I278: =G278+H278 -> 107.46
A279: =A278+1 -> 271 | B279: VP RĪGAS RP KĀRTPP PPP SUB 5.ROTA (VIDZEMES REĢIONA) (BIJUŠ) | C279: jaunākais inspektors | D279: 1185 | E279: =ROUND(D279/$E$4,3) -> 7.124 | F279: 56 | G279: 199.47 | H279: =ROUND(G279*0.2359,2) -> 47.05 | I279: =G279+H279 -> 246.52
A280: =A279+1 -> 272 | B280: VP RĪGAS RP KĀRTPP PPP SUB 5.ROTA (VIDZEMES REĢIONA) (BIJUŠ) | C280: jaunākais inspektors | D280: 1185 | E280: =ROUND(D280/$E$4,3) -> 7.124 | F280: 56 | G280: 199.47 | H280: =ROUND(G280*0.2359,2) -> 47.05 | I280: =G280+H280 -> 246.52
A281: =A280+1 -> 273 | B281: VP RĪGAS RP KĀRTPP PPP SUB 6.ROTA (ZEMGALES REĢIONA) (BIJUŠ) | C281: jaunākais inspektors | D281: 1185 | E281: =ROUND(D281/$E$4,3) -> 7.124 | F281: 24 | G281: 85.49 | H281: =ROUND(G281*0.2359,2) -> 20.17 | I281: =G281+H281 -> 105.66
A282: =A281+1 -> 274 | B282: VP RĪGAS RP KĀRTPP PPP SUB 6.ROTA (ZEMGALES REĢIONA) (BIJUŠ) | C282: jaunākais inspektors | D282: 1185 | E282: =ROUND(D282/$E$4,3) -> 7.124 | F282: 26 | G282: 92.61 | H282: =ROUND(G282*0.2359,2) -> 21.85 | I282: =G282+H282 -> 114.46
A283: =A282+1 -> 275 | B283: VP RĪGAS RP KĀRTPP PPP SUB 5.ROTA (VIDZEMES REĢIONA) (BIJUŠ) | C283: jaunākais inspektors | D283: 1225 | E283: =ROUND(D283/$E$4,3) -> 7.365 | F283: 56 | G283: 206.22 | H283: =ROUND(G283*0.2359,2)+0.01 -> 48.66 | I283: =G283+H283 -> 254.88
A284: =A283+1 -> 276 | B284: VP RĪGAS RP KĀRTPP PPP SUB 6.ROTA (ZEMGALES REĢIONA) (BIJUŠ) | C284: jaunākais inspektors | D284: 1185 | E284: =ROUND(D284/$E$4,3) -> 7.124 | F284: 26 | G284: 92.61 | H284: =ROUND(G284*0.2359,2) -> 21.85 | I284: =G284+H284 -> 114.46
A285: =A284+1 -> 277 | B285: VP RĪGAS RP KĀRTPP PPP SUB 6.ROTA (ZEMGALES REĢIONA) (BIJUŠ) | C285: jaunākais inspektors | D285: 1185 | E285: =ROUND(D285/$E$4,3) -> 7.124 | F285: 26 | G285: 92.61 | H285: =ROUND(G285*0.2359,2) -> 21.85 | I285: =G285+H285 -> 114.46
A286: =A285+1 -> 278 | B286: VP RĪGAS RP KĀRTPP PPP SUB 6.ROTA (ZEMGALES REĢIONA) (BIJUŠ) | C286: jaunākais inspektors | D286: 1185 | E286: =ROUND(D286/$E$4,3) -> 7.124 | F286: 24 | G286: 85.49 | H286: =ROUND(G286*0.2359,2) -> 20.17 | I286: =G286+H286 -> 105.66
A287: =A286+1 -> 279 | B287: VP RĪGAS RP KĀRTPP PPP SUB 5.ROTA (VIDZEMES REĢIONA) (BIJUŠ) | C287: jaunākais inspektors | D287: 1185 | E287: =ROUND(D287/$E$4,3) -> 7.124 | F287: 56 | G287: 199.47 | H287: =ROUND(G287*0.2359,2) -> 47.05 | I287: =G287+H287 -> 246.52
A288: =A287+1 -> 280 | B288: VP RĪGAS RP KĀRTPP PPP SUB 6.ROTA (ZEMGALES REĢIONA) (BIJUŠ) | C288: jaunākais inspektors | D288: 1165 | E288: =ROUND(D288/$E$4,3) -> 7.004 | F288: 24 | G288: 84.05 | H288: =ROUND(G288*0.2359,2) -> 19.83 | I288: =G288+H288 -> 103.88
A289: =A288+1 -> 281 | B289: VP RĪGAS RP KĀRTPP PPP SUB 6.ROTA (ZEMGALES REĢIONA) (BIJUŠ) | C289: jaunākais inspektors | D289: 1165 | E289: =ROUND(D289/$E$4,3) -> 7.004 | F289: 24 | G289: 84.05 | H289: =ROUND(G289*0.2359,2) -> 19.83 | I289: =G289+H289 -> 103.88
A290: =A289+1 -> 282 | B290: VP RĪGAS RP KĀRTPP PPP SUB 5.ROTA (VIDZEMES REĢIONA) (BIJUŠ) | C290: jaunākais inspektors | D290: 1165 | E290: =ROUND(D290/$E$4,3) -> 7.004 | F290: 56 | G290: 196.11 | H290: =ROUND(G290*0.2359,2) -> 46.26 | I290: =G290+H290 -> 242.37
A291: =A290+1 -> 283 | B291: VP RĪGAS RP KĀRTPP PPP SUB 5.ROTA (VIDZEMES REĢIONA) (BIJUŠ) | C291: jaunākais inspektors | D291: 1165 | E291: =ROUND(D291/$E$4,3) -> 7.004 | F291: 56 | G291: 196.11 | H291: =ROUND(G291*0.2359,2) -> 46.26 | I291: =G291+H291 -> 242.37
A292: =A291+1 -> 284 | B292: VP RĪGAS RP KĀRTPP PPP SUB 6.ROTA (ZEMGALES REĢIONA) (BIJUŠ) | C292: jaunākais inspektors | D292: 1165 | E292: =ROUND(D292/$E$4,3) -> 7.004 | F292: 26 | G292: 91.05 | H292: =ROUND(G292*0.2359,2) -> 21.48 | I292: =G292+H292 -> 112.53
B293: *** - izdienas pensionārs

Sheet  2.tabula
I1: 2.pielikuma 2.tabula
A2: Valsts policija
A3: Detalizēts aprēķins samaksai par virsstundu darbu amatpersonām ar speciālo dienesta pakāpi, sniedzot atbalstu Valsts robežsardzei Latvijas Republikas-Baltkrievijas Republikas valsts robežas nelikumīgas šķērsošanas nodrošināšanā, par laika periodu no 2023.gada 1.maija līdz 31.jūlijam
E4: 166.33
A5: Nr. p.k. | B5: Struktūrvienība | C5: Amats | D5: Mēnešalga amatpersonām ar speciālajām pakāpēm | E5: Stundas likme | F5: Stundu skaits | G5: Samaksa par virsstundu darbu | H5: DD VSAOI | I5: Atlīdzība
A6: kopā | F6: =SUM(F7:F9) -> 103 | G6: =SUM(G7:G9) -> 1695.91 | H6: =SUM(H7:H9) -> 400.07 | I6: =SUM(I7:I9) -> 2095.98
B7: LATGALES REĢIONA PĀRVALDE
A8: 1 | B8: VP LATGALES RP DIENVIDLATGALES IECIRKŅA IZMEKLĒŠANAS NODAĻAS 3.GRUPA | C8: inspektors | D8: 1412 | E8: =ROUND(D8/$E$4,3) -> 8.489 | F8: 26 | G8: 441.43 | H8: =ROUNDDOWN(G8*0.2359,2)+0.01 -> 104.14 | I8: =G8+H8 -> 545.57
A9: 2 | B9: VP LATGALES RP DIENVIDLATGALES IECIRKŅA REAĢĒŠANAS NODAĻAS 3.GRUPA | C9: vecākais inspektors | D9: 1355 | E9: =ROUND(D9/$E$4,3) -> 8.146 | F9: 77 | G9: 1254.48 | H9: =ROUND(G9*0.2359,2) -> 295.93 | I9: =G9+H9 -> 1550.41
B11: *Aprēķins par papildu nepieciešamo finansējumu samaksai par virsstundu darbu veikts, jo 2023.gada jūlijā tika izbeigtas dienesta attiecības ar divām amatpersonām.

Sheet 3.tabula
I1: 2.pielikuma 3.tabula
A2: Valsts policija
A3: Detalizēts aprēķins piemaksai par darbu svētku dienās amatpersonām ar speciālo dienesta pakāpi, sniedzot atbalstu Valsts robežsardzei Latvijas Republikas-Baltkrievijas Republikas valsts robežas nelikumīgas šķērsošanas nodrošināšanā, par laika periodu no 2023.gada 1. jūlija līdz 31. jūlijam (par 10.07.)
E4: 166.33
A5: Nr. p.k. | B5: Struktūrvienība | C5: Amats | D5: Mēnešalga amatpersonām ar speciālajām pakāpēm | E5: Stundas likme | F5: Stundu skaits | G5: Piemaksa par darbu svētku dienās | H5: DD VSAOI | I5: Atlīdzība
A6: kopā | F6: =SUM(F7:F67) -> 614 | G6: =SUM(G7:G67) -> 5115.95 | H6: =SUM(H7:H67) -> 1206.88 | I6: =SUM(I7:I67) -> 6322.83
B7: LATGALES REĢIONA PĀRVALDE
A8: 1 | B8: VP LATGALES RP ZIEMEĻLATGALES IECIRKŅA IZMEKLĒŠANAS NODAĻAS 3.GRUPA | C8: inspektors | D8: 1443 | E8: =ROUND(D8/$E$4,3) -> 8.676 | F8: 10.75 | G8: 93.27 | H8: =ROUND(G8*0.2359,2) -> 22 | I8: =G8+H8 -> 115.27
A9: 2 | B9: VP LATGALES RP KRIMPB EKONOMISKO NOZIEGUMU APKAROŠANAS NODAĻA | C9: galvenais inspektors | D9: 1625 | E9: =ROUND(D9/$E$4,3) -> 9.77 | F9: 15 | G9: 146.55 | H9: =ROUND(G9*0.2359,2) -> 34.57 | I9: =G9+H9 -> 181.12
A10: 3 | B10: VP LATGALES RP DIENVIDLATGALES IECIRKŅA IZMEKLĒŠANAS NODAĻAS 8.GRUPA | C10: inspektors | D10: 1337 | E10: =ROUND(D10/$E$4,3) -> 8.038 | F10: 5 | G10: 40.19 | H10: =ROUND(G10*0.2359,2) -> 9.48 | I10: =G10+H10 -> 49.67
A11: 4 | B11: VP LATGALES RP KRIMPB ORGANIZĒTĀS NOZIEDZĪBAS SMAGO UN SĒRIJVEIDA NOZIEGUMU APKAROŠANAS NODAĻA | C11: vecākais inspektors | D11: 1545 | E11: =ROUND(D11/$E$4,3) -> 9.289 | F11: 10 | G11: 92.89 | H11: =ROUND(G11*0.2359,2) -> 21.91 | I11: =G11+H11 -> 114.8
A12: 5 | B12: VP LATGALES RP DIENVIDLATGALES IECIRKŅA IZMEKLĒŠANAS NODAĻAS 6.GRUPA | C12: inspektors | D12: 1337 | E12: =ROUND(D12/$E$4,3) -> 8.038 | F12: 13 | G12: 104.49 | H12: =ROUND(G12*0.2359,2) -> 24.65 | I12: =G12+H12 -> 129.14
A13: 6 | B13: VP LATGALES RP ZIEMEĻLATGALES IECIRKŅA REAĢĒŠANAS NODAĻAS 1.GRUPA | C13: vecākais inspektors | D13: 1355 | E13: =ROUND(D13/$E$4,3) -> 8.146 | F13: 15.5 | G13: 126.26 | H13: =ROUND(G13*0.2359,2) -> 29.78 | I13: =G13+H13 -> 156.04
A14: 7 | B14: VP LATGALES RP KRIMPB ORGANIZĒTĀS NOZIEDZĪBAS SMAGO UN SĒRIJVEIDA NOZIEGUMU APKAROŠANAS NODAĻA | C14: vecākais inspektors | D14: 1545 | E14: =ROUND(D14/$E$4,3) -> 9.289 | F14: 10 | G14: 92.89 | H14: =ROUND(G14*0.2359,2) -> 21.91 | I14: =G14+H14 -> 114.8
A15: 8 | B15: VP LATGALES RP ZIEMEĻLATGALES IECIRKŅA REAĢĒŠANAS NODAĻAS 1.GRUPA | C15: galvenais inspektors | D15: 1421 | E15: =ROUND(D15/$E$4,3) -> 8.543 | F15: 14 | G15: 119.6 | H15: =ROUND(G15*0.2359,2) -> 28.21 | I15: =G15+H15 -> 147.81
A16: 9 | B16: VP LATGALES RP ZIEMEĻLATGALES IECIRKŅA REAĢĒŠANAS NODAĻAS 4.GRUPA | C16: vecākais inspektors | D16: 1335 | E16: =ROUND(D16/$E$4,3) -> 8.026 | F16: 15.5 | G16: 124.4 | H16: =ROUND(G16*0.2359,2) -> 29.35 | I16: =G16+H16 -> 153.75
A17: 10 | B17: VP LATGALES RP DIENVIDLATGALES IECIRKŅA IZMEKLĒŠANAS NODAĻAS 8.GRUPA | C17: vecākais inspektors | D17: 1355 | E17: =ROUND(D17/$E$4,3) -> 8.146 | F17: 5 | G17: 40.73 | H17: =ROUND(G17*0.2359,2) -> 9.61 | I17: =G17+H17 -> 50.34
A18: 11 | B18: VP LATGALES REĢIONA PĀRVALDES DISCIPLINĀRĀS UZRAUDZĪBAS GRUPA | C18: vecākais inspektors | D18: 1470 | E18: =ROUND(D18/$E$4,3) -> 8.838 | F18: 15 | G18: 132.57 | H18: =ROUND(G18*0.2359,2) -> 31.27 | I18: =G18+H18 -> 163.84
A19: 12 | B19: VP LATGALES RP ZIEMEĻLATGALES IECIRKŅA IZMEKLĒŠANAS NODAĻAS 3.GRUPA | C19: vecākais inspektors | D19: 1517 | E19: =ROUND(D19/$E$4,3) -> 9.12 | F19: 4 | G19: 36.48 | H19: =ROUND(G19*0.2359,2) -> 8.61 | I19: =G19+H19 -> 45.09
... A53: 46 | B53: VP LATGALES RP DIENVIDLATGALES IECIRKŅA IZMEKLĒŠANAS NODAĻAS 5.GRUPA | C53: inspektors | D53: 1363 | E53: =ROUND(D53/$E$4,3) -> 8.195 | F53: 10 | G53: 81.95 | H53: =ROUND(G53*0.2359,2) -> 19.33 | I53: =G53+H53 -> 101.28
B54: RĪGAS REĢIONA PĀRVALDE
A55: 47 | B55: VP RĪGAS RP KĀRTPP PPP SUB 5.ROTA (VIDZEMES REĢIONA) (BIJUŠ) | C55: jaunākais inspektors | D55: 1225 | E55: =ROUND(D55/$E$4,3) -> 7.365 | F55: 15 | G55: 110.48 | H55: =ROUND(G55*0.2359,2) -> 26.06 | I55: =G55+H55 -> 136.54
A56: =A55+1 -> 48 | B56: VP RĪGAS RP KĀRTPP PPP SUB 5.ROTA (VIDZEMES REĢIONA) (BIJUŠ) | C56: jaunākais inspektors | D56: 1245 | E56: =ROUND(D56/$E$4,3) -> 7.485 | F56: 15 | G56: 112.28 | H56: =ROUND(G56*0.2359,2) -> 26.49 | I56: =G56+H56 -> 138.77
A57: =A56+1 -> 49 | B57: VP RĪGAS RP KĀRTPP PPP SUB 5.ROTA (VIDZEMES REĢIONA) (BIJUŠ) | C57: jaunākais inspektors | D57: 1225 | E57: =ROUND(D57/$E$4,3) -> 7.365 | F57: 13 | G57: 95.75 | H57: =ROUND(G57*0.2359,2) -> 22.59 | I57: =G57+H57 -> 118.34
A58: =A57+1 -> 50 | B58: VP RĪGAS RP KĀRTPP PPP SUB 5.ROTA (VIDZEMES REĢIONA) (BIJUŠ) | C58: rotas komandieris | D58: 1566 | E58: =ROUND(D58/$E$4,3) -> 9.415 | F58: 15 | G58: 141.23 | H58: =ROUND(G58*0.2359,2) -> 33.32 | I58: =G58+H58 -> 174.55
A59: =A58+1 -> 51 | B59: VP RĪGAS RP KĀRTPP PPP SUB 5.ROTA (VIDZEMES REĢIONA) (BIJUŠ) | C59: jaunākais inspektors | D59: 1205 | E59: =ROUND(D59/$E$4,3) -> 7.245 | F59: 15 | G59: 108.68 | H59: =ROUND(G59*0.2359,2) -> 25.64 | I59: =G59+H59 -> 134.32
A60: =A59+1 -> 52 | B60: VP RĪGAS RP KĀRTPP PPP SUB 5.ROTA (VIDZEMES REĢIONA) (BIJUŠ) | C60: jaunākais inspektors | D60: 1245 | E60: =ROUND(D60/$E$4,3) -> 7.485 | F60: 15 | G60: 112.28 | H60: =ROUND(G60*0.2359,2) -> 26.49 | I60: =G60+H60 -> 138.77
A61: =A60+1 -> 53 | B61: VP RĪGAS RP KĀRTPP PPP SUB 5.ROTA (VIDZEMES REĢIONA) (BIJUŠ) | C61: jaunākais inspektors | D61: 1185 | E61: =ROUND(D61/$E$4,3) -> 7.124 | F61: 8 | G61: 56.99 | H61: =ROUND(G61*0.2359,2) -> 13.44 | I61: =G61+H61 -> 70.43
A62: =A61+1 -> 54 | B62: VP RĪGAS RP KĀRTPP PPP SUB 5.ROTA (VIDZEMES REĢIONA) (BIJUŠ) | C62: jaunākais inspektors | D62: 1185 | E62: =ROUND(D62/$E$4,3) -> 7.124 | F62: 13 | G62: 92.61 | H62: =ROUND(G62*0.2359,2) -> 21.85 | I62: =G62+H62 -> 114.46
A63: =A62+1 -> 55 | B63: VP RĪGAS RP KĀRTPP PPP SUB 5.ROTA (VIDZEMES REĢIONA) (BIJUŠ) | C63: jaunākais inspektors | D63: 1185 | E63: =ROUND(D63/$E$4,3) -> 7.124 | F63: 8 | G63: 56.99 | H63: =ROUND(G63*0.2359,2) -> 13.44 | I63: =G63+H63 -> 70.43
A64: =A63+1 -> 56 | B64: VP RĪGAS RP KĀRTPP PPP SUB 5.ROTA (VIDZEMES REĢIONA) (BIJUŠ) | C64: jaunākais inspektors | D64: 1225 | E64: =ROUND(D64/$E$4,3) -> 7.365 | F64: 13 | G64: 95.75 | H64: =ROUND(G64*0.2359,2) -> 22.59 | I64: =G64+H64 -> 118.34
A65: =A64+1 -> 57 | B65: VP RĪGAS RP KĀRTPP PPP SUB 5.ROTA (VIDZEMES REĢIONA) (BIJUŠ) | C65: jaunākais inspektors | D65: 1185 | E65: =ROUND(D65/$E$4,3) -> 7.124 | F65: 13 | G65: 92.61 | H65: =ROUND(G65*0.2359,2) -> 21.85 | I65: =G65+H65 -> 114.46
A66: =A65+1 -> 58 | B66: VP RĪGAS RP KĀRTPP PPP SUB 5.ROTA (VIDZEMES REĢIONA) (BIJUŠ) | C66: jaunākais inspektors | D66: 1165 | E66: =ROUND(D66/$E$4,3) -> 7.004 | F66: 8 | G66: 56.03 | H66: =ROUND(G66*0.2359,2) -> 13.22 | I66: =G66+H66 -> 69.25
A67: =A66+1 -> 59 | B67: VP RĪGAS RP KĀRTPP PPP SUB 5.ROTA (VIDZEMES REĢIONA) (BIJUŠ) | C67: jaunākais inspektors | D67: 1165 | E67: =ROUND(D67/$E$4,3) -> 7.004 | F67: 8 | G67: 56.03 | H67: =ROUND(G67*0.2359,2) -> 13.22 | I67: =G67+H67 -> 69.25

Sheet 4.tabula
J1: 2.pielikuma 4.tabula
A2: Valsts policija
A3: Piemaksa par darbu īpašos apstākļos amatpersonām ar speciālajām dienesta pakāpēm, kuras laika periodā no 2023.gada 1. jūlija līdz 31.jūlijam tika iesaistītas atbalsta sniegšanā Valsts robežsardzei Latvijas Republikas-Baltkrievijas Republikas valsts robežas robežuzraudzības nodrošināšanā
F4: 166.33
A5: Nr. p.k. | B5: Struktūrvienība | C5: Amats | D5: Mēnešalga amatpersonām ar speciālajām pakāpēm | E5: Piemaksas apmērs % | F5: Stundas likme | G5: Stundu skaits | H5: Piemaksa par darbu īpašos apstākļos | I5: DD VSAOI | J5: Atlīdzība
A6: kopā | G6: =SUM(G8:G460) -> 14986.5 | H6: =SUM(H8:H460) -> 26645.22 | I6: =SUM(I8:I460) -> 6283.95 | J6: =SUM(J8:J460) -> 32929.17
B7: LATGALES REĢIONA PĀRVALDE
A8: 1 | B8: VP LATGALES RP DIENVIDLATGALES IECIRKŅA REAĢĒŠANAS NODAĻAS 3.GRUPA | C8: vecākais inspektors | D8: 1463 | E8: 20% | F8: =ROUND(D8/$F$4,3) -> 8.796 | G8: 74.5 | H8: 131.06 | I8: =ROUND(H8*23.59%,2) -> 30.92 | J8: =H8+I8 -> 161.98
A9: 2 | B9: VP LATGALES RP DIENVIDLATGALES IECIRKŅA REAĢĒŠANAS NODAĻAS 3.GRUPA | C9: vecākais inspektors | D9: 1463 | E9: 50% | F9: =ROUND(D9/$F$4,3) -> 8.796 | G9: 0.5 | H9: 2.2 | I9: =ROUND(H9*23.59%,2) -> 0.52 | J9: =H9+I9 -> 2.72
A10: 3 | B10: VP LATGALES RP ZIEMEĻLATGALES IECIRKŅA IZMEKLĒŠANAS NODAĻAS 5.GRUPA | C10: galvenais inspektors | D10: 1774 | E10: 50% | F10: =ROUND(D10/$F$4,3) -> 10.666 | G10: 1.5 | H10: 8 | I10: =ROUND(H10*23.59%,2) -> 1.89 | J10: =H10+I10 -> 9.89
A11: 4 | B11: VP LATGALES RP ZIEMEĻLATGALES IECIRKŅA IZMEKLĒŠANAS NODAĻAS 5.GRUPA | C11: galvenais inspektors | D11: 1774 | E11: 20% | F11: =ROUND(D11/$F$4,3) -> 10.666 | G11: 72 | H11: 153.59 | I11: =ROUND(H11*23.59%,2) -> 36.23 | J11: =H11+I11 -> 189.82
A12: 5 | B12: VP LATGALES RP DIENVIDLATGALES IECIRKŅA REAĢĒŠANAS NODAĻAS 7.GRUPA | C12: inspektors | D12: 1317 | E12: 20% | F12: =ROUND(D12/$F$4,3) -> 7.918 | G12: 52 | H12: 82.35 | I12: =ROUND(H12*23.59%,2) -> 19.43 | J12: =H12+I12 -> 101.78
A13: 6 | B13: VP LATGALES RP DIENVIDLATGALES IECIRKŅA REAĢĒŠANAS NODAĻAS 7.GRUPA | C13: jaunākais inspektors | D13: 1140 | E13: 20% | F13: =ROUND(D13/$F$4,3) -> 6.854 | G13: 50.5 | H13: 69.23 | I13: =ROUND(H13*23.59%,2) -> 16.33 | J13: =H13+I13 -> 85.56
A14: 7 | B14: VP LATGALES RP DIENVIDLATGALES IECIRKŅA IZMEKLĒŠANAS NODAĻAS 5.GRUPA | C14: inspektors | D14: 1437 | E14: 20% | F14: =ROUND(D14/$F$4,3) -> 8.639 | G14: 13 | H14: 22.46 | I14: =ROUND(H14*23.59%,2) -> 5.3 | J14: =H14+I14 -> 27.76
A15: 8 | B15: VP LATGALES RP DIENVIDLATGALES IECIRKŅA REAĢĒŠANAS NODAĻAS 1.GRUPA | C15: inspektors | D15: 1317 | E15: 50% | F15: =ROUND(D15/$F$4,3) -> 7.918 | G15: 0.5 | H15: 1.98 | I15: =ROUND(H15*23.59%,2) -> 0.47 | J15: =H15+I15 -> 2.45
A16: 9 | B16: VP LATGALES RP DIENVIDLATGALES IECIRKŅA REAĢĒŠANAS NODAĻAS 1.GRUPA | C16: inspektors | D16: 1317 | E16: 20% | F16: =ROUND(D16/$F$4,3) -> 7.918 | G16: 25.5 | H16: 40.38 | I16: =ROUND(H16*23.59%,2) -> 9.53 | J16: =H16+I16 -> 49.91
A17: 10 | B17: VP LATGALES RP ZIEMEĻLATGALES IECIRKŅA PREVENCIJAS GRUPA | C17: vecākais inspektors | D17: 1381 | E17: 20% | F17: =ROUND(D17/$F$4,3) -> 8.303 | G17: 20 | H17: 33.21 | I17: =ROUND(H17*23.59%,2) -> 7.83 | J17: =H17+I17 -> 41.04
A18: 11 | B18: VP LATGALES RP ZIEMEĻLATGALES IECIRKŅA REAĢĒŠANAS NODAĻAS 9.GRUPA | C18: inspektors | D18: 1317 | E18: 20% | F18: =ROUND(D18/$F$4,3) -> 7.918 | G18: 35 | H18: 55.43 | I18: =ROUND(H18*23.59%,2) -> 13.08 | J18: =H18+I18 -> 68.51
A19: 12 | B19: VP LATGALES RP DIENVIDLATGALES IECIRKŅA PREVENCIJAS GRUPA | C19: inspektors | D19: 1337 | E19: 20% | F19: =ROUND(D19/$F$4,3) -> 8.038 | G19: 13.5 | H19: 21.7 | I19: =ROUND(H19*23.59%,2) -> 5.12 | J19: =H19+I19 -> 26.82
... A22: 15 | B22: VP LATGALES RP DIENVIDLATGALES IECIRKŅA IZMEKLĒŠANAS NODAĻAS 7.GRUPA | C22: vecākais inspektors | D22: 1355 | E22: 20% | F22: =ROUND(D22/$F$4,3) -> 8.146 | G22: 13 | H22: 21.18 | I22: =ROUND(H22*23.59%,2) -> 5 | J22: =H22+I22 -> 26.18
A23: 16 | B23: VP LATGALES RP ZIEMEĻLATGALES IECIRKŅA IZMEKLĒŠANAS NODAĻAS 3.GRUPA | C23: vecākais inspektors | D23: 1610 | E23: 20% | F23: =ROUND(D23/$F$4,3) -> 9.68 | G23: 37.5 | H23: 72.6 | I23: =ROUND(H23*23.59%,2)-0.01 -> 17.12 | J23: =H23+I23 -> 89.72
A24: 17 | B24: VP LATGALES RP DIENVIDLATGALES IECIRKŅA REAĢĒŠANAS NODAĻAS 10.GRUPA | C24: vecākais inspektors | D24: 1355 | E24: 20% | F24: =ROUND(D24/$F$4,3) -> 8.146 | G24: 24 | H24: 39.1 | I24: =ROUND(H24*23.59%,2) -> 9.22 | J24: =H24+I24 -> 48.32
A25: 18 | B25: VP LATGALES RP DIENVIDLATGALES IECIRKŅA REAĢĒŠANAS NODAĻAS 6.GRUPA | C25: jaunākais inspektors | D25: 1140 | E25: 20% | F25: =ROUND(D25/$F$4,3) -> 6.854 | G25: 62 | H25: 84.99 | I25: =ROUND(H25*23.59%,2) -> 20.05 | J25: =H25+I25 -> 105.04
A26: 19 | B26: VP LATGALES RP ZIEMEĻLATGALES IECIRKŅA IZMEKLĒŠANAS NODAĻAS 2.GRUPA | C26: galvenais inspektors | D26: 2040 | E26: 20% | F26: =ROUND(D26/$F$4,3) -> 12.265 | G26: 48 | H26: 117.74 | I26: =ROUND(H26*23.59%,2)-0.01 -> 27.76 | J26: =H26+I26 -> 145.5
A27: 20 | B27: VP LATGALES RP DIENVIDLATGALES IECIRKŅA IZMEKLĒŠANAS NODAĻAS 2.GRUPA | C27: galvenais inspektors | D27: 1525 | E27: 20% | F27: =ROUND(D27/$F$4,3) -> 9.169 | G27: 36 | H27: 66.02 | I27: =ROUND(H27*23.59%,2) -> 15.57 | J27: =H27+I27 -> 81.59
A28: 21 | B28: VP LATGALES RP ZIEMEĻLATGALES IECIRKŅA REAĢĒŠANAS NODAĻAS 10.GRUPA | C28: inspektors | D28: 1337 | E28: 20% | F28: =ROUND(D28/$F$4,3) -> 8.038 | G28: 35 | H28: 56.27 | I28: =ROUND(H28*23.59%,2) -> 13.27 | J28: =H28+I28 -> 69.54
A29: 22 | B29: VP LATGALES RP DIENVIDLATGALES IECIRKŅA REAĢĒŠANAS NODAĻAS 2.GRUPA | C29: vecākais inspektors | D29: 1381 | E29: 20% | F29: =ROUND(D29/$F$4,3) -> 8.303 | G29: 50 | H29: 83.03 | I29: =ROUND(H29*23.59%,2) -> 19.59 | J29: =H29+I29 -> 102.62
A30: 23 | B30: VP LATGALES RP DIENVIDLATGALES IECIRKŅA IZMEKLĒŠANAS NODAĻAS 1.GRUPA | C30: galvenais inspektors | D30: 1872 | E30: 20% | F30: =ROUND(D30/$F$4,3) -> 11.255 | G30: 38 | H30: 85.54 | I30: =ROUND(H30*23.59%,2) -> 20.18 | J30: =H30+I30 -> 105.72
A31: 24 | B31: VP LATGALES RP DIENVIDLATGALES IECIRKŅA IZMEKLĒŠANAS NODAĻAS 6.GRUPA | C31: galvenais inspektors | D31: 1448 | E31: 20% | F31: =ROUND(D31/$F$4,3) -> 8.706 | G31: 12 | H31: 20.89 | I31: =ROUND(H31*23.59%,2) -> 4.93 | J31: =H31+I31 -> 25.82
A32: 25 | B32: VP LATGALES RP DIENVIDLATGALES IECIRKŅA IZMEKLĒŠANAS NODAĻAS 6.GRUPA | C32: vecākais inspektors | D32: 1361 | E32: 20% | F32: =ROUND(D32/$F$4,3) -> 8.183 | G32: 24 | H32: 39.28 | I32: =ROUND(H32*23.59%,2) -> 9.27 | J32: =H32+I32 -> 48.55
A33: 26 | B33: VP LATGALES RP ZIEMEĻLATGALES IECIRKŅA IZMEKLĒŠANAS NODAĻAS 8.GRUPA | C33: inspektors | D33: 2004 | E33: 20% | F33: =ROUND(D33/$F$4,3) -> 12.048 | G33: 22 | H33: 53.01 | I33: =ROUND(H33*23.59%,2) -> 12.51 | J33: =H33+I33 -> 65.52
A34: 27 | B34: VP LATGALES RP ZIEMEĻLATGALES IECIRKŅA IZMEKLĒŠANAS NODAĻAS 4.GRUPA | C34: inspektors | D34: 1583 | E34: 20% | F34: =ROUND(D34/$F$4,3) -> 9.517 | G34: 29 | H34: 55.2 | I34: =ROUND(H34*23.59%,2) -> 13.02 | J34: =H34+I34 -> 68.22
A35: 28 | B35: VP LATGALES RP KĀRTPB ATĻAUJU SISTĒMAS GRUPA | C35: vecākais inspektors | D35: 1240 | E35: 20% | F35: =ROUND(D35/$F$4,3) -> 7.455 | G35: 50 | H35: 74.55 | I35: =ROUND(H35*23.59%,2) -> 17.59 | J35: =H35+I35 -> 92.14
A36: 29 | B36: VP LATGALES RP ZIEMEĻLATGALES IECIRKŅA IZMEKLĒŠANAS NODAĻAS 3.GRUPA | C36: inspektors | D36: 1443 | E36: 20% | F36: =ROUND(D36/$F$4,3) -> 8.676 | G36: 62.5 | H36: 108.45 | I36: =ROUND(H36*23.59%,2) -> 25.58 | J36: =H36+I36 -> 134.03
A37: 30 | B37: VP LATGALES REĢIONA PĀRVALDES DISCIPLINĀRĀS UZRAUDZĪBAS GRUPA | C37: galvenais inspektors | D37: 1565 | E37: 20% | F37: =ROUND(D37/$F$4,3) -> 9.409 | G37: 10 | H37: 18.82 | I37: =ROUND(H37*23.59%,2) -> 4.44 | J37: =H37+I37 -> 23.26
A38: 31 | B38: VP LATGALES REĢIONA PĀRVALDES DISCIPLINĀRĀS UZRAUDZĪBAS GRUPA | C38: galvenais inspektors | D38: 1565 | E38: 50% | F38: =ROUND(D38/$F$4,3) -> 9.409 | G38: 1.5 | H38: 7.06 | I38: =ROUND(H38*23.59%,2)-0.01 -> 1.66 | J38: =H38+I38 -> 8.72
A39: 32 | B39: VP LATGALES RP KĀRTPB RESURSU UN KRĪZES VADĪBAS NODAĻA | C39: nodaļas priekšnieks | D39: 1474 | E39: 20% | F39: =ROUND(D39/$F$4,3) -> 8.862 | G39: 13 | H39: 23.04 | I39: =ROUND(H39*23.59%,2) -> 5.44 | J39: =H39+I39 -> 28.48
A40: 33 | B40: VP LATGALES RP KRIMPB EKONOMISKO NOZIEGUMU APKAROŠANAS NODAĻA | C40: galvenais inspektors | D40: 1625 | E40: 20% | F40: =ROUND(D40/$F$4,3) -> 9.77 | G40: 24 | H40: 46.9 | I40: =ROUND(H40*23.59%,2) -> 11.06 | J40: =H40+I40 -> 57.96
A41: 34 | B41: VP LATGALES RP KĀRTPB ATĻAUJU SISTĒMAS GRUPA | C41: inspektors | D41: 1176 | E41: 20% | F41: =ROUND(D41/$F$4,3) -> 7.07 | G41: 72 | H41: 101.81 | I41: =ROUND(H41*23.59%,2) -> 24.02 | J41: =H41+I41 -> 125.83
A42: 35 | B42: VP LATGALES RP KĀRTPB PREVENCIJAS GRUPA | C42: vecākais inspektors | D42: 1313 | E42: 20% | F42: =ROUND(D42/$F$4,3) -> 7.894 | G42: 64.5 | H42: 101.83 | I42: =ROUND(H42*23.59%,2) -> 24.02 | J42: =H42+I42 -> 125.85
A43: 36 | B43: VP LATGALES RP KĀRTPB PREVENCIJAS GRUPA | C43: vecākais inspektors | D43: 1313 | E43: 50% | F43: =ROUND(D43/$F$4,3) -> 7.894 | G43: 0.5 | H43: 1.97 | I43: =ROUND(H43*23.59%,2) -> 0.46 | J43: =H43+I43 -> 2.43
A44: 37 | B44: VP LATGALES RP DIENVIDLATGALES IECIRKŅA REAĢĒŠANAS NODAĻAS 4.GRUPA | C44: jaunākais inspektors | D44: 1140 | E44: 20% | F44: =ROUND(D44/$F$4,3) -> 6.854 | G44: 26 | H44: 35.64 | I44: =ROUND(H44*23.59%,2) -> 8.41 | J44: =H44+I44 -> 44.05
A45: 38 | B45: VP LATGALES RP ZIEMEĻLATGALES IECIRKŅA IZMEKLĒŠANAS NODAĻAS 5.GRUPA | C45: vecākais inspektors | D45: 1517 | E45: 50% | F45: =ROUND(D45/$F$4,3) -> 9.12 | G45: 2 | H45: 9.12 | I45: =ROUND(H45*23.59%,2) -> 2.15 | J45: =H45+I45 -> 11.27
A46: 39 | B46: VP LATGALES RP ZIEMEĻLATGALES IECIRKŅA IZMEKLĒŠANAS NODAĻAS 5.GRUPA | C46: vecākais inspektors | D46: 1517 | E46: 20% | F46: =ROUND(D46/$F$4,3) -> 9.12 | G46: 48 | H46: 87.55 | I46: =ROUND(H46*23.59%,2) -> 20.65 | J46: =H46+I46 -> 108.2
A47: 40 | B47: VP LATGALES RP DIENVIDLATGALES IECIRKŅA IZMEKLĒŠANAS NODAĻAS 8.GRUPA | C47: inspektors | D47: 1337 | E47: 20% | F47: =ROUND(D47/$F$4,3) -> 8.038 | G47: 12 | H47: 19.29 | I47: =ROUND(H47*23.59%,2) -> 4.55 | J47: =H47+I47 -> 23.84
A48: 41 | B48: VP LATGALES RP DIENVIDLATGALES IECIRKŅA REAĢĒŠANAS NODAĻAS 10.GRUPA | C48: inspektors | D48: 1317 | E48: 20% | F48: =ROUND(D48/$F$4,3) -> 7.918 | G48: 24 | H48: 38.01 | I48: =ROUND(H48*23.59%,2) -> 8.97 | J48: =H48+I48 -> 46.98
A49: 42 | B49: VP LATGALES RP KRIMPB ORGANIZĒTĀS NOZIEDZĪBAS SMAGO UN SĒRIJVEIDA NOZIEGUMU APKAROŠANAS NODAĻA | C49: vecākais inspektors | D49: 1545 | E49: 20% | F49: =ROUND(D49/$F$4,3) -> 9.289 | G49: 24 | H49: 44.59 | I49: =ROUND(H49*23.59%,2) -> 10.52 | J49: =H49+I49 -> 55.11
A50: 43 | B50: VP LATGALES RP ZIEMEĻLATGALES IECIRKŅA REAĢĒŠANAS NODAĻAS 6.GRUPA | C50: vecākais inspektors | D50: 1381 | E50: 20% | F50: =ROUND(D50/$F$4,3) -> 8.303 | G50: 25 | H50: 41.52 | I50: =ROUND(H50*23.59%,2) -> 9.79 | J50: =H50+I50 -> 51.31
... A57: 50 | B57: VP LATGALES RP ZIEMEĻLATGALES IECIRKŅA REAĢĒŠANAS NODAĻAS 8.GRUPA | C57: inspektors | D57: 1337 | E57: 20% | F57: =ROUND(D57/$F$4,3) -> 8.038 | G57: 24 | H57: 38.58 | I57: =ROUND(H57*23.59%,2) -> 9.1 | J57: =H57+I57 -> 47.68
A58: 51 | B58: VP LATGALES RP ZIEMEĻLATGALES IECIRKŅA REAĢĒŠANAS NODAĻAS 4.GRUPA | C58: jaunākais inspektors | D58: 1260 | E58: 20% | F58: =ROUND(D58/$F$4,3) -> 7.575 | G58: 49.5 | H58: 74.99 | I58: =ROUND(H58*23.59%,2)-0.01 -> 17.68 | J58: =H58+I58 -> 92.67
A59: 52 | B59: VP LATGALES RP ZIEMEĻLATGALES IECIRKŅA REAĢĒŠANAS NODAĻAS 4.GRUPA | C59: jaunākais inspektors | D59: 1260 | E59: 50% | F59: =ROUND(D59/$F$4,3) -> 7.575 | G59: 1.5 | H59: 5.68 | I59: =ROUND(H59*23.59%,2) -> 1.34 | J59: =H59+I59 -> 7.02
A60: 53 | B60: VP LATGALES RP ZIEMEĻLATGALES IECIRKŅA REAĢĒŠANAS NODAĻAS 6.GRUPA | C60: jaunākais inspektors | D60: 1140 | E60: 20% | F60: =ROUND(D60/$F$4,3) -> 6.854 | G60: 24.5 | H60: 33.58 | I60: =ROUND(H60*23.59%,2) -> 7.92 | J60: =H60+I60 -> 41.5
A61: 54 | B61: VP LATGALES RP ZIEMEĻLATGALES IECIRKŅA IZMEKLĒŠANAS NODAĻAS 6.GRUPA | C61: inspektors | D61: 1463 | E61: 20% | F61: =ROUND(D61/$F$4,3) -> 8.796 | G61: 37 | H61: 65.09 | I61: =ROUND(H61*23.59%,2) -> 15.35 | J61: =H61+I61 -> 80.44
A62: 55 | B62: VP LATGALES RP DIENVIDLATGALES IECIRKŅA IZMEKLĒŠANAS NODAĻAS 4.GRUPA | C62: inspektors | D62: 1423 | E62: 20% | F62: =ROUND(D62/$F$4,3) -> 8.555 | G62: 24.5 | H62: 41.92 | I62: =ROUND(H62*23.59%,2) -> 9.89 | J62: =H62+I62 -> 51.81
A63: 56 | B63: VP LATGALES RP ZIEMEĻLATGALES IECIRKŅA IZMEKLĒŠANAS NODAĻAS 4.GRUPA | C63: vecākais inspektors | D63: 1517 | E63: 20% | F63: =ROUND(D63/$F$4,3) -> 9.12 | G63: 32 | H63: 58.37 | I63: =ROUND(H63*23.59%,2) -> 13.77 | J63: =H63+I63 -> 72.14
A64: 57 | B64: VP LATGALES RP DIENVIDLATGALES IECIRKŅA PREVENCIJAS GRUPA | C64: vecākais inspektors | D64: 1381 | E64: 20% | F64: =ROUND(D64/$F$4,3) -> 8.303 | G64: 27.5 | H64: 45.67 | I64: =ROUND(H64*23.59%,2) -> 10.77 | J64: =H64+I64 -> 56.44
A65: 58 | B65: VP LATGALES RP KĀRTPB PREVENCIJAS GRUPA | C65: galvenais inspektors | D65: 1614 | E65: 50% | F65: =ROUND(D65/$F$4,3) -> 9.704 | G65: 0.5 | H65: 2.43 | I65: =ROUND(H65*23.59%,2) -> 0.57 | J65: =H65+I65 -> 3
A66: 59 | B66: VP LATGALES RP KĀRTPB PREVENCIJAS GRUPA | C66: galvenais inspektors | D66: 1614 | E66: 20% | F66: =ROUND(D66/$F$4,3) -> 9.704 | G66: 25.5 | H66: 49.49 | I66: =ROUND(H66*23.59%,2) -> 11.67 | J66: =H66+I66 -> 61.16
A67: 60 | B67: VP LATGALES RP DIENVIDLATGALES IECIRKŅA PREVENCIJAS GRUPA | C67: vecākais inspektors | D67: 1355 | E67: 50% | F67: =ROUND(D67/$F$4,3) -> 8.146 | G67: 1 | H67: 4.07 | I67: =ROUND(H67*23.59%,2) -> 0.96 | J67: =H67+I67 -> 5.03
A68: 61 | B68: VP LATGALES RP DIENVIDLATGALES IECIRKŅA PREVENCIJAS GRUPA | C68: vecākais inspektors | D68: 1355 | E68: 20% | F68: =ROUND(D68/$F$4,3) -> 8.146 | G68: 40.5 | H68: 65.98 | I68: =ROUND(H68*23.59%,2) -> 15.56 | J68: =H68+I68 -> 81.54
A69: 62 | B69: VP LATGALES RP DIENVIDLATGALES IECIRKŅA IZMEKLĒŠANAS NODAĻAS 1.GRUPA | C69: inspektors | D69: 1443 | E69: 20% | F69: =ROUND(D69/$F$4,3) -> 8.676 | G69: 49 | H69: 85.02 | I69: =ROUND(H69*23.59%,2) -> 20.06 | J69: =H69+I69 -> 105.08
A70: 63 | B70: VP LATGALES RP DIENVIDLATGALES IECIRKŅA REAĢĒŠANAS NODAĻAS 10.GRUPA | C70: vecākais inspektors | D70: 1335 | E70: 20% | F70: =ROUND(D70/$F$4,3) -> 8.026 | G70: 24 | H70: 38.52 | I70: =ROUND(H70*23.59%,2) -> 9.09 | J70: =H70+I70 -> 47.61
... A83: 76 | B83: VP LATGALES RP KRIMPB RĒZEKNES REĢIONĀLĀ NODAĻA | C83: vecākais inspektors | D83: 1565 | E83: 20% | F83: =ROUND(D83/$F$4,3) -> 9.409 | G83: 24 | H83: 45.16 | I83: =ROUND(H83*23.59%,2) -> 10.65 | J83: =H83+I83 -> 55.81
A84: 77 | B84: VP LATGALES RP ZIEMEĻLATGALES IECIRKŅA REAĢĒŠANAS NODAĻAS 6.GRUPA | C84: vecākais inspektors | D84: 1381 | E84: 20% | F84: =ROUND(D84/$F$4,3) -> 8.303 | G84: 37 | H84: 61.44 | I84: =ROUND(H84*23.59%,2)-0.01 -> 14.48 | J84: =H84+I84 -> 75.92
A85: 78 | B85: VP LATGALES RP DIENVIDLATGALES IECIRKŅA REAĢĒŠANAS NODAĻAS 10.GRUPA | C85: inspektors | D85: 1297 | E85: 20% | F85: =ROUND(D85/$F$4,3) -> 7.798 | G85: 24 | H85: 37.43 | I85: =ROUND(H85*23.59%,2) -> 8.83 | J85: =H85+I85 -> 46.26
A86: 79 | B86: VP LATGALES RP ZIEMEĻLATGALES IECIRKŅA IZMEKLĒŠANAS NODAĻAS 1.GRUPA | C86: inspektors | D86: 1557 | E86: 20% | F86: =ROUND(D86/$F$4,3) -> 9.361 | G86: 25 | H86: 46.81 | I86: =ROUND(H86*23.59%,2) -> 11.04 | J86: =H86+I86 -> 57.85
A87: 80 | B87: VP LATGALES RP SLEPENĪBAS REŽĪMA NODROŠINĀŠANAS UN SEVIŠĶĀS LIETVEDĪBAS GRUPA | C87: vecākais inspektors | D87: 1309 | E87: 20% | F87: =ROUND(D87/$F$4,3) -> 7.87 | G87: 12 | H87: 18.89 | I87: =ROUND(H87*23.59%,2) -> 4.46 | J87: =H87+I87 -> 23.35
A88: 81 | B88: VP LATGALES RP ZIEMEĻLATGALES IECIRKŅA IZMEKLĒŠANAS NODAĻAS 1.GRUPA | C88: inspektors | D88: 1463 | E88: 20% | F88: =ROUND(D88/$F$4,3) -> 8.796 | G88: 36 | H88: 63.33 | I88: =ROUND(H88*23.59%,2) -> 14.94 | J88: =H88+I88 -> 78.27
A89: 82 | B89: VP LATGALES RP ZIEMEĻLATGALES IECIRKŅA REAĢĒŠANAS NODAĻAS 4.GRUPA | C89: vecākais inspektors | D89: 1335 | E89: 20% | F89: =ROUND(D89/$F$4,3) -> 8.026 | G89: 24.5 | H89: 39.33 | I89: =ROUND(H89*23.59%,2) -> 9.28 | J89: =H89+I89 -> 48.61
A90: 83 | B90: VP LATGALES RP ZIEMEĻLATGALES IECIRKŅA REAĢĒŠANAS NODAĻAS 7.GRUPA | C90: vecākais inspektors | D90: 1355 | E90: 20% | F90: =ROUND(D90/$F$4,3) -> 8.146 | G90: 13 | H90: 21.18 | I90: =ROUND(H90*23.59%,2) -> 5 | J90: =H90+I90 -> 26.18
A91: 84 | B91: VP LATGALES RP DIENVIDLATGALES IECIRKŅA IZMEKLĒŠANAS NODAĻAS 8.GRUPA | C91: vecākais inspektors | D91: 1355 | E91: 20% | F91: =ROUND(D91/$F$4,3) -> 8.146 | G91: 25 | H91: 40.73 | I91: =ROUND(H91*23.59%,2) -> 9.61 | J91: =H91+I91 -> 50.34
A92: 85 | B92: VP LATGALES REĢIONA PĀRVALDES DISCIPLINĀRĀS UZRAUDZĪBAS GRUPA | C92: vecākais inspektors | D92: 1470 | E92: 20% | F92: =ROUND(D92/$F$4,3) -> 8.838 | G92: 26 | H92: 45.96 | I92: =ROUND(H92*23.59%,2) -> 10.84 | J92: =H92+I92 -> 56.8
A93: 86 | B93: VP LATGALES RP KĀRTPB RESURSU UN KRĪZES VADĪBAS NODAĻA | C93: jaunākais inspektors | D93: 1123 | E93: 20% | F93: =ROUND(D93/$F$4,3) -> 6.752 | G93: 52 | H93: 70.22 | I93: =ROUND(H93*23.59%,2) -> 16.56 | J93: =H93+I93 -> 86.78
A94: 87 | B94: VP LATGALES RP DIENVIDLATGALES IECIRKŅA REAĢĒŠANAS NODAĻAS 5.GRUPA | C94: vecākais inspektors | D94: 1335 | E94: 20% | F94: =ROUND(D94/$F$4,3) -> 8.026 | G94: 24 | H94: 38.52 | I94: =ROUND(H94*23.59%,2) -> 9.09 | J94: =H94+I94 -> 47.61
A95: 88 | B95: VP LATGALES RP KRIMPB EKONOMISKO NOZIEGUMU APKAROŠANAS NODAĻA | C95: vecākais inspektors | D95: 1545 | E95: 20% | F95: =ROUND(D95/$F$4,3) -> 9.289 | G95: 24 | H95: 44.59 | I95: =ROUND(H95*23.59%,2) -> 10.52 | J95: =H95+I95 -> 55.11
A96: 89 | B96: VP LATGALES RP ZIEMEĻLATGALES IECIRKŅA REAĢĒŠANAS NODAĻAS 9.GRUPA | C96: inspektors | D96: 1362 | E96: 20% | F96: =ROUND(D96/$F$4,3) -> 8.189 | G96: 12 | H96: 19.65 | I96: =ROUND(H96*23.59%,2) -> 4.64 | J96: =H96+I96 -> 24.29
A97: 90 | B97: VP LATGALES RP DIENVIDLATGALES IECIRKŅA REAĢĒŠANAS NODAĻAS 4.GRUPA | C97: vecākais inspektors | D97: 1475 | E97: 20% | F97: =ROUND(D97/$F$4,3) -> 8.868 | G97: 26 | H97: 46.11 | I97: 10.12 | J97: =H97+I97 -> 56.23 | K97: ***
A98: 91 | B98: VP LATGALES RP ZIEMEĻLATGALES IECIRKŅA REAĢĒŠANAS NODAĻAS 2.GRUPA | C98: galvenais inspektors | D98: 1550 | E98: 20% | F98: =ROUND(D98/$F$4,3) -> 9.319 | G98: 24 | H98: 44.73 | I98: =ROUND(H98*23.59%,2) -> 10.55 | J98: =H98+I98 -> 55.28
A99: 92 | B99: VP LATGALES RP DIENVIDLATGALES IECIRKŅA IZMEKLĒŠANAS NODAĻAS 9.GRUPA | C99: galvenais inspektors | D99: 1422 | E99: 20% | F99: =ROUND(D99/$F$4,3) -> 8.549 | G99: 28 | H99: 47.87 | I99: =ROUND(H99*23.59%,2) -> 11.29 | J99: =H99+I99 -> 59.16
A100: 93 | B100: VP LATGALES RP ZIEMEĻLATGALES IECIRKŅA REAĢĒŠANAS NODAĻAS 4.GRUPA | C100: jaunākais inspektors | D100: 1120 | E100: 20% | F100: =ROUND(D100/$F$4,3) -> 6.734 | G100: 62 | H100: 83.5 | I100: =ROUND(H100*23.59%,2) -> 19.7 | J100: =H100+I100 -> 103.2
A101: 94 | B101: VP LATGALES RP KĀRTPB ATĻAUJU SISTĒMAS GRUPA | C101: inspektors | D101: 1176 | E101: 20% | F101: =ROUND(D101/$F$4,3) -> 7.07 | G101: 90.5 | H101: 127.97 | I101: =ROUND(H101*23.59%,2) -> 30.19 | J101: =H101+I101 -> 158.16
A102: 95 | B102: VP LATGALES RP ZIEMEĻLATGALES IECIRKŅA REAĢĒŠANAS NODAĻAS 4.GRUPA | C102: inspektors | D102: 1397 | E102: 20% | F102: =ROUND(D102/$F$4,3) -> 8.399 | G102: 37 | H102: 62.15 | I102: =ROUND(H102*23.59%,2) -> 14.66 | J102: =H102+I102 -> 76.81
A103: 96 | B103: VP LATGALES RP DIENVIDLATGALES IECIRKŅA IZMEKLĒŠANAS NODAĻAS 1.GRUPA | C103: inspektors | D103: 1443 | E103: 20% | F103: =ROUND(D103/$F$4,3) -> 8.676 | G103: 15.5 | H103: 26.9 | I103: =ROUND(H103*23.59%,2) -> 6.35 | J103: =H103+I103 -> 33.25
A104: 97 | B104: VP LATGALES RP ZIEMEĻLATGALES IECIRKŅA IZMEKLĒŠANAS NODAĻAS 8.GRUPA | C104: vecākais inspektors | D104: 1335 | E104: 20% | F104: =ROUND(D104/$F$4,3) -> 8.026 | G104: 7 | H104: 11.24 | I104: =ROUND(H104*23.59%,2) -> 2.65 | J104: =H104+I104 -> 13.89
A105: 98 | B105: VP LATGALES RP KĀRTPB RESURSU UN KRĪZES VADĪBAS NODAĻA | C105: operatīvais dežurants | D105: 1415 | E105: 20% | F105: =ROUND(D105/$F$4,3) -> 8.507 | G105: 39 | H105: 66.35 | I105: =ROUND(H105*23.59%,2) -> 15.65 | J105: =H105+I105 -> 82
A106: 99 | B106: VP LATGALES RP KRIMPB RĒZEKNES REĢIONĀLĀ NODAĻA | C106: vecākais inspektors | D106: 1593 | E106: 20% | F106: =ROUND(D106/$F$4,3) -> 9.577 | G106: 36 | H106: 68.95 | I106: =ROUND(H106*23.59%,2) -> 16.27 | J106: =H106+I106 -> 85.22
A107: 100 | B107: VP LATGALES RP DIENVIDLATGALES IECIRKŅA IZMEKLĒŠANAS NODAĻAS 1.GRUPA | C107: inspektors | D107: 1417 | E107: 20% | F107: =ROUND(D107/$F$4,3) -> 8.519 | G107: 49.5 | H107: 84.34 | I107: =ROUND(H107*23.59%,2) -> 19.9 | J107: =H107+I107 -> 104.24
A108: 101 | B108: VP LATGALES RP KRIMPB RĒZEKNES REĢIONĀLĀ NODAĻA | C108: vecākais inspektors | D108: 1593 | E108: 20% | F108: =ROUND(D108/$F$4,3) -> 9.577 | G108: 12 | H108: 22.98 | I108: =ROUND(H108*23.59%,2) -> 5.42 | J108: =H108+I108 -> 28.4
A109: 102 | B109: VP LATGALES RP ZIEMEĻLATGALES IECIRKŅA REAĢĒŠANAS NODAĻAS 3.GRUPA | C109: inspektors | D109: 1317 | E109: 50% | F109: =ROUND(D109/$F$4,3) -> 7.918 | G109: 2 | H109: 7.92 | I109: =ROUND(H109*23.59%,2) -> 1.87 | J109: =H109+I109 -> 9.79
... A116: 109 | B116: VP LATGALES RP ZIEMEĻLATGALES IECIRKŅA REAĢĒŠANAS NODAĻAS 9.GRUPA | C116: inspektors | D116: 1317 | E116: 20% | F116: =ROUND(D116/$F$4,3) -> 7.918 | G116: 12 | H116: 19 | I116: =ROUND(H116*23.59%,2) -> 4.48 | J116: =H116+I116 -> 23.48
A117: 110 | B117: VP LATGALES RP ZIEMEĻLATGALES IECIRKŅA IZMEKLĒŠANAS NODAĻAS 2.GRUPA | C117: vecākais inspektors | D117: 1517 | E117: 20% | F117: =ROUND(D117/$F$4,3) -> 9.12 | G117: 26 | H117: 47.42 | I117: =ROUND(H117*23.59%,2)-0.01 -> 11.18 | J117: =H117+I117 -> 58.6
A118: 111 | B118: VP LATGALES RP KRIMPB RĒZEKNES REĢIONĀLĀ NODAĻA | C118: vecākais inspektors | D118: 1573 | E118: 20% | F118: =ROUND(D118/$F$4,3) -> 9.457 | G118: 12 | H118: 22.7 | I118: =ROUND(H118*23.59%,2) -> 5.35 | J118: =H118+I118 -> 28.05
A119: 112 | B119: VP LATGALES RP ZIEMEĻLATGALES IECIRKŅA IZMEKLĒŠANAS NODAĻAS 1.GRUPA | C119: inspektors | D119: 1463 | E119: 20% | F119: =ROUND(D119/$F$4,3) -> 8.796 | G119: 36 | H119: 63.33 | I119: =ROUND(H119*23.59%,2) -> 14.94 | J119: =H119+I119 -> 78.27
A120: 113 | B120: VP LATGALES RP ZIEMEĻLATGALES IECIRKŅA IZMEKLĒŠANAS NODAĻAS 3.GRUPA | C120: vecākais inspektors | D120: 1517 | E120: 20% | F120: =ROUND(D120/$F$4,3) -> 9.12 | G120: 62 | H120: 113.09 | I120: =ROUND(H120*23.59%,2) -> 26.68 | J120: =H120+I120 -> 139.77
A121: 114 | B121: VP LATGALES RP DIENVIDLATGALES IECIRKŅA REAĢĒŠANAS NODAĻAS 2.GRUPA | C121: inspektors | D121: 1337 | E121: 20% | F121: =ROUND(D121/$F$4,3) -> 8.038 | G121: 24 | H121: 38.58 | I121: =ROUND(H121*23.59%,2) -> 9.1 | J121: =H121+I121 -> 47.68
A122: 115 | B122: VP LATGALES RP ZIEMEĻLATGALES IECIRKŅA PREVENCIJAS GRUPA | C122: inspektors | D122: 1362 | E122: 50% | F122: =ROUND(D122/$F$4,3) -> 8.189 | G122: 4 | H122: 16.38 | I122: =ROUND(H122*23.59%,2) -> 3.86 | J122: =H122+I122 -> 20.24
A123: 116 | B123: VP LATGALES RP ZIEMEĻLATGALES IECIRKŅA PREVENCIJAS GRUPA | C123: inspektors | D123: 1362 | E123: 20% | F123: =ROUND(D123/$F$4,3) -> 8.189 | G123: 24 | H123: 39.31 | I123: =ROUND(H123*23.59%,2) -> 9.27 | J123: =H123+I123 -> 48.58
A124: 117 | B124: VP LATGALES RP ZIEMEĻLATGALES IECIRKŅA REAĢĒŠANAS NODAĻAS 1.GRUPA | C124: inspektors | D124: 1317 | E124: 20% | F124: =ROUND(D124/$F$4,3) -> 7.918 | G124: 49.5 | H124: 78.39 | I124: =ROUND(H124*23.59%,2) -> 18.49 | J124: =H124+I124 -> 96.88
A125: 118 | B125: VP LATGALES RP DIENVIDLATGALES IECIRKŅA IZMEKLĒŠANAS NODAĻAS 1.GRUPA | C125: vecākais inspektors | D125: 1490 | E125: 20% | F125: =ROUND(D125/$F$4,3) -> 8.958 | G125: 34 | H125: 60.91 | I125: =ROUND(H125*23.59%,2) -> 14.37 | J125: =H125+I125 -> 75.28
A126: 119 | B126: VP LATGALES RP DIENVIDLATGALES IECIRKŅA IZMEKLĒŠANAS NODAĻAS 1.GRUPA | C126: vecākais inspektors | D126: 1490 | E126: 50% | F126: =ROUND(D126/$F$4,3) -> 8.958 | G126: 0.5 | H126: 2.24 | I126: =ROUND(H126*23.59%,2) -> 0.53 | J126: =H126+I126 -> 2.77
...

Sheet 5.tabula
G1: 2.pielikuma 5.tabula
A2: Valsts policija
A3: Detalizēts aprēķins dienas naudas samaksai amatpersonām ar speciālajām dienesta pakāpēm, sniedzot atbalstu Valsts robežsardzei Latvijas Republikas-Baltkrievijas Republikas valsts robežas robežuzraudzības nodrošināšanā par laika periodu no 2023.gada 1.jūlija līdz 22.jūlijam
A5: Nr. p.k. | B5: Struktūrvienība | C5: Amats | D5: Laika periods | E5: Dienu skaits | F5: Likme | G5: Dienas nauda (kopsumma)
A6: kopā: | G6: =SUM(G7:G33) -> 832
B7: Rīgas reģiona pārvalde
A8: 1 | B8: Kārtības policijas pārvaldes Patruļpolicijas pārvaldes Speciālo uzdevumu bataljona 5.rota | C8: jaunākais inspektors | D8: 01.07.2023.-22.07.2023. | E8: 2 | F8: 8 | G8: =ROUND(E8*F8,2) -> 16
E9: 20 | F9: 2.4 | G9: =ROUND(E9*F9,2) -> 48
A10: 2 | B10: Kārtības policijas pārvaldes Patruļpolicijas pārvaldes Speciālo uzdevumu bataljona 5.rota | C10: jaunākais inspektors | D10: 01.07.2023.-22.07.2023. | E10: 2 | F10: 8 | G10: =ROUND(E10*F10,2) -> 16
E11: 20 | F11: 2.4 | G11: =ROUND(E11*F11,2) -> 48
A12: 3 | B12: Kārtības policijas pārvaldes Patruļpolicijas pārvaldes Speciālo uzdevumu bataljona 5.rota | C12: rotas komandieris | D12: 01.07.2023.-22.07.2023. | E12: 2 | F12: 8 | G12: =ROUND(E12*F12,2) -> 16
E13: 20 | F13: 2.4 | G13: =ROUND(E13*F13,2) -> 48
A14: 4 | B14: Kārtības policijas pārvaldes Patruļpolicijas pārvaldes Speciālo uzdevumu bataljona 5.rota | C14: jaunākais inspektors | D14: 01.07.2023.-22.07.2023. | E14: 2 | F14: 8 | G14: =ROUND(E14*F14,2) -> 16
E15: 20 | F15: 2.4 | G15: =ROUND(E15*F15,2) -> 48
A16: 5 | B16: Kārtības policijas pārvaldes Patruļpolicijas pārvaldes Speciālo uzdevumu bataljona 5.rota | C16: jaunākais inspektors | D16: 01.07.2023.-22.07.2023. | E16: 2 | F16: 8 | G16: =ROUND(E16*F16,2) -> 16
E17: 20 | F17: 2.4 | G17: =ROUND(E17*F17,2) -> 48
A18: 6 | B18: Kārtības policijas pārvaldes Patruļpolicijas pārvaldes Speciālo uzdevumu bataljona 5.rota | C18: jaunākais inspektors | D18: 01.07.2023.-22.07.2023. | E18: 2 | F18: 8 | G18: =ROUND(E18*F18,2) -> 16
E19: 20 | F19: 2.4 | G19: =ROUND(E19*F19,2) -> 48
A20: 7 | B20: Kārtības policijas pārvaldes Patruļpolicijas pārvaldes Speciālo uzdevumu bataljona 5.rota | C20: jaunākais inspektors | D20: 01.07.2023.-22.07.2023. | E20: 2 | F20: 8 | G20: =ROUND(E20*F20,2) -> 16
E21: 20 | F21: 2.4 | G21: =ROUND(E21*F21,2) -> 48
A22: 8 | B22: Kārtības policijas pārvaldes Patruļpolicijas pārvaldes Speciālo uzdevumu bataljona 5.rota | C22: jaunākais inspektors | D22: 01.07.2023.-22.07.2023. | E22: 2 | F22: 8 | G22: =ROUND(E22*F22,2) -> 16
E23: 20 | F23: 2.4 | G23: =ROUND(E23*F23,2) -> 48
A24: 9 | B24: Kārtības policijas pārvaldes Patruļpolicijas pārvaldes Speciālo uzdevumu bataljona 5.rota | C24: jaunākais inspektors | D24: 01.07.2023.-22.07.2023. | E24: 2 | F24: 8 | G24: =ROUND(E24*F24,2) -> 16
E25: 20 | F25: 2.4 | G25: =ROUND(E25*F25,2) -> 48
A26: 10 | B26: Kārtības policijas pārvaldes Patruļpolicijas pārvaldes Speciālo uzdevumu bataljona 5.rota | C26: jaunākais inspektors | D26: 01.07.2023.-22.07.2023. | E26: 2 | F26: 8 | G26: =ROUND(E26*F26,2) -> 16
E27: 20 | F27: 2.4 | G27: =ROUND(E27*F27,2) -> 48
A28: 11 | B28: Kārtības policijas pārvaldes Patruļpolicijas pārvaldes Speciālo uzdevumu bataljona 5.rota | C28: jaunākais inspektors | D28: 01.07.2023.-22.07.2023. | E28: 2 | F28: 8 | G28: =ROUND(E28*F28,2) -> 16
E29: 20 | F29: 2.4 | G29: =ROUND(E29*F29,2) -> 48
A30: 12 | B30: Kārtības policijas pārvaldes Patruļpolicijas pārvaldes Speciālo uzdevumu bataljona 5.rota | C30: jaunākais inspektors | D30: 01.07.2023.-22.07.2023. | E30: 2 | F30: 8 | G30: =ROUND(E30*F30,2) -> 16
E31: 20 | F31: 2.4 | G31: =ROUND(E31*F31,2) -> 48
A32: 13 | B32: Kārtības policijas pārvaldes Patruļpolicijas pārvaldes Speciālo uzdevumu bataljona 5.rota | C32: jaunākais inspektors | D32: 01.07.2023.-22.07.2023. | E32: 2 | F32: 8 | G32: =ROUND(E32*F32,2) -> 16
E33: 20 | F33: 2.4 | G33: =ROUND(E33*F33,2) -> 48

Sheet 6.tabula
F1: 2.pielikuma 6.tabula
A2: Valsts policija
A3: Degvielas izmaksu aprēķins degvielas izdevumiem sniedzot atbalstu Valsts robežsardzei Latvijas Republikas-Baltkrievijas Republikas valsts robežas nelikumīgas šķērsošanas nodrošināšanā par laika periodu 2023.gada 1. jūlija līdz 31. jūlijam
A5: Nr.p.k. | B5: Transportlīdzekļa marka | C5: Iesaistīto transportlīdzekļu skaits | D5: Faktiskais nobraukums pasākumā (km) | E5: Pasākuma laikā patērētā degviela (l) | F5: Summa euro
A6: Kopā: | C6: =ROUNDUP(SUM(C8:C33),2) -> 87 | D6: =ROUNDUP(SUM(D8:D33),2) -> 92553 | E6: =ROUNDUP(SUM(E8:E33),2) -> 6599.44 | F6: =ROUNDUP(SUM(F8:F33),2) -> 8733.98
A7: Vidzemes reģiona pārvalde
A8: 1 | B8: Peugeot Boxer | C8: 2 | D8: 3991 | E8: 365.94 | F8: 496.01
A9: 2 | B9: VW Crafter | C9: 1 | D9: 2006 | E9: 219.06 | F9: 297.08
A10: 3 | B10: VW Tiguan | C10: 1 | D10: 2203 | E10: 135.26 | F10: 181.77
A11: Latgales reģiona pārvalde
A12: 4 | B12: Hyundai Santa Fe | C12: 1 | D12: 107 | E12: 9.74 | F12: 12.86
A13: =A12+1 -> 5 | B13: Fiat 500xCross | C13: 1 | D13: 664 | E13: 43.16 | F13: 56.98
A14: =A13+1 -> 6 | B14: KIA Ceed | C14: 6 | D14: 2067 | E14: 123.63 | F14: 166.38
A15: =A14+1 -> 7 | B15: Opel Mokka | C15: 37 | D15: 44350 | E15: 2944.53 | F15: 3872.56
A16: =A15+1 -> 8 | B16: Opel Insignia | C16: 1 | D16: 764 | E16: 49.66 | F16: 65.56
A17: =A16+1 -> 9 | B17: Opel Insignia Limousine | C17: 7 | D17: 1451 | E17: 102.02 | F17: 134.7
A18: =A17+1 -> 10 | B18: Opel Combo | C18: 1 | D18: 2799 | E18: 190.33 | F18: 250.14
A19: =A18+1 -> 11 | B19: Peugeot Boxer | C19: 1 | D19: 116 | E19: 10.56 | F19: 10.98
A20: =A19+1 -> 12 | B20: Renault Kangoo | C20: 7 | D20: 12867 | E20: 858.61 | F20: 1128.31
A21: =A20+1 -> 13 | B21: Renault Laguna | C21: 3 | D21: 5054 | E21: 340.64 | F21: 449.6
A22: =A21+1 -> 14 | B22: Renault Trafic | C22: 2 | D22: 1215 | E22: 93.45 | F22: 123.37
A23: =A22+1 -> 15 | B23: Škoda Octavia | C23: 2 | D23: 1035 | E23: 64.99 | F23: 85.8
A24: =A23+1 -> 16 | B24: Toyota CAMRY | C24: 1 | D24: 270 | E24: 15.12 | F24: 21.63
... A29: =A28+1 -> 21 | B29: Citroen Jumper | C29: 1 | D29: 805 | E29: 90.97 | F29: 120.08
A30: Zemgales reģiona pārvalde
A31: 22 | B31: VW Crafter | C31: 1 | D31: 954 | E31: 132.04 | F31: 175.54
A32: 23 | B32: Peugeot Boxer | C32: 1 | D32: 871 | E32: 97 | F32: 129.24
A33: 24 | B33: Opel Insignia Limousine NB | C33: 1 | D33: 1813 | E33: 102 | F33: 137.53
