Workbook
Name Recover: [1]Macro1!$A$99
Name Rikojums2222: [2]Macro1!$A$106
Name TableName: "Dummy"

Sheet Kopsavilkums
C1: Pielikums Nr.19 Ministru kabineta rīkojuma "Ministru kabineta rīkojuma "Par finanšu līdzekļu apropriācijas pārdali no budžeta resora ''74. Gadskārtējā valsts budžeta izpildes procesā pārdalāmais finansējums'' valsts budžeta programmas 12.00.00 ''Finansējums veselības jomas pasākumiem Covid-19 infekcijas izplatības ierobežošanai"" projekta sākotnējās ietekmes novērtējuma ziņojumam (anotācijai)
B3: Augusts | C3: EUR | D3: EKK 3000 | E3: EKK 7472 | G3: Apakšprogramma
B4: Izmaksas par Covid 19 izmeklējumiem | C4: =C5+C8+C23 -> 3242717 | D4: =D5+D8+D23 -> 3218208 | E4: =E5+E8+E23 -> 24509
B5: Covid-19 diagnostika | C5: =SUM(C6:C7) -> 423354 | D5: =SUM(D6:D7) -> 423354 | E5: =SUM(E6:E7) -> 0
B6: COVID-19 diagnostikas manipulācijas (ātrie testi, stacionārā daļa) | C6: =ātrie_testi_stac_daļa!M62 -> 361600 | D6: =C6 -> 361600 | F6: MK not.Nr.555 262.1 | G6: 33.18.00
B7: COVID-19 diagnostikas manipulācijas (ātrie testi, ambulatorā daļa) | C7: =ātrie_testi_amb_daļa!H39 -> 61754 | D7: =C7 -> 61754 | F7: MK not.Nr.555 262.1 | G7: 33.16.00
B8: Covid-19 pakalpojumu programma laboratorijām | C8: =SUM(C9:C22) -> 2603603 | D8: =SUM(D9:D22) -> 2579094 | E8: =SUM(E9:E22) -> 24509
B9: Rīgas Austrumu klīniskā universitātes slimnīca, SIA, | C9: =Covid_pakalp_progr!H15 -> 97901 | D9: 97901 | E9: 0 | F9: MK not.Nr.555 262.1 | G9: 33.16.00
B10: Pārtikas drošības, dzīvnieku veselības un vides zinātniskais institūts "BIOR" | C10: =Covid_pakalp_progr!H23 -> 24509 | D10: 0 | E10: =C10 -> 24509 | F10: MK not.Nr.555 262.1
B11: „Centrālā laboratorija” SIA | C11: =Covid_pakalp_progr!H51 -> 1117970 | D11: =C11 -> 1117970 | E11: 0 | F11: MK not.Nr.555 262.1
B12: “E. Gulbja Laboratorija” SIA | C12: =Covid_pakalp_progr!H60 -> 908504 | D12: =C12 -> 908504 | E12: 0 | F12: MK not.Nr.555 262.1
B13: Dziedniecība, Sabiedrība ar ierobežotu atbildību | C13: =Covid_pakalp_progr!H33 -> 272839 | D13: =C13 -> 272839 | E13: 0 | F13: MK not.Nr.555 262.1
B14: NMS Laboratorija, SIA | C14: =Covid_pakalp_progr!H41 -> 69184 | D14: =C14 -> 69184 | E14: 0 | F14: MK not.Nr.555 262.1
B15: iVF Riga, SIA | C15: =Covid_pakalp_progr!H77 -> 10967 | D15: =C15 -> 10967 | E15: 0 | F15: MK not.Nr.555 262.1
B16: Biocon, Sabiedrība ar ierobežotu atbildību | C16: =Covid_pakalp_progr!H120 -> 7625 | D16: =C16 -> 7625 | E16: 0 | F16: MK not.Nr.555 262.1
B17: Paula Stradiņa klīniskā universitātes slimnīca, VSIA | C17: =Covid_pakalp_progr!H67 -> 40719 | D17: =C17 -> 40719 | E17: 0 | F17: MK not.Nr.555 262.1
B18: „Veselības centrs 4” SIA | C18: =Covid_pakalp_progr!H85 -> 16817 | D18: =C18 -> 16817 | E18: 0 | F18: MK not.Nr.555 262.1
B19: Sendito, SIA | C19: =Covid_pakalp_progr!H101 -> 15177 | D19: =C19 -> 15177 | E19: 0 | F19: MK not.Nr.555 262.1
B20: Alūksnes slimnīca SIA | C20: =Covid_pakalp_progr!H106 -> 217 | D20: =C20 -> 217 | E20: 0 | F20: MK not.Nr.555 262.1
B21: Ogres rajona slimnīca SIA | C21: =Covid_pakalp_progr!H114 -> 14469 | D21: =C21 -> 14469 | E21: 0 | F21: MK not.Nr.555 262.1
B22: Ziemeļkurzemes reģionālā slimnīca, SIA | C22: =Covid_pakalp_progr!H92 -> 6705 | D22: =C22 -> 6705 | E22: 0 | F22: MK not.Nr.555 262.1
B23: Citas saistītās Covid-19 izmeklējumu izmaksas | C23: =SUM(C24:C24) -> 215760 | D23: =SUM(D24:D24) -> 215760 | E23: =SUM(E24:E24) -> 0
B24: Rīgas Austrumu klīniskā universitātes slimnīca SIA: Sekvencēšana | C24: =Sekvencēšana!E13 -> 215760 | D24: =C24 -> 215760 | E24: 0 | F24: MK not.Nr.555 262.1

Sheet ātrie_testi_stac_daļa
J1: Turpinājums pielikumam Nr.19 Ministru kabineta rīkojuma "Ministru kabineta rīkojuma "Par finanšu līdzekļu apropriācijas pārdali no budžeta resora ''74. Gadskārtējā valsts budžeta izpildes procesā pārdalāmais finansējums'' valsts budžeta programmas 12.00.00 ''Finansējums veselības jomas pasākumiem Covid-19 infekcijas izplatības ierobežošanai"" projekta sākotnējās ietekmes novērtējuma ziņojumam (anotācijai)
A2: COVID-19 diagnostikas manipulācijas (ātrie testi, stacionārā daļa)*
A3: Ārstniecības iestādes nosaukums | B3: Manipulācijas kods | C3: Manupulācijas nosaukums | D3: Tarifs, euro | E3: Janvāris, 2022 | F3: Februāris, 2022 | G3: Marts, 2022 | H3: Aprīlis, 2022 | I3: Maijs, 2022 | J3: Jūnijs, 2022 | K3: Jūlijs, 2022 | L3: Augusts, 2022 | M3: Summa, euro
A4: Aizkraukles slimnīca | B4: 47268 | C4: SARS-CoV-2 (COVID-19) antigēna noteikšana (Ag eksprestests) (ar reaģenta komplekta vērtību) | D4: 4.52 | K4: 41 | L4: 153 | M4: =ROUND(D4*E4+D4*F4+D4*G4+D4*H4+D4*I4+D4*J4+D4*K4+D4*L4,2) -> 876.88
A5: Alūksnes slimnīca | B5: 47268 | C5: SARS-CoV-2 (COVID-19) antigēna noteikšana (Ag eksprestests) (ar reaģenta komplekta vērtību) | D5: 4.52 | K5: 30 | L5: 152 | M5: =ROUND(D5*E5+D5*F5+D5*G5+D5*H5+D5*I5+D5*J5+D5*K5+D5*L5,2) -> 822.64
A6: Balvu un Gulbenes slimnīcu apvienība | B6: 47328 | C6: SARS-CoV-2 (COVID-19) antigēna noteikšana (Ag eksprestests) (bez reaģenta komplekta vērtības) | D6: 3.83 | J6: 1 | K6: 33 | L6: 176 | M6: =ROUND(D6*E6+D6*F6+D6*G6+D6*H6+D6*I6+D6*J6+D6*K6+D6*L6,2) -> 804.3
A7: Bauskas slimnīca | B7: 47268 | C7: SARS-CoV-2 (COVID-19) antigēna noteikšana (Ag eksprestests) (ar reaģenta komplekta vērtību) | D7: 4.52 | K7: 113 | L7: 18 | M7: =ROUND(D7*E7+D7*F7+D7*G7+D7*H7+D7*I7+D7*J7+D7*K7+D7*L7,2) -> 592.12
A8: Bauskas slimnīca | B8: 47328 | C8: SARS-CoV-2 (COVID-19) antigēna noteikšana (Ag eksprestests) (bez reaģenta komplekta vērtības) | D8: 3.83 | J8: 12 | K8: 3 | M8: =ROUND(D8*E8+D8*F8+D8*G8+D8*H8+D8*I8+D8*J8+D8*K8+D8*L8,2) -> 57.45
A9: Bērnu klīniskā universitātes slimnīca | B9: 47078 | C9: SARS-CoV-2 RNS (COVID-19) noteikšana ar reālā laika PĶR (bez parauga paņemšanas) ātrai diagnostikai un diferenciāldiagnostikai (ar reaģenta vērtību) | D9: 44.25 | H9: 1 | K9: 5 | L9: 4 | M9: =ROUND(D9*E9+D9*F9+D9*G9+D9*H9+D9*I9+D9*J9+D9*K9+D9*L9,2) -> 442.5
A10: Bērnu klīniskā universitātes slimnīca | B10: 47328 | C10: SARS-CoV-2 (COVID-19) antigēna noteikšana (Ag eksprestests) (bez reaģenta komplekta vērtības) | D10: 3.83 | K10: 2 | L10: 16 | M10: =ROUND(D10*E10+D10*F10+D10*G10+D10*H10+D10*I10+D10*J10+D10*K10+D10*L10,2) -> 68.94
A11: Bērnu klīniskā universitātes slimnīca | B11: 60046 | C11: COVID-19 transporta barotne ar diviem lokaniem tamponiem ātrajam molekulārajam testam | D11: 0.8 | K11: 1 | M11: =ROUND(D11*E11+D11*F11+D11*G11+D11*H11+D11*I11+D11*J11+D11*K11+D11*L11,2) -> 0.8
A12: Cēsu klīnika | B12: 47268 | C12: SARS-CoV-2 (COVID-19) antigēna noteikšana (Ag eksprestests) (ar reaģenta komplekta vērtību) | D12: 4.52 | K12: 34 | L12: 213 | M12: =ROUND(D12*E12+D12*F12+D12*G12+D12*H12+D12*I12+D12*J12+D12*K12+D12*L12,2) -> 1116.44
A13: Daugavpils psihoneiroloģiskā slimnīca | B13: 47268 | C13: SARS-CoV-2 (COVID-19) antigēna noteikšana (Ag eksprestests) (ar reaģenta komplekta vērtību) | D13: 4.52 | J13: 15 | K13: 156 | L13: 158 | M13: =ROUND(D13*E13+D13*F13+D13*G13+D13*H13+D13*I13+D13*J13+D13*K13+D13*L13,2) -> 1487.08
A14: Daugavpils reģionālā slimnīca | B14: 47078 | C14: SARS-CoV-2 RNS (COVID-19) noteikšana ar reālā laika PĶR (bez parauga paņemšanas) ātrai diagnostikai un diferenciāldiagnostikai (ar reaģenta vērtību) | D14: 44.25 | H14: 1 | I14: 8 | J14: 30 | K14: 310 | L14: 779 | M14: =ROUND(D14*E14+D14*F14+D14*G14+D14*H14+D14*I14+D14*J14+D14*K14+D14*L14,2) -> 49914
A15: Daugavpils reģionālā slimnīca | B15: 47268 | C15: SARS-CoV-2 (COVID-19) antigēna noteikšana (Ag eksprestests) (ar reaģenta komplekta vērtību) | D15: 4.52 | J15: 2 | K15: 173 | L15: 624 | M15: =ROUND(D15*E15+D15*F15+D15*G15+D15*H15+D15*I15+D15*J15+D15*K15+D15*L15,2) -> 3611.48
A16: Daugavpils reģionālā slimnīca | B16: 47268 | C16: SARS-CoV-2 (COVID-19) antigēna noteikšana (Ag eksprestests) (ar reaģenta komplekta vērtību) | D16: 5.28 | G16: 3 | M16: =ROUND(D16*E16+D16*F16+D16*G16+D16*H16+D16*I16+D16*J16+D16*K16+D16*L16,2) -> 15.84
A17: Dobeles un apkārtnes slimnīca | B17: 47328 | C17: SARS-CoV-2 (COVID-19) antigēna noteikšana (Ag eksprestests) (bez reaģenta komplekta vērtības) | D17: 3.83 | K17: 42 | L17: 127 | M17: =ROUND(D17*E17+D17*F17+D17*G17+D17*H17+D17*I17+D17*J17+D17*K17+D17*L17,2) -> 647.27
A18: Jelgavas pilsētas slimnīca | B18: 47078 | C18: SARS-CoV-2 RNS (COVID-19) noteikšana ar reālā laika PĶR (bez parauga paņemšanas) ātrai diagnostikai un diferenciāldiagnostikai (ar reaģenta vērtību) | D18: 44.25 | I18: 4 | K18: 30 | L18: 129 | M18: =ROUND(D18*E18+D18*F18+D18*G18+D18*H18+D18*I18+D18*J18+D18*K18+D18*L18,2) -> 7212.75
A19: Jelgavas pilsētas slimnīca | B19: 47328 | C19: SARS-CoV-2 (COVID-19) antigēna noteikšana (Ag eksprestests) (bez reaģenta komplekta vērtības) | D19: 3.83 | I19: 3 | J19: 12 | K19: 214 | L19: 899 | M19: =ROUND(D19*E19+D19*F19+D19*G19+D19*H19+D19*I19+D19*J19+D19*K19+D19*L19,2) -> 4320.24
A20: Jēkabpils reģionālā slimnīca | B20: 47078 | C20: SARS-CoV-2 RNS (COVID-19) noteikšana ar reālā laika PĶR (bez parauga paņemšanas) ātrai diagnostikai un diferenciāldiagnostikai (ar reaģenta vērtību) | D20: 44.25 | J20: 2 | K20: 81 | L20: 359 | M20: =ROUND(D20*E20+D20*F20+D20*G20+D20*H20+D20*I20+D20*J20+D20*K20+D20*L20,2) -> 19558.5
A21: Jēkabpils reģionālā slimnīca | B21: 47078 | C21: SARS-CoV-2 RNS (COVID-19) noteikšana ar reālā laika PĶR (bez parauga paņemšanas) ātrai diagnostikai un diferenciāldiagnostikai (ar reaģenta vērtību) | D21: 48.58 | E21: 1 | F21: 7 | G21: 16 | M21: =ROUND(D21*E21+D21*F21+D21*G21+D21*H21+D21*I21+D21*J21+D21*K21+D21*L21,2) -> 1165.92
A22: Jēkabpils reģionālā slimnīca | B22: 47268 | C22: SARS-CoV-2 (COVID-19) antigēna noteikšana (Ag eksprestests) (ar reaģenta komplekta vērtību) | D22: 4.52 | J22: 2 | K22: 72 | L22: 268 | M22: =ROUND(D22*E22+D22*F22+D22*G22+D22*H22+D22*I22+D22*J22+D22*K22+D22*L22,2) -> 1545.84
A23: Jēkabpils reģionālā slimnīca | B23: 47268 | C23: SARS-CoV-2 (COVID-19) antigēna noteikšana (Ag eksprestests) (ar reaģenta komplekta vērtību) | D23: 5.28 | E23: 1 | F23: 2 | G23: 4 | M23: =ROUND(D23*E23+D23*F23+D23*G23+D23*H23+D23*I23+D23*J23+D23*K23+D23*L23,2) -> 36.96
A24: Jēkabpils reģionālā slimnīca | B24: 47269 | C24: SARS-CoV-2 RNS (COVID-19) noteikšana ar reālā laika PĶR (bez parauga paņemšanas) ātrai diagnostikai un diferenciāldiagnostikai (bez reaģenta vērtības) | D24: 8.25 | K24: 1 | L24: 1 | M24: =ROUND(D24*E24+D24*F24+D24*G24+D24*H24+D24*I24+D24*J24+D24*K24+D24*L24,2) -> 16.5
A25: Jēkabpils reģionālā slimnīca | B25: 47269 | C25: SARS-CoV-2 RNS (COVID-19) noteikšana ar reālā laika PĶR (bez parauga paņemšanas) ātrai diagnostikai un diferenciāldiagnostikai (bez reaģenta vērtības) | D25: 12.58 | F25: 3 | G25: 5 | M25: =ROUND(D25*E25+D25*F25+D25*G25+D25*H25+D25*I25+D25*J25+D25*K25+D25*L25,2) -> 100.64
A26: Jūrmalas slimnīca | B26: 47268 | C26: SARS-CoV-2 (COVID-19) antigēna noteikšana (Ag eksprestests) (ar reaģenta komplekta vērtību) | D26: 4.52 | L26: 1 | M26: =ROUND(D26*E26+D26*F26+D26*G26+D26*H26+D26*I26+D26*J26+D26*K26+D26*L26,2) -> 4.52
A27: Jūrmalas slimnīca | B27: 47328 | C27: SARS-CoV-2 (COVID-19) antigēna noteikšana (Ag eksprestests) (bez reaģenta komplekta vērtības) | D27: 3.83 | K27: 49 | L27: 319 | M27: =ROUND(D27*E27+D27*F27+D27*G27+D27*H27+D27*I27+D27*J27+D27*K27+D27*L27,2) -> 1409.44
A28: Kuldīgas slimnīca | B28: 47268 | C28: SARS-CoV-2 (COVID-19) antigēna noteikšana (Ag eksprestests) (ar reaģenta komplekta vērtību) | D28: 4.52 | J28: 1 | K28: 58 | L28: 262 | M28: =ROUND(D28*E28+D28*F28+D28*G28+D28*H28+D28*I28+D28*J28+D28*K28+D28*L28,2) -> 1450.92
A29: Liepājas reģionālā slimnīca | B29: 47073 | C29: SARS-CoV-2 RNS (COVID-19) noteikšana ar reālā laika PĶR (bez parauga paņemšanas) | D29: 23.32 | L29: 1 | M29: =ROUND(D29*E29+D29*F29+D29*G29+D29*H29+D29*I29+D29*J29+D29*K29+D29*L29,2) -> 23.32
A30: Liepājas reģionālā slimnīca | B30: 47268 | C30: SARS-CoV-2 (COVID-19) antigēna noteikšana (Ag eksprestests) (ar reaģenta komplekta vērtību) | D30: 4.52 | J30: 2 | K30: 173 | L30: 979 | M30: =ROUND(D30*E30+D30*F30+D30*G30+D30*H30+D30*I30+D30*J30+D30*K30+D30*L30,2) -> 5216.08
A31: Limbažu slimnīca | B31: 47268 | C31: SARS-CoV-2 (COVID-19) antigēna noteikšana (Ag eksprestests) (ar reaģenta komplekta vērtību) | D31: 4.52 | K31: 33 | L31: 72 | M31: =ROUND(D31*E31+D31*F31+D31*G31+D31*H31+D31*I31+D31*J31+D31*K31+D31*L31,2) -> 474.6
A32: Limbažu slimnīca | B32: 47268 | C32: SARS-CoV-2 (COVID-19) antigēna noteikšana (Ag eksprestests) (ar reaģenta komplekta vērtību) | D32: 5.28 | E32: 26 | M32: =ROUND(D32*E32+D32*F32+D32*G32+D32*H32+D32*I32+D32*J32+D32*K32+D32*L32,2) -> 137.28
A33: Ludzas medicīnas centrs | B33: 47268 | C33: SARS-CoV-2 (COVID-19) antigēna noteikšana (Ag eksprestests) (ar reaģenta komplekta vērtību) | D33: 4.52 | K33: 17 | L33: 42 | M33: =ROUND(D33*E33+D33*F33+D33*G33+D33*H33+D33*I33+D33*J33+D33*K33+D33*L33,2) -> 266.68
A34: Madonas slimnīca | B34: 47268 | C34: SARS-CoV-2 (COVID-19) antigēna noteikšana (Ag eksprestests) (ar reaģenta komplekta vērtību) | D34: 4.52 | J34: 2 | K34: 16 | L34: 99 | M34: =ROUND(D34*E34+D34*F34+D34*G34+D34*H34+D34*I34+D34*J34+D34*K34+D34*L34,2) -> 528.84
A35: Ogres rajona slimnīca | B35: 47073 | C35: SARS-CoV-2 RNS (COVID-19) noteikšana ar reālā laika PĶR (bez parauga paņemšanas) | D35: 23.32 | K35: 59 | L35: 363 | M35: =ROUND(D35*E35+D35*F35+D35*G35+D35*H35+D35*I35+D35*J35+D35*K35+D35*L35,2) -> 9841.04
A36: Ogres rajona slimnīca | B36: 47268 | C36: SARS-CoV-2 (COVID-19) antigēna noteikšana (Ag eksprestests) (ar reaģenta komplekta vērtību) | D36: 4.52 | K36: 14 | L36: 122 | M36: =ROUND(D36*E36+D36*F36+D36*G36+D36*H36+D36*I36+D36*J36+D36*K36+D36*L36,2) -> 614.72
A37: Ogres rajona slimnīca | B37: 47328 | C37: SARS-CoV-2 (COVID-19) antigēna noteikšana (Ag eksprestests) (bez reaģenta komplekta vērtības) | D37: 3.83 | J37: 1 | K37: 43 | L37: 236 | M37: =ROUND(D37*E37+D37*F37+D37*G37+D37*H37+D37*I37+D37*J37+D37*K37+D37*L37,2) -> 1072.4
A38: Paula Stradiņa klīniskā universitātes slimnīca | B38: 47073 | C38: SARS-CoV-2 RNS (COVID-19) noteikšana ar reālā laika PĶR (bez parauga paņemšanas) | D38: 23.32 | H38: -2 | I38: 3 | J38: 21 | K38: 241 | L38: 1782 | M38: =ROUND(D38*E38+D38*F38+D38*G38+D38*H38+D38*I38+D38*J38+D38*K38+D38*L38,2) -> 47689.4
A39: Paula Stradiņa klīniskā universitātes slimnīca | B39: 47073 | C39: SARS-CoV-2 RNS (COVID-19) noteikšana ar reālā laika PĶR (bez parauga paņemšanas) | D39: 27.03 | G39: 3 | M39: =ROUND(D39*E39+D39*F39+D39*G39+D39*H39+D39*I39+D39*J39+D39*K39+D39*L39,2) -> 81.09
A40: Paula Stradiņa klīniskā universitātes slimnīca | B40: 47078 | C40: SARS-CoV-2 RNS (COVID-19) noteikšana ar reālā laika PĶR (bez parauga paņemšanas) ātrai diagnostikai un diferenciāldiagnostikai (ar reaģenta vērtību) | D40: 44.25 | J40: 8 | K40: 153 | L40: 498 | M40: =ROUND(D40*E40+D40*F40+D40*G40+D40*H40+D40*I40+D40*J40+D40*K40+D40*L40,2) -> 29160.75
A41: Paula Stradiņa klīniskā universitātes slimnīca | B41: 47078 | C41: SARS-CoV-2 RNS (COVID-19) noteikšana ar reālā laika PĶR (bez parauga paņemšanas) ātrai diagnostikai un diferenciāldiagnostikai (ar reaģenta vērtību) | D41: 48.58 | F41: 1 | M41: =ROUND(D41*E41+D41*F41+D41*G41+D41*H41+D41*I41+D41*J41+D41*K41+D41*L41,2) -> 48.58
A42: Paula Stradiņa klīniskā universitātes slimnīca | B42: 60046 | C42: COVID-19 transporta barotne ar diviem lokaniem tamponiem ātrajam molekulārajam testam | D42: 0.8 | J42: 8 | K42: 152 | L42: 524 | M42: =ROUND(D42*E42+D42*F42+D42*G42+D42*H42+D42*I42+D42*J42+D42*K42+D42*L42,2) -> 547.2
A43: Paula Stradiņa klīniskā universitātes slimnīca | B43: 60046 | C43: COVID-19 transporta barotne ar diviem lokaniem tamponiem ātrajam molekulārajam testam | D43: 1.5 | F43: 1 | M43: =ROUND(D43*E43+D43*F43+D43*G43+D43*H43+D43*I43+D43*J43+D43*K43+D43*L43,2) -> 1.5
A44: Preiļu slimnīca | B44: 47328 | C44: SARS-CoV-2 (COVID-19) antigēna noteikšana (Ag eksprestests) (bez reaģenta komplekta vērtības) | D44: 3.83 | H44: 2 | I44: 2 | K44: 5 | L44: 34 | M44: =ROUND(D44*E44+D44*F44+D44*G44+D44*H44+D44*I44+D44*J44+D44*K44+D44*L44,2) -> 164.69
A45: Rēzeknes slimnīca | B45: 47268 | C45: SARS-CoV-2 (COVID-19) antigēna noteikšana (Ag eksprestests) (ar reaģenta komplekta vērtību) | D45: 4.52 | J45: 4 | K45: 210 | L45: 1060 | M45: =ROUND(D45*E45+D45*F45+D45*G45+D45*H45+D45*I45+D45*J45+D45*K45+D45*L45,2) -> 5758.48
A46: Rīgas 2. slimnīca | B46: 47268 | C46: SARS-CoV-2 (COVID-19) antigēna noteikšana (Ag eksprestests) (ar reaģenta komplekta vērtību) | D46: 4.52 | H46: 2 | I46: 1 | J46: 18 | K46: 71 | L46: 23 | M46: =ROUND(D46*E46+D46*F46+D46*G46+D46*H46+D46*I46+D46*J46+D46*K46+D46*L46,2) -> 519.8
A47: Rīgas Austrumu klīniskā universitātes slimnīca | B47: 47073 | C47: SARS-CoV-2 RNS (COVID-19) noteikšana ar reālā laika PĶR (bez parauga paņemšanas) | D47: 23.32 | H47: 20 | I47: 43 | J47: 29 | K47: 922 | L47: 2953 | M47: =ROUND(D47*E47+D47*F47+D47*G47+D47*H47+D47*I47+D47*J47+D47*K47+D47*L47,2) -> 92510.44
A48: Rīgas Austrumu klīniskā universitātes slimnīca | B48: 47073 | C48: SARS-CoV-2 RNS (COVID-19) noteikšana ar reālā laika PĶR (bez parauga paņemšanas) | D48: 27.03 | F48: 21 | G48: 20 | M48: =ROUND(D48*E48+D48*F48+D48*G48+D48*H48+D48*I48+D48*J48+D48*K48+D48*L48,2) -> 1108.23
A49: Rīgas Austrumu klīniskā universitātes slimnīca | B49: 47078 | C49: SARS-CoV-2 RNS (COVID-19) noteikšana ar reālā laika PĶR (bez parauga paņemšanas) ātrai diagnostikai un diferenciāldiagnostikai (ar reaģenta vērtību) | D49: 44.25 | H49: 2 | I49: 6 | J49: 23 | K49: 268 | L49: 632 | M49: =ROUND(D49*E49+D49*F49+D49*G49+D49*H49+D49*I49+D49*J49+D49*K49+D49*L49,2) -> 41196.75
A50: Rīgas Austrumu klīniskā universitātes slimnīca | B50: 47078 | C50: SARS-CoV-2 RNS (COVID-19) noteikšana ar reālā laika PĶR (bez parauga paņemšanas) ātrai diagnostikai un diferenciāldiagnostikai (ar reaģenta vērtību) | D50: 48.58 | E50: 1 | F50: 1 | G50: 3 | M50: =ROUND(D50*E50+D50*F50+D50*G50+D50*H50+D50*I50+D50*J50+D50*K50+D50*L50,2) -> 242.9
A51: Siguldas slimnīca | B51: 47268 | C51: SARS-CoV-2 (COVID-19) antigēna noteikšana (Ag eksprestests) (ar reaģenta komplekta vērtību) | D51: 4.52 | K51: 5 | L51: 73 | M51: =ROUND(D51*E51+D51*F51+D51*G51+D51*H51+D51*I51+D51*J51+D51*K51+D51*L51,2) -> 352.56
A52: Slimnīca Ģintermuiža | B52: 47268 | C52: SARS-CoV-2 (COVID-19) antigēna noteikšana (Ag eksprestests) (ar reaģenta komplekta vērtību) | D52: 4.52 | J52: 4 | K52: 16 | L52: 24 | M52: =ROUND(D52*E52+D52*F52+D52*G52+D52*H52+D52*I52+D52*J52+D52*K52+D52*L52,2) -> 198.88
A53: Strenču psihoneiroloģiskā slimnīca | B53: 47268 | C53: SARS-CoV-2 (COVID-19) antigēna noteikšana (Ag eksprestests) (ar reaģenta komplekta vērtību) | D53: 4.52 | J53: 3 | K53: 128 | L53: 176 | M53: =ROUND(D53*E53+D53*F53+D53*G53+D53*H53+D53*I53+D53*J53+D53*K53+D53*L53,2) -> 1387.64
A54: Tukuma slimnīca | B54: 47328 | C54: SARS-CoV-2 (COVID-19) antigēna noteikšana (Ag eksprestests) (bez reaģenta komplekta vērtības) | D54: 3.83 | K54: 32 | L54: 136 | M54: =ROUND(D54*E54+D54*F54+D54*G54+D54*H54+D54*I54+D54*J54+D54*K54+D54*L54,2) -> 643.44
A55: Vidzemes slimnīca | B55: 47078 | C55: SARS-CoV-2 RNS (COVID-19) noteikšana ar reālā laika PĶR (bez parauga paņemšanas) ātrai diagnostikai un diferenciāldiagnostikai (ar reaģenta vērtību) | D55: 44.25 | I55: 1 | J55: 4 | K55: 21 | L55: 216 | M55: =ROUND(D55*E55+D55*F55+D55*G55+D55*H55+D55*I55+D55*J55+D55*K55+D55*L55,2) -> 10708.5
A56: Vidzemes slimnīca | B56: 47268 | C56: SARS-CoV-2 (COVID-19) antigēna noteikšana (Ag eksprestests) (ar reaģenta komplekta vērtību) | D56: 4.52 | J56: 17 | K56: 208 | L56: 949 | M56: =ROUND(D56*E56+D56*F56+D56*G56+D56*H56+D56*I56+D56*J56+D56*K56+D56*L56,2) -> 5306.48
A57: Vidzemes slimnīca | B57: 47328 | C57: SARS-CoV-2 (COVID-19) antigēna noteikšana (Ag eksprestests) (bez reaģenta komplekta vērtības) | D57: 3.83 | L57: 1 | M57: =ROUND(D57*E57+D57*F57+D57*G57+D57*H57+D57*I57+D57*J57+D57*K57+D57*L57,2) -> 3.83
A58: Ziemeļkurzemes reģionālā slimnīca | B58: 47073 | C58: SARS-CoV-2 RNS (COVID-19) noteikšana ar reālā laika PĶR (bez parauga paņemšanas) | D58: 23.32 | J58: 3 | K58: 31 | L58: 197 | M58: =ROUND(D58*E58+D58*F58+D58*G58+D58*H58+D58*I58+D58*J58+D58*K58+D58*L58,2) -> 5386.92
A59: Ziemeļkurzemes reģionālā slimnīca | B59: 47078 | C59: SARS-CoV-2 RNS (COVID-19) noteikšana ar reālā laika PĶR (bez parauga paņemšanas) ātrai diagnostikai un diferenciāldiagnostikai (ar reaģenta vērtību) | D59: 44.25 | I59: 1 | K59: 6 | L59: 18 | M59: =ROUND(D59*E59+D59*F59+D59*G59+D59*H59+D59*I59+D59*J59+D59*K59+D59*L59,2) -> 1106.25
A60: Ziemeļkurzemes reģionālā slimnīca | B60: 47268 | C60: SARS-CoV-2 (COVID-19) antigēna noteikšana (Ag eksprestests) (ar reaģenta komplekta vērtību) | D60: 4.52 | I60: 1 | K60: 69 | L60: 377 | M60: =ROUND(D60*E60+D60*F60+D60*G60+D60*H60+D60*I60+D60*J60+D60*K60+D60*L60,2) -> 2020.44
A61: Kopā: | M61: =SUM(M4:M60) -> 361599.68
M62: =ROUNDUP(M61,0) -> 361600
A63: * Manipulāciju skaits tiek iegūts tikai, kad pacients tiek izrakstīts un karte ievadīta Vadības informācijas sistēmā (atbilstoši līgumam par stacionārās veselības aprūpes pakalpojumu sniegšanu un apmaksu starp Nacionālo Veselības Dienestu (turpmāk Dienests) un ārstniecības iestādi 3. pielikumam, Informācijas apmaiņas kārtība, Dienests apmaksā kartes, kas ievadītas ne vēlāk kā 60 dienas pēc izrakstīšanās datuma). Ārstniecības iestāde kartes var labot līdz nākošā kalendārā gada 8. janvārim. Lai iegūtu precīzu apmaksājamo manipulāciju skaitu, Dienests salīdzina iepriekšējos mēnešos veikto manipulāciju skaitu un apmaksā starpību starp veikto manipulāciju skaitu un jau samaksāto manipulāciju skaitu atbilstoši manipulāciju tarifiem. Ņemot vērā, to ka pacients tika izrakstīts augusta mēnesī, līdz ar to karte par pacientu tiek ievadīta Vadības informācijas sistēmā arī augusta mēnesī.
A64: ** Negatīvs skaits rodas, ja slimnīcas ir veikušas labojumus un manipulāciju skaits konkrētajā mēnesī stacionāra kartēs kopā ir samazinājies, salīdzinot ar iepriekšējo mēnešu atskaitēm.

Sheet ātrie_testi_amb_daļa
F1: Turpinājums pielikumam Nr.19 Ministru kabineta rīkojuma "Ministru kabineta rīkojuma "Par finanšu līdzekļu apropriācijas pārdali no budžeta resora ''74. Gadskārtējā valsts budžeta izpildes procesā pārdalāmais finansējums'' valsts budžeta programmas 12.00.00 ''Finansējums veselības jomas pasākumiem Covid-19 infekcijas izplatības ierobežošanai"" projekta sākotnējās ietekmes novērtējuma ziņojumam (anotācijai)
A2: Rēķina mēnesis: augusts 2022
A3: COVID-19 diagnostikas manipulācijas (ātrie testi, ambulatorā daļa)
A4: NVD TN (pakalpojumu sniedzēja) | B4: ĀI (pakalpojumu sniedzēja) kods | C4: ĀI (pakalpojumu sniedzēja) nosaukums | D4: Manipulācijas kods | E4: Manipulācijas nosaukums | F4: Manipulāciju skaits | G4: Tarifs, euro | H4: Summa, euro
A5: NVD Kurzemes nodaļa | B5: 170020401 | C5: LIEPĀJAS REĢIONĀLĀ SLIMNĪCA, Sabiedrība ar ierobežotu atbildību | D5: 47268 | E5: SARS-CoV-2 (COVID-19) antigēna noteikšana (Ag eksprestests) (ar reaģenta komplekta vērtību) | F5: 2 | G5: 4.52 | H5: =F5*G5 -> 9.04
A6: NVD Kurzemes nodaļa | B6: 620200038 | C6: Kuldīgas slimnīca, Sabiedrība ar ierobežotu atbildību | D6: 47268 | E6: SARS-CoV-2 (COVID-19) antigēna noteikšana (Ag eksprestests) (ar reaģenta komplekta vērtību) | F6: 390 | G6: 4.52 | H6: =F6*G6 -> 1762.8
A7: NVD Kurzemes nodaļa | B7: 640800004 | C7: Dr. Būmanes ģimenes ārsta prakse, SIA | D7: 47268 | E7: SARS-CoV-2 (COVID-19) antigēna noteikšana (Ag eksprestests) (ar reaģenta komplekta vērtību) | F7: 13 | G7: 4.52 | H7: =F7*G7 -> 58.76
A8: NVD Kurzemes nodaļa | B8: 900200046 | C8: Tukuma slimnīca, Sabiedrība ar ierobežotu atbildību | D8: 47328 | E8: SARS-CoV-2 (COVID-19) antigēna noteikšana (Ag eksprestests) (bez reaģenta komplekta vērtības) | F8: 106 | G8: 3.83 | H8: =F8*G8 -> 405.98
A9: NVD Latgales nodaļa | B9: 050020401 | C9: Daugavpils reģionālā slimnīca, Sabiedrība ar ierobežotu atbildību | D9: 47078 | E9: SARS-CoV-2 RNS (COVID-19) noteikšana ar reālā laika PĶR (bez parauga paņemšanas) ātrai diagnostikai un diferenciāldiagnostikai (ar reaģenta vērtību) | F9: 600 | G9: 44.25 | H9: =F9*G9 -> 26550
A10: NVD Latgales nodaļa | B10: 050020401 | C10: Daugavpils reģionālā slimnīca, Sabiedrība ar ierobežotu atbildību | D10: 47268 | E10: SARS-CoV-2 (COVID-19) antigēna noteikšana (Ag eksprestests) (ar reaģenta komplekta vērtību) | F10: 1397 | G10: 4.52 | H10: =F10*G10 -> 6314.44
A11: NVD Latgales nodaļa | B11: 050075422 | C11: Voicehoviča Jekaterīna - ģimenes ārsta prakse | D11: 47268 | E11: SARS-CoV-2 (COVID-19) antigēna noteikšana (Ag eksprestests) (ar reaģenta komplekta vērtību) | F11: 5 | G11: 4.52 | H11: =F11*G11 -> 22.6
A12: NVD Latgales nodaļa | B12: 210020301 | C12: RĒZEKNES SLIMNĪCA, Sabiedrība ar ierobežotu atbildību | D12: 47268 | E12: SARS-CoV-2 (COVID-19) antigēna noteikšana (Ag eksprestests) (ar reaģenta komplekta vērtību) | F12: 93 | G12: 4.52 | H12: =F12*G12 -> 420.36
A13: NVD Latgales nodaļa | B13: 681000006 | C13: Vorkale Anita - ģimenes ārsta un arodveselības un arodslimību ārsta prakse | D13: 47268 | E13: SARS-CoV-2 (COVID-19) antigēna noteikšana (Ag eksprestests) (ar reaģenta komplekta vērtību) | F13: 15 | G13: 4.52 | H13: =F13*G13 -> 67.8
A14: NVD Latgales nodaļa | B14: 760200009 | C14: ABAKS AA, SIA | D14: 60046 | E14: Sars-CoV-2 (COVID-19) transporta barotne ar diviem lokaniem tamponiem ātrajam molekulārajam testam | F14: 1 | G14: 0.8 | H14: =F14*G14 -> 0.8
A15: NVD Rīgas nodaļa | B15: 001000043 | C15: Apotheka, SIA | D15: 47268 | E15: SARS-CoV-2 (COVID-19) antigēna noteikšana (Ag eksprestests) (ar reaģenta komplekta vērtību) | F15: 114 | G15: 4.52 | H15: =F15*G15 -> 515.28
A16: NVD Rīgas nodaļa | B16: 010011804 | C16: Bērnu klīniskā universitātes slimnīca, Valsts sabiedrība ar ierobežotu atbildību | D16: 47078 | E16: SARS-CoV-2 RNS (COVID-19) noteikšana ar reālā laika PĶR (bez parauga paņemšanas) ātrai diagnostikai un diferenciāldiagnostikai (ar reaģenta vērtību) | F16: 241 | G16: 44.25 | H16: =F16*G16 -> 10664.25
... A37: NVD Zemgales nodaļa | B37: 741400024 | C37: Pokule Ineta - ģimenes ārsta prakse | D37: 47268 | E37: SARS-CoV-2 (COVID-19) antigēna noteikšana (Ag eksprestests) (ar reaģenta komplekta vērtību) | F37: 5 | G37: 4.52 | H37: =F37*G37 -> 22.6
G38: Pavisam kopā: | H38: =SUM(H5:H37) -> 61753.24
G39: Kopā | H39: =ROUNDUP(H38,0) -> 61754

Sheet Covid_pakalp_progr
F1: Turpinājums pielikumam Nr.19 Ministru kabineta rīkojuma "Ministru kabineta rīkojuma "Par finanšu līdzekļu apropriācijas pārdali no budžeta resora ''74. Gadskārtējā valsts budžeta izpildes procesā pārdalāmais finansējums'' valsts budžeta programmas 12.00.00 ''Finansējums veselības jomas pasākumiem Covid-19 infekcijas izplatības ierobežošanai"" projekta sākotnējās ietekmes novērtējuma ziņojumam (anotācijai)
A2: Covid-19 pakalpojumu programma
A3: Rēķina mēnesis: augusts 2022
A4: NVD TN (pakalpojumu sniedzēja) | B4: ĀI (pakalpojumu sniedzēja) | C4: Pakalpojumu programma | D4: Manipulācijas kods | E4: Manipulācijas nosaukums | F4: Manipulāciju skaits | G4: Tarifs, euro | H4: Summa, euro
A5: 12 - NVD Rīgas nodaļa | B5: 010000234 - Rīgas Austrumu klīniskā universitātes slimnīca, SIA | C5: AP82 - Covid-19 laboratorijas pakalpojumi | D5: 47060 | E5: SARS-CoV-2 (COVID-19) ambulatora parauga (nazofaringeāla uztriepe) paņemšana pārvietojamā teltī, modulī vai izbraukumā | F5: 1371 | G5: 3.24 | H5: =F5*G5 -> 4442.04
A6: 12 - NVD Rīgas nodaļa | B6: 010000234 - Rīgas Austrumu klīniskā universitātes slimnīca, SIA | C6: AP82 - Covid-19 laboratorijas pakalpojumi | D6: 47073 | E6: SARS-CoV-2 RNS (COVID-19) noteikšana ar reālā laika PĶR (bez parauga paņemšanas) | F6: 2445 | G6: 23.32 | H6: =F6*G6 -> 57017.4
A7: 12 - NVD Rīgas nodaļa | B7: 010000234 - Rīgas Austrumu klīniskā universitātes slimnīca, SIA | C7: AP82 - Covid-19 laboratorijas pakalpojumi | D7: 47075 | E7: SARS-CoV-2 RNS (COVID-19) apstiprināšana ar reālā laika PĶR (bez parauga paņemšanas) | F7: 10 | G7: 24.59 | H7: =F7*G7 -> 245.9
A8: 12 - NVD Rīgas nodaļa | B8: 010000234 - Rīgas Austrumu klīniskā universitātes slimnīca, SIA | C8: AP82 - Covid-19 laboratorijas pakalpojumi | D8: 47078 | E8: SARS-CoV-2 RNS (COVID-19) noteikšana ar reālā laika PĶR (bez parauga paņemšanas) ātrai diagnostikai un diferenciāldiagnostikai (ar reaģenta vērtību) | F8: 115 | G8: 44.25 | H8: =F8*G8 -> 5088.75
A9: 12 - NVD Rīgas nodaļa | B9: 010000234 - Rīgas Austrumu klīniskā universitātes slimnīca, SIA | C9: AP82 - Covid-19 laboratorijas pakalpojumi | D9: 47079 | E9: SARS-CoV-2 (COVID-19) transporta barotne ar diviem lokaniem tamponiem | F9: 5816 | G9: 0.8 | H9: =F9*G9 -> 4652.8
A10: 12 - NVD Rīgas nodaļa | B10: 010000234 - Rīgas Austrumu klīniskā universitātes slimnīca, SIA | C10: AP82 - Covid-19 laboratorijas pakalpojumi | D10: 47416 | E10: SARS-CoV-2 (COVID-19) ambulatora parauga (nazofaringeāla uztriepe) paņemšana laboratorijā | F10: 413 | G10: 2.29 | H10: =F10*G10 -> 945.77
A11: 12 - NVD Rīgas nodaļa | B11: 010000234 - Rīgas Austrumu klīniskā universitātes slimnīca, SIA | C11: AP82 - Covid-19 laboratorijas pakalpojumi | D11: 47417 | E11: SARS-CoV-2 vīrusa variantu skrīninga PĶR tests | F11: 750 | G11: 34.01 | H11: =F11*G11 -> 25507.5
G12: Kopā: | H12: =SUM(H5:H11) -> 97900.16
G13: Reaģenti
G14: Pavisam kopā: | H14: =H12+H13 -> 97900.16
H15: =ROUNDUP(H14,0) -> 97901
A17: NVD TN (pakalpojumu sniedzēja) | B17: ĀI (pakalpojumu sniedzēja) | C17: Pakalpojumu programma | D17: Manipulācijas kods | E17: Manipulācijas nosaukums | F17: Manipulāciju skaits | G17: Tarifs, euro | H17: Summa, euro
A18: 12 - NVD Rīgas nodaļa | B18: 010000297 - Pārtikas drošības, dzīvnieku veselības un vides zinātniskais institūts "BIOR" | C18: AP82 - Covid-19 laboratorijas pakalpojumi | D18: 47060 | E18: SARS-CoV-2 (COVID-19) ambulatora parauga (nazofaringeāla uztriepe) paņemšana pārvietojamā teltī, modulī vai izbraukumā | F18: 729 | G18: 3.24 | H18: =F18*G18 -> 2361.96
A19: 12 - NVD Rīgas nodaļa | B19: 010000297 - Pārtikas drošības, dzīvnieku veselības un vides zinātniskais institūts "BIOR" | C19: AP82 - Covid-19 laboratorijas pakalpojumi | D19: 47073 | E19: SARS-CoV-2 RNS (COVID-19) noteikšana ar reālā laika PĶR (bez parauga paņemšanas) | F19: 858 | G19: 23.32 | H19: =F19*G19 -> 20008.56
A20: 12 - NVD Rīgas nodaļa | B20: 010000297 - Pārtikas drošības, dzīvnieku veselības un vides zinātniskais institūts "BIOR" | C20: AP82 - Covid-19 laboratorijas pakalpojumi | D20: 47079 | E20: SARS-CoV-2 (COVID-19) transporta barotne ar diviem lokaniem tamponiem | F20: 729 | G20: 0.8 | H20: =F20*G20 -> 583.2
A21: 12 - NVD Rīgas nodaļa | B21: 010000297 - Pārtikas drošības, dzīvnieku veselības un vides zinātniskais institūts "BIOR" | C21: AP82 - Covid-19 laboratorijas pakalpojumi | D21: 47268 | E21: SARS-CoV-2 (COVID-19) antigēna noteikšana (Ag eksprestests) (ar reaģenta komplekta vērtību) | F21: 344 | G21: 4.52 | H21: =F21*G21 -> 1554.88
G22: Pavisam kopā: | H22: =SUM(H18:H21) -> 24508.6
H23: =ROUNDUP(H22,0) -> 24509
A25: NVD TN (pakalpojumu sniedzēja) | B25: ĀI (pakalpojumu sniedzēja) | C25: Pakalpojumu programma | D25: Manipulācijas kods | E25: Manipulācijas nosaukums | F25: Manipulāciju skaits | G25: Tarifs, euro | H25: Summa, euro
A26: 12 - NVD Rīgas nodaļa | B26: 010064111 - Dziedniecība, Sabiedrība ar ierobežotu atbildību | C26: AP82 - Covid-19 laboratorijas pakalpojumi | D26: 47060 | E26: SARS-CoV-2 (COVID-19) ambulatora parauga (nazofaringeāla uztriepe) paņemšana pārvietojamā teltī, modulī vai izbraukumā | F26: 4871 | G26: 3.24 | H26: =F26*G26 -> 15782.04
A27: 12 - NVD Rīgas nodaļa | B27: 010064111 - Dziedniecība, Sabiedrība ar ierobežotu atbildību | C27: AP82 - Covid-19 laboratorijas pakalpojumi | D27: 47073 | E27: SARS-CoV-2 RNS (COVID-19) noteikšana ar reālā laika PĶR (bez parauga paņemšanas) | F27: 4871 | G27: 23.32 | H27: =F27*G27 -> 113591.72
A28: 12 - NVD Rīgas nodaļa | B28: 010064111 - Dziedniecība, Sabiedrība ar ierobežotu atbildību | C28: AP82 - Covid-19 laboratorijas pakalpojumi | D28: 47075 | E28: SARS-CoV-2 RNS (COVID-19) apstiprināšana ar reālā laika PĶR (bez parauga paņemšanas) | F28: 2232 | G28: 24.59 | H28: =F28*G28 -> 54884.88
A29: 12 - NVD Rīgas nodaļa | B29: 010064111 - Dziedniecība, Sabiedrība ar ierobežotu atbildību | C29: AP82 - Covid-19 laboratorijas pakalpojumi | D29: 47079 | E29: SARS-CoV-2 (COVID-19) transporta barotne ar diviem lokaniem tamponiem | F29: 4871 | G29: 0.8 | H29: =F29*G29 -> 3896.8
A30: 12 - NVD Rīgas nodaļa | B30: 010064111 - Dziedniecība, Sabiedrība ar ierobežotu atbildību | C30: AP82 - Covid-19 laboratorijas pakalpojumi | D30: 47268 | E30: SARS-CoV-2 (COVID-19) antigēna noteikšana (Ag eksprestests) (ar reaģenta komplekta vērtību) | F30: 2272 | G30: 4.52 | H30: =F30*G30 -> 10269.44
A31: 13 - NVD Rīgas nodaļa | B31: 010064111 - Dziedniecība, Sabiedrība ar ierobežotu atbildību | C31: AP82 - Covid-19 laboratorijas pakalpojumi | D31: 47417 | E31: SARS-CoV-2 vīrusa variantu skrīninga PĶR tests | F31: 2188 | G31: 34.01 | H31: =F31*G31 -> 74413.88
G32: Pavisam kopā: | H32: =SUM(H26:H31) -> 272838.76
H33: =ROUNDUP(H32,0) -> 272839
A35: NVD TN (pakalpojumu sniedzēja) | B35: ĀI (pakalpojumu sniedzēja) | C35: Pakalpojumu programma | D35: Manipulācijas kods | E35: Manipulācijas nosaukums | F35: Manipulāciju skaits | G35: Tarifs, euro | H35: Summa, euro
A36: 12 - NVD Rīgas nodaļa | B36: 010068301 - NMS Laboratorija, SIA | C36: AP82 - Covid-19 laboratorijas pakalpojumi | D36: 47073 | E36: SARS-CoV-2 RNS (COVID-19) noteikšana ar reālā laika PĶR (bez parauga paņemšanas) | F36: 2541 | G36: 23.32 | H36: =F36*G36 -> 59256.12
A37: 12 - NVD Rīgas nodaļa | B37: 010068301 - NMS Laboratorija, SIA | C37: AP82 - Covid-19 laboratorijas pakalpojumi | D37: 47079 | E37: SARS-CoV-2 (COVID-19) transporta barotne ar diviem lokaniem tamponiem | F37: 2536 | G37: 0.8 | H37: =F37*G37 -> 2028.8
A38: 12 - NVD Rīgas nodaļa | B38: 010068301 - NMS Laboratorija, SIA | C38: AP82 - Covid-19 laboratorijas pakalpojumi | D38: 47268 | E38: SARS-CoV-2 (COVID-19) antigēna noteikšana (Ag eksprestests) (ar reaģenta komplekta vērtību) | F38: 525 | G38: 4.52 | H38: =F38*G38 -> 2373
A39: 12 - NVD Rīgas nodaļa | B39: 010068301 - NMS Laboratorija, SIA | C39: AP82 - Covid-19 laboratorijas pakalpojumi | D39: 47416 | E39: SARS-CoV-2 (COVID-19) ambulatora parauga (nazofaringeāla uztriepe) paņemšana laboratorijā | F39: 2413 | G39: 2.29 | H39: =F39*G39 -> 5525.77
G40: Pavisam kopā: | H40: =SUM(H36:H39) -> 69183.69
H41: =ROUNDUP(H40,0) -> 69184
A43: NVD TN (pakalpojumu sniedzēja) | B43: ĀI (pakalpojumu sniedzēja) | C43: Pakalpojumu programma | D43: Manipulācijas kods | E43: Manipulācijas nosaukums | F43: Manipulāciju skaits | G43: Tarifs, euro | H43: Summa, euro
A44: 12 - NVD Rīgas nodaļa | B44: 010068302 - CENTRĀLĀ LABORATORIJA, Sabiedrība ar ierobežotu atbildību | C44: AP82 - Covid-19 laboratorijas pakalpojumi | D44: 47060 | E44: SARS-CoV-2 (COVID-19) ambulatora parauga (nazofaringeāla uztriepe) paņemšana pārvietojamā teltī, modulī vai izbraukumā | F44: 11191 | G44: 3.24 | H44: =F44*G44 -> 36258.84
A45: 12 - NVD Rīgas nodaļa | B45: 010068302 - CENTRĀLĀ LABORATORIJA, Sabiedrība ar ierobežotu atbildību | C45: AP82 - Covid-19 laboratorijas pakalpojumi | D45: 47073 | E45: SARS-CoV-2 RNS (COVID-19) noteikšana ar reālā laika PĶR (bez parauga paņemšanas) | F45: 32419 | G45: 23.32 | H45: =F45*G45 -> 756011.08
A46: 12 - NVD Rīgas nodaļa | B46: 010068302 - CENTRĀLĀ LABORATORIJA, Sabiedrība ar ierobežotu atbildību | C46: AP82 - Covid-19 laboratorijas pakalpojumi | D46: 47075 | E46: SARS-CoV-2 RNS (COVID-19) apstiprināšana ar reālā laika PĶR (bez parauga paņemšanas) | F46: 9771 | G46: 24.59 | H46: =F46*G46 -> 240268.89
A47: 12 - NVD Rīgas nodaļa | B47: 010068302 - CENTRĀLĀ LABORATORIJA, Sabiedrība ar ierobežotu atbildību | C47: AP82 - Covid-19 laboratorijas pakalpojumi | D47: 47078 | E47: SARS-CoV-2 RNS (COVID-19) noteikšana ar reālā laika PĶR (bez parauga paņemšanas) ātrai diagnostikai un diferenciāldiagnostikai (ar reaģenta vērtību) | F47: 398 | G47: 44.25 | H47: =F47*G47 -> 17611.5
A48: 12 - NVD Rīgas nodaļa | B48: 010068302 - CENTRĀLĀ LABORATORIJA, Sabiedrība ar ierobežotu atbildību | C48: AP82 - Covid-19 laboratorijas pakalpojumi | D48: 47079 | E48: SARS-CoV-2 (COVID-19) transporta barotne ar diviem lokaniem tamponiem | F48: 20624 | G48: 0.8 | H48: =F48*G48 -> 16499.2
A49: 12 - NVD Rīgas nodaļa | B49: 010068302 - CENTRĀLĀ LABORATORIJA, Sabiedrība ar ierobežotu atbildību | C49: AP82 - Covid-19 laboratorijas pakalpojumi | D49: 47268 | E49: SARS-CoV-2 (COVID-19) antigēna noteikšana (Ag eksprestests) (ar reaģenta komplekta vērtību) | F49: 11354 | G49: 4.52 | H49: =F49*G49 -> 51320.08
G50: Pavisam kopā: | H50: =SUM(H44:H49) -> 1117969.6
H51: =ROUNDUP(H50,0) -> 1117970
A53: NVD TN (pakalpojumu sniedzēja) | B53: ĀI (pakalpojumu sniedzēja) | C53: Pakalpojumu programma | D53: Manipulācijas kods | E53: Manipulācijas nosaukums | F53: Manipulāciju skaits | G53: Tarifs, euro | H53: Summa, euro
A54: 12 - NVD Rīgas nodaļa | B54: 010068303 - E.GULBJA LABORATORIJA, Sabiedrība ar ierobežotu atbildību | C54: AP82 - Covid-19 laboratorijas pakalpojumi | D54: 47060 | E54: SARS-CoV-2 (COVID-19) ambulatora parauga (nazofaringeāla uztriepe) paņemšana pārvietojamā teltī, modulī vai izbraukumā | F54: 15213 | G54: 3.24 | H54: =F54*G54 -> 49290.12
A55: 12 - NVD Rīgas nodaļa | B55: 010068303 - E.GULBJA LABORATORIJA, Sabiedrība ar ierobežotu atbildību | C55: AP82 - Covid-19 laboratorijas pakalpojumi | D55: 47073 | E55: SARS-CoV-2 RNS (COVID-19) noteikšana ar reālā laika PĶR (bez parauga paņemšanas) | F55: 25897 | G55: 23.32 | H55: =F55*G55 -> 603918.04
A56: 12 - NVD Rīgas nodaļa | B56: 010068303 - E.GULBJA LABORATORIJA, Sabiedrība ar ierobežotu atbildību | C56: AP82 - Covid-19 laboratorijas pakalpojumi | D56: 47075 | E56: SARS-CoV-2 RNS (COVID-19) apstiprināšana ar reālā laika PĶR (bez parauga paņemšanas) | F56: 8949 | G56: 24.59 | H56: =F56*G56 -> 220055.91
A57: 12 - NVD Rīgas nodaļa | B57: 010068303 - E.GULBJA LABORATORIJA, Sabiedrība ar ierobežotu atbildību | C57: AP82 - Covid-19 laboratorijas pakalpojumi | D57: 47079 | E57: SARS-CoV-2 (COVID-19) transporta barotne ar diviem lokaniem tamponiem | F57: 7951 | G57: 0.8 | H57: =F57*G57 -> 6360.8
A58: 12 - NVD Rīgas nodaļa | B58: 010068303 - E.GULBJA LABORATORIJA, Sabiedrība ar ierobežotu atbildību | C58: AP82 - Covid-19 laboratorijas pakalpojumi | D58: 47268 | E58: SARS-CoV-2 (COVID-19) antigēna noteikšana (Ag eksprestests) (ar reaģenta komplekta vērtību) | F58: 6389 | G58: 4.52 | H58: =F58*G58 -> 28878.28
G59: Pavisam kopā: | H59: =SUM(H54:H58) -> 908503.15
H60: =ROUNDUP(H59,0) -> 908504
A62: NVD TN (pakalpojumu sniedzēja) | B62: ĀI (pakalpojumu sniedzēja) | C62: Pakalpojumu programma | D62: Manipulācijas kods | E62: Manipulācijas nosaukums | F62: Manipulāciju skaits | G62: Tarifs, euro | H62: Summa, euro
A63: 12 - NVD Rīgas nodaļa | B63: 010011803 - Paula Stradiņa klīniskā universitātes slimnīca, Valsts sabiedrība ar ierobežotu atbildību | C63: AP82 - Covid-19 laboratorijas pakalpojumi | D63: 47073 | E63: SARS-CoV-2 RNS (COVID-19) noteikšana ar reālā laika PĶR (bez parauga paņemšanas) | F63: 1522 | G63: 23.32 | H63: =F63*G63 -> 35493.04
A64: 12 - NVD Rīgas nodaļa | B64: 010011803 - Paula Stradiņa klīniskā universitātes slimnīca, Valsts sabiedrība ar ierobežotu atbildību | C64: AP82 - Covid-19 laboratorijas pakalpojumi | D64: 47078 | E64: SARS-CoV-2 RNS (COVID-19) noteikšana ar reālā laika PĶR (bez parauga paņemšanas) ātrai diagnostikai un diferenciāldiagnostikai (ar reaģenta vērtību) | F64: 116 | G64: 44.25 | H64: =F64*G64 -> 5133
A65: 12 - NVD Rīgas nodaļa | B65: 010011803 - Paula Stradiņa klīniskā universitātes slimnīca, Valsts sabiedrība ar ierobežotu atbildību | C65: AP82 - Covid-19 laboratorijas pakalpojumi | D65: 60046 | E65: COVID-19 transporta barotne ar diviem lokaniem tamponiem ātrajam molekulārajam testam | F65: 116 | G65: 0.8 | H65: =F65*G65 -> 92.8
G66: Pavisam kopā: | H66: =SUM(H63:H65) -> 40718.84
H67: =ROUNDUP(H66,0) -> 40719
A70: NVD TN (pakalpojumu sniedzēja) | B70: ĀI (pakalpojumu sniedzēja) | C70: Pakalpojumu programma | D70: Manipulācijas kods | E70: Manipulācijas nosaukums | F70: Manipulāciju skaits | G70: Tarifs, euro | H70: Summa, euro
A71: 12 - NVD Rīgas nodaļa | B71: 010001433 - iVF Riga, SIA | C71: AP82 - Covid-19 laboratorijas pakalpojumi | D71: 47060 | E71: SARS-CoV-2 (COVID-19) ambulatora parauga (nazofaringeāla uztriepe) paņemšana pārvietojamā teltī, modulī vai izbraukumā | F71: 348 | G71: 3.24 | H71: =F71*G71 -> 1127.52
A72: 12 - NVD Rīgas nodaļa | B72: 010001433 - iVF Riga, SIA | C72: AP82 - Covid-19 laboratorijas pakalpojumi | D72: 47073 | E72: SARS-CoV-2 RNS (COVID-19) noteikšana ar reālā laika PĶR (bez parauga paņemšanas) | F72: 175 | G72: 23.32 | H72: =F72*G72 -> 4081
A73: 12 - NVD Rīgas nodaļa | B73: 010001433 - iVF Riga, SIA | C73: AP82 - Covid-19 laboratorijas pakalpojumi | D73: 47075 | E73: SARS-CoV-2 RNS (COVID-19) apstiprināšana ar reālā laika PĶR (bez parauga paņemšanas) | F73: 175 | G73: 24.59 | H73: =F73*G73 -> 4303.25
A74: 12 - NVD Rīgas nodaļa | B74: 010001433 - iVF Riga, SIA | C74: AP82 - Covid-19 laboratorijas pakalpojumi | D74: 47079 | E74: SARS-CoV-2 (COVID-19) transporta barotne ar diviem lokaniem tamponiem | F74: 344 | G74: 0.8 | H74: =F74*G74 -> 275.2
A75: 12 - NVD Rīgas nodaļa | B75: 010001433 - iVF Riga, SIA | C75: AP82 - Covid-19 laboratorijas pakalpojumi | D75: 47268 | E75: SARS-CoV-2 (COVID-19) antigēna noteikšana (Ag eksprestests) (ar reaģenta komplekta vērtību) | F75: 261 | G75: 4.52 | H75: =F75*G75 -> 1179.72
G76: Pavisam kopā: | H76: =SUM(H71:H75) -> 10966.69
H77: =ROUNDUP(H76,0) -> 10967
A79: NVD TN (pakalpojumu sniedzēja) | B79: ĀI (pakalpojumu sniedzēja) | C79: Pakalpojumu programma | D79: Manipulācijas kods | E79: Manipulācijas nosaukums | F79: Manipulāciju skaits | G79: Tarifs, euro | H79: Summa, euro
A80: 12 - NVD Rīgas nodaļa | B80: 010064114 - VESELĪBAS CENTRS 4, Sabiedrība ar ierobežotu atbildību | C80: AP82 - Covid-19 laboratorijas pakalpojumi | D80: 47060 | E80: SARS-CoV-2 (COVID-19) ambulatora parauga (nazofaringeāla uztriepe) paņemšana pārvietojamā teltī, modulī vai izbraukumā | F80: 537 | G80: 3.24 | H80: =F80*G80 -> 1739.88
A81: 12 - NVD Rīgas nodaļa | B81: 010064114 - VESELĪBAS CENTRS 4, Sabiedrība ar ierobežotu atbildību | C81: AP82 - Covid-19 laboratorijas pakalpojumi | D81: 47073 | E81: SARS-CoV-2 RNS (COVID-19) noteikšana ar reālā laika PĶR (bez parauga paņemšanas) | F81: 537 | G81: 23.32 | H81: =F81*G81 -> 12522.84
A82: 12 - NVD Rīgas nodaļa | B82: 010064114 - VESELĪBAS CENTRS 4, Sabiedrība ar ierobežotu atbildību | C82: AP82 - Covid-19 laboratorijas pakalpojumi | D82: 47079 | E82: SARS-CoV-2 (COVID-19) transporta barotne ar diviem lokaniem tamponiem | F82: 537 | G82: 0.8 | H82: =F82*G82 -> 429.6
A83: 12 - NVD Rīgas nodaļa | B83: 010064114 - VESELĪBAS CENTRS 4, Sabiedrība ar ierobežotu atbildību | C83: AP82 - Covid-19 laboratorijas pakalpojumi | D83: 47268 | E83: SARS-CoV-2 (COVID-19) antigēna noteikšana (Ag eksprestests) (ar reaģenta komplekta vērtību) | F83: 470 | G83: 4.52 | H83: =F83*G83 -> 2124.4
G84: Pavisam kopā: | H84: =SUM(H80:H83) -> 16816.72
H85: =ROUNDUP(H84,0) -> 16817
A87: NVD TN (pakalpojumu sniedzēja) | B87: ĀI (pakalpojumu sniedzēja) | C87: Pakalpojumu programma | D87: Manipulācijas kods | E87: Manipulācijas nosaukums | F87: Manipulāciju skaits | G87: Tarifs, euro | H87: Summa, euro
A88: NVD Kurzemes nodaļa | B88: 270020302 - Ziemeļkurzemes reģionālā slimnīca, SIA | C88: AP82 - Covid-19 laboratorijas pakalpojumi | D88: 47073 | E88: SARS-CoV-2 RNS (COVID-19) noteikšana ar reālā laika PĶR (bez parauga paņemšanas) | F88: 275 | G88: 23.32 | H88: =F88*G88 -> 6413
A89: NVD Kurzemes nodaļa | B89: 270020302 - Ziemeļkurzemes reģionālā slimnīca, SIA | C89: AP82 - Covid-19 laboratorijas pakalpojumi | D89: 47079 | E89: SARS-CoV-2 (COVID-19) transporta barotne ar diviem lokaniem tamponiem | F89: 274 | G89: 0.8 | H89: =F89*G89 -> 219.2
A90: NVD Kurzemes nodaļa | B90: 270020302 - Ziemeļkurzemes reģionālā slimnīca, SIA | C90: AP82 - Covid-19 laboratorijas pakalpojumi | D90: 47268 | E90: SARS-CoV-2 (COVID-19) antigēna noteikšana (Ag eksprestests) (ar reaģenta komplekta vērtību) | F90: 16 | G90: 4.52 | H90: =F90*G90 -> 72.32
G91: Pavisam kopā: | H91: =SUM(H88:H90) -> 6704.52
H92: =ROUNDUP(H91,0) -> 6705
A94: NVD TN (pakalpojumu sniedzēja) | B94: ĀI (pakalpojumu sniedzēja) | C94: Pakalpojumu programma | D94: Manipulācijas kods | E94: Manipulācijas nosaukums | F94: Manipulāciju skaits | G94: Tarifs, euro | H94: Summa, euro
A95: 12 - NVD Rīgas nodaļa | B95: 1000032 - Sendito, SIA | C95: AP82 - Covid-19 laboratorijas pakalpojumi | D95: 47073 | E95: SARS-CoV-2 RNS (COVID-19) noteikšana ar reālā laika PĶR (bez parauga paņemšanas) | F95: 363 | G95: 23.32 | H95: =F95*G95 -> 8465.16
A96: 12 - NVD Rīgas nodaļa | B96: 1000032 - Sendito, SIA | C96: AP82 - Covid-19 laboratorijas pakalpojumi | D96: 47079 | E96: SARS-CoV-2 (COVID-19) transporta barotne ar diviem lokaniem tamponiem | F96: 362 | G96: 0.8 | H96: =F96*G96 -> 289.6
A97: 12 - NVD Rīgas nodaļa | B97: 1000032 - Sendito, SIA | C97: AP82 - Covid-19 laboratorijas pakalpojumi | D97: 47268 | E97: SARS-CoV-2 (COVID-19) antigēna noteikšana (Ag eksprestests) (ar reaģenta komplekta vērtību) | F97: 199 | G97: 4.52 | H97: =F97*G97 -> 899.48
A98: 12 - NVD Rīgas nodaļa | B98: 1000032 - Sendito, SIA | C98: AP82 - Covid-19 laboratorijas pakalpojumi | D98: 47416 | E98: SARS-CoV-2 (COVID-19) ambulatora parauga (nazofaringeāla uztriepe) paņemšana laboratorijā | F98: 362 | G98: 2.29 | H98: =F98*G98 -> 828.98
A99: 12 - NVD Rīgas nodaļa | B99: 1000032 - Sendito, SIA | C99: AP82 - Covid-19 laboratorijas pakalpojumi | D99: 47417 | E99: SARS-CoV-2 vīrusa variantu skrīninga PĶR tests | F99: 138 | G99: 34.01 | H99: =F99*G99 -> 4693.38
G100: Pavisam kopā: | H100: =SUM(H95:H99) -> 15176.6
H101: =ROUNDUP(H100,0) -> 15177
A103: NVD TN (pakalpojumu sniedzēja) | B103: ĀI (pakalpojumu sniedzēja) | C103: Pakalpojumu programma | D103: Manipulācijas kods | E103: Manipulācijas nosaukums | F103: Manipulāciju skaits | G103: Tarifs, euro | H103: Summa, euro
A104: NVD Vidzemes nodaļa | B104: 360200027 - Alūksnes slimnīca, Sabiedrība ar ierobežotu atbildību | C104: AP82 - Covid-19 laboratorijas pakalpojumi | D104: 47268 | E104: SARS-CoV-2 (COVID-19) antigēna noteikšana (Ag eksprestests) (ar reaģenta komplekta vērtību) | F104: 48 | G104: 4.52 | H104: =F104*G104 -> 216.96
G105: Pavisam kopā: | H105: =SUM(H104:H104) -> 216.96
H106: =ROUNDUP(H105,0) -> 217
A108: NVD TN (pakalpojumu sniedzēja) | B108: ĀI (pakalpojumu sniedzēja) | C108: Pakalpojumu programma | D108: Manipulācijas kods | E108: Manipulācijas nosaukums | F108: Manipulāciju skaits | G108: Tarifs, euro | H108: Summa, euro
A109: NVD Zemgales nodaļa | B109: 740200008 - Ogres rajona slimnīca, Sabiedrība ar ierobežotu atbildību | C109: AP82 - Covid-19 laboratorijas pakalpojumi | D109: 47060 | E109: SARS-CoV-2 (COVID-19) ambulatora parauga (nazofaringeāla uztriepe) paņemšana pārvietojamā teltī, modulī vai izbraukumā | F109: 483 | G109: 3.24 | H109: =F109*G109 -> 1564.92
A110: NVD Zemgales nodaļa | B110: 740200008 - Ogres rajona slimnīca, Sabiedrība ar ierobežotu atbildību | C110: AP82 - Covid-19 laboratorijas pakalpojumi | D110: 47073 | E110: SARS-CoV-2 RNS (COVID-19) noteikšana ar reālā laika PĶR (bez parauga paņemšanas) | F110: 499 | G110: 23.32 | H110: =F110*G110 -> 11636.68
A111: NVD Zemgales nodaļa | B111: 740200008 - Ogres rajona slimnīca, Sabiedrība ar ierobežotu atbildību | C111: AP82 - Covid-19 laboratorijas pakalpojumi | D111: 47079 | E111: SARS-CoV-2 (COVID-19) transporta barotne ar diviem lokaniem tamponiem | F111: 205 | G111: 0.8 | H111: =F111*G111 -> 164
A112: NVD Zemgales nodaļa | B112: 740200008 - Ogres rajona slimnīca, Sabiedrība ar ierobežotu atbildību | C112: AP82 - Covid-19 laboratorijas pakalpojumi | D112: 47268 | E112: SARS-CoV-2 (COVID-19) antigēna noteikšana (Ag eksprestests) (ar reaģenta komplekta vērtību) | F112: 244 | G112: 4.52 | H112: =F112*G112 -> 1102.88
G113: Pavisam kopā: | H113: =SUM(H109:H112) -> 14468.48
...

Sheet Sekvencēšana
D1: Turpinājums pielikumam Nr.19 Ministru kabineta rīkojuma "Ministru kabineta rīkojuma "Par finanšu līdzekļu apropriācijas pārdali no budžeta resora ''74. Gadskārtējā valsts budžeta izpildes procesā pārdalāmais finansējums'' valsts budžeta programmas 12.00.00 ''Finansējums veselības jomas pasākumiem Covid-19 infekcijas izplatības ierobežošanai"" projekta sākotnējās ietekmes novērtējuma ziņojumam (anotācijai)
A2: Atskaite par Covid-19 vīrusa sekvencēšanu LIC laboratorijā
A3: Pārskata periods (mēnesis): Augusts 2022
A4: Nr.p.k. | B4: Pasākums | D4: Vienas vienības cena, euro | E4: Kopā, euro
A5: 1 | B5: Primārā parauga uzglabāšana (kriostobriņi paraugu uzglabāšanai) | C5: paraugu skaits | E5: 6735
C6: Summa, euro | D6: 0.79 | E6: =E5*D6 -> 5320.65
A7: SARS-CoV-2 vīrusu celmu sekvencēšana
A8: 2 | B8: Nacionālā References laboratorija (NRL)*
B9: Pirmais etaps (RNS izdalīšana no primārā parauga) | C9: paraugu skaits | E9: 2100
C10: Summa, euro | D10: =8*1.21 -> 9.68 | E10: =D10*E9 -> 20328
B11: Otrais etaps - SEKVENCĒŠANA. No 2022.gada augusta tiek izmantoti reaģenti, kas iegādāti no EC projekta HERA, tarifa pārrēķins. | C11: paraugu skaits | E11: 1536
C12: Summa, euro | D12: 123.77 | E12: =E11*D12 -> 190110.72
A13: Kopā NRL: | C13: Summa, euro | E13: =ROUNDUP(SUM(E6,E10,E12),0) -> 215760
A14: *datu apstrādi veic NRL personāls - bioinformātikas speciālisti
