Workbook

Sheet Avoti
B1: Pielikums anotācijai 25-TA-1236
C2: Rezervētais finansējums | D2: Pedagogu algu palielinājumam 24-TA-2552; 24-TA-2557 | E2: Finansējuma atlikums | F2: Atbalsta personālam no 23.00.00 | G2: Finansējuma atlikums 23.00.00 programmā
A3: 74. resors | B3: 23.00.00 | C3: 30000000 | D3: 25079441 | E3: =+C3-D3 -> 4920559 | F3: =+E11 -> 4920559 | G3: =+E3-F3 -> 0
A5: Papildu nepieciešams
A6: Resori programmas, apakšprogrammas | D6: 2025. gada 4 mēnešiem | H6: 2026. gads un turpmāk
D7: Saskaņā ar aprēķiniem * | E7: no 74.resora 23.00.00 | F7: LNG | G7: Pārdale no 15.resora
A8: IZM_62. 05.00.00 | D8: =+Budžets!H5 -> 6662399 | E8: =+E3-E9-E10 -> 4920218 | F8: =+D8-E8 -> 1742181 | H8: =+Budžets!F13 -> 23885302
A9: IZM_15. 01.05.00 | D9: =+Budžets!H6 -> 188714 | F9: =+D9-E9 -> 188714 | H9: =+Budžets!F14 -> 709578
A10: KM_22. 20.00.00 | D10: =+Budžets!H7 -> 341 | E10: =+D10 -> 341 | H10: =+Budžets!F15 -> 1021
A11: KOPĀ | D11: =SUM(D8:D10) -> 6851454 | E11: =SUM(E8:E10) -> 4920559 | F11: =+F8+F10+F9 -> 1930895 | G11: =+G8+G10+G9 -> 0 | H11: =+H8+H10+H9 -> 24595901
D13: * Aprēķins veikts ņemot vērā izglītojamos skaitu 01.09.2024.

Sheet Budžets
B2: 2025
B3: BUDŽETS 2025 | E3: esošā mērķdotācija | F3: jaunais aprēķins
B4: UA 8M | C4: Pārējie | D4: Apstiprināts | E4: 8 mēn | F4: 4 mēn | G4: Kopā 12 mēn | H4: papildus 4 mēn
A5: PAŠVALDĪBU SKOLAS | B5: 3472738 | C5: 442837658 | D5: =+B5+C5 -> 446310396 | E5: 297398476 | F5: 155574319 | G5: =SUM(E5:F5) -> 452972795 | H5: =+G5-D5 -> 6662399
A6: PRIVĀTSKOLAS | B6: 106096 | C6: 22220466 | D6: =+B6+C6 -> 22326562 | E6: 14871928 | F6: 7643348 | G6: =SUM(E6:F6) -> 22515276 | H6: =+G6-D6 -> 188714
A7: KM NMV | C7: 1158983 | D7: =+B7+C7 -> 1158983 | E7: 772656 | F7: 386668 | G7: =SUM(E7:F7) -> 1159324 | H7: =+G7-D7 -> 341
A8: KOPĀ | B8: =SUM(B5:B7) -> 3578834 | C8: =SUM(C5:C7) -> 466217107 | D8: =SUM(D5:D7) -> 469795941 | E8: =SUM(E5:E7) -> 313043060 | F8: =SUM(F5:F7) -> 163604335 | G8: =SUM(G5:G7) -> 476647395 | H8: =SUM(H5:H7) -> 6851454
B10: 2026
B11: BUDŽETS 2026 | E11: jaunais aprēķins | F11: Papildu nepieciešams gadam pret apstiprināto budžetu
B12: UA 8M | C12: Pārējie | D12: Apstiprināts | E12: KOPĀ nepeciešams
A13: PAŠVALDĪBU SKOLAS | C13: 442837658 | D13: =+B13+C13 -> 442837658 | E13: =+F5*3 -> 466722957 | F13: 23885302
A14: PRIVĀTSKOLAS | C14: 22220466 | D14: =+B14+C14 -> 22220466 | E14: =+F6*3 -> 22930044 | F14: =+E14-D14 -> 709578
A15: KM NMV | C15: 1158983 | D15: =+B15+C15 -> 1158983 | E15: =+F7*3 -> 1160004 | F15: =+E15-D15 -> 1021
A16: KOPĀ | B16: =SUM(B13:B15) -> 0 | C16: =SUM(C13:C15) -> 466217107 | D16: =SUM(D13:D15) -> 466217107 | E16: =SUM(E13:E15) -> 490813005 | F16: =SUM(F13:F15) -> 24595901
