Workbook

Sheet Kopsavilkums
C1: Pielikums Nr.1 Ministru kabineta rīkojuma "Par finanšu līdzekļu piešķiršanu no valsts budžeta programmas "Līdzekļi neparedzētiem gadījumiem"" projekta sākotnējās ietekmes novērtējuma ziņojumam (anotācijai)
A2: Faktiskie izdevumi rehabilitācijas pakalpojumiem pacientiem pēc pārslimota Covid-19
A3: Pakalpojuma programma | B3: Izmaksas, euro | C3: EKK 3000
A4: Ambulatorās rehabilitācijas nodrošināšana (periods: 2021.gada decembris) | B4: =Ambulat_rehab_un_dienas_stac!G45 -> 98005 | C4: =B4 -> 98005
A5: Rehabilitācijas nodrošināšana dienas stacionārā (periods: 2021.gada decembris) | B5: =Ambulat_rehab_un_dienas_stac!G46 -> 205156 | C5: =B5 -> 205156
A6: Subakūtās rehabilitācijas nodrošināšanai stacionārā, tai skaitā papildu skābekļa atbalstam (periods: 2021.gada decembris un korekcijas par 2021.gada augusta, septembra, oktobra un novembra mēnesi) | B6: =Subakūtā_rehab!I365 -> 532808 | C6: =B6 -> 532808
A7: Kopā, euro: | B7: =B4+B5+B6 -> 835969 | C7: =B7 -> 835969

Sheet Ambulat_rehab_un_dienas_stac
E1: Pielikums Nr.2 Ministru kabineta rīkojuma "Par finanšu līdzekļu piešķiršanu no valsts budžeta programmas "Līdzekļi neparedzētiem gadījumiem"" projekta sākotnējās ietekmes novērtējuma ziņojumam (anotācijai)
A2: Ambulatorās rehabilitācijas nodrošināšanai un rehabilitācijas nodrošināšanai dienas stacionārā
A3: Teritoriālā nodaļa | B3: Ārstniecības ietādes kods | C3: Ārstniecības iestādes nosaukums | D3: 2021.gada decembris
D4: AP89 - Rehabilitācija ambulatori bērniem, kas pārslimojuši Covid-19 | E4: AP90 - Rehabilitācija ambulatori pieaugušajiem, kas pārslimojuši Covid-19 | F4: AP91 - Rehabilitācija dienas stacionārā pieaugušajiem, kas pārslimojuši Covid-19 | G4: AP92 - Rehabilitācija dienas stacionārā bērniem, kas pārslimojuši Covid-19
A5: Rīga | B5: 10000234 | C5: Rīgas Austrumu klīniskā universitātes slimnīca, SIA
A6: Rīga | B6: 10001535 | C6: Rīgas veselības centrs, SIA | D6: 491.92 | E6: 8705.91 | F6: 22506.1 | G6: 1078.2
A7: Rīga | B7: 10011804 | C7: Bērnu klīniskā universitātes slimnīca, Valsts sabiedrība ar ierobežotu atbildību | G7: 190.68
A8: Rīga | B8: 10020301 | C8: Rīgas 1. slimnīca, SIA | D8: 65.97 | E8: 8616.12 | F8: 11729.31
A9: Rīga | B9: 10040307 | C9: Latvijas Jūras medicīnas centrs, Akciju sabiedrība | F9: 868.6 | G9: 938.6
A10: Rīga | B10: 10064111 | C10: Dziedniecība, Sabiedrība ar ierobežotu atbildību | F10: 868.6
A11: Rīga | B11: 10064120 | C11: Veselības centru apvienība, AS | D11: 346.22 | E11: 3972.27 | F11: 29870.76
A12: Rīga | B12: 19362601 | C12: Protezēšanas un ortopēdijas centrs, Akciju sabiedrība | F12: 22659.64 | G12: 3128.1
A13: Latgale | B13: 50000018 | C13: Jakovļeva Olga - fizioterapeita prakse | D13: 3174.88 | E13: 27526.6
A14: Latgale | B14: 50000042 | C14: Fizioterapijas kabinets VALE, IK | D14: 143.82 | E14: 5238.44
A15: Latgale | B15: 50020401 | C15: Daugavpils reģionālā slimnīca, Sabiedrība ar ierobežotu atbildību | E15: 397.64
A16: Latgale | B16: 50066201 | C16: IVAKO GROUP, Sabiedrība ar ierobežotu atbildību | E16: 463.8
A17: Zemgale | B17: 90000026 | C17: Zemgales veselības centrs, Sabiedrība ar ierobežotu atbildību | D17: 147.42 | E17: 2269.76
A18: Zemgale | B18: 90024101 | C18: Jelgavas poliklīnika, SIA
A19: Zemgale | B19: 90065207 | C19: FITOSAN PLUS, Medicīnas centrs SIA | D19: 288.6 | E19: 73.4 | F19: 1310.58
A20: Rīga | B20: 130013001 | C20: Nacionālais rehabilitācijas centrs "Vaivari", Valsts sabiedrība ar ierobežotu atbildību | E20: 1376.65 | F20: 13154.16
A21: Rīga | B21: 130064003 | C21: SANARE-KRC JAUNĶEMERI, Sabiedrība ar ierobežotu atbildību | D21: 591.68 | E21: 5826.32 | F21: 38846.92
A22: Kurzeme | B22: 170020401 | C22: LIEPĀJAS REĢIONĀLĀ SLIMNĪCA, Sabiedrība ar ierobežotu atbildību | E22: 64.72 | F22: 6046.6
A23: Vidzeme | B23: 250000087 | C23: VALMIERAS VESELĪBAS CENTRS, SIA | D23: 212.58 | E23: 635.07
A24: Vidzeme | B24: 250000092 | C24: Vidzemes slimnīca, Sabiedrība ar ierobežotu atbildību
A25: Kurzeme | B25: 270020302 | C25: Ziemeļkurzemes reģionālā slimnīca, SIA
A26: Zemgale | B26: 320200001 | C26: Aizkraukles slimnīca, Sabiedrība ar ierobežotu atbildību
A27: Zemgale | B27: 400200024 | C27: Bauskas slimnīca, SIA | E27: 1547.1
A28: Vidzeme | B28: 420200052 | C28: CĒSU KLĪNIKA, Sabiedrība ar ierobežotu atbildību | D28: 35.77 | E28: 2563.62
A29: Vidzeme | B29: 421200001 | C29: Rehabilitācijas centrs "Līgatne", SIA | E29: 342.89 | F29: 24281.2 | G29: 1078.2
A30: Latgale | B30: 440800015 | C30: AIJAS JASEVIČAS FIZIOTERAPIJAS PRAKSE, Individuālais komersants | D30: 48.05 | E30: 4276.46
A31: Zemgale | B31: 460200036 | C31: Dobeles un apkārtnes slimnīca, SIA | E31: 38.92 | F31: 1952.64
A32: Zemgale | B32: 468900005 | C32: Rehabilitācijas centrs "Tērvete", Sabiedrība ar ierobežotu atbildību | F32: 6150.02
A33: Latgale | B33: 600200001 | C33: Krāslavas slimnīca, Sabiedrība ar ierobežotu atbildību | D33: 78.19 | E33: 837.77
A34: Latgale | B34: 601000001 | C34: Krāslavas novada Veselības un sociālo pakalpojumu centrs "Dagda" | E34: 1731.65
A35: Latgale | B35: 680200030 | C35: Ludzas medicīnas centrs, Sabiedrība ar ierobežotu atbildību | E35: 674.34
A36: Zemgale | B36: 740200008 | C36: Ogres rajona slimnīca, Sabiedrība ar ierobežotu atbildību | E36: 1186.87
A37: Latgale | B37: 760200002 | C37: Preiļu slimnīca, Sabiedrība ar ierobežotu atbildību | E37: 959.07 | F37: 3173.04
A38: Rīga | B38: 801200001 | C38: Salaspils veselības centrs, Sabiedrība ar ierobežotu atbildību | D38: 109.95 | E38: 3040.8
A39: Rīga | B39: 801600003 | C39: Siguldas slimnīca, SIA | D39: 35.77 | E39: 148.21
A40: Rīga | B40: 801600004 | C40: REHABILITĀCIJAS CENTRS "KRIMULDA", Sabiedrība ar ierobežotu atbildību
...

Sheet Subakūtā_rehab
F1: Pielikums Nr.3 Ministru kabineta rīkojuma "Par finanšu līdzekļu piešķiršanu no valsts budžeta programmas "Līdzekļi neparedzētiem gadījumiem"" projekta sākotnējās ietekmes novērtējuma ziņojumam (anotācijai)
A2: Subakūtas rehabilitācijas nodrošināšanai stacionārā (tai skaitā papildu skābekļa atbalstam), 2021.gada decembris un korekcijas* par 2021.gada augusta, septembra, oktobra un novembra mēnesi
A3: Ārstniecības iestādes nosaukums | B3: Pakalpojumu programmas nosaukums | C3: Stacionārās kartes nr. | D3: Mēnesis | E3: Gultas dienu skaits | F3: Gultas dienas tarifs | G3: Gultas dienu izmaksas | H3: Manipulāciju izmaksas, euro | I3: Kopsumma, euro
A4: Nacionālais rehabilitācijas centrs "Vaivari", Valsts sabiedrība ar ierobežotu atbildību | B4: Subakūtā rehabilitācija pieaugušajiem pēc COVID-19 (augstas aprūpes intensitātes) | C4: 053482021 | D4: 12 | E4: 20 | F4: 92.99 | G4: =E4*F4 -> 1859.8 | H4: 1392.21 | I4: =H4+G4 -> 3252.01
A5: Nacionālais rehabilitācijas centrs "Vaivari", Valsts sabiedrība ar ierobežotu atbildību | B5: Subakūtā rehabilitācija pieaugušajiem pēc COVID-19 (augstas aprūpes intensitātes) | C5: 053932021 | D5: 12 | E5: 18 | F5: 92.99 | G5: =F5*E5 -> 1673.82 | H5: 1297.08 | I5: =H5+G5 -> 2970.9
A6: Nacionālais rehabilitācijas centrs "Vaivari", Valsts sabiedrība ar ierobežotu atbildību | B6: Subakūtā rehabilitācija pieaugušajiem pēc COVID-19 (augstas aprūpes intensitātes) | C6: 053962021 | D6: 12 | E6: 20 | F6: 92.99 | G6: =F6*E6 -> 1859.8 | H6: 1430.55 | I6: =H6+G6 -> 3290.35
A7: Nacionālais rehabilitācijas centrs "Vaivari", Valsts sabiedrība ar ierobežotu atbildību | B7: Subakūtā rehabilitācija pieaugušajiem pēc COVID-19 (augstas aprūpes intensitātes) | C7: 053992021 | D7: 12 | E7: 12 | F7: 92.99 | G7: =F7*E7 -> 1115.88 | H7: 858.33 | I7: =H7+G7 -> 1974.21
A8: Nacionālais rehabilitācijas centrs "Vaivari", Valsts sabiedrība ar ierobežotu atbildību | B8: Subakūtā rehabilitācija pieaugušajiem pēc COVID-19 (augstas aprūpes intensitātes) | C8: 054082021 | D8: 12 | E8: 13 | F8: 92.99 | G8: =F8*E8 -> 1208.87 | H8: 915.48 | I8: =H8+G8 -> 2124.35
A9: Nacionālais rehabilitācijas centrs "Vaivari", Valsts sabiedrība ar ierobežotu atbildību | B9: Subakūtā rehabilitācija pieaugušajiem pēc COVID-19 (augstas aprūpes intensitātes) | C9: 054232021 | D9: 12 | E9: 13 | F9: 92.99 | G9: =F9*E9 -> 1208.87 | H9: 915.48 | I9: =H9+G9 -> 2124.35
A10: Nacionālais rehabilitācijas centrs "Vaivari", Valsts sabiedrība ar ierobežotu atbildību | B10: Subakūtā rehabilitācija pieaugušajiem pēc COVID-19 (augstas aprūpes intensitātes) | C10: 054432021 | D10: 12 | E10: 21 | F10: 92.99 | G10: =F10*E10 -> 1952.79 | H10: 1515.3 | I10: =H10+G10 -> 3468.09
A11: Nacionālais rehabilitācijas centrs "Vaivari", Valsts sabiedrība ar ierobežotu atbildību | B11: Subakūtā rehabilitācija pieaugušajiem pēc COVID-19 (augstas aprūpes intensitātes) | C11: 054572021 | D11: 12 | E11: 13 | F11: 92.99 | G11: =F11*E11 -> 1208.87 | H11: 915.48 | I11: =H11+G11 -> 2124.35
A12: Nacionālais rehabilitācijas centrs "Vaivari", Valsts sabiedrība ar ierobežotu atbildību | B12: Subakūtā rehabilitācija pieaugušajiem pēc COVID-19 (augstas aprūpes intensitātes) | C12: 054662021 | D12: 12 | E12: 13 | F12: 92.99 | G12: =F12*E12 -> 1208.87 | H12: 915.48 | I12: =H12+G12 -> 2124.35
A13: Nacionālais rehabilitācijas centrs "Vaivari", Valsts sabiedrība ar ierobežotu atbildību | B13: Subakūtā rehabilitācija pieaugušajiem pēc COVID-19 (augstas aprūpes intensitātes) | C13: 054702021 | D13: 12 | E13: 13 | F13: 92.99 | G13: =F13*E13 -> 1208.87 | H13: 915.48 | I13: =H13+G13 -> 2124.35
A14: Nacionālais rehabilitācijas centrs "Vaivari", Valsts sabiedrība ar ierobežotu atbildību | B14: Subakūtā rehabilitācija pieaugušajiem pēc COVID-19 (augstas aprūpes intensitātes) | C14: 054822021 | D14: 12 | E14: 13 | F14: 92.99 | G14: =F14*E14 -> 1208.87 | H14: 915.48 | I14: =H14+G14 -> 2124.35
A15: Nacionālais rehabilitācijas centrs "Vaivari", Valsts sabiedrība ar ierobežotu atbildību | B15: Subakūtā rehabilitācija pieaugušajiem pēc COVID-19 (augstas aprūpes intensitātes) | C15: 054842021 | D15: 12 | E15: 13 | F15: 92.99 | G15: =F15*E15 -> 1208.87 | H15: 915.48 | I15: =H15+G15 -> 2124.35
A16: Nacionālais rehabilitācijas centrs "Vaivari", Valsts sabiedrība ar ierobežotu atbildību | B16: Subakūtā rehabilitācija pieaugušajiem pēc COVID-19 (augstas aprūpes intensitātes) | C16: 054852021 | D16: 12 | E16: 8 | F16: 92.99 | G16: =F16*E16 -> 743.92 | H16: 572.22 | I16: =H16+G16 -> 1316.14
... A364: Vidzemes slimnīca, Sabiedrība ar ierobežotu atbildību | B364: Subakūtā rehabilitācija pieaugušajiem pēc COVID-19 (zemas aprūpes intensitātes) | C364: 135582021 | D364: 12 | E364: 4 | F364: 47.26 | G364: =F364*E364 -> 189.04 | H364: 387.12 | I364: =H364+G364 -> 576.16
A365: Kopā: | E365: =SUM(E4:E364) -> 4460 | G365: =SUM(G4:G364) -> 372115.04 | H365: =SUM(H4:H364) -> 160693.46 | I365: =ROUND(SUM(I4:I364),0) -> 532808
A367: *Atbilstoši līgumam “Par stacionārās veselības aprūpes pakalpojumu sniegšanu un apmaksu” ārstniecības iestādēm ir tiesības veikt labojumus stacionārajos uzskaites dokumentos līdz nākošā gada 8.janvārim.

Sheet Manipulācijas
G1: Pielikums Nr.4 Ministru kabineta rīkojuma "Par finanšu līdzekļu piešķiršanu no valsts budžeta programmas "Līdzekļi neparedzētiem gadījumiem"" projekta sākotnējās ietekmes novērtējuma ziņojumam (anotācijai)
A2: Subakūtās rehabilitācijas nodrošināšanai stacionārā, tai skaitā papildu skābekļa atbalstam, 2021.gada decembris un korekcijas par 2021.gada augusta, septembra, oktobra un novembra mēnesi
A3: Ārstniecības iestādes nosaukums | B3: Stacionārās kartes nr. | C3: Mēnesis | D3: Pakalpojumu programmas nosaukums | E3: Manipulācijas kods | F3: Manipulācijas nosaukums | G3: Manipulāciju skaits | H3: Manipulācijas tarifs, euro | I3: Manipulāciju summa, euro
A4: Nacionālais rehabilitācijas centrs "Vaivari" | B4: 053482021 | C4: 12 | D4: Subakūtā rehabilitācija pieaugušajiem pēc COVID-19 (augstas aprūpes intensitātes) | E4: 55180 | F4: Multiprofesionāls rehabilitācijas bāzes pakalpojums stacionārā (2–3 stundas) | G4: 7 | H4: 57.15 | I4: =G4*H4 -> 400.05
A5: Nacionālais rehabilitācijas centrs "Vaivari" | B5: 053482021 | C5: 12 | D5: Subakūtā rehabilitācija pieaugušajiem pēc COVID-19 (augstas aprūpes intensitātes) | E5: 55181 | F5: Intensīvs multiprofesionāls rehabilitācijas pakalpojums stacionārā (3–4 stundas) | G5: 13 | H5: 76.32 | I5: =G5*H5 -> 992.16
A6: Nacionālais rehabilitācijas centrs "Vaivari" | B6: 053852021 | C6: 12 | D6: Subakūtā rehabilitācija pieaugušajiem pēc COVID-19 (zemas aprūpes intensitātes) | E6: 55180 | F6: Multiprofesionāls rehabilitācijas bāzes pakalpojums stacionārā (2–3 stundas) | G6: 3 | H6: 57.15 | I6: =G6*H6 -> 171.45
A7: Nacionālais rehabilitācijas centrs "Vaivari" | B7: 053852021 | C7: 12 | D7: Subakūtā rehabilitācija pieaugušajiem pēc COVID-19 (zemas aprūpes intensitātes) | E7: 55181 | F7: Intensīvs multiprofesionāls rehabilitācijas pakalpojums stacionārā (3–4 stundas) | G7: 10 | H7: 76.32 | I7: =G7*H7 -> 763.2
A8: Nacionālais rehabilitācijas centrs "Vaivari" | B8: 053872021 | C8: 12 | D8: Subakūtā rehabilitācija pieaugušajiem pēc COVID-19 (zemas aprūpes intensitātes) | E8: 55180 | F8: Multiprofesionāls rehabilitācijas bāzes pakalpojums stacionārā (2–3 stundas) | G8: 2 | H8: 57.15 | I8: =G8*H8 -> 114.3
A9: Nacionālais rehabilitācijas centrs "Vaivari" | B9: 053872021 | C9: 12 | D9: Subakūtā rehabilitācija pieaugušajiem pēc COVID-19 (zemas aprūpes intensitātes) | E9: 55181 | F9: Intensīvs multiprofesionāls rehabilitācijas pakalpojums stacionārā (3–4 stundas) | G9: 11 | H9: 76.32 | I9: =G9*H9 -> 839.52
A10: Nacionālais rehabilitācijas centrs "Vaivari" | B10: 053902021 | C10: 12 | D10: Subakūtā rehabilitācija pieaugušajiem pēc COVID-19 (zemas aprūpes intensitātes) | E10: 55180 | F10: Multiprofesionāls rehabilitācijas bāzes pakalpojums stacionārā (2–3 stundas) | G10: 3 | H10: 57.15 | I10: =G10*H10 -> 171.45
A11: Nacionālais rehabilitācijas centrs "Vaivari" | B11: 053902021 | C11: 12 | D11: Subakūtā rehabilitācija pieaugušajiem pēc COVID-19 (zemas aprūpes intensitātes) | E11: 55181 | F11: Intensīvs multiprofesionāls rehabilitācijas pakalpojums stacionārā (3–4 stundas) | G11: 10 | H11: 76.32 | I11: =G11*H11 -> 763.2
A12: Nacionālais rehabilitācijas centrs "Vaivari" | B12: 053932021 | C12: 12 | D12: Subakūtā rehabilitācija pieaugušajiem pēc COVID-19 (augstas aprūpes intensitātes) | E12: 55180 | F12: Multiprofesionāls rehabilitācijas bāzes pakalpojums stacionārā (2–3 stundas) | G12: 4 | H12: 57.15 | I12: =G12*H12 -> 228.6
A13: Nacionālais rehabilitācijas centrs "Vaivari" | B13: 053932021 | C13: 12 | D13: Subakūtā rehabilitācija pieaugušajiem pēc COVID-19 (augstas aprūpes intensitātes) | E13: 55181 | F13: Intensīvs multiprofesionāls rehabilitācijas pakalpojums stacionārā (3–4 stundas) | G13: 14 | H13: 76.32 | I13: =G13*H13 -> 1068.48
A14: Nacionālais rehabilitācijas centrs "Vaivari" | B14: 053962021 | C14: 12 | D14: Subakūtā rehabilitācija pieaugušajiem pēc COVID-19 (augstas aprūpes intensitātes) | E14: 55180 | F14: Multiprofesionāls rehabilitācijas bāzes pakalpojums stacionārā (2–3 stundas) | G14: 5 | H14: 57.15 | I14: =G14*H14 -> 285.75
A15: Nacionālais rehabilitācijas centrs "Vaivari" | B15: 053962021 | C15: 12 | D15: Subakūtā rehabilitācija pieaugušajiem pēc COVID-19 (augstas aprūpes intensitātes) | E15: 55181 | F15: Intensīvs multiprofesionāls rehabilitācijas pakalpojums stacionārā (3–4 stundas) | G15: 15 | H15: 76.32 | I15: =G15*H15 -> 1144.8
... A494: Vidzemes slimnīca | B494: 135582021 | C494: 12 | D494: Subakūtā rehabilitācija pieaugušajiem pēc COVID-19 (zemas aprūpes intensitātes) | E494: 60245 | F494: Skābekļa terapijas nodrošināšana pacientam, kas pārslimojis Covid-19, saņemot rehabilitācijas pakalpojumus stacionārā vai dienas stacionārā | G494: 2 | H494: 2.76 | I494: =G494*H494 -> 5.52
A495: Kopā: | G495: =SUM(G4:G494) -> 2856 | I495: =SUM(I4:I494) -> 160693.46

Sheet decembris gala
A1: TN | B1: Iest. kods | C1: Iestāde | D1: Nosaukums | E1: Skaits | F1: Veiktais darbs | G1: Pacienta maksājums kopā | H1: Maksa par pakalpojumiem | I1: Pacienta iemaksa par atbrīvotajām kategorijām | J1: Pacienta maks.iemaksa | K1: Kopā apmaksai | M1: Sum of Kopā apmaksai
A2: Rīga | B2: 10064120 | C2: Veselības centru apvienība, AS | D2: AP90 - Rehabilitācija ambulatori pieaugušajiem, kas pārslimojuši Covid-19 | E2: 6 | F2: 52.38 | G2: 8 | H2: 44.38 | I2: 0 | J2: 8 | K2: 44.38 | M2: Iest. kods | N2: Iestāde | O2: AP89 - Rehabilitācija ambulatori bērniem, kas pārslimojuši Covid-19 | P2: AP90 - Rehabilitācija ambulatori pieaugušajiem, kas pārslimojuši Covid-19 | Q2: AP91 - Rehabilitācija dienas stacionārā pieaugušajiem, kas pārslimojuši Covid-19 | R2: AP92 - Rehabilitācija dienas stacionārā bērniem, kas pārslimojuši Covid-19
A3: Rīga | B3: 10064120 | C3: Veselības centru apvienība, AS | D3: AP91 - Rehabilitācija dienas stacionārā pieaugušajiem, kas pārslimojuši Covid-19 | E3: 3 | F3: 469.3 | G3: 35 | H3: 434.3 | I3: 0 | J3: 35 | K3: 434.3 | M3: 10001535 | N3: Rīgas veselības centrs, SIA | O3: 491.92 | P3: 8705.91 | Q3: 22506.1 | R3: 1078.2
A4: Rīga | B4: 10064120 | C4: Veselības centru apvienība, AS | D4: AP89 - Rehabilitācija ambulatori bērniem, kas pārslimojuši Covid-19 | E4: 5 | F4: 346.22 | G4: 0 | H4: 346.22 | I4: 0 | J4: 0 | K4: 346.22 | M4: 10011804 | N4: Bērnu klīniskā universitātes slimnīca, Valsts sabiedrība ar ierobežotu atbildību | R4: 190.68
A5: Rīga | B5: 10064120 | C5: Veselības centru apvienība, AS | D5: AP90 - Rehabilitācija ambulatori pieaugušajiem, kas pārslimojuši Covid-19 | E5: 288 | F5: 4151.73 | G5: 300 | H5: 3851.73 | I5: 16 | J5: 284 | K5: 3867.73 | M5: 10020301 | N5: Rīgas 1. slimnīca, SIA | O5: 65.97 | P5: 8616.12 | Q5: 11729.31
A6: Rīga | B6: 10064120 | C6: Veselības centru apvienība, AS | D6: AP91 - Rehabilitācija dienas stacionārā pieaugušajiem, kas pārslimojuši Covid-19 | E6: 104 | F6: 30998.44 | G6: 2240 | H6: 28758.44 | I6: 70 | J6: 2170 | K6: 28828.44 | M6: 10040307 | N6: Latvijas Jūras medicīnas centrs, Akciju sabiedrība | Q6: 868.6 | R6: 938.6
A7: Rīga | B7: 10064120 | C7: Veselības centru apvienība, AS | D7: AP90 - Rehabilitācija ambulatori pieaugušajiem, kas pārslimojuši Covid-19 | E7: 4 | F7: 41.97 | G7: 4 | H7: 37.97 | I7: 0 | J7: 4 | K7: 37.97 | M7: 10064111 | N7: Dziedniecība, Sabiedrība ar ierobežotu atbildību | Q7: 868.6
A8: Rīga | B8: 10064120 | C8: Veselības centru apvienība, AS | D8: AP90 - Rehabilitācija ambulatori pieaugušajiem, kas pārslimojuši Covid-19 | E8: 3 | F8: 26.19 | G8: 4 | H8: 22.19 | I8: 0 | J8: 4 | K8: 22.19 | M8: 10064120 | N8: Veselības centru apvienība, AS | O8: 346.22 | P8: 3972.27 | Q8: 29870.76
A9: Rīga | B9: 10064120 | C9: Veselības centru apvienība, AS | D9: AP91 - Rehabilitācija dienas stacionārā pieaugušajiem, kas pārslimojuši Covid-19 | E9: 3 | F9: 657.02 | G9: 49 | H9: 608.02 | I9: 0 | J9: 49 | K9: 608.02 | M9: 19362601 | N9: Protezēšanas un ortopēdijas centrs, Akciju sabiedrība | Q9: 22659.64 | R9: 3128.1
A10: Rīga | B10: 801200001 | C10: Salaspils veselības centrs, Sabiedrība ar ierobežotu atbildību | D10: AP89 - Rehabilitācija ambulatori bērniem, kas pārslimojuši Covid-19 | E10: 2 | F10: 109.95 | G10: 0 | H10: 109.95 | I10: 0 | J10: 0 | K10: 109.95 | M10: 50000018 | N10: Jakovļeva Olga - fizioterapeita prakse | O10: 3174.88 | P10: 27526.6
A11: Rīga | B11: 801200001 | C11: Salaspils veselības centrs, Sabiedrība ar ierobežotu atbildību | D11: AP90 - Rehabilitācija ambulatori pieaugušajiem, kas pārslimojuši Covid-19 | E11: 113 | F11: 3048.34 | G11: 52 | H11: 2996.34 | I11: 0 | J11: 52 | K11: 2996.34 | M11: 50000042 | N11: Fizioterapijas kabinets VALE, IK | O11: 143.82 | P11: 5238.44
A12: Rīga | B12: 801200001 | C12: Salaspils veselības centrs, Sabiedrība ar ierobežotu atbildību | D12: AP90 - Rehabilitācija ambulatori pieaugušajiem, kas pārslimojuši Covid-19 | E12: 6 | F12: 52.46 | G12: 8 | H12: 44.46 | I12: 0 | J12: 8 | K12: 44.46 | M12: 50020401 | N12: Daugavpils reģionālā slimnīca, Sabiedrība ar ierobežotu atbildību | P12: 397.64
A13: Kurzeme | B13: 170020401 | C13: LIEPĀJAS REĢIONĀLĀ SLIMNĪCA, Sabiedrība ar ierobežotu atbildību | D13: AP90 - Rehabilitācija ambulatori pieaugušajiem, kas pārslimojuši Covid-19 | E13: 12 | F13: 80.72 | G13: 16 | H13: 64.72 | I13: 0 | J13: 16 | K13: 64.72 | M13: 50066201 | N13: IVAKO GROUP, Sabiedrība ar ierobežotu atbildību | P13: 463.8
A14: Kurzeme | B14: 170020401 | C14: LIEPĀJAS REĢIONĀLĀ SLIMNĪCA, Sabiedrība ar ierobežotu atbildību | D14: AP91 - Rehabilitācija dienas stacionārā pieaugušajiem, kas pārslimojuši Covid-19 | E14: 145 | F14: 6529.6 | G14: 483 | H14: 6046.6 | I14: 0 | J14: 483 | K14: 6046.6 | M14: 90000026 | N14: Zemgales veselības centrs, Sabiedrība ar ierobežotu atbildību | O14: 147.42 | P14: 2269.76
A15: Kurzeme | B15: 170020401 | C15: LIEPĀJAS REĢIONĀLĀ SLIMNĪCA, Sabiedrība ar ierobežotu atbildību | D15: AP90 - Rehabilitācija ambulatori pieaugušajiem, kas pārslimojuši Covid-19 | E15: 4 | F15: 0 | G15: 0 | H15: 0 | I15: 0 | J15: 0 | K15: 0 | M15: 90065207 | N15: FITOSAN PLUS, Medicīnas centrs SIA | O15: 288.6 | P15: 73.4 | Q15: 1310.58
A16: Kurzeme | B16: 170020401 | C16: LIEPĀJAS REĢIONĀLĀ SLIMNĪCA, Sabiedrība ar ierobežotu atbildību | D16: AP91 - Rehabilitācija dienas stacionārā pieaugušajiem, kas pārslimojuši Covid-19 | E16: 38 | F16: 0 | G16: 0 | H16: 0 | I16: 0 | J16: 0 | K16: 0 | M16: 130013001 | N16: Nacionālais rehabilitācijas centrs "Vaivari", Valsts sabiedrība ar ierobežotu atbildību | P16: 1376.65 | Q16: 13154.16
A17: Kurzeme | B17: 880200016 | C17: TALSU VESELĪBAS CENTRS, SIA | D17: AP90 - Rehabilitācija ambulatori pieaugušajiem, kas pārslimojuši Covid-19 | E17: 443 | F17: 9169.62 | G17: 0 | H17: 9169.62 | I17: 0 | J17: 0 | K17: 9169.62 | M17: 130064003 | N17: SANARE-KRC JAUNĶEMERI, Sabiedrība ar ierobežotu atbildību | O17: 591.68 | P17: 5826.32 | Q17: 38846.92
A18: Kurzeme | B18: 880200016 | C18: TALSU VESELĪBAS CENTRS, SIA | D18: AP90 - Rehabilitācija ambulatori pieaugušajiem, kas pārslimojuši Covid-19 | E18: 6 | F18: 47.32 | G18: 0 | H18: 47.32 | I18: 0 | J18: 0 | K18: 47.32 | M18: 170020401 | N18: LIEPĀJAS REĢIONĀLĀ SLIMNĪCA, Sabiedrība ar ierobežotu atbildību | P18: 64.72 | Q18: 6046.6
A19: Kurzeme | B19: 880200016 | C19: TALSU VESELĪBAS CENTRS, SIA | D19: AP90 - Rehabilitācija ambulatori pieaugušajiem, kas pārslimojuši Covid-19 | E19: 16 | F19: 31.8 | G19: 0 | H19: 31.8 | I19: 0 | J19: 0 | K19: 31.8 | M19: 250000087 | N19: VALMIERAS VESELĪBAS CENTRS, SIA | O19: 212.58 | P19: 635.07
A20: Zemgale | B20: 460200036 | C20: Dobeles un apkārtnes slimnīca, SIA | D20: AP90 - Rehabilitācija ambulatori pieaugušajiem, kas pārslimojuši Covid-19 | E20: 6 | F20: 46.92 | G20: 8 | H20: 38.92 | I20: 0 | J20: 8 | K20: 38.92 | M20: 400200024 | N20: Bauskas slimnīca, SIA | P20: 1547.1
A21: Zemgale | B21: 460200036 | C21: Dobeles un apkārtnes slimnīca, SIA | D21: AP91 - Rehabilitācija dienas stacionārā pieaugušajiem, kas pārslimojuši Covid-19 | E21: 9 | F21: 2120.64 | G21: 168 | H21: 1952.64 | I21: 0 | J21: 168 | K21: 1952.64 | M21: 420200052 | N21: CĒSU KLĪNIKA, Sabiedrība ar ierobežotu atbildību | O21: 35.77 | P21: 2563.62
A22: Rīga | B22: 801600003 | C22: Siguldas slimnīca, SIA | D22: AP89 - Rehabilitācija ambulatori bērniem, kas pārslimojuši Covid-19 | E22: 4 | F22: 35.77 | G22: 0 | H22: 35.77 | I22: 0 | J22: 0 | K22: 35.77 | M22: 421200001 | N22: Rehabilitācijas centrs "Līgatne", SIA | P22: 342.89 | Q22: 24281.2 | R22: 1078.2
A23: Rīga | B23: 801600003 | C23: Siguldas slimnīca, SIA | D23: AP90 - Rehabilitācija ambulatori pieaugušajiem, kas pārslimojuši Covid-19 | E23: 15 | F23: 203.61 | G23: 0 | H23: 203.61 | I23: 0 | J23: 0 | K23: 203.61 | M23: 440800015 | N23: AIJAS JASEVIČAS FIZIOTERAPIJAS PRAKSE, Individuālais komersants | O23: 48.05 | P23: 4276.46
A24: Rīga | B24: 801600003 | C24: Siguldas slimnīca, SIA | D24: AP90 - Rehabilitācija ambulatori pieaugušajiem, kas pārslimojuši Covid-19 | E24: 8 | F24: -55.4 | G24: 0 | H24: -55.4 | I24: 0 | J24: 0 | K24: -55.4 | M24: 460200036 | N24: Dobeles un apkārtnes slimnīca, SIA | P24: 38.92 | Q24: 1952.64
A25: Rīga | B25: 806012001 | C25: Balt Aliance, Sabiedrība ar ierobežotu atbildību | D25: AP89 - Rehabilitācija ambulatori bērniem, kas pārslimojuši Covid-19 | E25: 7 | F25: 184.18 | G25: 0 | H25: 184.18 | I25: 0 | J25: 0 | K25: 184.18 | M25: 468900005 | N25: Rehabilitācijas centrs "Tērvete", Sabiedrība ar ierobežotu atbildību | Q25: 6150.02
A26: Rīga | B26: 806012001 | C26: Balt Aliance, Sabiedrība ar ierobežotu atbildību | D26: AP90 - Rehabilitācija ambulatori pieaugušajiem, kas pārslimojuši Covid-19 | E26: 29 | F26: 296.48 | G26: 32 | H26: 264.48 | I26: 0 | J26: 32 | K26: 264.48 | M26: 600200001 | N26: Krāslavas slimnīca, Sabiedrība ar ierobežotu atbildību | O26: 78.19 | P26: 837.77
A27: Rīga | B27: 806012001 | C27: Balt Aliance, Sabiedrība ar ierobežotu atbildību | D27: AP91 - Rehabilitācija dienas stacionārā pieaugušajiem, kas pārslimojuši Covid-19 | E27: 48 | F27: 13234.26 | G27: 987 | H27: 12247.26 | I27: 0 | J27: 987 | K27: 12247.26 | M27: 601000001 | N27: Krāslavas novada Veselības un sociālo pakalpojumu centrs "Dagda" | P27: 1731.65
A28: Rīga | B28: 806012001 | C28: Balt Aliance, Sabiedrība ar ierobežotu atbildību | D28: AP92 - Rehabilitācija dienas stacionārā bērniem, kas pārslimojuši Covid-19 | E28: 9 | F28: 2815.8 | G28: 210 | H28: 2605.8 | I28: 210 | J28: 0 | K28: 2815.8 | M28: 680200030 | N28: Ludzas medicīnas centrs, Sabiedrība ar ierobežotu atbildību | P28: 674.34
A29: Rīga | B29: 806012001 | C29: Balt Aliance, Sabiedrība ar ierobežotu atbildību | D29: AP90 - Rehabilitācija ambulatori pieaugušajiem, kas pārslimojuši Covid-19 | E29: 3 | F29: 26.19 | G29: 4 | H29: 22.19 | I29: 0 | J29: 4 | K29: 22.19 | M29: 740200008 | N29: Ogres rajona slimnīca, Sabiedrība ar ierobežotu atbildību | P29: 1186.87
A30: Rīga | B30: 806012001 | C30: Balt Aliance, Sabiedrība ar ierobežotu atbildību | D30: AP91 - Rehabilitācija dienas stacionārā pieaugušajiem, kas pārslimojuši Covid-19 | E30: 3 | F30: 281.58 | G30: 21 | H30: 260.58 | I30: 0 | J30: 21 | K30: 260.58 | M30: 760200002 | N30: Preiļu slimnīca, Sabiedrība ar ierobežotu atbildību | P30: 959.07 | Q30: 3173.04
A31: Rīga | B31: 10064111 | C31: Dziedniecība, Sabiedrība ar ierobežotu atbildību | D31: AP91 - Rehabilitācija dienas stacionārā pieaugušajiem, kas pārslimojuši Covid-19 | E31: 4 | F31: 938.6 | G31: 70 | H31: 868.6 | I31: 0 | J31: 70 | K31: 868.6 | M31: 801200001 | N31: Salaspils veselības centrs, Sabiedrība ar ierobežotu atbildību | O31: 109.95 | P31: 3040.8
A32: Rīga | B32: 10011804 | C32: Bērnu klīniskā universitātes slimnīca, Valsts sabiedrība ar ierobežotu atbildību | D32: AP92 - Rehabilitācija dienas stacionārā bērniem, kas pārslimojuši Covid-19 | E32: 3 | F32: 102.32 | G32: 7 | H32: 95.32 | I32: 7 | J32: 0 | K32: 102.32 | M32: 801600003 | N32: Siguldas slimnīca, SIA | O32: 35.77 | P32: 148.21
A33: Rīga | B33: 10011804 | C33: Bērnu klīniskā universitātes slimnīca, Valsts sabiedrība ar ierobežotu atbildību | D33: AP92 - Rehabilitācija dienas stacionārā bērniem, kas pārslimojuši Covid-19 | E33: 3 | F33: 88.36 | G33: 7 | H33: 81.36 | I33: 7 | J33: 0 | K33: 88.36 | M33: 806012001 | N33: Balt Aliance, Sabiedrība ar ierobežotu atbildību | O33: 184.18 | P33: 286.67 | Q33: 12507.84 | R33: 2815.8
A34: Latgale | B34: 601000001 | C34: Krāslavas novada Veselības un sociālo pakalpojumu centrs "Dagda" | D34: AP90 - Rehabilitācija ambulatori pieaugušajiem, kas pārslimojuši Covid-19 | E34: 34 | F34: 1471.93 | G34: 0 | H34: 1471.93 | I34: 0 | J34: 0 | K34: 1471.93 | M34: 880200016 | N34: TALSU VESELĪBAS CENTRS, SIA | P34: 9248.74
A35: Latgale | B35: 601000001 | C35: Krāslavas novada Veselības un sociālo pakalpojumu centrs "Dagda" | D35: AP90 - Rehabilitācija ambulatori pieaugušajiem, kas pārslimojuši Covid-19 | E35: 9 | F35: 259.72 | G35: 0 | H35: 259.72 | I35: 0 | J35: 0 | K35: 259.72 | O35: 5955 | P35: 92049.81 | Q35: 195926.01 | R35: 9229.58
A36: Latgale | B36: 440800015 | C36: AIJAS JASEVIČAS FIZIOTERAPIJAS PRAKSE, Individuālais komersants | D36: AP90 - Rehabilitācija ambulatori pieaugušajiem, kas pārslimojuši Covid-19 | E36: 7 | F36: 261.67 | G36: 4 | H36: 257.67 | I36: 0 | J36: 4 | K36: 257.67
A37: Latgale | B37: 440800015 | C37: AIJAS JASEVIČAS FIZIOTERAPIJAS PRAKSE, Individuālais komersants | D37: AP89 - Rehabilitācija ambulatori bērniem, kas pārslimojuši Covid-19 | E37: 2 | F37: 48.05 | G37: 0 | H37: 48.05 | I37: 0 | J37: 0 | K37: 48.05
A38: Latgale | B38: 440800015 | C38: AIJAS JASEVIČAS FIZIOTERAPIJAS PRAKSE, Individuālais komersants | D38: AP90 - Rehabilitācija ambulatori pieaugušajiem, kas pārslimojuši Covid-19 | E38: 92 | F38: 4042.79 | G38: 24 | H38: 4018.79 | I38: 0 | J38: 24 | K38: 4018.79
A39: Zemgale | B39: 740200008 | C39: Ogres rajona slimnīca, Sabiedrība ar ierobežotu atbildību | D39: AP90 - Rehabilitācija ambulatori pieaugušajiem, kas pārslimojuši Covid-19 | E39: 28 | F39: 1190.87 | G39: 4 | H39: 1186.87 | I39: 0 | J39: 4 | K39: 1186.87
A40: Zemgale | B40: 90000026 | C40: Zemgales veselības centrs, Sabiedrība ar ierobežotu atbildību | D40: AP90 - Rehabilitācija ambulatori pieaugušajiem, kas pārslimojuši Covid-19 | E40: 2 | F40: 22.35 | G40: 4 | H40: 18.35 | I40: 0 | J40: 4 | K40: 18.35
...

Sheet oktobris_pārbaudes2
O1: TN | P1: Iest. kods | Q1: Iestāde | R1: Nosaukums | S1: Kopā apmaksai
A2: TN | B2: Iest. kods | C2: Iestāde | D2: Nosaukums | E2: Kopā apmaksai | G2: Sum of Kopā apmaksai | O2: Kurzeme | P2: 880200016 | Q2: TALSU VESELĪBAS CENTRS, SIA | R2: AP90 - Rehabilitācija ambulatori pieaugušajiem, kas pārslimojuši Covid-19 | S2: 2488.65 | U2: Sum of Kopā apmaksai
A3: Kurzeme | B3: 880200016 | C3: TALSU VESELĪBAS CENTRS, SIA | D3: AP90 - Rehabilitācija ambulatori pieaugušajiem, kas pārslimojuši Covid-19 | E3: 2488.65 | G3: TN | H3: Iest. kods | I3: Iestāde | J3: AP89 - Rehabilitācija ambulatori bērniem, kas pārslimojuši Covid-19 | K3: AP90 - Rehabilitācija ambulatori pieaugušajiem, kas pārslimojuši Covid-19 | L3: AP91 - Rehabilitācija dienas stacionārā pieaugušajiem, kas pārslimojuši Covid-19 | M3: AP92 - Rehabilitācija dienas stacionārā bērniem, kas pārslimojuši Covid-19 | O3: Zemgale | P3: 740200008 | Q3: Ogres rajona slimnīca, Sabiedrība ar ierobežotu atbildību | R3: AP90 - Rehabilitācija ambulatori pieaugušajiem, kas pārslimojuši Covid-19 | S3: 379.06 | U3: TN | V3: Iest. kods | W3: Iestāde | X3: AP89 - Rehabilitācija ambulatori bērniem, kas pārslimojuši Covid-19 | Y3: AP90 - Rehabilitācija ambulatori pieaugušajiem, kas pārslimojuši Covid-19 | Z3: AP91 - Rehabilitācija dienas stacionārā pieaugušajiem, kas pārslimojuši Covid-19 | AA3: AP92 - Rehabilitācija dienas stacionārā bērniem, kas pārslimojuši Covid-19
A4: Zemgale | B4: 740200008 | C4: Ogres rajona slimnīca, Sabiedrība ar ierobežotu atbildību | D4: AP90 - Rehabilitācija ambulatori pieaugušajiem, kas pārslimojuši Covid-19 | E4: 379.06 | G4: Kurzeme | H4: 170020401 | I4: LIEPĀJAS REĢIONĀLĀ SLIMNĪCA, Sabiedrība ar ierobežotu atbildību | J4: 0 | K4: 19.46 | L4: 1651.01 | M4: 0 | O4: Latgale | P4: 601000001 | Q4: Krāslavas novada Veselības un sociālo pakalpojumu centrs "Dagda" | R4: AP90 - Rehabilitācija ambulatori pieaugušajiem, kas pārslimojuši Covid-19 | S4: 403.2 | U4: Kurzeme | V4: 170020401 | W4: LIEPĀJAS REĢIONĀLĀ SLIMNĪCA, Sabiedrība ar ierobežotu atbildību | X4: 0 | Y4: 19.46 | Z4: 1651.01 | AA4: 0 | AB4: =W4=I4 -> TRUE | AC4: =X4=J4 -> TRUE | AD4: =Y4=K4 -> TRUE | AE4: =Z4=L4 -> TRUE | AF4: =AA4=M4 -> TRUE
A5: Latgale | B5: 601000001 | C5: Krāslavas novada Veselības un sociālo pakalpojumu centrs "Dagda" | D5: AP90 - Rehabilitācija ambulatori pieaugušajiem, kas pārslimojuši Covid-19 | E5: 403.2 | G5: Kurzeme | H5: 880200016 | I5: TALSU VESELĪBAS CENTRS, SIA | J5: 0 | K5: 2488.65 | L5: 0 | M5: 0 | O5: Latgale | P5: 440800015 | Q5: AIJAS JASEVIČAS FIZIOTERAPIJAS PRAKSE, Individuālais komersants | R5: AP90 - Rehabilitācija ambulatori pieaugušajiem, kas pārslimojuši Covid-19 | S5: 88.76 | U5: Kurzeme | V5: 880200016 | W5: TALSU VESELĪBAS CENTRS, SIA | X5: 0 | Y5: 2488.65 | Z5: 0 | AA5: 0 | AB5: =W5=I5 -> TRUE | AC5: =X5=J5 -> TRUE | AD5: =Y5=K5 -> TRUE | AE5: =Z5=L5 -> TRUE | AF5: =AA5=M5 -> TRUE
A6: Latgale | B6: 440800015 | C6: AIJAS JASEVIČAS FIZIOTERAPIJAS PRAKSE, Individuālais komersants | D6: AP90 - Rehabilitācija ambulatori pieaugušajiem, kas pārslimojuši Covid-19 | E6: 88.76 | G6: Latgale | H6: 50000042 | I6: Fizioterapijas kabinets VALE, IK | J6: 0 | K6: 983.75 | L6: 0 | M6: 0 | O6: Zemgale | P6: 90000026 | Q6: Zemgales veselības centrs, Sabiedrība ar ierobežotu atbildību | R6: AP89 - Rehabilitācija ambulatori bērniem, kas pārslimojuši Covid-19 | S6: 110.89 | U6: Latgale | V6: 50000042 | W6: Fizioterapijas kabinets VALE, IK | X6: 0 | Y6: 983.75 | Z6: 0 | AA6: 0 | AB6: =W6=I6 -> TRUE | AC6: =X6=J6 -> TRUE | AD6: =Y6=K6 -> TRUE | AE6: =Z6=L6 -> TRUE | AF6: =AA6=M6 -> TRUE
A7: Zemgale | B7: 90000026 | C7: Zemgales veselības centrs, Sabiedrība ar ierobežotu atbildību | D7: AP89 - Rehabilitācija ambulatori bērniem, kas pārslimojuši Covid-19 | E7: 110.89 | G7: Latgale | H7: 50020401 | I7: Daugavpils reģionālā slimnīca, Sabiedrība ar ierobežotu atbildību | J7: 0 | K7: 38.92 | L7: 0 | M7: 0 | O7: Zemgale | P7: 90000026 | Q7: Zemgales veselības centrs, Sabiedrība ar ierobežotu atbildību | R7: AP90 - Rehabilitācija ambulatori pieaugušajiem, kas pārslimojuši Covid-19 | S7: 590.38 | U7: Latgale | V7: 50020401 | W7: Daugavpils reģionālā slimnīca, Sabiedrība ar ierobežotu atbildību | X7: 0 | Y7: 38.92 | Z7: 0 | AA7: 0 | AB7: =W7=I7 -> TRUE | AC7: =X7=J7 -> TRUE | AD7: =Y7=K7 -> TRUE | AE7: =Z7=L7 -> TRUE | AF7: =AA7=M7 -> TRUE
A8: Zemgale | B8: 90000026 | C8: Zemgales veselības centrs, Sabiedrība ar ierobežotu atbildību | D8: AP90 - Rehabilitācija ambulatori pieaugušajiem, kas pārslimojuši Covid-19 | E8: 590.38 | G8: Latgale | H8: 440800015 | I8: AIJAS JASEVIČAS FIZIOTERAPIJAS PRAKSE, Individuālais komersants | J8: 0 | K8: 88.76 | L8: 0 | M8: 0 | O8: Zemgale | P8: 400200024 | Q8: Bauskas slimnīca, SIA | R8: AP90 - Rehabilitācija ambulatori pieaugušajiem, kas pārslimojuši Covid-19 | S8: 1276.49 | U8: Latgale | V8: 440800015 | W8: AIJAS JASEVIČAS FIZIOTERAPIJAS PRAKSE, Individuālais komersants | X8: 0 | Y8: 88.76 | Z8: 0 | AA8: 0 | AB8: =W8=I8 -> TRUE | AC8: =X8=J8 -> TRUE | AD8: =Y8=K8 -> TRUE | AE8: =Z8=L8 -> TRUE | AF8: =AA8=M8 -> TRUE
A9: Zemgale | B9: 400200024 | C9: Bauskas slimnīca, SIA | D9: AP90 - Rehabilitācija ambulatori pieaugušajiem, kas pārslimojuši Covid-19 | E9: 1276.49 | G9: Latgale | H9: 601000001 | I9: Krāslavas novada Veselības un sociālo pakalpojumu centrs "Dagda" | J9: 0 | K9: 403.2 | L9: 0 | M9: 0 | O9: Rīga | P9: 10064120 | Q9: Veselības centru apvienība, AS | R9: AP90 - Rehabilitācija ambulatori pieaugušajiem, kas pārslimojuši Covid-19 | S9: 22.19 | U9: Latgale | V9: 601000001 | W9: Krāslavas novada Veselības un sociālo pakalpojumu centrs "Dagda" | X9: 0 | Y9: 403.2 | Z9: 0 | AA9: 0 | AB9: =W9=I9 -> TRUE | AC9: =X9=J9 -> TRUE | AD9: =Y9=K9 -> TRUE | AE9: =Z9=L9 -> TRUE | AF9: =AA9=M9 -> TRUE
A10: Rīga | B10: 10064120 | C10: Veselības centru apvienība, AS | D10: AP90 - Rehabilitācija ambulatori pieaugušajiem, kas pārslimojuši Covid-19 | E10: 22.19 | G10: Latgale | H10: 680200030 | I10: Ludzas medicīnas centrs, Sabiedrība ar ierobežotu atbildību | J10: 0 | K10: 259.36 | L10: 0 | M10: 0 | O10: Rīga | P10: 10064120 | Q10: Veselības centru apvienība, AS | R10: AP91 - Rehabilitācija dienas stacionārā pieaugušajiem, kas pārslimojuši Covid-19 | S10: 434.3 | U10: Latgale | V10: 680200030 | W10: Ludzas medicīnas centrs, Sabiedrība ar ierobežotu atbildību | X10: 0 | Y10: 259.36 | Z10: 0 | AA10: 0 | AB10: =W10=I10 -> TRUE | AC10: =X10=J10 -> TRUE | AD10: =Y10=K10 -> TRUE | AE10: =Z10=L10 -> TRUE | AF10: =AA10=M10 -> TRUE
A11: Rīga | B11: 10064120 | C11: Veselības centru apvienība, AS | D11: AP91 - Rehabilitācija dienas stacionārā pieaugušajiem, kas pārslimojuši Covid-19 | E11: 434.3 | G11: Latgale | H11: 760200002 | I11: Preiļu slimnīca, Sabiedrība ar ierobežotu atbildību | J11: 0 | K11: 277.86 | L11: 0 | M11: 0 | O11: Rīga | P11: 10064120 | Q11: Veselības centru apvienība, AS | R11: AP90 - Rehabilitācija ambulatori pieaugušajiem, kas pārslimojuši Covid-19 | S11: 1508.1 | U11: Latgale | V11: 760200002 | W11: Preiļu slimnīca, Sabiedrība ar ierobežotu atbildību | X11: 0 | Y11: 277.86 | Z11: 0 | AA11: 0 | AB11: =W11=I11 -> TRUE | AC11: =X11=J11 -> TRUE | AD11: =Y11=K11 -> TRUE | AE11: =Z11=L11 -> TRUE | AF11: =AA11=M11 -> TRUE
A12: Rīga | B12: 10064120 | C12: Veselības centru apvienība, AS | D12: AP90 - Rehabilitācija ambulatori pieaugušajiem, kas pārslimojuši Covid-19 | E12: 1508.1 | G12: Rīga | H12: 10001535 | I12: Rīgas veselības centrs, SIA | J12: 65.97 | K12: 2677.85 | L12: 12225.79 | M12: 0 | O12: Rīga | P12: 10064120 | Q12: Veselības centru apvienība, AS | R12: AP91 - Rehabilitācija dienas stacionārā pieaugušajiem, kas pārslimojuši Covid-19 | S12: 15907.73 | U12: Rīga | V12: 10001535 | W12: Rīgas veselības centrs, SIA | X12: 65.97 | Y12: 2677.85 | Z12: 12225.79 | AA12: 0 | AB12: =W12=I12 -> TRUE | AC12: =X12=J12 -> TRUE | AD12: =Y12=K12 -> TRUE | AE12: =Z12=L12 -> TRUE | AF12: =AA12=M12 -> TRUE
A13: Rīga | B13: 10064120 | C13: Veselības centru apvienība, AS | D13: AP91 - Rehabilitācija dienas stacionārā pieaugušajiem, kas pārslimojuši Covid-19 | E13: 15907.73 | G13: Rīga | H13: 10020301 | I13: Rīgas 1. slimnīca, SIA | J13: 0 | K13: 510.07 | L13: 17588.6 | M13: 0 | O13: Rīga | P13: 10064120 | Q13: Veselības centru apvienība, AS | R13: AP89 - Rehabilitācija ambulatori bērniem, kas pārslimojuši Covid-19 | S13: 340.12 | U13: Rīga | V13: 10020301 | W13: Rīgas 1. slimnīca, SIA | X13: 0 | Y13: 510.07 | Z13: 17588.6 | AA13: 0 | AB13: =W13=I13 -> TRUE | AC13: =X13=J13 -> TRUE | AD13: =Y13=K13 -> TRUE | AE13: =Z13=L13 -> TRUE | AF13: =AA13=M13 -> TRUE
A14: Rīga | B14: 10064120 | C14: Veselības centru apvienība, AS | D14: AP89 - Rehabilitācija ambulatori bērniem, kas pārslimojuši Covid-19 | E14: 340.12 | G14: Rīga | H14: 10064120 | I14: Veselības centru apvienība, AS | J14: 340.12 | K14: 4856.56 | L14: 58741.36 | M14: 0 | O14: Rīga | P14: 10064120 | Q14: Veselības centru apvienība, AS | R14: AP90 - Rehabilitācija ambulatori pieaugušajiem, kas pārslimojuši Covid-19 | S14: 3326.27 | U14: Rīga | V14: 10064120 | W14: Veselības centru apvienība, AS | X14: 340.12 | Y14: 4856.56 | Z14: 58741.36 | AA14: 0 | AB14: =W14=I14 -> TRUE | AC14: =X14=J14 -> TRUE | AD14: =Y14=K14 -> TRUE | AE14: =Z14=L14 -> TRUE | AF14: =AA14=M14 -> TRUE
A15: Rīga | B15: 10064120 | C15: Veselības centru apvienība, AS | D15: AP90 - Rehabilitācija ambulatori pieaugušajiem, kas pārslimojuši Covid-19 | E15: 3326.27 | G15: Rīga | H15: 19362601 | I15: Protezēšanas un ortopēdijas centrs, Akciju sabiedrība | J15: 0 | K15: 0 | L15: 29076.93 | M15: 0 | O15: Rīga | P15: 10064120 | Q15: Veselības centru apvienība, AS | R15: AP91 - Rehabilitācija dienas stacionārā pieaugušajiem, kas pārslimojuši Covid-19 | S15: 42399.33 | U15: Rīga | V15: 19362601 | W15: Protezēšanas un ortopēdijas centrs, Akciju sabiedrība | X15: 0 | Y15: 0 | Z15: 29076.93 | AA15: 0 | AB15: =W15=I15 -> TRUE | AC15: =X15=J15 -> TRUE | AD15: =Y15=K15 -> TRUE | AE15: =Z15=L15 -> TRUE | AF15: =AA15=M15 -> TRUE
... A27: Latgale | B27: 680200030 | C27: Ludzas medicīnas centrs, Sabiedrība ar ierobežotu atbildību | D27: AP90 - Rehabilitācija ambulatori pieaugušajiem, kas pārslimojuši Covid-19 | E27: 259.36 | G27: Zemgale | H27: 740200008 | I27: Ogres rajona slimnīca, Sabiedrība ar ierobežotu atbildību | J27: 0 | K27: 379.06 | L27: 0 | M27: 0 | O27: Rīga | P27: 10020301 | Q27: Rīgas 1. slimnīca, SIA | R27: AP90 - Rehabilitācija ambulatori pieaugušajiem, kas pārslimojuši Covid-19 | S27: 318.57 | U27: Zemgale | V27: 740200008 | W27: Ogres rajona slimnīca, Sabiedrība ar ierobežotu atbildību | X27: 0 | Y27: 379.06 | Z27: 0 | AA27: 0 | AB27: =W27=I27 -> TRUE | AC27: =X27=J27 -> TRUE | AD27: =Y27=K27 -> TRUE | AE27: =Z27=L27 -> TRUE | AF27: =AA27=M27 -> TRUE
A28: Rīga | B28: 10020301 | C28: Rīgas 1. slimnīca, SIA | D28: AP90 - Rehabilitācija ambulatori pieaugušajiem, kas pārslimojuši Covid-19 | E28: 318.57 | J28: =SUM(J4:J27) -> 1477.46 | K28: =SUM(K4:K27) -> 22533.03 | L28: =SUM(L4:L27) -> 170889.98 | M28: =SUM(M4:M27) -> 3003.42 | O28: Rīga | P28: 10020301 | Q28: Rīgas 1. slimnīca, SIA | R28: AP91 - Rehabilitācija dienas stacionārā pieaugušajiem, kas pārslimojuši Covid-19 | S28: 15850.7
A29: Rīga | B29: 10020301 | C29: Rīgas 1. slimnīca, SIA | D29: AP91 - Rehabilitācija dienas stacionārā pieaugušajiem, kas pārslimojuši Covid-19 | E29: 15850.7 | O29: Rīga | P29: 10020301 | Q29: Rīgas 1. slimnīca, SIA | R29: AP91 - Rehabilitācija dienas stacionārā pieaugušajiem, kas pārslimojuši Covid-19 | S29: 868.6
A30: Rīga | B30: 10020301 | C30: Rīgas 1. slimnīca, SIA | D30: AP91 - Rehabilitācija dienas stacionārā pieaugušajiem, kas pārslimojuši Covid-19 | E30: 868.6 | O30: Rīga | P30: 10020301 | Q30: Rīgas 1. slimnīca, SIA | R30: AP90 - Rehabilitācija ambulatori pieaugušajiem, kas pārslimojuši Covid-19 | S30: 191.5
A31: Rīga | B31: 10020301 | C31: Rīgas 1. slimnīca, SIA | D31: AP90 - Rehabilitācija ambulatori pieaugušajiem, kas pārslimojuši Covid-19 | E31: 191.5 | O31: Rīga | P31: 10020301 | Q31: Rīgas 1. slimnīca, SIA | R31: AP91 - Rehabilitācija dienas stacionārā pieaugušajiem, kas pārslimojuši Covid-19 | S31: 869.3
A32: Rīga | B32: 10020301 | C32: Rīgas 1. slimnīca, SIA | D32: AP91 - Rehabilitācija dienas stacionārā pieaugušajiem, kas pārslimojuši Covid-19 | E32: 869.3 | O32: Vidzeme | P32: 421200001 | Q32: Rehabilitācijas centrs "Līgatne", SIA | R32: AP91 - Rehabilitācija dienas stacionārā pieaugušajiem, kas pārslimojuši Covid-19 | S32: 4740.26
A33: Vidzeme | B33: 421200001 | C33: Rehabilitācijas centrs "Līgatne", SIA | D33: AP91 - Rehabilitācija dienas stacionārā pieaugušajiem, kas pārslimojuši Covid-19 | E33: 4740.26 | O33: Vidzeme | P33: 421200001 | Q33: Rehabilitācijas centrs "Līgatne", SIA | R33: AP91 - Rehabilitācija dienas stacionārā pieaugušajiem, kas pārslimojuši Covid-19 | S33: 1311.57
A34: Vidzeme | B34: 421200001 | C34: Rehabilitācijas centrs "Līgatne", SIA | D34: AP91 - Rehabilitācija dienas stacionārā pieaugušajiem, kas pārslimojuši Covid-19 | E34: 1311.57 | O34: Vidzeme | P34: 421200001 | Q34: Rehabilitācijas centrs "Līgatne", SIA | R34: AP91 - Rehabilitācija dienas stacionārā pieaugušajiem, kas pārslimojuši Covid-19 | S34: 4438.46
A35: Vidzeme | B35: 421200001 | C35: Rehabilitācijas centrs "Līgatne", SIA | D35: AP91 - Rehabilitācija dienas stacionārā pieaugušajiem, kas pārslimojuši Covid-19 | E35: 4438.46 | O35: Rīga | P35: 130013001 | Q35: Nacionālais rehabilitācijas centrs "Vaivari", Valsts sabiedrība ar ierobežotu atbildību | R35: AP90 - Rehabilitācija ambulatori pieaugušajiem, kas pārslimojuši Covid-19 | S35: 147.12
A36: Rīga | B36: 130013001 | C36: Nacionālais rehabilitācijas centrs "Vaivari", Valsts sabiedrība ar ierobežotu atbildību | D36: AP90 - Rehabilitācija ambulatori pieaugušajiem, kas pārslimojuši Covid-19 | E36: 147.12 | O36: Rīga | P36: 130013001 | Q36: Nacionālais rehabilitācijas centrs "Vaivari", Valsts sabiedrība ar ierobežotu atbildību | R36: AP91 - Rehabilitācija dienas stacionārā pieaugušajiem, kas pārslimojuši Covid-19 | S36: 2859.6
A37: Rīga | B37: 130013001 | C37: Nacionālais rehabilitācijas centrs "Vaivari", Valsts sabiedrība ar ierobežotu atbildību | D37: AP91 - Rehabilitācija dienas stacionārā pieaugušajiem, kas pārslimojuši Covid-19 | E37: 2859.6 | O37: Rīga | P37: 130013001 | Q37: Nacionālais rehabilitācijas centrs "Vaivari", Valsts sabiedrība ar ierobežotu atbildību | R37: AP89 - Rehabilitācija ambulatori bērniem, kas pārslimojuši Covid-19 | S37: 127.3
A38: Rīga | B38: 130013001 | C38: Nacionālais rehabilitācijas centrs "Vaivari", Valsts sabiedrība ar ierobežotu atbildību | D38: AP89 - Rehabilitācija ambulatori bērniem, kas pārslimojuši Covid-19 | E38: 127.3 | O38: Rīga | P38: 130013001 | Q38: Nacionālais rehabilitācijas centrs "Vaivari", Valsts sabiedrība ar ierobežotu atbildību | R38: AP90 - Rehabilitācija ambulatori pieaugušajiem, kas pārslimojuši Covid-19 | S38: 1632.79
A39: Rīga | B39: 130013001 | C39: Nacionālais rehabilitācijas centrs "Vaivari", Valsts sabiedrība ar ierobežotu atbildību | D39: AP90 - Rehabilitācija ambulatori pieaugušajiem, kas pārslimojuši Covid-19 | E39: 1632.79 | O39: Rīga | P39: 130013001 | Q39: Nacionālais rehabilitācijas centrs "Vaivari", Valsts sabiedrība ar ierobežotu atbildību | R39: AP91 - Rehabilitācija dienas stacionārā pieaugušajiem, kas pārslimojuši Covid-19 | S39: 9532
A40: Rīga | B40: 130013001 | C40: Nacionālais rehabilitācijas centrs "Vaivari", Valsts sabiedrība ar ierobežotu atbildību | D40: AP91 - Rehabilitācija dienas stacionārā pieaugušajiem, kas pārslimojuši Covid-19 | E40: 9532 | O40: Rīga | P40: 130013001 | Q40: Nacionālais rehabilitācijas centrs "Vaivari", Valsts sabiedrība ar ierobežotu atbildību | R40: AP90 - Rehabilitācija ambulatori pieaugušajiem, kas pārslimojuši Covid-19 | S40: 19.46
... A61: Rīga | B61: 130064003 | C61: SANARE-KRC JAUNĶEMERI, Sabiedrība ar ierobežotu atbildību | D61: AP91 - Rehabilitācija dienas stacionārā pieaugušajiem, kas pārslimojuši Covid-19 | E61: 6051.3 | O61: Rīga | P61: 130064003 | Q61: SANARE-KRC JAUNĶEMERI, Sabiedrība ar ierobežotu atbildību | R61: AP89 - Rehabilitācija ambulatori bērniem, kas pārslimojuši Covid-19 | S61: 327.91
A62: Rīga | B62: 130064003 | C62: SANARE-KRC JAUNĶEMERI, Sabiedrība ar ierobežotu atbildību | D62: AP89 - Rehabilitācija ambulatori bērniem, kas pārslimojuši Covid-19 | E62: 327.91

Sheet novembris pārbaudes1
A1: TN | B1: Iest. kods | C1: Iestāde | D1: Nosaukums | E1: Skaits | F1: Veiktais darbs | G1: Pacienta maksājums kopā | H1: Maksa par pakalpojumiem | I1: Pacienta iemaksa par atbrīvotajām kategorijām | J1: Pacienta maks.iemaksa | K1: Kopā apmaksai | M1: Sum of Kopā apmaksai | O1: Nosaukums
A2: Kurzeme | B2: 880200016 | C2: TALSU VESELĪBAS CENTRS, SIA | D2: AP90 - Rehabilitācija ambulatori pieaugušajiem, kas pārslimojuši Covid-19 | E2: 138 | F2: 2318.99 | G2: 20 | H2: 2298.99 | I2: 0 | J2: 20 | K2: 2298.99 | M2: Iest. kods | N2: Iestāde | O2: AP89 - Rehabilitācija ambulatori bērniem, kas pārslimojuši Covid-19 | P2: AP90 - Rehabilitācija ambulatori pieaugušajiem, kas pārslimojuši Covid-19 | Q2: AP91 - Rehabilitācija dienas stacionārā pieaugušajiem, kas pārslimojuši Covid-19 | R2: AP92 - Rehabilitācija dienas stacionārā bērniem, kas pārslimojuši Covid-19
A3: Kurzeme | B3: 880200016 | C3: TALSU VESELĪBAS CENTRS, SIA | D3: AP90 - Rehabilitācija ambulatori pieaugušajiem, kas pārslimojuši Covid-19 | E3: 12 | F3: 31.76 | G3: 0 | H3: 31.76 | I3: 0 | J3: 0 | K3: 31.76 | L3: =VLOOKUP(M3,Ambulat_rehab_un_dienas_stac!$B$5:$B$42,1,0) -> 880200016 | M3: 880200016 | N3: TALSU VESELĪBAS CENTRS, SIA | P3: 2330.75
A4: Kurzeme | B4: 880200016 | C4: TALSU VESELĪBAS CENTRS, SIA | D4: AP90 - Rehabilitācija ambulatori pieaugušajiem, kas pārslimojuši Covid-19 | E4: 12 | F4: 0 | G4: 0 | H4: 0 | I4: 0 | J4: 0 | K4: 0 | L4: =VLOOKUP(M4,Ambulat_rehab_un_dienas_stac!$B$5:$B$42,1,0) -> 460200036 | M4: 460200036 | N4: Dobeles un apkārtnes slimnīca, SIA | P4: 399.66 | Q4: 5369.76
A5: Zemgale | B5: 460200036 | C5: Dobeles un apkārtnes slimnīca, SIA | D5: AP90 - Rehabilitācija ambulatori pieaugušajiem, kas pārslimojuši Covid-19 | E5: 12 | F5: 236.2 | G5: 12 | H5: 224.2 | I5: 0 | J5: 12 | K5: 224.2 | L5: =VLOOKUP(M5,Ambulat_rehab_un_dienas_stac!$B$5:$B$42,1,0) -> 740200008 | M5: 740200008 | N5: Ogres rajona slimnīca, Sabiedrība ar ierobežotu atbildību | P5: 364.35
A6: Zemgale | B6: 460200036 | C6: Dobeles un apkārtnes slimnīca, SIA | D6: AP91 - Rehabilitācija dienas stacionārā pieaugušajiem, kas pārslimojuši Covid-19 | E6: 14 | F6: 1060.32 | G6: 84 | H6: 976.32 | I6: 0 | J6: 84 | K6: 976.32 | L6: =VLOOKUP(M6,Ambulat_rehab_un_dienas_stac!$B$5:$B$42,1,0) -> 601000001 | M6: 601000001 | N6: Krāslavas novada Veselības un sociālo pakalpojumu centrs "Dagda" | P6: 1073.28
A7: Zemgale | B7: 460200036 | C7: Dobeles un apkārtnes slimnīca, SIA | D7: AP90 - Rehabilitācija ambulatori pieaugušajiem, kas pārslimojuši Covid-19 | E7: 25 | F7: 203.46 | G7: 32 | H7: 171.46 | I7: 4 | J7: 28 | K7: 175.46 | L7: =VLOOKUP(M7,Ambulat_rehab_un_dienas_stac!$B$5:$B$42,1,0) -> 90000026 | M7: 90000026 | N7: Zemgales veselības centrs, Sabiedrība ar ierobežotu atbildību | O7: 781.19 | P7: 2172.53
A8: Zemgale | B8: 460200036 | C8: Dobeles un apkārtnes slimnīca, SIA | D8: AP91 - Rehabilitācija dienas stacionārā pieaugušajiem, kas pārslimojuši Covid-19 | E8: 15 | F8: 4771.44 | G8: 378 | H8: 4393.44 | I8: 0 | J8: 378 | K8: 4393.44 | L8: =VLOOKUP(M8,Ambulat_rehab_un_dienas_stac!$B$5:$B$42,1,0) -> 400200024 | M8: 400200024 | N8: Bauskas slimnīca, SIA | P8: 470.54
A9: Zemgale | B9: 740200008 | C9: Ogres rajona slimnīca, Sabiedrība ar ierobežotu atbildību | D9: AP90 - Rehabilitācija ambulatori pieaugušajiem, kas pārslimojuši Covid-19 | E9: 10 | F9: 364.35 | G9: 0 | H9: 364.35 | I9: 0 | J9: 0 | K9: 364.35 | L9: =VLOOKUP(M9,Ambulat_rehab_un_dienas_stac!$B$5:$B$42,1,0) -> 801600003 | M9: 801600003 | N9: Siguldas slimnīca, SIA | O9: 66.66 | P9: 1581.98
A10: Latgale | B10: 601000001 | C10: Krāslavas novada Veselības un sociālo pakalpojumu centrs "Dagda" | D10: AP90 - Rehabilitācija ambulatori pieaugušajiem, kas pārslimojuši Covid-19 | E10: 34 | F10: 1073.28 | G10: 0 | H10: 1073.28 | I10: 0 | J10: 0 | K10: 1073.28 | L10: =VLOOKUP(M10,Ambulat_rehab_un_dienas_stac!$B$5:$B$42,1,0) -> 801600004 | M10: 801600004 | N10: REHABILITĀCIJAS CENTRS "KRIMULDA", Sabiedrība ar ierobežotu atbildību | P10: 122.85
A11: Zemgale | B11: 90000026 | C11: Zemgales veselības centrs, Sabiedrība ar ierobežotu atbildību | D11: AP89 - Rehabilitācija ambulatori bērniem, kas pārslimojuši Covid-19 | E11: 23 | F11: 648.34 | G11: 0 | H11: 648.34 | I11: 0 | J11: 0 | K11: 648.34 | L11: =VLOOKUP(M11,Ambulat_rehab_un_dienas_stac!$B$5:$B$42,1,0) -> 806012001 | M11: 806012001 | N11: Balt Aliance, Sabiedrība ar ierobežotu atbildību | P11: 803.81 | Q11: 2084.64 | R11: 187.72
A12: Zemgale | B12: 90000026 | C12: Zemgales veselības centrs, Sabiedrība ar ierobežotu atbildību | D12: AP90 - Rehabilitācija ambulatori pieaugušajiem, kas pārslimojuši Covid-19 | E12: 68 | F12: 1457.1 | G12: 64 | H12: 1393.1 | I12: 0 | J12: 64 | K12: 1393.1 | L12: =VLOOKUP(M12,Ambulat_rehab_un_dienas_stac!$B$5:$B$42,1,0) -> 10064111 | M12: 10064111 | N12: Dziedniecība, Sabiedrība ar ierobežotu atbildību | Q12: 1835.12
A13: Zemgale | B13: 90000026 | C13: Zemgales veselības centrs, Sabiedrība ar ierobežotu atbildību | D13: AP89 - Rehabilitācija ambulatori bērniem, kas pārslimojuši Covid-19 | E13: 11 | F13: 132.85 | G13: 0 | H13: 132.85 | I13: 0 | J13: 0 | K13: 132.85 | L13: =VLOOKUP(M13,Ambulat_rehab_un_dienas_stac!$B$5:$B$42,1,0) -> 440800015 | M13: 440800015 | N13: AIJAS JASEVIČAS FIZIOTERAPIJAS PRAKSE, Individuālais komersants | O13: 753.78 | P13: 4378.78
A14: Zemgale | B14: 90000026 | C14: Zemgales veselības centrs, Sabiedrība ar ierobežotu atbildību | D14: AP90 - Rehabilitācija ambulatori pieaugušajiem, kas pārslimojuši Covid-19 | E14: 33 | F14: 783.43 | G14: 4 | H14: 779.43 | I14: 0 | J14: 4 | K14: 779.43 | L14: =VLOOKUP(M14,Ambulat_rehab_un_dienas_stac!$B$5:$B$42,1,0) -> 50000018 | M14: 50000018 | N14: Jakovļeva Olga - fizioterapeita prakse | P14: 5869.87
A15: Zemgale | B15: 400200024 | C15: Bauskas slimnīca, SIA | D15: AP90 - Rehabilitācija ambulatori pieaugušajiem, kas pārslimojuši Covid-19 | E15: 16 | F15: 486.54 | G15: 16 | H15: 470.54 | I15: 0 | J15: 16 | K15: 470.54 | L15: =VLOOKUP(M15,Ambulat_rehab_un_dienas_stac!$B$5:$B$42,1,0) -> 468900005 | M15: 468900005 | N15: Rehabilitācijas centrs "Tērvete", Sabiedrība ar ierobežotu atbildību | Q15: 10182.82
A16: Rīga | B16: 801600003 | C16: Siguldas slimnīca, SIA | D16: AP89 - Rehabilitācija ambulatori bērniem, kas pārslimojuši Covid-19 | E16: 4 | F16: 66.66 | G16: 0 | H16: 66.66 | I16: 0 | J16: 0 | K16: 66.66 | L16: =VLOOKUP(M16,Ambulat_rehab_un_dienas_stac!$B$5:$B$42,1,0) -> 90065207 | M16: 90065207 | N16: FITOSAN PLUS, Medicīnas centrs SIA | P16: 36.78 | Q16: 3144.77
A17: Rīga | B17: 801600003 | C17: Siguldas slimnīca, SIA | D17: AP90 - Rehabilitācija ambulatori pieaugušajiem, kas pārslimojuši Covid-19 | E17: 76 | F17: 1142.35 | G17: 52 | H17: 1090.35 | I17: 4 | J17: 48 | K17: 1094.35 | L17: =VLOOKUP(M17,Ambulat_rehab_un_dienas_stac!$B$5:$B$42,1,0) -> 90024101 | M17: 90024101 | N17: Jelgavas poliklīnika, SIA | P17: 191.84
A18: Rīga | B18: 801600003 | C18: Siguldas slimnīca, SIA | D18: AP90 - Rehabilitācija ambulatori pieaugušajiem, kas pārslimojuši Covid-19 | E18: 110 | F18: 487.63 | G18: 0 | H18: 487.63 | I18: 0 | J18: 0 | K18: 487.63 | L18: =VLOOKUP(M18,Ambulat_rehab_un_dienas_stac!$B$5:$B$42,1,0) -> 10020301 | M18: 10020301 | N18: Rīgas 1. slimnīca, SIA | O18: 75.34 | P18: 5042.46 | Q18: 10423.2
A19: Rīga | B19: 801600004 | C19: REHABILITĀCIJAS CENTRS "KRIMULDA", Sabiedrība ar ierobežotu atbildību | D19: AP90 - Rehabilitācija ambulatori pieaugušajiem, kas pārslimojuši Covid-19 | E19: 5 | F19: 126.85 | G19: 4 | H19: 122.85 | I19: 0 | J19: 4 | K19: 122.85 | L19: =VLOOKUP(M19,Ambulat_rehab_un_dienas_stac!$B$5:$B$42,1,0) -> 10000234 | M19: 10000234 | N19: Rīgas Austrumu klīniskā universitātes slimnīca, SIA | Q19: 6604.12
A20: Rīga | B20: 806012001 | C20: Balt Aliance, Sabiedrība ar ierobežotu atbildību | D20: AP90 - Rehabilitācija ambulatori pieaugušajiem, kas pārslimojuši Covid-19 | E20: 53 | F20: 863.81 | G20: 60 | H20: 803.81 | I20: 0 | J20: 60 | K20: 803.81 | L20: =VLOOKUP(M20,Ambulat_rehab_un_dienas_stac!$B$5:$B$42,1,0) -> 50000042 | M20: 50000042 | N20: Fizioterapijas kabinets VALE, IK | P20: 1345.68
A21: Rīga | B21: 806012001 | C21: Balt Aliance, Sabiedrība ar ierobežotu atbildību | D21: AP91 - Rehabilitācija dienas stacionārā pieaugušajiem, kas pārslimojuši Covid-19 | E21: 9 | F21: 2252.64 | G21: 168 | H21: 2084.64 | I21: 0 | J21: 168 | K21: 2084.64 | L21: =VLOOKUP(M21,Ambulat_rehab_un_dienas_stac!$B$5:$B$42,1,0) -> 600200001 | M21: 600200001 | N21: Krāslavas slimnīca, Sabiedrība ar ierobežotu atbildību | O21: 165.4
A22: Rīga | B22: 806012001 | C22: Balt Aliance, Sabiedrība ar ierobežotu atbildību | D22: AP92 - Rehabilitācija dienas stacionārā bērniem, kas pārslimojuši Covid-19 | E22: 6 | F22: 187.72 | G22: 14 | H22: 173.72 | I22: 14 | J22: 0 | K22: 187.72 | L22: =VLOOKUP(M22,Ambulat_rehab_un_dienas_stac!$B$5:$B$42,1,0) -> 50020401 | M22: 50020401 | N22: Daugavpils reģionālā slimnīca, Sabiedrība ar ierobežotu atbildību | P22: 570.82 | Q22: 14044.71
A23: Rīga | B23: 10064111 | C23: Dziedniecība, Sabiedrība ar ierobežotu atbildību | D23: AP91 - Rehabilitācija dienas stacionārā pieaugušajiem, kas pārslimojuši Covid-19 | E23: 10 | F23: 1905.12 | G23: 140 | H23: 1765.12 | I23: 70 | J23: 70 | K23: 1835.12 | L23: =VLOOKUP(M23,Ambulat_rehab_un_dienas_stac!$B$5:$B$42,1,0) -> 760200002 | M23: 760200002 | N23: Preiļu slimnīca, Sabiedrība ar ierobežotu atbildību | P23: 886.66 | Q23: 2440.8
A24: Latgale | B24: 440800015 | C24: AIJAS JASEVIČAS FIZIOTERAPIJAS PRAKSE, Individuālais komersants | D24: AP89 - Rehabilitācija ambulatori bērniem, kas pārslimojuši Covid-19 | E24: 15 | F24: 753.78 | G24: 0 | H24: 753.78 | I24: 0 | J24: 0 | K24: 753.78 | L24: =VLOOKUP(M24,Ambulat_rehab_un_dienas_stac!$B$5:$B$42,1,0) -> 680200030 | M24: 680200030 | N24: Ludzas medicīnas centrs, Sabiedrība ar ierobežotu atbildību | P24: 564
A25: Latgale | B25: 440800015 | C25: AIJAS JASEVIČAS FIZIOTERAPIJAS PRAKSE, Individuālais komersants | D25: AP90 - Rehabilitācija ambulatori pieaugušajiem, kas pārslimojuši Covid-19 | E25: 152 | F25: 4482.78 | G25: 104 | H25: 4378.78 | I25: 0 | J25: 104 | K25: 4378.78 | L25: =VLOOKUP(M25,Ambulat_rehab_un_dienas_stac!$B$5:$B$42,1,0) -> 130064003 | M25: 130064003 | N25: SANARE-KRC JAUNĶEMERI, Sabiedrība ar ierobežotu atbildību | P25: 5576.35 | Q25: 56176.14 | R25: 4789.04
A26: Latgale | B26: 50000018 | C26: Jakovļeva Olga - fizioterapeita prakse | D26: AP90 - Rehabilitācija ambulatori pieaugušajiem, kas pārslimojuši Covid-19 | E26: 170 | F26: 6017.87 | G26: 148 | H26: 5869.87 | I26: 0 | J26: 148 | K26: 5869.87 | L26: =VLOOKUP(M26,Ambulat_rehab_un_dienas_stac!$B$5:$B$42,1,0) -> 130013001 | M26: 130013001 | N26: Nacionālais rehabilitācijas centrs "Vaivari", Valsts sabiedrība ar ierobežotu atbildību | O26: 178.42 | P26: 1169.99 | Q26: 4747.1
A27: Zemgale | B27: 468900005 | C27: Rehabilitācijas centrs "Tērvete", Sabiedrība ar ierobežotu atbildību | D27: AP91 - Rehabilitācija dienas stacionārā pieaugušajiem, kas pārslimojuši Covid-19 | E27: 3 | F27: 862.56 | G27: 56 | H27: 806.56 | I27: 0 | J27: 56 | K27: 806.56 | L27: =VLOOKUP(M27,Ambulat_rehab_un_dienas_stac!$B$5:$B$42,1,0) -> 10001535 | M27: 10001535 | N27: Rīgas veselības centrs, SIA | O27: 158.82 | P27: 6435.72 | Q27: 20973.62 | R27: 844.74
A28: Zemgale | B28: 468900005 | C28: Rehabilitācijas centrs "Tērvete", Sabiedrība ar ierobežotu atbildību | D28: AP91 - Rehabilitācija dienas stacionārā pieaugušajiem, kas pārslimojuši Covid-19 | E28: 6 | F28: 1940.76 | G28: 126 | H28: 1814.76 | I28: 0 | J28: 126 | K28: 1814.76 | L28: =VLOOKUP(M28,Ambulat_rehab_un_dienas_stac!$B$5:$B$42,1,0) -> 250000087 | M28: 250000087 | N28: VALMIERAS VESELĪBAS CENTRS, SIA | O28: 77.71 | P28: 910.74
A29: Zemgale | B29: 468900005 | C29: Rehabilitācijas centrs "Tērvete", Sabiedrība ar ierobežotu atbildību | D29: AP91 - Rehabilitācija dienas stacionārā pieaugušajiem, kas pārslimojuši Covid-19 | E29: 24 | F29: 8086.5 | G29: 525 | H29: 7561.5 | I29: 0 | J29: 525 | K29: 7561.5 | L29: =VLOOKUP(M29,Ambulat_rehab_un_dienas_stac!$B$5:$B$42,1,0) -> 421200001 | M29: 421200001 | N29: Rehabilitācijas centrs "Līgatne", SIA | P29: 146.8 | Q29: 9256.82
A30: Zemgale | B30: 90065207 | C30: FITOSAN PLUS, Medicīnas centrs SIA | D30: AP90 - Rehabilitācija ambulatori pieaugušajiem, kas pārslimojuši Covid-19 | E30: 2 | F30: 22.39 | G30: 4 | H30: 18.39 | I30: 0 | J30: 4 | K30: 18.39 | L30: =VLOOKUP(M30,Ambulat_rehab_un_dienas_stac!$B$5:$B$42,1,0) -> 420200052 | M30: 420200052 | N30: CĒSU KLĪNIKA, Sabiedrība ar ierobežotu atbildību | P30: 207.06
A31: Zemgale | B31: 90065207 | C31: FITOSAN PLUS, Medicīnas centrs SIA | D31: AP90 - Rehabilitācija ambulatori pieaugušajiem, kas pārslimojuši Covid-19 | E31: 2 | F31: 22.39 | G31: 4 | H31: 18.39 | I31: 0 | J31: 4 | K31: 18.39 | L31: =VLOOKUP(M31,Ambulat_rehab_un_dienas_stac!$B$5:$B$42,1,0) -> 19362601 | M31: 19362601 | N31: Protezēšanas un ortopēdijas centrs, Akciju sabiedrība | Q31: 37138.52 | R31: 1517.12
A32: Zemgale | B32: 90065207 | C32: FITOSAN PLUS, Medicīnas centrs SIA | D32: AP91 - Rehabilitācija dienas stacionārā pieaugušajiem, kas pārslimojuši Covid-19 | E32: 15 | F32: 2453.63 | G32: 182 | H32: 2271.63 | I32: 0 | J32: 182 | K32: 2271.63 | L32: =VLOOKUP(M32,Ambulat_rehab_un_dienas_stac!$B$5:$B$42,1,0) -> 801200001 | M32: 801200001 | N32: Salaspils veselības centrs, Sabiedrība ar ierobežotu atbildību | O32: 141.31 | P32: 2205.24
A33: Zemgale | B33: 90065207 | C33: FITOSAN PLUS, Medicīnas centrs SIA | D33: AP91 - Rehabilitācija dienas stacionārā pieaugušajiem, kas pārslimojuši Covid-19 | E33: 4 | F33: 943.14 | G33: 70 | H33: 873.14 | I33: 0 | J33: 70 | K33: 873.14 | L33: =VLOOKUP(M33,Ambulat_rehab_un_dienas_stac!$B$5:$B$42,1,0) -> 10064120 | M33: 10064120 | N33: Veselības centru apvienība, AS | P33: 4122.79 | Q33: 12240.68
A34: Zemgale | B34: 90024101 | C34: Jelgavas poliklīnika, SIA | D34: AP90 - Rehabilitācija ambulatori pieaugušajiem, kas pārslimojuši Covid-19 | E34: 4 | F34: 33.5 | G34: 0 | H34: 33.5 | I34: 0 | J34: 0 | K34: 33.5 | L34: =VLOOKUP(M34,Ambulat_rehab_un_dienas_stac!$B$5:$B$42,1,0) -> 170020401 | M34: 170020401 | N34: LIEPĀJAS REĢIONĀLĀ SLIMNĪCA, Sabiedrība ar ierobežotu atbildību | P34: 51.26 | Q34: 4184.48
A35: Zemgale | B35: 90024101 | C35: Jelgavas poliklīnika, SIA | D35: AP90 - Rehabilitācija ambulatori pieaugušajiem, kas pārslimojuši Covid-19 | E35: 8 | F35: 158.34 | G35: 0 | H35: 158.34 | I35: 0 | J35: 0 | K35: 158.34 | L35: =VLOOKUP(M35,Ambulat_rehab_un_dienas_stac!$B$5:$B$42,1,0) -> #N/A
A36: Rīga | B36: 10020301 | C36: Rīgas 1. slimnīca, SIA | D36: AP90 - Rehabilitācija ambulatori pieaugušajiem, kas pārslimojuši Covid-19 | E36: 3 | F36: 26.19 | G36: 4 | H36: 22.19 | I36: 0 | J36: 4 | K36: 22.19 | L36: =VLOOKUP(M36,Ambulat_rehab_un_dienas_stac!$B$5:$B$42,1,0) -> #N/A
