Workbook

Sheet Dibinātājs
A3: Privāto izglītības iestāžu pārskats par finansējuma pieprasījumu Ukrainas civiliedzīvotāju izglītības nodrošināšanai no 28.03.2022. līdz 30.06.2022.
A5: Nr.p.k. | B5: Dibinātājs | C5: Pedagogu darba samaksa | G5: Mācību līdzekļu nodrošināšana | J5: Ukrainas civiliedzīvotāju ēdināšanas pakalpojumi izglītojamajiem, kuri izglītības iestādēs klātienē apgūst pamatizglītības programmas 1., 2., 3. un 4. klasē, laikposmā no 2022. gada 23. maija līdz 2022. gada 31. maijam | N5: Kopējie faktiskie izdevumi, kas attiecināmi uz pārskata mēnesi
C6: Unikālais izglītojamo skaits pārskata mēnesī ar VIIS reģistrēto apakšstatusu "Ukrainas civiliedzīvotājs" | D6: Kopējais summētais darba dienu skaits pārskata mēnesī izglītojamiem ar VIIS reģistrēto apakšstatusu "Ukrainas civiliedzīvotājs" (cilvēkdienas) | E6: Maksimālais iespējamais izdevumu kompensācijas apmērs | F6: Faktiskie izdevumi pedagogu darba samaksai pārskata mēnesī | G6: Pirmreizēji VIIS reģistrēto izglītojamo skaits pārskata mēnesī ar apakšstatusu "Ukrainas civiliedzīvotājs" | H6: Maksimālais iespējamais izdevumu kompensācijas apmērs mācību līdzekļu iegādei | I6: Faktiskie izdevumi mācību līdzekļu iegādei pārskata mēnesī | J6: Izglītojamo skaits pārskata mēnesī ar VIIS reģistrēto apakšstatusu "Ukrainas civiliedzīvotājs," kurš izmitināts pie privātpersonām | K6: Kopējais summētais darba dienu skaits pārskata mēnesī izglītojamiem ar VIIS reģistrēto apakšstatusu "Ukrainas civiliedzīvotājs" (cilvēkdienas) | L6: Maksimālais iespējamais izdevumu kompensācijas apmērs izglītojamo ēdināšanai | M6: Faktiskie ēdināšanas pakalpojumi pārskata mēnesī
H7: 50 | L7: 1.42
B8: KOPĀ | C8: =SUM(C9:C16) -> 66 | D8: =SUM(D9:D16) -> 788 | E8: =SUM(E9:E16) -> 10022.15 | F8: =SUM(F9:F16) -> 10022.15 | G8: =SUM(G9:G16) -> 13 | H8: =SUM(H9:H16) -> 650 | I8: =SUM(I9:I16) -> 600 | J8: =SUM(J9:J16) -> 1 | ... N8: =SUM(N9:N16) -> 10632.09
A9: 1 | B9: "ALINVEST" SIA | C9: =+'aprēķins pedag. darba samaksai'!Q10 -> 8 | D9: =+'aprēķins pedag. darba samaksai'!R10 -> 108 | E9: =+'aprēķins pedag. darba samaksai'!S10 -> 1374.39 | F9: 1374.39 | G9: 2 | H9: =+G9*$H$7 -> 100 | I9: 100 | J9: 0 | K9: 0 | L9: =+K9*$L$7 -> 0 | M9: 0 | N9: =+M9+I9+F9 -> 1474.39
A10: 2 | B10: Biedrība "Rīgas Starptautiskā skola" | C10: =+'aprēķins pedag. darba samaksai'!Q11 -> 8 | D10: =+'aprēķins pedag. darba samaksai'!R11 -> 100 | E10: =+'aprēķins pedag. darba samaksai'!S11 -> 1268.63 | F10: 1268.63 | G10: 3 | H10: =+G10*$H$7 -> 150 | I10: 150 | J10: 0 | K10: 0 | L10: =+K10*$L$7 -> 0 | M10: 0 | N10: =+M10+I10+F10 -> 1418.63
A11: 3 | B11: "Citrum" SIA | C11: =+'aprēķins pedag. darba samaksai'!Q12 -> 11 | D11: =+'aprēķins pedag. darba samaksai'!R12 -> 158 | E11: =+'aprēķins pedag. darba samaksai'!S12 -> 2016.89 | F11: 2016.89 | G11: 3 | H11: =+G11*$H$7 -> 150 | I11: 150 | J11: 0 | K11: 0 | L11: =+K11*$L$7 -> 0 | M11: 0 | N11: =+M11+I11+F11 -> 2166.89
A12: 4 | B12: Biedrība "Ikšķiles Brīvā skola" | C12: =+'aprēķins pedag. darba samaksai'!Q13 -> 6 | D12: =+'aprēķins pedag. darba samaksai'!R13 -> 70 | E12: =+'aprēķins pedag. darba samaksai'!S13 -> 890.19 | F12: 890.19 | G12: 0 | H12: =+G12*$H$7 -> 0 | I12: 0 | J12: 0 | K12: 0 | L12: =+K12*$L$7 -> 0 | M12: 0 | N12: =+M12+I12+F12 -> 890.19
A13: 5 | B13: "PATNIS" SIA | C13: =+'aprēķins pedag. darba samaksai'!Q14 -> 9 | D13: =+'aprēķins pedag. darba samaksai'!R14 -> 132 | E13: =+'aprēķins pedag. darba samaksai'!S14 -> 1676.09 | F13: 1676.09 | G13: 3 | H13: =+G13*$H$7 -> 150 | I13: 150 | J13: 0 | K13: 0 | L13: =+K13*$L$7 -> 0 | M13: 0 | N13: =+M13+I13+F13 -> 1826.09
A14: 6 | B14: "Privātsākumskola" SIA | C14: =+'aprēķins pedag. darba samaksai'!Q15 -> 4 | D14: =+'aprēķins pedag. darba samaksai'!R15 -> 44 | E14: =+'aprēķins pedag. darba samaksai'!S15 -> 558.7 | F14: 558.7 | G14: 1 | H14: =+G14*$H$7 -> 50 | I14: 0 | J14: 1 | K14: 7 | L14: =+K14*$L$7 -> 9.94 | M14: 9.94 | N14: =+M14+I14+F14 -> 568.64
A15: 7 | B15: Nodibinājums "Rīgas Romas katoļu ģimnāzija" | C15: =+'aprēķins pedag. darba samaksai'!Q16 -> 16 | D15: =+'aprēķins pedag. darba samaksai'!R16 -> 125 | E15: =+'aprēķins pedag. darba samaksai'!S16 -> 1583.59 | F15: 1583.59 | G15: 0 | H15: =+G15*$H$7 -> 0 | I15: 0 | J15: 0 | K15: 0 | L15: =+K15*$L$7 -> 0 | M15: 0 | N15: =+M15+I15+F15 -> 1583.59
A16: 8 | B16: "TMKA" SIA | C16: =+'aprēķins pedag. darba samaksai'!Q17 -> 4 | D16: =+'aprēķins pedag. darba samaksai'!R17 -> 51 | E16: =+'aprēķins pedag. darba samaksai'!S17 -> 653.67 | F16: 653.67 | G16: 1 | H16: =+G16*$H$7 -> 50 | I16: 50 | J16: 0 | K16: 0 | L16: =+K16*$L$7 -> 0 | M16: 0 | N16: =+M16+I16+F16 -> 703.67

Sheet aprēķins pedag. darba samaksai
C1: UA izglītojamo skaits 1.-12.klasēs privātajās izglītības iestādēs, maijs - jūnijs
D3: Vienam izglītojamajam mēnesī | E3: 257 | H3: 257 | K3: 257 | N3: 257
D4: Darba dienu skaits visā mēnesī | E4: 23 | H4: 19 | K4: 21 | N4: 20
D5: Vienas darba dienas izmaksa | E5: =+E3/E4 -> 11.1739 | H5: =+H3/H4 -> 13.5263 | K5: =+K3/K4 -> 12.2381 | N5: =+N3/N4 -> 12.85
C7: Iestādes nosaukums | D7: Dibinātājs | E7: no 26.marta – 4 darba dienas | H7: 19 darba dienas | K7: 21 darba diena | N7: līdz 14.jūnijam – 10 darba dienas | Q7: KOPĀ
E8: MARTS | H8: APRĪLIS | K8: MAIJS | N8: JŪNIJS
A9: Novads/Republikas pilsēta | B9: Iestādes reģistrācijas Nr. | E9: Izglītojamo skaits | F9: Fakt. apmeklējuma dienu skaits visiem izglītojamajiem | G9: Maksimālais iespējamais izdevumu kompensācijas apmērs | H9: Izglītojamo skaits | I9: Fakt. apmeklējuma dienu skaits visiem izglītojamajiem | J9: Maksimālais iespējamais izdevumu kompensācijas apmērs | K9: Izglītojamo skaits | L9: Fakt. apmeklējuma dienu skaits visiem izglītojamajiem | M9: Maksimālais iespējamais izdevumu kompensācijas apmērs | N9: Izglītojamo skaits | O9: Fakt. apmeklējuma dienu skaits visiem izglītojamajiem | P9: Maksimālais iespējamais izdevumu kompensācijas apmērs | Q9: Izglītojamo skaits | R9: Fakt. apmeklējuma dienu skaits visiem izglītojamajiem | S9: Maksimālais iespējamais izdevumu kompensācijas apmērs
A10: RĪGA | B10: 3713801461 | C10: Privātā vidusskola "Laisma" | D10: "ALINVEST" SIA | E10: 2 | F10: 8 | G10: =+F10*$E$5 -> 89.39 | H10: 2 | I10: 38 | J10: =+I10*$H$5 -> 514 | K10: 2 | L10: 42 | M10: =+L10*$K$5 -> 514 | N10: 2 | O10: 20 | P10: =+O10*$N$5 -> 257 | Q10: =+E10+H10+K10+N10 -> 8 | R10: =+F10+I10+L10+O10 -> 108 | S10: =+G10+J10+M10+P10 -> 1374.39
A11: RĪGA | B11: 3813803052 | C11: Rīgas Starptautiskā skola | D11: Biedrība "Rīgas Starptautiskā skola" | E11: 2 | F11: 8 | G11: =+F11*$E$5 -> 89.39 | H11: 2 | I11: 30 | J11: =+I11*$H$5 -> 405.79 | K11: 2 | L11: 38 | M11: =+L11*$K$5 -> 465.05 | N11: 2 | O11: 24 | P11: =+O11*$N$5 -> 308.4 | Q11: =+E11+H11+K11+N11 -> 8 | R11: =+F11+I11+L11+O11 -> 100 | S11: =+G11+J11+M11+P11 -> 1268.63
A12: RĪGA | B12: 3713803152 | C12: Privātā vidusskola "Citruss" | D12: "Citrum" SIA | E12: 2 | F12: 8 | G12: =+F12*$E$5 -> 89.39 | H12: 3 | I12: =51+6 -> 57 | J12: =+I12*$H$5 -> 771 | K12: 3 | L12: 63 | M12: =+L12*$K$5 -> 771 | N12: 3 | O12: 30 | P12: =+O12*$N$5 -> 385.5 | Q12: =+E12+H12+K12+N12 -> 11 | R12: =+F12+I12+L12+O12 -> 158 | S12: =+G12+J12+M12+P12 -> 2016.89
A13: OGRES NOVADS | B13: 4412803292 | C13: Pamatskola "Ikšķiles Brīvā skola" | D13: Biedrība "Ikšķiles Brīvā skola" | E13: 1 | F13: 3 | G13: =+F13*$E$5 -> 33.52 | H13: 1 | I13: 19 | J13: =+I13*$H$5 -> 257 | K13: 2 | L13: 28 | M13: =+L13*$K$5 -> 342.67 | N13: 2 | O13: 20 | P13: =+O13*$N$5 -> 257 | Q13: =+E13+H13+K13+N13 -> 6 | R13: =+F13+I13+L13+O13 -> 70 | S13: =+G13+J13+M13+P13 -> 890.19
A14: RĪGA | B14: 3513802582 | C14: Privātā vidusskola "Patnis" | D14: "PATNIS" SIA | E14: 3 | F14: 12 | G14: =+F14*$E$5 -> 134.09 | H14: 3 | I14: 57 | J14: =+I14*$H$5 -> 771 | K14: 3 | L14: 63 | M14: =+L14*$K$5 -> 771 | N14: =3-3 -> 0 | O14: =30-30 -> 0 | P14: =+O14*$N$5 -> 0 | Q14: =+E14+H14+K14+N14 -> 9 | R14: =+F14+I14+L14+O14 -> 132 | S14: =+G14+J14+M14+P14 -> 1676.09
A15: LIEPĀJA | B15: 3011800081 | C15: Privātsākumskola "Varavīksne" | D15: "Privātsākumskola" SIA | E15: 1 | F15: 4 | G15: =+F15*$E$5 -> 44.7 | H15: 1 | I15: 19 | J15: =+I15*$H$5 -> 257 | K15: 1 | L15: 21 | M15: =+L15*$K$5 -> 257 | N15: 1 | O15: =10-10 -> 0 | P15: =+O15*$N$5 -> 0 | Q15: =+E15+H15+K15+N15 -> 4 | R15: =+F15+I15+L15+O15 -> 44 | S15: =+G15+J15+M15+P15 -> 558.7
A16: RĪGA | B16: 3813801134 | C16: Rīgas Katoļu ģimnāzija | D16: Nodibinājums "Rīgas Romas katoļu ģimnāzija" | E16: 5 | F16: 16 | G16: =+F16*$E$5 -> 178.78 | H16: 5 | I16: 55 | J16: =+I16*$H$5 -> 743.95 | K16: 3 | L16: 54 | M16: =+L16*$K$5 -> 660.86 | N16: 3 | O16: 0 | P16: =+O16*$N$5 -> 0 | Q16: =+E16+H16+K16+N16 -> 16 | R16: =+F16+I16+L16+O16 -> 125 | S16: =+G16+J16+M16+P16 -> 1583.59
A17: RĪGA | B17: 3613801984 | C17: Privātā vidusskola "Norma" | D17: "TMKA" SIA | E17: 1 | F17: 1 | G17: =+F17*$E$5 -> 11.17 | H17: 1 | I17: 19 | J17: =+I17*$H$5 -> 257 | K17: 1 | L17: 21 | M17: =+L17*$K$5 -> 257 | N17: 1 | O17: 10 | P17: =+O17*$N$5 -> 128.5 | Q17: =+E17+H17+K17+N17 -> 4 | R17: =+F17+I17+L17+O17 -> 51 | S17: =+G17+J17+M17+P17 -> 653.67
A18: KOPĀ | E18: =SUM(E10:E17) -> 17 | F18: =SUM(F10:F17) -> 60 | G18: =SUM(G10:G17) -> 670.43 | H18: =SUM(H10:H17) -> 18 | I18: =SUM(I10:I17) -> 294 | J18: =SUM(J10:J17) -> 3976.74 | K18: =SUM(K10:K17) -> 17 | L18: =SUM(L10:L17) -> 330 | ... S18: =SUM(S10:S17) -> 10022.15
