Workbook

Sheet VP jūlijs
D1: 2.pielikums
D2: Ministru kabineta rīkojuma projekta “Par apropriācijas pārdali no budžeta resora
D3: “74. Gadskārtējā valsts budžeta izpildes procesā pārdalāmais finansējums”
D4: programmas 22.00.00 “Valsts ārējās robežas drošības pasākumu nodrošināšana””
D5: sākotnējās ietekmes novērtējuma ziņojumam (anotācijai)
A7: Valsts policijas izdevumi
A8: Kopasavilkums
A10: Kods | B10: Koda nosaukums | C10: Detalizēts izdevumu aprēķins | D10: Izdevumi, euro
A11: Izdevumi kopā ar vidējās izpeļņas pieauguma kompensēšanu | D11: =D12+D15 -> 149401
A12: 1000 | B12: Atlīdzība | C12: × | D12: =D18+D37 -> 52183
A13: 1100 | B13: Atalgojums | C13: × | D13: =D38+D19 -> 42240.67
A14: 1210 | B14: Darba devēja valsts sociālās apdrošināšanas obligātās iemaksas | C14: × | D14: =D40+D26 -> 9941.76
A15: 2000 | B15: Preces un pakalpojumi | C15: × | D15: =D27 -> 97218
A17: 1) Izdevumi saistībā ar rīkojuma Nr. 184 izpildei nepieciešamo pasākumu īstenošanu | D17: =D18+D27 -> 145387
A18: 1000 | B18: Atlīdzība | C18: × | D18: =ROUNDUP(D19+D26,0) -> 48169
A19: 1100 | B19: Atalgojums | C19: × | D19: =SUM(D20:D25) -> 38992.67
A20: 1116 | B20: Mēnešalga amatpersonām ar speciālajām dienesta pakāpēm
A21: 1141
A22: 1141 | B22: Piemaksa par nakts darbu | C22: Detalizēts aprēķins par laika periodu no 2024. gada 1. jūlija līdz 31. jūlijam 1.tabulā. Iesaistītas 213 personas, kopējais iesaistes laiks 3 394 stundas. | D22: ='1.tabula'!G6 -> 15875.82
A23: 1142 | C23: 1) Piemaksa par virsstundu darbu Detalizēts aprēķins par laika periodu no 2024. gada 01. maija līdz 31. maijam 2.tabulā. Iesaistītas ___ personas, kopējais iesaistes laiks _________ stundas. | D23: =' 2.tabula'!G6 -> 0
A24: 1142 | B24: Samaksa par virsstundu darbu un darbu svētku dienās | C24: 1) Piemaksa par virsstundu darbu 2 amatpersonām ar speciālo dienesta pakāpi ar kurām 2024. gada jūlija mēnesī izbeigtas dienesta attiecības (aprēķins par laika periodu no 2024. gada 1. jūlija līdz 31.jūlijam 2. tabulā) | D24: ='2. tabula'!G6 -> 2368.53
A25: 1145 | B25: Piemaksa par darbu īpašos apstākļos, speciālās piemaksas | C25: Detalizēts aprēķins par laika periodu no 2024. gada 1. jūlija līdz 31. jūlijam 3.tabulā. Iesaistītas 360 personas, kopējais iesaistes laiks 10 379,50 stundas. | D25: ='3.tabula'!H7 -> 20748.32
A26: 1210 | B26: Darba devēja valsts sociālās apdrošināšanas obligātās iemaksas | C26: 23,59% no aprēķinātā atalgojuma * izņemot 2 personas, kurām tiek piemērota nodokļu likme 21,94% (izdienas pensionārs) | D26: ='1.tabula'!H6+'2. tabula'!H6+'3.tabula'!I7 -> 9175.54
A27: 2000 | B27: Preces un pakalpojumi | C27: × | D27: =ROUNDUP(SUM(D28:D34),0) -> 97218
A28: 2111 | B28: Dienas nauda | C28: Detalizēts aprēķins 4.tabulā. Dienas nauda par periodu no 2024.gada 5. jūnija līdz 17. jūlijam ir izmaksāta 24 personām. Valsts policijas pavēles: Nr. 3172 no 31.05.2024., Nr.3529 no 19.06.2024. "Par komandējumiem uz Daugavpili un Dagdu (Latvijā)" dienas nauda: 100% (8,00 euro) pirmā un pēdējā diena, 30% (2,40 euro) pārējās dienas **Valsts policija iekšzemes komandējumiem nemaksā dienas naudu avansā, bet gan izmaksā tad, kad no komandējuma amatpersonas ir atgriezušās. Komandējuma laika ietvars saskaņā ar Valsts policijas pavēli par komandējumu, ir tāds, ka uz mēnesi tiek sūtīta komandējumā viena amatpersonu grupa, pēc tam – uz mēnesi tika nosūtīta cita amatpersonu grupa. | D28: ='4.tabula'!G6 -> 1536
A29: 2112 | B29: Pārējie komandējumu un darba braucienu izdevumi | C29: Dienesta viesnīcas pakalpojumi Naktsmītnes izdevumi Daugavpilī: 2 naktis x 13 gultasvietas x 15,00 euro = 390,00 euro; 28 naktis x 12 gultasvietas × 15,00 euro = 5 040,00 euro; Aprēķins veikts par dienesta viesnīcas pakalpojumiem (naktsmītni), kas tika nodrošināti no 2024.gada 1.jūnija līdz 30. jūnijam, izdevumi pakalpojuma sniedzējam tika apmaksāti 2024.gada jūlijā. | D29: 5430
A30: 2322 | B30: Degviela | C30: Detalizēts aprēķins par laika periodu no 2024. gada 01. jūnija līdz 31. jūlijam (t.sk. korekcija: Rīgas reģiona pārvaldes izdevumi par laika periodu no 2024. gada 01. jūnija līdz 30. jūnijam) 5.tabulā. Pasākuma nodrošināšanai tika iesaistīti 79 transportlīdzekļi; Vidēji viena transportlīdzekļa nobraukums 1 134,06 km; Vidējā degvielas cena 1,4587 euro/l; Vidējais degvielas patēriņš 7,41 l/km uz 100 km. 79 t-ldz. x 1 134,06 km x 1,4587 euro/l x 7,41 l/km ÷ 100 km = 9 683,92 euro | D30: ='5. tabula'!F6 -> 9683.92
A31: 2350 | B31: Kārtējā remonta un iestāžu uzturēšanas materiāli | C31: Papīra dvieļi 72 gab. x 0,73569 euro = 52,97 euro; Atkritumu maisi 200 L / 4 iepak. x 1,592 euro = 6,37 euro; Veļas mazgāšanas želeja 5 L / 4 gab. x 5,973 euro = 23,89 euro; Roku dezinfekcija 500 ml / 30 gab. x 1,985 euro = 59,55 euro. | D31: =ROUND(((72*0.73569)+(4*1.592)+(4*5.973)+(30*1.985)),2) -> 142.78
A32: 2363 | B32: Ēdināšanas izdevumi | C32: Aprēķins veikts par ēdināšanas pakalpojumiem, kas tika nodrošināti no 2024.gada 01. jūnija līdz 30. jūnijam, izdevumi pakalpojuma sniedzējam tika apmaksāti 2024.gada jūlijā. Ēdināšanas pakalpojumi Daugavpilī: brokastis 242 porcijas × 8,00 euro = 1 936,00 euro; pusdienas 241 porcijas × 9,00 euro = 2 169 ,00 euro; vakariņas 241 porcijas × 10,00 euro = 2 410,00 euro; launags (sausā uztura paka uz 24 stundam) 121 pakas × 27,00 euro = 3 267,00 euro; Saskaņā ar līgumu par izmitināšanu un ēdināšanu Daugavpilī ir noteikts, ka ēdināšana 3 reizes dienā nedrīkst pārsniegt 27,00 euro: Ēdināšanas izmaksas sastāda: Brokastis 8 euro /1 pers Pusdienas 9 euro /1 pers Vakariņas 10 euro /1 pers Amatpersonām, kuras ir maiņā uz robežas un tām nav iespējams atgriezties uz pusdienām un vakariņām, tad, lai nodrošinātu ēdināšanu amatpersonām dod līdzi pārtikas pakas: sausie produkti uz 24 stundām - 27 euro /1 pers. sausie produkti (vakariņaas un brokastis) - 18 euro /1 pers. Pārtikas pakas tiek dotas arī Latgales reģiona pārvaldes amatpersonām, kuras arī tiek norīkotas uz robežu, augstākminēto iemeslu dēļ, komandējama izdevumi un dienas nauda viņām nav. Papildus jāatzīmē, ka dienas nauda dienās, kad nodrošināta 3 reižu ēdināšana sastāda 30% no Ministru kabineta noteikumos par komandējumu paredzētā limita. | D32: =ROUND(((242*8)+(241*9)+(241*10)+(121*27)),0) -> 9782
A33: 2364 | B33: Speciālais apģērbs amatpersonām ar speciālajām dienesta pakāpēm | C33: Pamatojoties uz 12.03.2024 MK Rīkojuma Nr.184 anotāciju (24-TA-589), pasākuma izpildei tika iegādāta kamuflāža***: Taktiskie cimdi 150 gab. x 6,195 euro = 929,25 euro (atlikusi 05.06.2024 PPR daļa: neatskaitāmais PVN priekšnodoklis); Trubveida šalle 150 gab. x 1,9425 euro = 291,38 euro (atlikusi 05.06.2024 PPR daļa: neatskaitāmais PVN priekšnodoklis); Taktiskās ziemas virsjakas 150 gab. x 449,9158 euro = 67 487,37 euro; Tertmozeķes 150 gab. x 12,28 euro = 1842,00 euro. | D33: =ROUND((150*6.195)+(150*1.9425)+(150*449.9158)+(150*12.28),2) -> 70550
A34: 2390 | B34: Pārējās preces | C34: Negazēts dzeramais ūdens 2 L / 200 gab. x 0,463 euro = 92,60 euro | D34: =ROUND((200*0.463),2) -> 92.6
A36: 2) Vidējās izpeļņas pieauguma kompensēšanai | D36: =D37 -> 4014
A37: 1000 | B37: Atlīdzība | C37: × | D37: =ROUND(D38+D40,0) -> 4014
A38: 1100 | B38: Atalgojums | C38: × | D38: =ROUND(D39,0) -> 3248
A39: 1116 | B39: Mēnešalga amatpersonām ar speciālajām dienesta pakāpēm | C39: 38992,67 euro × 8,33% = 3 248,09 euro. | D39: =ROUND((D19)*8.33%,2) -> 3248.09
A40: 1210 | B40: Darba devēja valsts sociālās apdrošināšanas obligātās iemaksas | C40: 23,59% no aprēķinātā atalgojuma | D40: =ROUND(D39*0.2359,2) -> 766.22
A41: ***Atbilstoši Ministru kabineta 2024.gada 12.marta rīkojuma Nr.184 “Par pastiprināta robežapsardzības sistēmas darbības režīma izsludināšanu” sākotnējās ietekmes (ex-ante) novērtējuma ziņojuma (anotācijas) 1.pielikumam tiek īstenota 150 kamuflāžas speciālā apģērba komplektu (sastāv no 150 pavasara/ vasaras un 150 rudens/ziemas apģērbiem, ievērojot, ka katrā sezonā jāvalkā cita veida apģērbs) sastāvdaļu iegāde (pirmā kamuflāžas speciālā apģērba komplektu sastāvdaļu piegāde saņemta atbilstoši Ministru kabineta 2024.gada 27.augusta rīkojumam Nr.705 “Par apropriācijas pārdali no budžeta resora “74. Gadskārtējā valsts budžeta izpildes procesā pārdalāmais finansējums” programmas 22.00.00 “Valsts ārējās robežas drošības pasākumu nodrošināšana””). Speciālais apģērbs iegādāts savlaicīgi, ievērojot piegādes termiņus un to, ka pastiprināts robežapsardzības režīms var tikt pagarināts (Ministru kabineta 2024. gada 10. septembra rīkojums Nr. 744 "Grozījums Ministru kabineta 2024. gada 12. marta rīkojumā Nr. 184 "Par pastiprināta robežapsardzības sistēmas darbības režīma izsludināšanu"".

Sheet 1.tabula
I1: 1.tabula
A2: Valsts policija
A3: Piemaksa par nakts darbu amatpersonām ar speciālajām dienesta pakāpēm, kuras laika periodā no 2024. gada 1. jūlija līdz 31. jūlijam tika iesaistītas atbalsta sniegšanā Valsts robežsardzei Latvijas Republikas-Baltkrievijas Republikas valsts robežas robežuzraudzības nodrošināšanā
E4: 166.92
A5: Nr. p.k. | B5: Struktūrvienība | C5: Amats | D5: Mēnešalga amatpersonām ar speciālajām pakāpēm | E5: Stundas likme | F5: Stundu skaits | G5: Piemaksa par nakts darbu | H5: DD VSAOI | I5: Atlīdzība
A6: kopā | F6: =SUM(F7:F219) -> 3394 | G6: =SUM(G7:G219) -> 15875.82 | H6: =SUM(H7:H219) -> 3745.15 | I6: =SUM(I7:I219) -> 19620.97
A7: 1 | B7: VP GKĀRTPP RKVP SPECIĀLO UZDEVUMU BATALJONA 1.ROTA | C7: jaunākais inspektors | D7: 1410 | E7: =ROUND(D7/$E$4,3) -> 8.447 | F7: 46 | G7: 194.28 | H7: =ROUND(G7*0.2359,2) -> 45.83 | I7: =G7+H7 -> 240.11
A8: 2 | B8: VP GKĀRTPP RKVP SPECIĀLO UZDEVUMU BATALJONA 1.ROTA | C8: jaunākais inspektors | D8: 1700 | E8: =ROUND(D8/$E$4,3) -> 10.185 | F8: 40 | G8: 203.7 | H8: =ROUND(G8*0.2359,2) -> 48.05 | I8: =G8+H8 -> 251.75
A9: 3 | B9: VP GKĀRTPP RKVP SPECIĀLO UZDEVUMU BATALJONA 1.ROTA | C9: jaunākais inspektors | D9: 1470 | E9: =ROUND(D9/$E$4,3) -> 8.807 | F9: 48 | G9: 211.37 | H9: =ROUND(G9*0.2359,2) -> 49.86 | I9: =G9+H9 -> 261.23
A10: 4 | B10: VP GKĀRTPP RKVP SPECIĀLO UZDEVUMU BATALJONA 1.ROTA | C10: rotas komandiera vietnieks | D10: 1994 | E10: =ROUND(D10/$E$4,3) -> 11.946 | F10: 46 | G10: 274.76 | H10: =ROUND(G10*0.2359,2) -> 64.82 | I10: =G10+H10 -> 339.58
A11: 5 | B11: VP GKĀRTPP RKVP SPECIĀLO UZDEVUMU BATALJONA 1.ROTA | C11: jaunākais inspektors | D11: 1390 | E11: =ROUND(D11/$E$4,3) -> 8.327 | F11: 40 | G11: 166.54 | H11: =ROUND(G11*0.2359,2) -> 39.29 | I11: =G11+H11 -> 205.83
A12: 6 | B12: VP GKĀRTPP RKVP SPECIĀLO UZDEVUMU BATALJONA 1.ROTA | C12: jaunākais inspektors | D12: 1410 | E12: =ROUND(D12/$E$4,3) -> 8.447 | F12: 48 | G12: 202.73 | H12: =ROUND(G12*0.2359,2) -> 47.82 | I12: =G12+H12 -> 250.55
A13: 7 | B13: VP GKĀRTPP RKVP SPECIĀLO UZDEVUMU BATALJONA 1.ROTA | C13: jaunākais inspektors | D13: 1430 | E13: =ROUND(D13/$E$4,3) -> 8.567 | F13: 48 | G13: 205.61 | H13: =ROUND(G13*0.2359,2) -> 48.5 | I13: =G13+H13 -> 254.11
A14: 8 | B14: VP GKĀRTPP RKVP SPECIĀLO UZDEVUMU BATALJONA 1.ROTA | C14: vada komandiera vietnieks | D14: 1713 | E14: =ROUND(D14/$E$4,3) -> 10.262 | F14: 40 | G14: 205.24 | H14: =ROUND(G14*0.2359,2) -> 48.42 | I14: =G14+H14 -> 253.66
A15: 9 | B15: VP GKĀRTPP RKVP SPECIĀLO UZDEVUMU BATALJONA 1.ROTA | C15: jaunākais inspektors | D15: 1410 | E15: =ROUND(D15/$E$4,3) -> 8.447 | F15: 46 | G15: 194.28 | H15: =ROUND(G15*0.2359,2) -> 45.83 | I15: =G15+H15 -> 240.11
A16: 10 | B16: VP GKĀRTPP RKVP SPECIĀLO UZDEVUMU BATALJONA 1.ROTA | C16: jaunākais inspektors | D16: 1410 | E16: =ROUND(D16/$E$4,3) -> 8.447 | F16: 48 | G16: 202.73 | H16: =ROUND(G16*0.2359,2) -> 47.82 | I16: =G16+H16 -> 250.55
A17: 11 | B17: VP GKĀRTPP RKVP SPECIĀLO UZDEVUMU BATALJONA 1.ROTA | C17: jaunākais inspektors | D17: 1410 | E17: =ROUND(D17/$E$4,3) -> 8.447 | F17: 40 | G17: 168.94 | H17: =ROUND(G17*0.2359,2) -> 39.85 | I17: =G17+H17 -> 208.79
A18: 12 | B18: VP GKĀRTPP RKVP SPECIĀLO UZDEVUMU BATALJONA 1.ROTA | C18: vada komandieris | D18: 1898 | E18: =ROUND(D18/$E$4,3) -> 11.371 | F18: 46 | G18: 261.53 | H18: =ROUND(G18*0.2359,2) -> 61.69 | I18: =G18+H18 -> 323.22
... A219: 213 | B219: VP LATGALES RP ZIEMEĻLATGALES IECIRKŅA REAĢĒŠANAS NODAĻAS 9.GRUPA | C219: inspektors | D219: 1425 | E219: =ROUND(D219/$E$4,3) -> 8.537 | F219: 8 | G219: 34.15 | H219: =ROUND(G219*0.2359,2) -> 8.06 | I219: =G219+H219 -> 42.21

Sheet 2. tabula
I1: 2.tabula
A2: Valsts policija
A3: Detalizēts aprēķins samaksai par virsstundu darbu amatpersonām ar speciālo dienesta pakāpi, sniedzot atbalstu Valsts robežsardzei Latvijas Republikas-Baltkrievijas Republikas valsts robežas nelikumīgas šķērsošanas nodrošināšanā, par laika periodu no 2024. gada 1. jūlija līdz 31. jūlijam*
E4: 166.92
A5: Nr. p.k. | B5: Struktūrvienība | C5: Amats | D5: Mēnešalga amatpersonām ar speciālajām pakāpēm | E5: Stundas likme | F5: Stundu skaits | G5: Samaksa par virsstundu darbu | H5: DD VSAOI | I5: Atlīdzība
A6: kopā | F6: =SUM(F7:F8) -> 110 | G6: =SUM(G7:G8) -> 2368.53 | H6: =SUM(H7:H8) -> 536.82 | I6: =SUM(I7:I8) -> 2905.35
A7: 1 | B7: VP LATGALES RP DIENVIDLATGALES IECIRKŅA IZMEKLĒŠANAS NODAĻAS 4.GRUPA | C7: vecākais inspektors | D7: 1910 | E7: =ROUND(D7/$E$4,3) -> 11.443 | F7: 58 | G7: 1327.39 | H7: =ROUND(G7*0.2194,2)-0.01 -> 291.22 | I7: =G7+H7 -> 1618.61 | J7: **
A8: =A7+1 -> 2 | B8: VP LATGALES RP ZIEMEĻLATGALES IECIRKŅA PREVENCIJAS GRUPA | C8: galvenais inspektors | D8: 1671 | E8: =ROUND(D8/$E$4,3) -> 10.011 | F8: 52 | G8: 1041.14 | H8: =ROUND(G8*0.2359,2) -> 245.6 | I8: =G8+H8 -> 1286.74
B10: *Aprēķins par papildu nepieciešamo finansējumu samaksai par virsstundu darbu ir veikts, jo 2024.gada jūlijā tika izbeigtas dienesta attiecības ar 2 (divām) amatpersonām.
B11: ** izdienas pensionārs

Sheet 3.tabula
J1: 3.tabula
A2: Valsts policija
A3: Piemaksa par darbu īpašos apstākļos amatpersonām ar speciālajām dienesta pakāpēm, kuras laika periodāno 2024. gada 1. jūlija līdz 31. jūlijam tika iesaistītas atbalsta sniegšanā Valsts robežsardzei Latvijas Republikas-Baltkrievijas Republikas valsts robežas robežuzraudzības nodrošināšanā
F4: 166.92
A5: Nr. p.k. | B5: Struktūrvienība | C5: Amats | D5: Mēnešalga amatpersonām ar speciālajām pakāpēm | E5: Piemaksas apmērs % | F5: Stundas likme | G5: Stundu skaits | H5: Piemaksa par darbu īpašos apstākļos | I5: DD VSAOI | J5: Atlīdzība
A7: kopā | G7: =SUM(G8:G367) -> 10379.5 | H7: =SUM(H8:H367) -> 20748.32 | I7: =SUM(I8:I367) -> 4893.57 | J7: =SUM(J8:J367) -> 25641.89
A8: 1 | B8: VP LATGALES RP ZIEMEĻLATGALES IECIRKŅA REAĢĒŠANAS NODAĻAS 2.GRUPA | C8: inspektors | D8: 1365 | E8: 20% | F8: =ROUND(D8/$F$4,3) -> 8.178 | G8: 12 | H8: 19.63 | I8: =ROUND(H8*23.59%,2)-0.01 -> 4.62 | J8: =H8+I8 -> 24.25
A9: =A8+1 -> 2 | B9: VP LATGALES RP DIENVIDLATGALES IECIRKŅA REAĢĒŠANAS NODAĻAS 1.GRUPA | C9: inspektors | D9: 1365 | E9: 20% | F9: =ROUND(D9/$F$4,3) -> 8.178 | G9: 12 | H9: 19.63 | I9: =ROUND(H9*23.59%,2)-0.01 -> 4.62 | J9: =H9+I9 -> 24.25
A10: =A9+1 -> 3 | B10: VP LATGALES RP KĀRTPB RESURSU UN KRĪZES VADĪBAS NODAĻA | C10: vecākais inspektors | D10: 1415 | E10: 20% | F10: =ROUND(D10/$F$4,3) -> 8.477 | G10: 48 | H10: 81.38 | I10: =ROUND(H10*23.59%,2) -> 19.2 | J10: =H10+I10 -> 100.58
A11: =A10+1 -> 4 | B11: VP LATGALES RP ZIEMEĻLATGALES IECIRKŅA REAĢĒŠANAS NODAĻAS 1.GRUPA | C11: vecākais inspektors | D11: 1455 | E11: 20% | F11: =ROUND(D11/$F$4,3) -> 8.717 | G11: 12 | H11: 20.92 | I11: =ROUND(H11*23.59%,2) -> 4.94 | J11: =H11+I11 -> 25.86
A12: =A11+1 -> 5 | B12: VP LATGALES RP DIENVIDLATGALES IECIRKŅA IZMEKLĒŠANAS NODAĻAS 2.GRUPA | C12: inspektors | D12: 1561 | E12: 20% | F12: =ROUND(D12/$F$4,3) -> 9.352 | G12: 36 | H12: 67.33 | I12: =ROUND(H12*23.59%,2) -> 15.88 | J12: =H12+I12 -> 83.21
A13: =A12+1 -> 6 | B13: VP LATGALES RP ZIEMEĻLATGALES IECIRKŅA IZMEKLĒŠANAS NODAĻAS 2.GRUPA | C13: vecākais inspektors | D13: 1640 | E13: 20% | F13: =ROUND(D13/$F$4,3) -> 9.825 | G13: 45 | H13: 88.43 | I13: =ROUND(H13*23.59%,2) -> 20.86 | J13: =H13+I13 -> 109.29
A14: =A13+1 -> 7 | B14: VP LATGALES RP ZIEMEĻLATGALES IECIRKŅA IZMEKLĒŠANAS NODAĻAS 5.GRUPA | C14: inspektors | D14: 1533 | E14: 50% | F14: =ROUND(D14/$F$4,3) -> 9.184 | G14: 4.5 | H14: 20.66 | I14: =ROUND(H14*23.59%,2) -> 4.87 | J14: =H14+I14 -> 25.53
A15: =A14+1 -> 8 | B15: VP LATGALES RP ZIEMEĻLATGALES IECIRKŅA IZMEKLĒŠANAS NODAĻAS 5.GRUPA | C15: inspektors | D15: 1533 | E15: 20% | F15: =ROUND(D15/$F$4,3) -> 9.184 | G15: 43.5 | H15: 79.9 | I15: =ROUND(H15*23.59%,2) -> 18.85 | J15: =H15+I15 -> 98.75
A16: =A15+1 -> 9 | B16: VP LATGALES RP ZIEMEĻLATGALES IECIRKŅA REAĢĒŠANAS NODAĻAS 4.GRUPA | C16: vecākais inspektors | D16: 1455 | E16: 20% | F16: =ROUND(D16/$F$4,3) -> 8.717 | G16: 28 | H16: 48.82 | I16: =ROUND(H16*23.59%,2) -> 11.52 | J16: =H16+I16 -> 60.34
A17: =A16+1 -> 10 | B17: VP LATGALES RP DIENVIDLATGALES IECIRKŅA IZMEKLĒŠANAS NODAĻAS 3.GRUPA | C17: inspektors | D17: 1501 | E17: 20% | F17: =ROUND(D17/$F$4,3) -> 8.992 | G17: 36 | H17: 64.74 | I17: =ROUND(H17*23.59%,2) -> 15.27 | J17: =H17+I17 -> 80.01
A18: =A17+1 -> 11 | B18: VP LATGALES RP ZIEMEĻLATGALES IECIRKŅA IZMEKLĒŠANAS NODAĻAS 3.GRUPA | C18: vecākais inspektors | D18: 1571 | E18: 20% | F18: =ROUND(D18/$F$4,3) -> 9.412 | G18: 24 | H18: 45.18 | I18: =ROUND(H18*23.59%,2) -> 10.66 | J18: =H18+I18 -> 55.84
A19: =A18+1 -> 12 | B19: VP LATGALES RP ZIEMEĻLATGALES IECIRKŅA REAĢĒŠANAS NODAĻAS 8.GRUPA | C19: vecākais inspektors | D19: 1455 | E19: 20% | F19: =ROUND(D19/$F$4,3) -> 8.717 | G19: 48 | H19: 83.68 | I19: =ROUND(H19*23.59%,2) -> 19.74 | J19: =H19+I19 -> 103.42
A20: =A19+1 -> 13 | B20: VP LATGALES RP DIENVIDLATGALES IECIRKŅA REAĢĒŠANAS NODAĻAS 10.GRUPA | C20: inspektors | D20: 1445 | E20: 20% | F20: =ROUND(D20/$F$4,3) -> 8.657 | G20: 24 | H20: 41.55 | I20: =ROUND(H20*23.59%,2)-0.01 -> 9.79 | J20: =H20+I20 -> 51.34
A21: =A20+1 -> 14 | B21: VP LATGALES RP KRIMPB RĒZEKNES REĢIONĀLĀ NODAĻA | C21: vecākais inspektors | D21: 1722 | E21: 20% | F21: =ROUND(D21/$F$4,3) -> 10.316 | G21: 12 | H21: 24.76 | I21: =ROUND(H21*23.59%,2) -> 5.84 | J21: =H21+I21 -> 30.6
A22: =A21+1 -> 15 | B22: VP LATGALES RP ZIEMEĻLATGALES IECIRKŅA IZMEKLĒŠANAS NODAĻAS 6.GRUPA | C22: vecākais inspektors | D22: 1640 | E22: 20% | F22: =ROUND(D22/$F$4,3) -> 9.825 | G22: 24 | H22: 47.16 | I22: =ROUND(H22*23.59%,2) -> 11.13 | J22: =H22+I22 -> 58.29
A23: =A22+1 -> 16 | B23: VP LATGALES RP ZIEMEĻLATGALES IECIRKŅA IZMEKLĒŠANAS NODAĻAS 4.GRUPA | C23: inspektors | D23: 1851 | E23: 20% | F23: =ROUND(D23/$F$4,3) -> 11.089 | G23: 24 | H23: 53.23 | I23: =ROUND(H23*23.59%,2) -> 12.56 | J23: =H23+I23 -> 65.79
A24: =A23+1 -> 17 | B24: VP LATGALES RP DIENVIDLATGALES IECIRKŅA IZMEKLĒŠANAS NODAĻAS 3.GRUPA | C24: vecākais inspektors | D24: 1640 | E24: 20% | F24: =ROUND(D24/$F$4,3) -> 9.825 | G24: 48 | H24: 94.32 | I24: =ROUND(H24*23.59%,2) -> 22.25 | J24: =H24+I24 -> 116.57
A25: =A24+1 -> 18 | B25: VP LATGALES RP KĀRTPB ATĻAUJU SISTĒMAS GRUPA | C25: vecākais inspektors | D25: 1435 | E25: 20% | F25: =ROUND(D25/$F$4,3) -> 8.597 | G25: 24 | H25: 41.27 | I25: =ROUND(H25*23.59%,2) -> 9.74 | J25: =H25+I25 -> 51.01
A26: =A25+1 -> 19 | B26: VP LATGALES RP DIENVIDLATGALES IECIRKŅA REAĢĒŠANAS NODAĻAS 9.GRUPA | C26: inspektors | D26: 1365 | E26: 20% | F26: =ROUND(D26/$F$4,3) -> 8.178 | G26: 12 | H26: 19.63 | I26: =ROUND(H26*23.59%,2)-0.01 -> 4.62 | J26: =H26+I26 -> 24.25
A27: =A26+1 -> 20 | B27: VP GKĀRTPP RKVP SPECIĀLO UZDEVUMU BATALJONA 1.ROTA | C27: jaunākais inspektors | D27: 1410 | E27: 20% | F27: =ROUND(D27/$F$4,3) -> 8.447 | G27: 120.5 | H27: 203.57 | I27: =ROUND(H27*23.59%,2) -> 48.02 | J27: =H27+I27 -> 251.59
A28: =A27+1 -> 21 | B28: VP GKĀRTPP RKVP SPECIĀLO UZDEVUMU BATALJONA 1.ROTA | C28: jaunākais inspektors | D28: 1410 | E28: 50% | F28: =ROUND(D28/$F$4,3) -> 8.447 | G28: 10.5 | H28: 44.35 | I28: =ROUND(H28*23.59%,2) -> 10.46 | J28: =H28+I28 -> 54.81
A29: =A28+1 -> 22 | B29: VP LATGALES RP DIENVIDLATGALES IECIRKŅA IZMEKLĒŠANAS NODAĻAS 4.GRUPA | C29: inspektors | D29: 1501 | E29: 20% | F29: =ROUND(D29/$F$4,3) -> 8.992 | G29: 36 | H29: 64.74 | I29: =ROUND(H29*23.59%,2) -> 15.27 | J29: =H29+I29 -> 80.01
A30: =A29+1 -> 23 | B30: VP LATGALES RP DIENVIDLATGALES IECIRKŅA IZMEKLĒŠANAS NODAĻAS 5.GRUPA | C30: inspektors | D30: 1581 | E30: 20% | F30: =ROUND(D30/$F$4,3) -> 9.472 | G30: 25 | H30: 47.36 | I30: =ROUND(H30*23.59%,2) -> 11.17 | J30: =H30+I30 -> 58.53
A31: =A30+1 -> 24 | B31: VP LATGALES RP ZIEMEĻLATGALES IECIRKŅA IZMEKLĒŠANAS NODAĻAS 3.GRUPA | C31: inspektors | D31: 1541 | E31: 20% | F31: =ROUND(D31/$F$4,3) -> 9.232 | G31: 36 | H31: 66.47 | I31: =ROUND(H31*23.59%,2) -> 15.68 | J31: =H31+I31 -> 82.15
A32: =A31+1 -> 25 | B32: VP LATGALES RP DIENVIDLATGALES IECIRKŅA PREVENCIJAS GRUPA | C32: inspektors | D32: 1452 | E32: 20% | F32: =ROUND(D32/$F$4,3) -> 8.699 | G32: 24 | H32: 41.76 | I32: =ROUND(H32*23.59%,2) -> 9.85 | J32: =H32+I32 -> 51.61
A33: =A32+1 -> 26 | B33: VP LATGALES RP ZIEMEĻLATGALES IECIRKŅA REAĢĒŠANAS NODAĻAS 7.GRUPA | C33: galvenais inspektors | D33: 1660 | E33: 20% | F33: =ROUND(D33/$F$4,3) -> 9.945 | G33: 36 | H33: 71.6 | I33: =ROUND(H33*23.59%,2) -> 16.89 | J33: =H33+I33 -> 88.49
A34: =A33+1 -> 27 | B34: VP GKĀRTPP RKVP SUB DIENESTA ORGANIZĀCIJAS, KOORDINĀCIJAS UN KONTROLES GRUPA | C34: inspektors | D34: 1855 | E34: 50% | F34: =ROUND(D34/$F$4,3) -> 11.113 | G34: 11 | H34: 61.12 | I34: =ROUND(H34*23.59%,2) -> 14.42 | J34: =H34+I34 -> 75.54
A35: =A34+1 -> 28 | B35: VP GKĀRTPP RKVP SUB DIENESTA ORGANIZĀCIJAS, KOORDINĀCIJAS UN KONTROLES GRUPA | C35: inspektors | D35: 1855 | E35: 20% | F35: =ROUND(D35/$F$4,3) -> 11.113 | G35: 109 | H35: 242.26 | I35: =ROUND(H35*23.59%,2) -> 57.15 | J35: =H35+I35 -> 299.41
A36: =A35+1 -> 29 | B36: VP LATGALES RP ZIEMEĻLATGALES IECIRKŅA REAĢĒŠANAS NODAĻAS 8.GRUPA | C36: inspektors | D36: 1365 | E36: 50% | F36: =ROUND(D36/$F$4,3) -> 8.178 | G36: 4 | H36: 16.36 | I36: =ROUND(H36*23.59%,2) -> 3.86 | J36: =H36+I36 -> 20.22
A37: =A36+1 -> 30 | B37: VP LATGALES RP ZIEMEĻLATGALES IECIRKŅA REAĢĒŠANAS NODAĻAS 8.GRUPA | C37: inspektors | D37: 1365 | E37: 20% | F37: =ROUND(D37/$F$4,3) -> 8.178 | G37: 44 | H37: 71.96 | I37: =ROUND(H37*23.59%,2) -> 16.98 | J37: =H37+I37 -> 88.94
A38: =A37+1 -> 31 | B38: VP LATGALES RP ZIEMEĻLATGALES IECIRKŅA REAĢĒŠANAS NODAĻAS 4.GRUPA | C38: vecākais inspektors | D38: 1531 | E38: 20% | F38: =ROUND(D38/$F$4,3) -> 9.172 | G38: 28 | H38: 51.36 | I38: =ROUND(H38*23.59%,2) -> 12.12 | J38: =H38+I38 -> 63.48
... A45: =A44+1 -> 38 | B45: VP LATGALES RP DIENVIDLATGALES IECIRKŅA IZMEKLĒŠANAS NODAĻAS 7.GRUPA | C45: vecākais inspektors | D45: 1495 | E45: 20% | F45: =ROUND(D45/$F$4,3) -> 8.956 | G45: 12 | H45: 21.49 | I45: =ROUND(H45*23.59%,2) -> 5.07 | J45: =H45+I45 -> 26.56
A46: =A45+1 -> 39 | B46: VP LATGALES RP DIENVIDLATGALES IECIRKŅA REAĢĒŠANAS NODAĻAS 4.GRUPA | C46: vecākais inspektors | D46: 1765 | E46: 20% | F46: =ROUND(D46/$F$4,3) -> 10.574 | G46: 24 | H46: 50.76 | I46: =ROUND(H46*21.94%,2) -> 11.14 | J46: =H46+I46 -> 61.9 | K46: *
A47: =A46+1 -> 40 | B47: VP LATGALES RP ZIEMEĻLATGALES IECIRKŅA IZMEKLĒŠANAS NODAĻAS 3.GRUPA | C47: vecākais inspektors | D47: 1640 | E47: 20% | F47: =ROUND(D47/$F$4,3) -> 9.825 | G47: 24 | H47: 47.16 | I47: =ROUND(H47*23.59%,2) -> 11.13 | J47: =H47+I47 -> 58.29
A48: =A47+1 -> 41 | B48: VP LATGALES RP DIENVIDLATGALES IECIRKŅA IZMEKLĒŠANAS NODAĻAS 9.GRUPA | C48: inspektors | D48: 1385 | E48: 20% | F48: =ROUND(D48/$F$4,3) -> 8.297 | G48: 24 | H48: 39.83 | I48: =ROUND(H48*23.59%,2) -> 9.4 | J48: =H48+I48 -> 49.23
A49: =A48+1 -> 42 | B49: VP LATGALES RP DIENVIDLATGALES IECIRKŅA REAĢĒŠANAS NODAĻAS 3.GRUPA | C49: inspektors | D49: 1425 | E49: 20% | F49: =ROUND(D49/$F$4,3) -> 8.537 | G49: 24 | H49: 40.98 | I49: =ROUND(H49*23.59%,2) -> 9.67 | J49: =H49+I49 -> 50.65
A50: =A49+1 -> 43 | B50: VP LATGALES RP ZIEMEĻLATGALES IECIRKŅA REAĢĒŠANAS NODAĻAS 5.GRUPA | C50: vecākais inspektors | D50: 1455 | E50: 20% | F50: =ROUND(D50/$F$4,3) -> 8.717 | G50: 12 | H50: 20.92 | I50: =ROUND(H50*23.59%,2) -> 4.94 | J50: =H50+I50 -> 25.86
A51: =A50+1 -> 44 | B51: VP LATGALES RP KRIMPB ORGANIZĒTĀS NOZIEDZĪBAS SMAGO UN SĒRIJVEIDA NOZIEGUMU APKAROŠANAS NODAĻA | C51: vecākais inspektors | D51: 1682 | E51: 20% | F51: =ROUND(D51/$F$4,3) -> 10.077 | G51: 12 | H51: 24.18 | I51: =ROUND(H51*23.59%,2) -> 5.7 | J51: =H51+I51 -> 29.88
A52: =A51+1 -> 45 | B52: VP LATGALES RP DIENVIDLATGALES IECIRKŅA IZMEKLĒŠANAS NODAĻAS 7.GRUPA | C52: inspektors | D52: 1385 | E52: 20% | F52: =ROUND(D52/$F$4,3) -> 8.297 | G52: 12 | H52: 19.91 | I52: =ROUND(H52*23.59%,2)-0.01 -> 4.69 | J52: =H52+I52 -> 24.6
A53: =A52+1 -> 46 | B53: VP LATGALES RP DIENVIDLATGALES IECIRKŅA IZMEKLĒŠANAS NODAĻAS 9.GRUPA | C53: inspektors | D53: 1412 | E53: 20% | F53: =ROUND(D53/$F$4,3) -> 8.459 | G53: 36 | H53: 60.9 | I53: =ROUND(H53*23.59%,2) -> 14.37 | J53: =H53+I53 -> 75.27
A54: =A53+1 -> 47 | B54: VP LATGALES RP ZIEMEĻLATGALES IECIRKŅA REAĢĒŠANAS NODAĻAS 6.GRUPA | C54: jaunākais inspektors | D54: 1208 | E54: 20% | F54: =ROUND(D54/$F$4,3) -> 7.237 | G54: 24 | H54: 34.74 | I54: =ROUND(H54*23.59%,2) -> 8.2 | J54: =H54+I54 -> 42.94
A55: =A54+1 -> 48 | B55: VP LATGALES RP ZIEMEĻLATGALES IECIRKŅA REAĢĒŠANAS NODAĻAS 2.GRUPA | C55: inspektors | D55: 1365 | E55: 20% | F55: =ROUND(D55/$F$4,3) -> 8.178 | G55: 24 | H55: 39.25 | I55: =ROUND(H55*23.59%,2) -> 9.26 | J55: =H55+I55 -> 48.51
A56: =A55+1 -> 49 | B56: VP LATGALES RP ZIEMEĻLATGALES IECIRKŅA IZMEKLĒŠANAS NODAĻAS 7.GRUPA | C56: inspektors | D56: 1385 | E56: 20% | F56: =ROUND(D56/$F$4,3) -> 8.297 | G56: 12 | H56: 19.91 | I56: =ROUND(H56*23.59%,2)-0.01 -> 4.69 | J56: =H56+I56 -> 24.6
A57: =A56+1 -> 50 | B57: VP LATGALES RP DIENVIDLATGALES IECIRKŅA IZMEKLĒŠANAS NODAĻAS 8.GRUPA | C57: vecākais inspektors | D57: 1483 | E57: 20% | F57: =ROUND(D57/$F$4,3) -> 8.884 | G57: 36 | H57: 63.96 | I57: =ROUND(H57*23.59%,2) -> 15.09 | J57: =H57+I57 -> 79.05
A58: =A57+1 -> 51 | B58: VP LATGALES RP DIENVIDLATGALES IECIRKŅA PREVENCIJAS GRUPA | C58: inspektors | D58: 1385 | E58: 20% | F58: =ROUND(D58/$F$4,3) -> 8.297 | G58: 12 | H58: 19.91 | I58: =ROUND(H58*23.59%,2)-0.01 -> 4.69 | J58: =H58+I58 -> 24.6
A59: =A58+1 -> 52 | B59: VP LATGALES RP ZIEMEĻLATGALES IECIRKŅA REAĢĒŠANAS NODAĻAS 7.GRUPA | C59: jaunākais inspektors | D59: 1202 | E59: 20% | F59: =ROUND(D59/$F$4,3) -> 7.201 | G59: 9 | H59: 12.96 | I59: =ROUND(H59*23.59%,2) -> 3.06 | J59: =H59+I59 -> 16.02
A60: =A59+1 -> 53 | B60: VP LATGALES RP ZIEMEĻLATGALES IECIRKŅA REAĢĒŠANAS NODAĻAS 6.GRUPA | C60: inspektors | D60: 1365 | E60: 20% | F60: =ROUND(D60/$F$4,3) -> 8.178 | G60: 24 | H60: 39.25 | I60: =ROUND(H60*23.59%,2) -> 9.26 | J60: =H60+I60 -> 48.51
A61: =A60+1 -> 54 | B61: VP LATGALES RP ZIEMEĻLATGALES IECIRKŅA REAĢĒŠANAS NODAĻAS 9.GRUPA | C61: inspektors | D61: 1385 | E61: 20% | F61: =ROUND(D61/$F$4,3) -> 8.297 | G61: 36 | H61: 59.74 | I61: =ROUND(H61*23.59%,2) -> 14.09 | J61: =H61+I61 -> 73.83
A62: =A61+1 -> 55 | B62: VP LATGALES REĢIONA PĀRVALDES DISCIPLINĀRĀS UZRAUDZĪBAS GRUPA | C62: vecākais inspektors | D62: 1640 | E62: 20% | F62: =ROUND(D62/$F$4,3) -> 9.825 | G62: 36 | H62: 70.74 | I62: =ROUND(H62*23.59%,2) -> 16.69 | J62: =H62+I62 -> 87.43
A63: =A62+1 -> 56 | B63: VP LATGALES RP KĀRTPB SŪDZĪBU IZSKATĪŠANAS GRUPA | C63: galvenais inspektors | D63: 1738 | E63: 20% | F63: =ROUND(D63/$F$4,3) -> 10.412 | G63: 36 | H63: 74.97 | I63: =ROUND(H63*23.59%,2) -> 17.69 | J63: =H63+I63 -> 92.66
A64: =A63+1 -> 57 | B64: VP LATGALES RP DIENVIDLATGALES IECIRKŅA REAĢĒŠANAS NODAĻAS 1.GRUPA | C64: vecākais inspektors | D64: 1495 | E64: 20% | F64: =ROUND(D64/$F$4,3) -> 8.956 | G64: 24 | H64: 42.99 | I64: =ROUND(H64*23.59%,2) -> 10.14 | J64: =H64+I64 -> 53.13
A65: =A64+1 -> 58 | B65: VP LATGALES RP ZIEMEĻLATGALES IECIRKŅA IZMEKLĒŠANAS NODAĻAS 2.GRUPA | C65: inspektors | D65: 1521 | E65: 20% | F65: =ROUND(D65/$F$4,3) -> 9.112 | G65: 48 | H65: 87.48 | I65: =ROUND(H65*23.59%,2) -> 20.64 | J65: =H65+I65 -> 108.12
A66: =A65+1 -> 59 | B66: VP LATGALES RP DIENVIDLATGALES IECIRKŅA IZMEKLĒŠANAS NODAĻAS 7.GRUPA | C66: vecākais inspektors | D66: 1455 | E66: 20% | F66: =ROUND(D66/$F$4,3) -> 8.717 | G66: 12 | H66: 20.92 | I66: =ROUND(H66*23.59%,2) -> 4.94 | J66: =H66+I66 -> 25.86
A67: =A66+1 -> 60 | B67: VP LATGALES RP ZIEMEĻLATGALES IECIRKŅA IZMEKLĒŠANAS NODAĻAS 9.GRUPA | C67: galvenais inspektors | D67: 1640 | E67: 20% | F67: =ROUND(D67/$F$4,3) -> 9.825 | G67: 24 | H67: 47.16 | I67: =ROUND(H67*23.59%,2) -> 11.13 | J67: =H67+I67 -> 58.29
A68: =A67+1 -> 61 | B68: VP LATGALES RP ZIEMEĻLATGALES IECIRKŅA REAĢĒŠANAS NODAĻAS 3.GRUPA | C68: inspektors | D68: 1405 | E68: 20% | F68: =ROUND(D68/$F$4,3) -> 8.417 | G68: 24 | H68: 40.4 | I68: =ROUND(H68*23.59%,2) -> 9.53 | J68: =H68+I68 -> 49.93
A69: =A68+1 -> 62 | B69: VP LATGALES RP ZIEMEĻLATGALES IECIRKŅA IZMEKLĒŠANAS NODAĻAS 5.GRUPA | C69: inspektors | D69: 1581 | E69: 20% | F69: =ROUND(D69/$F$4,3) -> 9.472 | G69: 72 | H69: 136.4 | I69: =ROUND(H69*23.59%,2)-0.01 -> 32.17 | J69: =H69+I69 -> 168.57
A70: =A69+1 -> 63 | B70: VP LATGALES RP DIENVIDLATGALES IECIRKŅA REAĢĒŠANAS NODAĻAS 4.GRUPA | C70: vecākais inspektors | D70: 1523 | E70: 20% | F70: =ROUND(D70/$F$4,3) -> 9.124 | G70: 12 | H70: 21.9 | I70: =ROUND(H70*23.59%,2)-0.01 -> 5.16 | J70: =H70+I70 -> 27.06
A71: =A70+1 -> 64 | B71: VP LATGALES RP ZIEMEĻLATGALES IECIRKŅA REAĢĒŠANAS NODAĻAS 2.GRUPA | C71: vecākais inspektors | D71: 1435 | E71: 20% | F71: =ROUND(D71/$F$4,3) -> 8.597 | G71: 36 | H71: 61.9 | I71: =ROUND(H71*23.59%,2)-0.01 -> 14.59 | J71: =H71+I71 -> 76.49
A72: =A71+1 -> 65 | B72: VP GKĀRTPP RKVP SPECIĀLO UZDEVUMU BATALJONA 1.ROTA | C72: jaunākais inspektors | D72: 1410 | E72: 50% | F72: =ROUND(D72/$F$4,3) -> 8.447 | G72: 21 | H72: 88.69 | I72: =ROUND(H72*23.59%,2)-0.01 -> 20.91 | J72: =H72+I72 -> 109.6
A73: =A72+1 -> 66 | B73: VP GKĀRTPP RKVP SPECIĀLO UZDEVUMU BATALJONA 1.ROTA | C73: jaunākais inspektors | D73: 1410 | E73: 20% | F73: =ROUND(D73/$F$4,3) -> 8.447 | G73: 123 | H73: 207.8 | I73: =ROUND(H73*23.59%,2)-0.01 -> 49.01 | J73: =H73+I73 -> 256.81
A74: =A73+1 -> 67 | B74: VP LATGALES RP KĀRTPB RESURSU UN KRĪZES VADĪBAS NODAĻA | C74: nodaļas priekšnieka vietnieks | D74: 1706 | E74: 20% | F74: =ROUND(D74/$F$4,3) -> 10.22 | G74: 36 | H74: 73.58 | I74: =ROUND(H74*23.59%,2)-0.01 -> 17.35 | J74: =H74+I74 -> 90.93
A75: =A74+1 -> 68 | B75: VP LATGALES RP KĀRTPB ATĻAUJU SISTĒMAS GRUPA | C75: inspektors | D75: 1297 | E75: 20% | F75: =ROUND(D75/$F$4,3) -> 7.77 | G75: 24 | H75: 37.3 | I75: =ROUND(H75*23.59%,2) -> 8.8 | J75: =H75+I75 -> 46.1
A76: =A75+1 -> 69 | B76: VP LATGALES RP DIENVIDLATGALES IECIRKŅA REAĢĒŠANAS NODAĻAS 8.GRUPA | C76: inspektors | D76: 1432 | E76: 20% | F76: =ROUND(D76/$F$4,3) -> 8.579 | G76: 24 | H76: 41.18 | I76: =ROUND(H76*23.59%,2) -> 9.71 | J76: =H76+I76 -> 50.89
A77: =A76+1 -> 70 | B77: VP LATGALES RP DIENVIDLATGALES IECIRKŅA REAĢĒŠANAS NODAĻAS 7.GRUPA | C77: jaunākais inspektors | D77: 1242 | E77: 20% | F77: =ROUND(D77/$F$4,3) -> 7.441 | G77: 24 | H77: 35.72 | I77: =ROUND(H77*23.59%,2) -> 8.43 | J77: =H77+I77 -> 44.15
A78: =A77+1 -> 71 | B78: VP LATGALES RP ZIEMEĻLATGALES IECIRKŅA IZMEKLĒŠANAS NODAĻAS 7.GRUPA | C78: inspektors | D78: 1405 | E78: 20% | F78: =ROUND(D78/$F$4,3) -> 8.417 | G78: 36 | H78: 60.6 | I78: =ROUND(H78*23.59%,2) -> 14.3 | J78: =H78+I78 -> 74.9
A79: =A78+1 -> 72 | B79: VP LATGALES RP DIENVIDLATGALES IECIRKŅA PREVENCIJAS GRUPA | C79: inspektors | D79: 1392 | E79: 20% | F79: =ROUND(D79/$F$4,3) -> 8.339 | G79: 24 | H79: 40.03 | I79: =ROUND(H79*23.59%,2) -> 9.44 | J79: =H79+I79 -> 49.47
A80: =A79+1 -> 73 | B80: VP LATGALES RP DIENVIDLATGALES IECIRKŅA IZMEKLĒŠANAS NODAĻAS 6.GRUPA | C80: inspektors | D80: 1445 | E80: 20% | F80: =ROUND(D80/$F$4,3) -> 8.657 | G80: 12 | H80: 20.78 | I80: =ROUND(H80*23.59%,2) -> 4.9 | J80: =H80+I80 -> 25.68
A81: =A80+1 -> 74 | B81: VP LATGALES RP DIENVIDLATGALES IECIRKŅA IZMEKLĒŠANAS NODAĻAS 6.GRUPA | C81: vecākais inspektors | D81: 1495 | E81: 20% | F81: =ROUND(D81/$F$4,3) -> 8.956 | G81: 24 | H81: 42.99 | I81: =ROUND(H81*23.59%,2) -> 10.14 | J81: =H81+I81 -> 53.13
A82: =A81+1 -> 75 | B82: VP LATGALES RP KRIMPB ORGANIZĒTĀS NOZIEDZĪBAS SMAGO UN SĒRIJVEIDA NOZIEGUMU APKAROŠANAS NODAĻA | C82: vecākais inspektors | D82: 1702 | E82: 20% | F82: =ROUND(D82/$F$4,3) -> 10.197 | G82: 12 | H82: 24.47 | I82: =ROUND(H82*23.59%,2) -> 5.77 | J82: =H82+I82 -> 30.24
A83: =A82+1 -> 76 | B83: VP LATGALES RP DIENVIDLATGALES IECIRKŅA REAĢĒŠANAS NODAĻAS 5.GRUPA | C83: jaunākais inspektors | D83: 1162 | E83: 20% | F83: =ROUND(D83/$F$4,3) -> 6.961 | G83: 24 | H83: 33.41 | I83: =ROUND(H83*23.59%,2) -> 7.88 | J83: =H83+I83 -> 41.29
A84: =A83+1 -> 77 | B84: VP LATGALES RP ZIEMEĻLATGALES IECIRKŅA PREVENCIJAS GRUPA | C84: inspektors | D84: 1702 | E84: 20% | F84: =ROUND(D84/$F$4,3) -> 10.197 | G84: 26 | H84: 53.02 | I84: =ROUND(H84*23.59%,2) -> 12.51 | J84: =H84+I84 -> 65.53
A85: =A84+1 -> 78 | B85: VP LATGALES RP DIENVIDLATGALES IECIRKŅA IZMEKLĒŠANAS NODAĻAS 2.GRUPA | C85: inspektors | D85: 1533 | E85: 20% | F85: =ROUND(D85/$F$4,3) -> 9.184 | G85: 36 | H85: 66.12 | I85: =ROUND(H85*23.59%,2) -> 15.6 | J85: =H85+I85 -> 81.72
A86: =A85+1 -> 79 | B86: VP LATGALES RP DIENVIDLATGALES IECIRKŅA REAĢĒŠANAS NODAĻAS 10.GRUPA | C86: vecākais inspektors | D86: 1475 | E86: 20% | F86: =ROUND(D86/$F$4,3) -> 8.837 | G86: 24 | H86: 42.42 | I86: =ROUND(H86*23.59%,2) -> 10.01 | J86: =H86+I86 -> 52.43
... A100: =A99+1 -> 93 | B100: VP LATGALES RP DIENVIDLATGALES IECIRKŅA REAĢĒŠANAS NODAĻAS 4.GRUPA | C100: galvenais inspektors | D100: 1640 | E100: 20% | F100: =ROUND(D100/$F$4,3) -> 9.825 | G100: 24 | H100: 47.16 | I100: =ROUND(H100*23.59%,2) -> 11.13 | J100: =H100+I100 -> 58.29
A101: =A100+1 -> 94 | B101: VP LATGALES RP DIENVIDLATGALES IECIRKŅA REAĢĒŠANAS NODAĻAS 9.GRUPA | C101: inspektors | D101: 1365 | E101: 20% | F101: =ROUND(D101/$F$4,3) -> 8.178 | G101: 12 | H101: 19.63 | I101: =ROUND(H101*23.59%,2)-0.01 -> 4.62 | J101: =H101+I101 -> 24.25
A102: =A101+1 -> 95 | B102: VP LATGALES RP DIENVIDLATGALES IECIRKŅA REAĢĒŠANAS NODAĻAS 10.GRUPA | C102: inspektors | D102: 1405 | E102: 20% | F102: =ROUND(D102/$F$4,3) -> 8.417 | G102: 36 | H102: 60.6 | I102: =ROUND(H102*23.59%,2) -> 14.3 | J102: =H102+I102 -> 74.9
A103: =A102+1 -> 96 | B103: VP GKĀRTPP RKVP SPECIĀLO UZDEVUMU BATALJONA 1.ROTA | C103: rotas komandiera vietnieks | D103: 2014 | E103: 50% | F103: =ROUND(D103/$F$4,3) -> 12.066 | G103: 10.5 | H103: 63.35 | I103: =ROUND(H103*23.59%,2) -> 14.94 | J103: =H103+I103 -> 78.29
A104: =A103+1 -> 97 | B104: VP GKĀRTPP RKVP SPECIĀLO UZDEVUMU BATALJONA 1.ROTA | C104: rotas komandiera vietnieks | D104: 2014 | E104: 20% | F104: =ROUND(D104/$F$4,3) -> 12.066 | G104: 120.5 | H104: 290.79 | I104: =ROUND(H104*23.59%,2) -> 68.6 | J104: =H104+I104 -> 359.39
A105: =A104+1 -> 98 | B105: VP LATGALES RP DIENVIDLATGALES IECIRKŅA REAĢĒŠANAS NODAĻAS 2.GRUPA | C105: vecākais inspektors | D105: 1523 | E105: 20% | F105: =ROUND(D105/$F$4,3) -> 9.124 | G105: 12 | H105: 21.9 | I105: =ROUND(H105*23.59%,2) -> 5.17 | J105: =H105+I105 -> 27.07
A106: =A105+1 -> 99 | B106: VP LATGALES RP DIENVIDLATGALES IECIRKŅA IZMEKLĒŠANAS NODAĻAS 2.GRUPA | C106: inspektors | D106: 1581 | E106: 20% | F106: =ROUND(D106/$F$4,3) -> 9.472 | G106: 48 | H106: 90.93 | I106: =ROUND(H106*23.59%,2) -> 21.45 | J106: =H106+I106 -> 112.38
A107: =A106+1 -> 100 | B107: VP LATGALES RP DIENVIDLATGALES IECIRKŅA REAĢĒŠANAS NODAĻAS 5.GRUPA | C107: inspektors | D107: 1365 | E107: 20% | F107: =ROUND(D107/$F$4,3) -> 8.178 | G107: 24 | H107: 39.25 | I107: =ROUND(H107*23.59%,2) -> 9.26 | J107: =H107+I107 -> 48.51
A108: =A107+1 -> 101 | B108: VP LATGALES RP DIENVIDLATGALES IECIRKŅA IZMEKLĒŠANAS NODAĻAS 9.GRUPA | C108: inspektors | D108: 1445 | E108: 20% | F108: =ROUND(D108/$F$4,3) -> 8.657 | G108: 12 | H108: 20.78 | I108: =ROUND(H108*23.59%,2) -> 4.9 | J108: =H108+I108 -> 25.68
A109: =A108+1 -> 102 | B109: VP LATGALES RP DIENVIDLATGALES IECIRKŅA IZMEKLĒŠANAS NODAĻAS 7.GRUPA | C109: inspektors | D109: 1365 | E109: 20% | F109: =ROUND(D109/$F$4,3) -> 8.178 | G109: 36 | H109: 58.88 | I109: =ROUND(H109*23.59%,2) -> 13.89 | J109: =H109+I109 -> 72.77
A110: =A109+1 -> 103 | B110: VP LATGALES RP KRIMPB EKONOMISKO NOZIEGUMU APKAROŠANAS NODAĻA | C110: vecākais inspektors | D110: 1682 | E110: 20% | F110: =ROUND(D110/$F$4,3) -> 10.077 | G110: 12 | H110: 24.18 | I110: =ROUND(H110*23.59%,2) -> 5.7 | J110: =H110+I110 -> 29.88
A111: =A110+1 -> 104 | B111: VP LATGALES RP DIENVIDLATGALES IECIRKŅA PREVENCIJAS GRUPA | C111: inspektors | D111: 1385 | E111: 20% | F111: =ROUND(D111/$F$4,3) -> 8.297 | G111: 24 | H111: 39.83 | I111: =ROUND(H111*23.59%,2) -> 9.4 | J111: =H111+I111 -> 49.23
A112: =A111+1 -> 105 | B112: VP LATGALES RP DIENVIDLATGALES IECIRKŅA IZMEKLĒŠANAS NODAĻAS 6.GRUPA | C112: inspektors | D112: 1365 | E112: 20% | F112: =ROUND(D112/$F$4,3) -> 8.178 | G112: 12 | H112: 19.63 | I112: =ROUND(H112*23.59%,2)-0.01 -> 4.62 | J112: =H112+I112 -> 24.25
A113: =A112+1 -> 106 | B113: VP LATGALES RP KRIMPB RĒZEKNES REĢIONĀLĀ NODAĻA | C113: galvenais inspektors | D113: 1759 | E113: 20% | F113: =ROUND(D113/$F$4,3) -> 10.538 | G113: 12 | H113: 25.29 | I113: =ROUND(H113*23.59%,2) -> 5.97 | J113: =H113+I113 -> 31.26
A114: =A113+1 -> 107 | B114: VP LATGALES RP DIENVIDLATGALES IECIRKŅA IZMEKLĒŠANAS NODAĻAS 2.GRUPA | C114: inspektors | D114: 1581 | E114: 20% | F114: =ROUND(D114/$F$4,3) -> 9.472 | G114: 24 | H114: 45.47 | I114: =ROUND(H114*23.59%,2) -> 10.73 | J114: =H114+I114 -> 56.2
A115: =A114+1 -> 108 | B115: VP LATGALES RP ZIEMEĻLATGALES IECIRKŅA REAĢĒŠANAS NODAĻAS 7.GRUPA | C115: inspektors | D115: 1472 | E115: 20% | F115: =ROUND(D115/$F$4,3) -> 8.819 | G115: 12 | H115: 21.17 | I115: =ROUND(H115*23.59%,2) -> 4.99 | J115: =H115+I115 -> 26.16
A116: =A115+1 -> 109 | B116: VP LATGALES RP DIENVIDLATGALES IECIRKŅA REAĢĒŠANAS NODAĻAS 3.GRUPA | C116: vecākais inspektors | D116: 1495 | E116: 20% | F116: =ROUND(D116/$F$4,3) -> 8.956 | G116: 12 | H116: 21.49 | I116: =ROUND(H116*23.59%,2) -> 5.07 | J116: =H116+I116 -> 26.56
A117: =A116+1 -> 110 | B117: VP LATGALES RP ZIEMEĻLATGALES IECIRKŅA REAĢĒŠANAS NODAĻAS 3.GRUPA | C117: inspektors | D117: 1385 | E117: 20% | F117: =ROUND(D117/$F$4,3) -> 8.297 | G117: 12 | H117: 19.91 | I117: =ROUND(H117*23.59%,2)-0.01 -> 4.69 | J117: =H117+I117 -> 24.6
A118: =A117+1 -> 111 | B118: VP LATGALES RP KRIMPB EKONOMISKO NOZIEGUMU APKAROŠANAS NODAĻA | C118: galvenais inspektors | D118: 1779 | E118: 20% | F118: =ROUND(D118/$F$4,3) -> 10.658 | G118: 12 | H118: 25.58 | I118: =ROUND(H118*23.59%,2) -> 6.03 | J118: =H118+I118 -> 31.61
A119: =A118+1 -> 112 | B119: VP LATGALES RP KRIMPB RĒZEKNES REĢIONĀLĀ NODAĻA | C119: vecākais inspektors | D119: 1652 | E119: 20% | F119: =ROUND(D119/$F$4,3) -> 9.897 | G119: 24 | H119: 47.51 | I119: =ROUND(H119*23.59%,2) -> 11.21 | J119: =H119+I119 -> 58.72
A120: =A119+1 -> 113 | B120: VP LATGALES RP DIENVIDLATGALES IECIRKNIS | C120: iecirkņa priekšnieka vietnieks, Reaģēšanas nodaļas priekšnieks | D120: 2244 | E120: 20% | F120: =ROUND(D120/$F$4,3) -> 13.444 | G120: 36 | H120: 96.8 | I120: =ROUND(H120*23.59%,2) -> 22.84 | J120: =H120+I120 -> 119.64
...

Sheet 4.tabula
G1: 4.tabula
A2: Valsts policija
A3: Detalizēts aprēķins dienas naudas samaksai amatpersonām ar speciālajām dienesta pakāpēm, sniedzot atbalstu Valsts robežsardzei Latvijas Republikas-Baltkrievijas Republikas valsts robežas robežuzraudzības nodrošināšanā par laika periodu no 2024. gada 5. jūnija līdz 17. jūlijam
A5: Nr. p.k. | B5: Struktūrvienība | C5: Amats | D5: Laika periods | E5: Dienu skaits | F5: Likme | G5: Dienas nauda (kopsumma)
A6: kopā: | G6: =SUM(G7:G54) -> 1536
A7: 1 | B7: VP GKĀRTPP RKVP SPECIĀLO UZDEVUMU BATALJONA 6.ROTA (ZEMGALES REĢIONA) | C7: jaunākais inspektors | D7: 05.06.2024.-26.06.2024./ | E7: 2 | F7: 8 | G7: =ROUND(E7*F7,2) -> 16
E8: 20 | F8: 2.4 | G8: =ROUND(E8*F8,2) -> 48
A9: 2 | B9: VP GKĀRTPP RKVP SPECIĀLO UZDEVUMU BATALJONA 6.ROTA (ZEMGALES REĢIONA) | C9: jaunākais inspektors | D9: 05.06.2024.-26.06.2024./ | E9: 2 | F9: 8 | G9: =ROUND(E9*F9,2) -> 16
E10: 20 | F10: 2.4 | G10: =ROUND(E10*F10,2) -> 48
A11: 3 | B11: VP GKĀRTPP RKVP SPECIĀLO UZDEVUMU BATALJONA 6.ROTA (ZEMGALES REĢIONA) | C11: jaunākais inspektors | D11: 05.06.2024.-26.06.2024./ | E11: 2 | F11: 8 | G11: =ROUND(E11*F11,2) -> 16
E12: 20 | F12: 2.4 | G12: =ROUND(E12*F12,2) -> 48
A13: 4 | B13: VP GKĀRTPP RKVP SPECIĀLO UZDEVUMU BATALJONA 7.ROTA (KURZEMES REĢIONA) | C13: jaunākais inspektors | D13: 05.06.2024.-26.06.2024./ | E13: 2 | F13: 8 | G13: =ROUND(E13*F13,2) -> 16
E14: 20 | F14: 2.4 | G14: =ROUND(E14*F14,2) -> 48
A15: 5 | B15: VP GKĀRTPP RKVP SPECIĀLO UZDEVUMU BATALJONA 6.ROTA (ZEMGALES REĢIONA) | C15: jaunākais inspektors | D15: 05.06.2024.-26.06.2024./ | E15: 2 | F15: 8 | G15: =ROUND(E15*F15,2) -> 16
E16: 20 | F16: 2.4 | G16: =ROUND(E16*F16,2) -> 48
A17: 6 | B17: VP GKĀRTPP RKVP SPECIĀLO UZDEVUMU BATALJONA 6.ROTA (ZEMGALES REĢIONA) | C17: jaunākais inspektors | D17: 05.06.2024.-26.06.2024./ | E17: 2 | F17: 8 | G17: =ROUND(E17*F17,2) -> 16
E18: 20 | F18: 2.4 | G18: =ROUND(E18*F18,2) -> 48
A19: 7 | B19: VP GKĀRTPP RKVP SPECIĀLO UZDEVUMU BATALJONA 6.ROTA (ZEMGALES REĢIONA) | C19: jaunākais inspektors | D19: 05.06.2024.-26.06.2024./ | E19: 2 | F19: 8 | G19: =ROUND(E19*F19,2) -> 16
E20: 20 | F20: 2.4 | G20: =ROUND(E20*F20,2) -> 48
A21: 8 | B21: VP ZEMGALES RP DIENVIDZEMGALES IECIRKŅA REAĢĒŠANAS NODAĻAS 6.GRUPA | C21: jaunākais inspektors | D21: 05.06.2024.-26.06.2024./ | E21: 2 | F21: 8 | G21: =ROUND(E21*F21,2) -> 16
E22: 20 | F22: 2.4 | G22: =ROUND(E22*F22,2) -> 48
A23: 9 | B23: VP GKĀRTPP RKVP SPECIĀLO UZDEVUMU BATALJONA 6.ROTA (ZEMGALES REĢIONA) | C23: jaunākais inspektors | D23: 05.06.2024.-26.06.2024./ | E23: 2 | F23: 8 | G23: =ROUND(E23*F23,2) -> 16
E24: 20 | F24: 2.4 | G24: =ROUND(E24*F24,2) -> 48
A25: 10 | B25: VP GKĀRTPP RKVP SPECIĀLO UZDEVUMU BATALJONA 6.ROTA (ZEMGALES REĢIONA) | C25: jaunākais inspektors | D25: 05.06.2024.-26.06.2024./ | E25: 2 | F25: 8 | G25: =ROUND(E25*F25,2) -> 16
E26: 20 | F26: 2.4 | G26: =ROUND(E26*F26,2) -> 48
A27: 11 | B27: VP GKĀRTPP RKVP SPECIĀLO UZDEVUMU BATALJONA 6.ROTA (ZEMGALES REĢIONA) | C27: jaunākais inspektors | D27: 05.06.2024.-26.06.2024./ | E27: 2 | F27: 8 | G27: =ROUND(E27*F27,2) -> 16
E28: 20 | F28: 2.4 | G28: =ROUND(E28*F28,2) -> 48
A29: 12 | B29: VP GKĀRTPP RKVP SPECIĀLO UZDEVUMU BATALJONA 6.ROTA (ZEMGALES REĢIONA) | C29: jaunākais inspektors | D29: 05.06.2024.-26.06.2024./ | E29: 2 | F29: 8 | G29: =ROUND(E29*F29,2) -> 16
E30: 20 | F30: 2.4 | G30: =ROUND(E30*F30,2) -> 48
A31: 13 | B31: VP GKĀRTPP RKVP SPECIĀLO UZDEVUMU BATALJONA 1.ROTA | C31: jaunākais inspektors | D31: 26.06.2024.-17.07.2024./ | E31: 2 | F31: 8 | G31: =ROUND(E31*F31,2) -> 16
E32: 20 | F32: 2.4 | G32: =ROUND(E32*F32,2) -> 48
A33: 14 | B33: VP GKĀRTPP RKVP SPECIĀLO UZDEVUMU BATALJONA 1.ROTA | C33: jaunākais inspektors | D33: 26.06.2024.-17.07.2024./ | E33: 2 | F33: 8 | G33: =ROUND(E33*F33,2) -> 16
E34: 20 | F34: 2.4 | G34: =ROUND(E34*F34,2) -> 48
A35: 15 | B35: VP GKĀRTPP RKVP SPECIĀLO UZDEVUMU BATALJONA 1.ROTA | C35: rotas komandiera vietnieks | D35: 26.06.2024.-17.07.2024./ | E35: 2 | F35: 8 | G35: =ROUND(E35*F35,2) -> 16
E36: 20 | F36: 2.4 | G36: =ROUND(E36*F36,2) -> 48
A37: 16 | B37: VP GKĀRTPP RKVP SPECIĀLO UZDEVUMU BATALJONA 1.ROTA | C37: jaunākais inspektors | D37: 26.06.2024.-17.07.2024./ | E37: 2 | F37: 8 | G37: =ROUND(E37*F37,2) -> 16
E38: 20 | F38: 2.4 | G38: =ROUND(E38*F38,2) -> 48
A39: 17 | B39: VP GKĀRTPP RKVP SPECIĀLO UZDEVUMU BATALJONA 1.ROTA | C39: galvenais inspektors | D39: 26.06.2024.-17.07.2024./ | E39: 2 | F39: 8 | G39: =ROUND(E39*F39,2) -> 16
E40: 20 | F40: 2.4 | G40: =ROUND(E40*F40,2) -> 48
A41: 18 | B41: VP GKĀRTPP RKVP SPECIĀLO UZDEVUMU BATALJONA 1.ROTA | C41: jaunākais inspektors | D41: 26.06.2024.-17.07.2024./ | E41: 2 | F41: 8 | G41: =ROUND(E41*F41,2) -> 16
E42: 20 | F42: 2.4 | G42: =ROUND(E42*F42,2) -> 48
A43: 19 | B43: VP GKĀRTPP RKVP SPECIĀLO UZDEVUMU BATALJONA 1.ROTA | C43: jaunākais inspektors | D43: 26.06.2024.-17.07.2024./ | E43: 2 | F43: 8 | G43: =ROUND(E43*F43,2) -> 16
E44: 20 | F44: 2.4 | G44: =ROUND(E44*F44,2) -> 48
A45: 20 | B45: VP GKĀRTPP RKVP SPECIĀLO UZDEVUMU BATALJONA 1.ROTA | C45: jaunākais inspektors | D45: 26.06.2024.-17.07.2024./ | E45: 2 | F45: 8 | G45: =ROUND(E45*F45,2) -> 16
E46: 20 | F46: 2.4 | G46: =ROUND(E46*F46,2) -> 48
A47: 21 | B47: VP GKĀRTPP RKVP SPECIĀLO UZDEVUMU BATALJONA 1.ROTA | C47: jaunākais inspektors | D47: 26.06.2024.-17.07.2024./ | E47: 2 | F47: 8 | G47: =ROUND(E47*F47,2) -> 16
E48: 20 | F48: 2.4 | G48: =ROUND(E48*F48,2) -> 48
A49: 22 | B49: VP GKĀRTPP RKVP SPECIĀLO UZDEVUMU BATALJONA 1.ROTA | C49: vada komandiera vietnieks | D49: 26.06.2024.-17.07.2024./ | E49: 2 | F49: 8 | G49: =ROUND(E49*F49,2) -> 16
E50: 20 | F50: 2.4 | G50: =ROUND(E50*F50,2) -> 48
A51: 23 | B51: VP GKĀRTPP RKVP SPECIĀLO UZDEVUMU BATALJONA 1.ROTA | C51: vada komandieris | D51: 26.06.2024.-17.07.2024./ | E51: 2 | F51: 8 | G51: =ROUND(E51*F51,2) -> 16
E52: 20 | F52: 2.4 | G52: =ROUND(E52*F52,2) -> 48
A53: 24 | B53: VP GKĀRTPP RKVP SPECIĀLO UZDEVUMU BATALJONA 1.ROTA | C53: jaunākais inspektors | D53: 26.06.2024.-17.07.2024./ | E53: 2 | F53: 8 | G53: =ROUND(E53*F53,2) -> 16
E54: 20 | F54: 2.4 | G54: =ROUND(E54*F54,2) -> 48

Sheet 5. tabula
F1: 5.tabula
A2: Valsts policija
A3: Degvielas izmaksu aprēķins degvielas izdevumiem sniedzot atbalstu Valsts robežsardzei Latvijas Republikas-Baltkrievijas Republikas valsts robežas nelikumīgas šķērsošanas nodrošināšanā par laika periodu no 2024. gada 1. jūlija līdz 31. jūlijam
A5: Nr.p.k. | B5: Transportlīdzekļa marka | C5: Iesaistīto transportlīdzekļu skaits | D5: Faktiskais nobraukums pasākumā (km) | E5: Pasākuma laikā patērētā degviela (l) | F5: Summa euro
A6: Kopā: | C6: =ROUNDUP(SUM(C8:C43),2) -> 79 | D6: =ROUNDUP(SUM(D8:D43),2) -> 89591 | E6: =ROUNDUP(SUM(E8:E43),2) -> 6638.26 | F6: =ROUNDUP(SUM(F8:F43),2) -> 9683.92
A7: Vidzemes reģiona pārvalde
A15: Latgales reģiona pārvalde
A16: 1 | B16: Citroen Berlingo | C16: 2 | D16: 2203 | E16: 124.07 | F16: 179.89
A17: =A16+1 -> 2 | B17: KIA Cee'd | C17: 6 | D17: 2746 | E17: 170.38 | F17: 252.59
A18: =A17+1 -> 3 | B18: Opel Mokka | C18: 31 | D18: 40937 | E18: 2745.23 | F18: 3980.43
A19: =A18+1 -> 4 | B19: Opel Combo Van | C19: 1 | D19: 3487 | E19: 251.06 | F19: 364.03
A20: =A19+1 -> 5 | B20: Opel Insignia Limousine | C20: 7 | D20: 1864 | E20: 148.59 | F20: 215.45
A21: =A20+1 -> 6 | B21: Renault Kangoo | C21: 8 | D21: 12564 | E21: 861.45 | F21: 1249.07
A22: =A21+1 -> 7 | B22: Renault Laguna | C22: 2 | D22: 1316 | E22: 109.72 | F22: 159.08
A23: =A22+1 -> 8 | B23: Renault Trafic | C23: 3 | D23: 4341 | E23: 359.4 | F23: 521.11
A24: =A23+1 -> 9 | B24: Škoda Octavia | C24: 1 | D24: 376 | E24: 21.06 | F24: 30.53
A25: =A24+1 -> 10 | B25: Toyota RAV4 | C25: 3 | D25: 2407 | E25: 143.8 | F25: 214.15
A26: =A25+1 -> 11 | B26: VW Transporter | C26: 7 | D26: 4170 | E26: 349.58 | F26: 510.12
A27: =A26+1 -> 12
A28: =A27+1 -> 13
A29: =A28+1 -> 14
A30: =A29+1 -> 15
A31: =A30+1 -> 16
A32: =A31+1 -> 17
A33: =A32+1 -> 18
A34: =A33+1 -> 19
A35: =A34+1 -> 20
A36: =A35+1 -> 21
A37: Rīgas reģiona pārvalde
A38: 12 | B38: Renault Trafic | C38: 1 | D38: 413 | E38: 32.38 | F38: 51.25 | G38: *
A39: 13 | B39: Nissan Navara | C39: 1 | D39: 457 | E39: 46.84 | F39: 71.91 | G39: *
A40: 14 | B40: VW Crafter | C40: 1 | D40: 1295 | E40: 149.73 | F40: 226.97 | G40: *
A41: 16 | B41: Renault Trafic | C41: 1 | D41: 1913 | E41: 158.97 | F41: 236
A42: 15 | B42: Nissan Navara | C42: 2 | D42: 2635 | E42: 263.96 | F42: 389.29
A43: 17 | B43: VW Crafter | C43: 2 | D43: 6467 | E43: 702.04 | F43: 1032.05
A45: * - Rīgas reģiona pārvaldes izdevumi par laika periodu no 2024. gada 01. jūnija līdz 30. jūnijam.

Sheet  2.tabula
I1: 2.tabula
A2: Valsts policija
A3: Detalizēts aprēķins samaksai par virsstundu darbu amatpersonām ar speciālo dienesta pakāpi, sniedzot atbalstu Valsts robežsardzei Latvijas Republikas-Baltkrievijas Republikas valsts robežas nelikumīgas šķērsošanas nodrošināšanā, par laika periodu no 2024. gada 01. maija līdz 31. maijam.
E4: 166.92
A5: Nr. p.k. | B5: Struktūrvienība | C5: Amats | D5: Mēnešalga amatpersonām ar speciālajām pakāpēm | E5: Stundas likme | F5: Stundu skaits | G5: Samaksa par virsstundu darbu | H5: DD VSAOI | I5: Atlīdzība
A6: kopā | F6: =SUM(F7:F608) -> 0 | G6: =SUM(G7:G608) -> 0 | H6: =SUM(H7:H608) -> 0 | I6: =SUM(I7:I608) -> 0
A7: 1 | E7: =ROUND(D7/$E$4,3) -> 0 | H7: =ROUND(G7*0.2359,2) -> 0 | I7: =G7+H7 -> 0
A8: =A7+1 -> 2 | E8: =ROUND(D8/$E$4,3) -> 0 | H8: =ROUND(G8*0.2359,2) -> 0 | I8: =G8+H8 -> 0
A9: =A8+1 -> 3 | E9: =ROUND(D9/$E$4,3) -> 0 | H9: =ROUND(G9*0.2359,2) -> 0 | I9: =G9+H9 -> 0
A10: =A9+1 -> 4 | E10: =ROUND(D10/$E$4,3) -> 0 | H10: =ROUND(G10*0.2359,2) -> 0 | I10: =G10+H10 -> 0
A11: =A10+1 -> 5 | E11: =ROUND(D11/$E$4,3) -> 0 | H11: =ROUND(G11*0.2359,2) -> 0 | I11: =G11+H11 -> 0
A12: =A11+1 -> 6 | E12: =ROUND(D12/$E$4,3) -> 0 | H12: =ROUND(G12*0.2359,2) -> 0 | I12: =G12+H12 -> 0
A13: =A12+1 -> 7 | E13: =ROUND(D13/$E$4,3) -> 0 | H13: =ROUND(G13*0.2359,2) -> 0 | I13: =G13+H13 -> 0
A14: =A13+1 -> 8 | E14: =ROUND(D14/$E$4,3) -> 0 | H14: =ROUND(G14*0.2359,2) -> 0 | I14: =G14+H14 -> 0
A15: =A14+1 -> 9 | E15: =ROUND(D15/$E$4,3) -> 0 | H15: =ROUND(G15*0.2359,2) -> 0 | I15: =G15+H15 -> 0
A16: =A15+1 -> 10 | E16: =ROUND(D16/$E$4,3) -> 0 | H16: =ROUND(G16*0.2359,2) -> 0 | I16: =G16+H16 -> 0
A17: =A16+1 -> 11 | E17: =ROUND(D17/$E$4,3) -> 0 | H17: =ROUND(G17*0.2359,2) -> 0 | I17: =G17+H17 -> 0
A18: =A17+1 -> 12 | E18: =ROUND(D18/$E$4,3) -> 0 | H18: =ROUND(G18*0.2359,2) -> 0 | I18: =G18+H18 -> 0
A19: =A18+1 -> 13 | E19: =ROUND(D19/$E$4,3) -> 0 | H19: =ROUND(G19*0.2359,2) -> 0 | I19: =G19+H19 -> 0
... A608: =A607+1 -> 602 | E608: =ROUND(D608/$E$4,3) -> 0 | H608: =ROUND(G608*0.2359,2) -> 0 | I608: =G608+H608 -> 0

Sheet 6.tabula
G1: 6.tabula
A2: Valsts policija
A3: Detalizēts aprēķins dienas naudas samaksai amatpersonām ar speciālajām dienesta pakāpēm, sniedzot atbalstu Valsts robežsardzei Latvijas Republikas-Baltkrievijas Republikas valsts robežas robežuzraudzības nodrošināšanā par laika perioduno 2024. gada 01. maija līdz 31. maijam
A5: Nr. p.k. | B5: Struktūrvienība | C5: Amats | D5: Laika periods | E5: Dienu skaits | F5: Likme | G5: Dienas nauda (kopsumma)
A6: kopā: | G6: =SUM(G7:G84) -> 2527.2
A7: 1 | D7: 03.09.2023.-26.09.2023/ | E7: 2 | F7: 8 | G7: =ROUND(E7*F7,2) -> 16
E8: 22 | F8: 2.4 | G8: =ROUND(E8*F8,2) -> 52.8
A9: 2 | D9: 03.09.2023.-26.09.2023/ | E9: 2 | F9: 8 | G9: =ROUND(E9*F9,2) -> 16
E10: 22 | F10: 2.4 | G10: =ROUND(E10*F10,2) -> 52.8
A11: 3 | D11: 03.09.2023.-26.09.2023/ | E11: 2 | F11: 8 | G11: =ROUND(E11*F11,2) -> 16
E12: 22 | F12: 2.4 | G12: =ROUND(E12*F12,2) -> 52.8
A13: 4 | D13: 03.09.2023.-26.09.2023/ | E13: 2 | F13: 8 | G13: =ROUND(E13*F13,2) -> 16
E14: 22 | F14: 2.4 | G14: =ROUND(E14*F14,2) -> 52.8
A15: 5 | D15: 03.09.2023.-26.09.2023/ | E15: 2 | F15: 8 | G15: =ROUND(E15*F15,2) -> 16
E16: 22 | F16: 2.4 | G16: =ROUND(E16*F16,2) -> 52.8
A17: 6 | D17: 03.09.2023.-26.09.2023/ | E17: 2 | F17: 8 | G17: =ROUND(E17*F17,2) -> 16
E18: 22 | F18: 2.4 | G18: =ROUND(E18*F18,2) -> 52.8
A19: 7 | D19: 03.09.2023.-26.09.2023/ | E19: 2 | F19: 8 | G19: =ROUND(E19*F19,2) -> 16
E20: 22 | F20: 2.4 | G20: =ROUND(E20*F20,2) -> 52.8
A21: 8 | D21: 03.09.2023.-26.09.2023/ | E21: 2 | F21: 8 | G21: =ROUND(E21*F21,2) -> 16
E22: 22 | F22: 2.4 | G22: =ROUND(E22*F22,2) -> 52.8
A23: 9 | D23: 03.09.2023.-26.09.2023/ | E23: 2 | F23: 8 | G23: =ROUND(E23*F23,2) -> 16
E24: 22 | F24: 2.4 | G24: =ROUND(E24*F24,2) -> 52.8
A25: 10 | D25: 03.09.2023.-26.09.2023/ | E25: 2 | F25: 8 | G25: =ROUND(E25*F25,2) -> 16
E26: 22 | F26: 2.4 | G26: =ROUND(E26*F26,2) -> 52.8
A27: 11 | D27: 03.09.2023.-26.09.2023/ | E27: 2 | F27: 8 | G27: =ROUND(E27*F27,2) -> 16
E28: 22 | F28: 2.4 | G28: =ROUND(E28*F28,2) -> 52.8
A29: 12 | D29: 03.09.2023.-26.09.2023/ | E29: 2 | F29: 8 | G29: =ROUND(E29*F29,2) -> 16
E30: 22 | F30: 2.4 | G30: =ROUND(E30*F30,2) -> 52.8
A31: 13 | D31: 03.09.2023.-26.09.2023/ | E31: 2 | F31: 8 | G31: =ROUND(E31*F31,2) -> 16
E32: 22 | F32: 2.4 | G32: =ROUND(E32*F32,2) -> 52.8
A33: 14 | D33: 26.09.2023.-17.10.2023/ | E33: 2 | F33: 8 | G33: =ROUND(E33*F33,2) -> 16
E34: 20 | F34: 2.4 | G34: =ROUND(E34*F34,2) -> 48
A35: 15 | D35: 26.09.2023.-17.10.2023/ | E35: 2 | F35: 8 | G35: =ROUND(E35*F35,2) -> 16
E36: 20 | F36: 2.4 | G36: =ROUND(E36*F36,2) -> 48
A37: 16 | D37: 26.09.2023.-17.10.2023/ | E37: 2 | F37: 8 | G37: =ROUND(E37*F37,2) -> 16
E38: 20 | F38: 2.4 | G38: =ROUND(E38*F38,2) -> 48
A39: 17 | D39: 26.09.2023.-17.10.2023/ | E39: 2 | F39: 8 | G39: =ROUND(E39*F39,2) -> 16
E40: 20 | F40: 2.4 | G40: =ROUND(E40*F40,2) -> 48
A41: 18 | D41: 26.09.2023.-17.10.2023/ | E41: 2 | F41: 8 | G41: =ROUND(E41*F41,2) -> 16
E42: 20 | F42: 2.4 | G42: =ROUND(E42*F42,2) -> 48
A43: 19 | D43: 26.09.2023.-17.10.2023/ | E43: 2 | F43: 8 | G43: =ROUND(E43*F43,2) -> 16
E44: 20 | F44: 2.4 | G44: =ROUND(E44*F44,2) -> 48
A45: 20 | D45: 26.09.2023.-17.10.2023/ | E45: 2 | F45: 8 | G45: =ROUND(E45*F45,2) -> 16
E46: 20 | F46: 2.4 | G46: =ROUND(E46*F46,2) -> 48
A47: 21 | D47: 26.09.2023.-17.10.2023/ | E47: 2 | F47: 8 | G47: =ROUND(E47*F47,2) -> 16
E48: 20 | F48: 2.4 | G48: =ROUND(E48*F48,2) -> 48
A49: 22 | D49: 26.09.2023.-17.10.2023/ | E49: 2 | F49: 8 | G49: =ROUND(E49*F49,2) -> 16
E50: 20 | F50: 2.4 | G50: =ROUND(E50*F50,2) -> 48
A51: 23 | D51: 26.09.2023.-17.10.2023/ | E51: 2 | F51: 8 | G51: =ROUND(E51*F51,2) -> 16
E52: 20 | F52: 2.4 | G52: =ROUND(E52*F52,2) -> 48
A53: 24 | D53: 26.09.2023.-17.10.2023/ | E53: 2 | F53: 8 | G53: =ROUND(E53*F53,2) -> 16
E54: 20 | F54: 2.4 | G54: =ROUND(E54*F54,2) -> 48
A55: 25 | D55: 26.09.2023.-17.10.2023/ | E55: 2 | F55: 8 | G55: =ROUND(E55*F55,2) -> 16
E56: 20 | F56: 2.4 | G56: =ROUND(E56*F56,2) -> 48
A57: 26 | D57: 26.09.2023.-17.10.2023/ | E57: 2 | F57: 8 | G57: =ROUND(E57*F57,2) -> 16
E58: 20 | F58: 2.4 | G58: =ROUND(E58*F58,2) -> 48
A59: 27 | D59: 26.09.2023.-17.10.2023/ | E59: 2 | F59: 8 | G59: =ROUND(E59*F59,2) -> 16
E60: 20 | F60: 2.4 | G60: =ROUND(E60*F60,2) -> 48
A61: 28 | D61: 26.09.2023.-17.10.2023/ | E61: 2 | F61: 8 | G61: =ROUND(E61*F61,2) -> 16
E62: 20 | F62: 2.4 | G62: =ROUND(E62*F62,2) -> 48
A63: 29 | D63: 26.09.2023.-17.10.2023/ | E63: 2 | F63: 8 | G63: =ROUND(E63*F63,2) -> 16
E64: 20 | F64: 2.4 | G64: =ROUND(E64*F64,2) -> 48
A65: 30 | D65: 26.09.2023.-17.10.2023/ | E65: 2 | F65: 8 | G65: =ROUND(E65*F65,2) -> 16
E66: 20 | F66: 2.4 | G66: =ROUND(E66*F66,2) -> 48
A67: 31 | D67: 26.09.2023.-17.10.2023/ | E67: 2 | F67: 8 | G67: =ROUND(E67*F67,2) -> 16
E68: 20 | F68: 2.4 | G68: =ROUND(E68*F68,2) -> 48
A69: 32 | D69: 26.09.2023.-17.10.2023/ | E69: 2 | F69: 8 | G69: =ROUND(E69*F69,2) -> 16
E70: 20 | F70: 2.4 | G70: =ROUND(E70*F70,2) -> 48
A71: 33 | D71: 26.09.2023.-17.10.2023/ | E71: 2 | F71: 8 | G71: =ROUND(E71*F71,2) -> 16
E72: 20 | F72: 2.4 | G72: =ROUND(E72*F72,2) -> 48
A73: 34 | D73: 26.09.2023.-17.10.2023/ | E73: 2 | F73: 8 | G73: =ROUND(E73*F73,2) -> 16
E74: 20 | F74: 2.4 | G74: =ROUND(E74*F74,2) -> 48
A75: 35 | D75: 26.09.2023.-17.10.2023/ | E75: 2 | F75: 8 | G75: =ROUND(E75*F75,2) -> 16
E76: 20 | F76: 2.4 | G76: =ROUND(E76*F76,2) -> 48
A77: 36 | D77: 26.09.2023.-17.10.2023/ | E77: 2 | F77: 8 | G77: =ROUND(E77*F77,2) -> 16
E78: 20 | F78: 2.4 | G78: =ROUND(E78*F78,2) -> 48
A79: 37 | D79: 26.09.2023.-17.10.2023/ | E79: 2 | F79: 8 | G79: =ROUND(E79*F79,2) -> 16
E80: 20 | F80: 2.4 | G80: =ROUND(E80*F80,2) -> 48
A81: 38 | D81: 30.09.2023.-17.10.2023/ | E81: 2 | F81: 8 | G81: =ROUND(E81*F81,2) -> 16
E82: 16 | F82: 2.4 | G82: =ROUND(E82*F82,2) -> 38.4
A83: 39 | D83: 26.09.2023.-08.10.2023/ | E83: 2 | F83: 8 | G83: =ROUND(E83*F83,2) -> 16
E84: 11 | F84: 2.4 | G84: =ROUND(E84*F84,2) -> 26.4
