Workbook

Sheet VP jūlijs
D1: 2.pielikums
D2: Ministru kabineta rīkojuma projekta “Par apropriācijas pārdali no budžeta resora
D3: “74. Gadskārtējā valsts budžeta izpildes procesā pārdalāmais finansējums”
D4: programmas 22.00.00 “Valsts ārējās robežas drošības pasākumu nodrošināšana””
D5: sākotnējās ietekmes novērtējuma ziņojumam (anotācijai)
A7: Valsts policijas izdevumi
A8: Kopasavilkums
A10: Kods | B10: Koda nosaukums | C10: Detalizēts izdevumu aprēķins | D10: Izdevumi, euro
A11: Izdevumi kopā ar vidējās izpeļņas pieauguma kompensēšanu | D11: =D12+D15 -> 149401
A12: 1000 | B12: Atlīdzība | C12: × | D12: =D18+D37 -> 52183
A13: 1100 | B13: Atalgojums | C13: × | D13: =D38+D19 -> 42240.67
A14: 1210 | B14: Darba devēja valsts sociālās apdrošināšanas obligātās iemaksas | C14: × | D14: =D40+D26 -> 9941.76
A15: 2000 | B15: Preces un pakalpojumi | C15: × | D15: =D27 -> 97218
A17: 1) Izdevumi saistībā ar rīkojuma Nr. 184 izpildei nepieciešamo pasākumu īstenošanu | D17: =D18+D27 -> 145387
A18: 1000 | B18: Atlīdzība | C18: × | D18: =ROUNDUP(D19+D26,0) -> 48169
A19: 1100 | B19: Atalgojums | C19: × | D19: =SUM(D20:D25) -> 38992.67
A20: 1116 | B20: Mēnešalga amatpersonām ar speciālajām dienesta pakāpēm
A21: 1141
A22: 1141 | B22: Piemaksa par nakts darbu | C22: Detalizēts aprēķins par laika periodu no 2024. gada 1. jūlija līdz 31. jūlijam 1.tabulā. Iesaistītas 213 personas, kopējais iesaistes laiks 3 394 stundas. | D22: ='1.tabula'!G6 -> 15875.82
A23: 1142 | C23: 1) Piemaksa par virsstundu darbu Detalizēts aprēķins par laika periodu no 2024. gada 01. maija līdz 31. maijam 2.tabulā. Iesaistītas ___ personas, kopējais iesaistes laiks _________ stundas. | D23: =' 2.tabula'!G6 -> 0
A24: 1142 | B24: Samaksa par virsstundu darbu un darbu svētku dienās | C24: 1) Piemaksa par virsstundu darbu 2 amatpersonām ar speciālo dienesta pakāpi ar kurām 2024. gada jūlija mēnesī izbeigtas dienesta attiecības (aprēķins par laika periodu no 2024. gada 1. jūlija līdz 31.jūlijam 2. tabulā) | D24: ='2. tabula'!G6 -> 2368.53
A25: 1145 | B25: Piemaksa par darbu īpašos apstākļos, speciālās piemaksas | C25: Detalizēts aprēķins par laika periodu no 2024. gada 1. jūlija līdz 31. jūlijam 3.tabulā. Iesaistītas 360 personas, kopējais iesaistes laiks 10 379,50 stundas. | D25: ='3.tabula'!H7 -> 20748.32
A26: 1210 | B26: Darba devēja valsts sociālās apdrošināšanas obligātās iemaksas | C26: 23,59% no aprēķinātā atalgojuma * izņemot 2 personas, kurām tiek piemērota nodokļu likme 21,94% (izdienas pensionārs) | D26: ='1.tabula'!H6+'2. tabula'!H6+'3.tabula'!I7 -> 9175.54
A27: 2000 | B27: Preces un pakalpojumi | C27: × | D27: =ROUNDUP(SUM(D28:D34),0) -> 97218
A28: 2111 | B28: Dienas nauda | C28: Detalizēts aprēķins 4.tabulā. Dienas nauda par periodu no 2024.gada 5. jūnija līdz 17. jūlijam ir izmaksāta 24 personām. Valsts policijas pavēles: Nr. 3172 no 31.05.2024., Nr.3529 no 19.06.2024. "Par komandējumiem uz Daugavpili un Dagdu (Latvijā)" dienas nauda: 100% (8,00 euro) pirmā un pēdējā diena, 30% (2,40 euro) pārējās dienas **Valsts policija iekšzemes komandējumiem nemaksā dienas naudu avansā, bet gan izmaksā tad, kad no komandējuma amatpersonas ir atgriezušās. Komandējuma laika ietvars saskaņā ar Valsts policijas pavēli par komandējumu, ir tāds, ka uz mēnesi tiek sūtīta komandējumā viena amatpersonu grupa, pēc tam – uz mēnesi tika nosūtīta cita amatpersonu grupa. | D28: ='4.tabula'!G6 -> 1536
A29: 2112 | B29: Pārējie komandējumu un darba braucienu izdevumi | C29: Dienesta viesnīcas pakalpojumi Naktsmītnes izdevumi Daugavpilī: 2 naktis x 13 gultasvietas x 15,00 euro = 390,00 euro; 28 naktis x 12 gultasvietas × 15,00 euro = 5 040,00 euro; Aprēķins veikts par dienesta viesnīcas pakalpojumiem (naktsmītni), kas tika nodrošināti no 2024.gada 1.jūnija līdz 30. jūnijam, izdevumi pakalpojuma sniedzējam tika apmaksāti 2024.gada jūlijā. | D29: 5430
A30: 2322 | B30: Degviela | C30: Detalizēts aprēķins par laika periodu no 2024. gada 01. jūnija līdz 31. jūlijam (t.sk. korekcija: Rīgas reģiona pārvaldes izdevumi par laika periodu no 2024. gada 01. jūnija līdz 30. jūnijam) 5.tabulā. Pasākuma nodrošināšanai tika iesaistīti 79 transportlīdzekļi; Vidēji viena transportlīdzekļa nobraukums 1 134,06 km; Vidējā degvielas cena 1,4587 euro/l; Vidējais degvielas patēriņš 7,41 l/km uz 100 km. 79 t-ldz. x 1 134,06 km x 1,4587 euro/l x 7,41 l/km ÷ 100 km = 9 683,92 euro | D30: ='5. tabula'!F6 -> 9683.92
A31: 2350 | B31: Kārtējā remonta un iestāžu uzturēšanas materiāli | C31: Papīra dvieļi 72 gab. x 0,73569 euro = 52,97 euro; Atkritumu maisi 200 L / 4 iepak. x 1,592 euro = 6,37 euro; Veļas mazgāšanas želeja 5 L / 4 gab. x 5,973 euro = 23,89 euro; Roku dezinfekcija 500 ml / 30 gab. x 1,985 euro = 59,55 euro. | D31: =ROUND(((72*0.73569)+(4*1.592)+(4*5.973)+(30*1.985)),2) -> 142.78
A32: 2363 | B32: Ēdināšanas izdevumi | C32: Aprēķins veikts par ēdināšanas pakalpojumiem, kas tika nodrošināti no 2024.gada 01. jūnija līdz 30. jūnijam, izdevumi pakalpojuma sniedzējam tika apmaksāti 2024.gada jūlijā. Ēdināšanas pakalpojumi Daugavpilī: brokastis 242 porcijas × 8,00 euro = 1 936,00 euro; pusdienas 241 porcijas × 9,00 euro = 2 169 ,00 euro; vakariņas 241 porcijas × 10,00 euro = 2 410,00 euro; launags (sausā uztura paka uz 24 stundam) 121 pakas × 27,00 euro = 3 267,00 euro; Saskaņā ar līgumu par izmitināšanu un ēdināšanu Daugavpilī ir noteikts, ka ēdināšana 3 reizes dienā nedrīkst pārsniegt 27,00 euro: Ēdināšanas izmaksas sastāda: Brokastis 8 euro /1 pers Pusdienas 9 euro /1 pers Vakariņas 10 euro /1 pers Amatpersonām, kuras ir maiņā uz robežas un tām nav iespējams atgriezties uz pusdienām un vakariņām, tad, lai nodrošinātu ēdināšanu amatpersonām dod līdzi pārtikas pakas: sausie produkti uz 24 stundām - 27 euro /1 pers. sausie produkti (vakariņaas un brokastis) - 18 euro /1 pers. Pārtikas pakas tiek dotas arī Latgales reģiona pārvaldes amatpersonām, kuras arī tiek norīkotas uz robežu, augstākminēto iemeslu dēļ, komandējama izdevumi un dienas nauda viņām nav. Papildus jāatzīmē, ka dienas nauda dienās, kad nodrošināta 3 reižu ēdināšana sastāda 30% no Ministru kabineta noteikumos par komandējumu paredzētā limita. | D32: =ROUND(((242*8)+(241*9)+(241*10)+(121*27)),0) -> 9782
A33: 2364 | B33: Speciālais apģērbs amatpersonām ar speciālajām dienesta pakāpēm | C33: Pamatojoties uz 12.03.2024 MK Rīkojuma Nr.184 anotāciju (24-TA-589), pasākuma izpildei tika iegādāta kamuflāža***: Taktiskie cimdi 150 gab. x 6,195 euro = 929,25 euro (atlikusi 05.06.2024 PPR daļa: neatskaitāmais PVN priekšnodoklis); Trubveida šalle 150 gab. x 1,9425 euro = 291,38 euro (atlikusi 05.06.2024 PPR daļa: neatskaitāmais PVN priekšnodoklis); Taktiskās ziemas virsjakas 150 gab. x 449,9158 euro = 67 487,37 euro; Tertmozeķes 150 gab. x 12,28 euro = 1842,00 euro. | D33: =ROUND((150*6.195)+(150*1.9425)+(150*449.9158)+(150*12.28),2) -> 70550
A34: 2390 | B34: Pārējās preces | C34: Negazēts dzeramais ūdens 2 L / 200 gab. x 0,463 euro = 92,60 euro | D34: =ROUND((200*0.463),2) -> 92.6
A36: 2) Vidējās izpeļņas pieauguma kompensēšanai | D36: =D37 -> 4014
A37: 1000 | B37: Atlīdzība | C37: × | D37: =ROUND(D38+D40,0) -> 4014
A38: 1100 | B38: Atalgojums | C38: × | D38: =ROUND(D39,0) -> 3248
A39: 1116 | B39: Mēnešalga amatpersonām ar speciālajām dienesta pakāpēm | C39: 38992,67 euro × 8,33% = 3 248,09 euro. | D39: =ROUND((D19)*8.33%,2) -> 3248.09
A40: 1210 | B40: Darba devēja valsts sociālās apdrošināšanas obligātās iemaksas | C40: 23,59% no aprēķinātā atalgojuma | D40: =ROUND(D39*0.2359,2) -> 766.22
A41: ***Atbilstoši Ministru kabineta 2024.gada 12.marta rīkojuma Nr.184 “Par pastiprināta robežapsardzības sistēmas darbības režīma izsludināšanu” sākotnējās ietekmes (ex-ante) novērtējuma ziņojuma (anotācijas) 1.pielikumam tiek īstenota 150 kamuflāžas speciālā apģērba komplektu (sastāv no 150 pavasara/ vasaras un 150 rudens/ziemas apģērbiem, ievērojot, ka katrā sezonā jāvalkā cita veida apģērbs) sastāvdaļu iegāde (pirmā kamuflāžas speciālā apģērba komplektu sastāvdaļu piegāde saņemta atbilstoši Ministru kabineta 2024.gada 27.augusta rīkojumam Nr.705 “Par apropriācijas pārdali no budžeta resora “74. Gadskārtējā valsts budžeta izpildes procesā pārdalāmais finansējums” programmas 22.00.00 “Valsts ārējās robežas drošības pasākumu nodrošināšana””). Speciālais apģērbs iegādāts savlaicīgi, ievērojot piegādes termiņus un to, ka pastiprināts robežapsardzības režīms var tikt pagarināts (Ministru kabineta 2024. gada 10. septembra rīkojums Nr. 744 "Grozījums Ministru kabineta 2024. gada 12. marta rīkojumā Nr. 184 "Par pastiprināta robežapsardzības sistēmas darbības režīma izsludināšanu"".

Sheet 1.tabula
I1: 1.tabula
A2: Valsts policija
A3: Piemaksa par nakts darbu amatpersonām ar speciālajām dienesta pakāpēm, kuras laika periodā no 2024. gada 1. jūlija līdz 31. jūlijam tika iesaistītas atbalsta sniegšanā Valsts robežsardzei Latvijas Republikas-Baltkrievijas Republikas valsts robežas robežuzraudzības nodrošināšanā
E4: 166.92
A5: Nr. p.k. | B5: Struktūrvienība | C5: Amats | D5: Mēnešalga amatpersonām ar speciālajām pakāpēm | E5: Stundas likme | F5: Stundu skaits | G5: Piemaksa par nakts darbu | H5: DD VSAOI | I5: Atlīdzība
A6: kopā | F6: =SUM(F7:F219) -> 3394 | G6: =SUM(G7:G219) -> 15875.82 | H6: =SUM(H7:H219) -> 3745.15 | I6: =SUM(I7:I219) -> 19620.97
A7: 1 | B7: VP GKĀRTPP RKVP SPECIĀLO UZDEVUMU BATALJONA 1.ROTA | C7: jaunākais inspektors | D7: 1410 | E7: =ROUND(D7/$E$4,3) -> 8.447 | F7: 46 | G7: 194.28 | H7: =ROUND(G7*0.2359,2) -> 45.83 | I7: =G7+H7 -> 240.11
A8: 2 | B8: VP GKĀRTPP RKVP SPECIĀLO UZDEVUMU BATALJONA 1.ROTA | C8: jaunākais inspektors | D8: 1700 | E8: =ROUND(D8/$E$4,3) -> 10.185 | F8: 40 | G8: 203.7 | H8: =ROUND(G8*0.2359,2) -> 48.05 | I8: =G8+H8 -> 251.75
A9: 3 | B9: VP GKĀRTPP RKVP SPECIĀLO UZDEVUMU BATALJONA 1.ROTA | C9: jaunākais inspektors | D9: 1470 | E9: =ROUND(D9/$E$4,3) -> 8.807 | F9: 48 | G9: 211.37 | H9: =ROUND(G9*0.2359,2) -> 49.86 | I9: =G9+H9 -> 261.23
A10: 4 | B10: VP GKĀRTPP RKVP SPECIĀLO UZDEVUMU BATALJONA 1.ROTA | C10: rotas komandiera vietnieks | D10: 1994 | E10: =ROUND(D10/$E$4,3) -> 11.946 | F10: 46 | G10: 274.76 | H10: =ROUND(G10*0.2359,2) -> 64.82 | I10: =G10+H10 -> 339.58
A11: 5 | B11: VP GKĀRTPP RKVP SPECIĀLO UZDEVUMU BATALJONA 1.ROTA | C11: jaunākais inspektors | D11: 1390 | E11: =ROUND(D11/$E$4,3) -> 8.327 | F11: 40 | G11: 166.54 | H11: =ROUND(G11*0.2359,2) -> 39.29 | I11: =G11+H11 -> 205.83
A12: 6 | B12: VP GKĀRTPP RKVP SPECIĀLO UZDEVUMU BATALJONA 1.ROTA | C12: jaunākais inspektors | D12: 1410 | E12: =ROUND(D12/$E$4,3) -> 8.447 | F12: 48 | G12: 202.73 | H12: =ROUND(G12*0.2359,2) -> 47.82 | I12: =G12+H12 -> 250.55
A13: 7 | B13: VP GKĀRTPP RKVP SPECIĀLO UZDEVUMU BATALJONA 1.ROTA | C13: jaunākais inspektors | D13: 1430 | E13: =ROUND(D13/$E$4,3) -> 8.567 | F13: 48 | G13: 205.61 | H13: =ROUND(G13*0.2359,2) -> 48.5 | I13: =G13+H13 -> 254.11
A14: 8 | B14: VP GKĀRTPP RKVP SPECIĀLO UZDEVUMU BATALJONA 1.ROTA | C14: vada komandiera vietnieks | D14: 1713 | E14: =ROUND(D14/$E$4,3) -> 10.262 | F14: 40 | G14: 205.24 | H14: =ROUND(G14*0.2359,2) -> 48.42 | I14: =G14+H14 -> 253.66
A15: 9 | B15: VP GKĀRTPP RKVP SPECIĀLO UZDEVUMU BATALJONA 1.ROTA | C15: jaunākais inspektors | D15: 1410 | E15: =ROUND(D15/$E$4,3) -> 8.447 | F15: 46 | G15: 194.28 | H15: =ROUND(G15*0.2359,2) -> 45.83 | I15: =G15+H15 -> 240.11
A16: 10 | B16: VP GKĀRTPP RKVP SPECIĀLO UZDEVUMU BATALJONA 1.ROTA | C16: jaunākais inspektors | D16: 1410 | E16: =ROUND(D16/$E$4,3) -> 8.447 | F16: 48 | G16: 202.73 | H16: =ROUND(G16*0.2359,2) -> 47.82 | I16: =G16+H16 -> 250.55
A17: 11 | B17: VP GKĀRTPP RKVP SPECIĀLO UZDEVUMU BATALJONA 1.ROTA | C17: jaunākais inspektors | D17: 1410 | E17: =ROUND(D17/$E$4,3) -> 8.447 | F17: 40 | G17: 168.94 | H17: =ROUND(G17*0.2359,2) -> 39.85 | I17: =G17+H17 -> 208.79
A18: 12 | B18: VP GKĀRTPP RKVP SPECIĀLO UZDEVUMU BATALJONA 1.ROTA | C18: vada komandieris | D18: 1898 | E18: =ROUND(D18/$E$4,3) -> 11.371 | F18: 46 | G18: 261.53 | H18: =ROUND(G18*0.2359,2) -> 61.69 | I18: =G18+H18 -> 323.22
... A219: 213 | B219: VP LATGALES RP ZIEMEĻLATGALES IECIRKŅA REAĢĒŠANAS NODAĻAS 9.GRUPA | C219: inspektors | D219: 1425 | E219: =ROUND(D219/$E$4,3) -> 8.537 | F219: 8 | G219: 34.15 | H219: =ROUND(G219*0.2359,2) -> 8.06 | I219: =G219+H219 -> 42.21

Sheet 2. tabula
I1: 2.tabula
A2: Valsts policija
A3: Detalizēts aprēķins samaksai par virsstundu darbu amatpersonām ar speciālo dienesta pakāpi, sniedzot atbalstu Valsts robežsardzei Latvijas Republikas-Baltkrievijas Republikas valsts robežas nelikumīgas šķērsošanas nodrošināšanā, par laika periodu no 2024. gada 1. jūlija līdz 31. jūlijam*
E4: 166.92
A5: Nr. p.k. | B5: Struktūrvienība | C5: Amats | D5: Mēnešalga amatpersonām ar speciālajām pakāpēm | E5: Stundas likme | F5: Stundu skaits | G5: Samaksa par virsstundu darbu | H5: DD VSAOI | I5: Atlīdzība
A6: kopā | F6: =SUM(F7:F8) -> 110 | G6: =SUM(G7:G8) -> 2368.53 | H6: =SUM(H7:H8) -> 536.82 | I6: =SUM(I7:I8) -> 2905.35
A7: 1 | B7: VP LATGALES RP DIENVIDLATGALES IECIRKŅA IZMEKLĒŠANAS NODAĻAS 4.GRUPA | C7: vecākais inspektors | D7: 1910 | E7: =ROUND(D7/$E$4,3) -> 11.443 | F7: 58 | G7: 1327.39 | H7: =ROUND(G7*0.2194,2)-0.01 -> 291.22 | I7: =G7+H7 -> 1618.61 | J7: **
A8: =A7+1 -> 2 | B8: VP LATGALES RP ZIEMEĻLATGALES IECIRKŅA PREVENCIJAS GRUPA | C8: galvenais inspektors | D8: 1671 | E8: =ROUND(D8/$E$4,3) -> 10.011 | F8: 52 | G8: 1041.14 | H8: =ROUND(G8*0.2359,2) -> 245.6 | I8: =G8+H8 -> 1286.74
B10: *Aprēķins par papildu nepieciešamo finansējumu samaksai par virsstundu darbu ir veikts, jo 2024.gada jūlijā tika izbeigtas dienesta attiecības ar 2 (divām) amatpersonām.
B11: ** izdienas pensionārs

Sheet 3.tabula
J1: 3.tabula
A2: Valsts policija
A3: Piemaksa par darbu īpašos apstākļos amatpersonām ar speciālajām dienesta pakāpēm, kuras laika periodāno 2024. gada 1. jūlija līdz 31. jūlijam tika iesaistītas atbalsta sniegšanā Valsts robežsardzei Latvijas Republikas-Baltkrievijas Republikas valsts robežas robežuzraudzības nodrošināšanā
F4: 166.92
A5: Nr. p.k. | B5: Struktūrvienība | C5: Amats | D5: Mēnešalga amatpersonām ar speciālajām pakāpēm | E5: Piemaksas apmērs % | F5: Stundas likme | G5: Stundu skaits | H5: Piemaksa par darbu īpašos apstākļos | I5: DD VSAOI | J5: Atlīdzība
A7: kopā | G7: =SUM(G8:G367) -> 10379.5 | H7: =SUM(H8:H367) -> 20748.32 | I7: =SUM(I8:I367) -> 4893.57 | J7: =SUM(J8:J367) -> 25641.89
A8: 1 | B8: VP LATGALES RP ZIEMEĻLATGALES IECIRKŅA REAĢĒŠANAS NODAĻAS 2.GRUPA | C8: inspektors | D8: 1365 | E8: 20% | F8: =ROUND(D8/$F$4,3) -> 8.178 | G8: 12 | H8: 19.63 | I8: =ROUND(H8*23.59%,2)-0.01 -> 4.62 | J8: =H8+I8 -> 24.25
A9: =A8+1 -> 2 | B9: VP LATGALES RP DIENVIDLATGALES IECIRKŅA REAĢĒŠANAS NODAĻAS 1.GRUPA | C9: inspektors | D9: 1365 | E9: 20% | F9: =ROUND(D9/$F$4,3) -> 8.178 | G9: 12 | H9: 19.63 | I9: =ROUND(H9*23.59%,2)-0.01 -> 4.62 | J9: =H9+I9 -> 24.25
A10: =A9+1 -> 3 | B10: VP LATGALES RP KĀRTPB RESURSU UN KRĪZES VADĪBAS NODAĻA | C10: vecākais inspektors | D10: 1415 | E10: 20% | F10: =ROUND(D10/$F$4,3) -> 8.477 | G10: 48 | H10: 81.38 | I10: =ROUND(H10*23.59%,2) -> 19.2 | J10: =H10+I10 -> 100.58
A11: =A10+1 -> 4 | B11: VP LATGALES RP ZIEMEĻLATGALES IECIRKŅA REAĢĒŠANAS NODAĻAS 1.GRUPA | C11: vecākais inspektors | D11: 1455 | E11: 20% | F11: =ROUND(D11/$F$4,3) -> 8.717 | G11: 12 | H11: 20.92 | I11: =ROUND(H11*23.59%,2) -> 4.94 | J11: =H11+I11 -> 25.86
A12: =A11+1 -> 5 | B12: VP LATGALES RP DIENVIDLATGALES IECIRKŅA IZMEKLĒŠANAS NODAĻAS 2.GRUPA | C12: inspektors | D12: 1561 | E12: 20% | F12: =ROUND(D12/$F$4,3) -> 9.352 | G12: 36 | H12: 67.33 | I12: =ROUND(H12*23.59%,2) -> 15.88 | J12: =H12+I12 -> 83.21
A13: =A12+1 -> 6 | B13: VP LATGALES RP ZIEMEĻLATGALES IECIRKŅA IZMEKLĒŠANAS NODAĻAS 2.GRUPA | C13: vecākais inspektors | D13: 1640 | E13: 20% | F13: =ROUND(D13/$F$4,3) -> 9.825 | G13: 45 | H13: 88.43 | I13: =ROUND(H13*23.59%,2) -> 20.86 | J13: =H13+I13 -> 109.29
A14: =A13+1 -> 7 | B14: VP LATGALES RP ZIEMEĻLATGALES IECIRKŅA IZMEKLĒŠANAS NODAĻAS 5.GRUPA | C14: inspektors | D14: 1533 | E14: 50% | F14: =ROUND(D14/$F$4,3) -> 9.184 | G14: 4.5 | H14: 20.66 | I14: =ROUND(H14*23.59%,2) -> 4.87 | J14: =H14+I14 -> 25.53
A15: =A14+1 -> 8 | B15: VP LATGALES RP ZIEMEĻLATGALES IECIRKŅA IZMEKLĒŠANAS NODAĻAS 5.GRUPA | C15: inspektors | D15: 1533 | E15: 20% | F15: =ROUND(D15/$F$4,3) -> 9.184 | G15: 43.5 | H15: 79.9 | I15: =ROUND(H15*23.59%,2) -> 18.85 | J15: =H15+I15 -> 98.75
A16: =A15+1 -> 9 | B16: VP LATGALES RP ZIEMEĻLATGALES IECIRKŅA REAĢĒŠANAS NODAĻAS 4.GRUPA | C16: vecākais inspektors | D16: 1455 | E16: 20% | F16: =ROUND(D16/$F$4,3) -> 8.717 | G16: 28 | H16: 48.82 | I16: =ROUND(H16*23.59%,2) -> 11.52 | J16: =H16+I16 -> 60.34
A17: =A16+1 -> 10 | B17: VP LATGALES RP DIENVIDLATGALES IECIRKŅA IZMEKLĒŠANAS NODAĻAS 3.GRUPA | C17: inspektors | D17: 1501 | E17: 20% | F17: =ROUND(D17/$F$4,3) -> 8.992 | G17: 36 | H17: 64.74 | I17: =ROUND(H17*23.59%,2) -> 15.27 | J17: =H17+I17 -> 80.01
A18: =A17+1 -> 11 | B18: VP LATGALES RP ZIEMEĻLATGALES IECIRKŅA IZMEKLĒŠANAS NODAĻAS 3.GRUPA | C18: vecākais inspektors | D18: 1571 | E18: 20% | F18: =ROUND(D18/$F$4,3) -> 9.412 | G18: 24 | H18: 45.18 | I18: =ROUND(H18*23.59%,2) -> 10.66 | J18: =H18+I18 -> 55.84
A19: =A18+1 -> 12 | B19: VP LATGALES RP ZIEMEĻLATGALES IECIRKŅA REAĢĒŠANAS NODAĻAS 8.GRUPA | C19: vecākais inspektors | D19: 1455 | E19: 20% | F19: =ROUND(D19/$F$4,3) -> 8.717 | G19: 48 | H19: 83.68 | I19: =ROUND(H19*23.59%,2) -> 19.74 | J19: =H19+I19 -> 103.42
A20: =A19+1 -> 13 | B20: VP LATGALES RP DIENVIDLATGALES IECIRKŅA REAĢĒŠANAS NODAĻAS 10.GRUPA | C20: inspektors | D20: 1445 | E20: 20% | F20: =ROUND(D20/$F$4,3) -> 8.657 | G20: 24 | H20: 41.55 | I20: =ROUND(H20*23.59%,2)-0.01 -> 9.79 | J20: =H20+I20 -> 51.34
A21: =A20+1 -> 14 | B21: VP LATGALES RP KRIMPB RĒZEKNES REĢIONĀLĀ NODAĻA | C21: vecākais inspektors | D21: 1722 | E21: 20% | F21: =ROUND(D21/$F$4,3) -> 10.316 | G21: 12 | H21: 24.76 | I21: =ROUND(H21*23.59%,2) -> 5.84 | J21: =H21+I21 -> 30.6
A22: =A21+1 -> 15 | B22: VP LATGALES RP ZIEMEĻLATGALES IECIRKŅA IZMEKLĒŠANAS NODAĻAS 6.GRUPA | C22: vecākais inspektors | D22: 1640 | E22: 20% | F22: =ROUND(D22/$F$4,3) -> 9.825 | G22: 24 | H22: 47.16 | I22: =ROUND(H22*23.59%,2) -> 11.13 | J22: =H22+I22 -> 58.29
A23: =A22+1 -> 16 | B23: VP LATGALES RP ZIEMEĻLATGALES IECIRKŅA IZMEKLĒŠANAS NODAĻAS 4.GRUPA | C23: inspektors | D23: 1851 | E23: 20% | F23: =ROUND(D23/$F$4,3) -> 11.089 | G23: 24 | H23: 53.23 | I23: =ROUND(H23*23.59%,2) -> 12.56 | J23: =H23+I23 -> 65.79
A24: =A23+1 -> 17 | B24: VP LATGALES RP DIENVIDLATGALES IECIRKŅA IZMEKLĒŠANAS NODAĻAS 3.GRUPA | C24: vecākais inspektors | D24: 1640 | E24: 20% | F24: =ROUND(D24/$F$4,3) -> 9.825 | G24: 48 | H24: 94.32 | I24: =ROUND(H24*23.59%,2) -> 22.25 | J24: =H24+I24 -> 116.57
A25: =A24+1 -> 18 | B25: VP LATGALES RP KĀRTPB ATĻAUJU SISTĒMAS GRUPA | C25: vecākais inspektors | D25: 1435 | E25: 20% | F25: =ROUND(D25/$F$4,3) -> 8.597 | G25: 24 | H25: 41.27 | I25: =ROUND(H25*23.59%,2) -> 9.74 | J25: =H25+I25 -> 51.01
A26: =A25+1 -> 19 | B26: VP LATGALES RP DIENVIDLATGALES IECIRKŅA REAĢĒŠANAS NODAĻAS 9.GRUPA | C26: inspektors | D26: 1365 | E26: 20% | F26: =ROUND(D26/$F$4,3) -> 8.178 | G26: 12 | H26: 19.63 | I26: =ROUND(H26*23.59%,2)-0.01 -> 4.62 | J26: =H26+I26 -> 24.25
A27: =A26+1 -> 20 | B27: VP GKĀRTPP RKVP SPECIĀLO UZDEVUMU BATALJONA 1.ROTA | C27: jaunākais inspektors | D27: 1410 | E27: 20% | F27: =ROUND(D27/$F$4,3) -> 8.447 | G27: 120.5 | H27: 203.57 | I27: =ROUND(H27*23.59%,2) -> 48.02 | J27: =H27+I27 -> 251.59
A28: =A27+1 -> 21 | B28: VP GKĀRTPP RKVP SPECIĀLO UZDEVUMU BATALJONA 1.ROTA | C28: jaunākais inspektors | D28: 1410 | E28: 50% | F28: =ROUND(D28/$F$4,3) -> 8.447 | G28: 10.5 | H28: 44.35 | I28: =ROUND(H28*23.59%,2) -> 10.46 | J28: =H28+I28 -> 54.81
A29: =A28+1 -> 22 | B29: VP LATGALES RP DIENVIDLATGALES IECIRKŅA IZMEKLĒŠANAS NODAĻAS 4.GRUPA | C29: inspektors | D29: 1501 | E29: 20% | F29: =ROUND(D29/$F$4,3) -> 8.992 | G29: 36 | H29: 64.74 | I29: =ROUND(H29*23.59%,2) -> 15.27 | J29: =H29+I29 -> 80.01
A30: =A29+1 -> 23 | B30: VP LATGALES RP DIENVIDLATGALES IECIRKŅA IZMEKLĒŠANAS NODAĻAS 5.GRUPA | C30: inspektors | D30: 1581 | E30: 20% | F30: =ROUND(D30/$F$4,3) -> 9.472 | G30: 25 | H30: 47.36 | I30: =ROUND(H30*23.59%,2) -> 11.17 | J30: =H30+I30 -> 58.53
A31: =A30+1 -> 24 | B31: VP LATGALES RP ZIEMEĻLATGALES IECIRKŅA IZMEKLĒŠANAS NODAĻAS 3.GRUPA | C31: inspektors | D31: 1541 | E31: 20% | F31: =ROUND(D31/$F$4,3) -> 9.232 | G31: 36 | H31: 66.47 | I31: =ROUND(H31*23.59%,2) -> 15.68 | J31: =H31+I31 -> 82.15
A32: =A31+1 -> 25 | B32: VP LATGALES RP DIENVIDLATGALES IECIRKŅA PREVENCIJAS GRUPA | C32: inspektors | D32: 1452 | E32: 20% | F32: =ROUND(D32/$F$4,3) -> 8.699 | G32: 24 | H32: 41.76 | I32: =ROUND(H32*23.59%,2) -> 9.85 | J32: =H32+I32 -> 51.61
A33: =A32+1 -> 26 | B33: VP LATGALES RP ZIEMEĻLATGALES IECIRKŅA REAĢĒŠANAS NODAĻAS 7.GRUPA | C33: galvenais inspektors | D33: 1660 | E33: 20% | F33: =ROUND(D33/$F$4,3) -> 9.945 | G33: 36 | H33: 71.6 | I33: =ROUND(H33*23.59%,2) -> 16.89 | J33: =H33+I33 -> 88.49
A34: =A33+1 -> 27 | B34: VP GKĀRTPP RKVP SUB DIENESTA ORGANIZĀCIJAS, KOORDINĀCIJAS UN KONTROLES GRUPA | C34: inspektors | D34: 1855 | E34: 50% | F34: =ROUND(D34/$F$4,3) -> 11.113 | G34: 11 | H34: 61.12 | I34: =ROUND(H34*23.59%,2) -> 14.42 | J34: =H34+I34 -> 75.54
A35: =A34+1 -> 28 | B35: VP GKĀRTPP RKVP SUB DIENESTA ORGANIZĀCIJAS, KOORDINĀCIJAS UN KONTROLES GRUPA | C35: inspektors | D35: 1855 | E35: 20% | F35: =ROUND(D35/$F$4,3) -> 11.113 | G35: 109 | H35: 242.26 | I35: =ROUND(H35*23.59%,2) -> 57.15 | J35: =H35+I35 -> 299.41
A36: =A35+1 -> 29 | B36: VP LATGALES RP ZIEMEĻLATGALES IECIRKŅA REAĢĒŠANAS NODAĻAS 8.GRUPA | C36: inspektors | D36: 1365 | E36: 50% | F36: =ROUND(D36/$F$4,3) -> 8.178 | G36: 4 | H36: 16.36 | I36: =ROUND(H36*23.59%,2) -> 3.86 | J36: =H36+I36 -> 20.22
A37: =A36+1 -> 30 | B37: VP LATGALES RP ZIEMEĻLATGALES IECIRKŅA REAĢĒŠANAS NODAĻAS 8.GRUPA | C37: inspektors | D37: 1365 | E37: 20% | F37: =ROUND(D37/$F$4,3) -> 8.178 | G37: 44 | H37: 71.96 | I37: =ROUND(H37*23.59%,2) -> 16.98 | J37: =H37+I37 -> 88.94
A38: =A37+1 -> 31 | B38: VP LATGALES RP ZIEMEĻLATGALES IECIRKŅA REAĢĒŠANAS NODAĻAS 4.GRUPA | C38: vecākais inspektors | D38: 1531 | E38: 20% | F38: =ROUND(D38/$F$4,3) -> 9.172 | G38: 28 | H38: 51.36 | I38: =ROUND(H38*23.59%,2) -> 12.12 | J38: =H38+I38 -> 63.48
... A45: =A44+1 -> 38 | B45: VP LATGALES RP DIENVIDLATGALES IECIRKŅA IZMEKLĒŠANAS NODAĻAS 7.GRUPA | C45: vecākais inspektors | D45: 1495 | E45: 20% | F45: =ROUND(D45/$F$4,3) -> 8.956 | G45: 12 | H45: 21.49 | I45: =ROUND(H45*23.59%,2) -> 5.07 | J45: =H45+I45 -> 26.56
A46: =A45+1 -> 39 | B46: VP LATGALES RP DIENVIDLATGALES IECIRKŅA REAĢĒŠANAS NODAĻAS 4.GRUPA | C46: vecākais inspektors | D46: 1765 | E46: 20% | F46: =ROUND(D46/$F$4,3) -> 10.574 | G46: 24 | H46: 50.76 | I46: =ROUND(H46*21.94%,2) -> 11.14 | J46: =H46+I46 -> 61.9 | K46: *
A47: =A46+1 -> 40 | B47: VP LATGALES RP ZIEMEĻLATGALES IECIRKŅA IZMEKLĒŠANAS NODAĻAS 3.GRUPA | C47: vecākais inspektors | D47: 1640 | E47: 20% | F47: =ROUND(D47/$F$4,3) -> 9.825 | G47: 24 | H47: 47.16 | I47: =ROUND(H47*23.59%,2) -> 11.13 | J47: =H47+I47 -> 58.29
...

Sheet 4.tabula
G1: 4.tabula
A2: Valsts policija
A3: Detalizēts aprēķins dienas naudas samaksai amatpersonām ar speciālajām dienesta pakāpēm, sniedzot atbalstu Valsts robežsardzei Latvijas Republikas-Baltkrievijas Republikas valsts robežas robežuzraudzības nodrošināšanā par laika periodu no 2024. gada 5. jūnija līdz 17. jūlijam
A5: Nr. p.k. | B5: Struktūrvienība | C5: Amats | D5: Laika periods | E5: Dienu skaits | F5: Likme | G5: Dienas nauda (kopsumma)
A6: kopā: | G6: =SUM(G7:G54) -> 1536
A7: 1 | B7: VP GKĀRTPP RKVP SPECIĀLO UZDEVUMU BATALJONA 6.ROTA (ZEMGALES REĢIONA) | C7: jaunākais inspektors | D7: 05.06.2024.-26.06.2024./ | E7: 2 | F7: 8 | G7: =ROUND(E7*F7,2) -> 16
E8: 20 | F8: 2.4 | G8: =ROUND(E8*F8,2) -> 48
A9: 2 | B9: VP GKĀRTPP RKVP SPECIĀLO UZDEVUMU BATALJONA 6.ROTA (ZEMGALES REĢIONA) | C9: jaunākais inspektors | D9: 05.06.2024.-26.06.2024./ | E9: 2 | F9: 8 | G9: =ROUND(E9*F9,2) -> 16
E10: 20 | F10: 2.4 | G10: =ROUND(E10*F10,2) -> 48
A11: 3 | B11: VP GKĀRTPP RKVP SPECIĀLO UZDEVUMU BATALJONA 6.ROTA (ZEMGALES REĢIONA) | C11: jaunākais inspektors | D11: 05.06.2024.-26.06.2024./ | E11: 2 | F11: 8 | G11: =ROUND(E11*F11,2) -> 16
E12: 20 | F12: 2.4 | G12: =ROUND(E12*F12,2) -> 48
A13: 4 | B13: VP GKĀRTPP RKVP SPECIĀLO UZDEVUMU BATALJONA 7.ROTA (KURZEMES REĢIONA) | C13: jaunākais inspektors | D13: 05.06.2024.-26.06.2024./ | E13: 2 | F13: 8 | G13: =ROUND(E13*F13,2) -> 16
E14: 20 | F14: 2.4 | G14: =ROUND(E14*F14,2) -> 48
A15: 5 | B15: VP GKĀRTPP RKVP SPECIĀLO UZDEVUMU BATALJONA 6.ROTA (ZEMGALES REĢIONA) | C15: jaunākais inspektors | D15: 05.06.2024.-26.06.2024./ | E15: 2 | F15: 8 | G15: =ROUND(E15*F15,2) -> 16
E16: 20 | F16: 2.4 | G16: =ROUND(E16*F16,2) -> 48
A17: 6 | B17: VP GKĀRTPP RKVP SPECIĀLO UZDEVUMU BATALJONA 6.ROTA (ZEMGALES REĢIONA) | C17: jaunākais inspektors | D17: 05.06.2024.-26.06.2024./ | E17: 2 | F17: 8 | G17: =ROUND(E17*F17,2) -> 16
E18: 20 | F18: 2.4 | G18: =ROUND(E18*F18,2) -> 48
A19: 7 | B19: VP GKĀRTPP RKVP SPECIĀLO UZDEVUMU BATALJONA 6.ROTA (ZEMGALES REĢIONA) | C19: jaunākais inspektors | D19: 05.06.2024.-26.06.2024./ | E19: 2 | F19: 8 | G19: =ROUND(E19*F19,2) -> 16
E20: 20 | F20: 2.4 | G20: =ROUND(E20*F20,2) -> 48
A21: 8 | B21: VP ZEMGALES RP DIENVIDZEMGALES IECIRKŅA REAĢĒŠANAS NODAĻAS 6.GRUPA | C21: jaunākais inspektors | D21: 05.06.2024.-26.06.2024./ | E21: 2 | F21: 8 | G21: =ROUND(E21*F21,2) -> 16
E22: 20 | F22: 2.4 | G22: =ROUND(E22*F22,2) -> 48
A23: 9 | B23: VP GKĀRTPP RKVP SPECIĀLO UZDEVUMU BATALJONA 6.ROTA (ZEMGALES REĢIONA) | C23: jaunākais inspektors | D23: 05.06.2024.-26.06.2024./ | E23: 2 | F23: 8 | G23: =ROUND(E23*F23,2) -> 16
E24: 20 | F24: 2.4 | G24: =ROUND(E24*F24,2) -> 48
A25: 10 | B25: VP GKĀRTPP RKVP SPECIĀLO UZDEVUMU BATALJONA 6.ROTA (ZEMGALES REĢIONA) | C25: jaunākais inspektors | D25: 05.06.2024.-26.06.2024./ | E25: 2 | F25: 8 | G25: =ROUND(E25*F25,2) -> 16
E26: 20 | F26: 2.4 | G26: =ROUND(E26*F26,2) -> 48
A27: 11 | B27: VP GKĀRTPP RKVP SPECIĀLO UZDEVUMU BATALJONA 6.ROTA (ZEMGALES REĢIONA) | C27: jaunākais inspektors | D27: 05.06.2024.-26.06.2024./ | E27: 2 | F27: 8 | G27: =ROUND(E27*F27,2) -> 16
E28: 20 | F28: 2.4 | G28: =ROUND(E28*F28,2) -> 48
A29: 12 | B29: VP GKĀRTPP RKVP SPECIĀLO UZDEVUMU BATALJONA 6.ROTA (ZEMGALES REĢIONA) | C29: jaunākais inspektors | D29: 05.06.2024.-26.06.2024./ | E29: 2 | F29: 8 | G29: =ROUND(E29*F29,2) -> 16
E30: 20 | F30: 2.4 | G30: =ROUND(E30*F30,2) -> 48
A31: 13 | B31: VP GKĀRTPP RKVP SPECIĀLO UZDEVUMU BATALJONA 1.ROTA | C31: jaunākais inspektors | D31: 26.06.2024.-17.07.2024./ | E31: 2 | F31: 8 | G31: =ROUND(E31*F31,2) -> 16
E32: 20 | F32: 2.4 | G32: =ROUND(E32*F32,2) -> 48
A33: 14 | B33: VP GKĀRTPP RKVP SPECIĀLO UZDEVUMU BATALJONA 1.ROTA | C33: jaunākais inspektors | D33: 26.06.2024.-17.07.2024./ | E33: 2 | F33: 8 | G33: =ROUND(E33*F33,2) -> 16
E34: 20 | F34: 2.4 | G34: =ROUND(E34*F34,2) -> 48
A35: 15 | B35: VP GKĀRTPP RKVP SPECIĀLO UZDEVUMU BATALJONA 1.ROTA | C35: rotas komandiera vietnieks | D35: 26.06.2024.-17.07.2024./ | E35: 2 | F35: 8 | G35: =ROUND(E35*F35,2) -> 16
E36: 20 | F36: 2.4 | G36: =ROUND(E36*F36,2) -> 48
A37: 16 | B37: VP GKĀRTPP RKVP SPECIĀLO UZDEVUMU BATALJONA 1.ROTA | C37: jaunākais inspektors | D37: 26.06.2024.-17.07.2024./ | E37: 2 | F37: 8 | G37: =ROUND(E37*F37,2) -> 16
E38: 20 | F38: 2.4 | G38: =ROUND(E38*F38,2) -> 48
A39: 17 | B39: VP GKĀRTPP RKVP SPECIĀLO UZDEVUMU BATALJONA 1.ROTA | C39: galvenais inspektors | D39: 26.06.2024.-17.07.2024./ | E39: 2 | F39: 8 | G39: =ROUND(E39*F39,2) -> 16
E40: 20 | F40: 2.4 | G40: =ROUND(E40*F40,2) -> 48
A41: 18 | B41: VP GKĀRTPP RKVP SPECIĀLO UZDEVUMU BATALJONA 1.ROTA | C41: jaunākais inspektors | D41: 26.06.2024.-17.07.2024./ | E41: 2 | F41: 8 | G41: =ROUND(E41*F41,2) -> 16
...

Sheet 5. tabula
F1: 5.tabula
A2: Valsts policija
A3: Degvielas izmaksu aprēķins degvielas izdevumiem sniedzot atbalstu Valsts robežsardzei Latvijas Republikas-Baltkrievijas Republikas valsts robežas nelikumīgas šķērsošanas nodrošināšanā par laika periodu no 2024. gada 1. jūlija līdz 31. jūlijam
A5: Nr.p.k. | B5: Transportlīdzekļa marka | C5: Iesaistīto transportlīdzekļu skaits | D5: Faktiskais nobraukums pasākumā (km) | E5: Pasākuma laikā patērētā degviela (l) | F5: Summa euro
A6: Kopā: | C6: =ROUNDUP(SUM(C8:C43),2) -> 79 | D6: =ROUNDUP(SUM(D8:D43),2) -> 89591 | E6: =ROUNDUP(SUM(E8:E43),2) -> 6638.26 | F6: =ROUNDUP(SUM(F8:F43),2) -> 9683.92
A7: Vidzemes reģiona pārvalde
A15: Latgales reģiona pārvalde
A16: 1 | B16: Citroen Berlingo | C16: 2 | D16: 2203 | E16: 124.07 | F16: 179.89
A17: =A16+1 -> 2 | B17: KIA Cee'd | C17: 6 | D17: 2746 | E17: 170.38 | F17: 252.59
A18: =A17+1 -> 3 | B18: Opel Mokka | C18: 31 | D18: 40937 | E18: 2745.23 | F18: 3980.43
A19: =A18+1 -> 4 | B19: Opel Combo Van | C19: 1 | D19: 3487 | E19: 251.06 | F19: 364.03
A20: =A19+1 -> 5 | B20: Opel Insignia Limousine | C20: 7 | D20: 1864 | E20: 148.59 | F20: 215.45
A21: =A20+1 -> 6 | B21: Renault Kangoo | C21: 8 | D21: 12564 | E21: 861.45 | F21: 1249.07
A22: =A21+1 -> 7 | B22: Renault Laguna | C22: 2 | D22: 1316 | E22: 109.72 | F22: 159.08
A23: =A22+1 -> 8 | B23: Renault Trafic | C23: 3 | D23: 4341 | E23: 359.4 | F23: 521.11
A24: =A23+1 -> 9 | B24: Škoda Octavia | C24: 1 | D24: 376 | E24: 21.06 | F24: 30.53
A25: =A24+1 -> 10 | B25: Toyota RAV4 | C25: 3 | D25: 2407 | E25: 143.8 | F25: 214.15
A26: =A25+1 -> 11 | B26: VW Transporter | C26: 7 | D26: 4170 | E26: 349.58 | F26: 510.12
A27: =A26+1 -> 12
A28: =A27+1 -> 13
A29: =A28+1 -> 14
A30: =A29+1 -> 15
A31: =A30+1 -> 16
A32: =A31+1 -> 17
A33: =A32+1 -> 18
A34: =A33+1 -> 19
A35: =A34+1 -> 20
A36: =A35+1 -> 21
A37: Rīgas reģiona pārvalde
A38: 12 | B38: Renault Trafic | C38: 1 | D38: 413 | E38: 32.38 | F38: 51.25 | G38: *
A39: 13 | B39: Nissan Navara | C39: 1 | D39: 457 | E39: 46.84 | F39: 71.91 | G39: *
A40: 14 | B40: VW Crafter | C40: 1 | D40: 1295 | E40: 149.73 | F40: 226.97 | G40: *
A41: 16 | B41: Renault Trafic | C41: 1 | D41: 1913 | E41: 158.97 | F41: 236
A42: 15 | B42: Nissan Navara | C42: 2 | D42: 2635 | E42: 263.96 | F42: 389.29
A43: 17 | B43: VW Crafter | C43: 2 | D43: 6467 | E43: 702.04 | F43: 1032.05
A45: * - Rīgas reģiona pārvaldes izdevumi par laika periodu no 2024. gada 01. jūnija līdz 30. jūnijam.

Sheet  2.tabula
I1: 2.tabula
A2: Valsts policija
A3: Detalizēts aprēķins samaksai par virsstundu darbu amatpersonām ar speciālo dienesta pakāpi, sniedzot atbalstu Valsts robežsardzei Latvijas Republikas-Baltkrievijas Republikas valsts robežas nelikumīgas šķērsošanas nodrošināšanā, par laika periodu no 2024. gada 01. maija līdz 31. maijam.
E4: 166.92
A5: Nr. p.k. | B5: Struktūrvienība | C5: Amats | D5: Mēnešalga amatpersonām ar speciālajām pakāpēm | E5: Stundas likme | F5: Stundu skaits | G5: Samaksa par virsstundu darbu | H5: DD VSAOI | I5: Atlīdzība
A6: kopā | F6: =SUM(F7:F608) -> 0 | G6: =SUM(G7:G608) -> 0 | H6: =SUM(H7:H608) -> 0 | I6: =SUM(I7:I608) -> 0
A7: 1 | E7: =ROUND(D7/$E$4,3) -> 0 | H7: =ROUND(G7*0.2359,2) -> 0 | I7: =G7+H7 -> 0
A8: =A7+1 -> 2 | E8: =ROUND(D8/$E$4,3) -> 0 | H8: =ROUND(G8*0.2359,2) -> 0 | I8: =G8+H8 -> 0
A9: =A8+1 -> 3 | E9: =ROUND(D9/$E$4,3) -> 0 | H9: =ROUND(G9*0.2359,2) -> 0 | I9: =G9+H9 -> 0
A10: =A9+1 -> 4 | E10: =ROUND(D10/$E$4,3) -> 0 | H10: =ROUND(G10*0.2359,2) -> 0 | I10: =G10+H10 -> 0
A11: =A10+1 -> 5 | E11: =ROUND(D11/$E$4,3) -> 0 | H11: =ROUND(G11*0.2359,2) -> 0 | I11: =G11+H11 -> 0
A12: =A11+1 -> 6 | E12: =ROUND(D12/$E$4,3) -> 0 | H12: =ROUND(G12*0.2359,2) -> 0 | I12: =G12+H12 -> 0
A13: =A12+1 -> 7 | E13: =ROUND(D13/$E$4,3) -> 0 | H13: =ROUND(G13*0.2359,2) -> 0 | I13: =G13+H13 -> 0
A14: =A13+1 -> 8 | E14: =ROUND(D14/$E$4,3) -> 0 | H14: =ROUND(G14*0.2359,2) -> 0 | I14: =G14+H14 -> 0
A15: =A14+1 -> 9 | E15: =ROUND(D15/$E$4,3) -> 0 | H15: =ROUND(G15*0.2359,2) -> 0 | I15: =G15+H15 -> 0
A16: =A15+1 -> 10 | E16: =ROUND(D16/$E$4,3) -> 0 | H16: =ROUND(G16*0.2359,2) -> 0 | I16: =G16+H16 -> 0
A17: =A16+1 -> 11 | E17: =ROUND(D17/$E$4,3) -> 0 | H17: =ROUND(G17*0.2359,2) -> 0 | I17: =G17+H17 -> 0
A18: =A17+1 -> 12 | E18: =ROUND(D18/$E$4,3) -> 0 | H18: =ROUND(G18*0.2359,2) -> 0 | I18: =G18+H18 -> 0
A19: =A18+1 -> 13 | E19: =ROUND(D19/$E$4,3) -> 0 | H19: =ROUND(G19*0.2359,2) -> 0 | I19: =G19+H19 -> 0
... A608: =A607+1 -> 602 | E608: =ROUND(D608/$E$4,3) -> 0 | H608: =ROUND(G608*0.2359,2) -> 0 | I608: =G608+H608 -> 0

Sheet 6.tabula
G1: 6.tabula
A2: Valsts policija
A3: Detalizēts aprēķins dienas naudas samaksai amatpersonām ar speciālajām dienesta pakāpēm, sniedzot atbalstu Valsts robežsardzei Latvijas Republikas-Baltkrievijas Republikas valsts robežas robežuzraudzības nodrošināšanā par laika perioduno 2024. gada 01. maija līdz 31. maijam
A5: Nr. p.k. | B5: Struktūrvienība | C5: Amats | D5: Laika periods | E5: Dienu skaits | F5: Likme | G5: Dienas nauda (kopsumma)
A6: kopā: | G6: =SUM(G7:G84) -> 2527.2
A7: 1 | D7: 03.09.2023.-26.09.2023/ | E7: 2 | F7: 8 | G7: =ROUND(E7*F7,2) -> 16
E8: 22 | F8: 2.4 | G8: =ROUND(E8*F8,2) -> 52.8
A9: 2 | D9: 03.09.2023.-26.09.2023/ | E9: 2 | F9: 8 | G9: =ROUND(E9*F9,2) -> 16
E10: 22 | F10: 2.4 | G10: =ROUND(E10*F10,2) -> 52.8
A11: 3 | D11: 03.09.2023.-26.09.2023/ | E11: 2 | F11: 8 | G11: =ROUND(E11*F11,2) -> 16
E12: 22 | F12: 2.4 | G12: =ROUND(E12*F12,2) -> 52.8
A13: 4 | D13: 03.09.2023.-26.09.2023/ | E13: 2 | F13: 8 | G13: =ROUND(E13*F13,2) -> 16
E14: 22 | F14: 2.4 | G14: =ROUND(E14*F14,2) -> 52.8
A15: 5 | D15: 03.09.2023.-26.09.2023/ | E15: 2 | F15: 8 | G15: =ROUND(E15*F15,2) -> 16
E16: 22 | F16: 2.4 | G16: =ROUND(E16*F16,2) -> 52.8
A17: 6 | D17: 03.09.2023.-26.09.2023/ | E17: 2 | F17: 8 | G17: =ROUND(E17*F17,2) -> 16
E18: 22 | F18: 2.4 | G18: =ROUND(E18*F18,2) -> 52.8
A19: 7 | D19: 03.09.2023.-26.09.2023/ | E19: 2 | F19: 8 | G19: =ROUND(E19*F19,2) -> 16
E20: 22 | F20: 2.4 | G20: =ROUND(E20*F20,2) -> 52.8
A21: 8 | D21: 03.09.2023.-26.09.2023/ | E21: 2 | F21: 8 | G21: =ROUND(E21*F21,2) -> 16
E22: 22 | F22: 2.4 | G22: =ROUND(E22*F22,2) -> 52.8
A23: 9 | D23: 03.09.2023.-26.09.2023/ | E23: 2 | F23: 8 | G23: =ROUND(E23*F23,2) -> 16
E24: 22 | F24: 2.4 | G24: =ROUND(E24*F24,2) -> 52.8
A25: 10 | D25: 03.09.2023.-26.09.2023/ | E25: 2 | F25: 8 | G25: =ROUND(E25*F25,2) -> 16
E26: 22 | F26: 2.4 | G26: =ROUND(E26*F26,2) -> 52.8
A27: 11 | D27: 03.09.2023.-26.09.2023/ | E27: 2 | F27: 8 | G27: =ROUND(E27*F27,2) -> 16
E28: 22 | F28: 2.4 | G28: =ROUND(E28*F28,2) -> 52.8
A29: 12 | D29: 03.09.2023.-26.09.2023/ | E29: 2 | F29: 8 | G29: =ROUND(E29*F29,2) -> 16
E30: 22 | F30: 2.4 | G30: =ROUND(E30*F30,2) -> 52.8
A31: 13 | D31: 03.09.2023.-26.09.2023/ | E31: 2 | F31: 8 | G31: =ROUND(E31*F31,2) -> 16
E32: 22 | F32: 2.4 | G32: =ROUND(E32*F32,2) -> 52.8
A33: 14 | D33: 26.09.2023.-17.10.2023/ | E33: 2 | F33: 8 | G33: =ROUND(E33*F33,2) -> 16
E34: 20 | F34: 2.4 | G34: =ROUND(E34*F34,2) -> 48
A35: 15 | D35: 26.09.2023.-17.10.2023/ | E35: 2 | F35: 8 | G35: =ROUND(E35*F35,2) -> 16
E36: 20 | F36: 2.4 | G36: =ROUND(E36*F36,2) -> 48
A37: 16 | D37: 26.09.2023.-17.10.2023/ | E37: 2 | F37: 8 | G37: =ROUND(E37*F37,2) -> 16
E38: 20 | F38: 2.4 | G38: =ROUND(E38*F38,2) -> 48
A39: 17 | D39: 26.09.2023.-17.10.2023/ | E39: 2 | F39: 8 | G39: =ROUND(E39*F39,2) -> 16
E40: 20 | F40: 2.4 | G40: =ROUND(E40*F40,2) -> 48
A41: 18 | D41: 26.09.2023.-17.10.2023/ | E41: 2 | F41: 8 | G41: =ROUND(E41*F41,2) -> 16
...
