Workbook

Sheet Kopsavilkums
E1: 2.pielikums anotācijai
E2: likumprojektam "Grozījumi Valsts sociālo pabalstu likumā"
A4: KOPSAVILKUMS
A5: Nosaukums | B5: 2026 | C5: 2027 | D5: 2028 | E5: 2029
A6: KOPĀ | B6: =B7+B14 -> 51865890 | C6: =C7+C14 -> 52327825 | D6: =D7+D14 -> 67063722 | E6: =E7+E14 -> 66877549
A7: 18_01_P Materiālā atbalsta (pabalstu) pilnveidošana ģimenēm ar bērniem | B7: =B8+B12 -> 35065538 | C7: =C8+C12 -> 35007095 | D7: =D8+D12 -> 47170404 | E7: =E8+E12 -> 47170404
A8: LM pamatbudžeta apakšprogramma 20.01.00 "Valsts sociālie pabalsti", t.sk. | B8: =SUM(B9:B11) -> 35007095 | C8: =SUM(C9:C11) -> 35007095 | D8: =SUM(D9:D11) -> 47170404 | E8: =SUM(E9:E11) -> 47170404
A9: 1. Bērna piedzimšanas pabalsts* | B9: ='1.tabula'!B14 -> 2272572 | C9: ='1.tabula'!C14 -> 2272572 | D9: ='1.tabula'!D14 -> 2272572 | E9: ='1.tabula'!E14 -> 2272572
A10: 2. Bērna kopšanas pabalsts* | B10: ='1.tabula'!B27 -> 29146043 | C10: ='1.tabula'!C27 -> 29146043 | D10: ='1.tabula'!D27 -> 41309352 | E10: ='1.tabula'!E27 -> 41309352
A11: 3. Ģimenes valsts pabalsts* | B11: ='1.tabula'!B55 -> 3588480 | C11: ='1.tabula'!C55 -> 3588480 | D11: ='1.tabula'!D55 -> 3588480 | E11: ='1.tabula'!E55 -> 3588480
A12: LM speciālā budžeta apakšprogramma 04.05.00 "Valsts sociālās apdrošināšanas aģentūras speciālais budžets" | B12: =B13 -> 58443
A13: VSAA IT sistēmu pielāgošana (105 c/d * 556,60 euro ar PVN) | B13: 58443
A14: 18_02_P Materiālā atbalsta pilnveidošana ārpusģimenes aprūpē esošiem bērniem | B14: =B15+B22 -> 16800352 | C14: =C15+C22 -> 17320730 | D14: =D15+D22 -> 19893318 | E14: =E15+E22 -> 19707145
A15: LM pamatbudžeta apakšprogramma 20.01.00 "Valsts sociālie pabalsti", t.sk. | B15: =SUM(B16:B21) -> 16672334 | C15: =SUM(C16:C21) -> 17320730 | D15: =SUM(D16:D21) -> 19893318 | E15: =SUM(E16:E21) -> 19707145
A16: 1. Pabalsts aizbildnim par bērna uzturēšanu** | B16: ='2.tabula'!D17 -> 6971952 | C16: ='2.tabula'!G17 -> 7525923 | D16: ='2.tabula'!J17 -> 8077758 | E16: ='2.tabula'!M17 -> 7999326
A17: 2. Bērna adopcijas pabalsts** | B17: ='2.tabula'!D33 -> 1474475 | C17: ='2.tabula'!G33 -> 1653354 | D17: ='2.tabula'!J33 -> 1828189 | E17: ='2.tabula'!M33 -> 1843153
A18: 3. Atlīdzība par audžuģimenes pienākumu pildīšanu** | B18: ='2.tabula'!F51 -> 948485 | C18: ='2.tabula'!I51 -> 933605 | D18: ='2.tabula'!L51 -> 1326869 | E18: ='2.tabula'!O51 -> 1291061
A19: 4. Atlīdzība par aizbildņa pienākumu pildīšanu** | B19: ='2.tabula'!B65 -> 7159833 | C19: ='2.tabula'!C65 -> 7086654 | D19: ='2.tabula'!D65 -> 8537331 | E19: ='2.tabula'!E65 -> 8448252
A20: 5. Atlīdzība par adoptējamā bērna aprūpi** | B20: ='2.tabula'!B77 -> 32738 | C20: ='2.tabula'!C77 -> 36343 | D20: ='2.tabula'!D77 -> 38320 | E20: ='2.tabula'!E77 -> 40502
A21: 6. Atlīdzība par bērna adopciju** | B21: ='2.tabula'!B90 -> 84851 | C21: ='2.tabula'!C90 -> 84851 | D21: ='2.tabula'!D90 -> 84851 | E21: ='2.tabula'!E90 -> 84851
A22: LM speciālā budžeta apakšprogramma 04.05.00 "Valsts sociālās apdrošināšanas aģentūras speciālais budžets" | B22: =B23 -> 128018
A23: VSAA IT sistēmu pielāgošana (230 c/d * 556,60 euro ar PVN) | B23: 128018
A24: * Detalizēts aprēķins 1.tabulā
A25: * Detalizēts aprēķins 2.tabulā
A27: Ilze Štrausa Labklājības ministrija Finanšu vadības departaments Tālr. 20688364 Ilze.Strausa@lm.gov.lv

Sheet 1.tabula
E1: 2.pielikums anotācijai
E2: likumprojektam "Grozījumi Valsts sociālo pabalstu likumā"
E3: 1.tabula
A5: 1. Bērna piedzimšanas pabalsta pārskatīšana
A7: Pasākums paredz no 2026.gada palielināt bērna piedzimšanas pabalsta apmēru no 421,17 euro līdz 600 euro, atbilstoši manabalss.lv iniciatīvai.
A9: Nosaukums | B9: 2026 | C9: 2027 | D9: 2028 | E9: 2029
A10: esošais pabalsta apmērs, euro | B10: 421.17 | C10: 421.17 | D10: 421.17 | E10: 421.17
A11: jaunais pabalsta apmērs, euro | B11: 600 | C11: 600 | D11: 600 | E11: 600
A12: pabalsta apmēra pieaugums, euro | B12: =B11-B10 -> 178.83 | C12: =B12 -> 178.83 | D12: =B12 -> 178.83 | E12: =C12 -> 178.83
A13: plānotais pabalsta saņēmēju skaits, vid.mēn. | B13: 1059 | C13: 1059 | D13: 1059 | E13: 1059
A14: papildu nepieciešamais finansējums, euro | B14: =ROUND(B12*B13*12,0) -> 2272572 | C14: =ROUND(C12*C13*12,0) -> 2272572 | D14: =ROUND(D12*D13*12,0) -> 2272572 | E14: =ROUND(E12*E13*12,0) -> 2272572
A16: 2. Bērna kopšanas pabalsta pārskatīšana
A18: Pasākums paredz no 2026.gada bērna kopšanas pabalstu (t.sk. piemaksas par dvīņiem vai vairākiem vienās dzemdībās dzimušiem bērniem) līdz bērna pusotra gada vecumam (171 euro) sasaistīt ar ienākumu mediānu un noteikt 35% apmērā no ienākumu mediānas, apmēru pārskatot reizi divos gados
A20: Nosaukums | B20: 2026 | C20: 2027 | D20: 2028 | E20: 2029
A21: izdevumi saskaņā ar budžeta ietvara likumu, euro* | B21: 43276974 | C21: 43276974 | D21: =C21 -> 43276974 | E21: =D21 -> 43276974
A22: plānotais saņēmēju skaits, vid.mēnesī | B22: 27321 | C22: 27321 | D22: 27321 | E22: 27321
A23: t.sk. līdz 1,5 g. vecumam** | B23: =B22*0.7 -> 19124.7 | C23: =C22*0.7 -> 19124.7 | D23: =D22*0.7 -> 19124.7 | E23: =E22*0.7 -> 19124.7
A24: ienākumu mediānas apmērs gadā, euro*** | B24: 850.02 | C24: =B24 -> 850.02 | D24: 1002.41 | E24: =D24 -> 1002.41
A25: jaunais pabalsta apmērs līdz 1,5 g. vecumam (35% no mediānas), euro | B25: =ROUND(B24*0.35,0) -> 298 | C25: =ROUND(C24*0.35,0) -> 298 | D25: =ROUND(D24*0.35,0) -> 351 | E25: =ROUND(E24*0.35,0) -> 351
A26: pabalsta apmēra pieaugums, euro | B26: =B25-171 -> 127 | C26: =C25-171 -> 127 | D26: =D25-171 -> 180 | E26: =E25-171 -> 180
A27: papildu nepieciešamais finansējums, euro | B27: =ROUND(B26*B23*12,0) -> 29146043 | C27: =ROUND(C26*C23*12,0) -> 29146043 | D27: =ROUND(D26*D23*12,0) -> 41309352 | E27: =ROUND(E26*E23*12,0) -> 41309352
A28: * saskaņā ar likumu "Par valsts budžetu 2025.gadam un budžeta ietvaru 2025., 2026. un 2027.gadam"
A29: **atbilstoši VSAA 2023.gada statistikas datiem par bērna kopšanas pabalsta saņēmējiem pabalstu līdz bērna pusotra gada vecumam saņēma 70%, bet par bērnu no pusotra līdz divu gadu vecumam - 30% saņēmēju.
A30: ***no 2026.g. 1.janvāra - faktiskais ienākumu mediānas apmērs ir 850,02 euro, 2028.gadā - prognozētais apmērs 1 002,41 euro.
A32: 3. Ģimenes valsts pabalsta pārskatīšana
A33: Pasākums paredz no 2026.gada ģimenes valsts pabalstu par bērniem no 16 gadiem līdz 20 gadu vecuma sasniegšanai maksāt neatkarīgi no tā, kādu izglītību iegūst (līdz šim maksā tiem, kas mācās vidējās vai profesionālās izglītības iestādēs, augstskolās studējošajiem nemaksā), t.sk. ārvalstīs studējošajiem.
A35: Nosaukums | B35: Bērnu skaits, par kuriem izmaksājams pabalsts* | C35: Pabalsta apmērs (esošā situācija), euro
A36: par vienu bērnu | B36: 113187 | C36: 25
A37: par diviem bērniem | B37: 148451 | C37: 50
A38: par trīs bērniem | B38: 62533 | C38: 75
A39: par četriem bērniem | B39: 16135 | C39: 100
A40: par pieciem bērniem | B40: 4893 | C40: 100
A41: par sešiem bērniem | B41: 1802 | C41: 100
A42: par septiņiem bērniem | B42: 809 | C42: 100
A43: par astoņiem bērniem | B43: 344 | C43: 100
A44: par deviņiem bērniem | B44: 112 | C44: 100
A45: par desmit bērniem | B45: 62 | C45: 100
A46: par 11 bērniem | B46: 17 | C46: 100
A47: par 12 bērniem | B47: 12 | C47: 100
A48: bērni kopā | B48: =SUM(B36:B47) -> 348357
...

Sheet 2.tabula
M1: 2.pielikums anotācijai
M2: likumprojektam "Grozījumi Valsts sociālo pabalstu likumā"
M3: 2.tabula
A5: 1. Pabalsta aizbildnim par bērna uzturēšanu pārskatīšana
A7: Pasākums paredz no 2026.gada pārskatīt pabalsta apmēru, ņemot vērā minimālās algas pieaugumu. Pabalsta apmērs tiek rēķināts atbilstoši minimālo uzturlīdzekļu apmēram, ko katram vecākam ir pienākums nodrošināt bērnam saskaņā ar MK 15.01.2013. noteikumiem Nr.37 "Noteikumi par minimālo uzturlīdzekļu apmēru bērnam", t.i., 25% no minimālās algas par bērniem 0-6 gadi un 30% no minimālās algas par bērniem 7-17 gadi. Pabalsts tiek noteikts divkāršā minimālo uzturlīdzekļu apmērā (kā par abiem vecākiem). Minimālā alga 2026.gadā ir plānota 780 euro, 2027.gadā - 820 euro, 2028.gadā - 860 euro (2029. gadā tiek pieņemta 2028.gada līmenī). Līdz ar to pabalsta apmērs 2026.gadā plānots: par bērnu līdz septiņu gadu vecuma sasniegšanai – 390 euro mēnesī; par bērnu vecumā no septiņiem gadiem – 468 euro mēnesī. Turpmākajos gados apmērs pieaug atbilstoši minimālās algas izmaiņām.
A9: Nosaukums | B9: 2026 | E9: 2027 | H9: 2028 | K9: 2029
B10: apmērs | C10: saņēmēju skaits | D10: izdevumi | E10: apmērs | F10: saņēmēju skaits | G10: izdevumi | H10: apmērs | I10: saņēmēju skaits | J10: izdevumi | K10: apmērs | L10: saņēmēju skaits | M10: izdevumi
A11: plānotā minimālā alga valstī, euro | B11: 780 | E11: 820 | H11: 860 | K11: =H11 -> 860
A12: izdevumi saskaņā ar budžeta ietvara likumu, euro* | D12: 6509256 | G12: 6571845 | J12: 6634434 | M12: =J12 -> 6634434
A13: saņēmēju skaits, vid.mēnesī | C13: 2462 | F13: 2449 | I13: 2437 | L13: 2424
A14: no tiem par bērnu vecumā 0-6 gadi** | B14: =B11*25%*2 -> 390 | C14: =ROUND(C13*15%,0) -> 369 | D14: =B14*C14*12 -> 1726920 | E14: =E11*25%*2 -> 410 | F14: =ROUND(F13*15%,0) -> 367 | G14: =F14*E14*12 -> 1805640 | H14: =H11*25%*2 -> 430 | I14: =ROUND(I13*15%,0) -> 366 | J14: =I14*H14*12 -> 1888560 | K14: =K11*25%*2 -> 430 | L14: =ROUND(L13*15%,0) -> 364 | M14: =L14*K14*12 -> 1878240
A15: par bērnu vecumā 7-17 gadi** | B15: =B11*30%*2 -> 468 | C15: =ROUND(C13*85%,0) -> 2093 | D15: =B15*C15*12 -> 11754288 | E15: =E11*30%*2 -> 492 | F15: =ROUND(F13*85%,0) -> 2082 | G15: =F15*E15*12 -> 12292128 | H15: =H11*30%*2 -> 516 | I15: =ROUND(I13*85%,0) -> 2071 | J15: =I15*H15*12 -> 12823632 | K15: =K11*30%*2 -> 516 | L15: =ROUND(L13*85%,0) -> 2060 | M15: =L15*K15*12 -> 12755520
A16: plānotie izdevumi gadam ar jauno pabalsta apmēru, euro | D16: =SUM(D14:D15) -> 13481208 | G16: =SUM(G14:G15) -> 14097768 | J16: =SUM(J14:J15) -> 14712192 | M16: =SUM(M14:M15) -> 14633760
A17: papildu nepieciešamais finansējums, euro | D17: =D16-D12 -> 6971952 | G17: =G16-G12 -> 7525923 | J17: =J16-J12 -> 8077758 | M17: =M16-M12 -> 7999326
A18: * atbilstoši likumam "Par valsts budžetu 2025. gadam un budžeta ietvaru 2025., 2026. un 2027. gadam"; 2029.gada izdevumi saglabāti 2028.gada līmenī
A19: **atbilstoši VSAA 2023.gada statistikas datiem pabalstu par bērniem vecumā līdz 6 gadiem saņēma 13%, bet par bērniem no 7 gadu vecuma - 87% (noapaļojot tiek pieņemti attiecīgi 15% un 85%)
A21: 2. Bērna adopcijas pabalsta pārskatīšana
A23: Pasākums paredz, ka pabalsta apmērs no 2026.gada tiek rēķināts atbilstoši minimālo uzturlīdzekļu apmēram, ko katram vecākam ir pienākums nodrošināt bērnam saskaņā ar MK 15.01.2013. noteikumiem Nr.37 "Noteikumi par minimālo uzturlīdzekļu apmēru bērnam", t.i., 25% no minimālās algas par bērniem 0-6 gadi un 30% no minimālās algas par bērniem 7-17 gadi. Minimālā alga 2026.gadā ir plānota 780 euro, 2027.gadā - 820 euro, 2028.gadā - 860 euro (2029. gadā tiek pieņemta 2028.gada līmenī). Līdz ar to pabalsta apmērs 2026.gadā plānots: par bērnu līdz septiņu gadu vecuma sasniegšanai – 195 euro mēnesī; par bērnu vecumā no septiņiem gadiem – 234 euro mēnesī. Turpmākajos gados apmērs pieaug atbilstoši minimālās algas izmaiņām.
A25: Nosaukums | B25: 2026 | E25: 2027 | H25: 2028 | K25: 2029
B26: apmērs | C26: saņēmēju skaits | D26: izdevumi | E26: apmērs | F26: saņēmēju skaits | G26: izdevumi | H26: apmērs | I26: saņēmēju skaits | J26: izdevumi | K26: apmērs | L26: saņēmēju skaits | M26: izdevumi
A27: plānotā minimālā alga valstī, euro | B27: =B11 -> 780 | E27: =E11 -> 820 | H27: =H11 -> 860 | K27: =K11 -> 860
A28: izdevumi saskaņā ar budžeta ietvara likumu, euro* | D28: 1832881 | G28: 1840338 | J28: 1847795 | M28: =J28 -> 1847795
A29: saņēmēju skaits, vid.mēnesī | C29: 1229 | F29: 1234 | I29: 1239 | L29: 1244
A30: no tiem par bērnu vecumā 0-6 gadi** | B30: =B27*25% -> 195 | C30: =ROUND(C29*25%,0) -> 307 | D30: =B30*C30*12 -> 718380 | E30: =E27*25% -> 205 | F30: =ROUND(F29*25%,0) -> 309 | G30: =F30*E30*12 -> 760140 | H30: =H27*25% -> 215 | I30: =ROUND(I29*25%,0) -> 310 | J30: =I30*H30*12 -> 799800 | K30: =K27*25% -> 215 | L30: =ROUND(L29*25%,0) -> 311 | M30: =L30*K30*12 -> 802380
A31: par bērnu vecumā 7-17 gadi** | B31: =B27*30% -> 234 | C31: =ROUND(C29*75%,0) -> 922 | D31: =B31*C31*12 -> 2588976 | E31: =E27*30% -> 246 | F31: =ROUND(F29*75%,0) -> 926 | G31: =F31*E31*12 -> 2733552 | H31: =H27*30% -> 258 | I31: =ROUND(I29*75%,0) -> 929 | J31: =I31*H31*12 -> 2876184 | K31: =K27*30% -> 258 | L31: =ROUND(L29*75%,0) -> 933 | M31: =L31*K31*12 -> 2888568
A32: plānotie izdevumi gadam ar jauno pabalsta apmēru, euro | D32: =SUM(D30:D31) -> 3307356 | G32: =SUM(G30:G31) -> 3493692 | J32: =SUM(J30:J31) -> 3675984 | M32: =SUM(M30:M31) -> 3690948
A33: papildu nepieciešamais finansējums, euro | D33: =D32-D28 -> 1474475 | G33: =G32-G28 -> 1653354 | J33: =J32-J28 -> 1828189 | M33: =M32-M28 -> 1843153
A34: * atbilstoši likumam "Par valsts budžetu 2025. gadam un budžeta ietvaru 2025., 2026. un 2027. gadam"; 2029.gada izdevumi saglabāti 2028.gada līmenī
A35: **atbilstoši VSAA 2023.gada statistikas datiem pabalstu par bērniem vecumā līdz 6 gadiem saņēma 25%, bet par bērniem no 7 gadu vecuma - 75%.
A37: 3. Atlīdzības par audžuģimenes pienākumu pildīšanu pārskatīšana
A39: Pasākums paredz no 2026.gada atteikties no atlīdzības sasaistes ar bērna kopšanas pabalsta apmēru un tā vietā noteikt atlīdzības apmēru 35% apmērā no ienākumu mediānas, atlīdzības apmēru pārskatot reizi divos gados. Vienlaikus paredzēts saglabāt esošos koeficientus par otrā berna aprūpi - koeficients 1,3 un trešā bērnu aprūpi - koeficients 1,6, kā arī noteikt koeficientus par lielāka skaita vienas ģimenes bērnu aprūpi, proti, par 4 bērniem - koeficients 1,7, par 5 bērniem - koeficients 1,8 un par 6 un vairāk bērniem (ja ir vienas ģimenes bērni) - koeficients 1,9 (noapaļojot līdz veseliem euro).
A41: Nosaukums | B41: saņēmēju īpatsvars* | C41: atlīdzības apmēram piemērotais koeficients | D41: 2026 | G41: 2027 | J41: 2028 | M41: 2029
D42: jaunais apmērs** | E42: saņēmēju skaits | F42: izdevumi | G42: jaunais apmērs** | H42: saņēmēju skaits | I42: izdevumi | J42: jaunais apmērs** | K42: saņēmēju skaits | L42: izdevumi | M42: jaunais apmērs** | N42: saņēmēju skaits | O42: izdevumi
A43: par 1 bērnu | B43: 0.4 | C43: 1 | D43: =ROUND(850.02*35%,) -> 298 | E43: =ROUND(E49*B43,0) -> 195 | F43: =D43*E43*12 -> 697320 | G43: =ROUND(850.02*35%,) -> 298 | H43: =ROUND(H49*B43,0) -> 193 | I43: =H43*G43*12 -> 690168 | J43: =ROUND(1002.41*35%,) -> 351 | K43: =ROUND(K49*B43,0) -> 191 | L43: =J43*K43*12 -> 804492 | M43: =ROUND(1002.41*35%,) -> 351 | N43: =ROUND(N49*B43,0) -> 189 | O43: =M43*N43*12 -> 796068
A44: par 2 bērniem | B44: 0.26 | C44: 1.3 | D44: =ROUND(D43*C44,0) -> 387 | E44: =ROUND(E49*B44,0) -> 127 | F44: =D44*E44*12 -> 589788 | G44: =ROUND(G43*C44,0) -> 387 | H44: =ROUND(H49*B44,0) -> 125 | I44: =H44*G44*12 -> 580500 | J44: =ROUND(J43*C44,0) -> 456 | K44: =ROUND(K49*B44,0) -> 124 | L44: =J44*K44*12 -> 678528 | M44: =ROUND(M43*C44,0) -> 456 | N44: =ROUND(N49*B44,0) -> 123 | O44: =M44*N44*12 -> 673056
A45: par 3 bērniem | B45: 0.19 | C45: 1.6 | D45: =ROUND(D43*C45,0) -> 477 | E45: =ROUND(E49*B45,0) -> 93 | F45: =D45*E45*12 -> 532332 | G45: =ROUND(G43*C45,0) -> 477 | H45: =ROUND(H49*B45,0) -> 92 | I45: =H45*G45*12 -> 526608 | J45: =ROUND(J43*C45,0) -> 562 | K45: =ROUND(K49*B45,0) -> 91 | L45: =J45*K45*12 -> 613704 | M45: =ROUND(M43*C45,0) -> 562 | N45: =ROUND(N49*B45,0) -> 90 | O45: =M45*N45*12 -> 606960
A46: par 4 bērniem | B46: 0.09 | C46: 1.7 | D46: =ROUND(D43*C46,0) -> 507 | E46: =ROUND(E49*B46,0) -> 44 | F46: =D46*E46*12 -> 267696 | G46: =ROUND(G43*C46,0) -> 507 | H46: =ROUND(H49*B46,0) -> 43 | I46: =H46*G46*12 -> 261612 | J46: =ROUND(J43*C46,0) -> 597 | K46: =ROUND(K49*B46,0) -> 43 | L46: =J46*K46*12 -> 308052 | M46: =ROUND(M43*C46,0) -> 597 | N46: =ROUND(N49*B46,0) -> 42 | O46: =M46*N46*12 -> 300888
A47: par 5 bērniem | B47: 0.04 | C47: 1.8 | D47: =ROUND(D43*C47,0) -> 536 | E47: =ROUND(E49*B47,0) -> 19 | F47: =D47*E47*12 -> 122208 | G47: =ROUND(G43*C47,0) -> 536 | H47: =ROUND(H49*B47,0) -> 19 | I47: =H47*G47*12 -> 122208 | J47: =ROUND(J43*C47,0) -> 632 | K47: =ROUND(K49*B47,0) -> 19 | L47: =J47*K47*12 -> 144096 | M47: =ROUND(M43*C47,0) -> 632 | N47: =ROUND(N49*B47,0) -> 19 | O47: =M47*N47*12 -> 144096
A48: par 6 un vairāk bērniem | B48: 0.02 | C48: 1.9 | D48: =ROUND(D43*C48,0) -> 566 | E48: =ROUND(E49*B48,0) -> 10 | F48: =D48*E48*12 -> 67920 | G48: =ROUND(G43*C48,0) -> 566 | H48: =ROUND(H49*B48,0) -> 10 | I48: =H48*G48*12 -> 67920 | J48: =ROUND(J43*C48,0) -> 667 | K48: =ROUND(K49*B48,0) -> 10 | L48: =J48*K48*12 -> 80040 | M48: =ROUND(M43*C48,0) -> 667 | N48: =ROUND(N49*B48,0) -> 9 | O48: =M48*N48*12 -> 72036
A49: kopā | E49: 487 | F49: =SUM(F43:F48) -> 2277264 | H49: 482 | I49: =SUM(I43:I48) -> 2249016 | K49: 477 | L49: =SUM(L43:L48) -> 2628912 | N49: 472 | O49: =SUM(O43:O48) -> 2593104
...

Sheet aizb_atlīdz_171
A2: Atlīdzības par aizbildņa pienākumu pildīšanu pārskatīšana
A4: 1. Pasākums paredz no 2026.gada 1.jūlija noteikt atlīdzību aizbildnim analoģiskā apmērā kā audžuģimenei par viena bērna aprūpi (171 euro), nodrošinot vienlīdzīgāku attieksmi atlīdzības noteikšanā audžuģimenēm un aizbildņiem.
A5: Atlīdzību izmaksu nodrošināšana tiks veikta apakšprogrammas 20.01.00 "Valsts sociālie pabalsti" ietvaros.
B7: 2026 (6 mēn) | C7: 2027 | D7: 2028 | E7: 2029
A8: saņēmēju skaits* | B8: 2446 | C8: 2421 | D8: 2396 | E8: 2371
A9: esošais atlīdzības apmērs, euro | B9: 54.07 | C9: 54.07 | D9: 54.07 | E9: 54.07
A10: plānotais atlīdzības apmērs, euro | B10: 171 | C10: 171 | D10: 171 | E10: 171
A11: atlīdzības apmēra pieaugums | B11: =B10-B9 -> 116.93 | C11: =C10-C9 -> 116.93 | D11: =D10-D9 -> 116.93 | E11: =E10-E9 -> 116.93
A12: papildu nepieciešamais finansējums 2026.-2029.gadā, euro | B12: =ROUND(B11*6*B8,0) -> 1716065 | C12: =ROUND(C11*12*C8,0) -> 3397050 | D12: =ROUND(D11*12*D8,0) -> 3361971 | E12: =ROUND(E11*12*E8,0) -> 3326892
A13: * atbilstoši prognozei FSP (2025.gada marts)
A15: 2. Lai veiktu atlīdzības izmaksas paaugstinātā apmērā, 2026.gadā nepieciešams veikt VSAA IS pielāgošanu.
A16: VSAA IS pielāgošanai nepieciešams papildus finansējums 22 264 euro (40 c/d * 556,60 euro ar PVN). Provizoriskā darbietilpība ietver sistēmanalīzes, programmēšanas un testēšanas uzdevumu izpildi ārpakalpojumā.
A18: Izdevumi IT sistēmu pielāgošanai 2026.gadā tiks plānoti apakšprogrammas 97.02.00 "Nozares centralizēto funkciju izpilde" ietvaros kā kapitālo izdevumu transferti no valsts pamatbudžeta uz valsts speciālā budžeta apakšprogrammu 04.05.00 "Valsts sociālās apdrošināšanas aģentūras speciālais budžets".
B19: 2026
A20: Nepieciešamais finansējums IT pielāgošanai, euro | B20: =40*556.6 -> 22264
B22: 2026 (6 mēn) | C22: 2027 | D22: 2028 | E22: 2029
A23: Kopējie izdevumi pasākuma ieviešanai, euro | B23: =B20+B12 -> 1738329 | C23: =C12 -> 3397050 | D23: =D12 -> 3361971 | E23: =E12 -> 3326892
A25: Izmaiņu darbietilpība - 40 cilvēkdienas, kas rada ieviešanas izmaksas 22264 EUR (556,60 EUR x 40 c/d). Darbietilpība ietver sistēmanalīzi, programmēšanu un testēšanu, lai izstrādātu jaunu masveida uzdevumu pabalsta pārrēķināšanai, kā arī veiktu izmaiņas pabalsta apmēra noteikšanā.

Sheet piemaksa_ĢVP_FVD
A1: Jauns valsts sociālais pabalsts, ja bērnam nav noteikta paternitāte | U1: 2025
A3: Priekšlikums paredz no 2027.gada ieviest jaunu valsts sociālo pabalstu bērniem, kuriem nav noteikta paternitāte. Pabalsta apmērs tiek rēķināts atbilstoši minimālo uzturlīdzekļu apmēram, ko katram vecākam ir pienākums nodrošināt bērnam saskaņā ar MK15.01.2013. noteikumiem Nr.37 "Noteikumi par minimālo uzturlīdzekļu apmēru bērnam", proti, 25% no minimālās algas par bērniem 0-6 gadi un 30% no minimālās algas par bērniem 7-17 gadi. Minimālā alga 2026.gadā ir plānota 780 euro, 2027.gadā - 820 euro, 2028.gadā - 860 euro (2029. gadā tiek pieņemta 2028.g. līmenī). Pabalsts tiek noteikts 50% apmērā no minimālajiem uzturlīdzekļiem. Līdz ar to pabalsta apmērs 2027.gadā plānots: par bērnu līdz septiņu gadu vecuma sasniegšanai – 102,5 euro mēnesī; par bērnu vecumā no septiņiem gadiem – 123 euro mēnesī. Turpmākajos gados apmērs pieaug atbilstoši minimālās algas izmaiņām.
A4: Pabalsta izmaksu nodrošināšana tiks veikta apakšprogrammas 20.01.00 "Valsts sociālie pabalsti" ietvaros.
U5: 82
B7: 2006 | C7: 2007 | D7: 2008 | E7: 2009 | F7: 2010 | G7: 2011 | H7: 2012 | I7: 2013 | J7: 2014 | K7: 2015 | L7: 2016 | M7: 2017 | N7: 2018 | O7: 2019 | P7: 2020 | Q7: 2021 | R7: 2022 | S7: 2023 | T7: 2024 | U7: 2025 | V7: 2026 | W7: 2027 | X7: 2028 | Y7: 2029
A8: dzimušie CSP dati, Dzīvi dzimušo skaits pēc dzimuma – Jaundzimušā dzimums un Laika periods | B8: 22871 | C8: 23958 | D8: 24397 | E8: 22044 | F8: 19781 | G8: 18825 | H8: 19897 | I8: 20596 | J8: 21746 | K8: 21979 | L8: 21968 | M8: 20828 | N8: 19314 | O8: 18786 | P8: 17552 | Q8: 17420 | R8: 15954 | S8: 14490 | T8: 12571 | W8: ='1.tabula'!B13*12 -> 12708 | X8: ='1.tabula'!C13*12 -> 12708 | Y8: ='1.tabula'!D13*12 -> 12708
A9: TM dati par bērniem, kuriem reģistrējot dzimšanas faktu, nav noteikta paternitāte | B9: 1926 | C9: 1733 | D9: 1641 | E9: 1513 | F9: 1622 | G9: 1279 | H9: 1213 | I9: 1172 | J9: 1013 | K9: 921 | L9: 909 | M9: 795 | N9: 735 | O9: 626 | P9: 615 | Q9: 495 | R9: 512 | S9: 451 | T9: 404
A10: % no dzimušajiem | B10: =B9/B8 -> 0.084211447 | C10: =C9/C8 -> 0.072334919 | D10: =D9/D8 -> 0.067262368 | E10: =E9/E8 -> 0.068635456 | F10: =F9/F8 -> 0.081997877 | G10: =G9/G8 -> 0.067941567 | H10: =H9/H8 -> 0.060963964 | I10: =I9/I8 -> 0.056904253 | ... T10: =T9/T8 -> 0.032137459
A11: PMLP dati pēc dzimšanas gada - bērni bez tēva dzīvojoši LV | B11: 795 | C11: 819 | D11: 741 | E11: 724 | F11: 696 | G11: 604 | H11: 659 | I11: 609 | J11: 517 | K11: 497 | L11: 491 | M11: 424 | N11: 400 | O11: 365 | P11: 347 | Q11: 305 | R11: 293 | S11: 308 | T11: 313 | U11: 300 | V11: 300 | W11: 300 | X11: 300 | Y11: 300 | Z11: =SUM(C11:T11) -> 9112
A12: % no dzimušajiem | B12: =B11/B8 -> 0.034760177 | C12: =C11/C8 -> 0.034184823 | D12: =D11/D8 -> 0.030372587 | E12: =E11/E8 -> 0.032843404 | F12: =F11/F8 -> 0.035185279 | G12: =G11/G8 -> 0.032084993 | H12: =H11/H8 -> 0.033120571 | I12: =I11/I8 -> 0.029568848 | ... T12: =T11/T8 -> 0.024898576
A13: bērna vecums 2027 | F13: 17 | G13: 16 | H13: 15 | I13: 14 | J13: 13 | K13: 12 | L13: 11 | M13: 10 | N13: 9 | O13: 8 | P13: 7 | Q13: 6 | R13: 5 | S13: 4 | T13: 3 | U13: 2 | V13: 1 | W13: 0
A14: bērna vecums 2028 | G14: 17 | H14: 16 | I14: 15 | J14: 14 | K14: 13 | L14: 12 | M14: 11 | N14: 10 | O14: 9 | P14: 8 | Q14: 7 | R14: 6 | S14: 5 | T14: 4 | U14: 3 | V14: 2 | W14: 1 | X14: 0
A15: bērna vecums 2029 | H15: 17 | I15: 16 | J15: 15 | K15: 14 | L15: 13 | M15: 12 | N15: 11 | O15: 10 | P15: 9 | Q15: 8 | R15: 7 | S15: 6 | T15: 5 | U15: 4 | V15: 3 | W15: 2 | X15: 1 | Y15: 0
B17: skaits | C17: min algas apmērs 2027 | D17: min uzturlīdzekļi A variants (CL) | E17: 50% no min uzturlīdzekļiem | F17: izdevumi | K17: min uzturlīdzekļi B variants (UGF) | L17: 50% no min uzturlīdzekļiem | M17: izdevumi
A18: bērnu vecums 0-6 | B18: =SUM(N11:T11) -> 2331 | C18: 820 | D18: =C18*25% -> 205 | E18: =D18/2 -> 102.5 | F18: =B18*E18*12 -> 2867130 | K18: 125 | L18: =K18/2 -> 62.5 | M18: =B18*L18*12 -> 1748250
A19: bērnu vecums 7-17 | B19: =SUM(C11:M11) -> 6781 | C19: 820 | D19: =C19*30% -> 246 | E19: =D19/2 -> 123 | F19: =B19*E19*12 -> 10008756 | K19: 150 | L19: =K19/2 -> 75 | M19: =B19*L19*12 -> 6102900
A20: kopā izdevumi piemaksai pie ĢVP | B20: =SUM(B18:B19) -> 9112 | F20: =SUM(F18:F19) -> 12875886 | M20: =SUM(M18:M19) -> 7851150
B23: 2027 | E23: 2028 | H23: 2029
B24: skaits* | C24: apmērs | D24: izdevumi | E24: skaits* | F24: apmērs | G24: izdevumi | H24: skaits* | I24: apmērs | J24: izdevumi
A25: minimālā alga | C25: 820 | F25: 860 | I25: 860
A26: bērnu vecums 0-6 | B26: =SUM(Q11:W11) -> 2119 | C26: =ROUND((C25*25%)/2,2) -> 102.5 | D26: =ROUND(B26*C26*12,0) -> 2606370 | E26: =SUM(R11:X11) -> 2114 | F26: =ROUND((F25*25%)/2,2) -> 107.5 | G26: =ROUND(E26*F26*12,0) -> 2727060 | H26: =SUM(S11:Y11) -> 2121 | I26: =ROUND((I25*25%)/2,2) -> 107.5 | J26: =ROUND(H26*I26*12,0) -> 2736090
A27: bērnu vecums 7-17 | B27: =SUM(F11:P11) -> 5609 | C27: =ROUND((C25*30%)/2,2) -> 123 | D27: =ROUND(B27*C27*12,0) -> 8278884 | E27: =SUM(G11:Q11) -> 5218 | F27: =ROUND((F25*30%)/2,2) -> 129 | G27: =ROUND(E27*F27*12,0) -> 8077464 | H27: =SUM(H11:R11) -> 4907 | I27: =ROUND((I25*30%)/2,2) -> 129 | J27: =ROUND(H27*I27*12,0) -> 7596036
A28: papildu nepieciešamie izdevumi kopā | B28: =B26+B27 -> 7728 | D28: =D26+D27 -> 10885254 | E28: =E26+E27 -> 7332 | G28: =G26+G27 -> 10804524 | H28: =H26+H27 -> 7028 | J28: =J26+J27 -> 10332126
A29: *Bērnu skaits, kam nav noteikta paternitāte, līdz 2024.g. ir MPLP dati pēc dzimšanas gada - bērni bez tāva, dzīvojoši LV. Tiek pieņemts, ka 2025. g un turpmāk ik gadu 300 bērniem netiek noteikta paternitāte
A30: * 2029.gadā minimālā alga tiek pieņemta 2028.gadam plānotā līmenī.
A32: 2. Lai veiktu atlīdzības izmaksas paaugstinātā apmērā, 2026.gadā nepieciešams veikt VSAA IS pielāgošanu.
A33: VSAA IS pielāgošanai nepieciešams papildu finansējums 72 915 euro (131 c/d * 556,60 euro ar PVN). Provizoriskā darbietilpība ietver sistēmanalīzes, programmēšanas un testēšanas uzdevumu izpildi ārpakalpojumā.
A35: Izdevumi IT sistēmu pielāgošanai 2026.gadā tiks plānoti apakšprogrammas 97.02.00 "Nozares centralizēto funkciju izpilde" ietvaros kā kapitālo izdevumu transferti no valsts pamatbudžeta uz valsts speciālā budžeta apakšprogrammu 04.05.00 "Valsts sociālās apdrošināšanas aģentūras speciālais budžets".
B36: 2026 | C36: 2027 | D36: 2028 | E36: 2029
A37: Nepieciešamais finansējums IT pielāgošanai, euro | B37: =131*556.6 -> 72914.6 | C37: =D28 -> 10885254 | D37: =G28 -> 10804524 | E37: =J28 -> 10332126
A40: Izmaiņu darbietilpība - 131 cilvēkdiena, kas rada ieviešanas izmaksas 72 915 EUR (556,60 EUR x 131 c/d). Darbietilpība ietver sistēmanalīzi, programmēšanu un testēšanu, lai izstrādātu jaunu masveida uzdevumu pabalsta pārrēķināšanai, kā arī veiktu izmaiņas pabalsta apmēra noteikšanā, ieviešot jaunus koeficientus lielākam bērnu skaitam ģimenē.

Sheet piemaksa_ĢVP
A1: Jauns valsts sociālais pabalsts, ja bērnam nav noteikta paternitāte | U1: 2025
A3: Priekšlikums paredz no 2027.gada ieviest jaunu valsts sociālo pabalstu bērniem, kuriem nav noteikta paternitāte. Pabalsta apmērs tiek rēķināts atbilstoši minimālo uzturlīdzekļu apmēram, ko katram vecākam ir pienākums nodrošināt bērnam saskaņā ar MK15.01.2013. noteikumiem Nr.37 "Noteikumi par minimālo uzturlīdzekļu apmēru bērnam", proti, 25% no minimālās algas par bērniem 0-6 gadi un 30% no minimālās algas par bērniem 7-17 gadi. Minimālā alga 2026.gadā ir plānota 780 euro, 2027.gadā - 820 euro, 2028.gadā - 860 euro (2029. gadā tiek pieņemta 2028.g. līmenī). Pabalsts tiek noteikts 50% apmērā no minimālajiem uzturlīdzekļiem. Līdz ar to pabalsta apmērs 2027.gadā plānots: par bērnu līdz septiņu gadu vecuma sasniegšanai – 102,5 euro mēnesī; par bērnu vecumā no septiņiem gadiem – 123 euro mēnesī. Turpmākajos gados apmērs pieaug atbilstoši minimālās algas izmaiņām.
A4: Pabalsta izmaksu nodrošināšana tiks veikta apakšprogrammas 20.01.00 "Valsts sociālie pabalsti" ietvaros.
U5: 82
B7: 2006 | C7: 2007 | D7: 2008 | E7: 2009 | F7: 2010 | G7: 2011 | H7: 2012 | I7: 2013 | J7: 2014 | K7: 2015 | L7: 2016 | M7: 2017 | N7: 2018 | O7: 2019 | P7: 2020 | Q7: 2021 | R7: 2022 | S7: 2023 | T7: 2024 | U7: 2025 | V7: 2026 | W7: 2027 | X7: 2028
A8: dzimušie CSP dati, Dzīvi dzimušo skaits pēc dzimuma – Jaundzimušā dzimums un Laika periods | B8: 22871 | C8: 23958 | D8: 24397 | E8: 22044 | F8: 19781 | G8: 18825 | H8: 19897 | I8: 20596 | J8: 21746 | K8: 21979 | L8: 21968 | M8: 20828 | N8: 19314 | O8: 18786 | P8: 17552 | Q8: 17420 | R8: 15954 | S8: 14490 | T8: 12571 | W8: ='1.tabula'!B13*12 -> 12708 | X8: ='1.tabula'!C13*12 -> 12708 | Y8: ='1.tabula'!D13*12 -> 12708
A9: TM dati par bērniem, kuriem reģistrējot dzimšanas faktu, nav noteikta paternitāte | B9: 1926 | C9: 1733 | D9: 1641 | E9: 1513 | F9: 1622 | G9: 1279 | H9: 1213 | I9: 1172 | J9: 1013 | K9: 921 | L9: 909 | M9: 795 | N9: 735 | O9: 626 | P9: 615 | Q9: 495 | R9: 512 | S9: 451 | T9: 404
A10: % no dzimušajiem | B10: =B9/B8 -> 0.084211447 | C10: =C9/C8 -> 0.072334919 | D10: =D9/D8 -> 0.067262368 | E10: =E9/E8 -> 0.068635456 | F10: =F9/F8 -> 0.081997877 | G10: =G9/G8 -> 0.067941567 | H10: =H9/H8 -> 0.060963964 | I10: =I9/I8 -> 0.056904253 | ... T10: =T9/T8 -> 0.032137459
A11: PMLP dati pēc dzimšanas gada - bērni bez tēva dzīvojoši LV | B11: 795 | C11: 819 | D11: 741 | E11: 724 | F11: 696 | G11: 604 | H11: 659 | I11: 609 | J11: 517 | K11: 497 | L11: 491 | M11: 424 | N11: 400 | O11: 365 | P11: 347 | Q11: 305 | R11: 293 | S11: 308 | T11: 313 | U11: 300 | V11: 300 | W11: 300 | X11: 300 | Y11: =ROUND(Y8*Y12,0) -> 0 | Z11: =SUM(C11:T11) -> 9112
A12: % no dzimušajiem | B12: =B11/B8 -> 0.034760177 | C12: =C11/C8 -> 0.034184823 | D12: =D11/D8 -> 0.030372587 | E12: =E11/E8 -> 0.032843404 | F12: =F11/F8 -> 0.035185279 | G12: =G11/G8 -> 0.032084993 | H12: =H11/H8 -> 0.033120571 | I12: =I11/I8 -> 0.029568848 | ... T12: =T11/T8 -> 0.024898576
A13: bērna vecums | E13: 17 | F13: 16 | G13: 15 | H13: 14 | I13: 13 | J13: 12 | K13: 11 | L13: 10 | M13: 9 | N13: 8 | O13: 7 | P13: 6 | Q13: 5 | R13: 4 | S13: 3 | T13: 2 | U13: 1 | V13: 0
B15: skaits | C15: min algas apmērs 2027 | D15: min uzturlīdzekļi A variants (CL) | E15: 50% no min uzturlīdzekļiem | F15: izdevumi | K15: min uzturlīdzekļi B variants (UGF) | L15: 50% no min uzturlīdzekļiem | M15: izdevumi
A16: bērnu vecums 0-6 | B16: =SUM(N11:T11) -> 2331 | C16: 820 | D16: =C16*25% -> 205 | E16: =D16/2 -> 102.5 | F16: =B16*E16*12 -> 2867130 | K16: 125 | L16: =K16/2 -> 62.5 | M16: =B16*L16*12 -> 1748250
A17: bērnu vecums 7-17 | B17: =SUM(C11:M11) -> 6781 | C17: 820 | D17: =C17*30% -> 246 | E17: =D17/2 -> 123 | F17: =B17*E17*12 -> 10008756 | K17: 150 | L17: =K17/2 -> 75 | M17: =B17*L17*12 -> 6102900
A18: kopā izdevumi piemaksai pie ĢVP | B18: =SUM(B16:B17) -> 9112 | F18: =SUM(F16:F17) -> 12875886 | M18: =SUM(M16:M17) -> 7851150
B21: 2027 | E21: 2028 | H21: 2029
B22: skaits* | C22: apmērs | D22: izdevumi | E22: skaits* | F22: apmērs | G22: izdevumi | H22: skaits* | I22: apmērs | J22: izdevumi
A23: minimālā alga | C23: 820 | F23: 860 | I23: 860
A24: bērnu vecums 0-6 | B24: =SUM(P11:V11) -> 2166 | C24: =ROUND((C23*25%)/2,2) -> 102.5 | D24: =ROUND(B24*C24*12,0) -> 2664180 | E24: =SUM(Q11:W11) -> 2119 | F24: =ROUND((F23*25%)/2,2) -> 107.5 | G24: =ROUND(E24*F24*12,0) -> 2733510 | H24: =SUM(R11:X11) -> 2114 | I24: =ROUND((I23*25%)/2,2) -> 107.5 | J24: =ROUND(H24*I24*12,0) -> 2727060
A25: bērnu vecums 7-17 | B25: =SUM(E11:O11) -> 5986 | C25: =ROUND((C23*30%)/2,2) -> 123 | D25: =ROUND(B25*C25*12,0) -> 8835336 | E25: =SUM(F11:P11) -> 5609 | F25: =ROUND((F23*30%)/2,2) -> 129 | G25: =ROUND(E25*F25*12,0) -> 8682732 | H25: =SUM(G11:Q11) -> 5218 | I25: =ROUND((I23*30%)/2,2) -> 129 | J25: =ROUND(H25*I25*12,0) -> 8077464
A26: papildu nepieciešamie izdevumi kopā | B26: =B24+B25 -> 8152 | D26: =D24+D25 -> 11499516 | E26: =E24+E25 -> 7728 | G26: =G24+G25 -> 11416242 | H26: =H24+H25 -> 7332 | J26: =J24+J25 -> 10804524
A27: *Bērnu skaits, kam nav noteikta paternitāte, līdz 2024.g. ir MPLP dati pēc dzimšanas gada - bērni bez tāva, dzīvojoši LV. Tiek pieņemts, ka 2025. g un turpmāk ik gadu 300 bērniem netiek noteikta paternitāte
A28: * 2029.gadā minimālā alga tiek pieņemta 2028.gadam plānotā līmenī.
A30: 2. Lai veiktu atlīdzības izmaksas paaugstinātā apmērā, 2026.gadā nepieciešams veikt VSAA IS pielāgošanu.
A31: VSAA IS pielāgošanai nepieciešams papildu finansējums 72 915 euro (131 c/d * 556,60 euro ar PVN). Provizoriskā darbietilpība ietver sistēmanalīzes, programmēšanas un testēšanas uzdevumu izpildi ārpakalpojumā.
A33: Izdevumi IT sistēmu pielāgošanai 2026.gadā tiks plānoti apakšprogrammas 97.02.00 "Nozares centralizēto funkciju izpilde" ietvaros kā kapitālo izdevumu transferti no valsts pamatbudžeta uz valsts speciālā budžeta apakšprogrammu 04.05.00 "Valsts sociālās apdrošināšanas aģentūras speciālais budžets".
B34: 2026 | C34: 2027 | D34: 2028 | E34: 2029
A35: Nepieciešamais finansējums IT pielāgošanai, euro | B35: =131*556.6 -> 72914.6 | C35: =D26 -> 11499516 | D35: =G26 -> 11416242 | E35: =J26 -> 10804524
A38: Izmaiņu darbietilpība - 131 cilvēkdiena, kas rada ieviešanas izmaksas 72 915 EUR (556,60 EUR x 131 c/d). Darbietilpība ietver sistēmanalīzi, programmēšanu un testēšanu, lai izstrādātu jaunu masveida uzdevumu pabalsta pārrēķināšanai, kā arī veiktu izmaiņas pabalsta apmēra noteikšanā, ieviešot jaunus koeficientus lielākam bērnu skaitam ģimenē.

Sheet patv
A2: Atbalsts bērnu – patvēruma meklētāju aprūpei ģimeniskā vidē
A4: Pasākums paredz no 2026.gada 1.jūlija nodrošināt bērna - patvēruma meklētāja - aprūpi ģimeniskā vidē, kompensējot pašvaldības izmaksas par šādu bērnu aprūpi pie aizbildņa, t.i., kompensējot atlīdzības aizbildnim un pabalsta bērna uzturam apmēru izmaksas.
A5: Paredzēts, ka atbilstoši Patvēruma likuma 9.panta 8.un 9.daļai un Bērnu tiesību aizsardzības likuma 74.1 pantam pašvaldības izdevumi tiks segti reizi ceturksnī no Labklājības ministrijai kārtējam gadam šim mērķim piešķirtajiem valsts budžeta līdzekļiem. Izdevumu kompensēšanu nosaka MK 2016. gada 14. jūnija noteikumi Nr. 370 “Kārtība, kādā no valsts budžeta līdzekļiem sedz pašvaldības izdevumus par nepilngadīgu patvēruma meklētāju izmitināšanu”. Minētie pašvaldību izdevumi tiek segti no LM valsts pamatbudžeta apakšprogrammas 05.01.00. “Sociālās rehabilitācijas valsts programma”.
B6: 2026 (6mēn) | C6: 2027 | D6: 2028 | E6: 2029
A7: bērnu skaits* | B7: 10 | C7: 10 | D7: 10 | E7: 10
A8: atlīdzības apmērs par pienākumu pildīšanu, euro** | B8: =ROUND(850.02/2,0) -> 425 | C8: =ROUND(930.77/2,0) -> 465 | D8: =ROUND(984.75/2,0) -> 492 | E8: =ROUND(1038.91/2,0) -> 519
A9: pabalsta bērna uzturam apmērs, euro*** | B9: ='2.tabula'!B15 -> 468 | C9: ='2.tabula'!E15 -> 492 | D9: ='2.tabula'!H15 -> 516 | E9: ='2.tabula'!K15 -> 516
A10: papildu nepieciešamais finansējums 2026-2029.gadā, euro**** | B10: =(B7*B8*6)+(B7*B9*6) -> 53580 | C10: =(C7*C8*12)+(C7*C9*12) -> 114840 | D10: =(D7*D8*12)+(D7*D9*12) -> 120960 | E10: =(E7*E8*12)+(E7*E9*12) -> 124200
A12: *dati par nepilngadīgo skaitu patvēruma meklētāju centrā 2023.gadā - 30. @025.gada sākumā - nav.
A13: **Atlīdzības apmērs plānots analoģiski aizbildnim plānotajam apmēram jeb 50% no ienākumu mediānas.
A14: *** Visi bērni patvēruma meklētāju centrā "Mucenieki" ir vecumā virs 7 gadiem, līdz ar to uztura pabalsts tiek plānots analoģiski plānotajām izmaiņām no 2026.g. aizbildnībā esošo bērnu uztura pabalstam.
A15: **** aprēķini (ietekme) var precizēties atbilstoši pieņemtajiem lēmumiem par pabalstu pārskatīšanu par aizbildnībā esošiem bērniem 2026.g. budžeta sagatavošanas procesā.
