Workbook

Sheet Kopsavilkums
K1: 1.1.pielikums
K2: Par finanšu līdzekļu piešķiršanu no valsts budžeta programmas “Līdzekļi neparedzētiem gadījumiem”
A3: Papildus piešķirtā finansējums slimnīcu papildus kapacitātes stiprināšanai Covid -19 apstākļos piešķirtā finansējuma izlietojums
A5: Ārstniecības iestāde | B5: Finansējums, atbilstoši MK rīkojumiem un protokoliem | G5: Faktiski apmaksāts 2021. gadā | H5: Nepieciešams finansējums par faktiski realizētiem 2021. un 2022. gada pasākumiem | I5: Atlikums 2021.gadā no daļēji noslēgtajiem vai nenoslēgtajiem līgumiem | J5: Atlikums 2022.gadā (tiks veikts pārskaitījums uz valsts budžeta kontu) | K5: Faktiskais atlikums 2022.gadā
B6: datums | C6: Nr. | D6: Summa priekšapmaksai VAI IEGULDĪŠANA PAMATKAPITĀLĀ 2021.gadā | E6: 2022.gada summa | F6: Summa
A7: Pavisam kopā trīs rīkojumiem un protokoliem | D7: =D8+D15+D37 -> 5727448 | E7: =E8+E15+E37 -> 6688008 | F7: =F8+F15+F37 -> 12415456 | G7: 1380010.1 | H7: =H8+H15+H37 -> 3255493 | I7: 717574.24 | J7: 3629863.6 | K7: =E7-H7 -> 3432515
A8: 4.piešķīrums (Izlietojums, atbilstoši Ministru kabineta 2021.gada 3.novembra rīkojumam Nr.799 "Par finanšu līdzekļu piešķiršanu no valsts budžeta programmas "Līdzekļi neparedzētiem gadījumiem")/ izlietojums, atbilstoši 2021. gada 20. oktobra prorokollēmuma Nr. 71 4. § 6. punktam, Ministru kabineta 2021. gada 26.oktobra protokollēmuma Nr. 72 60§ 3.punktam | D8: =D9+D10+D11+D12+D13 -> 1045916 | E8: =E9+E10+E11+E12+E13+E14 -> 4590901 | F8: =F9+F10+F11+F12+F13+F14 -> 5636817 | G8: 370182.62 | H8: =SUM(H9:H14) -> 2453261 | I8: 332286.24 | J8: 343447.14 | K8: =E8-H8 -> 2137640
A9: Rīgas 1.slimnīca | B9: 28.12.2021. | C9: NVD-9/234-2021 | D9: 381795 | E9: 763591 | F9: =D9+E9 -> 1145386 | G9: ='R.1.sl._799'!C61 -> 49508.76 | H9: ='R.1.sl._799'!C64 -> 3776 | I9: 332286.24 | K9: =E9-H9 -> 759815
A10: Rīgas 2.slimnīca | B10: 08.12.2021. | C10: NVD-9/187-2021 | D10: 376625 | E10: 753248 | F10: =D10+E10 -> 1129873 | G10: ='R.2.sl_799'!G3 -> 34714.6 | H10: ='R.2.sl_799'!G4+'R.2.sl_799'!G5+'R.2.sl_799'!G6 -> 753248 | J10: 341910.4 | K10: =E10-H10 -> 0
A11: Rēzeknes sl | B11: 17.03.2021. | C11: NVD-2/131-2021 | D11: 49075 | E11: 1190485 | F11: =D11+E11 -> 1239560 | G11: =D11 -> 49075 | H11: =Rezekne_799!B35 -> 585579 | J11: 0 | K11: =E11-H11 -> 604906
A12: Jelgavas PS | B12: 29.12.2021. | C12: NVD-9/195-2021 | D12: 175421 | E12: 1621775 | F12: =D12+E12 -> 1797196 | G12: =Jelg_799!G3+Jelg_799!G4 -> 173884.26 | H12: =Jelg_799!B44 -> 1090402 | J12: 1536.74 | K12: =E12-H12 -> 531373
A13: Ziemeļkurzemes RS | B13: 28.12.2021. | C13: NVD-9/201-2021 | D13: 63000 | E13: 21000 | F13: =D13+E13 -> 84000 | G13: =Ziemeļkurz_799!B19 -> 83255.26 | H13: =Ziemeļkurz_799!B20 -> 20256 | J13: 0 | K13: =E13-H13 -> 744
A14: Vidzemes slimnīca | E14: 240802 | F14: =D14+E14 -> 240802 | G14: 0 | H14: 0 | J14: 0 | K14: =E14-H14 -> 240802
A15: 5.piešķīrums (Izlietojums, atbilstoši Ministru kabineta 2021.gada 1.decembra rīkojumam Nr.899 "Par finanšu līdzekļu piešķiršanu no valsts budžeta programmas "Līdzekļi neparedzētiem gadījumiem")/ izlietojums, atbilstoši 2021. gada 2. novembra prorokollēmuma Nr. 73 47. § 3. punktam | D15: =SUM(D16:D36) -> 4284321 | E15: =SUM(E16:E36) -> 1976769 | F15: =SUM(F16:F36) -> 6261090 | G15: 906493.49 | H15: =SUM(H16:H36) -> 770257 | I15: 276842 | J15: 3100985.5 | K15: =E15-H15 -> 1206512
A16: Vidzemes slimnīca | B16: 30.12.2021. | C16: NVD-9/200-2021 | D16: 399140 | E16: 171060 | F16: =D16+E16 -> 570200 | G16: =Vidzem_899!B42 -> 81086.94 | H16: =Vidzem_899!B43 -> 122682 | I16: 60000 | J16: 258053.06 | K16: =E16-H16 -> 48378
A17: Jēkabpils RS | B17: 22.12.2021. | C17: NVD-9/208-2021 | D17: 392192 | E17: 650000 | F17: =D17+E17 -> 1042192 | G17: =Jekabp_899!B27 -> 41401.36 | H17: =Jekabp_899!B28 -> 147073 | J17: 350790.64 | K17: =E17-H17 -> 502927
A18: Liepājas RS | B18: 30.12.2021. | C18: NVD-9/203-2021 | D18: 991075 | E18: 424746 | F18: =D18+E18 -> 1415821 | G18: 11904.22 | H18: 0 | J18: 979170.78 | K18: =E18-H18 -> 424746
A19: Rēzeknes sl | B19: 22.12.2021. | C19: NVD-9/220-2021 | D19: 485888 | E19: 0 | F19: =D19+E19 -> 485888 | G19: 304459.34 | H19: 0 | J19: 181428.66 | K19: =E19-H19 -> 0
A20: Ziemeļkurzemes RS | B20: 27.12.2021. | C20: NVD-9/222-2021 | D20: =56441+144720 -> 201161 | E20: =8500+32991 -> 41491 | F20: =D20+E20 -> 242652 | G20: =Ziemeļk_899!B41 -> 187271.5 | H20: =Ziemeļk_899!B42 -> 33330 | J20: 13889.5 | K20: =E20-H20 -> 8161
A21: Priekules slimnīca | B21: 29.12.2021. | C21: NVD-9/214-2021 | D21: 9681 | E21: 4149 | F21: =D21+E21 -> 13830 | G21: =Priek_899!B21 -> 9681 | H21: =Priek_899!B24 -> 4146 | J21: 0 | K21: =E21-H21 -> 3
A22: Dobeles un apkārtnes slimnīca | B22: 28.12.2021. | C22: NVD-9/206-2021 | D22: 126032 | E22: 49838 | F22: =D22+E22 -> 175870 | G22: =Dobele_899!B20 -> 1498.34 | H22: =Dobele_899!B21 -> 49838 | J22: 124533.66 | K22: =E22-H22 -> 0
A23: Alūksnes slimnīca | B23: 22.12.2021. | C23: NVD-9/216-2021 | D23: 58783 | E23: 25193 | F23: =D23+E23 -> 83976 | G23: =Alūksn_899!B25 -> 30951.31 | H23: =Alūksn_899!B26 -> 25193 | J23: 27831.69 | K23: =E23-H23 -> 0
A24: Bauskas slimnīca | B24: 22.12.2021. | C24: NVD-9/204-2021 | D24: 179462 | E24: 71577 | F24: =D24+E24 -> 251039 | G24: =Bausk_899!B27 -> 27026.64 | H24: =Bausk_899!B28 -> 71577 | J24: 152435.36 | K24: =E24-H24 -> 0
A25: Cēsu slimnīca | B25: 30.12.2021. | C25: NVD-9/205-2021 | D25: 78855 | E25: 33795 | F25: =D25+E25 -> 112650 | G25: =Cēsis_899!B29 -> 20072.75 | H25: =Cēsis_899!B31 -> 17010 | J25: 58782.25 | K25: =E25-H25 -> 16785
A26: Preiļu slimnīca | D26: 145880 | E26: 62520 | F26: =D26+E26 -> 208400 | G26: 0 | H26: 0 | I26: 145880 | J26: 0 | K26: =E26-H26 -> 62520
A27: Krāslavas slimnīca | D27: 63000 | E27: 27000 | F27: =D27+E27 -> 90000 | G27: 0 | H27: 0 | I27: 63000 | J27: 0 | K27: =E27-H27 -> 27000
A28: Jūrmalas slimnīca | B28: 27.12.2021. | C28: NVD-9/209-2021 | D28: 108900 | E28: 0 | F28: =D28+E28 -> 108900 | G28: 0 | H28: 0 | J28: 108900 | K28: =E28-H28 -> 0
A29: Madonas slimnīca | B29: 29.12.2021. | C29: NVD-9/221-2021 | D29: 163450 | E29: 70050 | F29: =D29+E29 -> 233500 | G29: 0 | H29: =Madona_899!B25 -> 70050 | J29: 163450 | K29: =E29-H29 -> 0
A30: Limbažu slimnīca | B30: 22.12.2021. | C30: NVD-9/211-2021 | D30: 55650 | E30: 23850 | F30: =D30+E30 -> 79500 | G30: 0 | H30: =Limb_899!B29 -> 23850 | J30: 55650 | K30: =E30-H30 -> 0
A31: Aizkraukles sl. | B31: 28.12.2021. | C31: NVD-9/231-2021 | D31: 2100 | E31: 0 | F31: =D31+E31 -> 2100 | G31: 1858.62 | H31: 0 | J31: 241.38 | K31: =E31-H31 -> 0
A32: Rīgas 2.slimnīca | B32: 29.12.2021. | C32: NVD-9/237-2021 | D32: 211912 | E32: 90819 | F32: =D32+E32 -> 302731 | G32: 0 | H32: ='R.2.sl_899'!B25 -> 90819 | J32: 211912 | K32: =E32-H32 -> 0
A33: Sanare KRC Jaunķemeri | B33: 23.12.2021. | C33: NVD-9/224-2021 | D33: 173042 | E33: 74161 | F33: =D33+E33 -> 247203 | G33: =Sanare_899!B34 -> 55420.78 | H33: =Sanare_899!B35 -> 46214 | J33: 117621.22 | K33: =E33-H33 -> 27947
A34: Irlavas SKS | D34: 7962 | E34: 3412 | F34: =D34+E34 -> 11374 | G34: 0 | H34: 0 | I34: 7962 | J34: 0 | K34: =E34-H34 -> 3412
A35: Jelgavas PS | B35: 22.12.2021. | C35: NVD-9/207-2021 | D35: 118783 | E35: 19663 | F35: =D35+E35 -> 138446 | G35: =Jelg_899!B20 -> 110142.14 | H35: =Jelg_899!B21 -> 12403 | J35: 8640.86 | K35: =E35-H35 -> 7260
A36: Tukuma slimnīca | B36: 22.12.2021. | C36: NVD-9/218-2021 | D36: 311373 | E36: 133445 | F36: =D36+E36 -> 444818 | G36: =Tukums_899!B26 -> 17837.95 | H36: =Tukums_899!B27 -> 56072 | J36: 287654.45 | K36: =E36-H36 -> 77373
A37: 6.piešķīrums (Izlietojums, atbilstoši Ministru kabineta 2021.gada 1.decembra rīkojumam Nr.904 "Par finanšu līdzekļu piešķiršanu no valsts budžeta programmas "Līdzekļi neparedzētiem gadījumiem")/ izlietojums, atbilstoši 2021. gada 23. novembra prorokollēmuma Nr. 76 40. § 5. punktam | D37: =D38+D39+D40+D41+D42+D43+D44 -> 397211 | E37: =E38+E39+E40+E41+E42+E43+E44 -> 120338 | F37: =F38+F39+F40+F41+F42+F43+F44 -> 517549 | G37: 103334.03 | H37: =H38+H39+H40+H41+H42+H43+H44 -> 31975 | I37: 108446 | J37: 185430.97 | K37: =E37-G37 -> 17003.97
A38: Saldus MC | B38: 27.12.2021. | C38: NVD-9/227-2021 | D38: 1247 | E38: 11223 | F38: =D38+E38 -> 12470 | G38: =Saldus_904!B18 -> 615.39 | H38: =Saldus_904!B19 -> 10618 | J38: 631.61 | K38: =E38-H38 -> 605
A39: Ludzas MC | B39: 27.12.2021. | C39: NVD-9/226-2021 | D39: 125120 | E39: 0 | F39: =D39+E39 -> 125120 | G39: =Ludza_904!B29 -> 59608.64 | H39: 0 | J39: 65511.36 | K39: =E39-H39 -> 0
A40: Latvijas Jūras MC | B40: 30.12.2021. | C40: NVD-9/228-2021 | D40: 32110 | E40: 17666 | F40: =D40+E40 -> 49776 | G40: ='Jūras MC_904'!B26 -> 32110 | H40: ='Jūras MC_904'!B27 -> 17666 | J40: 0 | K40: =E40-H40 -> 0
A41: Rīgas 1.slimnīca | D41: 108446 | E41: 0 | F41: =D41+E41 -> 108446 | G41: 0 | H41: 0 | I41: 108446 | J41: 0 | K41: =E41-H41 -> 0
A42: Balvu un Gulbenes SA | B42: 28.12.2021. | C42: NVD-9/233-2021 | D42: 11000 | E42: 0 | F42: =D42+E42 -> 11000 | G42: 11000 | H42: 0 | J42: 0 | K42: =E42-H42 -> 0
A43: Rīgas Dzemdību nams | B43: 28.12.2021. | C43: NVD-9/230-2021 | D43: 119288 | E43: 51124 | F43: =D43+E43 -> 170412 | G43: 0 | H43: 0 | J43: 119288 | K43: =E43-H43 -> 51124
A44: Aizkraukles S | E44: 40325 | F44: =D44+E44 -> 40325 | G44: 0 | H44: =Aizkraukle_904!B14 -> 3691 | K44: =E44-H44 -> 36634
A45: Pavisam kopā ieguldīšana pamatkapitālā (797, 900, 905) | D45: =D46+D50+D54 -> 9933245
A46: 7.piešķīrums (Izlietojums, atbilstoši Ministru kabineta 2021.gada 4.novembra rīkojumam Ministru kabineta rīkojums Nr. 797 “Par apropriācijas palielināšanu Veselības ministrijai” | D46: =D47+D48+D49 -> 9550228 | E46: =E47+E48+E49+E50+E51+E52+E53 -> 0 | F46: =F47+F48+F49+F50+F51+F52+F53 -> 0 | G46: 0 | J46: 0 | K46: =K47+K48+K49+K50+K51+K52+K53 -> 0
A47: Rīgas Austrumu klīniskā universitātes slimnīca | D47: 7113884
A48: Paula Stradiņa klīniskā universitātes slimnīca | D48: 2330332
A49: Traumatoloģijas un ortopēdijas slimnīca | D49: 106012
A50: 8.piešķīrums (Izlietojums, atbilstoši Ministru kabineta 2021.gada 1.decembra rīkojumam Ministru kabineta rīkojums Nr. 900 “Par apropriācijas palielināšanu Veselības ministrijai” | D50: =D51+D52+D53 -> 163650 | E50: =E51+E52+E53+E55+E56+E57+E58 -> 0 | F50: =F51+F52+F53+F55+F56+F57+F58 -> 0 | G50: 0 | J50: 0 | K50: =K51+K52+K53+K55+K56+K57+K58 -> 0
A51: Daugavpils psihoneiroloģiskā slimnīca | D51: 19200
A52: Strenču psihoneiroloģiskā slimnīca | D52: 143250
A53: Rīgas psihiatrijas un narkoloģijas centrs | D53: 1200
A54: 9.piešķīrums (Izlietojums, atbilstoši Ministru kabineta 2021.gada 1.decembra rīkojumam Ministru kabineta rīkojums Nr. 905 “Par apropriācijas palielināšanu Veselības ministrijai” | D54: =D55+D56+D57 -> 219367 | E54: =E55+E56+E57+E59+E60+E61+E62 -> 0 | F54: =F55+F56+F57+F59+F60+F61+F62 -> 0 | G54: 0 | J54: 0 | K54: =K55+K56+K57+K59+K60+K61+K62 -> 0
A55: Rīgas psihiatrijas un narkoloģijas centrs | D55: 192865
A56: Ģintermuiža | D56: 26502

Sheet R.1.sl._799
K1: 1.2.pielikums
B2: SIA Rīgas 1.slimnīca | K2: Par finanšu līdzekļu piešķiršanu no valsts budžeta programmas “Līdzekļi neparedzētiem gadījumiem”
G3: novembris | H3: =H11+H13+H14+H22 -> 49508.76
G4: decembris | H4: =H24+H25 -> 3775.2
B6: Informācija par finanšu līdzekļu izlietojumu
B7: Plānotais finansējums | E7: Informācija par finanšu līdzekļu izlietojumu
B8: Pozīcijas nosaukums | C8: Skaits | D8: Plānotā summa (ar PVN), EUR | E8: Pavadzīme | I8: Maksājuma uzdevums | K8: Komentārs par izpildes progresu
E9: Pavadzīmes Nr. | F9: Datums | G9: Piegādātājs | H9: Summa ( ar PVN) EUR | I9: Nr. | J9: Summa
B10: KOPĀ, t.sk. | C10: =SUM(C11:C29) -> 686 | D10: =SUM(D11:D57) -> 1145387 | H10: =SUM(H11:H29) -> 53283.96 | J10: =SUM(J11:J29) -> 53283.96
A11: CV-NVD-F01 | B11: Slūžas 2 gab. | C11: 2 | D11: 6050 | E11: TEN131-21 | F11: 09.11.2021. | G11: TENTI LV SIA | H11: 6050 | I11: 3537 | J11: 6050 | K11: Segti no 2021. gada avansa finansējuma
A12: CV-NVD-F02 | B12: Skābekļa pievāds pie gultas | D12: 36300 | K12: Netiks īstenots
A13: CV-NVD-F03 | B13: Skābekļa līnijas paplašināšana | C13: 1 | D13: 36300 | E13: 835/2021 | F13: 05.11.2021. | G13: NMS ELPA SIA | H13: 38409.99 | I13: 3547 | J13: 38409.99 | K13: Segti no 2021. gada avansa finansējuma
A14: CV-NVD-F04 | B14: Māsu posteņa aizsardzība, 3 gab | C14: 3 | D14: 2541 | E14: TEN131-21 | F14: 09.11.2021. | G14: TENTI LV SIA | H14: 4077.7 | I14: 3537 | J14: 4077.7 | K14: Segti no 2021. gada avansa finansējuma
A15: CV-NVD-F05 | B15: Elektrības jaudas nodrošināšana | D15: 8168 | K15: Netiks īstenots
A16: CV-NVD-F06 | B16: Māsu izsaukumu sistēmas nomaiņa | D16: 72600 | K16: Netiks īstenots
A17: CV-NVD-F07 | B17: Nerūsējoša tērauda ratiņi ar ritenīšiem 50 gab | C17: 50 | D17: 9075 | K17: Netiks īstenots
A18: CV-NVD-F08 | B18: Higiēnisko priekšmetu mazgāšanas-dezinfekcijas iekārta. 2 gab | C18: 2 | D18: 14520 | K18: Netiks īstenots
A19: CV-NVD-F09 | B19: Aktīvais pretizgulējumu matracis. 10 gab | C19: 10 | D19: 12100 | K19: Netiks īstenots
A20: CV-NVD-F10 | B20: Pacienta transporta rati. 4 gab. | C20: 4 | D20: 9680 | K20: Netiks īstenots
A21: CV-NVD-F11 | B21: Video novērošana | D21: 1210 | K21: Netiks īstenots
A22: CV-NVD-F12 | B22: Video ieraksta servera dators | C22: 1 | D22: 1452 | E22: MSR130119 | F22: 09.11.2021. | G22: Multisistēma Rīga SIA | H22: 971.07 | I22: 3504 | J22: 971.07 | K22: Segti no 2021. gada avansa finansējuma
A23: CV-NVD-F13 | B23: Palātu / Pacientu informatīvais sienas monitors (māsu postenis) | C23: 2 | D23: 2420 | K23: Netiks īstenots
A24: CV-NVD-F14 | B24: Spilvens | C24: 240 | D24: 5808 | E24: KAT21296 | F24: 20.12.2021. | G24: Katūns SIA | H24: 1306.8 | I24: 3950 | J24: 1306.8 | K24: Saruna procedūra R1S 2021/104-IEP/COVID
A25: CV-NVD-F15 | B25: Sega | C25: 240 | D25: 14520 | E25: KAT21296 | F25: 20.12.2021. | G25: Katūns SIA | H25: 2468.4 | I25: 3950 | J25: 2468.4 | K25: Saruna procedūra R1S 2021/104-IEP/COVID
A26: CV-NVD-F16 | B26: Matraču aizsargs 120 | C26: 120 | D26: 4356 | K26: Netiks īstenots
A27: CV-NVD-F17 | B27: Dušas guļrati 1 gab | C27: 1 | D27: 3025 | K27: Netiks īstenots
A28: CV-NVD-F18 | B28: Slīddēlis, 4 | C28: 4 | D28: 726 | K28: Netiks īstenots
A29: CV-NVD-F19 | B29: Galvas mazgašanas vanna, 6 gab | C29: 6 | D29: 726 | K29: Netiks īstenots
A30: CV-NVD-F20 | B30: Teleskopiskais aizslietnis, 20 | C30: 20 | D30: 14520 | K30: Netiks īstenots
A31: CV-NVD-F21 | B31: Noliktavas plaukti, 50 | C31: 50 | D31: 6050 | K31: Netiks īstenots
A32: CV-NVD-F22 | B32: Aprūpes rati, 4 | C32: 4 | D32: 2904 | K32: Netiks īstenots
A33: CV-NVD-F23 | B33: Padubes mašīna, 2 gab | C33: 2 | D33: 14520 | K33: Netiks īstenots
A34: CV-NVD-F24 | B34: Mazgāšanas rati, 15 | C34: 15 | D34: 6353 | K34: Netiks īstenots
A35: CV-NVD-F25 | B35: Miskastes ar pedāli, 100 | C35: 100 | D35: 3630 | K35: Netiks īstenots
A36: CV-NVD-F26 | B36: Ēdiena transporta rati, 4 gab. | C36: 4 | D36: 2904 | K36: Netiks īstenots
A37: CV-NVD-F27 | B37: Transporta MPV iekārtas 2 gab | C37: 2 | D37: 53240 | K37: Netiks īstenots
... A52: CV-NVD-F42 | B52: Pacientu skapīši 140 gab. | C52: 140 | D52: 59290 | K52: Netiks īstenots
A53: CV-NVD-F43 | B53: Fizioterapijas piederumi | D53: 12100 | K53: Netiks īstenots
A54: CV-NVD-F44 | B54: Līķu rati | D54: 4840 | K54: Netiks īstenots
A55: CV-NVD-F45 | B55: Ledusskapis med.uzglabāšanai 4 gab | C55: 4 | D55: 7260 | K55: Netiks īstenots
A56: CV-NVD-F46 | B56: Reanimācijas rati, 3 gab. | C56: 3 | D56: 7260 | K56: Netiks īstenots
A57: CV-NVD-F47 | B57: Skābekļa koncentrācijas mērīšanas iekārtas. 6 gab. | C57: 6 | D57: 2178 | K57: Netiks īstenots
B61: Avansā izmaksāts 2021.gadā | C61: =H3 -> 49508.76
B63: Faktiski apgūts finansējums 2021. gadā | C63: =H3+H4 -> 53283.96
B64: Papildus nepieciešams finansējums 2022. gadā (2021.gadā uzsākto pasākumu norēķiniem) | C64: =ROUNDUP(H24+H25,0) -> 3776

Sheet R.2.sl_799
J1: 1.3.pielikums
J2: Par finanšu līdzekļu piešķiršanu no valsts budžeta programmas “Līdzekļi neparedzētiem gadījumiem”
F3: oktobris-decembris | G3: =G14+G15+G30+G31+G32+G61+G65+G66+G68+G69+G71+G72+G73+G74+G76+G77+G78+G79+G80+G81+G82+G84+G16 -> 34714.6
A4: SIA "Rīgas 2.slimnīca" | F4: janvāris | G4: =G19+G20+G23+G24+G36+G42+G60 -> 450628.2
F5: februāris | G5: =G21+G22+G25+G33+I38+G41+G45+G46+G47+G48+G52+G55+G56+G57+G59+G62+G63+G64+G86+G87+G17 -> 302619.8
A7: Informācija par finanšu līdzekļu izlietojumu
A8: Plānotais finansējums | D8: Informācija par finanšu līdzekļu izlietojumu
A9: Pozīcijas nosaukums | B9: Skaits | C9: Plānotā summa (ar PVN), EUR | D9: Pavadzīme | H9: Maksājuma uzdevums | J9: Komentārs par izpildes progresu
D10: Pavadzīmes Nr. | E10: Datums | F10: Piegādātājs | G10: Summa ( ar PVN) EUR | H10: Nr. | I10: Summa
A11: KOPĀ, t.sk. | C11: =SUM(C13:C87) -> 1129872.4 | G11: =SUM(G14:G87) -> 787962.6 | I11: =SUM(I14:I87) -> 787962.6
A12: 1. Ieguldījumi infrastruktūrā un ēkas tehniskajā nodrošinājumā
A13: 1.1. punkts. Starpsienu montāžas un izbūves darbi: | B13: 5 | C13: 7500
A14: Aizkari ar rāvējslēdzēju aprūpes vajadzībām | B14: 1 | D14: 25.10.2021. | E14: 25.10.2021. | F14: Stalve | G14: 364.34 | H14: 21-03553 | I14: 364.34 | J14: Segti no 2021. gada avansa finansējuma
A15: Aizkari ar rāvējslēdzēju aprūpes vajadzībām | B15: 14 | D15: 04.11.2021. | E15: 04.11.2021. | F15: Stalve | G15: 3084.12 | H15: 21-03557 | I15: 3084.12
A16: Aizkari ar rāvējslēdzēju aprūpes vajadzībām | B16: 1 | D16: 30.12.2021. | E16: 30.12.2021. | F16: Stalve | G16: 337.47 | H16: 22-00268 | I16: 337.47 | J16: Segti no 2021. gada avansa finansējuma
B17: 1 | D17: 397209521 | E17: 14.02.2022. | F17: K Senukai | G17: =47.51-8.83 -> 38.68 | H17: 22-00632 | I17: =47.51-8.83 -> 38.68 | J17: Izdevumi materiālu iegādei priekš 4.nodaļas aizkaru/slūžu uzstādīšanas pabeigšanas
A18: 2. Medicīnas iekārtas un aprīkojums
A19: 2.1. Monitors pacientu vitālo funkciju novērošanas ar ratiem | B19: 24 | C19: 180048 | D19: TR 220008 | E19: 06.01.2022. | F19: TRADINTEK SIA | G19: 79279.2 | H19: 22-00269 | I19: 79279.2 | J19: Dokumenti nosūtīti 05.02.2022
A20: 2.2. Neinvazīva mākslīgās plaušas ventilācijas iekārta | B20: 4 | C20: 72600 | D20: GRAINLV245 | E20: 25.01.2022. | F20: UAB GRAINA LATVIA filiāle | G20: 77440 | H20: 22-00271 | I20: 77440 | J20: Dokumenti nosūtīti 05.02.2022
A21: 2.3. Mobīla palātas digitāla rentgena iekārta | B21: 1 | C21: 114950 | D21: ARB 200851 | E21: 24.02.2022. | F21: SIA "Arbor Medical Korporācija" | G21: 77682 | H21: 22-00637 | I21: 77682 | J21: Līgums 275/2021
A22: 2.5. Defibrilātors | B22: 5 | C22: 59290 | D22: TR 222078 | E22: 44606 | F22: „TRADINTEK” SIA | G22: 30703.75 | H22: 22-01057 | I22: 30703.75 | J22: Izsludināts sarunu procedūrā “Medicīnas iekārtu piegāde“ (Iepirkuma identifikācijas Nr. Rīgas 2.slimnīca 2021/23 SP), ir noslēgti iepirkuma līgumi Nr. 275/2021 un 277/2021, plānotie piegādes termiņi ne ilgāk kā 60 (sešdesmit) dienu laikā defibrilātoriem no Līguma spēkā stāšanās dienas. ( skatīt pielikums Nr.3)
A23: 2.6. Perfūzijas sūknis | B23: 30 | C23: 32250 | D23: TR 220009 | E23: 11.01.2022. | F23: TRADINTEK SIA | G23: =12140*0.21+12140 -> 14689.4 | H23: 22-00270 | I23: 25531 | J23: Dokumenti nosūtīti 05.02.2022
A24: 2.7. Infūzijas sūknis | B24: 14 | C24: 18634 | G24: =9600*0.21+9600-774.4 -> 10841.6 | J24: Dokumenti nosūtīti 05.02.2022
A25: 2.8. Portatīvs pulsa oksimetrs | B25: 60 | C25: 54450 | D25: ABMG 220269 | E25: 17.02.2022. | F25: Sabiedrība ar ierobežotu atbildību "AB MEDICAL GROUP RIGA" | G25: 36245.55 | H25: 22-00641 | I25: 36245.55 | J25: Līgums 276/2021
A26: 2.9. Enterālās barošanas sūknis | B26: 5 | C26: 4915 | J26: Iespējamie piegādes veicēji nespēj iekļauties noteiktajā piegādes termiņā. Vēlams piegādes termiņa pagarinājums aptuveni 2 mēneši.
A27: 2.10. Krūšu kurvja portatīvā vakuuma iekārta | B27: 5 | C27: 6655 | J27: Izsludināts iepirkums Publisko iepirkumu likuma 9. panta kārtībā „Krūšu kurvja drenāžas sistēmu iegāde” (id. Nr. SIA „Rīgas 2.slimnīca” 2022/3), kur atvēršana bija 21.02.2022.
A28: 2.11. Videolaringoskops | B28: 2 | C28: 21780 | F28: „TRADINTEK” SIA | J28: Izsludināts sarunu procedūrā “Medicīnas iekārtu piegāde“ (Iepirkuma identifikācijas Nr. Rīgas 2.slimnīca 2021/23 SP), ir noslēgts iepirkuma līgums Nr. 277/2021, plānotie piegādes termiņi 90 (deviņdesmit) dienu laikā no Līguma spēkā stāšanās dienas. 16.02. tika saņemts atteikums no piegādātāju puses, steidzami tiek meklēts alternatīvs risinājums.
A29: 2.12. punkts. Bezkontakta termometrs: | B29: 60 | C29: 2100
A30: Infrasarkanie termometri | B30: 40 | D30: MMD 764518 | E30: 08.11.2021. | F30: Magnum medical | G30: 1484.91 | H30: 21-03559 | I30: 1484.91 | J30: Segti no 2021. gada avansa finansējuma
A31: Infrasarkanie termometri | B31: 20 | D31: MMD 764520 | E31: 08.11.2021. | F31: Magnum medical | G31: 742.46 | H31: 21-03560 | I31: 742.46 | J31: Segti no 2021. gada avansa finansējuma
A32: 2.13. punkts. Pulsoksitometrs, pirksta, portatīvs | B32: 44 | C32: 1320 | D32: ARB 116127 | E32: 03.11.2021. | F32: Arbor Medical Korporācija | G32: 2395.8 | H32: 21-03555 | I32: 2395.8 | J32: Segti no 2021. gada avansa finansējuma
A33: 2.14. Elektrokardiogrāfs, mobils ar DICOM funkciju (WiFe) | B33: 4 | C33: 14520 | D33: ELPA 023463 | E33: 44608 | F33: Sabiedrība ar ierobežotu atbildību "NMS ELPA" | G33: 14181.2 | H33: 22-01056 | I33: 14181.2 | J33: Izsludināts sarunu procedūrā “Medicīnas iekārtu piegāde“ (Iepirkuma identifikācijas Nr. Rīgas 2.slimnīca 2021/23 SP), plānots noslēgt iepirkuma līgumu līdz 07.01.2022., plānotie piegādes termiņi 4 (četru) nedēļu laikā no Līguma spēkā stāšanās dienas. ( skatīt pielikums Nr.4)
A34: 2.15. Skābekļa mitrinātāja trauks ar dozimetru | B34: 15 | C34: 1611.15 | J34: Saņemti 10 gab, pagaidām nav iespējams pasūtīt, jo vairāk uz doto brīdi nav pedāvājumā
A35: 3. Ar pacientu aprūpi saistītās nepieciešamās iekārtas un aprīkojums
A36: 3.1. Gulta pacientu, funkcionāla, elektriska | B36: 70 | C36: 152460 | D36: ARB 119303 | E36: 24.01.2022. | F36: Arbor Medical Korporācija | G36: 228690 | H36: 22-00629 | I36: 228690 | J36: Līgums 280/2021
A37: 3.2. Pacienta nakts skapītis vismaz ar 2 atvilknēm un papildus paceļamu funkcionālu ēdināšanas dēli | B37: 70 | C37: 38115 | J37: Izsludināts sarunu procedūrā “Covid-19 pacientu aprūpei nepieciešamā aprīkojuma piegāde“ (Iepirkuma identifikācijas Nr. Rīgas 2.slimnīca 2021/24 SP), ir noslēgti iepirkuma līgumi Nr. 281/2021, plānots noslēgt pēdējo iepirkuma līgumu līdz 07.01.2022., plānotie piegādes termiņi ne ilgāk kā 15 (piecpadsmit) dienu laikā pacientu funkconālajām gultām un aktīvajiem pretizgulējumu matračiem, 45 (četrdesmit piecu) dienu laikā pacientu piederumu skapīšiem, kušetēm un pacientu guļratiem, 3 (trīs) nedēļu laikā ( skatīt pielikums Nr.10, 11)
A38: 3.4. Kušete, hidrauliskas ar augstuma regulāciju | B38: 7 | C38: 18214 | D38: ARB 201193 | E38: 44616 | F38: SIA "Arbor Medical Korporācija" | G38: =12281.5 -> 12281.5 | H38: 22-01054 | I38: 12281.5
A39: 3.5. Guļrati uzņemšanai | B39: 2 | C39: 6050
A40: 3.6. Pacienta guļrati nodaļai | B40: 5 | C40: 11495
A41: 3.7. Pretizgulējumu matracis | B41: 74 | C41: 23880.54 | D41: ELPA 023547 | E41: 25.02.2022. | F41: Sabiedrība ar ierobežotu atbildību "NMS ELPA" | G41: 11729.74 | H41: 22-00639 | I41: 11729.74 | J41: Līgums 281/2021
A42: 3.8. Aktīvais pretizgulējumu matracis ar kompresoru | B42: 10 | C42: 16940 | D42: ARB 119303 | E42: 24.01.2022. | F42: Arbor Medical Korporācija | G42: 33880 | H42: 22-00629 | I42: 33880 | J42: Līgums 280/2021
A43: 3.9.Pacienu pacēlājs | B43: 1 | C43: 12100 | J43: Iespējamie piegādes veicēji nespēj iekļauties noteiktajā piegādes termiņā. Vēlams piegādes termiņa pagarinājums aptuveni 2 mēneši.
A44: 3.10. Aizslietnis, divdaļīgs, uz ritentiņiem, salokāms | B44: 40 | C44: 32428 | F44: UAB "Slaugivita" | J44: Izsludināts sarunu procedūrā “Covid-19 pacientu aprūpei nepieciešamā aprīkojuma piegāde“ (Iepirkuma identifikācijas Nr. Rīgas 2.slimnīca 2021/24 SP), ir noslēgti iepirkuma līgums Nr. 279/2021, plānotie piegādes termiņi ne ilgāk kā 21 (divdesmit vienas) dienas laikā no Līguma spēkā stāšanās dienas.
A45: 3.11. Šībermašīna | B45: 5 | C45: 58080 | D45: AM 220200252 | E45: 10.02.2022. | F45: SIA “A.MEDICAL” | G45: 24684 | H45: 22-00631 | I45: 24684 | J45: Līgums 274/2021
D46: AM 220200550 | E46: 22.02.2022. | G46: 6171 | H46: 22-00635 | I46: 6171 | J46: Līgums 274/2021
A47: 3.12. Pacientu sēdrati | B47: 6 | C47: 8712 | D47: ELPA 023525 | E47: 23.02.2022. | F47: Sabiedrība ar ierobežotu atbildību "NMS ELPA" | G47: 2221.56 | H47: 22-00640 | I47: 2221.56 | J47: Līgums 281/2021
A48: 3.13. Statīvi (infūzijām, ar 4 zariem) | B48: 62 | C48: 2790 | D48: ARB 200913 | E48: 44620 | F48: SIA "Arbor Medical Korporācija" | G48: 2063.05 | H48: 22-01053 | I48: 2063.05 | J48: Veitka tirgus izpēte, dotajā brīdī līgums tiek skaņots ( skatīt pielikums Nr.5)
A49: 3.14. Slīdmatrači pacienta pārvietošanai | B49: 10 | C49: 5500 | J49: Nolsēgts līgums Nr. 026/2022, piegāde 2 kalendāro nedēļu laikā. ( skatīt pielikums Nr.6)
A50: 3.15. Nebulaizeri | B50: 20 | C50: 1380 | J50: Tiek veikta tirgus izpēte ( skatīt pielikums Nr.7)
A51: 3.16. Pārvietojamie galdiņi, 2 līmeņu, uz ritentiņiem | B51: 12 | C51: 3180 | J51: Tiek veikta tirgus izpēte
A52: 3.17. Termo kastes ēdiena pārvedāšanai, dezinficējamas | B52: 12 | C52: 960 | D52: S 2022-028 | E52: 17.02.2022. | F52: SIA "BFGS" | G52: 682.73 | H52: 22-00633 | I52: 682.73 | J52: Pirkums bez līguma
A53: 3.18. Papildus rati ēdiena pārvadāšanai | B53: 6 | C53: 800.34 | J53: Tiek veikta tirgus izpēte
A54: 3.19. Aparāts bahilām, automātisks | B54: 2 | C54: 114.96 | J54: Tiek veikta tirgus izpēte
A55: 3.20. Gultas veļas komplekti (virspalags, spilvendrāna, palags, puspalags), veļas maisi, spilveni, flaneļa segas | B55: 150 | C55: 5677.5 | D55: KAT 22017 | E55: 02.02.2022. | F55: SIA "KATŪNS" | G55: 8900.76 | H55: 22-00634 | I55: =G55+G56 -> 10643.16 | J55: Līgums 283/2021
D56: KAT 22028 | E56: 28.02.2022. | G56: 1742.4
A57: 3.21. Pacientu krekli | B57: 150 | C57: 960
A58: 4. Dezinfekcijas, uzkopšanas un veļas nodrošinājums
A59: 4.1.Portatīva gaisa un telpas attīrīšans iekārta | B59: 5 | C59: 20000 | D59: AMR 00791 | E59: 24.02.2022. | F59: Sabiedrība ar ierobežotu atbildību "Amrid" | G59: 29620.56 | H59: 22-00636 | I59: 29620.56 | J59: Līgums 032/2022
A60: 4.2. Ultravioletā (UV) starojuma baktericīdas lampas | B60: 12 | C60: 6534 | D60: BSL-012022-33 | E60: 26.01.2022. | F60: Biosan Latvia SIA | G60: 5808 | H60: 22-00272 | I60: 5808
A61: 4.3. punkts. Grīdas mazgājamā mašīna | B61: 5 | C61: 10000 | D61: FE20015166 | E61: 29.11.2021. | F61: Fevex | G61: 9559 | H61: 21-03563 | I61: 9559 | J61: Segti no 2021. gada avansa finansējuma
A62: 4.4. Veļas mazgājamā mašīna | B62: 2 | C62: 29550 | D62: FE20018401 | E62: 44620 | F62: Sabiedrība ar ierobežotu atbildību "FEVEX" | G62: 26813.6 | H62: 22-01055 | I62: 26813.6 | J62: Izsludināts sarunu procedūrā “Profesionālo veļas mazgājamo mašīnu, veļas ruļļa un žāvētāja piegāde“ (Iepirkuma identifikācijas Nr. Rīgas 2.slimnīca 2021/25 SP), ir noslēgts iepirkuma līgums Nr. 286/2021, plānotie piegādes termiņi 30 (trīsdesmit) dienu laikā no Līguma spēkā stāšanās dienas. ( skatīt pielikums Nr.8)
A63: 4.5. Veļas žāvētājs | B63: 1 | C63: 10000 | D63: FE 20017634 | E63: 15.02.2022. | F63: Sabiedrība ar ierobežotu atbildību "FEVEX" | G63: 5552.69 | H63: 22-00630 | I63: =G63+G64 -> 10759.32 | J63: Līgums 286/2021
A64: 4.6. Veļas rullis | B64: 1 | C64: 11300 | G64: 5206.63
A65: 4.7. punkts. Netīrās veļas rati ar noslēgtām malām, 1 nolaižamu | B65: 5 | C65: 4200 | D65: BG 732135 | E65: 23.11.2021. | F65: BG | G65: 1194.33 | H65: 21-03429 | I65: 1194.33 | J65: Segti no 2021. gada avansa finansējuma
A66: 4.8. punkts. Atkritumu rati ar 4 riteņiem, nolaižamu malu | B66: 5 | C66: 4908.9 | D66: BG 732135 | E66: 23.11.2021. | F66: BG | G66: 4345.47 | H66: 21-03429 | I66: 4345.47 | J66: Segti no 2021. gada avansa finansējuma
A67: 4.9. Atkritumu tvertnes (kājas pedālis vāka pacelšanai) 100l: | B67: 56 | C67: 13440
A68: Spaiņi 50l | B68: 24 | D68: ZE 21/4102 | E68: 04.11.2021. | F68: Zeimans | G68: 731.28 | H68: 21-03556 | I68: 731.28 | J68: Segti no 2021. gada avansa finansējuma
A69: Spaiņi 50l | B69: 24 | D69: ZE 21/4129 | E69: 09.11.2021. | F69: Zeimans | G69: 731.28 | H69: 21-03561 | I69: 731.28 | J69: Segti no 2021. gada avansa finansējuma
A70: 4.10. Atkritumu tvertnes (kājas pedālis vāka pacelšanai) 200l: | B70: 30 | C70: 12000
A71: Atkritumu maisu turētāji | B71: 3 | D71: ZE 21/4129 | E71: 09.11.2021. | F71: Zeimans | G71: 533.61 | H71: 21-03561 | I71: 533.61 | J71: Segti no 2021. gada avansa finansējuma
A72: Atkritumu maisu turētāji | B72: 3 | D72: ZE 21/4059 | E72: 05.11.2021. | F72: Zeimans | G72: 705.06 | H72: 21-03558 | I72: 705.06 | J72: Segti no 2021. gada avansa finansējuma
A73: Atkritumu maisu turētāji | B73: 3 | D73: BG 731361 | E73: 23.11.2021. | F73: BG | G73: 276.64 | H73: 21-03428 | I73: 276.64 | J73: Segti no 2021. gada avansa finansējuma
A74: Atkritumu maisu turētāji | B74: 10 | D74: BG 732135 | E74: 23.11.2021. | F74: BG | G74: 922.16 | H74: 21-03429 | I74: 922.16 | J74: Segti no 2021. gada avansa finansējuma
A75: 4.11. punkts. Automātiskās dezinfekcijas iekārta rokām. T.sk.: | B75: 14 | C75: 6000
A76: Roku dezinfekcijas stends | B76: 1 | D76: ZE 21/4129 | E76: 09.11.2021. | F76: Zeimans | G76: 261.36 | H76: 21-03561 | I76: 261.36 | J76: Segti no 2021. gada avansa finansējuma
A77: Roku dezinfekcijas stends | B77: 3 | D77: ZE 21//4214 | E77: 15.11.2021. | F77: Zeimans | G77: 784.08 | H77: 21-03562 | I77: 784.08 | J77: Segti no 2021. gada avansa finansējuma
A78: Statīvi roku dezinfekcijas līdzekļiem | B78: 11 | D78: BG 731469 | E78: 23.11.2021. | F78: BG | G78: 1157.01 | H78: 21-03430 | I78: 1157.01 | J78: Segti no 2021. gada avansa finansējuma
A79: Dozatori ar sensoru | B79: 11 | D79: BG 731469 | E79: 23.11.2021. | F79: BG | G79: 764.84 | H79: 21-03430 | I79: 764.84 | J79: Segti no 2021. gada avansa finansējuma
A80: Baterijas | B80: 7 | D80: 395972348 | E80: 09.11.2021. | F80: Kesko Senukai Latvia | G80: 52.43 | H80: 22-00002 | I80: 52.43 | J80: Segti no 2021. gada avansa finansējuma
A81: Baterijas Duracell Industrial AA | B81: 7 | D81: BG 731469 | E81: 23.11.2021. | F81: BG | G81: 41.25 | H81: 21-03430 | I81: 41.25 | J81: Segti no 2021. gada avansa finansējuma
A82: Baterijas Duracell Industrial AA | B82: 10 | D82: ZE 21/4129 | E82: 09.11.2021. | F82: Zeimans | G82: 11.26 | H82: 21-03561 | I82: 11.26 | J82: Segti no 2021. gada avansa finansējuma
A83: 5. Cita veida pozīcijas
A84: 5.1. punkts. Aukstuma iekārtu uzstādīšana pagrabstāva morgā | B84: 1 | C84: 4235 | D84: 2021/111 | E84: 08.12.2021. | F84: Europa serviss | G84: 4234.44 | H84: 21-03392 | I84: 4234.44 | J84: Segti no 2021. gada avansa finansējuma
A85: 5.2. Līķu rati | B85: 1 | C85: 500 | J85: Veikta tirgus izpēte, kuras rezultātā noslēgts pirkuma līgums ( skatīt pielikums Nr12)
A86: 5.3. Noliktavas konteiners medicīnas preču uzglabāšanai, izm. 6,058 x 2,438 x 2,591 mm | B86: 1 | C86: 4500 | D86: MODU 6561/22 | E86: 44615 | F86: MODUL, SIA | G86: 4985.2 | H86: 22-01059 | I86: 4985.2 | J86: Veikta tirgus izpēte, kuras rezultātā noslēgts pirkuma līgums. Gaidāma piegāde tuvākajā laikā. ( skatīt pielikums Nr.9)
A87: 5.4. Platformu ratiņi, alumīnija, ar noņemamiem rokturiem, kravnesību vismaz 300 kg | B87: 1 | C87: 244 | D87: RKB 681 | E87: 23.02.2022. | F87: RK Birojs SIA | G87: 1113.2 | H87: 22-00659 | I87: 1113.2 | J87: Piegādāts SIA "Rīgas 2.slimnīca" (skatīt pielikums Nr.13 )
A90: Avansā izmaksāts 2021.gadā | B90: =Kopsavilkums!G10 -> 34714.6
A92: Faktiski apgūts finansējums 2021. gadā | B92: =G3 -> 34714.6
A93: Papildus nepieciešams finansējums 2022. gadā | B93: =G4+G5 -> 753248

Sheet Rezekne_799
J1: 1.4.pielikums
J2: Par finanšu līdzekļu piešķiršanu no valsts budžeta programmas “Līdzekļi neparedzētiem gadījumiem”
A3: Sabiedrība ar ierobežotu atbildību "RĒZEKNES SLIMNĪCA" | F3: janvāris | G3: =G29 -> 23280.4
F4: februāris | G4: =G12+G14+G15+G16+G19+G20+G21+G22+G23+G24+G25+G26+G27+G28+G30+G31 -> 562298.5
A5: Informācija par finanšu līdzekļu izlietojumu
A6: Plānotais finansējums | D6: Informācija par finanšu līdzekļu izlietojumu
A7: Pozīcijas nosaukums | B7: Skaits | C7: Plānotā summa (ar PVN), EUR | D7: Pavadzīme | H7: Maksājuma uzdevums
D8: Pavadzīmes Nr. | E8: Datums | F8: Piegādātājs | G8: Summa ( ar PVN) EUR | H8: Nr. | I8: Summa
A9: KOPĀ, t.sk. | B9: =SUM(B10:B31) -> 127 | C9: =SUM(C10:C30) -> 1190485 | G9: =SUM(G10:G31) -> 585578.9 | I9: =SUM(I10:I31) -> 585578.9 | J9: Uz 05.04.2022.
A10: Sašķidrinātā medicīniskā skābekļa uzglabāšanas tvertne | B10: 1 | C10: 127413 | J10: Pasākuma realizēšana netiks veikta.
A11: Iztvaicētājs | B11: 1 | C11: 5348 | J11: Pasākuma realizēšana netiks veikta.
A12: Plūsmas mērītāju komplekts | B12: 1 | C12: 18876 | D12: Rēķins 6721936885 | E12: 18.02.2022. | F12: Linde Gas SIA, reģ. Nr. 40003068518 | G12: 12971.2 | H12: 7 | I12: 12971.2 | J12: Izpildīts
A13: Iekšējās medicīniskā skābekļa apgādes sistēmas atjaunošana | B13: 1 | C13: 241143 | F13: Sabiedrība ar ierobežotu atbildību "NMS ELPA", reģ. 40003348336
A14: Skābekļa padeves sistēmas kapacitātes palielināšana un modernizēšana, t.sk. centrāle ar sms modeli, stabilizācijas bloks, un izejas kolektors | B14: 1 | C14: 39325 | D14: Rēķins 6721936884 | E14: 18.02.2022. | F14: Linde Gas SIA, reģ. Nr. 40003068518 | G14: 44953.92 | H14: 6 | I14: 44953.92 | J14: Izpildīts
A15: Risinājums medicīniskā skābekļa kontūru segmentēšanai (noplūžu fiksēšanai) | B15: 1 | C15: 30615 | D15: Rēķins 67219379 22/02/051OPT | E15: 25.02.2022. 28.02.2022. | F15: Linde Gas SIA, reģ. Nr. 40003068518; Sabiedrība ar ierobežotu atbildību "OptiCom", 40003231409 | G15: =SUM(2371.6+20846.73) -> 23218.33 | H15: 8; 17 | I15: =SUM(2371.6+20846.73) -> 23218.33 | J15: Izpildīts
A16: Viena punkta rezerves barošana ar platformu | B16: 2 | C16: 25168 | D16: VEL180222/8 | E16: 18.02.2022. | F16: Sabiedrība ar ierobežotu atbildību "Velasco", reģ. Nr. 40203232892 | G16: 6916.41 | H16: 12, 15 | I16: 6916.41 | J16: Izpildīts
A17: Medicīniskā saspiestā gaisa apgādes sistēmas atjaunošana | B17: 1 | C17: 108216 | F17: Sabiedrība ar ierobežotu atbildību "NMS ELPA", reģ. 40003348336
A18: Risinājums medicīniskā saspiestā gaisa kontūru segmentēšanai (noplūžu fiksēšanai) | B18: 1 | C18: 30615 | J18: Pasākuma realizēšana netiks veikta.
A19: Funkcionālā pacientu gulta | B19: 25 | C19: 189069 | D19: ABMG 220321 | E19: 24.02.2022. | F19: Sabiedrība ar ierobežotu atbildību "AB MEDICAL GROUP RIGA", reģ. Nr. 40003373297 | G19: 121312.18 | H19: 2 | I19: 121312.18 | J19: Izpildīts
A20: Pretizgulējumu matracis | B20: 25 | C20: 52042 | D20: ELPA 023528 | E20: 23.02.2022. | F20: Sabiedrība ar ierobežotu atbildību "NMS ELPA", reģ. 40003348336 | G20: 5868.5 | H20: 10 | I20: 5868.5 | J20: Izpildīts
A21: Nieru aizstājējterapijas iekārta | B21: 1 | C21: 26597 | D21: 304646 BLV | E21: 17.02.2022. | F21: Sabiedrība ar ierobežotu atbildību "B.BRAUN MEDICAL", reģ.Nr.40003277955 | G21: 49796.05 | H21: 294 | I21: 49796.05 | J21: Izpildīts
A22: Mākslīgā plaušu ventilācijas iekārta | B22: 7 | C22: 245000 | D22: ARB 119306 ARB 200497 | E22: 31.01.2022. 15.02.2022. | F22: SIA "Arbor Medical Korporācija", reģ. Nr. 40003547099 | G22: =SUM(232925+13975.5) -> 246900.5 | H22: 81 114 | I22: =SUM(232925+13975.5) -> 246900.5 | J22: Izpildīts
A23: Pacientu skapīši | B23: 25 | C23: 10648 | D23: ELPA 023555 | E23: 23.02.2022. | F23: Sabiedrība ar ierobežotu atbildību "NMS ELPA", reģ. 40003348336 | G23: 10617.75 | H23: 16 | I23: 10617.75 | J23: Izpildīts
A24: Pulsa oksimetri | B24: 20 | C24: 772 | D24: ARB 200218 | E24: 08.02.2022. | F24: SIA "Arbor Medical Korporācija", reģ. Nr. 40003547099 | G24: 605 | H24: 113 | I24: 605 | J24: Izpildīts
A25: Šībermašīna | B25: 1 | C25: 12645 | D25: ABMG 220270 | E25: 17.02.2022. | F25: Sabiedrība ar ierobežotu atbildību "AB MEDICAL GROUP RIGA", reģ. Nr. 40003373297 | G25: 12069.75 | H25: 1 | I25: 12069.75 | J25: Izpildīts
A26: Sēžamrati | B26: 5 | C26: 1026 | D26: ELPA 023440 | E26: 14.02.2022. | F26: Sabiedrība ar ierobežotu atbildību "NMS ELPA", reģ. 40003348336 | G26: 1827.1 | H26: 175 | I26: 1827.1 | J26: Izpildīts
A27: Pacientu transportēšanas guļrati | B27: 2 | C27: 6655 | D27: ABMG 220322 | E27: 24.02.2022. | F27: Sabiedrība ar ierobežotu atbildību "AB MEDICAL GROUP RIGA", reģ. Nr. 40003373297 | G27: 6413 | H27: 3 | I27: 6413 | J27: Izpildīts
A28: Portatīvās tualetes | B28: 3 | C28: 515 | D28: ELPA 023439 | E28: 14.02.2022. | F28: Sabiedrība ar ierobežotu atbildību "NMS ELPA", reģ. 40003348336 | G28: 606.21 | H28: 176 | I28: 606.21 | J28: Izpildīts
A29: Ūdeņraža peroksīda miglotājs | B29: 1 | C29: 9380 | D29: AMR-00775 | E29: 28.01.2022. | F29: Sabiedrība ar ierobežotu atbildību "Amrid", reģ. Nr. 40103271732 | G29: 23280.4 | H29: 37 | I29: 23280.4 | J29: Izpildīts
A30: Portatīvā gaisa un telpu attīrīšanas iekārta | B30: 1 | C30: 9417 | D30: JIM 021729 | E30: 22.02.2022. | F30: SIA "J.I.M.", reģ. Nr. 40003191695 | G30: 13594.35 | H30: 5 | I30: 13594.35 | J30: Izpildīts
A31: Portatīvais elektrokardiogrāfs | B31: 1 | C31: 5091 | D31: ARB 200646 | E31: 28.02.2022. | F31: SIA "Arbor Medical Korporācija", reģ. Nr. 40003547099 | G31: 4628.25 | H31: 4 | I31: 4628.25 | J31: Izpildīts
A35: Papildus nepieciešams finansējums 2022. gadā | B35: =ROUNDUP(G3+G4,0) -> 585579

Sheet Jelg_799
J1: 1.5.pielikums
A2: SIA " Jelgavas pilsētas slimnīca" | J2: Par finanšu līdzekļu piešķiršanu no valsts budžeta programmas “Līdzekļi neparedzētiem gadījumiem”
F3: 2021.gads novembris | G3: =G13+G23+G30+G32 -> 34818.96
F4: 2021.gads decembris | G4: =G24+G26+G28+G31+G33+G34 -> 139065.3
F5: 2022. gada februāris | G5: =G29 -> 14883
F6: 2022. gada marts | G6: =G18+G19+G20+G21+G27+G35+G36+G37+G38 -> 1075518.1
A8: Informācija par finanšu līdzekļu izlietojumu
A9: Plānotais finansējums | D9: Informācija par finanšu līdzekļu izlietojumu
A10: Pozīcijas nosaukums | B10: Skaits | C10: Plānotā summa (ar PVN), EUR | D10: Pavadzīme | H10: Maksājuma uzdevums | J10: Komentārs par izpildes progresu
D11: Pavadzīmes Nr. | E11: Datums | F11: Piegādātājs | G11: Summa ( ar PVN) EUR | H11: Nr. | I11: Summa
A12: KOPĀ, t.sk. | B12: =SUM(B13:B34) -> 79 | C12: =SUM(C13:C38) -> 1797197 | G12: =SUM(G13:G38) -> 1264285.4 | I12: =SUM(I13:I38) -> 551595.36
A13: Mediciniskā skābekļa automātiskas pārslēgšanas stacija aprikota ar LCD ekranu, SMS moduli. Darba jauda 50 m3/h | B13: 1 | C13: 10648 | D13: 6721898937 | E13: 30.11.2021. | F13: SIA " Linde Gas" | G13: 23505.46 | H13: 2584 | I13: 23505.46 | J13: Segti no 2021. gada avansa finansējuma
A14: Dublējošās avārijas apgādes ar medicīnisko skābekli remontdarbi, montāža un izbūve (60 m) | B14: 1 | C14: 12857
A15: Skābekļa koncentrators (Skābekļa ražošanas iekārtu piegāde un uzstādīšana) ar ražību 15 Nm3/h, glabāšanas konteiners | B15: 1 | C15: 65195 | G15: 0 | I15: 0 | J15: Neiegādāsimies, izvērtēts, ka nav efektīvs C19 pacientu ārstēšanā
A16: Skābekļa saišķu uzglabāšanas nojumes izbūve | B16: 1 | C16: 8470 | G16: 0 | I16: 0 | J16: Nav nepieciešams
A17: Astoņu pacientu novērošanas centrālā darba stacija intensīvās terapijas pacientiem un 8 pacientu novērošanas monitori | B17: 1 | C17: 160301 | J17: Līgums Nr 1-22/14/2022. 17.01.2022. SIA " A.Medical" Vēstule Nr. 46/01-2022 par preču piegādes termiņa pagarinājumu līdz 20.05.2022.
A18: Specializētas intensīvās terapijas gultas | B18: 8 | C18: 38720 | D18: 222153 | E18: 14.03.2022. | F18: SIA " Tradinteks" | G18: 33783.2 | H18: 687 | I18: 33783.2 | J18: Līgums 1-22/12/2022 14.01.2022. SIAS " Tradintek" Piegādātas
A19: Intensīvās terapijas gultu aktīvie pretzigulējumu matrači | B19: 8 | C19: 22748 | D19: 201062 | E19: 03.03.2022. | F19: SIA " Arbor Medical Korporācija" | G19: 30976 | H19: 510 | I19: 30976 | J19: Līgums Nr. 1-22/13/2022. 17.01.2022. SIA " Arbor Medical Korporācija" Piegādāti
A20: Nieru aiztājējterapijas iekārta (intensīvās terapijas pacientiem) | B20: 1 | C20: 30250 | D20: 1124 | E20: 24.03.2022. | F20: SIA " Baltijas Dialīzes serviss" | G20: 28737.5 | H20: 700 | I20: 28737.5 | J20: Līgums Nr. 1-22/15/2022. 17.01.2022. SIA " Baltijas dialīzes Serviss" Piegādāts
A21: Datortomogrāfs (64-slāņu) | B21: 1 | C21: 726000 | D21: 220026 | E21: 24.03.2022. | F21: SIA " Tradinteks" | G21: 712690 | J21: Līgums Nr. 1-22/96/2021, 08.12.2021. SIA "Tradinteks". Piegādāts , bet nav vēl veikta apmācība un parakstīts P/N akts.
A22: Videolaringoskops (intensīvās terapijas pacientiem) | B22: 1 | C22: 15730 | G22: 0 | I22: 0 | J22: Netika iesniegts neviens piedāvājums
A23: Defibrilators | B23: 1 | C23: 6050 | D23: 116739 | E23: 15.11.2021. | F23: SIA Arbor Medical Korporācija" | G23: 5892.7 | H23: 2582 | I23: 5892.7 | J23: Segti no 2021. gada avansa finansējuma
A24: Medicīniskie attēlu apskates monitori | B24: 2 | C24: 3630 | D24: 211200326 | E24: 44546 | F24: SIA " A.Medical" | G24: 2904 | H24: 2712 | I24: 2904 | J24: Segti no 2021. gada avansa finansējuma
A25: Stacionārais RTG aparāts Radioloģijas nodaļā COVID pacientu izmeklēšanai | B25: 1 | C25: 242000 | J25: Līgums Nr. 1-22/16/2022. 14.01.2022. SIA " Siemens Healcare Oy Latvijas filiāle. Līguma pagarinājums līdz 2022.gada 29.aprīlim vēstule Nr. 03/141/880083/2022
A26: Digitālā palātas RTG iekārta Covid nodaļai | B26: 1 | C26: 78650 | D26: 118105 | E26: 22.12.2021. | F26: SIA " Arbor Medical Korporācija" | G26: 78650 | H26: 2714 | I26: 78650 | J26: Segti no 2021. gada avansa finansējuma
A27: Pacientu skapīši (COVID nodaļa) | B27: 35 | C27: 27528 | D27: 201413 | E27: 14.03.2022. | F27: SIA Arbor Medical Korporācija" | G27: 17363.5 | H27: 699 | I27: 17363.5 | J27: Līgums Nr. 1-22/13/2022. 17.01.2022. SIA " Arbor Medical Korporācija" Piegādāti
A28: Portatīva ultrasonogrāfijas iekārta (Uzņemšanas nodaāli, COVID nodaļai) | B28: 1 | C28: 36300 | D28: 210208 | E28: 16.12.2021. | F28: SIA Tradinteks" | G28: 36251.6 | H28: 2713 | I28: 36251.6 | J28: Segti no 2021. gada avansa finansējuma
A29: Tvaika tīrīšanas un dezinfekcijas iekārta | B29: 2 | C29: 14036 | D29: 782 | E29: 10.02.2022. | F29: SIA " Amrid" | G29: 14883 | H29: 360 | I29: 14883 | J29: Līgums Nr. 1-22/17/2022. 14.01.2022. SIA " Amrid" , piegādāts
A30: Kardiogrāfs ar statīvu COVID nodaļai | B30: 1 | C30: 3630 | D30: 22866 | E30: 30.11.2021. | F30: SIA " NMS Elpa" | G30: 3351.7 | H30: 2581 | I30: 3351.7 | J30: Segti no 2021. gada avansa finansējuma
A31: Statīvs kardiogrāfam COVID nodaļai | B31: 1 | C31: 1029 | D31: 22913 | E31: 07.12.2021. | F31: SIA " NMS ELPA" | G31: 992.2 | H31: 2579 | I31: 992.2 | J31: Segti no 2021. gada avansa finansējuma
A32: Vakuumsūkņi ar statīvu COVID nodaļai | B32: 2 | C32: 2904 | D32: 22865 | E32: 30.11.2021. | F32: SIA " NMS Elpa" | G32: 2069.1 | H32: 2580 | I32: 2069.1 | J32: Segti no 2021. gada avansa finansējuma
A33: Augstas plūsmas skābekļa terapijas iekārta | B33: 3 | C33: 9438 | D33: 23075 | E33: 23.12.2021. | F33: SIA " NMS Elpa" | G33: 9619.5 | H33: 2718 | I33: 9619.5 | J33: Segti no 2021. gada avansa finansējuma
A34: Guļrati (Uzņemšanas nodala, pacientu transportēšanai) | B34: 5 | C34: 13915 | D34: 22907 | E34: 06.12.2021. | F34: SIA " NMS Elpa" | G34: 10648 | H34: 2583 | I34: 10648 | J34: Segti no 2021. gada avansa finansējuma
A35: Stacionārais USG aparāts COVID pacientu izmeklēšanai | B35: 1 | C35: 151250 | D35: 220300628 | E35: 31.03.2022. | F35: SIA " A.Medical" | G35: 147293.3 | H35: 697 | I35: 147293.3 | J35: Līgums Nr. 1-22/14/2022.17.01.2022.. SIA " A.Medical" Piegādāts
A36: Piekļuves kontroles sistēma slimnīcai | B36: 1 | C36: 54450 | D36: AR 04175 | E36: 31.03.2022. | F36: SIA " Rears" | G36: 39915.4 | H36: 696 | I36: 39915.4 | J36: Līgums Nr. 1-22/7/2022 13.01.2022. SIA " Rears", papildus vienošanās Nr.1. Pieņemta ekspluatācijā
A37: Specializētas intensīvās terapijas gultas | B37: 8 | C37: 38720 | D37: 222153 | E37: 14.03.2022. | F37: SIA " Tradinteks" | G37: 33783.2 | H37: 687 | I37: 33783.2 | J37: Līgums 1-22/12/2022 14.01.2022. SIAS " Tradintek" Piegādātas
A38: Intensīvās terapijas gultu aktīvie pretzigulējumu matrači | B38: 8 | C38: 22748 | D38: 201062 | E38: 03.03.2022. | F38: SIA " Arbor Medical Korporācija" | G38: 30976 | H38: 510 | I38: 30976 | J38: Līgums Nr. 1-22/13/2022. 17.01.2022. SIA " Arbor Medical Korporācija" Piegādāti
A41: Avansā izmaksāts 2021.gadā | B41: =G3+G4 -> 173884.26
A43: Faktiski apgūts finansējums 2021. gadā | B43: =G3+G4 -> 173884.26
A44: Nepieciešams finansējums 2022. gadam | B44: =ROUNDUP(G5+G6,0) -> 1090402

Sheet Ziemeļkurz_799
J1: 1.6.pielikums
A2: SIA "Ziemeļkurzemes reģionālā slimnīca" | J2: Par finanšu līdzekļu piešķiršanu no valsts budžeta programmas “Līdzekļi neparedzētiem gadījumiem”
F3: novembris | G3: =G11+G12 -> 58776.96
F4: decembris | G4: =G13+G14 -> 24478.3
A6: Informācija par finanšu līdzekļu izlietojumu
A7: Plānotais finansējums | D7: Informācija par finanšu līdzekļu izlietojumu
A8: Pozīcijas nosaukums | B8: Skaits | C8: Plānotā summa (ar PVN), EUR | D8: Pavadzīme | H8: Maksājuma uzdevums | J8: Komentārs par izpildes progresu
D9: Pavadzīmes Nr. | E9: Datums | F9: Piegādātājs | G9: Summa ( ar PVN) EUR | H9: Nr. | I9: Summa
A10: KOPĀ, t.sk. | B10: =SUM(B11:B14) -> 10 | C10: =SUM(C11:C14) -> 84000 | G10: =SUM(G11:G14) -> 83255.26 | I10: =SUM(I11:I14) -> 83255.26
A11: Augstas plūsmas skābekļa terapijas iekārtas | B11: 8 | C11: 60000 | D11: ABMG 212153 | E11: 44509 | F11: SIA "AB Medical Group Riga" | G11: 29040 | H11: 4532 | I11: 29040 | J11: Segti no 2021. gada avansa finansējuma
D12: ABMG 212177 | E12: 44516 | F12: SIA "AB Medical Group Riga" | G12: 29736.96 | H12: 1488 | I12: 29736.96 | J12: Segti no 2021. gada avansa finansējuma
A13: Defibrilators | B13: 1 | C13: 21000 | D13: ABTK 213451 | E13: 44544 | F13: SIA "Amerikas Baltijas tehnoloģiju korporācija" | G13: 21598.5 | H13: 29 | I13: 21598.5 | J13: Daļēji segti no 2021. gada avansa finansējuma
A14: Sevoflurāna iztvaikotājs anestēzijas iekārtai | B14: 1 | C14: 3000 | D14: AM211200125 | E14: 44537 | F14: SIA "A Medical" | G14: 2879.8 | H14: 4857 | I14: 2879.8 | J14: Izpildīts
A17: Avansā izmaksāts 2021.gadā | B17: 63000
A19: Faktiski apgūts finansējums 2021. gadā | B19: =G10 -> 83255.26
A20: Nepieciešams finansējums 2022. gadam | B20: =ROUNDUP(B19-B17,0) -> 20256

Sheet Vidzem_899
J1: 1.7.pielikums
A2: SIA "Vidzemes slimnīca" | J2: Par finanšu līdzekļu piešķiršanu no valsts budžeta programmas “Līdzekļi neparedzētiem gadījumiem”
F3: oktobris | G3: =G15+G20+G33+G37 -> 15684.02
F4: novembris | G4: =G18+G21+G27+G34 -> 43557.58
F5: decembris | G5: =G19+G32 -> 21845.34
F6: janvāris | G6: =G35 -> 3303.3
F7: marts | G7: =G17+G23+G26+G31 -> 119378.6
A10: Informācija par finanšu līdzekļu izlietojumu (līgums Nr. VS/2021-395 )
A11: Plānotais finansējums | D11: Informācija par finanšu līdzekļu izlietojumu
A12: Pozīcijas nosaukums | B12: Skaits | C12: Plānotā summa (ar PVN), EUR | D12: Pavadzīme | H12: Maksājuma uzdevums | J12: Komentārs par izpildes progresu
D13: Pavadzīmes Nr. | E13: Datums | F13: Piegādātājs | G13: Summa ( ar PVN) EUR | H13: Nr. | I13: Summa
A14: KOPĀ, t.sk. | B14: =SUM(B15:B37) -> 332 | C14: =SUM(C15:C37) -> 570200 | G14: =SUM(G15:G37) -> 203768.84 | I14: =SUM(I15:I37) -> 202928.42
A15: Aktīvie pretizgulējumu matrači | B15: 16 | C15: 16000 | D15: S01816 | E15: 21.10.2021. | F15: UAB Slaugivita | G15: 4842.42 | H15: 21-05721 | I15: 4002 | J15: Segti no 2021. gada avansa finansējuma
A16: Pacientu novērošanas monitori | B16: 30 | C16: 120000 | J16: Līgums noslēgts, gaidām piegādi. Piegāde bija plānota marta pēdējā nedēļā, taču ir saņemta informācija no Piegādātāja par piegādes kavēšanos, par kuru ražotājs sagatavos informatīvu vēstuli.
A17: Perfūzijas sūkņi | B17: 40 | C17: 48000 | D17: 306532 BLV | E17: 21.03.2022. | F17: SIA B.Braun Medical | G17: 38720 | H17: 22-09062 | I17: 38720 | J17: Perfuzori saņemti, pozīcija izpildīta.
A18: Mākslīgā plaušu ventilācijas iekārta | B18: 5 | C18: 75000 | D18: ARB 116357 | E18: 04.11.2021. | F18: SIA Arbor Medical Korporācija | G18: 9377.5 | H18: 21-06561 | I18: 9377.5 | J18: Segti no 2021. gada avansa finansējuma
A19: Baktericīdais gaisa caurplūdes recirkulators | B19: 30 | C19: 18000 | D19: AM 1335 | E19: 06.12.2021. | F19: SIA Airmed | G19: 15500.1 | H19: 21-07205 | I19: 15500.1 | J19: Segti no 2021. gada avansa finansējuma
A20: Augstas plūsmas skābekļa terapijas iekārtas | B20: 6 | C20: 36000 | D20: ELPA 022529 | E20: 25.10.2021. | F20: SIA NMS ELPA | G20: 60.5 | H20: 21-05969 | I20: 60.5 | J20: Segti no 2021. gada avansa finansējuma
D21: ELPA 022753 | E21: 22.11.2021. | F21: SIA NMS ELPA | G21: 27844.52 | H21: 21-06703 | I21: 8835.42 | J21: Segti no 2021. gada avansa finansējuma
H22: 21-06963 | I22: 19009.1 | J22: Segti no 2021. gada avansa finansējuma
A23: Hipoksijas – hiperoksijas terapijas ierīce | B23: 1 | C23: 55000 | D23: IT 003109 | E23: 04.03.2022. | F23: SIA Industriālās tehnoloģijas | G23: 45278.2 | H23: 22-08965 | I23: 45278.2 | J23: Iekārta saņemta, pozīcija izpildīta.
A24: Kardiotokogrāfs | B24: 1 | C24: 2800 | J24: Tiek gatavota tehniskā specifikācija iepirkumam. Plānotais iepirkuma izsludināšanas termiņš - aprīlis. Iespējamais piegādes termiņš - jūnijs/jūlijs.
A25: Mobila ultrasonogrāfijas iekārta | B25: 1 | C25: 40000 | J25: Tiek gatavota tehniskā specifikācija iepirkumam. Plānotais iepirkuma izsludināšanas termiņš - aprīlis. Iespējamais piegādes termiņš - jūnijs/jūlijs.
A26: Funkcionālās gultas (ar pasīviem pretizgulējumu matračiem) | B26: 10 | C26: 25000 | D26: ARB 201830 | E26: 25.03.2022. | F26: SIA Arbor Medical Korporācija | G26: 27467 | H26: 22-09063 | I26: 27467 | J26: Gultas saņemtas, pozīcija izpildīta.
A27: Instrumentu un manipulāciju galdiņi | B27: 10 | C27: 8000 | D27: ARB 117129 | E27: 26.11.2021. | F27: SIA Arbor Medical Korporācija | G27: 1422.96 | H27: 21-06862 | I27: 1422.96 | J27: Segti no 2021. gada avansa finansējuma
A28: Asins kultūru analizators | B28: 1 | C28: 46000 | J28: Tiek gatavota tehniskā specifikācija iepirkumam. Plānotais iepirkuma izsludināšanas termiņš - aprīlis. Iespējamais piegādes termiņš - jūnijs/jūlijs.
A29: Medicīniskais ledusskapis | B29: 3 | C29: 7800 | J29: Tiek gatavota tehniskā specifikācija iepirkumam. Plānotais iepirkuma izsludināšanas termiņš - aprīlis. Iespējamais piegādes termiņš - jūnijs/jūlijs.
A30: Centrifūga | B30: 1 | C30: 8000 | J30: Tiek gatavota tehniskā specifikācija iepirkumam. Plānotais iepirkuma izsludināšanas termiņš - aprīlis. Iespējamais piegādes termiņš - jūnijs/jūlijs.
A31: Pacientu pārvietošanas aprīkojums | B31: 10 | C31: 16000 | D31: AM220300549 | E31: 30.03.2022. | F31: SIA A.Medical | G31: 7913.4 | H31: 22-09132 | I31: 7913.4 | J31: Sēdrati saņemti, pozīcija izpildīta.
A32: Līķu rati | B32: 4 | C32: 8000 | D32: ELPA 023077 | E32: 29.12.2021. | F32: SIA NMS ELPA | G32: 6345.24 | H32: 22-07469 | I32: 6345.24 | J32: Segti no 2021. gada avansa finansējuma
A33: Ūdens sagatavošanas sistēma | B33: 1 | C33: 4600 | D33: WAT21 2-0846 | E33: 26.10.2021. | F33: WATEX SIA | G33: 4222.9 | H33: 21-05959 | I33: 4222.9 | J33: Segti no 2021. gada avansa finansējuma
A34: Skābekļa terapijas ierīces | B34: 150 | C34: 12000 | D34: ELPA 022765 | E34: 22.11.2021. | F34: SIA NMS ELPA | G34: 4912.6 | H34: 21-06947 | I34: 4912.6 | J34: Segti no 2021. gada avansa finansējuma
D35: ELPA 023296 | E35: 28.01.2022. | F35: SIA NMS ELPA | G35: 3303.3 | H35: 22-08325 | I35: 3303.3 | J35: Ierīces saņemtas, pozīcija izpildīta.
A36: Defibrilators | B36: 2 | C36: 16000 | J36: Tiek gatavota tehniskā specifikācija iepirkumam. Plānotais iepirkuma izsludināšanas termiņš - aprīlis. Iespējamais piegādes termiņš - jūnijs/jūlijs.
A37: Enterālās barošanas sūkņi | B37: 10 | C37: 8000 | D37: 297430 BLV | E37: 11.10.2021. | F37: SIA B.Braun Medical | G37: 6558.2 | H37: 21-05792 | I37: 6558.2 | J37: Segti no 2021. gada avansa finansējuma
A40: Avansā izmaksāts 2021.gadā | B40: =G3+G4+G5 -> 81086.94
A42: Faktiski apgūts finansējums 2021. gadā | B42: =G3+G4+G5 -> 81086.94
A43: Papildus nepieciešams finansējums 2022. gadā | B43: =ROUNDUP(G6+G7,0) -> 122682

Sheet Jekabp_899
J1: 1.8.pielikums
J2: Par finanšu līdzekļu piešķiršanu no valsts budžeta programmas “Līdzekļi neparedzētiem gadījumiem”
A3: SIA Jēkabpils reģionālā slimnīca, reģ. Nr.50003356621 | G3: decembris | H3: =G12 -> 41401.36
G4: janvāris | H4: =G21 -> 9858.78
G5: februāris | H5: =G13 -> 2178
G6: marts | H6: =G17 -> 135036
D8: Informācija par finanšu līdzekļu izlietojumu
A9: Medicīnas ierīce | B9: Skaits | C9: Plānotā summa (ar PVN), EUR | D9: Pavadzīme | H9: Maksājuma uzdevums | J9: Komentārs par izpildes progresu
D10: Pavadzīmes Nr. | E10: Datums | F10: Piegādātājs | G10: Summa ( ar PVN) EUR | H10: Nr. | I10: Summa
A11: x | C11: =C12+C13+C14+C15+C16+C17+C18+C19+C20+C21+C22 -> 1042192 | D11: x | E11: x | F11: x | G11: =G12+G13+G17+G21 -> 188474.14 | H11: x | I11: =I12+I13+I17+I21 -> 53438.14 | J11: x
A12: Multifunkcionālās reanimācijas gulta, elektriska | B12: 4 | C12: 30800 | D12: 118045 | E12: 22.12.2021. | F12: ARBOR MEDICAL KORPORĀCIJA SIA | G12: 41401.36 | H12: 27.12.21.086651 | I12: =G12 -> 41401.36 | J12: Segti no 2021. gada avansa finansējuma
A13: Pacenta skapīti ar statīviem | B13: 4 | C13: 2400 | D13: 200134 | E13: 04.02.2022. | F13: ARBOR MEDICAL KORPORĀCIJA SIA | G13: 2178 | H13: 21.02.22 nr.088479 | I13: 2178 | J13: IZPILDĪTS
A14: Procedūru rati | B14: 4 | C14: 3000 | J14: Piegāde aprīlī
A15: Māsu novērošanas postenis un kameras pacientu novērošanai | B15: 1 | C15: 5000 | J15: Nepirksim
A16: Slūžas | B16: 2 | C16: 3000 | J16: Nepirksim
A17: Mākslīgās plaušu ventilācijas aparāti (NIVA, APST, INV) | B17: 4 | C17: 132000 | D17: 201594 | E17: 21.03.2022. | F17: ARBOR MEDICAL KORPORĀCIJA SIA | G17: 135036 | J17: IZPILDĪTS
A18: Vitālo rādītāju moniori | B18: 4 | C18: 30000 | J18: Mazā iepirkuma procedūra, piegāde martā
A19: Perfuzori | B19: 24 | C19: 31992 | J19: Mazā iepirkuma procedūra, piegāde martā
A20: Enterālās barošanas sūknis | B20: 4 | C20: 4000 | J20: Mazā iepirkuma procedūra, piegāde martā
A21: Iekštelpu pārveide (cauruļu maiņa) - steidzama | C21: 150000 | D21: 036/2021. | E21: 05.01.2022. | F21: NMS ELPA SIA | G21: 9858.78 | H21: 19.01.22.087498 | I21: =G21 -> 9858.78 | J21: IZPILDĪTS
A22: Ārējā infrastruktūras uzlabošana - skābekļa balons, attvaikotājsistēm, balona uzstādīšanas infrastruktūra un cauruļu novadīšana līdz stacionāriem) | C22: 650000
A25: Avansā izmaksāts 2021.gadā | B25: =H3 -> 41401.36
A27: Faktiski apgūts finansējums 2021. gadā | B27: =H3 -> 41401.36
A28: Papildus nepieciešams finansējums 2022. gadā | B28: =ROUNDUP(H4+H5+H6,0) -> 147073

Sheet Ziemeļk_899
J1: 1.9.pielikums
A2: SIA "Ziemeļkurzemes reģionālā slimnīca" | J2: Par finanšu līdzekļu piešķiršanu no valsts budžeta programmas “Līdzekļi neparedzētiem gadījumiem”
F3: oktobris | G3: =G19+G21+G32 -> 4005.11
F4: novembris | G4: =G12+G18+G20+G22+G23+G24+G25+G26+G29+G34+G35 -> 90078.92
F5: decembris | G5: =G13+G14+G17+G27+G28+G30+G31+G33+G36 -> 93187.47
F6: janvāris | G6: =G15+G16 -> 33329.45
A7: Informācija par finanšu līdzekļu izlietojumu
A8: Plānotais finansējums | D8: Informācija par finanšu līdzekļu izlietojumu
A9: Pozīcijas nosaukums | B9: Skaits | C9: Plānotā summa (ar PVN), EUR | D9: Pavadzīme | H9: Maksājuma uzdevums | J9: Komentārs par izpildes progresu
D10: Pavadzīmes Nr. | E10: Datums | F10: Piegādātājs | G10: Summa ( ar PVN) EUR | H10: Nr. | I10: Summa
A11: KOPĀ, t.sk. | B11: =SUM(B12:B35) -> 156 | C11: =SUM(C12:C36) -> 242651.65 | G11: =SUM(G12:G36) -> 220600.95 | I11: =SUM(I12:I35) -> 220181.76
A12: Funkcionālās gultas + matrači | B12: 20 | C12: 42000 | D12: ELPA 022719 | E12: 15.11.2021. | F12: SIA "NMS Elpa" | G12: 39228.2 | H12: 4452 | I12: 39228.2 | J12: Segti no 2021. gada avansa finansējuma
A13: Pacientu skapīši | B13: 20 | C13: 13000 | D13: TR 212116 | E13: 22.12.2021. | F13: SIA "Tradintek" | G13: 13189 | H13: 5021 | I13: 13189 | J13: Segti no 2021. gada avansa finansējuma
A14: Infūziju statīvi | B14: 20 | C14: 1420 | D14: ARB 1177773 | E14: 10.12.2021. | F14: SIA "Arbor Medical Korporācija" | G14: 1573 | H14: 4832 | I14: 1573 | J14: Segti no 2021. gada avansa finansējuma
A15: Perfuzori | B15: 21 | C15: 20328 | D15: 303446 BLV | E15: 28.01.2022. | F15: SIA "B.Braun Medical" | G15: 20582.1 | H15: 425 | I15: 33329.45 | J15: Izpildīts
A16: Perfuzoru turētājskapis ar statīvu (1 uz 3 perfuzoriem) | B16: 7 | C16: 12662.65 | G16: 12747.35
A17: Komplekts 12 pacientu nov.monitori ar centrālo staciju | B17: 1 | C17: 80000 | D17: ARB 117994 | E17: 20.12.2021. | F17: SIA "Arbor Medical Korporācija" | G17: 63113.6 | H17: 5017 | I17: 63113.6 | J17: Segti no 2021. gada avansa finansējuma
A18: Pulsa oksimetri (ar lādētāju) | B18: 20 | C18: 8300 | D18: ARB 116863 | E18: 17.11.2021. | F18: SIA "Arbor Medical Korporācija" | G18: 7986 | H18: 4556 | I18: 7986 | J18: Segti no 2021. gada avansa finansējuma
A19: Konteiners medicīniskajiem atkritumiem | B19: 1 | C19: 2800 | D19: MODU 6140/21 | E19: 22.10.2021. | F19: SIA "Modul" | G19: 2758.8 | H19: 4008 | I19: =G19 -> 2758.8 | J19: Segti no 2021. gada avansa finansējuma
A20: Bīstamo atkritumu statīvs | B20: 1 | C20: 760 | D20: ILX2200454 | E20: 09.11.2021. | F20: SIA "Interlux" | G20: =830.48 -> 830.48 | H20: 1440 | I20: =G20 -> 830.48 | J20: Segti no 2021. gada avansa finansējuma
A21: Uzkopšanas rati | B21: 1 | C21: 860 | D21: BG730731 | E21: 28.10.2021. | F21: SIA "BG" | G21: 859.75 | H21: 1293 | I21: =G21 -> 859.75 | J21: Segti no 2021. gada avansa finansējuma
A22: Veļas mazgājamā mašīna | B22: 1 | C22: 4750 | D22: PRO690709 | E22: 11.11.2021. | F22: SIA "Profiks Clean" | G22: 2740.65 | H22: 1401 | I22: =G22 -> 2740.65 | J22: Segti no 2021. gada avansa finansējuma
A23: Rati pacientu pārvadāšanai (sēdrati) | B23: 1 | C23: 500 | D23: ELPA 022675 | E23: 08.11.2021. | F23: SIA "NMS Elpa" | G23: 234.74 | H23: 1376 | I23: =G23 -> 234.74 | J23: Segti no 2021. gada avansa finansējuma
A24: Ledusskapis slēdzams | B24: 1 | C24: 530 | D24: SOL 21-47 | E24: 04.11.2021. | F24: SIA "SOL 1" | G24: 544.5 | H24: 4356 | I24: =G24 -> 544.5 | J24: Segti no 2021. gada avansa finansējuma
A25: Infūzijas šķīduma sildītājs | B25: 1 | C25: 1200 | D25: ARB 116153 | E25: 03.11.2021. | F25: SIA "Arbor Medical Korporācija" | G25: 907.5 | H25: 4353 | I25: =G25 -> 907.5 | J25: Segti no 2021. gada avansa finansējuma
A26: Automātiskās virsmu dezinfekcijas iekārta | B26: 1 | C26: 5143 | D26: AMR-00729 | E26: 05.11.2021. | F26: SIA "Amrid" | G26: 5142.5 | H26: 4342 | I26: =G26 -> 5142.5 | J26: Segti no 2021. gada avansa finansējuma
A27: elektrokardiogrāfs | B27: 1 | C27: 5000 | D27: ARB 117562 | E27: 10.12.2021. | F27: SIA "Arbor Medical Korporācija" | G27: 5445 | H27: 00001 | I27: 5445 | J27: Segti no 2021. gada avansa finansējuma
A28: slēgtā tipa baktericīdā lampa | B28: 2 | C28: 1500 | D28: ARB 117644 | E28: 06.12.2021. | F28: SIA "Arbor Medical Korporācija" | G28: 1089 | H28: 4780 | I28: 1089 | J28: Segti no 2021. gada avansa finansējuma
A29: intensīvās terapijas pacientu gultas | B29: 2 | C29: 31800 | D29: ARB 116988 | E29: 23.11.2021. | F29: SIA "Arbor Medical Korporācija" | G29: 31460 | H29: 4555 | I29: 31460 | J29: Segti no 2021. gada avansa finansējuma
A30: pārvietojamie ratiņi | B30: 3 | C30: 2250 | D30: ELPA 022930 | E30: 03.12.2021. | F30: SIA "NMS Elpa" | G30: 2254.23 | H30: 4874 | I30: 2254.23 | J30: Segti no 2021. gada avansa finansējuma
A31: pārvietojamie medicīnas skapji | B31: 3 | C31: 5320 | D31: SC 12721 | E31: 02.12.2021. | F31: SIA "Scanmed" | G31: 5317.95 | H31: 4771 | I31: 5317.95 | J31: Segti no 2021. gada avansa finansējuma
A32: Slūžas | B32: 1 | C32: 380 | D32: Nr.24.10.2021 | E32: 24.10.2021. | F32: SIA "STALVE" | G32: 386.56 | H32: 4135 | I32: =G32 -> 386.56 | J32: Segti no 2021. gada avansa finansējuma
A33: Infūzu statīvi | B33: 10 | C33: 710 | D33: ARB 1177772 | E33: 10.12.2021. | F33: SIA "Arbor Medical Korporācija" | G33: 786.5 | H33: 4873 | I33: =G33 -> 786.5 | J33: Segti no 2021. gada avansa finansējuma | R33: 3
A34: neinvazīvā ventilācijas maska | B34: 13 | C34: 598 | D34: ELPA 022720 | E34: 15.11.2021. | F34: SIA "NMS Elpa" | G34: 613.47 | H34: 4558 | I34: 613.47 | J34: Segti no 2021. gada avansa finansējuma
A35: Codan invazīvā asinspiediena piederumi | B35: 4 | C35: 840 | D35: ARB 116259 | E35: 03.11.2021. | F35: SIA "Arbor Medical Korporācija" | G35: 390.88 | H35: 4357 | I35: =G35 -> 390.88 | J35: Segti no 2021. gada avansa finansējuma | R35: 2
D36: ARB 117889 | E36: 17.12.2021. | F36: SIA "Arbor Medical Korporācija" | G36: 419.19 | H36: 4871 | I36: 419.19 | J36: Segti no 2021. gada avansa finansējuma | R36: 2
A39: Avansā izmaksāts 2021.gadā | B39: =G3+G4+G5 -> 187271.5
A41: Faktiski apgūts finansējums 2021. gadā | B41: =G3+G4+G5 -> 187271.5
A42: Papildus nepieciešams finansējums 2022. gadam | B42: =ROUNDUP(G6,0) -> 33330

Sheet Priek_899
J1: 1.10.pielikums
A2: SIA "Priekules slimnīca" | J2: Par finanšu līdzekļu piešķiršanu no valsts budžeta programmas “Līdzekļi neparedzētiem gadījumiem”
F3: decembris | G3: =G11+G12+G13+G14+G16 -> 10850.07
F4: janvāris | G4: =G17 -> 1022.01
F5: februāris | G5: =G15+G18 -> 1954.15
A6: Informācija par finanšu līdzekļu izlietojumu
A7: Plānotais finansējums | D7: Informācija par finanšu līdzekļu izlietojumu
A8: Pozīcijas nosaukums | B8: Skaits | C8: Plānotā summa (ar PVN), EUR | D8: Pavadzīme | H8: Maksājuma uzdevums | J8: Komentārs par izpildes progresu
D9: Pavadzīmes Nr. | E9: Datums | F9: Piegādātājs | G9: Summa ( ar PVN) EUR | H9: Nr. | I9: Summa
A10: KOPĀ, t.sk. | B10: =SUM(B11:B18) -> 19 | C10: =SUM(C11:C18) -> 13830 | G10: =SUM(G11:G18) -> 13826.23 | I10: =SUM(I11:I18) -> 13826.23
A11: Pacientu monitori ar pulsoksimetriem,ar asinsspiediena automātisko mērišanu un EKG | B11: 3 | C11: 9000 | D11: ARB 118318 | E11: 30.12.2021. | F11: Arbor Medical Korporācija SIA | G11: 2420 | H11: 41 | I11: 2420 | J11: Segti no 2021. gada avansa finansējuma
D12: ARB 118318 | E12: 30.12.2021. | F12: Arbor Medical Korporācija SIA | G12: 423.5 | H12: 41 | I12: 423.5 | J12: Segti no 2021. gada avansa finansējuma
D13: TR 212129 | E13: 30.12.2021. | F13: SIA Tradintek | G13: 5507.92 | H13: 42 | I13: 5507.92 | J13: Segti no 2021. gada avansa finansējuma
A14: Sūkņi | B14: 2 | C14: 1000 | D14: ARB 118318 | E14: 30.12.2021. | F14: Arbor Medical Korporācija SIA | G14: 1210 | H14: 41 | I14: 1210 | J14: Segti no 2021. gada avansa finansējuma
A15: Pretizgulējuma matrači | B15: 5 | C15: 1250 | D15: NOVA 220101 | E15: 17.02.2022. | F15: Novamed SIA | G15: 828.85 | H15: 4575 | I15: 828.85 | J15: Pieci pretizgulējumu matrači KP80-S+kompersors
A16: Elektrokardiogrāfs | B16: 1 | C16: 1100 | D16: TR 212129 | E16: 30.12.2021. | F16: SIA Tradintek | G16: 1288.65 | H16: 42 | I16: 1288.65 | J16: Segti no 2021. gada avansa finansējuma
A17: Starpsienas telpu nodalīšanai (zonu nodalīšanai) | B17: 2 | C17: 1000 | D17: 44568 | E17: 07.01.2022. | F17: SIA Stalve | G17: 1022.01 | H17: 4440 | I17: 1022.01 | J17: Divas starpsienas telpu nodalīšanai ( zonu nodalīšanai).
A18: Aizslietņi | B18: 6 | C18: 480 | D18: J22-05 | E18: 18.02.2022. | F18: Emed SIA | G18: 1125.3 | H18: 4574 | I18: 1125.3 | J18: Seši aizslietņi-3 sekciju, saliekami,uz riteņiem.
A21: Avansā izmaksāts 2021.gadā | B21: 9681
A23: Faktiski apgūts finansējums 2021. gadā | B23: =G3 -> 10850.07
A24: Papildus nepieciešams finansējums 2022. gadam | B24: =ROUNDUP(B23-B21+G4+G5,0) -> 4146

Sheet Dobele_899
J1: 1.11.pielikums
J2: Par finanšu līdzekļu piešķiršanu no valsts budžeta programmas “Līdzekļi neparedzētiem gadījumiem”
A3: SIA "Dobeles un apkārtnes slimnīca" | F3: novembris | G3: =G11 -> 1498.34
F4: februāris | G4: =G15 -> 1851.3
F5: marts | G5: =G12 -> 47986.3
D7: Informācija par finanšu līdzekļu izlietojumu
A8: Pozīcijas nosaukums | B8: Skaits | C8: Plānotā summa (ar PVN), EUR | D8: Pavadzīme | H8: Maksājuma uzdevums | J8: Komentārs par izpildes progresu
D9: Pavadzīmes Nr. | E9: Datums | F9: Piegādātājs | G9: Summa ( ar PVN) EUR | H9: Nr. | I9: Summa
A10: KOPĀ, t.sk. | B10: =SUM(B11:B15) -> 35 | C10: =SUM(C11:C15) -> 175869.08 | G10: =SUM(G11:G15) -> 51335.94 | I10: 53237.94
A11: Skābekļa padeves līnijas izbūve | B11: 1 | C11: 9745 | D11: 6721895568 | E11: 11.11.2021. | F11: SIA "Linde Gas" | G11: 1498.34 | H11: 2905 | I11: 1498.34 | J11: Segti no 2021. gada avansa finansējuma
A12: Pulsa oksimetri ar neinvazīvu asinsspiediena mērījuma funkciju ar statīviem uz riteņiem | B12: 16 | C12: 33686.08 | D12: ABMG220572 | E12: 31.03.2022. | F12: SIA "AB Medical Group Riga" | G12: =49888.3-1902 -> 47986.3 | H12: FT22090GVPJ0 | I12: 49888.3
A13: Perfuzori | B13: 16 | C13: 15488 | J13: Piegādāti ārzemju palīdzības kārtā
A14: Mobīlā RTG iekārta (pārvietojama) | B14: 1 | C14: 114950 | J14: Piegādāta lietota ārzemju palīdzības kārtā
A15: Liela apjoma dezinfekcijas iekārta | B15: 1 | C15: 2000 | D15: PP2022-05/1 | E15: 28.02.2022. | F15: SIA "Gudrā māja GMF" | G15: 1851.3 | H15: 1158 | I15: 1851.3
A19: Avansā izmaksāts 2021.gadā | B19: =G3 -> 1498.34
A20: Faktiski apgūts finansējums 2021. gadā | B20: =G11 -> 1498.34
A21: Papildus nepieciešams finansējums 2022. gadā | B21: =ROUNDUP(G4+G5,0) -> 49838

Sheet Alūksn_899
J1: 1.12.pielikums
A2: Alūksnes slimnīca | J2: Par finanšu līdzekļu piešķiršanu no valsts budžeta programmas “Līdzekļi neparedzētiem gadījumiem”
F3: oktobris | G3: =G21 -> 676.48
F4: novembris | G4: =G20 -> 6316.83
F5: decembris | G5: =G14 -> 23958
F6: janvāris | G6: =G15 -> 9438
F7: februāris | G7: =G16+G18 -> 6774.19
F8: marts | G8: =G17 -> 8980.36
A9: Informācija par finanšu līdzekļu izlietojumu
A10: Plānotais finansējums | D10: Informācija par finanšu līdzekļu izlietojumu
A11: Pozīcijas nosaukums | B11: Skaits | C11: Plānotā summa (ar PVN), EUR | D11: Pavadzīme | H11: Maksājuma uzdevums | J11: Komentārs par izpildes progresu
D12: Pavadzīmes Nr. | E12: Datums | F12: Piegādātājs | G12: Summa ( ar PVN) EUR | H12: Nr. | I12: Summa
A13: KOPĀ, t.sk. | B13: =SUM(B14:B21) -> 38 | C13: =SUM(C14:C21) -> 83975.05 | G13: =SUM(G14:G21) -> 56143.86 | I13: =SUM(I14:I21) -> 65332.86
A14: Perfuzors | B14: 6 | C14: 25300.02 | D14: 301890 BLV | E14: 30.12.2021. | F14: SIA "B.Braun Medical" | G14: 23958 | H14: 220001 | I14: 23958 | J14: Segti no 2021. gada avansa finansējuma
A15: Pacientu monitori ar statīvu | B15: 4 | C15: 8000 | D15: ARB 119294 | E15: 28.01.2022. | F15: SIA "Arbor Medical Korporācija" | G15: 9438 | H15: 220271 | I15: 9438 | J15: Iekārtas piegādātas
A16: Vakuumsūkņi ar piederumiem | B16: 3 | C16: 3600 | D16: MQ-091774 | E16: 21.02.2022. | F16: SIA "Mediq Latvija" | G16: 3446.69 | H16: 220527 | I16: 3446.69 | J16: Iekārtas piegādātas
A17: Funkcionālās gultas ar skapīti | B17: 8 | C17: 16000 | D17: ELPA 023786 | E17: 23.03.2022. | F17: SIA "NMS ELPA" | G17: =18169.36-9189 -> 8980.36 | H17: 221012 | I17: 18169.36 | J17: Iekārtas piegādātas
A18: Baktericīdās lampas | B18: 8 | C18: 6400 | D18: AM220200330 | E18: 21.02.2022. | F18: SIA "A.Medical" | G18: 3327.5 | H18: 220569 | I18: 3327.5 | J18: Iekārtas piegādātas
A19: Pacientu novērošanas kameras ar piederumiem un monitoriem | B19: 7 | C19: 12000 | G19: 0 | H19: 0 | I19: 0 | J19: Iekārtas netiks iegādātas
A20: Sābekļa sistēmas uzlabošanas darbi (jau uzsākti, bet rēķins nav saņemts) | B20: 1 | C20: 12000.03 | D20: 6721895046 | E20: 09.11.2021. | F20: SIA "Linde Gas" | G20: 6316.83 | H20: 217440 | I20: 6316.83 | J20: Segti no 2021. gada avansa finansējuma
A21: Norobežojošo slūžu izdevumi | B21: 1 | C21: 675 | D21: 21.10.2021. - Alūksnes slimnīca | E21: 21.10.2021. | F21: SIA"STALVE" | G21: 676.48 | H21: 217191 | I21: 676.48 | J21: Segti no 2021. gada avansa finansējuma
A24: Avansā izmaksāts 2021.gadā | B24: =G3+G4+G5 -> 30951.31
A25: Faktiski apgūts finansējums 2021. gadā | B25: =G14+G20+G21 -> 30951.31
A26: Papildus nepieciešams finansējums 2022. gadā | B26: =ROUNDUP(G6+G7+G8,0) -> 25193

Sheet Bausk_899
J1: 1.13.pielikums
A2: SIA "BAUSKAS SLIMNĪCA" | J2: Par finanšu līdzekļu piešķiršanu no valsts budžeta programmas “Līdzekļi neparedzētiem gadījumiem”
F3: oktobris | G3: =G17+G20+G21+G22 -> 27026.64
F4: februāris | G4: =G13+G14+G15+G16+G23 -> 43364.63
F5: marts | G5: =G11+G12 -> 28212.37
A6: Informācija par finanšu līdzekļu izlietojumu
A7: Plānotais finansējums | D7: Informācija par finanšu līdzekļu izlietojumu
A8: Pozīcijas nosaukums | B8: Skaits | C8: Plānotā summa (ar PVN), EUR | D8: Pavadzīme | H8: Maksājuma uzdevums | J8: Komentārs par izpildes progresu
D9: Pavadzīmes Nr. | E9: Datums | F9: Piegādātājs | G9: Summa ( ar PVN) EUR | H9: Nr. | I9: Summa
A10: KOPĀ, t.sk. | B10: =SUM(B11:B24) -> 53 | C10: =SUM(C11:C24) -> 251038.47 | G10: =SUM(G11:G24) -> 98603.64 | I10: =SUM(I11:I24) -> 110188.17
A11: Digitālais RTG aparāts ar 2 detektoriem, stacionārais | B11: 1 | C11: 140000 | J11: Darījums pabeigts.
A12: Portatīvais US aparāts ar 2 zondēm | B12: 1 | C12: 40000 | D12: AM220300373 | E12: 16.03.2022. | F12: SIA "A.Medical" | G12: =39796.9-11624+39.47 -> 28212.37 | H12: 222806 | I12: 39796.9 | J12: Darījums pabeigts.
A13: Pacientu gultas | B13: 10 | C13: 19360 | D13: ARB 200494 | E13: 15.02.2022. | F13: SIA "Arbor Medical Korporācija" | G13: 19360 | H13: 222682 | I13: 19360 | J13: Darījums pabeigts.
A14: Matrači | B14: 10 | C14: 2662 | D14: ARB 200495 | E14: 15.02.2022. | F14: SIA "Arbor Medical Korporācija" | G14: 2662 | H14: 222682 | I14: 2662 | J14: Darījums pabeigts.
A15: Pacientu galdiņi | B15: 10 | C15: 5560 | D15: ARB 200496 | E15: 15.02.2022. | F15: SIA "Arbor Medical Korporācija" | G15: 5566 | H15: 222682 | I15: 5566 | J15: Darījums pabeigts.
A16: Pacientu sēdrati (nogādāšanai uz manipulācijām) | B16: 1 | C16: 856 | D16: ARB 200837 | E16: 23.02.2022. | F16: SIA "Arbor Medical Korporācija" | G16: 853.05 | H16: 222693 | I16: 853.05 | J16: Darījums pabeigts.
A17: Pacientu aizslietņi | B17: 4 | C17: 976 | D17: ARB 116069 | E17: 29.10.2021. | F17: SIA "Arbor Medical Korporācija" | G17: 963.16 | H17: 212129 | I17: 963.16 | J17: Segti no 2021. gada avansa finansējuma
A18: Vakuumsūknis | B18: 1 | C18: 1331 | D18: Pieņemšanas - Nodošanas akts | E18: 10.11.2021. | F18: Veselības ministrijas Riropas lietu un starptautiskās sadarbības departaments | J18: Nodošanas - Pieņemšanas akts par no Francijas un Polijas saņemto aprīkojumu. Saņemti 2 vakuuma sūkņi. NETIKS IEGĀDĀTI PAR PIEŠĶIRTO FINANSĒJUMU
A19: Medicīniskie perfozori | B19: 3 | C19: 2400 | D19: Pieņemšanas - Nodošanas akts | E19: 10.11.2021. | F19: Veselības ministrijas Riropas lietu un starptautiskās sadarbības departaments | J19: Nodošanas - Pieņemšanas akts par no Francijas un Polijas saņemto aprīkojumu. Saņemti 4 perfuzori. NETIKS IEGĀDĀTI PAR PIEŠĶIRTO FINANSĒJUMU
A20: Kardiomonitori | B20: 5 | C20: 25446 | D20: ARB 115868 | E20: 25.10.2021. | F20: SIA "Arbor Medical Korporācija" | G20: 24200 | H20: 212130 | I20: 24200 | J20: Segti no 2021. gada avansa finansējuma
A21: Slūžu aizkari | B21: 2 | C21: 791.72 | D21: Nr. 22.10.2021.-Bauskas slimnīca | E21: 22.10.2021. | F21: SIA "STALVE" | G21: 791.73 | H21: 212143 | I21: 791.73 | J21: Segti no 2021. gada avansa finansējuma
A22: Skābekļa plūsmas sadalītājs | B22: 5 | C22: 1071.75 | D22: Rēķins 6721881694 | E22: 12.10.2021. | F22: Linde Gas SIA | G22: 1071.75 | H22: 212043 | I22: 1071.75 | J22: Segti no 2021. gada avansa finansējuma
A23: Skābekļa apgādes sistēmas rekonstrukcija III kārta | C23: 10584 | D23: Rēķins 6721937768 | E23: 24.02.2022. | F23: Linde Gas SIA | G23: 14923.58 | H23: 222694 | I23: 14923.58 | J23: Darījums pabeigts.
A26: Avansā izmaksāts 2021.gadā | B26: =G3 -> 27026.64
A27: Faktiski apgūts finansējums 2021. gadā | B27: =G3 -> 27026.64
A28: Papildus nepieciešams finansējums 2022. gadā | B28: =G4+G5 -> 71577

Sheet Cēsis_899
J1: 1.14.pielikums
A2: "Cēsu klīnika" SIA | J2: Par finanšu līdzekļu piešķiršanu no valsts budžeta programmas “Līdzekļi neparedzētiem gadījumiem”
F3: oktobris | G3: =G15+G20+G23 -> 9365.22
F4: novembris | G4: =G18+G19+G22 -> 1207.82
F5: decembris | G5: =G14+G25 -> 9499.71
F6: janvāris | G6: =G17+G24+G21 -> 2035.99
F7: marts | G7: =G16 -> 14973.75
A8: Informācija par finanšu līdzekļu izlietojumu
A9: Plānotais finansējums | D9: Informācija par finanšu līdzekļu izlietojumu
A10: Pozīcijas nosaukums | B10: Skaits | C10: Plānotā summa (ar PVN), EUR | D10: Pavadzīme | H10: Maksājuma uzdevums | J10: Komentārs par izpildes progresu
D11: Pavadzīmes Nr. | E11: Datums | F11: Piegādātājs | G11: Summa ( ar PVN) EUR | H11: Nr. | I11: Summa
A12: KOPĀ, t.sk. | B12: =SUM(B13:B25) -> 43 | C12: =SUM(C13:C25) -> 112650 | G12: =SUM(G13:G25) -> 37082.49 | I12: =SUM(I13:I25) -> 22108.74
A13: Mobilais ultrasonogrāfs | B13: 1 | C13: 76000 | J13: Rēķins pirms termiņa iesniegts
A14: Vitālo funkciju monitoru stacija | B14: 1 | C14: 9100 | D14: GRAINALV225 | E14: 03.12.2021. | F14: UAB GRAINA Latvia filiāle | G14: 9075 | H14: 21-04044 | I14: 9075 | J14: Segti no 2021. gada avansa finansējuma
A15: Vitālo funkciju monitoru stacija | B15: 1 | C15: 9100 | D15: GRAINALV206 | E15: 28.10.2021. | F15: UAB GRAINA Latvia filiāle | G15: 9075 | H15: 22-00684 | I15: 9075 | J15: Segti no 2021. gada avansa finansējuma
A16: Monitori ar invazīvā spiediena mērīšanas moduli | B16: 5 | C16: 15000 | D16: GRAINALV261 | E16: 04.03.2022. | F16: UAB GRAINA Latvia filiāle | G16: 14973.75 | J16: Apmaksa aprīlī.
A17: Perfuzori | B17: 2 | C17: 1600 | D17: 302290BLV | E17: 10.01.2022. | F17: B.Braun Medical SIA | G17: 1936 | H17: 22-00428 | I17: 1936 | J17: Izpildīts 100%
A18: Pulsa oksimetri | B18: 10 | C18: 450 | D18: ARB116136 | E18: 01.11.2021. | F18: Arbor Medical Korporšacija SIA | G18: 544.5 | H18: 21-03990 | I18: 544.5 | J18: Segti no 2021. gada avansa finansējuma
A19: Fonendoskopi | B19: 5 | C19: 65 | D19: ARB116383 | E19: 05.11.2021. | F19: Arbor Medical Korporšacija SIA | G19: 106.72 | H19: 21-04065 | I19: 106.72 | J19: Segti no 2021. gada avansa finansējuma
A20: Fonendoskopi | B20: 1 | C20: 13 | D20: ARB115213 | E20: 12.10.2021. | F20: Arbor Medical Korporācija SIA | G20: 11.92 | H20: 21-03777 | I20: 11.92 | J20: Segti no 2021. gada avansa finansējuma
A21: Fonendoskopi | B21: 1 | C21: 13 | D21: ARB118645 | E21: 11.01.2022. | F21: Arbor Medical Korporācija SIA | G21: 21.34 | H21: 22-00430 | I21: 21.34 | J21: Izpildīts 100%
A22: Tonometri | B22: 4 | C22: 460 | D22: ARB116136 | E22: 01.11.2021. | F22: Arbor Medical Korporācija SIA | G22: 556.6 | H22: 21-03990 | I22: 556.6 | J22: Segti no 2021. gada avansa finansējuma
A23: Tonometri | B23: 2 | C23: 230 | D23: ARB115213 | E23: 12.10.2021. | F23: Arbor Medical Korporācija SIA | G23: 278.3 | H23: 21-03777 | I23: 278.3 | J23: Segti no 2021. gada avansa finansējuma
A24: Tonometri | B24: 1 | C24: 115 | D24: ARB118645 | E24: 11.01.2022. | F24: Arbor Medical Korporācija SIA | G24: 78.65 | H24: 22-00430 | I24: 78.65 | J24: Izpildīts 100%
A25: Skābekļa plūsmas regulatori | B25: 9 | C25: 504 | D25: ELPA022887 | E25: 03.12.2021. | F25: NMS ELPA SIA | G25: 424.71 | H25: 21-03971 | I25: 424.71 | J25: Segti no 2021. gada avansa finansējuma
A28: Avansā izmaksāts 2021.gadā | B28: =G3+G4+G5 -> 20072.75
A29: Faktiski apgūts finansējums 2021. gadā | B29: =G3+G4+G5 -> 20072.75
A31: Papildus nepieciešams finansējums 2022. gadam | B31: =ROUNDUP(G6+G7,0) -> 17010

Sheet Madona_899
J1: 1.15.pielikums
A2: MNP SIA "Madonas slimnīca", reģistrācijas Nr.40003356507 | J2: Par finanšu līdzekļu piešķiršanu no valsts budžeta programmas “Līdzekļi neparedzētiem gadījumiem”
F3: janvāris | G3: =G11+G17+G18+G19 -> 28097.78
F4: marts | G4: =G10+G12+G13+G14+G15+G20 -> 41952.22
A5: Informācija par finanšu līdzekļu izlietojumu
A6: Plānotais finansējums | D6: Informācija par finanšu līdzekļu izlietojumu
A7: Pozīcijas nosaukums | B7: Skaits | C7: Plānotā summa (ar PVN), EUR | D7: Pavadzīme | H7: Maksājuma uzdevums | J7: Komentārs par izpildes progresu
D8: Pavadzīmes Nr. | E8: Datums | F8: Piegādātājs | G8: Summa ( ar PVN) EUR | H8: Nr. | I8: Summa
A9: KOPĀ, t.sk. | B9: =SUM(B10:B19) -> 91 | C9: =SUM(C10:C19) -> 190100 | G9: =SUM(G10:G20) -> 70050 | I9: =SUM(I10:I19) -> 70050
A10: Mākslīgās plaušu ventilācijas iekārtas (neinvazīvas) | B10: 3 | C10: 52200
A11: Skābekļa centrālā pievada pārbūve | B11: 1 | C11: 30000 | D11: 6721924357 | E11: 44585 | F11: Linde Gas SIA | G11: 7176.88 | H11: 22-07358 | I11: 7176.88
D12: Nr.08-2022 | E12: 28.03.2022. | F12: IM projects SIA | G12: 1715.09 | H12: 22-08001 | I12: 1715.09
D13: 6721951982 | E13: 31.03.2022. | F13: Linde Gas SIA | G13: 11655.3 | H13: 22-08064 | I13: 11655.3
A14: Funkcionālās gultas | B14: 20 | C14: 40000 | D14: ELPA023716 | E14: 15.03.2022. | F14: NMS ELPA SIA | G14: =33880-5298.17 -> 28581.83 | H14: 22-08015 | I14: =G14 -> 28581.83
A15: Pretizgulējuma matrači | B15: 20 | C15: 20000
A16: Perfuzori | B16: 20 | C16: 24000 | D16: Akts | E16: 10.11.2021. | F16: LR VM | G16: 0 | H16: 0 | I16: 0 | J16: 10.11.2021. saņemts no Veselības ministrijas ārvalstu veselības ietvaros, no Francijas.
A17: Pārvietojamais vitālo funkciju kardiomonitors | B17: 5 | C17: 11500 | D17: TR 220017 | E17: 44580 | F17: TRADINTEK SIA | G17: 15699.75 | H17: 22-07374 | I17: 15699.75
A18: Infūzijas šķīduma uzsildāmais skapis | B18: 2 | C18: 2400 | D18: ELPA 023338 | E18: 44588 | F18: NMS ELPA SIA | G18: 4495.15 | H18: 22-07461 | I18: 4495.15
A19: Pulsa oksimetri | B19: 20 | C19: 10000 | D19: ELPA 023337 | E19: 44588 | F19: NMS ELPA SIA | G19: 726 | H19: 22-07462 | I19: 726
A20: Pacientu skapīši | B20: 20 | C20: 3400
A21: Pārvietojamais rentgena aparāts | B21: 1 | C21: 40000
A23: Avansā izmaksāts 2021.gadā | B23: 0
A24: Faktiski apgūts finansējums 2021. gadā | B24: 0
A25: Papildus nepieciešams finansējums 2022. gadā | B25: =G3+G4 -> 70050

Sheet Limb_899
J1: 1.16.pielikums
A2: Sabiedrība ar ierobežotu atbildību "Limbažu slimnīca" | J2: Par finanšu līdzekļu piešķiršanu no valsts budžeta programmas “Līdzekļi neparedzētiem gadījumiem”
F3: janvāris | G3: =G16+G17+G18+G22+G23 -> 8028.14
F4: februāris | G4: =G13+G14 -> 10672.2
F5: marts | G5: =G11+G12+G15 -> 5149.66
A6: Informācija par finanšu līdzekļu izlietojumu
A7: Plānotais finansējums | D7: Informācija par finanšu līdzekļu izlietojumu
A8: Pozīcijas nosaukums | B8: Skaits | C8: Plānotā summa (ar PVN), EUR | D8: Pavadzīme | H8: Maksājuma uzdevums | J8: Komentārs par izpildes progresu
D9: Pavadzīmes Nr. | E9: Datums | F9: Piegādātājs | G9: Summa ( ar PVN) EUR | H9: Nr. | I9: Summa
A10: KOPĀ, t.sk. | B10: =SUM(B11:B24) -> 146 | C10: =SUM(C11:C24) -> 79500 | G10: =SUM(G11:G24) -> 23850 | I10: =SUM(I11:I24) -> 18700.34
A11: Vitālo funkciju monitori | B11: 4 | C11: 12000
A12: Perfuzori | B12: 8 | C12: 8000 | D12: 222180TR | E12: 28.03.2022. | F12: Tradintek SIA | G12: =5614.4-464.74 -> 5149.66
A13: Skābekļa koncentratori | B13: 10 | C13: 8000 | D13: ARB200742 | E13: 22.02.2022. | F13: Arbor Medical korporācija SIA | G13: 7695.6 | H13: 686 | I13: 7695.6 | J13: iegādāti 10 gabali
A14: UV lampas gaisa attīrīšanai | B14: 6 | C14: 3600 | D14: ARB200702 | E14: 22.02.2022. | F14: Arbor Medical korporācija SIA | G14: 2976.6 | H14: 686 | I14: 2976.6 | J14: iegādātas 6 lampas
A15: Procedūru galdiņi | B15: 10 | C15: 3000
A16: Pārvietošanās palīgierīce (slīddēlis) | B16: 2 | C16: 400 | D16: ARB119173 | E16: 25.01.2020. | F16: Arbor Medical Korporācija SIA | G16: 1028.5 | H16: 282 | I16: 1028.5 | J16: iegādāti 2 gabali
A17: Podkrēsls | B17: 15 | C17: 3000 | D17: POC2022032 | E17: 17.01.2022. | F17: Protezēšanas un ortopēdijas centrs AS | G17: 1075.12 | H17: 281 | I17: 3508.79 | J17: pagaidām iegādāti vēl tikai 10 gabali (EUR 1075.12)
A18: Skābekļa plūsmas mērītājs ar mitrinātāja trauku | B18: 25 | C18: 2500 | D18: ELPA023235 | E18: 18.01.2022. | F18: NMS ELPA | G18: 3490.85 | H18: 325 | I18: 3490.85 | J18: iegādāti 25 gabali
A19: Infūzijas statīvi | B19: 25 | C19: 2500 | J19: sagatavota iepirkuma specifikācija, notiek sarunu procedūra ar piegādātāju
A20: Funkcionālie rati pacientu pārvietošanai | B20: 2 | C20: 4000 | J20: sagatavota iepirkuma specifikācija, notiek sarunu procedūra ar piegādātāju
A21: Sēdkrēsli pacientu pārvietošanai | B21: 4 | C21: 6000 | J21: sagatavota iepirkuma specifikācija, notiek sarunu procedūra ar piegādātāju
A22: Pretizgulējumu matrači | B22: 15 | C22: 4500 | D22: POC2022032 | E22: 17.01.2022. | F22: Protezēšanas un ortopēdijas centrs AS | G22: 860.67 | J22: iegādāti 15 gabali
A23: Aizslietņi | B23: 10 | C23: 2000 | D23: POC2022032 | E23: 17.01.2022. | F23: Protezēšanas un ortopēdijas centrs AS | G23: 1573 | J23: iegādāti 10 gabali
A24: Funkcionālās gultas ar matračiem | B24: 10 | C24: 20000 | J24: sagatavota iepirkuma specifikācija, notiek sarunu procedūra ar piegādātāju
A27: Avansā izmaksāts 2021.gadā | B27: 0
A28: Faktiski apgūts finansējums 2021. gadā | B28: 0
A29: Papildus nepieciešams finansējums 2022. gadā | B29: =G3+G4+G5 -> 23850

Sheet R.2.sl_899
J1: 1.17.pielikums
A2: SIA "Rīgas 2.slimnīca" | J2: Par finanšu līdzekļu piešķiršanu no valsts budžeta programmas “Līdzekļi neparedzētiem gadījumiem”
F3: februāris | G3: =G13 -> 11331.24
F4: marts | G4: =G11+G12 -> 79487.54
A5: Informācija par finanšu līdzekļu izlietojumu - PAPILDUS FINANSĒJUMS
A6: Plānotais finansējums | D6: Informācija par finanšu līdzekļu izlietojumu
A7: Pozīcijas nosaukums | B7: Skaits | C7: Plānotā summa (ar PVN), EUR | D7: Pavadzīme | H7: Maksājuma uzdevums | J7: Komentārs par izpildes progresu
D8: Pavadzīmes Nr. | E8: Datums | F8: Piegādātājs | G8: Summa ( ar PVN) EUR | H8: Nr. | I8: Summa
A9: KOPĀ, t.sk. | C9: =SUM(C10:C20) -> 302730.2 | G9: =SUM(G10:G20) -> 90818.78 | I9: =SUM(I10:I20) -> 90818.78
A10: 1. Skābekļa pieslēguma sistēmas izbūve
A11: 1.1. Skābekļa pieslēguma sistēmas izbūve, nodrošinot skābekļa pieslēgumu slimnīcas nodaļās | B11: 1 | C11: 166950 | D11: 198/2022 | E11: 44650 | F11: NMS ELPA, sia | G11: =112577.06-47221 -> 65356.06 | H11: 22-01061 | I11: =G11 -> 65356.06
A12: 1.2. Skābekļa tvertnes (3 tonnas ) noma | B12: 1 | C12: 45560 | D12: 091-22027 | E12: 44651 | F12: Elme Messer L, sia | G12: 14131.48 | H12: 22-01062 | I12: 14131.48
A13: 1.3. Slimnīcas palātu skābekļa sistēmas | B13: 150 | C13: 22800 | D13: 091-21954 | E13: 17.02.2022. | F13: Elme Messer | G13: 11331.24 | H13: 22-00638 | I13: 11331.24
A14: 2. Medicīnas iekārtas un aprīkojums
A15: 2.1. Neinvazīvais portatīvais ventilators | B15: 1 | C15: 6050
A16: 2.2. 3 veida maskas (M, L, XL), 2 no katra | B16: 6 | C16: 3630 | F16: EIS
A17: 2.3. Skābekļa ģenerators (koncentrators) | B17: 3 | C17: 3630
A18: 2.4. Skābekļa koncentrācijas detektors | B18: 5 | C18: 2540
A19: 3. IT infrastruktūras izveidošana
A20: 3.1. Pacientu attālināta monitoringa izveidošana 55 palātās ar monitoringa staciju(5 gab.) katras nodaļas māsu postenī | B20: 1 | C20: 51570.2
A23: Avansā izmaksāts 2021.gadā | B23: 0
A24: Faktiski apgūts finansējums 2021. gadā | B24: 0
A25: Papildus nepieciešams finansējums 2022. gadā | B25: =ROUNDUP(G3+G4,0) -> 90819

Sheet Sanare_899
J1: 1.18.pielikums
A2: SIA "Sanare - KRC Jaunķemeri" | J2: Par finanšu līdzekļu piešķiršanu no valsts budžeta programmas “Līdzekļi neparedzētiem gadījumiem”
F3: decembris | G3: =G11 -> 9207.25
F4: februāris | G4: =G14+G15+G16+G17+G18+G19+G20+G21+G22+G23+G24 -> 69291.86
F5: marts | G5: =(G12+G13) -> 23135.2
A6: Informācija par finanšu līdzekļu izlietojumu
A7: Plānotais finansējums | D7: Informācija par finanšu līdzekļu izlietojumu
A8: Pozīcijas nosaukums | B8: Skaits | C8: Plānotā summa (ar PVN), EUR | D8: Pavadzīme | H8: Maksājuma uzdevums | J8: Komentārs par izpildes progresu
D9: Pavadzīmes Nr. | E9: Datums | F9: Piegādātājs | G9: Summa ( ar PVN) EUR | H9: Nr. | I9: Summa
A10: KOPĀ, t.sk. | B10: =SUM(B11:B29) -> 113 | C10: =SUM(C11:C29) -> 247203 | G10: =SUM(G11:G29) -> 101634.31 | I10: =SUM(I11:I29) -> 61675.27
A11: Skābekļa koncentrators EverFlo | B11: 20 | C11: 24200 | D11: ARB 118235 | E11: 44558 | F11: Arbor Medical Korporācija SIA | G11: 9207.25 | H11: 338 | I11: 11.25 | J11: Segti no 2021. gada avansa finansējuma
A12: Defibrilators Hartsine AED 360P | B12: 2 | C12: 14520 | D12: ABTK 220959 | E12: 44651 | F12: Amerikas Baltijas Tehnoloģiju Korporācija SIA | G12: 7018 | H12: 965 | I12: 3509 | J12: Piegādāts, 50% tika segti no 2021. gada avansa finansējuma
A13: Funkcionālais galds Malvestio | B13: 36 | C13: 21780 | D13: ABTK 220614 | E13: 44621 | F13: Amerikas Baltijas Tehnoloģiju Korporācija SIA | G13: 16117.2 | H13: 951 | I13: 8058.6 | J13: Piegādāts, 50% tika segti no 2021. gada avansa finansējuma
A14: Gulta, pacientu Arjo | B14: 16 | C14: 38720 | D14: ABTK 220452 | E14: 44606 | F14: Amerikas Baltijas Tehnoloģiju Korporācija SIA | G14: 38390.88 | H14: 951 | I14: 19195.44 | J14: Piegādāts, 50% tika segti no 2021. gada avansa finansējuma
A15: Infūzijas statīvi | B15: 15 | C15: 2541 | D15: IT 003085 | E15: 44600 | F15: Industriālās tehnoloģijas SIA | G15: 1778.7 | I15: 1778.7 | J15: Piegādāts, 50% tika segti no 2021. gada avansa finansējuma
A16: Vakuuma sūknis | B16: 1 | C16: 2178 | D16: IT 003085 | E16: 44600 | F16: Industriālās tehnoloģijas SIA | G16: 1573 | I16: 1573 | J16: Piegādāts, 50% tika segti no 2021. gada avansa finansējuma
A17: Pacientu vitālo funkciju monitors P 16 GIMA BM3 PRO | B17: 2 | C17: 5324 | D17: IT 003085 | E17: 44600 | F17: Industriālās tehnoloģijas SIA | G17: 5082 | I17: 5082 | J17: Piegādāts, 50% tika segti no 2021. gada avansa finansējuma
A18: Pacientu vitālo funkciju monitors P 16 GIMA VITAL PRO | B18: 5 | C18: 13310 | D18: IT 003085 | E18: 44600 | F18: Industriālās tehnoloģijas SIA | G18: 7260 | I18: 7260 | J18: Piegādāts, 50% tika segti no 2021. gada avansa finansējuma
A19: Perfuzors 35205 | B19: 4 | C19: 5082 | D19: IT 003085 | E19: 44600 | F19: Industriālās tehnoloģijas SIA | G19: 4777.08 | I19: 4777.08 | J19: Piegādāts, 50% tika segti no 2021. gada avansa finansējuma
A20: Guļrati ar regulējamu augstumu un matraci | B20: 2 | C20: 4356 | D20: IT 003085 | E20: 44600 | F20: Industriālās tehnoloģijas SIA | G20: 4356 | I20: 4356 | J20: Piegādāts, 50% tika segti no 2021. gada avansa finansējuma
A21: Podkrēsli 43191 | B21: 3 | C21: 726 | D21: IT 003085 | E21: 44600 | F21: Industriālās tehnoloģijas SIA | G21: 617.1 | I21: 617.1 | J21: Piegādāts, 50% tika segti no 2021. gada avansa finansējuma
A22: Podkrēsli 27703 | B22: 3 | C22: 726 | D22: IT 003085 | E22: 44600 | F22: Industriālās tehnoloģijas SIA | G22: 718.74 | I22: 718.74 | J22: Piegādāts, 50% tika segti no 2021. gada avansa finansējuma
A23: Podkrēsli 43201 | B23: 2 | C23: 484 | D23: IT 003085 | E23: 44600 | F23: Industriālās tehnoloģijas SIA | G23: 479.16 | I23: 479.16 | J23: Piegādāts, 50% tika segti no 2021. gada avansa finansējuma
A24: Portatīvais EKG aparāts ar piederumiem | B24: 1 | C24: 4356 | D24: IT 003085 | E24: 44600 | F24: Industriālās tehnoloģijas SIA | G24: 4259.2 | I24: 4259.2 | J24: Piegādāts, 50% tika segti no 2021. gada avansa finansējuma
A25: Portatīvais RTG aparāts | B25: 1 | C25: 108900 | J25: Nepirks
A33: Avansā izmaksāts 2021.gadā | B33: 55420.78
A34: Faktiski apgūts finansējums 2021. gadā | B34: 55420.78
A35: Papildus nepieciešamais finansējums 2022. gadam | B35: =ROUNDUP(G3+G4+G5-B34,0) -> 46214

Sheet Jelg_899
J1: 1.19.pielikums
A2: SIA " Jelgavas pilsētas slimnīca" | J2: Par finanšu līdzekļu piešķiršanu no valsts budžeta programmas “Līdzekļi neparedzētiem gadījumiem”
F3: oktobris | G3: =G13 -> 4747.43
F4: decembris | G4: =G12+G14+G15+G16 -> 105394.71
F5: marts | G5: =G11 -> 12402.5
A6: Informācija par finanšu līdzekļu izlietojumu
A7: Plānotais finansējums | D7: Informācija par finanšu līdzekļu izlietojumu
A8: Pozīcijas nosaukums | B8: Skaits | C8: Plānotā summa (ar PVN), EUR | D8: Pavadzīme | H8: Maksājuma uzdevums | J8: Komentārs par izpildes progresu
D9: Pavadzīmes Nr. | E9: Datums | F9: Piegādātājs | G9: Summa ( ar PVN) EUR | H9: Nr. | I9: Summa
A10: KOPĀ, t.sk. | B10: =SUM(B12:B16) -> 18 | C10: =SUM(C11:C16) -> 138446 | G10: =SUM(G12:G16) -> 110142.14 | I10: =SUM(I12:I16) -> 110044.14
A11: Pacientu skapīši (COVID nodaļa) | B11: 25 | C11: 19663 | D11: 202069 | E11: 14.03.2022. | F11: SIA " Arbor Medical Korporācija" | G11: 12402.5 | H11: 698 | I11: 12402.5 | J11: Līgums Nr. 1-22/13/2022. 17.01.2022. SIA " Arbor Medical Korporācija" Piegādāti
A12: Ventilācijas sistēmu darbības efektivitātes pārbaude, regulēšana un to pasu izstrāde | B12: 1 | C12: 5009 | D12: 245/12-2021 | E12: 13.12.2021. | F12: SIA " Rimelss" | G12: 5009.4 | H12: 2593 | I12: 5009.4 | J12: Segti no 2021. gada avansa finansējuma
A13: Ventilācijas AHU webserver pieslēgšana | B13: 1 | C13: 9495 | D13: 07/1021 | E13: 19.10.2021. | F13: SIA " Baltservice" | G13: 4747.43 | H13: 2354 | I13: 4747.43 | J13: Segti no 2021. gada avansa finansējuma
A14: HEPA filtru nomaiņa (35 gb.) | B14: 1 | C14: 4817 | D14: 243/12-2021 | E14: 13.12.2021. | F14: SIA " Rimelss" | G14: 4817.09 | H14: 2593 | I14: 4719.09 | J14: Segti no 2021. gada avansa finansējuma
A15: Augstas veiktspējas gaisa attīrīšanas iekārta | B15: 8 | C15: 77440 | D15: 21385 | E15: 14.12.2021. | F15: SIA " J.I.M." | G15: 73122.72 | H15: 2585 | I15: 73122.72 | J15: Segti no 2021. gada avansa finansējuma
A16: Augstas plūsmas skābekļa terapijas iekārta | B16: 7 | C16: 22022 | D16: 23057 | E16: 23.12.2021. | F16: SIA " NMS Elpa" | G16: 22445.5 | H16: 2717 | I16: 22445.5 | J16: Segti no 2021. gada avansa finansējuma
A19: Avansā izmaksāts 2021.gadā | B19: =G3+G4 -> 110142.14
A20: Faktiski apgūts finansējums 2021. gadā | B20: =G3+G4 -> 110142.14
A21: Papildus nepieciešams finansējums 2022. gadā | B21: =ROUNDUP(G5,0) -> 12403

Sheet Tukums_899
J1: 1.20.pielikums
A2: SIA ,,Tukuma slimnīca " | J2: Par finanšu līdzekļu piešķiršanu no valsts budžeta programmas “Līdzekļi neparedzētiem gadījumiem”
F3: decembris | G3: =G11+G12+G13 -> 17837.95
F4: marts | G4: =G15+G18 -> 47964.4
F5: aprīlis | G5: =G23 -> 8107
A6: Informācija par finanšu līdzekļu izlietojumu
A7: Plānotais finansējums | D7: Informācija par finanšu līdzekļu izlietojumu
A8: Pozīcijas nosaukums | B8: Skaits | C8: Plānotā summa (ar PVN), EUR | D8: Pavadzīme | H8: Maksājuma uzdevums | J8: Komentārs par izpildes progresu
D9: Pavadzīmes Nr. | E9: Datums | F9: Piegādātājs | G9: Summa ( ar PVN) EUR | H9: Nr. | I9: Summa
A10: KOPĀ, t.sk. | B10: =SUM(B11:B22) -> 39 | C10: =SUM(C11:C22) -> 436106 | G10: =SUM(G11:G22) -> 71682.95 | I10: =SUM(I11:I22) -> 71682.95
A11: 6 skābekļa ligzdu renovācija un to izvietojuma maiņa | B11: 1 | C11: 2200 | D11: 920/2021 | E11: 13.12.2021. | F11: NMS Elpa SIA | G11: 2168.45 | H11: 2793 | I11: 2168.45 | J11: Darbi ir pabeigti
A12: Papildus nepieciešamo vitālo funkciju monitoru skaits | B12: 16 | C12: 42592
D13: GRAINALV223 | E13: 08.12.2021. | F13: UAB Graina Latvia- filiāle | G13: 15669.5 | H13: 2801 | I13: 15669.5 | J13: Iegādāti 4 monitori un 1 darba stacija
D14: KJS 212054 | E14: 29.12.2021. | F14: SIA KJ Serviss | G14: 5880.6 | H14: 101 | I14: 5880.6 | J14: Iegādāti 4 monitori un 1 darba stacija
D15: Priekšapmaksas rēķins Nr. GRLV2022/021 | E15: 02.03.2022. | F15: UAB Graina Latvia- filiāle | G15: 26450.6 | H15: VM443 | I15: 26450.6 | J15: 02.03.2022. noslēgts līgums, iekārtu piegāde līdz 04.04.2022. Plānots iegādāties 8 monitorus un 1 darba staciju. Priekšapmaksa 20% no līguma summas atbilstoši līguma nosacījumiem. (kopējā līguma summa - 132 253 EUR).
A16: Papildus nepieciešamo vitālo funkciju monitoru staciju skaits | B16: 3 | C16: 29040 | J16: 02.03.2022. noslēgts līgums, iekārtu piegāde līdz 04.04.2022
A17: Mākslīgās plaušu ventilācijas iekārtas | B17: 2 | C17: 62920 | F17: UAB Graina Latvia- filiāle | J17: 02.03.2022. noslēgts līgums, iekārtu piegāde līdz 04.04.2022
A18: Pārvietojamais rentgens | B18: 2 | C18: 217800 | D18: Priekšapmaksas rēķins Nr. PIEP8604 | E18: 44622 | F18: SIA ,,A.Medical" | G18: 21513.8 | H18: 446 | I18: 21513.8 | J18: Samazināts skaits no 2.gab., plānots iegādāties 1 gab, 02.03.2022. noslēgts līgums, plānotā iekārtu piegāde līdz 04.04.2022. Priekšapmaksa 20 % no līguma summas atbilstoši līguma nosacījumiem (kopējā līguma summa - 107 569 EUR).
A19: Portatīvs ultrasonogrāfs | B19: 1 | C19: 54450 | F19: UAB Graina Latvia- filiāle | J19: 16.02.2022. noslēdzas iepirkums, plānotā iekārtu piegāde 01.04.2022.
A20: Inhalators | B20: 10 | C20: 14520 | F20: SIA ,,Arbor medical korporācija" | J20: Samazināts skaits no 10.gab., plānots iegādāties 5.gab. 16.02.2022. noslēdzas iepirkums, iekārtu piegāde 01.04.2022.
A21: Vakuumsūknis | B21: 3 | C21: 6534 | F21: SIA ,,NMS Elpa" | J21: 02.03.2022. noslēgts līgums, iekārtu piegāde līdz 04.04.2022
A22: Slimnieku pacelšanas ierīce (līdz 250 kg) | B22: 1 | C22: 6050 | F22: SAS ,,Slaugvita" | J22: 02.03.2022. noslēgts līgums, iekārtu piegāde līdz 04.04.2022.
A23: Elektrokardiogrāfs | B23: 2 | C23: 8712 | D23: ARB 202044 | E23: 44652 | F23: SIA ,,Arbor medical korporācija" | G23: 8107 | J23: 02.03.2022. noslēgts līgums, iekārtas piegādātas 01.04.2022.
A25: Avansā izmaksāts 2021.gadā | B25: =G3 -> 17837.95
A26: Faktiski apgūts finansējums 2021. gadā | B26: =G3 -> 17837.95
A27: Papildus nepieciešams finansējums 2022. gadā | B27: =ROUNDUP(G4+G5,0) -> 56072

Sheet Saldus_904
J1: 1.21.pielikums
A2: SIA "Saldus medicīnas centrs" | J2: Par finanšu līdzekļu piešķiršanu no valsts budžeta programmas “Līdzekļi neparedzētiem gadījumiem”
F3: oktobris | G3: =G12+G13 -> 615.39
F4: aprīlis | G4: =G14 -> 10617.75
A5: Informācija par finanšu līdzekļu izlietojumu
A6: Plānotais finansējums | D6: Informācija par finanšu līdzekļu izlietojumu
A7: Pozīcijas nosaukums | B7: Skaits | C7: Plānotā summa (ar PVN), EUR | D7: Pavadzīme | H7: Maksājuma uzdevums | J7: Komentārs par izpildes progresu
D8: Pavadzīmes Nr. | E8: Datums | F8: Piegādātājs | G8: Summa ( ar PVN) EUR | H8: Nr. | I8: Summa
A9: KOPĀ, t.sk. | B9: =SUM(B10:B14) -> 19 | C9: =SUM(C10:C14) -> 12469.7 | G9: =SUM(G10:G14) -> 11233.14 | I9: =SUM(I10:I14) -> 11233.14
A10: Vitālo funkciju monitorēšanai | B10: 3 | C10: 635.1 | J10: Monitori nav nepieciešami, jo saņemti kā humānā palīdzība
A11: Pulsoksimetrs | B11: 10 | C11: 258.7
A12: Papildus 6 skābekļa padeves ligzdu ierīkošana | B12: 1 | C12: 988.4 | D12: 092-27991 | E12: 44488 | F12: SIA Elme Messer L | G12: 533.61 | H12: FT213195NZ67 | I12: 533.61 | J12: Segti no 2021. gada avansa finansējuma
D13: DRS210885 | E13: 44498 | F13: SIA Drussa | G13: 81.78 | H13: FT213143CXPB | I13: 81.78 | J13: Segti no 2021. gada avansa finansējuma
A14: Funkcionālās gultas | B14: 5 | C14: 10587.5 | D14: PRGM327307 | E14: 44652 | F14: SIA Medilink | G14: 10617.75 | H14: FT22091BWR9Y | I14: 10617.75
A17: Avansā izmaksāts 2021.gadā | B17: =G3 -> 615.39
A18: Faktiski apgūts finansējums 2021. gadā | B18: =G3 -> 615.39
A19: Papildus nepieciešams finansējums 2022. gadā | B19: =ROUNDUP(G4,0) -> 10618

Sheet Ludza_904
J1: 1.22.pielikums
A2: SIA "Ludzas medicīnas centrs" | J2: Par finanšu līdzekļu piešķiršanu no valsts budžeta programmas “Līdzekļi neparedzētiem gadījumiem”
F3: decembris | G3: =G12+G13+G14+G15+G18+G21+G23+G24+G26 -> 59608.64
F4: janvāris | G4: =G11+G16+G17+G19 -> 48751.51
F5: februāris | G5: =G22 -> 2359.5
A6: Informācija par finanšu līdzekļu izlietojumu
A7: Plānotais finansējums | D7: Informācija par finanšu līdzekļu izlietojumu
A8: Pozīcijas nosaukums | B8: Skaits | C8: Plānotā summa (ar PVN), EUR | D8: Pavadzīme | H8: Maksājuma uzdevums | J8: Komentārs par izpildes progresu
D9: Pavadzīmes Nr. | E9: Datums | F9: Piegādātājs | G9: Summa ( ar PVN) EUR | H9: Nr. | I9: Summa
A10: KOPĀ, t.sk. | B10: =SUM(B11:B26) -> 135 | C10: =SUM(C11:C26) -> 125120 | G10: =SUM(G11:G26) -> 112498.35 | I10: =SUM(I11:I26) -> 112498.35
A11: Dubultais skābekļa plūsmas regulators (15l/min) | B11: 30 | C11: 4200 | D11: 092-28882 | E11: 44567 | F11: SIA "ELME MESSER L" | G11: 2945.75 | H11: 35 | I11: 2945.75
A12: Augstas plūsmas skābekļa regulators (25l/min) | B12: 6 | C12: 570 | D12: 092-28482 | E12: 44543 | F12: SIA "ELME MESSER L" | G12: 568.09 | H12: 4321 | I12: 568.09 | J12: Segti no 2021. gada avansa finansējuma
A13: Pacientu vitāli svarīgo funkciju novērošanas monitors | B13: 6 | C13: 19770 | D13: TR212084 | E13: 44545 | F13: SIA "Tradintek" | G13: 18505.74 | H13: 4316 | I13: 18505.74 | J13: Segti no 2021. gada avansa finansējuma
A14: Portatīva MVP iekārta ar neinvazīvo ventilācijas funkciju | B14: 2 | C14: 28200 | D14: ARB117857 | E14: 44547 | F14: SIA "Arbor Medical Korporācija" | G14: 28193 | H14: 4319 | I14: 28193 | J14: Segti no 2021. gada avansa finansējuma
A15: Medikamentu galdiņš | B15: 10 | C15: 2150 | D15: ARB117859 | E15: 44547 | F15: SIA "Arbor Medical Korporācija" | G15: 2178 | H15: 4317 | I15: 2178 | J15: Segti no 2021. gada avansa finansējuma
A16: Aizslietnis 2 daļīgs | B16: 8 | C16: 2000 | D16: ARB118484 | E16: 44566 | F16: SIA "Arbor Medical Korporācija" | G16: 1926.32 | H16: 50 | I16: 1926.32
A17: Aizslietnis 1 daļīgs | B17: 4 | C17: 600 | D17: ARB118484 | E17: 44566 | F17: SIA "Arbor Medical Korporācija" | G17: 580.8 | H17: 50 | I17: 580.8
A18: Pulsa oksimetrs ar iznesamo sensoru | B18: 5 | C18: 2800 | D18: ARB117855 | E18: 44547 | F18: SIA "Arbor Medical Korporācija" | G18: 1996.5 | H18: 4318 | I18: 1996.5 | J18: Segti no 2021. gada avansa finansējuma
A19: Gultas | B19: 12 | C19: 45600 | D19: TR220004 | E19: 44571 | F19: SIA "Tradintek" | G19: 43298.64 | H19: 20 | I19: 43298.64
A20: Statīvi | B20: 30 | C20: 3600 | D20: KJS220181 | E20: 44600 | F20: SIA "KJ Serviss" | G20: 1778.7 | H20: 48 | I20: 1778.7
A21: Baktericīdā mašīna | B21: 1 | C21: 5145 | D21: AMR-00753 | E21: 44539 | F21: SIA"AMRID" | G21: 5142.5 | H21: 4320 | I21: 5142.5 | J21: Segti no 2021. gada avansa finansējuma
A22: Transportēšanas rati | B22: 1 | C22: 2600 | D22: KJS220180 | E22: 44600 | F22: SIA "KJ Serviss" | G22: 2359.5 | H22: 49 | I22: 2359.5
A23: Vakumsūkņi | B23: 3 | C23: 885 | D23: LMC/271221 | E23: 44557 | F23: SIA "MedAmber" | G23: 722.37 | H23: 4325 | I23: 722.37 | J23: Segti no 2021. gada avansa finansējuma
A24: Baktericīdās lampas | B24: 3 | C24: 3600 | D24: MDQ-000055056 | E24: 44558 | F24: SIA "Mediq Latvija" | G24: 1270.5 | H24: 4326 | I24: 1270.5 | J24: Segti no 2021. gada avansa finansējuma
A25: O2 kocentratori | B25: 2 | C25: 2200 | J25: Iepirkuma daļa pārtraukta
A26: Miskastes turētāji | B26: 12 | C26: 1200 | D26: SEL21016374 | E26: 44536 | F26: SIA "Selding" | G26: 1031.94 | H26: 7848 | I26: 1031.94 | J26: Segti no 2021. gada avansa finansējuma
A28: Avansā izmaksāts 2021.gadā | B28: =G3 -> 59608.64
A29: Faktiski apgūts finansējums 2021. gadā | B29: =G3 -> 59608.64
A30: Papildus nepieciešams finansējums 2022. gadā | B30: =ROUNDUP(B28-B29,0) -> 0

Sheet Jūras MC_904
J1: 1.23.pielikums
A2: Latvijas Jūras Medicīnas centrs AS | J2: Par finanšu līdzekļu piešķiršanu no valsts budžeta programmas “Līdzekļi neparedzētiem gadījumiem”
F3: oktobris | G3: =G16 -> 1103.52
F4: novembris | G4: =G17+G18+G19 -> 5503.36
F5: decembris | G5: =G13+G14+G15+G21 -> 37195.4
F6: janvāris | G6: =G20+G22 -> 5973.26
A8: Informācija par finanšu līdzekļu izlietojumu
A9: Plānotais finansējums | D9: Informācija par finanšu līdzekļu izlietojumu
A10: Pozīcijas nosaukums | B10: Skaits | C10: Plānotā summa (ar PVN), EUR | D10: Pavadzīme | H10: Maksājuma uzdevums | J10: Komentārs par izpildes progresu
D11: Pavadzīmes Nr. | E11: Datums | F11: Piegādātājs | G11: Summa ( ar PVN) EUR | H11: Nr. | I11: Summa
A12: KOPĀ, t.sk. | B12: =SUM(B13:B22) -> 21 | C12: =SUM(C13:C22) -> 49775.54 | G12: =SUM(G13:G22) -> 49775.54 | I12: =SUM(I13:I22) -> 49775.54
A13: Pacientu vitālo funkciju monitors | B13: 4 | C13: 8712 | D13: ARB118461 | E13: 30.12.2021. | F13: Arbor Medical Korporācija SIA | G13: =8712 -> 8712 | H13: 40 | I13: 8712 | J13: Izpildīts
A14: Pulsa oksimetri ar neinvazīvo asisspiediena mērīšanu | B14: 8 | C14: 6582.4 | D14: ARB118464 | E14: 30.12.2021. | F14: Arbor Medical Korporācija SIA | G14: 6582.4 | H14: 40 | I14: 6582.4 | J14: Izpildīts
A15: Perfuzori | B15: 6 | C15: 5445 | D15: ARB118466 | E15: 30.12.2021. | F15: Arbor Medical Korporācija SIA | G15: 5445 | H15: 65 | I15: 5445 | J15: Izpildīts
A16: Skābekļa sistēmas izveide papildus 24. gultām. | B16: 1 | C16: 11370.14 | D16: 6721884410 | E16: 27.10.2021. | F16: Linde Gas SIA | G16: 1103.52 | H16: 1199 | I16: 1103.52 | J16: Izpildīts
D17: ARB116484 | E17: 08.11.2021. | F17: Arbor Medical Korporācija SIA | G17: 471.9 | H17: 65 | I17: 471.9 | J17: Izpildīts
D18: 6721894877 | E18: 08.11.2021. | F18: Linde Gas SIA | G18: 1242.36 | H18: 1437 | I18: 1242.36 | J18: Izpildīts
D19: 6721895049 | E19: 09.11.2021. | F19: Linde Gas SIA | G19: 3789.1 | H19: 1437 | I19: 3789.1 | J19: Izpildīts
D20: 6721924453 | E20: 24.01.2022. | F20: Linde Gas SIA | G20: 4763.26 | H20: 101 | I20: 4763.26 | J20: Izpildīts
A21: Neinvazīvais ventilators ar CO2 funkciju | B21: 1 | C21: 16456 | D21: ARB118530 | E21: 30.12.2021. | F21: Arbor Medical Korporācija SIA | G21: 16456 | H21: 40 | I21: 16456 | J21: Izpildīts
A22: Laringoskopa komplekts COVD 19 pacientiem | B22: 1 | C22: 1210 | D22: ARB 119015 | E22: 19.01.2022. | F22: Arbor Medical Korporācija SIA | G22: 1210 | H22: 102 | I22: 1210 | J22: Izpildīts
A25: Avansā izmaksāts 2021.gadā | B25: 32110
A26: Faktiski apgūts finansējums 2021. gadā | B26: 32110
A27: Papildus nepieciešams finansējums 2022. gadā | B27: 17666

Sheet Aizkraukle_904
J1: 1.24.pielikums
A2: SIA "Aizkraukles slimnīca | J2: Par finanšu līdzekļu piešķiršanu no valsts budžeta programmas “Līdzekļi neparedzētiem gadījumiem”
F3: janvāris | G3: =G11 -> 3690.5
A4: Informācija par finanšu līdzekļu izlietojumu
A5: Plānotais finansējums | D5: Informācija par finanšu līdzekļu izlietojumu
A6: Pozīcijas nosaukums | B6: Skaits | C6: Plānotā summa (ar PVN), EUR | D6: Pavadzīme | H6: Maksājuma uzdevums | J6: Komentārs par izpildes progresu
D7: Pavadzīmes Nr. | E7: Datums | F7: Piegādātājs | G7: Summa ( ar PVN) EUR | H7: Nr. | I7: Summa
A8: KOPĀ, t.sk. | B8: =SUM(B9:B11) -> 23 | C8: =SUM(C9:C11) -> 40325 | G8: =SUM(G9:G11) -> 3690.5 | I8: =SUM(I9:I11) -> 3690.5
A9: Funkcionālās gultas | B9: 11 | C9: 33275 | J9: Izsludināts iepirkums 31.01.2022.
A10: Dezinficējams skapītis pie gultas | B10: 11 | C10: 3355 | J10: Izsludināts iepirkums 31.01.2022.
A11: Vitālo funkciju novērošanas monitors | B11: 1 | C11: 3695 | D11: ELPA 023196 | E11: 11.01.2022. | F11: NMS ELPA SIA | G11: 3690.5 | H11: 22-29440 | I11: 3690.5 | J11: 09.11.2021. līgums ar NMS ELPA SIA. Piegādāts 1 gab. 11.01.2022.
A13: Avansā izmaksāts 2021.gadā | B13: 0
A14: Papildus nepieciešams finansējums 2022. gadam | B14: =ROUNDUP(G3,0) -> 3691
