Workbook
Name _1_2_d_NMP_lim: #REF!
Name aa: #REF!
Name b: #REF!
Name bt: #REF!
Name BX: #REF!
Name CalendarYear: #REF!
Name ccc: #REF!
Name d: #REF!
Name D_Evija3: #REF!
Name DaysAndWeeks: {0,1,2,3,4,5,6} + {0;1;2;3;4;5}*7
Name de: #REF!
Name dff: #NAME?
Name DRGNAMES: #REF!
Name dzfh: #REF!
Name e: #REF!
Name ee: #REF!
Name Excel_BuiltIn__FilterDatabase_2: #REF!
Name Excel_BuiltIn__FilterDatabase_3: #REF!
Name Excel_BuiltIn_Print_Titles_2: #REF!
Name Excel_BuiltIn_Print_Titles_3: #REF!
Name gad_skaits: #REF!
Name gad_skaits_1: #REF!
Name gala: {0,1,2,3,4,5,6} + {0;1;2;3;4;5}*7
Name Gala_kopsavilkums: #REF!
Name gggg: #REF!
Name ghy: #REF!
Name h: #REF!
Name hh: #REF!
Name hjh: #REF!
Name hyh: #REF!
Name i: #REF!
Name izm.kods: #REF!
Name izm.kods_1: [2]izm.posteni!$A$2:$A$216
Name izm.nos: #REF!
Name izm.nos_1: [2]izm.posteni!$B$2:$B$216
Name jhg: #REF!
Name kk: #REF!
Name l: #REF!
Name Limeni_7_9group: #REF!
Name n: #REF!
Name P_Dati_rikojums: #REF!
Name pp: #REF!
Name Recover: [3]Macro1!$A$99
Name Rikojums2222: [4]Macro1!$A$106
Name rr: #REF!
Name rt: #REF!
Name rty: #REF!
Name S5\: #REF!
Name ss: #REF!
Name Str.: #REF!
Name Str.vien.nos.: #REF!
Name Struktura: #REF!
Name Struktūrvien.kodi2: #REF!
Name Struktūrvien.kodi2_1: [2]strukturkodi!$B$2:$B$232
Name Struktūrvien.kods: #REF!
Name Struktūrvien.kods_1: [2]strukturkodi!$A$2:$A$232
Name T13l6: [5]ATSKAITE_2v!#REF!
Name TableName: "Dummy"
Name TWO_LINKS: '[6]8.1.'!$C$5
Name ty: #REF!

Sheet Kopsavilkums
D1: Pielikums Nr.1 Ministru kabineta rīkojuma "Ministru kabineta rīkojuma "Par finanšu līdzekļu apropriācijas pārdali no budžeta resora ''74. Gadskārtējā valsts budžeta izpildes procesā pārdalāmais finansējums'' valsts budžeta programmas 12.00.00 ''Finansējums veselības jomas pasākumiem Covid-19 infekcijas izplatības ierobežošanai"" projekta sākotnējās ietekmes novērtējuma ziņojumam (anotācijai)
B2: APRĪLIS | C2: Euro | D2: EKK 3000 | E2: Apakšprogrammu sadalījums | F2: MK noteikumu Nr.555 punkts
B3: Izmaksas par Covid 19 izmeklējumiem | C3: =C4+C5+C6 -> 84524 | D3: =C3 -> 84524
B4: Piemaksa par Covid-19 diagnostiku stacionāros | C4: =D4 -> 57041 | D4: =ātrie_testi_stac_daļa!M48 -> 57041 | E4: 33.18.00 | F4: MK not.Nr.555 274 punkts
B5: Covid-19 diagnostikas manipulācijas (ātrie testi, ambulatorā daļa) | C5: =ātrie_testi_amb_daļa!H14 -> 1844 | D5: =C5 -> 1844 | E5: 33.16.00 | F5: MK not.Nr.555 274 punkts
B6: Covid-19 pakalpojumu programma laboratorijām | C6: =SUM(C7:C9) -> 25639 | D6: =C6 -> 25639
B7: Rīgas Austrumu klīniskā universitātes slimnīca, SIA | C7: =Covid_pakalp_progr!H9 -> 17445 | D7: =C7 -> 17445 | E7: 33.16.00 | F7: MK not.Nr.555 274 punkts
B8: Paula Stradiņa klīniskā universitātes slimnīca, VSIA | C8: =Covid_pakalp_progr!H18 -> 4180 | D8: =C8 -> 4180 | E8: 33.16.00 | F8: MK not.Nr.555 274 punkts
B9: Daugavpils reģionālā slimnīca, SIA | C9: =Covid_pakalp_progr!H23 -> 4014 | D9: =C9 -> 4014 | E9: 33.16.00 | F9: MK not.Nr.555 274 punkts

Sheet ātrie_testi_stac_daļa
I1: Turpinājums pielikumam Nr.1 Ministru kabineta rīkojuma "Ministru kabineta rīkojuma "Par finanšu līdzekļu apropriācijas pārdali no budžeta resora ''74. Gadskārtējā valsts budžeta izpildes procesā pārdalāmais finansējums'' valsts budžeta programmas 12.00.00 ''Finansējums veselības jomas pasākumiem Covid-19 infekcijas izplatības ierobežošanai"" projekta sākotnējās ietekmes novērtējuma ziņojumam (anotācijai)
A2: Covid-19 diagnostika stacionāros par 2024. gada aprīli
A3: Ārstniecības iestādes nosaukums | B3: Manipulācijas kods | C3: Manupulācijas nosaukums | D3: Tarifs, euro | E3: Jūnijs, 2023 | F3: Novembris, 2023 | G3: Decembris, 2023 | H3: Janvāris, 2024 | I3: Februāris, 2024 | J3: Marts, 2024 | K3: Aprīlis, 2024 | L3: Kopā, manipulāciju skaits | M3: Kopsumma, euro
A4: Rīgas Austrumu klīniskā universitātes slimnīca, SIA | B4: 47078 | C4: SARS-CoV-2 RNS (COVID-19) noteikšana ar reālā laika PĶR (bez parauga paņemšanas) ātrai diagnostikai un diferenciāldiagnostikai (ar reaģenta vērtību) | D4: 45.09 | I4: 1 | J4: 9 | K4: 10 | L4: =SUM(E4:K4) -> 20 | M4: =L4*D4 -> 901.8
A5: Rīgas Austrumu klīniskā universitātes slimnīca, SIA | B5: 47328 | C5: SARS-CoV-2 (COVID-19) antigēna noteikšana (Ag eksprestests) (bez reaģenta komplekta vērtības) | D5: 4.05 | E5: 1 | F5: 2 | G5: 3 | L5: =SUM(E5:K5) -> 6 | M5: =L5*D5 -> 24.3
A6: Rīgas Austrumu klīniskā universitātes slimnīca, SIA | B6: 47328 | C6: SARS-CoV-2 (COVID-19) antigēna noteikšana (Ag eksprestests) (bez reaģenta komplekta vērtības) | D6: 4.45 | I6: 3 | J6: 44 | K6: 52 | L6: =SUM(E6:K6) -> 99 | M6: =L6*D6 -> 440.55
A7: Paula Stradiņa klīniskā universitātes slimnīca, Valsts sabiedrība ar ierobežotu atbildību | B7: 47073 | C7: SARS-CoV-2 RNS (COVID-19) noteikšana ar reālā laika PĶR (bez parauga paņemšanas) | D7: 24.16 | H7: 4 | I7: 10 | J7: 38 | K7: 48 | L7: =SUM(E7:K7) -> 100 | M7: =L7*D7 -> 2416
A8: Paula Stradiņa klīniskā universitātes slimnīca, Valsts sabiedrība ar ierobežotu atbildību | B8: 47078 | C8: SARS-CoV-2 RNS (COVID-19) noteikšana ar reālā laika PĶR (bez parauga paņemšanas) ātrai diagnostikai un diferenciāldiagnostikai (ar reaģenta vērtību) | D8: 44.58 | G8: 1 | L8: =SUM(E8:K8) -> 1 | M8: =L8*D8 -> 44.58
A9: Paula Stradiņa klīniskā universitātes slimnīca, Valsts sabiedrība ar ierobežotu atbildību | B9: 47078 | C9: SARS-CoV-2 RNS (COVID-19) noteikšana ar reālā laika PĶR (bez parauga paņemšanas) ātrai diagnostikai un diferenciāldiagnostikai (ar reaģenta vērtību) | D9: 45.09 | H9: 2 | I9: 6 | J9: 114 | K9: 215 | L9: =SUM(E9:K9) -> 337 | M9: =L9*D9 -> 15195.33
A10: Paula Stradiņa klīniskā universitātes slimnīca, Valsts sabiedrība ar ierobežotu atbildību | B10: 47328 | C10: SARS-CoV-2 (COVID-19) antigēna noteikšana (Ag eksprestests) (bez reaģenta komplekta vērtības) | D10: 4.45 | H10: 3 | I10: 9 | J10: 142 | K10: 130 | L10: =SUM(E10:K10) -> 284 | M10: =L10*D10 -> 1263.8
A11: Paula Stradiņa klīniskā universitātes slimnīca, Valsts sabiedrība ar ierobežotu atbildību | B11: 60046 | C11: Sars-CoV-2 (COVID-19) transporta barotne ar diviem lokaniem tamponiem ātrajam molekulārajam testam | D11: 0.8 | G11: 1 | H11: 2 | I11: 6 | J11: 115 | K11: 271 | L11: =SUM(E11:K11) -> 395 | M11: =L11*D11 -> 316
A12: Bērnu klīniskā universitātes slimnīca, Valsts sabiedrība ar ierobežotu atbildību | B12: 47268 | C12: SARS-CoV-2 (COVID-19) antigēna noteikšana (Ag eksprestests) (ar reaģenta komplekta vērtību) | D12: 4.98 | H12: 1 | L12: =SUM(E12:K12) -> 1 | M12: =L12*D12 -> 4.98
A13: Rīgas Dzemdību nams, SIA | B13: 47078 | C13: SARS-CoV-2 RNS (COVID-19) noteikšana ar reālā laika PĶR (bez parauga paņemšanas) ātrai diagnostikai un diferenciāldiagnostikai (ar reaģenta vērtību) | D13: 45.09 | K13: 4 | L13: =SUM(E13:K13) -> 4 | M13: =L13*D13 -> 180.36
A14: Rīgas Dzemdību nams, SIA | B14: 47268 | C14: SARS-CoV-2 (COVID-19) antigēna noteikšana (Ag eksprestests) (ar reaģenta komplekta vērtību) | D14: 4.98 | K14: 1 | L14: =SUM(E14:K14) -> 1 | M14: =L14*D14 -> 4.98
A15: Daugavpils psihoneiroloģiskā slimnīca, Valsts sabiedrība ar ierobežotu atbildību | B15: 47268 | C15: SARS-CoV-2 (COVID-19) antigēna noteikšana (Ag eksprestests) (ar reaģenta komplekta vērtību) | D15: 4.98 | H15: 9 | I15: 67 | J15: 250 | K15: 193 | L15: =SUM(E15:K15) -> 519 | M15: =L15*D15 -> 2584.62
A16: Daugavpils reģionālā slimnīca, Sabiedrība ar ierobežotu atbildību | B16: 47078 | C16: SARS-CoV-2 RNS (COVID-19) noteikšana ar reālā laika PĶR (bez parauga paņemšanas) ātrai diagnostikai un diferenciāldiagnostikai (ar reaģenta vērtību) | D16: 45.09 | H16: 2 | I16: 16 | J16: 67 | K16: 29 | L16: =SUM(E16:K16) -> 114 | M16: =L16*D16 -> 5140.26
A17: Daugavpils reģionālā slimnīca, Sabiedrība ar ierobežotu atbildību | B17: 47268 | C17: SARS-CoV-2 (COVID-19) antigēna noteikšana (Ag eksprestests) (ar reaģenta komplekta vērtību) | D17: 4.98 | H17: 1 | I17: 20 | J17: 68 | K17: 51 | L17: =SUM(E17:K17) -> 140 | M17: =L17*D17 -> 697.2
A18: Slimnīca Ģintermuiža, Valsts sabiedrība ar ierobežotu atbildību | B18: 47268 | C18: SARS-CoV-2 (COVID-19) antigēna noteikšana (Ag eksprestests) (ar reaģenta komplekta vērtību) | D18: 4.98 | I18: 1 | J18: 20 | K18: 12 | L18: =SUM(E18:K18) -> 33 | M18: =L18*D18 -> 164.34
A19: JELGAVAS PILSĒTAS SLIMNĪCA, SIA | B19: 47078 | C19: SARS-CoV-2 RNS (COVID-19) noteikšana ar reālā laika PĶR (bez parauga paņemšanas) ātrai diagnostikai un diferenciāldiagnostikai (ar reaģenta vērtību) | D19: 45.09 | J19: 9 | K19: 7 | L19: =SUM(E19:K19) -> 16 | M19: =L19*D19 -> 721.44
A20: JELGAVAS PILSĒTAS SLIMNĪCA, SIA | B20: 47268 | C20: SARS-CoV-2 (COVID-19) antigēna noteikšana (Ag eksprestests) (ar reaģenta komplekta vērtību) | D20: 4.98 | H20: 1 | I20: 1 | J20: 121 | K20: 110 | L20: =SUM(E20:K20) -> 233 | M20: =L20*D20 -> 1160.34
A21: Jēkabpils reģionālā slimnīca, Sabiedrība ar ierobežotu atbildību | B21: 47078 | C21: SARS-CoV-2 RNS (COVID-19) noteikšana ar reālā laika PĶR (bez parauga paņemšanas) ātrai diagnostikai un diferenciāldiagnostikai (ar reaģenta vērtību) | D21: 45.09 | K21: 2 | L21: =SUM(E21:K21) -> 2 | M21: =L21*D21 -> 90.18
A22: Jēkabpils reģionālā slimnīca, Sabiedrība ar ierobežotu atbildību | B22: 47268 | C22: SARS-CoV-2 (COVID-19) antigēna noteikšana (Ag eksprestests) (ar reaģenta komplekta vērtību) | D22: 4.98 | H22: 1 | I22: 4 | J22: 11 | K22: 28 | L22: =SUM(E22:K22) -> 44 | M22: =L22*D22 -> 219.12
A23: Jūrmalas slimnīca, Sabiedrība ar ierobežotu atbildību | B23: 47328 | C23: SARS-CoV-2 (COVID-19) antigēna noteikšana (Ag eksprestests) (bez reaģenta komplekta vērtības) | D23: 4.45 | J23: 55 | K23: 201 | L23: =SUM(E23:K23) -> 256 | M23: =L23*D23 -> 1139.2
A24: LIEPĀJAS REĢIONĀLĀ SLIMNĪCA, Sabiedrība ar ierobežotu atbildību | B24: 47073 | C24: SARS-CoV-2 RNS (COVID-19) noteikšana ar reālā laika PĶR (bez parauga paņemšanas) | D24: 24.16 | K24: 2 | L24: =SUM(E24:K24) -> 2 | M24: =L24*D24 -> 48.32
A25: LIEPĀJAS REĢIONĀLĀ SLIMNĪCA, Sabiedrība ar ierobežotu atbildību | B25: 47268 | C25: SARS-CoV-2 (COVID-19) antigēna noteikšana (Ag eksprestests) (ar reaģenta komplekta vērtību) | D25: 4.77 | G25: 4 | L25: =SUM(E25:K25) -> 4 | M25: =L25*D25 -> 19.08
A26: LIEPĀJAS REĢIONĀLĀ SLIMNĪCA, Sabiedrība ar ierobežotu atbildību | B26: 47268 | C26: SARS-CoV-2 (COVID-19) antigēna noteikšana (Ag eksprestests) (ar reaģenta komplekta vērtību) | D26: 4.98 | H26: 2 | I26: 38 | J26: 220 | K26: 418 | L26: =SUM(E26:K26) -> 678 | M26: =L26*D26 -> 3376.44
A27: RĒZEKNES SLIMNĪCA, Sabiedrība ar ierobežotu atbildību | B27: 47268 | C27: SARS-CoV-2 (COVID-19) antigēna noteikšana (Ag eksprestests) (ar reaģenta komplekta vērtību) | D27: 4.98 | I27: 7 | J27: 164 | K27: 584 | L27: =SUM(E27:K27) -> 755 | M27: =L27*D27 -> 3759.9
A28: Vidzemes slimnīca, Sabiedrība ar ierobežotu atbildību | B28: 47078 | C28: SARS-CoV-2 RNS (COVID-19) noteikšana ar reālā laika PĶR (bez parauga paņemšanas) ātrai diagnostikai un diferenciāldiagnostikai (ar reaģenta vērtību) | D28: 45.09 | I28: 4 | J28: 79 | K28: 85 | L28: =SUM(E28:K28) -> 168 | M28: =L28*D28 -> 7575.12
A29: Vidzemes slimnīca, Sabiedrība ar ierobežotu atbildību | B29: 47268 | C29: SARS-CoV-2 (COVID-19) antigēna noteikšana (Ag eksprestests) (ar reaģenta komplekta vērtību) | D29: 4.98 | I29: 9 | J29: 35 | K29: 216 | L29: =SUM(E29:K29) -> 260 | M29: =L29*D29 -> 1294.8
A30: Ziemeļkurzemes reģionālā slimnīca, SIA | B30: 47073 | C30: SARS-CoV-2 RNS (COVID-19) noteikšana ar reālā laika PĶR (bez parauga paņemšanas) | D30: 24.16 | J30: 2 | K30: 1 | L30: =SUM(E30:K30) -> 3 | M30: =L30*D30 -> 72.48
A31: Ziemeļkurzemes reģionālā slimnīca, SIA | B31: 47268 | C31: SARS-CoV-2 (COVID-19) antigēna noteikšana (Ag eksprestests) (ar reaģenta komplekta vērtību) | D31: 4.98 | J31: 13 | K31: 21 | L31: =SUM(E31:K31) -> 34 | M31: =L31*D31 -> 169.32
A32: Aizkraukles slimnīca, Sabiedrība ar ierobežotu atbildību | B32: 47268 | C32: SARS-CoV-2 (COVID-19) antigēna noteikšana (Ag eksprestests) (ar reaģenta komplekta vērtību) | D32: 4.98 | H32: 1 | I32: 6 | L32: =SUM(E32:K32) -> 7 | M32: =L32*D32 -> 34.86
A33: Alūksnes slimnīca, Sabiedrība ar ierobežotu atbildību | B33: 47268 | C33: SARS-CoV-2 (COVID-19) antigēna noteikšana (Ag eksprestests) (ar reaģenta komplekta vērtību) | D33: 4.98 | J33: 32 | K33: 135 | L33: =SUM(E33:K33) -> 167 | M33: =L33*D33 -> 831.66
A34: Bauskas slimnīca, SIA | B34: 47328 | C34: SARS-CoV-2 (COVID-19) antigēna noteikšana (Ag eksprestests) (bez reaģenta komplekta vērtības) | D34: 4.45 | I34: 1 | J34: 4 | K34: 14 | L34: =SUM(E34:K34) -> 19 | M34: =L34*D34 -> 84.55
A35: CĒSU KLĪNIKA, Sabiedrība ar ierobežotu atbildību | B35: 47268 | C35: SARS-CoV-2 (COVID-19) antigēna noteikšana (Ag eksprestests) (ar reaģenta komplekta vērtību) | D35: 4.98 | I35: 24 | J35: 81 | K35: 208 | L35: =SUM(E35:K35) -> 313 | M35: =L35*D35 -> 1558.74
A36: Dobeles un apkārtnes slimnīca, SIA | B36: 47328 | C36: SARS-CoV-2 (COVID-19) antigēna noteikšana (Ag eksprestests) (bez reaģenta komplekta vērtības) | D36: 4.45 | I36: 1 | J36: 44 | K36: 107 | L36: =SUM(E36:K36) -> 152 | M36: =L36*D36 -> 676.4
A37: Balvu un Gulbenes slimnīcu apvienība, Sabiedrība ar ierobežotu atbildību | B37: 47268 | C37: SARS-CoV-2 (COVID-19) antigēna noteikšana (Ag eksprestests) (ar reaģenta komplekta vērtību) | D37: 4.98 | K37: 1 | L37: =SUM(E37:K37) -> 1 | M37: =L37*D37 -> 4.98
A38: Balvu un Gulbenes slimnīcu apvienība, Sabiedrība ar ierobežotu atbildību | B38: 47328 | C38: SARS-CoV-2 (COVID-19) antigēna noteikšana (Ag eksprestests) (bez reaģenta komplekta vērtības) | D38: 4.45 | I38: 2 | J38: 61 | K38: 164 | L38: =SUM(E38:K38) -> 227 | M38: =L38*D38 -> 1010.15
A39: Kuldīgas slimnīca, Sabiedrība ar ierobežotu atbildību | B39: 47268 | C39: SARS-CoV-2 (COVID-19) antigēna noteikšana (Ag eksprestests) (ar reaģenta komplekta vērtību) | D39: 4.77 | G39: 3 | L39: =SUM(E39:K39) -> 3 | M39: =L39*D39 -> 14.31
A40: Kuldīgas slimnīca, Sabiedrība ar ierobežotu atbildību | B40: 47268 | C40: SARS-CoV-2 (COVID-19) antigēna noteikšana (Ag eksprestests) (ar reaģenta komplekta vērtību) | D40: 4.98 | J40: 1 | K40: 9 | L40: =SUM(E40:K40) -> 10 | M40: =L40*D40 -> 49.8
...

Sheet ātrie_testi_amb_daļa
E1: Turpinājums pielikumam Nr.1 Ministru kabineta rīkojuma "Ministru kabineta rīkojuma "Par finanšu līdzekļu apropriācijas pārdali no budžeta resora ''74. Gadskārtējā valsts budžeta izpildes procesā pārdalāmais finansējums'' valsts budžeta programmas 12.00.00 ''Finansējums veselības jomas pasākumiem Covid-19 infekcijas izplatības ierobežošanai"" projekta sākotnējās ietekmes novērtējuma ziņojumam (anotācijai)
A2: Rēķina mēnesis: aprīlis 2024
A3: Covid-19 diagnostikas manipulācijas ( ātrie testi, ambulatorā daļa)
A4: NVD TN (pakalpojumu sniedzēja) | B4: ĀI (pakalpojumu sniedzēja) kods | C4: ĀI (pakalpojumu sniedzēja) nosaukums | D4: Manipulācijas kods | E4: Manipulācijas nosaukums | F4: Manipulāciju skaits | G4: Tarifs, euro | H4: Summa, euro
A5: NVD Zemgales nodaļa | B5: 400200024 | C5: Bauskas slimnīca, SIA | D5: 47328 | E5: SARS-CoV-2 (COVID-19) antigēna noteikšana (Ag eksprestests) (bez reaģenta komplekta vērtības) | F5: 1 | G5: 4.45 | H5: =F5*G5 -> 4.45
A6: NVD Latgales nodaļa | B6: 050020401 | C6: Daugavpils reģionālā slimnīca, SIA | D6: 47268 | E6: SARS-CoV-2 (COVID-19) antigēna noteikšana (Ag eksprestests) (ar reaģenta komplekta vērtību) | F6: 8 | G6: 4.98 | H6: =F6*G6 -> 39.84
A7: NVD Rīgas nodaļa | B7: 130020302 | C7: Jūrmalas slimnīca, SIA | D7: 47268 | E7: SARS-CoV-2 (COVID-19) antigēna noteikšana (Ag eksprestests) (ar reaģenta komplekta vērtību) | F7: 1 | G7: 4.98 | H7: =F7*G7 -> 4.98
A8: NVD Rīgas nodaļa | B8: 130020302 | C8: Jūrmalas slimnīca, SIA | D8: 47328 | E8: SARS-CoV-2 (COVID-19) antigēna noteikšana (Ag eksprestests) (bez reaģenta komplekta vērtības) | F8: 160 | G8: 4.45 | H8: =F8*G8 -> 712
A9: NVD Kurzemes nodaļa | B9: 170020401 | C9: LIEPĀJAS REĢIONĀLĀ SLIMNĪCA, SIA | D9: 47268 | E9: SARS-CoV-2 (COVID-19) antigēna noteikšana (Ag eksprestests) (ar reaģenta komplekta vērtību) | F9: 5 | G9: 4.98 | H9: =F9*G9 -> 24.9
A10: NVD Latgales nodaļa | B10: 210020301 | C10: RĒZEKNES SLIMNĪCA, SIA | D10: 47268 | E10: SARS-CoV-2 (COVID-19) antigēna noteikšana (Ag eksprestests) (ar reaģenta komplekta vērtību) | F10: 171 | G10: 4.98 | H10: =F10*G10 -> 851.58
A11: NVD Vidzemes nodaļa | B11: 250000092 | C11: Vidzemes slimnīca, SIA | D11: 47078 | E11: SARS-CoV-2 RNS (COVID-19) noteikšana ar reālā laika PĶR (bez parauga paņemšanas) ātrai diagnostikai un diferenciāldiagnostikai (ar reaģenta vērtību) | F11: 4 | G11: 45.09 | H11: =F11*G11 -> 180.36
A12: NVD Vidzemes nodaļa | B12: 250000092 | C12: Vidzemes slimnīca, SIA | D12: 47268 | E12: SARS-CoV-2 (COVID-19) antigēna noteikšana (Ag eksprestests) (ar reaģenta komplekta vērtību) | F12: 5 | G12: 4.98 | H12: =F12*G12 -> 24.9
G13: Pavisam kopā: | H13: =SUM(H5:H12) -> 1843.01
G14: Kopā: | H14: =ROUNDUP(H13,0) -> 1844
G80: =ROUNDUP(G79,0) -> 0

Sheet Covid_pakalp_progr
E1: Turpinājums pielikumam Nr.1 Ministru kabineta rīkojuma "Ministru kabineta rīkojuma "Par finanšu līdzekļu apropriācijas pārdali no budžeta resora ''74. Gadskārtējā valsts budžeta izpildes procesā pārdalāmais finansējums'' valsts budžeta programmas 12.00.00 ''Finansējums veselības jomas pasākumiem Covid-19 infekcijas izplatības ierobežošanai"" projekta sākotnējās ietekmes novērtējuma ziņojumam (anotācijai)
A2: Covid-19 pakalpojumu programma laboratorijām
A3: Rēķina mēnesis: aprīlis 2024
A4: NVD TN (pakalpojumu sniedzēja) | B4: ĀI (pakalpojumu sniedzēja) | C4: Pakalpojumu programma | D4: Manipulācijas kods | E4: Manipulācijas nosaukums | F4: Manipulāciju skaits | G4: Tarifs, euro | H4: Summa, euro
A5: 12 - NVD Rīgas nodaļa | B5: 010000234 - Rīgas Austrumu klīniskā universitātes slimnīca, SIA | C5: AP82 - Covid-19 laboratorijas pakalpojumi | D5: 47077R | E5: R SARS-CoV-2 RNS (COVID-19) noteikšana ar reālā laika PĶR (bez parauga paņemšanas) ātrai diagnostikai un diferenciāldiagnostikai - izmeklējums ar Multiplex reaģentiem | F5: 95 | G5: 181.47 | H5: 17239.65
A6: 12 - NVD Rīgas nodaļa | B6: 010000234 - Rīgas Austrumu klīniskā universitātes slimnīca, SIA | C6: AP82 - Covid-19 laboratorijas pakalpojumi | D6: 47078 | E6: SARS-CoV-2 RNS (COVID-19) noteikšana ar reālā laika PĶR (bez parauga paņemšanas) ātrai diagnostikai un diferenciāldiagnostikai (ar reaģenta vērtību) | F6: 2 | G6: 45.09 | H6: 90.18
A7: 12 - NVD Rīgas nodaļa | B7: 010000234 - Rīgas Austrumu klīniskā universitātes slimnīca, SIA | C7: AP82 - Covid-19 laboratorijas pakalpojumi | D7: 47079 | E7: SARS-CoV-2 (COVID-19) transporta barotne ar diviem lokaniem tamponiem | F7: 143 | G7: 0.8 | H7: 114.4
G8: Pavisam kopā: | H8: =H5+H6+H7 -> 17444.23
H9: =ROUNDUP(H8,0) -> 17445
A13: NVD TN (pakalpojumu sniedzēja) | B13: ĀI (pakalpojumu sniedzēja) | C13: Pakalpojumu programma | D13: Manipulācijas kods | E13: Manipulācijas nosaukums | F13: Manipulāciju skaits | G13: Tarifs, euro | H13: Summa, euro
A14: 12 - NVD Rīgas nodaļa | B14: 010011803 - Paula Stradiņa klīniskā universitātes slimnīca, Valsts sabiedrība ar ierobežotu atbildību | C14: AP82 - Covid-19 laboratorijas pakalpojumi | D14: 47078 | E14: SARS-CoV-2 RNS (COVID-19) noteikšana ar reālā laika PĶR (bez parauga paņemšanas) ātrai diagnostikai un diferenciāldiagnostikai (ar reaģenta vērtību) | F14: 90 | G14: 45.09 | H14: 4058.1
A15: 13 - NVD Rīgas nodaļa | B15: 010011803 - Paula Stradiņa klīniskā universitātes slimnīca, Valsts sabiedrība ar ierobežotu atbildību | C15: AP82 - Covid-19 laboratorijas pakalpojumi | D15: 47328 | E15: SARS-CoV-2 (COVID-19) antigēna noteikšana (Ag eksprestests) (bez reaģenta komplekta vērtības) | F15: 11 | G15: 4.45 | H15: 48.95
A16: 12 - NVD Rīgas nodaļa | B16: 010011803 - Paula Stradiņa klīniskā universitātes slimnīca, Valsts sabiedrība ar ierobežotu atbildību | C16: AP82 - Covid-19 laboratorijas pakalpojumi | D16: 60046 | E16: Sars-CoV-2 (COVID-19) transporta barotne ar diviem lokaniem tamponiem ātrajam molekulārajam testam | F16: 90 | G16: 0.8 | H16: 72
G17: Pavisam kopā: | H17: =H14+H15+H16 -> 4179.05
H18: =ROUNDUP(H17,0) -> 4180
A20: NVD TN (pakalpojumu sniedzēja) | B20: ĀI (pakalpojumu sniedzēja) | C20: Pakalpojumu programma | D20: Manipulācijas kods | E20: Manipulācijas nosaukums | F20: Manipulāciju skaits | G20: Tarifs, euro | H20: Summa, euro
A21: Latgales nodaļa | B21: 050020401-Daugavpils reģionālā slimnīca, SIA | C21: AP82 - Covid-19 laboratorijas pakalpojumi | D21: 47078 | E21: SARS-CoV-2 RNS (COVID-19) noteikšana ar reālā laika PĶR (bez parauga paņemšanas) ātrai diagnostikai un diferenciāldiagnostikai (ar reaģenta vērtību) | F21: 89 | G21: 45.09 | H21: 4013.01
G22: Pavisam kopā: | H22: =H21 -> 4013.01
H23: =ROUNDUP(H22,0) -> 4014
G27: Pavisam, kopā euro | H27: =H8+H17+H22 -> 25636.29
H28: =H9+H18+H23 -> 25639
