Workbook
Name _1_2_d_NMP_lim: #REF!
Name aa: #REF!
Name b: #REF!
Name bt: #REF!
Name BX: #REF!
Name CalendarYear: #REF!
Name ccc: #REF!
Name d: #REF!
Name D_Evija3: #REF!
Name DaysAndWeeks: {0,1,2,3,4,5,6} + {0;1;2;3;4;5}*7
Name de: #REF!
Name dff: #NAME?
Name DRGNAMES: #REF!
Name e: #REF!
Name ee: #REF!
Name Excel_BuiltIn__FilterDatabase_2: #REF!
Name Excel_BuiltIn__FilterDatabase_3: #REF!
Name Excel_BuiltIn_Print_Titles_2: #REF!
Name Excel_BuiltIn_Print_Titles_3: #REF!
Name gad_skaits: #REF!
Name gad_skaits_1: #REF!
Name gggg: #REF!
Name ghy: #REF!
Name h: #REF!
Name hh: #REF!
Name hjh: #REF!
Name hyh: #REF!
Name i: #REF!
Name izm.kods: #REF!
Name izm.kods_1: [2]izm.posteni!$A$2:$A$216
Name izm.nos: #REF!
Name izm.nos_1: [2]izm.posteni!$B$2:$B$216
Name jhg: #REF!
Name kk: #REF!
Name l: #REF!
Name Limeni_7_9group: #REF!
Name n: #REF!
Name P_Dati_rikojums: #REF!
Name pp: #REF!
Name Recover: [3]Macro1!$A$80
Name Rikojums2222: [4]Macro1!$A$106
Name rr: #REF!
Name rt: #REF!
Name rty: #REF!
Name S5\: #REF!
Name ss: #REF!
Name Str.: #REF!
Name Str.vien.nos.: #REF!
Name Struktura: #REF!
Name Struktūrvien.kodi2: #REF!
Name Struktūrvien.kodi2_1: [2]strukturkodi!$B$2:$B$232
Name Struktūrvien.kods: #REF!
Name Struktūrvien.kods_1: [2]strukturkodi!$A$2:$A$232
Name T13l6: [5]ATSKAITE_2v!#REF!
Name TableName: "Dummy"
Name TWO_LINKS: '[6]8.1.'!$C$5
Name ty: #REF!
Name tyuj: #REF!
Name u: #REF!
Name U_N_A: #REF!

Sheet Pielikums Nr_3
E1: 3.Pielikums Ministru kabineta rīkojuma “Par finanšu līdzekļu piešķiršanu no valsts budžeta programmas “Līdzekļi neparedzētiem gadījumiem”” projekta sākotnējās ietekmes novērtējuma ziņojumam (anotācijai)
A2: Covid-19 vakcinācijas plāna indikatīvais finansējums 2022.gadam - pasākumi turpināmi no 2022.gada 1.janvāra
A5: Pasākums | B5: Summa 2022.gads, euro | C5: Summa 2022.gada I.pusgads, euro | D5: Summa 2022.gada II.pusgads, euro | E5: Finansējuma statuss
A6: ='Pielikums Nr_4'!A2 -> 2. Atbalsts vakcīnu iegādes, loģistikas un ievades īstenošanai | B6: ='Pielikums Nr_4'!M10 -> 103041.82 | C6: ='Pielikums Nr_4'!N10 -> 51520.91 | D6: =B6-C6 -> 51520.912 | E6: Nepieciešams papildus finansējums
A7: ='Pielikums Nr_5'!A3 -> 3. Vakcinācijas procesa infrastruktūras un citu resursu nodrošinājums 2022.gada I.pusgads | B7: =ROUNDUP('Pielikums Nr_5'!E11+'Pielikums Nr_5'!E20+'Pielikums Nr_5'!E30+'Pielikums Nr_5'!E36+'Pielikums Nr_5'!D41+'Pielikums Nr_5'!E50+'Pielikums Nr_5'!P60,0) -> 3309568 | C7: =B7 -> 3309568 | D7: =B7-C7 -> 0 | E7: Nepieciešams papildus finansējums
A8: ='Pielikums Nr_6'!A1 -> 4. Vakcinācijas IT sistēmas tehniskais atbalsts un uzturēšana | B8: ='Pielikums Nr_6'!D55+'Pielikums Nr_6'!D57+'Pielikums Nr_6'!D59+'Pielikums Nr_6'!P70 -> 1303051.2 | C8: ='Pielikums Nr_6'!E55+'Pielikums Nr_6'!E57+'Pielikums Nr_6'!E59+'Pielikums Nr_6'!Q70 -> 1103172.1 | D8: =B8-C8 -> 199879.1 | E8: Nepieciešams papildus finansējums
A9: ='Pielikums Nr_7'!A3 -> 5. Plānotās komunikācijas un iedzīvotāju informēšanas aktivitātes 2022.gada I.pusgads | B9: ='Pielikums Nr_7'!E33+'Pielikums Nr_7'!P44 -> 465984.58 | C9: ='Pielikums Nr_7'!E33+'Pielikums Nr_7'!Q44 -> 411566.79 | D9: =B9-C9 -> 54417.79 | E9: Nepieciešams papildus finansējums
A10: ='Pielikums Nr_8'!A2 -> 6. Zvanu un klientu apkalpošanas centrs "8989" | B10: ='Pielikums Nr_8'!D7+'Pielikums Nr_8'!P14 -> 1966214.7 | C10: ='Pielikums Nr_8'!E7+'Pielikums Nr_8'!Q14 -> 983108 | D10: =B10-C10 -> 983106.74 | E10: Nepieciešams papildus finansējums
A11: ='Pielikums Nr_9'!A2 -> 7. Digitālais sertifikāts | B11: ='Pielikums Nr_9'!D9+'Pielikums Nr_9'!P19 -> 612468.03 | C11: ='Pielikums Nr_9'!Q19+'Pielikums Nr_9'!E9 -> 378834.01 | D11: =B11-C11 -> 233634.02 | E11: Nepieciešams papildus finansējums
A12: Papildus nepieciešamais finansējums: | B12: =ROUNDUP(SUM(B6:B11),0) -> 7760329 | C12: =ROUNDUP(SUM(C6:C11),0) -> 6237770 | D12: =SUM(D6:D11) -> 1522558.6

Sheet Pielikums Nr_4
I1: 4.Pielikums Ministru kabineta rīkojuma “Par finanšu līdzekļu piešķiršanu no valsts budžeta programmas “Līdzekļi neparedzētiem gadījumiem”” projekta sākotnējās ietekmes novērtējuma ziņojumam (anotācijai)
A2: 2. Atbalsts vakcīnu iegādes, loģistikas un ievades īstenošanai
A4: Amats | B4: Slodžu skaits | C4: Saime (apakšsaime) | D4: Līmenis | E4: Mēnešalgu grupa | F4: Amata vietai plānotā mēnešalga | G4: Piemaksa 10% (EKK 1147) | H4: Prēmijas un naudas balvas 10% (EKK 1148) | I4: Sociālā garantija 5% (EKK 1220) | J4: Sociālā garantija* 8.33% (EKK 1220) | K4: Valsts sociālās apdrošināšanas obligātās iemaksas, 23.59% | L4: Kopā mēnesī | M4: Kopā 12 mēnešiem (1000)** | N4: Kopā 2022.gada I.pusgads
G5: 0.1 | H5: 0.1 | I5: 0.05 | J5: 0.0833 | M5: 12
A6: 1 | B6: 2 | C6: 3 | D6: 4 | E6: 5 | F6: 6 | G6: 7=6*10% | H6: 8=6*10% | I6: 9=6*5% | J6: 10=6*8.33% | K6: 11=(6+7+8+9+10)*23.59% | L6: 12=6+7+8+9+10+11 | M6: 13=12*12 mēn.
A7: Projekta vadītājs | B7: 1 | C7: 32 | D7: IIIC | E7: 13 | F7: 1917 | G7: =F7*0.1 -> 191.7 | H7: =F7*0.1 -> 191.7 | I7: =F7*0.05 -> 95.85 | J7: =F7*0.0833 -> 159.6861 | K7: =(F7+G7+H7+I7+J7)*0.2359 -> 602.94533 | L7: =F7+G7+H7+I7+J7+K7 -> 3158.8814 | M7: =L7*12 -> 37906.577 | N7: =ROUND(M7/2,2) -> 18953.29
A8: Procesa koordinators | B8: 1 | C8: 32 | D8: IIIB | E8: 12 | F8: 1647 | G8: =F8*0.1 -> 164.7 | H8: =F8*0.1 -> 164.7 | I8: =F8*0.05 -> 82.35 | J8: =F8*0.0833 -> 137.1951 | K8: =(F8+G8+H8+I8+J8)*0.2359 -> 518.02345 | L8: =F8+G8+H8+I8+J8+K8 -> 2713.9685 | M8: =L8*12 -> 32567.623 | N8: =ROUND(M8/2,2) -> 16283.81
A9: Loģistikas koordinators | B9: 1 | C9: 32 | D9: IIIB | E9: 12 | F9: 1647 | G9: =F9*0.1 -> 164.7 | H9: =F9*0.1 -> 164.7 | I9: =F9*0.05 -> 82.35 | J9: =F9*0.0833 -> 137.1951 | K9: =(F9+G9+H9+I9+J9)*0.2359 -> 518.02345 | L9: =F9+G9+H9+I9+J9+K9 -> 2713.9685 | M9: =L9*12 -> 32567.623 | N9: =ROUND(M9/2,2) -> 16283.81
M10: =M7+M8+M9 -> 103041.82 | N10: =SUM(N7:N9) -> 51520.91

Sheet Pielikums Nr_5
D1: 5.Pielikums Ministru kabineta rīkojuma “Par finanšu līdzekļu piešķiršanu no valsts budžeta programmas “Līdzekļi neparedzētiem gadījumiem”” projekta sākotnējās ietekmes novērtējuma ziņojumam (anotācijai)
A3: 3. Vakcinācijas procesa infrastruktūras un citu resursu nodrošinājums 2022.gada I.pusgads
A5: 3.1. Pašvaldības centri
A7: Tehniskās izmaksas | B7: Vakcinācijas centru skaits | C7: Vienas vienības cena (ar PVN 21%), euro | D7: Mēnešu skaits | E7: Izmaksas kopā 6 mēnešiem (ar PVN 21%), euro
A8: Tehniskā aprīkojuma (galdi, krēsli, aizslietņi, u.c.) noma un/vai pārveide (montāža, demontāža, transports u.c.) | B8: 25 | C8: 1000 | D8: 6 | E8: =(B8*C8)*D8 -> 150000
A9: Telpu īre un komunālie maksājumi, balstoties uz faktiskajiem izdevumiem (elektroenerģija, internets, apkure, ūdens, apsardze, uzkopšana u.c.) | B9: 25 | C9: 7000 | D9: 6 | E9: =(B9*C9)*D9 -> 1050000
A10: Neparedzēti izdevumi aptuveni 2.5% no kopējiem izdevumiem (piemēram, dzeramais ūdens, norāžu izvietošana, u.c.) | B10: 25 | C10: 229.6 | D10: 6 | E10: =(B10*C10)*D10 -> 34440
D11: Kopā ar PVN: | E11: =SUM(E8:E10) -> 1234440
A13: 3.2. Vakcinācijas punkti tirdzniecības centros
A15: Pozīcija | B15: Vienas vienības izmaksas mēnesī (t.sk. PVN), euro | C15: Vienību skaits | D15: KOPĀ mēnesī (t.sk. PVN), euro | E15: KOPĀ 6 mēnešos (t.sk. PVN), euro
A17: Tirdzniecības centrs, u.c., nodrošina tikai par telpu/vietu (iekštelpās un ārtelpās). Līdzmaksājums par telpu uzkopšanu, apsardzi, ūdens un kanalizācijas apgādi, elektroenerģiju, sadzīves atkritumu izvešanu. | B17: 2000 | C17: 25 | D17: 50000 | E17: 300000
A18: Tehniskā aprīkojuma (galdi, krēsli, aizslietņi, u.c.) noma un/vai pārveide (montāža, demontāža, transports u.c.) | B18: 1500 | C18: 10 | D18: 15000 | E18: 90000
A19: Neparedzētie izdevumi (piemēram, papildu ārstniecības brigādes nodrošināšana, papildu komunālie izdevumi, elektrības izdevumi u.c.) - 3% no kopsummas. | B19: 105 | C19: 25 | D19: 2625 | E19: 15750
D20: Kopā ar PVN: | E20: 405750
A22: 3.3. Vakcinācijas punkti pārvietojamos konteineros
A24: Tehniskās izmaksas | B24: Punktu skaits | C24: Vienas vienības cena mēnesī (ar PVN 21%), euro | D24: Mēnešu skaits | E24: Izmaksas kopā 6 mēnešiem (ar PVN 21%), euro
A25: Pārvietojamo konteineru un WC noma (30 m2) | B25: 10 | C25: 4500 | D25: 6 | E25: =(B25*C25)*D25 -> 270000
A26: Tehniskā aprīkojuma (galdi, krēsli, aizslietņi, u.c.) noma un/vai pārveide (montāža, demontāža, transports u.c.) | B26: 10 | C26: 1500 | D26: 6 | E26: =(B26*C26)*D26 -> 90000
A27: Uzkopšanas izmaksas | B27: 10 | C27: 4000 | D27: 6 | E27: =(B27*C27)*D27 -> 240000
A28: Elektrības izmaksas (t.sk. pieslēgšana) | B28: 10 | C28: 2000 | D28: 6 | E28: =(B28*C28)*D28 -> 120000
A29: Neparedzēti izdevumi aptuveni 3% no kopējiem izdevumiem (piemēram, dzeramais ūdens, norāžu izvietošana, u.c.) | B29: 10 | C29: 337.5 | D29: 6 | E29: =(B29*C29)*D29 -> 20250
D30: Kopā ar PVN: | E30: =SUM(E25:E29) -> 740250
A32: 3.4. Mobilā izbraukuma vakcinācija - īpaši pielāgotā transporta līdzekļos - autobusos (vakcīnbusos)
A34: Pakalpojums | B34: Vienas vienības izmaksa (nedēļā) | C34: Pakalpojuma izmantošanas periods (nedēļās) | D34: Nepieciešamo transporta vienību skaits | E34: Summa, euro
A35: Transporta noma | B35: 11760 | C35: 16 | D35: 3 | E35: =11760*16*3 -> 564480
D36: Kopā ar PVN: | E36: =SUM(E35) -> 564480
A38: Pakalpojums | B38: Vienreizējās izmaksas, euro | C38: Nepieciešamo transporta vienību skaits | D38: Summa, euro
A39: Tehniskais nodrošinājums vakcinācijas nodrošināšanai transportlīdzekļos (galdi, krēsli, aizslietņi, elektrības nodrošinājums, cits tehniskais un medicīniskais aprīkojums pēc nepieciešamības) | B39: 4000 | C39: 3 | D39: =B39*C39 -> 12000
A40: Autobusu aplīmēšana | B40: 4000 | C40: 3 | D40: =B40*C40 -> 12000
C41: Kopā ar PVN: | D41: =SUM(D39:D40) -> 24000
A43: 3.5. Liela mēroga vakcinācijas centri Rīgā1
A45: Tehniskās izmaksas | B45: Vakcinācijas centru skaits | C45: Vienas vienības cena (ar PVN 21%), euro | D45: Mēnešu skaits | E45: Izmaksas kopā 6 mēnešiem (ar PVN 21%), euro
A46: Tehniskā aprīkojuma (galdi, krēsli, aizslietņi, u.c.) noma un/vai pārveide (montāža, demontāža, transports u.c.) | B46: 2 | C46: 12000 | D46: 3 | E46: =(B46*C46)*D46 -> 72000
A47: Telpu īre | B47: 2 | C47: 28000 | D47: 3 | E47: =(B47*C47)*D47 -> 168000
A48: Komunālie maksājumi, balstoties uz faktiskajiem izdevumiem (elektroenerģija, internets, apkure, ūdens, apsardze, uzkopšana u.c.) | B48: 2 | C48: 10000 | D48: 3 | E48: =(B48*C48)*D48 -> 60000
A49: Neparedzēti izdevumi aptuveni 2.5% no kopējiem izdevumiem (piemēram, dzeramais ūdens, norāžu izvietošana, u.c.) | B49: 2 | C49: 2220 | D49: 3 | E49: =(B49*C49)*D49 -> 13320
A50: KOPĀ: | E50: =SUM(E46:E49) -> 313320
A51: 1 izmaksas ir sedzamas no vakcinācijas centra izveidošanas brīža
A53: 3.6. Atbalsts vakcinācijas procesa organizēšanai (6M)
A55: Amats | B55: Slodžu skaits | C55: Saime (apakšsaime) | D55: Līmenis | E55: Mēnešalgu grupa | F55: Amata vietai plānotā mēnešalga | G55: Piemaksa 10% (EKK 1147) | H55: Prēmijas un naudas balvas 10% (EKK 1148) | I55: Sociālā garantija 5% (EKK 1220) | J55: Sociālā garantija* 8.33% (EKK 1220) | K55: Valsts sociālās apdrošināšanas obligātās iemaksas, 23.59% | L55: Kopā mēnesī | M55: Kopā 6 mēnešiem (1000)** | N55: Kopā 6 mēnešiem (1100)** | O55: Kopā 6 mēnešiem (1200)** | P55: KOPĀ atlīdzībai
G56: 0.1 | H56: 0.1 | I56: 0.05 | J56: 0.0833 | M56: 6 | N56: 6 | O56: 6
A57: 1 | B57: 2 | C57: 3 | D57: 4 | E57: 5 | F57: 6 | G57: 7=6*10% | H57: 8=6*10% | I57: 9=6*5% | J57: 10=6*8.33% | K57: 11=(6+7+8+9+10)*23.59% | L57: 12=6+7+8+9+10+11 | M57: 13=12*6 mēn. | N57: 14=(6+7+8)*6 mēn | O57: 15=(9+10+11)* 6 mēn | P57: 16=14+15
A58: Koordinācijas speciālists | B58: 1 | C58: 32 | D58: IIIA | E58: 11 | F58: 1382 | G58: =F58*0.1 -> 138.2 | H58: =F58*0.1 -> 138.2 | I58: =F58*0.05 -> 69.1 | J58: =F58*0.0833 -> 115.1206 | K58: =(F58+G58+H58+I58+J58)*0.2359 -> 434.6742 | L58: =F58+G58+H58+I58+J58+K58 -> 2277.2948 | M58: =L58*6 -> 13663.769 | N58: =(F58+G58+H58)*6 -> 9950.4 | O58: =(I58+J58+K58)*6 -> 3713.3688 | P58: =N58+O58 -> 13663.769
A59: Koordinācijas speciālists | B59: 1 | C59: 32 | D59: IIIA | E59: 11 | F59: 1382 | G59: 138.2 | H59: 138.2 | I59: 69.1 | J59: 115.1206 | K59: 434.6742 | L59: 2277.2948 | M59: =L59*6 -> 13663.769 | N59: =(F59+G59+H59)*6 -> 9950.4 | O59: =(I59+J59+K59)*6 -> 3713.3688 | P59: =N59+O59 -> 13663.769
B60: 2 | O60: Kopā: | P60: =SUM(P58:P59) -> 27327.538
A61: *- uzkrājums atvaļinājuma kompensācijai, pārtraucot darba tiesiskās attiecības

Sheet Pielikums Nr_6
A1: 4. Vakcinācijas IT sistēmas tehniskais atbalsts un uzturēšana | D1: 6.Pielikums Ministru kabineta rīkojuma “Par finanšu līdzekļu piešķiršanu no valsts budžeta programmas “Līdzekļi neparedzētiem gadījumiem”” projekta sākotnējās ietekmes novērtējuma ziņojumam (anotācijai)
A3: Nosaukums | B3: Pozīcija | C3: Pozīcijas izmaksas (euro, bez PVN 21%) | D3: Indikatīvais nepieciešamais finansējums 2022.gadam (euro, t.sk.PVN 21%) | E3: Indikatīvais nepieciešamais finansējums 2022.gada I.pusgadam (euro, t.sk.PVN 21%)
A4: ViVat uzturēšana
A5: Uzturēšanas izmaksas | B5: Atbilstoši VARAM metodoloģijai lielo IT sistēmu uzturēšanas izmaksas, ja sistēmai ir arī starpsistēmu integrācijas saskarnes, kuras tiek izmantotas citās sistēmās (šajā gadījumā - vairāki datu avoti, ārstniecībsa iestāžu/aptieku IS) sastāda 15-17% no kopējām izmaksām. NVD piemēro 16%, kas paredzēti izstrādātās programmatūras uzturēšanas nodrošināšanai atbilstoši tehniskās realizācijas un drošības prasībām, t.sk. līdzekļi funkcionēšanas problēmu profilaksei, kļūdu novēršanai un sistēmas lietotāju atbalstam, sistēmas ekspluatācijas laikā konstatēto kļūdu novēršanai, sistēmas darbības nepārtrauktības nodrošināšanai, pielāgošanas darbiem, kas saistīti izmaiņām izmantotajos tehnoloģiskajos risinājumos, sistēmas darbības pielāgojumi atbilstoši lietotāju vajadzībām u.c | C5: 245000 | D5: =C5+C5*0.21 -> 296450 | E5: =D5 -> 296450
A6: Vivat Serveru īre 2022.gadā | B6: ViVaT Serveru infrastruktūras īres pakalpojuma nodrošināšana 2022.gadam (līgums ir noslēgts par visu 2022.gadu, tādējādi jāmaksā arī par 2022.gada II pusgadu) | C6: 33000 | D6: =C6+C6*0.21 -> 39930 | E6: =D6 -> 39930
A7: Valsts elektronisko sakaru pakalpojumu centra pakalpojumu finanšu piedāvājums
A8: Pakalpojums | B8: Prognozētais apjoms 2022.gadā | C8: 2022.gada izmaksas mēnesī, kopā, euro bez PVN | D8: Plānotais finansējums 2022.gadā, euro
A9: RAM, GB | B9: 1536 | C9: 2750 | D9: 39930
A10: CPU, GB | B10: 24
A11: SSD, TB | B11: 17.28
A13: Papildinājumu izstrāde
A14: Revakcinācija 2. posms | B14: Revakcinācija otrais posms (PCR testu pārņemšana, Klasifikators, notifikācijas uc) | C14: =SUM(C18:C33) -> 174324.36 | D14: =C14+C14*0.21 -> 210932.48 | E14: =D14 -> 210932.48
A15: Nosaukums | B15: Darbs | C15: euro | E15: =D15 -> 0
B16: c/h | C16: bez PVN | E16: =D16 -> 0
A17: POZITĪVS TESTS | E17: =D17 -> 0
A18: Pozitīva testa nodošana (DCS->VIVAT) (DB, procedūra un API DCS pusē) | B18: 104 | C18: =B18*70 -> 7280 | E18: =D18 -> 0
A19: Pozitīva testa saņemšana VIVAT pusē (DB struktūras, datu apstrādes procesa izstrāde un API izveidi, integrācijas dokumentācija) | B19: 104 | C19: =B19*70 -> 7280 | E19: =D19 -> 0
A20: Algoritma izstrāde - pozitīvs tests + pote | B20: 416 | C20: =B20*70 -> 29120 | E20: =D20 -> 0
A21: Statusa pārrēķins pie pozitīva testa un ielikšana rindā | B21: 72 | C21: =B21*70 -> 5040 | E21: =D21 -> 0
A22: BALSTVAKCINĀCIJAS KLASIFIKATORS | E22: =D22 -> 0
A23: Dienu skaitu norādīšana revakcinācijas saņemšanai atkarībā no potes/pārslimošanas (9 gadījumi) | B23: 208 | C23: =B23*70 -> 14560 | E23: =D23 -> 0
A24: Klasifikatora UI | B24: 31 | C24: =B24*70 -> 2170 | E24: =D24 -> 0
A25: Notifikācijas | E25: =D25 -> 0
A26: Basic - par pierakstu, atgādinājums, atcelšana. Ja 10 dienu laikā pēc pozitīva testa ir aktīvs pieraksts. | B26: 208 | C26: =B26*70 -> 14560 | E26: =D26 -> 0
A27: Papildinājumi m.lv | E27: =D27 -> 0
A28: API un DB izmaiņas priekš portāla | B28: 40 | C28: =B28*70 -> 2800 | E28: =D28 -> 0
A29: Jauno statusu apstrāde | B29: 276 | C29: =B29*70 -> 19320 | E29: =D29 -> 0
A30: Analīze | B30: 80 | C30: =B30*70 -> 5600 | E30: =D30 -> 0
A31: Testēšana | B31: 354.9 | C31: =B31*70 -> 24843 | E31: =D31 -> 0
A32: Infrastruktūra | B32: 181.39 | C32: =B32*70 -> 12697.3 | E32: =D32 -> 0
A33: Projektu vadība | B33: 415.058 | C33: =B33*70 -> 29054.06 | E33: =D33 -> 0
E34: =D34 -> 0
A35: Aizbildņi, Bērni | B35: Nodrošināt iespēju manavakcina.lv pārstāvēt bērnu vai aizbilnībā esošas personas | C35: 25200 | D35: =C35+C35*0.21 -> 30492 | E35: =D35 -> 30492
A36: Nosaukums | B36: Indikatīvs vērtējums - Darbs | C36: euro | E36: =D36 -> 0
B37: c/h | C37: bez PVN | E37: =D37 -> 0
A38: Nodrošināt iespēju manavakcina.lv pārstāvēt bērnu vai aizbilnībā esošas personas | B38: 360 | C38: =B38*70 -> 25200 | E38: =D38 -> 0
E39: =D39 -> 0
A40: EPIDEM | B40: EPIDEM informācijas sistēmas papildinājumi vakcīnu krājumu pārvaldīšanai un centralizētai pasūtīšanai; | C40: =C43 -> 56000 | D40: =C40+C40*0.21 -> 67760 | E40: =D40 -> 67760
A41: Nosaukums | B41: Indikatīvs vērtējums - Darbs | C41: euro | E41: =D41 -> 0
B42: c/h | C42: bez PVN | E42: =D42 -> 0
A43: EPIDEM informācijas sistēmas papildinājumi vakcīnu krājumu pārvaldīšanai un centralizētai pasūtīšanai | B43: 800 | C43: =B43*70 -> 56000 | E43: =D43 -> 0
E44: =D44 -> 0
A45: ViVat un Ārstniecības iestāžu integrāciju uzlabojumi | C45: =SUM(C48:C50) -> 63000 | D45: =C45+C45*0.21 -> 76230 | E45: =D45 -> 76230
A46: Nosaukums | B46: Indikatīvs vērtējums - Darbs | C46: euro
B47: c/h | C47: bez PVN
A48: ViVat un Ārstniecības iestāžu integrāciju uzlabojumi | B48: 350 | C48: =B48*70 -> 24500
A49: Nodrošināt papildus statusa informāciju vakcinatoriem | B49: 250 | C49: =B49*70 -> 17500
A50: VIVAT, e-veselības un Digitālā sertifikātu datu kvalitātes uzlabošana, kontrole | B50: 300 | C50: =B50*70 -> 21000
A53: “ViVaT” sistēmas drošība | B53: “ViVaT” sistēmas drošības audits un konsultēšana par drošību, lietojamību un veiktspēju 2022. Gadā | C53: 50000 | D53: =C53+C53*0.21 -> 60500 | E53: =D53 -> 60500
A54: Ārpakalpojumi | B54: NVD Sistēmas uzturēšanas darbaspēks | C54: 100000 | D54: =C54+C54*0.21 -> 121000 | E54: =D54 -> 121000
C55: Kopā: | D55: =ROUNDUP(D5+D6+D14+D35+D40+D45+D53+D54,0) -> 903295 | E55: =ROUND(E5+E6+E14+E35+E45+E53+E54+E40,0) -> 903294
K56: =E55+Q70+E57+E59 -> 1103172.1
A57: Digitālā apziņošana - SMS sūtīšana (Apstiprinājumi par pieteikšanos, atgādinajumi, ekstra uzaicinājumi uz balstvakcināciju) | B57: 12 mēneši - 350 000 sms mēnesī (~10 000 eur) | C57: 120000 | D57: =C57+C57*0.21 -> 145200 | E57: 72600
A59: Izmaiņu/ pielāgojumu veikšanas izmaksas | B59: Atbalsta pakalpojumi un konsultācijas risinājumu pielāgošanā saistībā ar dažāda veida izmaiņām (normatīvie, sistēmiskie u.c.) - 1000h apjomā | C59: =80*1000 -> 80000 | D59: =C59+(C59*0.21) -> 96800 | E59: 48400
A61: Atbalsts vakcinācijas IT sistēmas tehniskajam nodrošinājumam un uzturēšanai
A62: Amats | B62: Slodžu skaits | C62: Saime (apakšsaime) | D62: Līmenis | E62: Mēnešalgu grupa | F62: Amata vietai plānotā mēnešalga | G62: Piemaksa 10% (EKK 1147) | H62: Prēmijas un naudas balvas 10% (EKK 1148) | I62: Sociālā garantija 5% (EKK 1220) | J62: Sociālā garantija* 8.33% (EKK 1220) | K62: Valsts sociālās apdrošināšanas obligātās iemaksas, 23.59% | L62: Kopā mēnesī | M62: Kopā 12 mēnešiem (1000)** | N62: Kopā 12 mēnešiem (1100)** | O62: Kopā 12 mēnešiem (1200)** | P62: Kopā 12 mēnešiem (1000)** | Q62: Kopā 2022.gada I.pusgads
G63: 0.1 | H63: 0.1 | I63: 0.05 | J63: 0.0833 | M63: 12 | N63: 12 | O63: 12
A64: 1 | B64: 2 | C64: 3 | D64: 4 | E64: 5 | F64: 6 | G64: 7=6*10% | H64: 8=6*10% | I64: 9=6*5% | J64: 10=6*8.33% | K64: 11=(6+7+8+9+10)*23.59% | L64: 12=6+7+8+9+10+11 | M64: 13=12*12 mēn. | N64: 14=(6+7+8)*12 mēn | O64: 15=(9+10+11)* 12 mēn | P64: 16=14+15
A65: IT koordinators | B65: 1 | C65: 19.3 | D65: IV | E65: 14 | F65: 2264 | G65: =F65*0.1 -> 226.4 | H65: =F65*0.1 -> 226.4 | I65: =F65*0.05 -> 113.2 | J65: =F65*0.0833 -> 188.5912 | K65: =(F65+G65+H65+I65+J65)*0.2359 -> 712.08566 | L65: =F65+G65+H65+I65+J65+K65 -> 3730.6769 | M65: =L65*12 -> 44768.122 | N65: =(F65+G65+H65)*12 -> 32601.6 | O65: =(I65+J65+K65)*12 -> 12166.522 | P65: =N65+O65 -> 44768.122 | Q65: =ROUND(P65/2,2) -> 22384.06
A66: Informācijas sistēmu administrators | B66: 1 | C66: 19.5 | D66: IVB | E66: 13 | F66: 1917 | G66: =F66*0.1 -> 191.7 | H66: =F66*0.1 -> 191.7 | I66: =F66*0.05 -> 95.85 | J66: =F66*0.0833 -> 159.6861 | K66: =(F66+G66+H66+I66+J66)*0.2359 -> 602.94533 | L66: =F66+G66+H66+I66+J66+K66 -> 3158.8814 | M66: =L66*12 -> 37906.577 | N66: =(F66+G66+H66)*12 -> 27604.8 | O66: =(I66+J66+K66)*12 -> 10301.777 | P66: =N66+O66 -> 37906.577 | Q66: =ROUND(P66/2,2) -> 18953.29
A67: Informācijas sistēmu administrators | B67: 1 | C67: 19.5 | D67: IVB | E67: 13 | F67: 1917 | G67: =F67*0.1 -> 191.7 | H67: =F67*0.1 -> 191.7 | I67: =F67*0.05 -> 95.85 | J67: =F67*0.0833 -> 159.6861 | K67: =(F67+G67+H67+I67+J67)*0.2359 -> 602.94533 | L67: =F67+G67+H67+I67+J67+K67 -> 3158.8814 | M67: =L67*12 -> 37906.577 | N67: =(F67+G67+H67)*12 -> 27604.8 | O67: =(I67+J67+K67)*12 -> 10301.777 | P67: =N67+O67 -> 37906.577 | Q67: =ROUND(P67/2,2) -> 18953.29
A68: Sistēmanalītiķis / vecākais eksperts | B68: 1 | C68: 19.4 | D68: III | E68: 10 | F68: 940 | G68: =F68*0.1 -> 94 | H68: =F68*0.1 -> 94 | I68: =F68*0.05 -> 47 | J68: =F68*0.0833 -> 78.302 | K68: =(F68+G68+H68+I68+J68)*0.2359 -> 295.65394 | L68: =F68+G68+H68+I68+J68+K68 -> 1548.9559 | M68: =L68*12 -> 18587.471 | N68: =(F68+G68+H68)*12 -> 13536 | O68: =(I68+J68+K68)*12 -> 5051.4713 | P68: =N68+O68 -> 18587.471 | Q68: =ROUND(P68/2,2) -> 9293.74
A69: Sistēmanalītiķis / vecākais eksperts | B69: 1 | C69: 19.4 | D69: III | E69: 10 | F69: 940 | G69: =F69*0.1 -> 94 | H69: =F69*0.1 -> 94 | I69: =F69*0.05 -> 47 | J69: =F69*0.0833 -> 78.302 | K69: =(F69+G69+H69+I69+J69)*0.2359 -> 295.65394 | L69: =F69+G69+H69+I69+J69+K69 -> 1548.9559 | M69: =L69*12 -> 18587.471 | N69: =(F69+G69+H69)*12 -> 13536 | O69: =(I69+J69+K69)*12 -> 5051.4713 | P69: =N69+O69 -> 18587.471 | Q69: =ROUND(P69/2,2) -> 9293.74
O70: Kopā: | P70: =SUM(P65:P69) -> 157756.22 | Q70: =SUM(Q65:Q69) -> 78878.12

Sheet Pielikums Nr_7
D1: 7.Pielikums Ministru kabineta rīkojuma “Par finanšu līdzekļu piešķiršanu no valsts budžeta programmas “Līdzekļi neparedzētiem gadījumiem”” projekta sākotnējās ietekmes novērtējuma ziņojumam (anotācijai)
A3: 5. Plānotās komunikācijas un iedzīvotāju informēšanas aktivitātes 2022.gada I.pusgads
A5: Aktivitāte | B5: Vidējās izmaksas mēnesī (euro, t.sk.PVN) | C5: Vienas vienības izmaksas (euro, t.sk.PVN) | D5: Skaits | E5: Nepieciešamais finansējums (euro, t.sk.PVN
A6: Integrētas komunikācijas kampaņas | B6: x | C6: 70000 | D6: 1 | E6: =C6*D6 -> 70000
A7: Radošais risinājums (koncepts, klipu (TV, audio) izstrāde, vizuālais noformējums, sauklis, drukas materiālu maketi/dizains, internetmateriālu sagatavošana u.c.
A8: sagatavoto materiālu izvietošana plašsaziņas līdzekļos un citos kanālos
A9: KOPĀ:
A11: Izglītojošās aktivitātes (tiešsaistes vebināri) | B11: x | C11: 302.5 | D11: 48 | E11: =C11*D11 -> 14520
A13: Informatīvie materiāli sagatavošana (druka (un piegāde), dizains un maketēšana):
A14: 1. Plakāti | B14: x | C14: 1.75 | D14: 5000 | E14: =C14*D14 -> 8750
A15: 2. Infolapas | B15: x | C15: 0.05 | D15: 250000 | E15: =C15*D15 -> 12500
A16: 3. Skrejlapas | B16: x | C16: 0.17 | D16: 12500 | E16: =C16*D16 -> 2125
A17: 4. Buklets | B17: x | C17: 1.4 | D17: 15000 | E17: =C17*D17 -> 21000
A18: 5. Vides materiālu u.c. druka | B18: x | C18: 40 | D18: 200 m2 | E18: =40*200 -> 8000
A19: 6. Dizains un maketēšana | B19: 3000 | C19: x | D19: 6 | E19: =B19*D19 -> 18000
A20: Kopā: | E20: =SUM(E14:E19) -> 70375
A22: Digitālā komunikācija, sociālo mediju komunikācija:
A23: 1. Satura izstrāde, publicēšana, reklāmas uzstādīšana, monitorings | B23: 1200 | D23: 6 | E23: =B23*D23 -> 7200
A24: 2. Eksperta piesaiste digitālā mārketinga komunikācijai | B24: 2000 | D24: 5 | E24: =B24*D24 -> 10000
A25: 3. Eksperta piesaiste sociālo mediju satura izstrādei | B25: 800 | D25: 1 | E25: =B25*D25 -> 800
A26: 4. Sociālo mediju reklāmas izmaksas | B26: 2000 | D26: 6 | E26: =B26*D26 -> 12000
A27: Kopā: | E27: =SUM(E23:E26) -> 30000
A29: Zinātnes komunikācija | B29: x | C29: 1100 | D29: 18 | E29: =C29*D29 -> 19800
A31: Mediju sadarbības projekti (drukātie nacionālie mediji, reģionālie mediji, TV, radio, tiešsaistes mediji, mazākumtautību projekts, ekspertu piesaiste iepirkumu izvērtēšanā) | B31: x | C31: 50818 | D31: 3 | E31: =C31*D31 -> 152454
D33: PAVISAM KOPĀ: | E33: =E6+E11+E20+E27+E29+E31 -> 357149
A36: Atbalsts komunikācijai ar sabiedrību īstenošanai
A37: Amats | B37: Slodžu skaits | C37: Saime (apakšsaime) | D37: Līmenis | E37: Mēnešalgu grupa | F37: Amata vietai plānotā mēnešalga | G37: Piemaksa 10% (EKK 1147) | H37: Prēmijas un naudas balvas 10% (EKK 1148) | I37: Sociālā garantija 5% (EKK 1220) | J37: Sociālā garantija* 8.33% (EKK 1220) | K37: Valsts sociālās apdrošināšanas obligātās iemaksas, 23.59% | L37: Kopā mēnesī | M37: Kopā 12 mēnešiem (1000)** | N37: Kopā 12 mēnešiem (1100)** | O37: Kopā 12 mēnešiem (1200)** | P37: Kopā 12 mēnešiem | Q37: Kopā 2022.gada I.pusgads
G38: 0.1 | H38: 0.1 | I38: 0.05 | J38: 0.0833 | M38: 12 | N38: 12 | O38: 12
A39: 1 | B39: 2 | C39: 3 | D39: 4 | E39: 5 | F39: 6 | G39: 7=6*10% | H39: 8=6*10% | I39: 9=6*5% | J39: 10=6*8.33% | K39: 11=(6+7+8+9+10)*23.59% | L39: 12=6+7+8+9+10+11 | M39: 13=12*12 mēn. | N39: 14=(6+7+8)*12 mēn | O39: 15=(9+10+11)* 12 mēn | P39: 16=14+15
A40: Komunikācijas koordinators | B40: 1 | C40: 24 | D40: IV | E40: 12 | F40: 1647 | G40: =F40*0.1 -> 164.7 | H40: =F40*0.1 -> 164.7 | I40: =F40*0.05 -> 82.35 | J40: =F40*0.0833 -> 137.1951 | K40: =(F40+G40+H40+I40+J40)*0.2359 -> 518.02345 | L40: =F40+G40+H40+I40+J40+K40 -> 2713.9685 | M40: =L40*12 -> 32567.623 | N40: =(F40+G40+H40)*12 -> 23716.8 | O40: =(I40+J40+K40)*12 -> 8850.8226 | P40: =N40+O40 -> 32567.623 | Q40: =ROUND(P40/2,2) -> 16283.81
A41: Komunikācijas koordinators | B41: 1 | C41: 24 | D41: III | E41: 11 | F41: 1382 | G41: =F41*0.1 -> 138.2 | H41: =F41*0.1 -> 138.2 | I41: =F41*0.05 -> 69.1 | J41: =F41*0.0833 -> 115.1206 | K41: =(F41+G41+H41+I41+J41)*0.2359 -> 434.6742 | L41: =F41+G41+H41+I41+J41+K41 -> 2277.2948 | M41: =L41*12 -> 27327.538 | N41: =(F41+G41+H41)*12 -> 19900.8 | O41: =(I41+J41+K41)*12 -> 7426.7376 | P41: =N41+O41 -> 27327.538 | Q41: =ROUND(P41/2,2) -> 13663.77
A42: Datu analītiķis | B42: 1 | C42: 32 | D42: IIIA | E42: 11 | F42: 1382 | G42: =F42*0.1 -> 138.2 | H42: =F42*0.1 -> 138.2 | I42: =F42*0.05 -> 69.1 | J42: =F42*0.0833 -> 115.1206 | K42: =(F42+G42+H42+I42+J42)*0.2359 -> 434.6742 | L42: =F42+G42+H42+I42+J42+K42 -> 2277.2948 | M42: =L42*12 -> 27327.538 | N42: =(F42+G42+H42)*12 -> 19900.8 | O42: =(I42+J42+K42)*12 -> 7426.7376 | P42: =N42+O42 -> 27327.538 | Q42: =ROUND(P42/2,2) -> 13663.77
A43: Vecākais referents | B43: 1 | C43: 18.3 | D43: III | E43: 8 | F43: 1093 | G43: =F43*0.1 -> 109.3 | H43: =F43*0.1 -> 109.3 | I43: =F43*0.05 -> 54.65 | J43: =F43*0.0833 -> 91.0469 | K43: =(F43+G43+H43+I43+J43)*0.2359 -> 343.77634 | L43: =F43+G43+H43+I43+J43+K43 -> 1801.0732 | M43: =L43*12 -> 21612.879 | N43: =(F43+G43+H43)*12 -> 15739.2 | O43: =(I43+J43+K43)*12 -> 5873.6789 | P43: =N43+O43 -> 21612.879 | Q43: =ROUND(P43/2,2) -> 10806.44
P44: =ROUNDUP(SUM(P40:P43),2) -> 108835.58 | Q44: =SUM(Q40:Q43) -> 54417.79

Sheet Pielikums Nr_8
C1: 8.Pielikums Ministru kabineta rīkojuma “Par finanšu līdzekļu piešķiršanu no valsts budžeta programmas “Līdzekļi neparedzētiem gadījumiem”” projekta sākotnējās ietekmes novērtējuma ziņojumam (anotācijai)
A2: 6. Zvanu un klientu apkalpošanas centrs "8989"
B4: Mēneša izmaksas, euro | C4: Mēneši | D4: Nepieciešamais finansējums 2022.gada , euro | E4: Nepieciešamais finansējums 2022.gadam I pusgadam, euro
A5: Vienotā tālruņa 8989 zvanu centra darbība | B5: =D5/C5 -> 134057.83 | C5: 12 | D5: 1608694 | E5: =D5/2 -> 804347
C6: Kopā bez PVN: | D6: =D5 -> 1608694 | E6: =D6/2 -> 804347
C7: Kopā ar PVN: | D7: =(D6*0.21)+D6 -> 1946519.7 | E7: =ROUND(D7/2,0) -> 973260
A10: Amats | B10: Slodžu skaits | C10: Saime (apakšsaime) | D10: Līmenis | E10: Mēnešalgu grupa | F10: Amata vietai plānotā mēnešalga | G10: Piemaksa 10% (EKK 1147) | H10: Prēmijas un naudas balvas 10% (EKK 1148) | I10: Sociālā garantija 5% (EKK 1220) | J10: Sociālā garantija* 8.33% (EKK 1220) | K10: Valsts sociālās apdrošināšanas obligātās iemaksas, 23.59% | L10: Kopā mēnesī | M10: Kopā 12 mēnešiem (1000)** | N10: Kopā 12 mēnešiem (1100)** | O10: Kopā 12 mēnešiem (1200)** | P10: Kopā 12 mēnešiem | Q10: Kopā 2022.gada I.pusgads
G11: 0.1 | H11: 0.1 | I11: 0.05 | J11: 0.0833 | M11: 12 | N11: 12 | O11: 12
A12: 1 | B12: 2 | C12: 3 | D12: 4 | E12: 5 | F12: 6 | G12: 7=6*10% | H12: 8=6*10% | I12: 9=6*5% | J12: 10=6*8.33% | K12: 11=(6+7+8+9+10)*23.59% | L12: 12=6+7+8+9+10+11 | M12: 13=12*12 mēn. | N12: 14=(6+7+8)*12 mēn | O12: 15=(9+10+11)* 12 mēn | P12: 16=14+15
A13: Klientu apkalpošanas speciālists 8989 | B13: 1 | C13: 23 | D13: IIB | E13: 7 | F13: 996 | G13: =F13*0.1 -> 99.6 | H13: =F13*0.1 -> 99.6 | I13: =F13*0.05 -> 49.8 | J13: =F13*0.0833 -> 82.9668 | K13: =(F13+G13+H13+I13+J13)*0.2359 -> 313.26737 | L13: =F13+G13+H13+I13+J13+K13 -> 1641.2342 | M13: =L13*12 -> 19694.81 | N13: =(G13+F13+H13)*12 -> 14342.4 | O13: =(I13+J13+K13)*12 -> 5352.41 | P13: =N13+O13 -> 19694.81 | Q13: =ROUND(P13/2,0) -> 9847
O14: Kopā: | P14: =ROUNDUP(SUM(P13),0) -> 19695 | Q14: =ROUND(P14/2,0) -> 9848

Sheet Pielikums Nr_9
D1: 9.Pielikums Ministru kabineta rīkojuma “Par finanšu līdzekļu piešķiršanu no valsts budžeta programmas “Līdzekļi neparedzētiem gadījumiem”” projekta sākotnējās ietekmes novērtējuma ziņojumam (anotācijai)
A2: 7. Digitālais sertifikāts
A4: Nosaukums | B4: Pozīcija | C4: Pozīcijas izmaksas (euro, bez PVN 21%) | D4: Indikatīvais nepieciešamais finansējums 2022.gadam (euro, t.sk.PVN 21%) | E4: Indikatīvais nepieciešamais finansējums 2022.gada I.pusgadam (euro, t.sk.PVN 21%)
A5: Uzturēšanas izmaksas | B5: Atbilstoši VARAM metodoloģijai lielo IT sistēmu uzturēšanas izmaksas, ja sistēmai ir arī starpsistēmu integrācijas saskarnes, kuras tiek izmantotas citās sistēmās (šajā gadījumā - vairāki datu avoti, ārstniecībsa iestāžu/aptieku IS) sastāda 15-17% no kopējām izmaksām. NVD piemēro 16%, kas paredzēti izstrādātās programmatūras uzturēšanas nodrošināšanai atbilstoši tehniskās realizācijas un drošības prasībām, t.sk. līdzekļi funkcionēšanas problēmu profilaksei, kļūdu novēršanai un sistēmas lietotāju atbalstam, sistēmas ekspluatācijas laikā konstatēto kļūdu novēršanai, sistēmas darbības nepārtrauktības nodrošināšanai, pielāgošanas darbiem, kas saistīti izmaiņām izmantotajos tehnoloģiskajos risinājumos, sistēmas darbības pielāgojumi atbilstoši lietotāju vajadzībām u.c | C5: 148944 | D5: =C5+C5*0.21 -> 180222.24 | E5: =D5/2 -> 90111.12
A6: Izmaiņu/ pielāgojumu veikšanas izmaksas | B6: Atbalsta pakalpojumi un konsultācijas risinājumu pielāgošanā saistībā ar dažāda veida izmaiņām (normatīvie, sistēmiskie u.c.); 2000h apjomā | C6: 120000 | D6: =C6+C6*0.21 -> 145200 | E6: 145200
A7: Infrastruktūras īres izmaksas | B7: ES COVID-19 sertifikāta infrastruktūras īres pakalpojuma nodrošināšana 2022 gadam | C7: 119039 | D7: =C7+C7*0.21 -> 144037.19 | E7: =D7/2 -> 72018.595
A8: Drošības nodrošināšanas izmaksas | B8: LVRTC Vairogs+ pakalpojuma, ievainojamību pārvaldības risinājuma izmaksas | C8: 70323 | D8: =C8+C8*0.21 -> 85090.83 | E8: =D8/2 -> 42545.415
A9: Kopā: | C9: =SUM(C5:C8) -> 458306 | D9: =C9+C9*0.21 -> 554550.26 | E9: =SUM(E5:E8) -> 349875.13 | F9: =D9-E9 -> 204675.13
A12: 7. Atbalsts vakcinācijas procesa nodrošinājumam un uzturēšanai
A14: Amats | B14: Slodžu skaits | C14: Saime (apakšsaime) | D14: Līmenis | E14: Mēnešalgu grupa | F14: Amata vietai plānotā mēnešalga | G14: Piemaksa 10% (EKK 1147) | H14: Prēmijas un naudas balvas 10% (EKK 1148) | I14: Sociālā garantija 5% (EKK 1220) | J14: Sociālā garantija* 8.33% (EKK 1220) | K14: Valsts sociālās apdrošināšanas obligātās iemaksas, 23.59% | L14: Kopā mēnesī | M14: Kopā 12 mēnešiem (1000)** | N14: Kopā 12 mēnešiem (1100)** | O14: Kopā 12 mēnešiem (1200)** | P14: Kopā 12 mēnešiem | Q14: Kopā 2022.gada I.pusgads
G15: 0.1 | H15: 0.1 | I15: 0.05 | J15: 0.0833 | M15: 12 | N15: 12 | O15: 12
A16: 1 | B16: 2 | C16: 3 | D16: 4 | E16: 5 | F16: 6 | G16: 7=6*10% | H16: 8=6*10% | I16: 9=6*5% | J16: 10=6*8.33% | K16: 11=(6+7+8+9+10)*23.59% | L16: 12=6+7+8+9+10+11 | M16: 13=12*12 mēn. | N16: 14=(6+7+8)*12 mēn | O16: 15=(9+10+11)* 12 mēn | P16: 16=14+15
A17: Projekta vadītājs (digitālais sertifikāts) | B17: 1 | C17: 19.4 | D17: IV | E17: 12 | F17: 1647 | G17: =F17*0.1 -> 164.7 | H17: =F17*0.1 -> 164.7 | I17: =F17*0.05 -> 82.35 | J17: =F17*0.0833 -> 137.1951 | K17: =(F17+G17+H17+I17+J17)*0.2359 -> 518.02345 | L17: =F17+G17+H17+I17+J17+K17 -> 2713.9685 | M17: =L17*12 -> 32567.623 | N17: =(G17+F17+H17)*12 -> 23716.8 | O17: =(I17+J17+K17)*12 -> 8850.8226 | P17: =O17+N17 -> 32567.623 | Q17: =ROUND(P17/2,2) -> 16283.81
A18: Jurists | B18: 1 | C18: 21 | D18: IIIB | E18: 10 | F18: 1282 | G18: =F18*0.1 -> 128.2 | H18: =F18*0.1 -> 128.2 | I18: =F18*0.05 -> 64.1 | J18: =F18*0.0833 -> 106.7906 | K18: =(F18+G18+H18+I18+J18)*0.2359 -> 403.22165 | L18: =F18+G18+H18+I18+J18+K18 -> 2112.5123 | M18: =L18*12 -> 25350.147 | N18: =(G18+F18+H18)*12 -> 18460.8 | O18: =(I18+J18+K18)*12 -> 6889.347 | P18: =O18+N18 -> 25350.147 | Q18: =ROUND(P18/2,2) -> 12675.07
O19: Kopā: | P19: =SUM(P17:P18) -> 57917.77 | Q19: =SUM(Q17:Q18) -> 28958.88
Q21: =Q19+E9 -> 378834.01
