Workbook

Sheet Pielikums
A1: Pielikums Ministru kabineta noteikumu projekta „Grozījumi Ministru kabineta 2014.gada 23.decembra noteikumos Nr.790 “Sociālas rehabilitācijas pakalpojumu sniegšanas kārtība no vardarbības cietušām un vardarbību veikušām pilngadīgām personām”” sākotnējās ietekmes novērtējuma ziņojumam (anotācijai)
A2: Sociālas rehabilitācijas pakalpojumu sniegšanai no vardarbības cietušām un vardarbību veikušām pilngadīgām personām nepieciešamā finansējuma aprēķina kopsavilkums (izdevumi 2023.gādā un 2024. gadā (un turpmāk ik gadu))
A4: Pakalpojuma nosaukums | C4: Apakšprogramma | D4: ='1.tab_spēkā_esošie_MKnot'!C5 -> Izdevumi 2023.gadā | I4: ='1.tab_spēkā_esošie_MKnot'!G5 -> Izdevumi 2024.gadā un turpmāk ik gadu
D5: EKK5000 | E5: EKK 3000 | F5: EKK 7460 | G5: Kopā | I5: EKK 3000 | J5: EKK 7460 | K5: Kopā
A6: Sociālas rehabilitācijas pakalpojumi no vardarbības cietušām pilngadīgām personām | C6: 05.01.00. „Sociālās rehabilitācijas valsts programmas” | D6: 0 | E6: ='1.tab_spēkā_esošie_MKnot'!C7 -> 0 | F6: ='1.tab_spēkā_esošie_MKnot'!D7 -> 493131.28 | G6: =E6+F6+D6 -> 493131.28 | I6: =E6 -> 0 | J6: ='1.tab_spēkā_esošie_MKnot'!H7 -> 498978 | K6: =I6+J6 -> 498978 | M6: https://likumi.lv/ta/id/340880-grozijumi-ministru-kabineta-2014-gada-23-decembra-noteikumos-nr-790-socialas-rehabilitacijas-pakalpojumu-sniegsanas-kartiba-no-…
A7: Sociālās rehabilitācijas pakalpojumi vardarbību veikušām pilngadīgām personām” | D7: 0 | E7: ='1.tab_spēkā_esošie_MKnot'!C8 -> 668562 | F7: ='1.tab_spēkā_esošie_MKnot'!D8 -> 0 | G7: =E7+F7+D7 -> 668562 | I7: =E7 -> 668562 | J7: =F7 -> 0 | K7: =I7+J7 -> 668562
A8: Pakalpojuma „Sociālās rehabilitācijas pakalpojumi vardarbību veikušām pilngadīgām personām” speciālistu apmācības un supervīzija | D8: 0 | E8: ='1.tab_spēkā_esošie_MKnot'!C9 -> 11182 | F8: ='1.tab_spēkā_esošie_MKnot'!D9 -> 0 | G8: =E8+F8+D8 -> 11182 | I8: =E8 -> 11182 | J8: =F8 -> 0 | K8: =I8+J8 -> 11182
A9: Finansējums informācijas sistēmu SOPA un SPOLIS | C9: 97.02.00 "Nozares centralizēto funkciju izpilde" | D9: 0 | E9: 0 | F9: 0 | G9: =E9+F9+D9 -> 0 | I9: 0 | J9: 0
A10: KOPĀ | D10: =SUM(D6:D9) -> 0 | E10: =SUM(E6:E9) -> 679744 | F10: =SUM(F6:F9) -> 493131.28 | G10: =SUM(G6:G9) -> 1172875.3 | I10: =SUM(I6:I8) -> 679744 | J10: =SUM(J6:J8) -> 498978 | K10: =SUM(K6:K8) -> 1178722
A11: KOPĀ | D11: =ROUND(D10,0) -> 0 | E11: =ROUND(E10,0) -> 679744 | F11: =ROUND(F10,0) -> 493131 | G11: =ROUND(G10,0) -> 1172875 | I11: =ROUND(I10,0) -> 679744 | J11: =ROUND(J10,0) -> 498978 | K11: =ROUND(K10,0) -> 1178722 | L11: ='1.tab_spēkā_esošie_MKnot'!A1 -> tabula Nr.1
A12: Izmaiņas:
A13: Pakalpojuma nosaukums | C13: Apakšprogramma | D13: Izmaiņas 2023. gadā | I13: izmaiņas 2024. gadā un turpmāk ik gadu
D14: EKK5000 | E14: EKK 3000 | F14: EKK 7460 | G14: Kopā | I14: EKK 3000 | J14: EKK 7460 | K14: Kopā
A15: Sociālas rehabilitācijas pakalpojumi no vardarbības cietušām pilngadīgām personām * | C15: 05.01.00. „Sociālās rehabilitācijas valsts programmas” | D15: 0 | E15: =ROUND(I15/2,0) -> 0 | F15: =ROUND(J15/2,0) -> 195889 | G15: =E15+F15+D15 -> 195889 | I15: 0 | J15: ='2.tab_izmaiņas'!H7 -> 391777 | K15: =I15+J15 -> 391777
A16: Sociālās rehabilitācijas pakalpojumi vardarbību veikušām pilngadīgām personām” | D16: 0 | E16: =I16 -> 0 | F16: =J16 -> 0 | G16: =E16+F16+D16 -> 0 | I16: 0 | J16: 0 | K16: =I16+J16 -> 0
A17: Pakalpojuma „Sociālās rehabilitācijas pakalpojumi vardarbību veikušām pilngadīgām personām” speciālistu apmācības un supervīzija | D17: 0 | E17: =I17 -> 0 | F17: =J17 -> 0 | G17: =E17+F17+D17 -> 0 | I17: 0 | J17: 0 | K17: =I17+J17 -> 0
A18: Finansējums informācijas sistēmu SOPA un SPOLIS | C18: 97.02.00 "Nozares centralizēto funkciju izpilde" | D18: ='2.tab_izmaiņas'!C8 -> 76230 | E18: 0 | F18: 0 | G18: =E18+F18+D18 -> 76230 | I18: 0 | J18: 0 | K18: 0
A19: KOPĀ | D19: =SUM(D15:D18) -> 76230 | E19: =SUM(E15:E18) -> 0 | F19: =SUM(F15:F18) -> 195889 | G19: =SUM(G15:G18) -> 272119 | I19: =SUM(I15:I17) -> 0 | J19: =SUM(J15:J17) -> 391777 | K19: =SUM(K15:K17) -> 391777
A20: KOPĀ | D20: =ROUND(D19,0) -> 76230 | E20: =ROUND(E19,0) -> 0 | F20: =ROUND(F19,0) -> 195889 | G20: =ROUND(G19,0) -> 272119 | I20: =ROUND(I19,0) -> 0 | J20: =ROUND(J19,0) -> 391777 | K20: =ROUND(K19,0) -> 391777 | L20: ='2.tab_izmaiņas'!A1 -> tabula Nr.2
D21: *Noteikumi stājas spēkā 2023.gada 1.jūlijā (indikatīvi pakalpojumam 2023. gadā papildu nepieciešamais finansējums 50% apmērā no gadā nepieciešamā papildu finansējuma).
A22: KOPĀ
A23: Pakalpojuma nosaukums | C23: Apakšprogramma | D23: =D4 -> Izdevumi 2023.gadā | I23: =I4 -> Izdevumi 2024.gadā un turpmāk ik gadu
D24: EKK5000 | E24: EKK 3000 | F24: EKK 7460 | G24: Kopā | I24: EKK 3000 | J24: EKK 7460 | K24: Kopā
A25: Sociālas rehabilitācijas pakalpojumi no vardarbības cietušām pilngadīgām personām | C25: 05.01.00. „Sociālās rehabilitācijas valsts programmas” | D25: 0 | E25: =E6+E15 -> 0 | F25: =F6+F15 -> 689020.28 | G25: =E25+F25+D25 -> 689020.28 | I25: =I6+I15 -> 0 | J25: =J6+J15 -> 890755 | K25: =I25+J25 -> 890755
A26: Sociālās rehabilitācijas pakalpojumi vardarbību veikušām pilngadīgām personām” | D26: 0 | E26: =E7+E16 -> 668562 | F26: =F7+F16 -> 0 | G26: =E26+F26+D26 -> 668562 | I26: =I7+I16 -> 668562 | J26: =J7+J16 -> 0 | K26: =I26+J26 -> 668562
A27: Pakalpojuma „Sociālās rehabilitācijas pakalpojumi vardarbību veikušām pilngadīgām personām” speciālistu apmācības un supervīzija ( | D27: 0 | E27: =E8+E17 -> 11182 | F27: =F8+F17 -> 0 | G27: =E27+F27+D27 -> 11182 | I27: =I8+I17 -> 11182 | J27: =J8+J17 -> 0 | K27: =I27+J27 -> 11182
A28: Finansējums informācijas sistēmu SOPA un SPOLIS | C28: 97.02.00 "Nozares centralizēto funkciju izpilde" | D28: 76230 | G28: =E28+F28+D28 -> 76230 | I28: 0 | J28: 0
A29: KOPĀ | D29: =SUM(D25:D28) -> 76230 | E29: =SUM(E25:E28) -> 679744 | F29: =SUM(F25:F28) -> 689020.28 | G29: =SUM(G25:G28) -> 1444994.3 | I29: =SUM(I25:I27) -> 679744 | J29: =SUM(J25:J27) -> 890755 | K29: =SUM(K25:K27) -> 1570499
A30: KOPĀ | D30: =ROUND(D29,0) -> 76230 | E30: =ROUND(E29,0) -> 679744 | F30: =ROUND(F29,0) -> 689020 | G30: =ROUND(G29,0) -> 1444994 | I30: =ROUND(I29,0) -> 679744 | J30: =ROUND(J29,0) -> 890755 | K30: =ROUND(K29,0) -> 1570499
A33: Detalizēti aprēķinus skat. pielikuma aprēķina tabulā:
A34: ='1.tab_spēkā_esošie_MKnot'!A1 -> tabula Nr.1 | C34: ='1.tab_spēkā_esošie_MKnot'!A3 -> Sociālas rehabilitācijas pakalpojumu sniegšanai no vardarbības cietušām un vardarbību veikušām pilngadīgām personām nepieciešamā finansējuma aprēķina kopsavilkums (izdevumi 2023.gādā un 2024. gadā (un turpmāk ik gadu)) bez izmaiņām
A35: ='2.tab_izmaiņas'!A1 -> tabula Nr.2 | C35: ='2.tab_izmaiņas'!A3 -> Sociālas rehabilitācijas pakalpojumu sniegšanai no vardarbības cietušām pilngadīgām personām nepieciešamā finansējuma aprēķina kopsavilkums (izdevumi 2023.gādā un 2024. gadā (un turpmāk ik gadu)) grozījumu ietekme
A36: ='3.tab_ārzemnieki'!A1 -> tabula Nr.3 | C36: ='3.tab_ārzemnieki'!A3 -> Izmaksu aprēķins 30 dienu kursam ar izmitināšu institūcijā no vardarbības cietušas pilngadīgas personas sociālai rehabilitācijai (SPSPL 3. panta (8) daļa)*
F38: Rezultatīvais rādītājs
H39: Plāns | I39: izmaiņas | J39: Ar izmaiņām
F40: No vardarbības cietušās pilngadīgās personas, kuras saņēmušas pakalpojumu (unikālais skaits) | H40: 600 | I40: =100+8+1 -> 109 | J40: =H40+I40 -> 709
F41: Vardarbību veikušās pilngadīgās personas, kuras saņēmušas pakalpojumu (unikālais skaits) | H41: 812 | I41: 0 | J41: =H41+I41 -> 812
A43: S.Strēle
A44: 64331831

Sheet 1.tab_spēkā_esošie_MKnot
A1: tabula Nr.1
A2: Ministru kabineta noteikumu projekta „Grozījumi Ministru kabineta 2014.gada 23.decembra noteikumos Nr.790 “Sociālas rehabilitācijas pakalpojumu sniegšanas kārtība no vardarbības cietušām un vardarbību veikušām pilngadīgām personām”” sākotnējās ietekmes novērtējuma ziņojumam (anotācijai)
A3: Sociālas rehabilitācijas pakalpojumu sniegšanai no vardarbības cietušām un vardarbību veikušām pilngadīgām personām nepieciešamā finansējuma aprēķina kopsavilkums (izdevumi 2023.gādā un 2024. gadā (un turpmāk ik gadu)) bez izmaiņām
A5: Pakalpojuma nosaukums | C5: Izdevumi 2023.gadā | G5: Izdevumi 2024.gadā un turpmāk ik gadu
C6: EKK 3000 | D6: EKK 7460 | E6: Kopā | G6: EKK 3000 | H6: EKK 7460 | I6: Kopā
A7: Sociālas rehabilitācijas pakalpojumi no vardarbības cietušām pilngadīgām personām (skat. 1.tabulu) | C7: 0 | D7: =ROUND('1.1.cietušās_p_līdz_30.06.2023'!F30,0)+'1.1.2.terorisms'!F6 -> 493131.28 | E7: =C7+D7 -> 493131.28 | G7: 0 | H7: =ROUND('1.1.cietušās_p_līdz_30.06.2023'!F30,0)+'1.1.2.terorisms'!F7 -> 498978 | I7: =G7+H7 -> 498978 | J7: ='1.1.cietušās_p_līdz_30.06.2023'!H1 -> tabula Nr.1.1.
A8: Sociālās rehabilitācijas pakalpojumi vardarbību veikušām pilngadīgām personām” (skat.2. un 3.tabulu) | C8: 668562 | D8: 0 | E8: =C8+D8 -> 668562 | G8: 668562 | H8: 0 | I8: =G8+H8 -> 668562 | J8: ='1.2.varmākas'!I1 -> tabula Nr.1.2.
A9: Pakalpojuma „Sociālās rehabilitācijas pakalpojumi vardarbību veikušām pilngadīgām personām” speciālistu apmācības un supervīzija (skat.4.tabulu) | C9: 11182 | D9: 0 | E9: =C9+D9 -> 11182 | G9: 11182 | H9: 0 | I9: =G9+H9 -> 11182 | J9: ='1.3.speciālistu_apmāc.'!H1 -> tabula Nr.1.3.
A10: KOPĀ | C10: =SUM(C7:C9) -> 679744 | D10: =SUM(D7:D9) -> 493131.28 | E10: =SUM(E7:E9) -> 1172875.3 | G10: =SUM(G7:G9) -> 679744 | H10: =SUM(H7:H9) -> 498978 | I10: =SUM(I7:I9) -> 1178722
A11: KOPĀ | C11: =ROUND(C10,0) -> 679744 | D11: =ROUND(D10,0) -> 493131 | E11: =ROUND(E10,0) -> 1172875 | G11: =ROUND(G10,0) -> 679744 | H11: =ROUND(H10,0) -> 498978 | I11: =ROUND(I10,0) -> 1178722
A14: Detalizēti aprēķinus skat. 1.tabulas aprēķinu tabulā:
A15: ='1.1.cietušās_p_līdz_30.06.2023'!H1 -> tabula Nr.1.1. | B15: ='1.1.cietušās_p_līdz_30.06.2023'!A3 -> Pakalpojuma „Sociālās rehabilitācijas pakalpojumi no vardarbības cietušām pilngadīgām personām” izmaksu aprēķins
B16: ='1.1.1.cietušie_pak_KC'!I1 -> tabula Nr.1.1.1. | C16: ='1.1.1.cietušie_pak_KC'!A3 -> Izmaksu aprēķins 30 dienu kursam ar izmitināšu institūcijā no vardarbības cietušas pilngadīgas personas sociālai rehabilitācijai
B17: ='1.1.2.terorisms'!F1 -> tabula Nr.1.1.2. | C17: ='1.1.2.terorisms'!A3 -> Plānotais papildu finansējuma apjoms sociālās rehabilitācijas nodrošināšanai terorismā cietušām personām
A18: ='1.2.varmākas'!I1 -> tabula Nr.1.2. | B18: ='1.2.varmākas'!A3 -> Pakalpojuma „Sociālās rehabilitācijas pakalpojumi vardarbību veikušām pilngadīgām personām” izmaksu aprēķins
A19: ='1.3.speciālistu_apmāc.'!H1 -> tabula Nr.1.3. | B19: ='1.3.speciālistu_apmāc.'!A3 -> Pakalpojuma ""Sociālās rehabilitācijas pakalpojumi vardarbību veikušām pilngadīgām personām" speciālistu apmācībām un supervīzijām" izmaksu aprēķins

Sheet 1.1.cietušās_p_līdz_30.06.2023
H1: tabula Nr.1.1.
A2: ='1.1.1.cietušie_pak_KC'!A2 -> Ministru kabineta noteikumu projekta „Grozījumi Ministru kabineta 2014.gada 23.decembra noteikumos Nr.790 “Sociālas rehabilitācijas pakalpojumu sniegšanas kārtība no vardarbības cietušām un vardarbību veikušām pilngadīgām personām”” sākotnējās ietekmes novērtējuma ziņojumam (anotācijai)
A3: Pakalpojuma „Sociālās rehabilitācijas pakalpojumi no vardarbības cietušām pilngadīgām personām” izmaksu aprēķins
A4: Pakalpojuma veids/ finansējuma aprēķins | B4: Pakalpojuma cenas un finansējums | H4: Aprēķini
B5: Cena euro | C5: dienu/ konsultāciju, skaits | D5: rezultatīvais rādītājs | F5: Nepieciešamais finansējums | G5: MAX izmaksas uz 1 klientu kursā (bez tulka pakalpojuma)
D6: nosaukums | E6: skaits
A7: 1.posms - Sociālās rehabilitācijas pakalpojuma sniegšana
A8: 1.Sociālās rehabilitācijas pakalpojuma kursa izmaksas kopā | E8: =E9+E13 -> 600 | F8: =F9+F13 -> 398432.96 | G8: =G9+G13 -> 5851.62
A9: 1.1. Pakalpojums institūcijā | E9: =E10 -> 120 | F9: =F10+F11+F12 -> 230680.32 | G9: =G11+G12 -> 5054.4
A10: 30 dienu pamatkurss | B10: ='1.1.1.cietušie_pak_KC'!G14 -> 52 | C10: 30 | D10: max 30 (60) dienas/ persona | E10: 120 | F10: =E10*C10*B10 -> 187200 | G10: =B10*30 -> 1560 | H10: Detalizēts aprēķins skat. tabula Nr.1.1.1. / Atbilstoši pakalpojuma izpildes statistikas datiem 2019. gadā, no kopējā pakalpojumu saņēmēju skaita 20% pakalpojumu saņem institūcijā. Plānots, ka gadā pakalpojumu saņem 600 personas, no kurām 20%, t.i. 120 personas saņem pakalpojumu ar izmitināšanu institūcijā.
A11: 30 dienu papildus kurss (kopā līdz 60 dienām) | B11: ='1.1.1.cietušie_pak_KC'!G14 -> 52 | C11: 30 | E11: 12 | F11: =E11*C11*B11 -> 18720 | G11: =B11*60 -> 3120 | H11: Detalizēts aprēķins skat. tabula Nr.1.1.1. Atbilstoši pakalpojuma izpildes statistikas datiem 2019. gadā, no kopējā pakalpojumu saņēmēju skaita, kuri pakalpojumu saņem ar izmitināšanu institūcijā, papildus 30 dienas tiek piešķirtas nepilniem 10%. Plānots, ka gadā pakalpojumu institūcijā saņem 120 personas, no kurām 10%, t.i. 12 personas saņem pakalpojumu ar izmitināšanu institūcijā līdz 60 dienām (papildus 30 dienas).
A12: klienta bērna izmaksas | B12: ='1.1.1.cietušie_pak_KC'!G11 -> 32.24 | C12: 32 | E12: 24 | F12: =E12*C12*B12 -> 24760.32 | G12: =B12*60 -> 1934.4 | H12: Bērna izmaksas (aprēķins skat. tabula Nr.1.1.1.) tikai uzturēšanai, ja bērns nesaņem pakalpojumu 23.22 euro/dienā. Pēc statistikas datiem 2019. gadā: pakalpojumu institūcijā kopā ar bērnu, kuram nav vardarbībā cietušās personas statuss, saņem vidēji 20% no pakalpojuma institūcijā saņēmējiem (20% no 120 personām = 24 personas). Vidēji viens bērns institūcijā pavada 32 dienas.
A13: 1.2. Pakalpojums dzīvesvietā - psihosociālais atbalsts (speciālistu individuālās konsultācijas) | E13: =E14 -> 480 | F13: =F14+F18 -> 167752.64 | G13: =G14+G18 -> 797.22
A14: 1.2.1. konsultācijas | E14: =E15 -> 480 | F14: =F15+F17+F16 -> 145881.6 | G14: =G15+G17+G16 -> 442.9
A15: Speciālistu konsultācijas (konsultācija 45 minūtes un 15 minūtes dokumentu kārtošana) | B15: 35 | C15: 8 | D15: max persona 10 konsultācijas, vidēji faktiski saņem 8 | E15: 480 | F15: =E15*C15*B15 -> 134400 | G15: =B15*10 -> 350 | H15: Vienas stundas izmaksā 35.00 euro ir iekļauti visi nodokļi, kas saistīti ar attiecīgā pakalpojuma sniegšanu, gan darba ņēmēja, gan darba devēja valsts sociālās apdrošināšanas obligātās iemaksas, kā arī iedzīvotāju ienākuma nodoklis. Aprēķinos par gadā plānoto finansējuma apjoma nepieciešamību, pieņemts (balstoties uz statistikas datiem 2019. gadā), ka viena persona vidēji faktiski saņem 8 konsultācijas.
A16: Sociālās rehabilitācijas pakalpojuma organizēšanas izmaksas (telpu noma, materiālu kopēšana, kancelejas preces, sakaru pakalpojumi u.c.) | B16: 2.29 | C16: =C15 -> 8 | E16: =E15 -> 480 | F16: =E16*C16*B16 -> 8793.6 | G16: =B16*10 -> 22.9 | H16: Pakalpojumu grozā ar izmitināšanu šīs izmaksas 1 klientam dienā vidēji ir 26.16 euro, tiek pieņemts, ka pakalpojumam bez izmitināšanas, kas tiek sniegts klientam tikai darba dienās darba laikā, t.i., 8 stundas dienā, šīs izmaksas sastāda 70% no 26.16 euro = 18.31 euro dienā/ 2.29 euro stundā. Aprēķinos par gadā plānoto finansējuma apjoma nepieciešamību, pieņemts (balstoties uz statistikas datiem 2019. gadā), ka viena persona vidēji faktiski saņem 8 konsultācijas.
A17: Transporta izdevumi klientiem | B17: 7 | C17: =C16 -> 8 | E17: =ROUND(E15*0.1,0) -> 48 | F17: =E17*C17*B17 -> 2688 | G17: =B17*10 -> 70 | H17: Aprēķinos pieņemts, ka 10% no pakalpojuma saņēmējiem tiks segti transporta izdevumi.
A18: 1.2.2. papildu konsultācijas | E18: =E19 -> 72 | F18: =F19+F21+F20 -> 21871.04 | G18: =G19+G21+G20 -> 354.32 | H18: Aprēķinos pieņemts, ka 15% no pakalpojuma saņēmējiem tiek piešķirts papildu konsultāciju kurss līdz 20 konsultācijām.
A19: Speciālistu konsultācijas (10 papildus konsultācijas kopā līdz 20 konsultācijām) (konsultācija 45 minūtes un 15 minūtes dokumentu kārtošana) | B19: 35 | C19: 8 | D19: max persona 10 konsultācijas | E19: =E14*0.15 -> 72 | F19: =E19*C19*B19 -> 20160 | G19: =B19*C19 -> 280 | H19: =H15 -> Vienas stundas izmaksā 35.00 euro ir iekļauti visi nodokļi, kas saistīti ar attiecīgā pakalpojuma sniegšanu, gan darba ņēmēja, gan darba devēja valsts sociālās apdrošināšanas obligātās iemaksas, kā arī iedzīvotāju ienākuma nodoklis. Aprēķinos par gadā plānoto finansējuma apjoma nepieciešamību, pieņemts (balstoties uz statistikas datiem 2019. gadā), ka viena persona vidēji faktiski saņem 8 konsultācijas.
A20: Sociālās rehabilitācijas pakalpojuma organizēšanas izmaksas (telpu noma, materiālu kopēšana, kancelejas preces, sakaru pakalpojumi u.c.) | B20: =B16 -> 2.29 | C20: 8 | E20: =E19 -> 72 | F20: =E20*C20*B20 -> 1319.04 | G20: =B20*C20 -> 18.32 | H20: =H16 -> Pakalpojumu grozā ar izmitināšanu šīs izmaksas 1 klientam dienā vidēji ir 26.16 euro, tiek pieņemts, ka pakalpojumam bez izmitināšanas, kas tiek sniegts klientam tikai darba dienās darba laikā, t.i., 8 stundas dienā, šīs izmaksas sastāda 70% no 26.16 euro = 18.31 euro dienā/ 2.29 euro stundā. Aprēķinos par gadā plānoto finansējuma apjoma nepieciešamību, pieņemts (balstoties uz statistikas datiem 2019. gadā), ka viena persona vidēji faktiski saņem 8 konsultācijas.
A21: Transporta izdevumi klientiem | B21: 7 | C21: 8 | E21: =ROUND(E19*0.1,0) -> 7 | F21: =E21*C21*B21 -> 392 | G21: =B21*C21 -> 56 | H21: =H17 -> Aprēķinos pieņemts, ka 10% no pakalpojuma saņēmējiem tiks segti transporta izdevumi.
A22: 2.posms - konsultāciju nodrošinājums pēc sociālās rehabilitācijas pakalpojuma kursa pabeigšanas
A23: 2.1. Individuālo konsultāciju izmaksas pēc sociālās rehabilitācijas pakalpojuma kursa pabeigšanas kopā | E23: =ROUND(E8*0.1,0) -> 60 | F23: =F24+F26+F25 -> 6838.2 | G23: =G24+G26+G25 -> 132.87 | H23: Aprēķinos pieņem, ka individuālās konsultācijas pēc SR pakalpojuma kursa saņems 10% no pakalpojuma saņēmējiem.
A24: Speciālistu konsultācijas (konsultācija 45 minūtes un 15 minūtes dokumentu kārtošana) | B24: 35 | C24: 3 | D24: persona | E24: =E23 -> 60 | F24: =B24*C24*E24 -> 6300 | G24: =B24*C24 -> 105 | H24: Vienas stundas izmaksā 35.00 euro ir iekļauti visi nodokļi, kas saistīti ar attiecīgā pakalpojuma sniegšanu, gan darba ņēmēja, gan darba devēja valsts sociālās apdrošināšanas obligātās iemaksas, kā arī iedzīvotāju ienākuma nodoklis.
A25: Sociālās rehabilitācijas pakalpojuma organizēšanas izmaksas (telpu noma, materiālu kopēšana, kancelejas preces, sakaru pakalpojumi u.c.) | B25: =B20 -> 2.29 | C25: 3 | D25: persona | E25: =E24 -> 60 | F25: =E25*C25*B25 -> 412.2 | G25: =B25*C25 -> 6.87 | H25: Pakalpojumu grozā ar izmitināšanu šīs izmaksas 1 klientam dienā vidēji ir 26.16 euro, tiek pieņemts, ka pakalpojumam bez izmitināšanas, kas tiek sniegts klientam tikai darba dienās darba laikā, t.i., 8 stundas dienā, šīs izmaksas sastāda 70% no 26.16 euro = 18.31 euro dienā/ 2.29 euro stundā.
A26: Transporta izdevumi klientiem | B26: 7 | C26: 3 | D26: persona | E26: =ROUND(E24*0.1,0) -> 6 | F26: =B26*C26*E26 -> 126 | G26: =B26*C26 -> 21 | H26: Aprēķinos pieņemts, ka 10% no pakalpojuma saņēmējiem tiks segti transporta izdevumi.
A27: 3. Tulka pakalpojumu izdevumi | F27: =10*40*2 -> 800 | G27: x | H27: Plānotais apjoms 20 konsultāciju tulka pakalpojumiem, 1h izmaksas tulkam nepārsniedz 40 euro. Vienas stundas izmaksā ir iekļauti visi nodokļi, kas saistīti ar attiecīgā pakalpojuma sniegšanu, gan darba ņēmēja, gan darba devēja valsts sociālās apdrošināšanas obligātās iemaksas, kā arī iedzīvotāju ienākuma nodoklis.
A28: Sociālā rehabilitācijas pakalpojuma kursa izmaksas kopā | F28: =F23+F8+F27 -> 406071.16 | G28: x
A29: 4. Pakalpojuma sniedzēja administrēšanas izdevumi 20% | F29: =F28*20% -> 81214.232 | G29: x
A30: Kopā | F30: =F28+F29 -> 487285.39 | G30: x

Sheet 1.1.1.cietušie_pak_KC
I1: tabula Nr.1.1.1.
A2: ='1.2.varmākas'!A2 -> Ministru kabineta noteikumu projekta „Grozījumi Ministru kabineta 2014.gada 23.decembra noteikumos Nr.790 “Sociālas rehabilitācijas pakalpojumu sniegšanas kārtība no vardarbības cietušām un vardarbību veikušām pilngadīgām personām”” sākotnējās ietekmes novērtējuma ziņojumam (anotācijai)
A3: Izmaksu aprēķins 30 dienu kursam ar izmitināšu institūcijā no vardarbības cietušas pilngadīgas personas sociālai rehabilitācijai
A4: Izmaksu pozīcija | B4: stundas/ konsultācijas | C4: vienību skaits kursā | D4: vienas vienības izmaksas | E4: izmaksas 1 klientam 30 dienās | G4: MAX izmaksas 1 klientam dienā | I4: Paskaidrojums/Izmaksu aprēķins
E5: EURO | F5: % | G5: EURO | H5: %
A6: 1. Tiešās sociālā rehabilitācijas pakalpojuma izmaksas kopā | E6: =E7+E8+E9+E10 -> 592.72031 | F6: =E6*100/E14 -> 37.995371 | G6: =G7+G8+G9+G10 -> 19.757344 | H6: =G6*100/G14 -> 37.994892
A7: Sociālā darbinieka konsultācijas | B7: konsultācijas | C7: 6 | D7: =(1388*1.2359)/167 -> 10.272031 | E7: =C7*D7 -> 61.632187 | G7: =E7/30 -> 2.0544062 | I7: Mēnešalga pielīdzināta MK 26.04.2022. not. Nr. 262 "Valsts un pašvaldību institūciju amatu katalogs, amatu klasifikācijas un amatu apraksta izstrādāšanas kārtība" 8.mēnešalgu grupai (saime, apkšsaime 43.1., līmenis IV). Mēnešalga 1 388 euro x 1.2359 = 1 715.43 euro : 167h = 10.27 euro. Speciālista 1 darba stundas izmaksas nepārsniedz 10.27 euro, tai skaitā darba devēja VSAOI.
A8: Sociālā darbinieka sociālā gadījuma vadīšanas darbs (sadarbības organizēšana ar citiem pakalpojumu sniedzējiem, SD, tiesībaizsardzības institūcijām u.c.) | B8: stundas | C8: 4 | D8: =D7 -> 10.272031 | E8: =C8*D8 -> 41.088125 | G8: =E8/30 -> 1.3696042
A9: Psihologa konsultācijas (konsultācija 45 minūtes un 15 minūtes dokumentu kārtošana) | B9: konsultācijas | C9: 10 | D9: 35 | E9: =C9*D9 -> 350 | G9: =E9/30 -> 11.666667 | I9: Vienas stundas izmaksā 35.00 euro ir iekļauti visi nodokļi, kas saistīti ar attiecīgā pakalpojuma sniegšanu, gan darba ņēmēja, gan darba devēja valsts sociālās apdrošināšanas obligātās iemaksas, kā arī iedzīvotāju ienākuma nodoklis.
A10: Speciālistu (ārsts, psihiatrs, jurists u.c.) konsultācija (konsultācija 45 minūtes un 15 minūtes dokumentu kārtošana) | B10: konsultācijas | C10: 4 | D10: 35 | E10: =C10*D10 -> 140 | G10: =E10/30 -> 4.6666667
A11: 2. Ar pakalpojuma prasību nodrošināšanu un klienta uzturēšanu saistītās izmaksas (arī bērna izmaksas) kopā | E11: =E12+E13 -> 967.26 | F11: =E11*100/E14 -> 62.004629 | G11: =ROUND(G12+G13,2) -> 32.24 | H11: =G11*100/G14 -> 62
A12: Darbinieku kvalifikācijas celšanas, supervīziju un veselības apdrošināšanas izmaksas | B12: izmaksas uz 1 personu | C12: 30 | D12: 0.85 | E12: =C12*D12 -> 25.5 | G12: =E12/C12 -> 0.85 | I12: Izmaksas uz 1 personu dienā pielīdzinātas valsts apmaksātā pakalpojuma "No prettiesiskām darbībām cietušu bērnu sociālās rehabilitācijas pakalpojuma institūcijā - 30 dienu kurss bērnam" cenu grozā iekļautajām izmaksām. | L12: 80 | M12: =M14*L12/100 -> 41.6 | N12: pakalpojums
A13: Izmaksas, kas saistītas ar pakalpojuma administrēšanu un klientu uzturēšanu (izmitināšanu), t.sk., ēdināšana, komunālie, telpu īre, transporta pakalpojumi, kancelejas preces. | B13: diena | C13: 30 | D13: =26.16*1.2 -> 31.392 | E13: =C13*D13 -> 941.76 | G13: =E13/C13 -> 31.392 | I13: Pakalpojuma administrēšanai novirza ne vairāk kā 20% no kopējās pakalpojuma viena klienta vienas dienas cenas. | L13: 20 | M13: =G14-M12 -> 10.4 | N13: administrēšana | P13: =G13-M13 -> 20.992
A14: Pakalpojuma izmaksas kopā | E14: =E6+E11 -> 1559.9803 | F14: =F6+F11 -> 100 | G14: =ROUND(G6+G11,2) -> 52 | H14: =H6+H11 -> 99.994892 | I14: Pakalpojuma administrēšanai novirza ne vairāk kā 20% no kopējās pakalpojuma viena klienta vienas dienas cenas. | L14: 100 | M14: =G14 -> 52
M15: =M14-M13-M12 -> 0
F16: Pakalpojuma izmaksas 1 personai (bez bērna)/dienā | G16: =G14 -> 52
F17: Pakalpojuma izmaksas 1 personai (ar 1 bērnu)/dienā | G17: =$G$14+$G$11*1 -> 84.24
F18: Pakalpojuma izmaksas 1 personai (ar 2 bērniem)/dienā | G18: =$G$14+$G$11*2 -> 116.48
F19: Pakalpojuma izmaksas 1 personai (ar 3 bērniem)//dienā | G19: =$G$14+$G$11*3 -> 148.72
F20: Pakalpojuma izmaksas 1 personai (ar 4 bērniem)//dienā | G20: =$G$14+$G$11*4 -> 180.96
F21: Pakalpojuma izmaksas 1 personai (ar 5 bērniem)//dienā | G21: =$G$14+$G$11*5 -> 213.2
F22: u.t.t

Sheet 1.1.2.terorisms
F1: tabula Nr.1.1.2.
B2: ='1.tab_spēkā_esošie_MKnot'!A2 -> Ministru kabineta noteikumu projekta „Grozījumi Ministru kabineta 2014.gada 23.decembra noteikumos Nr.790 “Sociālas rehabilitācijas pakalpojumu sniegšanas kārtība no vardarbības cietušām un vardarbību veikušām pilngadīgām personām”” sākotnējās ietekmes novērtējuma ziņojumam (anotācijai)
A3: Plānotais papildu finansējuma apjoms sociālās rehabilitācijas nodrošināšanai terorismā cietušām personām
B4: periods | C4: personu skaits | D4: konsultāciju skaits | E4: Konsultācijas izmaksas, euro | F4: KOPĀ papildu nepieciešamais finansējums, euro
B5: x | C5: 1 | D5: 2 | E5: 3 | F5: 4= ROUNDUP(1*2*3;0)
B6: 2023. gads | C6: 1 | D6: =D7/2 -> 110 | E6: 53.148 | F6: =C6*D6*E6 -> 5846.28
B7: 2024. gads un turpmāk ik gadu | C7: 1 | D7: =100+120 -> 220 | E7: 53.148 | F7: =ROUNDUP(C7*D7*E7,0) -> 11693
B8: *Pieņēmums -1 personai būs nepieciešamas 220 speciālistu konsultācijas gadā (2023. gadā puse no gada apjoma, t.i. 110).
A9: Terorismā cietušām personām pakalpojumus sniedz nekavējoties pēc tā pieprasīšanas sociālajam dienestam vai pakalpojuma sniedzējam. Pakalpojuma sniedzējs pakalpojuma kursa ilgumu nosaka individuāli un atbilstoši nepieciešamībai, regulāri izvērtējot sniegto pakalpojumu efektivitāti un nepieciešamības gadījumā pārskatot pakalpojuma sniegšanas veidu un ilgumu.

Sheet 1.2.varmākas
I1: tabula Nr.1.2.
A2: ='1.3.speciālistu_apmāc.'!A2 -> Ministru kabineta noteikumu projekta „Grozījumi Ministru kabineta 2014.gada 23.decembra noteikumos Nr.790 “Sociālas rehabilitācijas pakalpojumu sniegšanas kārtība no vardarbības cietušām un vardarbību veikušām pilngadīgām personām”” sākotnējās ietekmes novērtējuma ziņojumam (anotācijai)
A3: Pakalpojuma „Sociālās rehabilitācijas pakalpojumi vardarbību veikušām pilngadīgām personām” izmaksu aprēķins
A4: Pakalpojuma veids/finansējuma aprēķins | B4: Pakalpojuma cenas un finansējums | I4: Aprēķini/paskaidrojums
B5: Cena euro | C5: stundu skaits | D5: nodarbību/ konsultāciju skaits | E5: rezultatīvais rādītājs -nosaukums | F5: klientu /grupu skaits | G5: Kopējais nepieciešamais finansējums | H5: MAX izmaksas uz 1 klientu/ 1 grupu kursā (bez tulka pakalpojuma)
A7: 1.posms - sociālās rehabilitācijas pakalpojuma sniegšana
A8: 1.1. Sociālās rehabilitācijas pakalpojuma kurss | F8: =488+324 -> 812 | G8: =G9+G13 -> 561163.84 | H8: =H9+H13 -> 1727.3067
A9: 1.1.1. Individuālās konsultācijas kopā | F9: =F8*0.5 -> 406 | G9: =G10+G12+G11 -> 246827.84 | H9: =H10+H12+H11 -> 708.64
A10: Speciālistu konsultācijas (konsultācija 45 minūtes un 15 minūtes dokumentu kārtošana) | B10: 35 | C10: x | D10: 16 | E10: max 16 konsultācijas | F10: =F9 -> 406 | G10: =F10*D10*B10 -> 227360 | H10: =B10*16 -> 560 | I10: Vienas stundas izmaksā 35.00 euro ir iekļauti visi nodokļi, kas saistīti ar attiecīgā pakalpojuma sniegšanu, gan darba ņēmēja, gan darba devēja valsts sociālās apdrošināšanas obligātās iemaksas, kā arī iedzīvotāju ienākuma nodoklis.
A11: Sociālās rehabilitācijas pakalpojuma organizēšanas izmaksas (telpu noma, materiālu kopēšana, kancelejas preces, sakaru pakalpojumi u.c.) | B11: 2.29 | C11: x | D11: =D10 -> 16 | F11: =F10 -> 406 | G11: =F11*D11*B11 -> 14875.84 | H11: =B11*16 -> 36.64 | I11: Pakalpojuma „Sociālās rehabilitācijas pakalpojumi no vardarbības cietušām pilngadīgām personām” grozā ar izmitināšanu šīs izmaksas 1 klientam dienā vidēji ir 26.16 euro, tiek pieņemts, ka pakalpojumam bez izmitināšanas, kas tiek sniegts klientam tikai darba dienās darba laikā, t.i., 8 stundas dienā, šīs izmaksas sastāda 70% no 26.16 euro = 18.31 euro dienā/ 2.29 euro stundā.
A12: Transporta izdevumi klientiem | B12: 7 | C12: x | D12: =D11 -> 16 | F12: =ROUND(F10*0.1,0) -> 41 | G12: =F12*D12*B12 -> 4592 | H12: =B12*16 -> 112 | I12: Aprēķinos pieņemts, ka 10% no pakalpojuma saņēmējiem tiks segti transporta izdevumi.
A13: 1.1.2. Konsultācijas grupās (grupu terapija) kopā | F13: =F8*0.5 -> 406 | G13: =SUM(G14:G18) -> 314336 | H13: =SUM(H14:H18) -> 1018.6667 | I13: Vidējais personu skaits grupā plānots 5 personas. 406 personas : 5 = 81 grupa
A14: 2 Speciālistu atlīdzība (ieskaitot DD soc.nod.) par nodarbību vadīšanu | B14: =B10*2 -> 70 | C14: 2 | D14: 16 | E14: min 4 max 12 personas grupā, vidēji 5 personas grupā | F14: =ROUND(F13/5,0) -> 81 | G14: =B14*C14*D14*F14 -> 181440 | H14: =B14*C14*D14/4 -> 560 | I14: Nodarbību vada 2 speciālisti - 1 stundas izmaksas 1 speciālistam 35.00 euro (Vienas stundas izmaksā 35.00 euro ir iekļauti visi nodokļi, kas saistīti ar attiecīgā pakalpojuma sniegšanu, gan darba ņēmēja, gan darba devēja valsts sociālās apdrošināšanas obligātās iemaksas, kā arī iedzīvotāju ienākuma nodoklis) * 2 speciālisti = 70.00 euro stundā x 2 stundas x 16 nodarbības = 2240.00 euro (vienas grupas izmaksas) x 81 grupa = 181 440.00 euro.
A15: 2 Speciālistu atlīdzība (ieskaitot DD soc.nod.) par sagatavošanos nodarbībai (izdales materiālu un atskaišu sagatavošanu) | B15: =B14 -> 70 | C15: 1 | D15: 16 | F15: =F14 -> 81 | G15: =B15*F15*D15*C15 -> 90720 | H15: =B15*C15*D15/4 -> 280 | I15: Nodarbību vada 2 speciālisti - 1 stundas izmaksas 1 speciālistam 35.00 euro ( Vienas stundas izmaksā 35.00 euro ir iekļauti visi nodokļi, kas saistīti ar attiecīgā pakalpojuma sniegšanu, gan darba ņēmēja, gan darba devēja valsts sociālās apdrošināšanas obligātās iemaksas, kā arī iedzīvotāju ienākuma nodoklis ) * 2 speciālisti = 70.00 euro stundā x 1 stunda x 16 nodarbības = 1 120.00 euro (vienas grupas izmaksas) x 81 grupa = 90 720.00 euro. Par sagatavošanos 2h grupu nodarbībai, speciālistam plānota atlīdzība par 1h sagatavošanās darbu.
A16: Sociālās rehabilitācijas pakalpojuma organizēšanas izmaksas (telpu noma, materiālu kopēšana, kancelejas preces, sakaru pakalpojumi u.c.) | B16: 3 | C16: x | D16: 16 | F16: =F15 -> 81 | G16: =B16*D16*F16*5 -> 19440 | H16: =3*16 -> 48 | I16: 3 euro uz klientu x 5 klienti (vidējais personu skaits grupā) = 15 euro (vienas grupas izmaksas) x 16 nodarbības=240 euro (vienas grupas izmaksas) x 81 grupa = 19 440.00 euro
A17: Transporta izdevumi klientiem | B17: 7 | C17: x | D17: 16 | E17: persona | F17: =ROUND(F13*0.1,0) -> 41 | G17: =F17*D17*B17 -> 4592 | H17: =7*16 -> 112 | I17: =I12 -> Aprēķinos pieņemts, ka 10% no pakalpojuma saņēmējiem tiks segti transporta izdevumi.
A18: Transporta izdevumi speciālistiem | B18: 7 | C18: x | D18: 16 | E18: persona | F18: =F14 -> 81 | G18: =F18*D18*B18*2 -> 18144 | H18: =B18*D18/6 -> 18.666667 | I18: 7 euro x 16 nodarbības x 2 speciālisti = 224 euro (vienas grupas kursa izmaksas) x 81 grupa = 18 144.00 euro
A19: 2.posms - Konsultāciju nodrošinājums pēc sociālās rehabilitācijas pakalpojuma kursa pabeigšanas
A20: 2.1. Konsultāciju nodrošinājums pēc sociālās rehabilitācijas pakalpojuma kursa pabeigšanas | F20: =ROUND(F8*0.1,0) -> 81 | G20: =G21+G23+G22 -> 9229.47 | H20: =H21+H23+H22 -> 132.87 | I20: Aprēķinos pieņem, ka individuālās konsultācijas pēc SR pakalpojuma kursa saņems 10% no pakalpojuma saņēmējiem.
A21: Speciālistu konsultācijas (konsultācija 45 minūtes un 15 minūtes dokumentu kārtošana) | B21: 35 | C21: x | D21: 3 | E21: persona | F21: =F20 -> 81 | G21: =F21*D21*B21 -> 8505 | H21: =B21*D21 -> 105 | I21: Vienas stundas izmaksā 35.00 euro ir iekļauti visi nodokļi, kas saistīti ar attiecīgā pakalpojuma sniegšanu, gan darba ņēmēja, gan darba devēja valsts sociālās apdrošināšanas obligātās iemaksas, kā arī iedzīvotāju ienākuma nodoklis.
A22: Sociālās rehabilitācijas pakalpojuma organizēšanas izmaksas (telpu noma, materiālu kopēšana, kancelejas preces, sakaru pakalpojumi u.c.) | B22: =B11 -> 2.29 | C22: x | D22: =D21 -> 3 | E22: persona | F22: =F21 -> 81 | G22: =F22*D22*B22 -> 556.47 | H22: =B22*D22 -> 6.87 | I22: =I11 -> Pakalpojuma „Sociālās rehabilitācijas pakalpojumi no vardarbības cietušām pilngadīgām personām” grozā ar izmitināšanu šīs izmaksas 1 klientam dienā vidēji ir 26.16 euro, tiek pieņemts, ka pakalpojumam bez izmitināšanas, kas tiek sniegts klientam tikai darba dienās darba laikā, t.i., 8 stundas dienā, šīs izmaksas sastāda 70% no 26.16 euro = 18.31 euro dienā/ 2.29 euro stundā.
A23: Transporta izdevumi klientiem | B23: 7 | C23: x | D23: 3 | E23: persona | F23: =ROUND(F20*0.1,0) -> 8 | G23: =F23*D23*B23 -> 168 | H23: =B23*D23 -> 21 | I23: =I12 -> Aprēķinos pieņemts, ka 10% no pakalpojuma saņēmējiem tiks segti transporta izdevumi.
A24: 3. Supervīzija, speciālistu kvalifikācijas celšana | B24: 35 | C24: 21 | D24: 50 | E24: stundas | F24: x | G24: =B24*C24*D24 -> 36750 | H24: =G24/F8 -> 45.258621 | I24: 21h x 50 supervīzijas (vidēji 50 speciālistiem), kas iesaistīti pakalpojuma sniegšanā (individuālas supervizijas). Nepieciešamības gadījumā pakalpojuma nodrošinātājs var organizēt grupu nodarbības, tādējādi novirzot finansējumu speciālistu apmācībai/kvalifikācijas celšanai. Izmaksās ir iekļauti visi nodokļi, kas saistīti ar attiecīgā pakalpojuma sniegšanu, gan darba ņēmēja, gan darba devēja valsts sociālās apdrošināšanas obligātās iemaksas, kā arī iedzīvotāju ienākuma nodoklis.
A25: 4. Tulka pakalpojumu izdevumi | G25: =(16*40) -> 640 | H25: x | I25: 1h izmaksas tulkam nepārsniedz 40 euro. Vienas stundas izmaksā ir iekļauti visi nodokļi, kas saistīti ar attiecīgā pakalpojuma sniegšanu, gan darba ņēmēja, gan darba devēja valsts sociālās apdrošināšanas obligātās iemaksas, kā arī iedzīvotāju ienākuma nodoklis.
A26: Pakalpojumu izmaksas kopā | G26: =G20+G8+G25+G24 -> 607783.31 | H26: x
A27: 5. Pakalpojuma sniedzēja administrēšanas izdevumi 10% | G27: =G26*10% -> 60778.331 | H27: x
A28: Kopā | G28: =G26+G27 -> 668561.64 | H28: x
A30: Vidēji SR pakalpojuma izmaksas uz 1 personu, kuram pakalpojuma kursa saņemšana uzlikta kā pienākums pēc tiesas vai tiesneša lēmuma, t.sk.: | G30: =((G10+G11+G14+G15+G16+G24)*1.1)/F8 -> 772.96111 | H30: x | I30: Pēc tiesas vai tiesneša lēmuma klienta samaksas apmērs par vardarbīgas uzvedības mazināšanas pakalpojumu (100% apmērs).
A31: speciālistu atalgojums | G31: =(G10+G14+G15)/F8 -> 615.17241 | H31: x
A32: Supervīzija, speciālistu kvalifikācijas celšana | G32: =G24/F8 -> 45.258621 | H32: x
A33: pakalpojuma organizēšanas izmaksas | G33: =(G11+G16)/F8 -> 42.260887 | H33: x | I33: telpu noma konsultācijām, nodarbībām, nodarbību, konsultāciju materiālu kopēšana, kancelejas preces nodarbībām, konsultācijām, sakaru pakalpojumi (komunikācijai ar klientu) u.c.
A34: SR kursa administrēšanas izmaksas | G34: =(G31+G32+G33)*0.1 -> 70.269192 | H34: x
A35: 0.1 | G35: =ROUND(G30*0.1,2) -> 77.3 | H35: x | I35: Pēc tiesas vai tiesneša lēmuma klienta samaksas apmērs par vardarbīgas uzvedības mazināšanas pakalpojumu (10% apmērs).
A36: speciālistu atalgojums | G36: =ROUND(G31*0.1,2) -> 61.52 | H36: x
A37: Supervīzija, speciālistu kvalifikācijas celšana | G37: =ROUND(G32*0.1,2) -> 4.53 | H37: x
A38: pakalpojuma organizēšanas izmaksas | G38: =ROUND(G33*0.1,2) -> 4.23 | H38: x | I38: telpu noma konsultācijām, nodarbībām, nodarbību, konsultāciju materiālu kopēšana, kancelejas preces nodarbībām, konsultācijām, sakaru pakalpojumi (komunikācijai ar klientu) u.c.
A39: SR kursa administrēšanas izmaksas | G39: =ROUND(G34*0.1,2)-0.01 -> 7.02 | H39: x
G40: =G30-G31-G32-G33-G34 -> 0
G41: =G35-G36-G37-G38-G39 -> -7.9936058e-15

Sheet 2.tab_izmaiņas
A1: tabula Nr.2
A2: Ministru kabineta noteikumu projekta „Grozījumi Ministru kabineta 2014.gada 23.decembra noteikumos Nr.790 “Sociālas rehabilitācijas pakalpojumu sniegšanas kārtība no vardarbības cietušām un vardarbību veikušām pilngadīgām personām”” sākotnējās ietekmes novērtējuma ziņojumam (anotācijai)
A3: Sociālas rehabilitācijas pakalpojumu sniegšanai no vardarbības cietušām pilngadīgām personām nepieciešamā finansējuma aprēķina kopsavilkums (izdevumi 2023.gādā un 2024. gadā (un turpmāk ik gadu)) grozījumu ietekme
A5: Pakalpojuma nosaukums | C5: Izdevumi 2023.gadā | G5: Izdevumi 2024.gadā un turpmāk ik gadu
C6: EKK 5000 | D6: EKK 7460 | E6: Kopā | G6: EKK 5000 | H6: EKK 7460 | I6: Kopā
A7: Sociālas rehabilitācijas pakalpojumi no vardarbības cietušām pilngadīgām personām (skat. 1.tabulu) | C7: 0 | D7: =H7/2 -> 195888.5 | E7: =C7+D7 -> 195888.5 | G7: 0 | H7: ='2.1.Kdz'!C27+'2.2.augsts_vardarb_risks'!I17 -> 391777 | I7: =G7+H7 -> 391777
A8: Finansējums informācijas sistēmu SOPA un SPOLIS | C8: 76230 | D8: 0 | E8: =C8+D8 -> 76230 | G8: 0 | H8: 0 | I8: =G8+H8 -> 0
E9: =C9+D9 -> 0 | I9: =G9+H9 -> 0
A10: KOPĀ | C10: =SUM(C7:C9) -> 76230 | D10: =SUM(D7:D9) -> 195888.5 | E10: =SUM(E7:E9) -> 272118.5 | G10: =SUM(G7:G9) -> 0 | H10: =SUM(H7:H9) -> 391777 | I10: =SUM(I7:I9) -> 391777
A11: KOPĀ | C11: =ROUND(C10,0) -> 76230 | D11: =ROUND(D10,0) -> 195889 | E11: =ROUND(E10,0) -> 272119 | G11: =ROUND(G10,0) -> 0 | H11: =ROUND(H10,0) -> 391777 | I11: =ROUND(I10,0) -> 391777
A14: Detalizēti aprēķinus skat. 2.tabulas aprēķinu tabulā:
A15: ='2.1.Kdz'!A1 -> tabula Nr.2.1. | B15: ='2.1.Kdz'!A3 -> Pakalpojuma „Sociālās rehabilitācijas pakalpojumi no vardarbības cietušām pilngadīgām personām” izmaksu aprēķins * (Krīzes dzīvoklis)
A16: ='2.2.augsts_vardarb_risks'!A1 -> tabula Nr.2.2. | B16: ='2.2.augsts_vardarb_risks'!A3 -> Pakalpojuma „Sociālās rehabilitācijas pakalpojumi no vardarbības cietušām pilngadīgām personām” izmaksu aprēķins (augstas vardarbības risks)

Sheet 1.3.speciālistu_apmāc.
H1: tabula Nr.1.3.
A2: Ministru kabineta noteikumu projekta „Grozījumi Ministru kabineta 2014.gada 23.decembra noteikumos Nr.790 “Sociālas rehabilitācijas pakalpojumu sniegšanas kārtība no vardarbības cietušām un vardarbību veikušām pilngadīgām personām”” sākotnējās ietekmes novērtējuma ziņojumam (anotācijai)
A3: Pakalpojuma ""Sociālās rehabilitācijas pakalpojumi vardarbību veikušām pilngadīgām personām" speciālistu apmācībām un supervīzijām" izmaksu aprēķins
A4: Pakalpojuma veids/finansējuma aprēķins | B4: Pakalpojuma cenas un finansējums gadā | H4: Paskaidrojums
B5: Cena euro | C5: stundu skaits | D5: vizīšu / nodarbību skaits | E5: rezultatīvais rādītājs | G5: Nepieciešamais finansējums
E6: nosaukums | F6: skaits
A7: 1.posms - speciālistu apmācības kurss | G7: =G8+G14 -> 4974
A8: 1.1.aktivitāte - speciālistu apmācības | G8: =SUM(G9:G13) -> 3734
A9: 2 Ekspertu atlīdzība (ieskaitot DD soc.nod.) par nodarbību vadīšanu (nodarbību vada 2 speciālisti | B9: =35*2 -> 70 | C9: 5 | D9: 6 | E9: 10 apmācāmie grupā | F9: 1 | G9: =B9*C9*D9 -> 2100 | H9: nodarbību vada 2 eksperti - 1 stundas izmaksas 1 ekspertam 35.00 euro ( Vienas stundas izmaksā 35.00 euro ir iekļauti visi nodokļi, kas saistīti ar attiecīgā pakalpojuma sniegšanu, gan darba ņēmēja, gan darba devēja valsts sociālās apdrošināšanas obligātās iemaksas, kā arī iedzīvotāju ienākuma nodoklis) * 2 ekspertiem = 70.00 euro / vienas grupas apmācības ilgums 6 dienas x 5 astronomiskās stundas=30 stundas. 70.00 euro x 5 stundas x 6 dienas = 2 100.00 euro
A10: 2 Ekspertu atlīdzība (ieskaitot DD soc.nod.) par sagatavošanos nodarbībai, izdales materiālu un atskaišu sagatavošanu | B10: =B9 -> 70 | C10: 1 | D10: 6 | F10: 1 | G10: =B10*C10*D10 -> 420 | H10: 1 stundas izmaksas 1 ekspertam 35.00 euro ( Vienas stundas izmaksā 35.00 euro ir iekļauti visi nodokļi, kas saistīti ar attiecīgā pakalpojuma sniegšanu, gan darba ņēmēja, gan darba devēja valsts sociālās apdrošināšanas obligātās iemaksas, kā arī iedzīvotāju ienākuma nodoklis) * 2 ekspertiem = 70.00 euro, lai sagatavotos 1 nodarbībai nepieciešamas 1 stunda. 70.00 euro x 1 stundas x 6 dienas = 420.00 euro.
A11: Apmācību kursa organizēšanas izmaksas (kancelejas preces, telpu noma, kafijas pauze, sakaru pak. u.c.) | B11: 129 | C11: x | D11: 6 | F11: 1 | G11: =B11*D11 -> 774 | H11: telpu noma 71 euro nodarbība/kafijas pauze 4 euro x 12 (10 apmācāmie un 2 speciālisti) =48 euro/kancelejas preces nodarbībai 10 euro/ kopā 129 euro x 6 nodarbības = 774 euro
A12: Mācību materiāls | B12: 14 | C12: x | D12: x | F12: 10 | G12: =B12*F12 -> 140 | H12: Katrs grupas apmācāmais saņem mācību materiālu -grāmatu - 14 euro 1 mācību materiāla kopēšana x 10 apmācāmie =140 euro
A13: Grupas organizēšanas izmaksas | B13: 300 | C13: x | D13: x | F13: 1 | G13: =B13 -> 300 | H13: Grupas komplektēšana (speciālistu dokumentu izvērtēšana un sazināšanās ar tiem).
A14: 1.2. aktivitāte - ekspertu vizītes pie speciālistiem uz reģioniem | F14: =F15 -> 5 | G14: =G15+G16+G17 -> 1240 | H14: Gadā 2 eksperti brauks 5 vizītes pie 10 speciālistiem - 5 pāriem
A15: 2 ekspertu atlīdzība (ieskaitot DD soc.nod.) | B15: =B9 -> 70 | C15: 3 | D15: 5 | E15: vizīte | F15: 5 | G15: =B15*C15*D15 -> 1050 | H15: supervīziju vada 2 eksperti - 1 stundas izmaksas 1 speciālistam 35.00 euro ( Vienas stundas izmaksā 35.00 euro ir iekļauti visi nodokļi, kas saistīti ar attiecīgā pakalpojuma sniegšanu, gan darba ņēmēja, gan darba devēja valsts sociālās apdrošināšanas obligātās iemaksas, kā arī iedzīvotāju ienākuma nodoklis) * 2 speciālisti = 70.00 euro x 3 stundas x 5 vizītes = 1 050.00 euro
A16: Transporta izdevumi speciālistiem | B16: 26 | C16: x | D16: 5 | F16: 5 | G16: =B16*D16 -> 130 | H16: 1 brauciens - vidēji 250 km *8 litri degvielas uz 100 km /100=20 litri * 1.30 euro (vidējā cena 1 litram degvielas)=26 euro x 5 vizītes = 130 euro
A17: Komandējuma izdevumi 2 ekspertiem (dienas nauda) | B17: 12 | C17: x | D17: 5 | F17: 5 | G17: =B17*D17 -> 60 | H17: 6 euro dienā*2 speciālisti=12 euro/dienā x 5 dienas = 60 euro
A18: 2.posms - Ikgadējs supervīziju nodrošinājums speciālistiem pēc apmācību kursa pabeigšana | G18: =G19+G20+G21 -> 4344 | H18: Gadā 2 grupas (10 speciālisti grupā), kopā gadā 3 nodarbību veidā supervīzijas (21 h gadā) saņēmuši 20 speciālisti.
A19: 2 ekspertu atlīdzība (ieskaitot DD soc.nod.) par nodarbību vadīšanu (nodarbību vada 2 speciālisti) | B19: =B9 -> 70 | C19: 7 | D19: 3 | E19: grupas | F19: 2 | G19: =B19*C19*D19*F19 -> 2940 | H19: Grupā 10 apmācāmie, viena supervīzija ilgst 7 stundas. 70.00 euro ( Vienas stundas izmaksā 35.00 euro x 2 speciālisti ir iekļauti visi nodokļi, kas saistīti ar attiecīgā pakalpojuma sniegšanu, gan darba ņēmēja, gan darba devēja valsts sociālās apdrošināšanas obligātās iemaksas, kā arī iedzīvotāju ienākuma nodoklis) x 7 stundas x 3 nodarbības = 1 470.00 euro (vienas grupas izmaksas) x 2 grupas = 2 940.00euro
A20: 2 ekspertu atlīdzība (ieskaitot DD soc.nod.) par sagatavošanos nodarbībai, izdales materiālu un atskaišu sagatavošanu | B20: =B9 -> 70 | C20: 1.5 | D20: 3 | E20: grupas | F20: 2 | G20: =B20*C20*D20*F20 -> 630 | H20: 1 ekspertam 35.00 euro (Vienas stundas izmaksā ir iekļauti visi nodokļi, kas saistīti ar attiecīgā pakalpojuma sniegšanu, gan darba ņēmēja, gan darba devēja valsts sociālās apdrošināšanas obligātās iemaksas, kā arī iedzīvotāju ienākuma nodokli) x 2 ekspertiem 70.00 euro x 1.5 stundas (katra eksperta sagatavošanās laiks nodarbībai 1.5h) x 3 nodarbības = 315.00 euro (vienas grupas izmaksas) x 2 grupas = 630.00 euro
A21: Supervīziju organizēšanas izmaksas (izdales materiālu kopēšana, kancelejas preces, telpu noma, kafijas pauze, sakaru pak. u.c.) | B21: 129 | C21: x | D21: 3 | E21: grupas | F21: 2 | G21: =B21*D21*F21 -> 774 | H21: Telpu noma 71 euro nodarbība/kafijas pauze 4 euro x 12 (10 apmācāmie un 2 speciālisti) =48 euro/kancelejas preces nodarbībai 10 euro/ kopā 129 euro (vienas grupas vienas nodarbības izmaksas) x 3 nodarbības x 2 grupas = 774.00 euro
A22: Pakalpojuma izmaksas kopā | G22: =G7+G18 -> 9318
A23: 3. Pakalpojuma sniedzēja administrēšanas izmaksas 20% | G23: =G22*20% -> 1863.6
A24: Kopā | G24: =G22+G23 -> 11181.6
A25: Ministrijā izstrādātais projekts vardarbību veikušo personu rehabilitācijai „Grupu terapijas programmas vardarbību veikušo personu sociālajai rehabilitācijai izstrāde, programmas aprobācija un speciālistu apmācības” tiek īstenots no 2011.gada un atbilstoši projektam ikgadēji tiek apmācīti 10 speciālisti (psihologi un sociālie darbinieki) no 5 pašvaldībām.

Sheet 2.1.Kdz
A1: tabula Nr.2.1.
A2: Tiesību akta projekta "Grozījumi Ministru kabineta 2014. gada 23. decembra noteikumos Nr. 790 "Sociālās rehabilitācijas pakalpojumu sniegšanas kārtība no vardarbības cietušām un vardarbību veikušām pilngadīgām personām"" sākotnējās ietekmes (ex-ante) novērtējuma ziņojumam (anotācijai)
A3: Pakalpojuma „Sociālās rehabilitācijas pakalpojumi no vardarbības cietušām pilngadīgām personām” izmaksu aprēķins * (Krīzes dzīvoklis)
C4: izmaksas dienā* | D4: apjoms mēnesī | E4: izdevumi, mēn
B5: dzīvesvietas nodrošinājums | C5: 25 | D5: 30 | E5: =C5*D5 -> 750 | F5: t.sk. komunālie maksājumi
B6: pārtika | C6: 10 | D6: 30 | E6: =C6*D6 -> 300
B7: transporta izdevumi | C7: =E7/D7 -> 1.6666667 | D7: 30 | E7: 50 | F7: Personai, saņemot krīzes dzīvokļa pakalpojumu, nepieciešamības gadījumā nodrošina transporta izdevumu segšanu (degviela, sabiedriskā transporta mēnešbiļete vai biļete u.c.), piemēram, lai nodrošinātu bērna nogādāšanu bērnudārzā, skolā, nokļūšanu līdz darba vietai, pie ģimenes ārsta u.c. Gadījumā, ja persona, saņemot krīzes dzīvokļa pakalpojumu, saņem arī MK noteikumu Nr.790 4.2. apakšpunktā minēto pakalpojumu (speciālistu konsultācijas dzīvesvietā), personai var tikt kompensēti papildus transporta izdevumi nokļūšanai uz konsultācijām pie speciālista (saskaņā ar MK noteikumu Nr.790 19.1. apakšpunktu). Piemēram, ja persona atrodas krīzes dzīvoklī pilsētā, kurā var nodrošināt mēnešbiļeti (brīvu pārvietošanos pilsētas teritorijā), tad personai papildu transporta izdevumu kompensāciju saskaņā ar noteikumu 19.1. apakšpunktu nepiešķir (nepastāv dubultā finansējuma risks).
B8: higiēnas un saimniecības preces | C8: =E8/D8 -> 3 | D8: 30 | E8: 90
B9: KOPĀ | C9: =SUM(C5:C8) -> 39.666667 | D9: 30 | E9: =SUM(E5:E8) -> 1190
B11: Papildus par katru bērnu | C11: =C6+C8+C7+(C5*0.2) -> 19.666667 | D11: 30 | E11: =C11*D11 -> 590 | F11: papildus par katru bērnu 19.67 euro dienā
B14: mentors | C14: 10 | D14: 50 | E14: =C14*D14 -> 500 | F14: t.sk. visi nodokļi
B16: 30 dienas gadā saņem 100* personas | C16: =($C$9*100*30)+($C$11*2*50*30) -> 178000 | F16: pieņem, ka vidēji 100 personas 30 dienas, papildus katra otrā persona ar 2 nepilngadīgiem bērniem, t.i. 100 bērni.
B17: vidēji 14 personas nesaņem pakalpojumu dzīvesvietā | C17: =14*$E$14 -> 7000 | F17: Atbilstoši MK noteikumu projekta 4.32. punktam, ja nepieciešams, krīzes dzīvokļa pakalpojuma sniedzējs tam nodrošina ne vairāk par 50 stundām ilgas pakalpojuma saņēmēja izvēlētas uzticības personas konsultācijas ar ikdienas dzīves jautājumiem saistītu problēmu risināšanā, ja persona nesaņem šo noteikumu 4.2. apakšpunktā minēto pakalpojumu (4.32. papakšpunkts).
B18: kopā | C18: =(C16+C17)*1.2 -> 222000 | D18: t.sk. admin.izd.
A20: *Minētais apjoms prognozēts ņemot vērā vardarbībā cietušu personu pakalpojumu ar izmitināšanu saņēmēju vidējo skaitu iepriekšējos gados, pieņemot, ka pakalpojuma saņēmēji turpmāk līdzīgā apjomā saņems pakalpojumu institūcijā līdzšinējā kārtībā un daļa izvēlēsies arī iespēju saņemt krīzes dzīvokļa pakalpojumu.
B22: 180 dienas gadā saņem 10 personas (papildu 150) | C22: =($C$9*10*150)+($C$11*5*2*150) -> 89000
B23: vidēji 2 personas nesaņem pakalpojumu dzīvesvietā (katra saņem vidēji 35 uzticības/mentora pakalpojuma stundas) | C23: =2*35*C14 -> 700 | F23: 1/ 5 daļa
B24: kopā | C24: =(C22+C23)*1.2 -> 107640 | D24: t.sk. admin.izd.
C27: =C18+C24 -> 329640 | D27: t.sk. admin.izd.
A29: *Ar krīzes dzīvokļa pakalpojuma saistītie izdevumi, tiek segti no 2023. gada 12. jūnija.

Sheet 2.2.augsts_vardarb_risks
A1: tabula Nr.2.2.
A2: ='2.1.Kdz'!A2 -> Tiesību akta projekta "Grozījumi Ministru kabineta 2014. gada 23. decembra noteikumos Nr. 790 "Sociālās rehabilitācijas pakalpojumu sniegšanas kārtība no vardarbības cietušām un vardarbību veikušām pilngadīgām personām"" sākotnējās ietekmes (ex-ante) novērtējuma ziņojumam (anotācijai)
A3: Pakalpojuma „Sociālās rehabilitācijas pakalpojumi no vardarbības cietušām pilngadīgām personām” izmaksu aprēķins (augstas vardarbības risks)
A4: Augstas vardarbības risks (plāns 10 personas gadā):
B5: Krīzes dzīvoklis + konsultācijas*
C6: pers.sk.** | D6: konsult.sk. (20 konsult. Papildus 100)** | E6: konsult. izmaksas | F6: transports kl.*** | G6: Pakalpojuma tiešās izmaksas | H6: Pakalpojuma administrēšanas izmaksas | I6: KOPĀ
C7: 8 | D7: =120-20 -> 100 | E7: ='1.1.cietušās_p_līdz_30.06.2023'!B15+'1.1.cietušās_p_līdz_30.06.2023'!B16 -> 37.29 | F7: 7 | G7: =(E7+F7)*D7*C7 -> 35432 | H7: =G7*0.2 -> 7086.4 | I7: =ROUND(G7+H7,0) -> 42518 | J7: =J14 -> EKK7000
B8: *Krīzes dzīvokļa izmaksas aprēķinā pie krīzes dzīvokļa izmaksām
B9: **Plānotas kopā 10 personas 180 dienas Krīzes dzīvokļa pakalpojums, t.sk. 2 personas saņem pakalpojumu dzīvesvietā (konsultācijas)
B10: ***transporta izmaksas plānotas, lai persona var nokļūt pie pakalpojuma sniedzēja no dzīvesvietas (Krīzes dzīvoklis). Krīzes dzīvokļa izmaksās personai transporta izmaksas paredzētas, lai persona var nokļūt darba vietā, bērnudārzā, kārtot juridiskus jautājumus, piem., laulības šķiršana u.c.
B12: Pakalpojuma institūcijā
C13: pers.sk. | D13: d.sk.** | E13: dienas izmaksas | F13: transports kl. | G13: pakalpojums | H13: admin. | I13: KOPĀ
C14: 2 | D14: =180-60 -> 120 | E14: ='1.1.1.cietušie_pak_KC'!G14 -> 52 | F14: 0 | G14: =(E14+F14)*D14*C14 -> 12480 | H14: =G14*0.2 -> 2496 | I14: =ROUND(G14+H14,0) -> 14976 | J14: EKK7000
B15: (+1 bērns) | C15: 1 | D15: =D14 -> 120 | E15: ='1.1.1.cietušie_pak_KC'!G11 -> 32.24 | F15: 0 | G15: =(E15+F15)*D15*C15 -> 3868.8 | H15: =G15*0.2 -> 773.76 | I15: =ROUND(G15+H15,0) -> 4643 | J15: EKK7000
C17: kopā papildus izmaksas "smagie gadījumi" | I17: =I7+I14+I15 -> 62137
B18: ** MK noteikumu projekta 4.4 punkts: "4.4 Ja sociālais dienests vai pakalpojuma sniedzējs, saņemot personas iesniegumu cietušo rehabilitācijas pakalpojuma saņemšanai, konstatē augstu vardarbības risku, ko apliecina sociālā dienesta vai pakalpojuma sniedzēja speciālista veikts personas veselībai un dzīvībai bīstamo faktoru novērtējums, sociālais dienests var pieņemt lēmumu par: 4.41. šo noteikumu 4.1. un 4.3. apakšpunktos minētā pakalpojuma sniegšanas ilguma pagarināšanu līdz 180 dienām; 4.42. šo noteikumu 4.2. apakšpunktā minētā pakalpojuma sniegšanas reižu skaita palielināšanu līdz 120 konsultācijām.";

Sheet 3.tab_ārzemnieki
A1: tabula Nr.3
A2: ='2.2.augsts_vardarb_risks'!A2 -> Tiesību akta projekta "Grozījumi Ministru kabineta 2014. gada 23. decembra noteikumos Nr. 790 "Sociālās rehabilitācijas pakalpojumu sniegšanas kārtība no vardarbības cietušām un vardarbību veikušām pilngadīgām personām"" sākotnējās ietekmes (ex-ante) novērtējuma ziņojumam (anotācijai)
A3: ='3.1.ārzemnieks_KC_cena'!A3 -> Izmaksu aprēķins 30 dienu kursam ar izmitināšu institūcijā no vardarbības cietušas pilngadīgas personas sociālai rehabilitācijai (SPSPL 3. panta (8) daļa)*
A4: *SPSPL 3.pants. Tiesības uz sociālajiem pakalpojumiem un sociālo palīdzību (8) Tiesības saņemt sociālo rehabilitāciju kā vardarbībā cietušām pilngadīgām personām par valsts budžeta līdzekļiem ir vardarbībā cietušām personām, kuras uzturas Latvijas Republikā ar termiņuzturēšanās atļauju, kā arī personām, kuras ir trešās valsts valstspiederīgie vai bezvalstnieki, kuriem nav likumīga pamata uzturēties Latvijas Republikā un kuri ir aizturēti (līdz izraidīšanas vai izceļošanas brīdim), kuriem ir piemērots aizturēšanai alternatīvs līdzeklis, vai ārzemnieki, kuriem atgriešanas lēmuma darbība ir apturēta vai kuriem ir noteikts laikposms brīvprātīgai izceļošanai. Tiesības saņemt sociālo rehabilitāciju kā vardarbībā cietušām pilngadīgām personām ir arī personām, kas nepieder pie šajā pantā uzskaitītajām grupām, ja atbildīgās institūcijas sniegušas atzinumu par sociālās rehabilitācijas pakalpojuma nepieciešamību.
A5: Izmaksas pamata pakalpojumam (LV civiliedzīvotājiem)
A6: Pakalpojuma veids/ finansējuma aprēķins | B6: Pakalpojuma cenas un finansējums | I6: Pakalpojuma veids/ finansējuma aprēķins | J6: Pakalpojuma cenas un finansējums | Q6: Ietekme uz budžetu**
B7: Cena euro | C7: dienu/ konsultāciju/ stundu, skaits | D7: rezultatīvais rādītājs | F7: Nepieciešamais finansējums | G7: MAX izmaksas uz 1 klientu kursā (bez tulka pakalpojuma) | J7: Cena euro | K7: dienu/ konsultāciju/ stundu, skaits | L7: rezultatīvais rādītājs | N7: Nepieciešamais finansējums | O7: MAX izmaksas uz 1 klientu kursā (bez tulka pakalpojuma)
D8: nosaukums | E8: skaits | L8: nosaukums | M8: skaits
A9: 1.posms - Sociālās rehabilitācijas pakalpojuma sniegšana | I9: 1.posms - Sociālās rehabilitācijas pakalpojuma sniegšana
A10: 1.Sociālās rehabilitācijas pakalpojuma kursa izmaksas kopā | E10: =E11+E15 -> 8 | F10: =F11+F15 -> 17377.8 | G10: =G11+G15 -> 5940.2 | I10: 1.Sociālās rehabilitācijas pakalpojuma kursa izmaksas kopā | M10: =M11+M15 -> 8 | N10: =N11+N15 -> 22102.9 | O10: =O11+O15 -> 7133.3 | Q10: =Q11+Q15 -> 4725.1
A11: 1.1. Pakalpojums institūcijā | E11: =E12 -> 3 | F11: =F12+F13+F14 -> 13228.8 | G11: =G13+G14 -> 5054.4 | I11: 1.1. Pakalpojums institūcijā | M11: =M12 -> 3 | N11: =N12+N13+N14 -> 14879.4 | O11: =O13+O14 -> 5604.6 | Q11: =Q12+Q13+Q14 -> 1650.6
A12: 30 dienu pamatkurss | B12: ='1.1.cietušās_p_līdz_30.06.2023'!B10 -> 52 | C12: 30 | D12: max 30 (60) dienas/ persona | E12: 3 | F12: =E12*C12*B12 -> 4680 | G12: =B12*30 -> 1560 | I12: 30 dienu pamatkurss | J12: ='3.1.ārzemnieks_KC_cena'!G16 -> 61.17 | K12: 30 | L12: max 30 (60) dienas/ persona | M12: 3 | N12: =M12*K12*J12 -> 5505.3 | O12: =J12*30 -> 1835.1 | Q12: =N12-F12 -> 825.3
A13: 30 dienu papildus kurss (kopā līdz 60 dienām) | B13: =B12 -> 52 | C13: 30 | E13: 3 | F13: =E13*C13*B13 -> 4680 | G13: =B13*60 -> 3120 | I13: 30 dienu papildus kurss (kopā līdz 60 dienām) | J13: =J12 -> 61.17 | K13: 30 | M13: 3 | N13: =M13*K13*J13 -> 5505.3 | O13: =J13*60 -> 3670.2 | Q13: =N13-F13 -> 825.3
A14: klienta bērna izmaksas | B14: ='1.1.cietušās_p_līdz_30.06.2023'!B12 -> 32.24 | C14: 60 | E14: 2 | F14: =E14*C14*B14 -> 3868.8 | G14: =B14*60 -> 1934.4 | I14: klienta bērna izmaksas | J14: ='1.1.cietušās_p_līdz_30.06.2023'!B12 -> 32.24 | K14: 60 | M14: 2 | N14: =M14*K14*J14 -> 3868.8 | O14: =J14*60 -> 1934.4 | Q14: =N14-F14 -> 0
A15: 1.2. Pakalpojums dzīvesvietā - psihosociālais atbalsts (speciālistu individuālās konsultācijas) | E15: =E16 -> 5 | F15: =F16+F21 -> 4149 | G15: =G16+G21 -> 885.8 | I15: 1.2. Pakalpojums dzīvesvietā - psihosociālais atbalsts (speciālistu individuālās konsultācijas) | M15: =M16 -> 5 | N15: =N16+N21 -> 7223.5 | O15: =O16+O21 -> 1528.7 | Q15: =Q16+Q21 -> 3074.5
A16: 1.2.1. konsultācijas, stundas | E16: =E17 -> 5 | F16: =F17+F20+F18+F19 -> 2214.5 | G16: =G17+G20+G18+G19 -> 442.9 | I16: =A16 -> 1.2.1. konsultācijas, stundas | M16: =M17 -> 5 | N16: =N17+N20+N18+N19 -> 3821.75 | O16: =O17+O20+O18+O19 -> 764.35 | Q16: =Q17+Q20+Q18+Q19 -> 1607.25
A17: Speciālistu konsultācijas (jurists, psihologs, soc.darbinieks, ārsts, menotors) (konsultācija 45 minūtes un 15 minūtes dokumentu kārtošana) | B17: 35 | C17: 10 | D17: max persona 25 speciālistu konsultācijas | E17: 5 | F17: =E17*C17*B17 -> 1750 | G17: =B17*C17 -> 350 | I17: Speciālistu konsultācijas (jurists, psihologs, soc.darbinieks, ārsts, menotors) (konsultācija 45 minūtes un 15 minūtes dokumentu kārtošana) | J17: 35 | K17: =10+5 -> 15 | L17: max persona 25 speciālistu konsultācijas | M17: 5 | N17: =M17*K17*J17 -> 2625 | O17: =J17*K17 -> 525 | Q17: =N17-F17 -> 875
A18: Sociālās rehabilitācijas pakalpojuma organizēšanas izmaksas (telpu noma, materiālu kopēšana, kancelejas preces, sakaru pakalpojumi u.c.) | B18: 2.29 | C18: =C17 -> 10 | E18: =E17 -> 5 | F18: =E18*C18*B18 -> 114.5 | G18: =B18*C18 -> 22.9 | I18: Sociālās rehabilitācijas pakalpojuma organizēšanas izmaksas (telpu noma, materiālu kopēšana, kancelejas preces, sakaru pakalpojumi u.c.) | J18: 2.29 | K18: =K17 -> 15 | M18: =M17 -> 5 | N18: =M18*K18*J18 -> 171.75 | O18: =J18*K18 -> 34.35 | Q18: =N18-F18 -> 57.25
A19: menotrs/uzticības persona | B19: 0 | C19: 0 | E19: =E18 -> 5 | F19: =E19*C19*B19 -> 0 | G19: =B19*C19 -> 0 | I19: menotrs/uzticības persona | J19: 10 | K19: 10 | M19: =M18 -> 5 | N19: =M19*K19*J19 -> 500 | O19: =J19*K19 -> 100 | Q19: =N19-F19 -> 500
A20: Transporta izdevumi klientiem | B20: 7 | C20: =C17 -> 10 | E20: 5 | F20: =E20*C20*B20 -> 350 | G20: =B20*C20 -> 70 | I20: Transporta izdevumi klientiem | J20: 7 | K20: =K17 -> 15 | M20: 5 | N20: =M20*K20*J20 -> 525 | O20: =J20*K20 -> 105 | Q20: =N20-F20 -> 175
A21: 1.2.2. papildu konsultācijas, stundas | E21: 5 | F21: =F22+F25+F23+F24 -> 1934.5 | G21: =G22+G25+G23+G24 -> 442.9 | I21: =A21 -> 1.2.2. papildu konsultācijas, stundas | M21: 5 | N21: =N22+N25+N23+N24 -> 3401.75 | O21: =O22+O25+O23+O24 -> 764.35 | Q21: =Q22+Q25+Q23+Q24 -> 1467.25
A22: Speciālistu konsultācijas (10 papildus konsultācijas kopā līdz 20 konsultācijām) (konsultācija 45 minūtes un 15 minūtes dokumentu kārtošana) | B22: 35 | C22: =C17 -> 10 | D22: max persona 25 speciālistu konsultācijas | E22: 5 | F22: =E22*C22*B22 -> 1750 | G22: =B22*C22 -> 350 | I22: Speciālistu konsultācijas (10 papildus konsultācijas kopā līdz 20 konsultācijām) (konsultācija 45 minūtes un 15 minūtes dokumentu kārtošana) | J22: 35 | K22: =K17 -> 15 | L22: max persona 25 speciālistu konsultācijas | M22: 5 | N22: =M22*K22*J22 -> 2625 | O22: =J22*K22 -> 525 | Q22: =N22-F22 -> 875
A23: Sociālās rehabilitācijas pakalpojuma organizēšanas izmaksas (telpu noma, materiālu kopēšana, kancelejas preces, sakaru pakalpojumi u.c.) | B23: =B18 -> 2.29 | C23: =C22 -> 10 | E23: =E22 -> 5 | F23: =E23*C23*B23 -> 114.5 | G23: =B23*C23 -> 22.9 | I23: Sociālās rehabilitācijas pakalpojuma organizēšanas izmaksas (telpu noma, materiālu kopēšana, kancelejas preces, sakaru pakalpojumi u.c.) | J23: =J18 -> 2.29 | K23: =K22 -> 15 | M23: =M22 -> 5 | N23: =M23*K23*J23 -> 171.75 | O23: =J23*K23 -> 34.35 | Q23: =N23-F23 -> 57.25
A24: =A19 -> menotrs/uzticības persona | B24: =B19 -> 0 | C24: =C19 -> 0 | E24: =E23 -> 5 | F24: =E24*C24*B24 -> 0 | G24: =B24*C24 -> 0 | I24: =I19 -> menotrs/uzticības persona | J24: =J19 -> 10 | K24: 10 | M24: =M23 -> 5 | N24: =M24*K24*J24 -> 500 | O24: =J24*K24 -> 100 | Q24: =N24-F24 -> 500
A25: Transporta izdevumi klientiem | B25: 7 | C25: =C22 -> 10 | E25: =ROUND(E22*0.1,0) -> 1 | F25: =E25*C25*B25 -> 70 | G25: =B25*C25 -> 70 | I25: Transporta izdevumi klientiem | J25: 7 | K25: =K22 -> 15 | M25: =ROUND(M22*0.1,0) -> 1 | N25: =M25*K25*J25 -> 105 | O25: =J25*K25 -> 105 | Q25: =N25-F25 -> 35
A26: 2.posms - konsultāciju nodrošinājums pēc sociālās rehabilitācijas pakalpojuma kursa pabeigšanas | I26: 2.posms - konsultāciju nodrošinājums pēc sociālās rehabilitācijas pakalpojuma kursa pabeigšanas
A27: 2.1. Individuālo konsultāciju izmaksas pēc sociālās rehabilitācijas pakalpojuma kursa pabeigšanas kopā | E27: =E10/2 -> 4 | F27: =F28+F30+F29 -> 531.48 | G27: =G28+G30+G29 -> 132.87 | I27: 2.1. Individuālo konsultāciju izmaksas pēc sociālās rehabilitācijas pakalpojuma kursa pabeigšanas kopā | M27: =M10/2 -> 4 | N27: =N28+N30+N29 -> 531.48 | O27: =O28+O30+O29 -> 132.87 | Q27: =Q28+Q30+Q29 -> 0
A28: Speciālistu konsultācijas (konsultācija 45 minūtes un 15 minūtes dokumentu kārtošana) | B28: 35 | C28: 3 | D28: persona | E28: =E27 -> 4 | F28: =B28*C28*E28 -> 420 | G28: =B28*C28 -> 105 | I28: Speciālistu konsultācijas (konsultācija 45 minūtes un 15 minūtes dokumentu kārtošana) | J28: 35 | K28: 3 | L28: persona | M28: =M27 -> 4 | N28: =J28*K28*M28 -> 420 | O28: =J28*K28 -> 105 | Q28: =N28-F28 -> 0
A29: Sociālās rehabilitācijas pakalpojuma organizēšanas izmaksas (telpu noma, materiālu kopēšana, kancelejas preces, sakaru pakalpojumi u.c.) | B29: =B23 -> 2.29 | C29: 3 | D29: persona | E29: =E28 -> 4 | F29: =E29*C29*B29 -> 27.48 | G29: =B29*C29 -> 6.87 | I29: Sociālās rehabilitācijas pakalpojuma organizēšanas izmaksas (telpu noma, materiālu kopēšana, kancelejas preces, sakaru pakalpojumi u.c.) | J29: =J23 -> 2.29 | K29: 3 | L29: persona | M29: =M28 -> 4 | N29: =M29*K29*J29 -> 27.48 | O29: =J29*K29 -> 6.87 | Q29: =N29-F29 -> 0
A30: Transporta izdevumi klientiem | B30: 7 | C30: 3 | D30: persona | E30: =E28 -> 4 | F30: =B30*C30*E30 -> 84 | G30: =B30*C30 -> 21 | I30: Transporta izdevumi klientiem | J30: 7 | K30: 3 | L30: persona | M30: =M28 -> 4 | N30: =J30*K30*M30 -> 84 | O30: =J30*K30 -> 21 | Q30: =N30-F30 -> 0
A31: 3. Tulka pakalpojumu izdevumi | F31: 800 | G31: x | I31: 3. Tulka pakalpojumu izdevumi | N31: 15160 | O31: x | Q31: =N31-F31 -> 14360
A32: Sociālā rehabilitācijas pakalpojuma kursa izmaksas kopā | F32: =F27+F10+F31 -> 18709.28 | G32: x | I32: Sociālā rehabilitācijas pakalpojuma kursa izmaksas kopā | N32: =N27+N10+N31 -> 37794.38 | O32: x | Q32: =Q27+Q10+Q31 -> 19085.1
A33: 4. Pakalpojuma sniedzēja administrēšanas izdevumi 20% | F33: =F32*20% -> 3741.856 | G33: x | I33: 4. Pakalpojuma sniedzēja administrēšanas izdevumi 20% | N33: =N32*20% -> 7558.876 | O33: x | Q33: =Q32*20% -> 3817.02
A34: Kopā* | F34: =F32+F33 -> 22451.136 | G34: x | I34: Kopā* | N34: =N32+N33 -> 45353.256 | O34: x | Q34: =Q32+Q33 -> 22902.12
A36: *Grozījumi Sociālo pakalpojumu un sociālās palīdzības likumā (stājās spēkā 01.04.2022.) paredz, ka sociālās rehabilitācijas pakalpojumi, kas izriet no Sociālo pakalpojumu un sociālās palīdzības likuma 3.panta astotās daļas, tiks nodrošināti esošo valsts budžeta līdzekļu ietvaros. Pakalpojuma izdevumi tiek segti LM pamatbudžeta apakšprogrammas 05.01.00 “Sociālās rehabilitācijas valsts programmas” sociālas rehabilitācijas pakalpojumu sniegšanai no vardarbības cietušām un vardarbību veikušām pilngadīgām personām plānotā finansējuma ietvaros.
A37: **Nepieciešamības gadījumā izdevumi 22 902.12 euro apmērā tiks segti no pakalpojumam pieejamā finansējuma (samazinot rezultatīvo rādītāju no 600 personām, skat. 1.1. tabulu uz aptuveni 590 personām).

Sheet 3.1.ārzemnieks_KC_cena
A1: tabula Nr.3.1.
A2: ='2.1.Kdz'!A2 -> Tiesību akta projekta "Grozījumi Ministru kabineta 2014. gada 23. decembra noteikumos Nr. 790 "Sociālās rehabilitācijas pakalpojumu sniegšanas kārtība no vardarbības cietušām un vardarbību veikušām pilngadīgām personām"" sākotnējās ietekmes (ex-ante) novērtējuma ziņojumam (anotācijai)
A3: Izmaksu aprēķins 30 dienu kursam ar izmitināšu institūcijā no vardarbības cietušas pilngadīgas personas sociālai rehabilitācijai (SPSPL 3. panta (8) daļa)*
A4: *SPSPL 3.pants. Tiesības uz sociālajiem pakalpojumiem un sociālo palīdzību (8) Tiesības saņemt sociālo rehabilitāciju kā vardarbībā cietušām pilngadīgām personām par valsts budžeta līdzekļiem ir vardarbībā cietušām personām, kuras uzturas Latvijas Republikā ar termiņuzturēšanās atļauju, kā arī personām, kuras ir trešās valsts valstspiederīgie vai bezvalstnieki, kuriem nav likumīga pamata uzturēties Latvijas Republikā un kuri ir aizturēti (līdz izraidīšanas vai izceļošanas brīdim), kuriem ir piemērots aizturēšanai alternatīvs līdzeklis, vai ārzemnieki, kuriem atgriešanas lēmuma darbība ir apturēta vai kuriem ir noteikts laikposms brīvprātīgai izceļošanai. Tiesības saņemt sociālo rehabilitāciju kā vardarbībā cietušām pilngadīgām personām ir arī personām, kas nepieder pie šajā pantā uzskaitītajām grupām, ja atbildīgās institūcijas sniegušas atzinumu par sociālās rehabilitācijas pakalpojuma nepieciešamību.
A5: Izmaksu pozīcija | B5: stundas/ konsultācijas | C5: vienību skaits kursā | D5: vienas vienības izmaksas | E5: izmaksas 1 klientam 30 dienās | G5: MAX izmaksas 1 klientam dienā
E6: EURO | F6: % | G6: EURO
A7: 1. Tiešās sociālā rehabilitācijas pakalpojuma izmaksas kopā | E7: =SUM(E8:E12) -> 867.72031 | F7: =E7*100/E16 -> 47.287718 | G7: =SUM(G8:G12) -> 28.92401
A8: Sociālā darbinieka konsultācijas | B8: konsultācijas | C8: 6 | D8: =(1388*1.2359)/167 -> 10.272031 | E8: =C8*D8 -> 61.632187 | G8: =E8/30 -> 2.0544062
A9: Sociālā darbinieka sociālā gadījuma vadīšanas darbs (sadarbības organizēšana ar citiem pakalpojumu sniedzējiem, SD, tiesībaizsardzības institūcijām u.c.) | B9: stundas | C9: 4 | D9: =D8 -> 10.272031 | E9: =C9*D9 -> 41.088125 | G9: =E9/30 -> 1.3696042
A10: mentors (uzticības persona) | B10: stundas | C10: 10 | D10: 10 | E10: =C10*D10 -> 100 | G10: =E10/30 -> 3.3333333
A11: Psihologa konsultācijas (konsultācija 45 minūtes un 15 minūtes dokumentu kārtošana) | B11: konsultācijas | C11: 10 | D11: 35 | E11: =C11*D11 -> 350 | G11: =E11/30 -> 11.666667
A12: Speciālistu (ārsts, psihiatrs, jurists u.c.) konsultācija (konsultācija 45 minūtes un 15 minūtes dokumentu kārtošana) | B12: konsultācijas | C12: =4+5 -> 9 | D12: 35 | E12: =C12*D12 -> 315 | G12: =E12/30 -> 10.5
A13: 2. Ar pakalpojuma prasību nodrošināšanu un klienta uzturēšanu saistītās izmaksas (arī bērna izmaksas) kopā | E13: =E14+E15 -> 967.26 | F13: =E13*100/E16 -> 52.712282 | G13: =G14+G15 -> 32.242
A14: Darbinieku kvalifikācijas celšanas, supervīziju un veselības apdrošināšanas izmaksas | B14: izmaksas uz 1 personu | C14: 30 | D14: 0.85 | E14: =C14*D14 -> 25.5 | G14: =E14/C14 -> 0.85
A15: Izmaksas, kas saistītas ar pakalpojuma administrēšanu un klientu uzturēšanu (izmitināšanu), t.sk., ēdināšana, komunālie, telpu īre, transporta pakalpojumi, kancelejas preces. | B15: diena | C15: 30 | D15: ='1.1.1.cietušie_pak_KC'!D13 -> 31.392 | E15: =C15*D15 -> 941.76 | G15: =E15/C15 -> 31.392
A16: Pakalpojuma izmaksas kopā | E16: =E7+E13 -> 1834.9803 | F16: =F7+F13 -> 100 | G16: =ROUND(G7+G13,2) -> 61.17
F18: Pakalpojuma izmaksas 1 personai (bez bērna)/dienā | G18: =G16 -> 61.17
F19: Pakalpojuma izmaksas 1 personai (ar 1 bērnu)/dienā | G19: =$G$16+$G$13*1 -> 93.412
F20: Pakalpojuma izmaksas 1 personai (ar 2 bērniem)/dienā | G20: =$G$16+$G$13*2 -> 125.654
F21: Pakalpojuma izmaksas 1 personai (ar 3 bērniem)//dienā | G21: =$G$16+$G$13*3 -> 157.896
F22: Pakalpojuma izmaksas 1 personai (ar 4 bērniem)//dienā | G22: =$G$16+$G$13*4 -> 190.138
F23: Pakalpojuma izmaksas 1 personai (ar 5 bērniem)//dienā | G23: =$G$16+$G$13*5 -> 222.38
F24: u.t.t
A25: S.Strēle
A26: 64331831
