Workbook

Sheet Pārdales
G1: 1.1. tabula
C2: 1.tabula | G2: 111 SAM pasakumu atlikumi
A3: 111 SAM pasākumu atlikumi | G3: Pasākums un atlikuma veids | H3: ERAF | I3: VB | J3: Kopā
A4: Kopā atlikumi | G4: 1111 nepiesaistītais finansējums | H4: 856859.52 | I4: 45247.61 | J4: 902107.13
B5: ERAF | C5: VB | D5: priv. | G5: 1112 kopējais atlikums | H5: 1102030 | I5: 112659.25 | J5: 1214689.3
A6: 1111 4.k. | B6: 856858 | C6: 45247.61 | G6: t.sk. 1112 atbrīvotais finansējums | H6: 585047.06 | I6: 53713.38 | J6: 638760.44
A7: 1112 | B7: 516982 | C7: 58945 | D7: 44219
A8: 1112 | B8: =K25 -> 500895 | C8: =C7 -> 58945 | D8: =K27 -> 34184
A9: 1 daļa | B9: 344186 | G9: t.sk. 1112 projekta pētniecības pieteikumos nepiesaistītais finansējums (ietaupījums projektā) | H9: 516982.98 | I9: 58945.87 | J9: 575928.85
A10: 2 daļa | B10: =B8-B9 -> 156709 | G10: 1115 kopējais atlikums | H10: =H11+H12+H14 -> 2659554.8 | I10: =I11+I12+I14 -> 469333.19 | J10: =J11+J12+J14 -> 3128888.5
G11: t.sk. 1115 atbrīvotais finansējums | H11: 2104286.7 | I11: 371344.7 | J11: 2475631.4
A12: 1115 3.k. | B12: 215268 | C12: 37988 | G12: t.sk. 1115 atbrīvot plānotais finansejums | H12: 340000 | I12: 60000 | J12: =H12+I12 -> 400000 | K12: pārdale no IZM projekta nr. 1.1.1.5/17/I/002
A13: 1 daļa | C13: 6698 | E13: uz 1115 2.k.
G14: t.sk. 1115 nepiesaistītais finansējums | H14: 215268.13 | I14: 37988.49 | J14: 253257.12
A15: 2 daļa | C15: =C12-C13 -> 31290 | E15: uz 1111 5.k.
G17: =172798.5-50354 -> 122444.5 | H17: 1112 projekts (intensitātes aprēķins)
G18: =58945.87-37337.63 -> 21608.24 | H18: 47910415 | I18: 100
A19: 1.2. tabula | H19: 40399189 | I19: =H19*I18/H18 -> 84.322352
A20: Pārdales no atbrīvotā finansēuma (virssaistības) | H20: 4754147 | I20: =H20*I18/H18 -> 9.9229927
A21: No | B21: Uz | C21: ERAF | D21: VB | H21: 2757079 | I21: =H21*I18/H18 -> 5.7546548
A22: 1115 1k | B22: 1115 2K | C22: 340000 | D22: 60000 | E22: tikai pēc 1.1.1.5. 1.kārtas atlikuma atbrīvošanas
H23: Aprēķini pārdalei (1112) | K23: ROUND
A24: 1115 3k | B24: 1111 5.k. 1.virz. | C24: =('REACT pārrēķins'!D85) -> 34272 | D24: ='REACT pārrēķins'!E85 -> 6048 | E24: tikai ar MK lēmumu! | H24: =SUM(H25:H27) -> 594024.42 | I24: 100 | K24: =SUM(K25:K27) -> 594024
G25: ERAF | H25: =H26*I25/I26 -> 500895.36 | I25: 84.322352 | K25: =ROUND(H25,0) -> 500895
C26: =C22+C24+D22+D24 -> 440320 | G26: VB | H26: 58945 | I26: 9.9229927 | K26: =ROUND(H26,0) -> 58945
A27: Pārdale uz 1113 | H27: =H26*I27/I26 -> 34184.055 | I27: 5.7546548 | K27: =ROUND(H27,0) -> 34184
A28: Nepieciešams: | B28: 1201044
A29: ERAF | B29: =B6+B9 -> 1201044 | C29: 1111 4.k., 1112 1 daļa
A31: Pārdale uz 1115 2.k. Buffalo 1 semestrim
B32: ERAF | C32: VB
A33: Nepieciešams | B33: =B10+B12+C22 -> 711977 | C33: =C13+C8+D22 -> 125643 | D33: =B33+C33 -> 837620 | F33: samazināts
A35: ERAF nepies. | B35: =B10+B12 -> 371977 | C35: 1112 2 daļa, 1115 3.k.viss
A36: VB nepies. | B36: =C8+C13 -> 65643 | C36: 1112 viss, 1115 1 daļa
A37: ERAF atbrīv. | B37: =C22 -> 340000 | C37: (plānots no 1115 1.kārtas atbrīvotā finansējuma)
A38: VB atbrīv. | B38: =D22 -> 60000 | C38: (plānots no 1115 1.kārtas atbrīvotā finansējuma)
A42: Pārdale uz 1111 5.k. 2.virz.
A43: Skat. Lapu "REACT pārrēķins"
A46: 1.3. tabula
A47: SUMMAS MKN
A49: 1112
...

Sheet pārdales pārb.
A2: Ārējās pārdales
B3: Plus | D3: Minus
B4: ERAF | C4: VB | D4: ERAF | E4: VB
A5: 1111 | B5: =E29 -> 34272 | C5: =F27+F28 -> 37338 | D5: =E14 -> 856858
A6: 1112 | D6: =E15+E19 -> 500895 | E6: =F19 -> 58945
A7: 1113 | B7: =E14+E15 -> 1201044
A8: 1115 | B8: =E19 -> 156709 | C8: =F19 -> 58945 | D8: =E29 -> 34272 | E8: =F27+F28 -> 37338
A9: Pārbaude: | B9: =SUM(B5:B8) -> 1392025 | C9: =SUM(C5:C8) -> 96283 | D9: =SUM(D5:D8) -> 1392025 | E9: =SUM(E5:E8) -> 96283
A12: uz 1113 | E12: =E14+E15 -> 1201044
A13: No | B13: Uz | C13: Finansejums | D13: Pārdale | E13: ERAF | F13: VB
A14: 1111 4k | B14: 1113 2.k. | C14: nepiesaistītais | D14: ārējā | E14: 856858 | F14: 0
A15: 1112 | B15: 1113 2.k. | C15: atbrīvotais | D15: ārējā | E15: 344186 | F15: 0
A17: Uz 1115 | E17: =E19 -> 156709
A18: No | B18: Uz | C18: Finansejums | D18: Pārdale | E18: ERAF | F18: VB
A19: 1112 | B19: 1115 2.k. | C19: atbrīvotais | D19: ārējā | E19: 156709 | F19: 58945
A20: 1115 1.k. | B20: 1115 2.k. | C20: atbrīvotais | D20: iekšējā | E20: 340000 | F20: 60000
A21: 1115. 3.k. | B21: 1115 2.k. | C21: nepiesaistītais | D21: iekšējā | E21: 215268 | F21: 6698
A23: Uz 1111
A24: No | B24: Uz | C24: Finansejums | D24: Pārdale | E24: ERAF | F24: VB
A25: 1111 5k 2.v. | B25: 1111 5k 1v | C25: nepiesaistītais | D25: iekšējā | E25: 80786.28 | F25: 12472.8
A26: 1111 4k | B26: 1111 5k 1v | C26: nepiesaistītais | D26: iekšējā | E26: 0 | F26: 45247.61
A27: 1115 3.k. | B27: 1111 5k 1v | C27: nepiesaistītais | D27: ārējā | F27: 31290
A28: 1115 3.k. | B28: 1111 5k 1v | C28: atbrīvotais | D28: ārējā | F28: 6048
A29: 1115 3.k. | B29: 1111 4.k. S | C29: atbrīvotais | D29: ārējā | E29: 34272
A33: No 1111
C34: Finansejums | D34: Pārdale | E34: ERAF | F34: VB
A35: 1111 4k | B35: 1113 2k | C35: nepiesaistītais | D35: ārējā | E35: 856858
A36: 1111 5k 2.v. | B36: 1111 5k 1v | C36: nepiesaistītais | D36: iekšējā | E36: 80786.28 | F36: 12472.8
A37: 1111 4k | B37: 1111 5k 1v | C37: nepiesaistītais | D37: iekšējā | E37: 0 | F37: 45247.61
A39: No 1112
C40: Finansejums | D40: Pardale | E40: ERAF | F40: VB
A41: 1112 | B41: 1113 2.k. | C41: atbrīvotais | D41: ārējā | E41: 344186
A42: 1112 | B42: 1115 2.k. | C42: atbrīvotais | D42: ārējā | E42: 156709 | F42: 58945
A44: No 1115
C45: Finansejums | D45: Pardale | E45: ERAF | F45: VB
A46: 1115 1.k. | B46: 1115 2.k. | C46: atbrīvotais | D46: iekšējā | E46: 340000 | F46: 60000
A47: 1115. 3.k. | B47: 1115 2.k. | C47: nepiesaistītais | D47: iekšējā | E47: 215268 | F47: 6698
A48: 1115 3.k. | B48: 1111 5k 1v | C48: nepiesaistītais | D48: ārējā | F48: 31290
A49: 1115 3.k. | B49: 1111 5k 1v | C49: atbrīvotais | D49: ārējā | F49: 6048
A50: 1115 3.k. | B50: 1111 4.k. S | C50: atbrīvotais | D50: ārējā | E50: 34272
...

Sheet projektu saraksts
A1: 2.tabula | F1: 6.tabula
A2: REACT_EU finansējuma sadalījums pa kārtām un projektiem (atbilstoši līgumos noslēgtajām summām, KPVIS dati uz 03.02.2022.)
A3: Kopā | D3: ERAF | E3: VB | F3: Publiskais kopā
A4: 13.1.2.1. pasākums | B4: 1.1.1.1/19/A/013 | D4: 373596.94 | E4: 224287.44 | F4: =D4+E4 -> 597884.38
A5: 13.1.2.1. pasākums | B5: 1.1.1.1/19/A/089 | D5: 373125.04 | E5: 224004.12 | F5: =D5+E5 -> 597129.16
B6: 1.1.1.1/19/A/102 | D6: 374918.54 | E6: 225080.85 | F6: =D6+E6 -> 599999.39
B7: Kopā REACT_EU 3. kārtai | D7: =D4+D5+D6 -> 1121640.5 | E7: =E4+E5+E6 -> 673372.41 | F7: =D7+E7 -> 1795012.9
B8: 1.1.1.1/20/A/016 | D8: 444810.36 | E8: 55189.13 | F8: =D8+E8 -> 499999.49
B9: 1.1.1.1/20/A/027 | D9: 410342.16 | E9: 50912.54 | F9: =D9+E9 -> 461254.7
B10: 1.1.1.1/20/A/035 | D10: 444810.36 | E10: 55189.13 | F10: =D10+E10 -> 499999.49
B11: 1.1.1.1/20/A/045 | D11: 444810.81 | E11: 55189.18 | F11: =D11+E11 -> 499999.99
B12: 1.1.1.1/20/A/110 | D12: 444810.36 | E12: 55189.13 | F12: =D12+E12 -> 499999.49
B13: 1.1.1.1/20/A/139 | D13: 444810.36 | E13: 55189 | F13: =D13+E13 -> 499999.36
B14: 1.1.1.1/20/A/144 | D14: 442308.75 | E14: 54878.75 | F14: =D14+E14 -> 497187.5
B15: Kopā REACT_EU 4. kārtai | D15: =SUM(D8:D14) -> 3076703.2 | E15: =SUM(E8:E14) -> 381736.86 | F15: =D15+E15 -> 3458440
B16: 1.1.1.1/21/A/033 | C16: Līgums | D16: 425000 | E16: 75000 | F16: =SUM(D16:E16) -> 500000
B17: 1.1.1.1/21/A/046 | C17: Līgums | D17: 390259.65 | E17: 68869.35 | F17: =SUM(D17:E17) -> 459129
B18: 1.1.1.1/21/A/079 | C18: Līgums | D18: 425000 | E18: 75000 | F18: =SUM(D18:E18) -> 500000
B19: 1.1.1.1/21/A/034 | C19: Apstiprināts | D19: 425000 | E19: 75000 | F19: =SUM(D19:E19) -> 500000
B20: 1.1.1.1/21/A/011 | C20: Apstiprināts | D20: 434871 | E20: 53958.58 | F20: =SUM(D20:E20) -> 488829.58
B21: 1.1.1.1/21/A/053 | C21: Apstiprināts | D21: 442967.49 | E21: 56965.31 | F21: =SUM(D21:E21) -> 499932.8
B22: Kopā REACT_EU 5. kārtai | D22: =SUM(D16:D21) -> 2543098.1 | E22: =SUM(E16:E21) -> 404793.24 | F22: =SUM(F16:F21) -> 2947891.4
B23: REACT_EU_kopā | D23: =D7+D15+D22 -> 6741441.8 | E23: =E7+E15+E22 -> 1459902.5 | F23: =F7+F15+F22 -> 8201344.3
D24: =D23*F24/F23 -> 82.199229 | E24: =E23*F24/F23 -> 17.800771 | F24: 100
B25: Pieejams (REACT) | D25: 9266084 | E25: 1733917 | F25: =D25+E25 -> 11000001
B26: starpība starp aprēķināto | D26: =D25-D23 -> 2524642.2 | E26: =E25-E23 -> 274014.49 | F26: =F25-F23 -> 2798656.7 | G26: izmantot kā virssaistības
A28: 3.tabula
A29: Virssaistību finansējuma sadalījums pa kārtām un projektiem
D30: ERAF | E30: VB | F30: Publiskais kopā
B31: 1.1.1.1/20/A/116 | D31: 433722.07 | E31: 53813.37 | F31: =D31+E31 -> 487535.44
B32: 1.1.1.1/20/A/185 | D32: 444018.2 | E32: 55090.84 | F32: =D32+E32 -> 499109.04
B33: Kopā virssaistības 4.kārtai | D33: =SUM(D31:D32) -> 877740.27 | E33: =SUM(E31:E32) -> 108904.21 | F33: =D33+E33 -> 986644.48
B34: 1.1.1.1/21/A/029 | C34: Līgums | D34: 425000 | E34: 75000 | F34: =SUM(D34:E34) -> 500000
B35: 1.1.1.1/21/A/050 | C35: Apstiprināts | D35: 425000 | E35: 75000 | F35: =SUM(D35:E35) -> 500000 | H35: paliek virssaistības priekš 5.k.
B36: 1.1.1.1/21/A/010 | C36: Apstiprināts | D36: 413813.9 | E36: 53216.18 | F36: =SUM(D36:E36) -> 467030.08 | H36: =D41-D33 -> 1646901.9 | I36: =E41-E33 -> 165110.28 | J36: =F41-F33 -> 1812012.2
B37: 1.1.1.1/21/A/055 | C37: Apstiprināts | D37: 442472.19 | E37: 56901.62 | F37: =D37+E37 -> 499373.81 | H37: ERAF | I37: VB | J37: Kopā
B38: Kopā virssaistības 5.kārtai 1.virz. | D38: =SUM(D34:D37) -> 1706286.1 | E38: =SUM(E34:E37) -> 260117.8 | F38: =SUM(F34:F37) -> 1966403.9
D39: =D33+D38 -> 2584026.4 | E39: =E33+E38 -> 369022.01 | F39: =D39+E39 -> 2953048.4 | G39: plānot no virssaistībām
B41: Pieejams (REACT atlikums) | D41: =D26 -> 2524642.2 | E41: =E26 -> 274014.49 | F41: =F26 -> 2798656.7 | H41: Atlikumi pārdalei: | I41: ERAF | J41: VB
B42: trūkst | D42: =D41-D39 -> -59384.18 | E42: =E41-E39 -> -95007.52 | F42: =F41-F39 -> -154391.7 | H42: 1111 4.k. līgumos nepiesaistītais | I42: * | J42: 45247.61
...

Sheet REACT pārrēķins
B1: 5.tabula | C1: 1.1.1.1.pasākuma finansējuma pārrēķins
B3: * iegrozīts ar Ministru kabineta 13.04.2021. noteikumiem Nr. 235
B4: Aktuālā MKN redakcija, kopējais pasākumu finansējums | C4: virssaistības* | D4: bez virssaistībām (pamatpiešķīrums) | H4: Pārdale uz 1113 no 1111 4k. | I4: Pārdale no 1111 4.k. PP uz 1111 4.k. virssaistībām | J4: Pārdale no 1115 3.k. PP uz 1111 4.k. virssaistībām | K4: Pārdale no 1111 5.k. 2.virz.atlik. uz 1111 5.k. 2.virz. Virssaistībam | L4: Pārdale no 1115 3.k. atbrīvota uz 1111 5.k. 2.virz. Virssaistībam
A5: Kopā | B5: 112803734 | C5: =C6+C7 -> 11000000 | D5: =B5-C5 -> 101803734 | E5: =D5-X18 -> 785248
A6: ERAF | B6: 97236954 | C6: 9085938 | D6: =B6-C6 -> 88151016 | E6: =D6-X19 -> 822586 | H6: 856859.52 | K6: 80786.28 | L6: 50065.547
A7: VB | B7: 15566780 | C7: 1914062 | D7: =B7-C7 -> 13652718 | E7: =D7-X20 -> -37338 | I7: 45247.61 | J7: 28452.014 | K7: 12472.8 | L7: 8835.0965
I8: tikai noņemt, nekur nelikt klāt (ir jau summās iekšā)
B10: 1.kārta
A11: Kopā | D11: 39304832
A12: ERAF | D12: 36343385
A13: VB | D13: 2961447
B15: 2.kārta | S15: 8.tabula (korekcija atbilstoši KPVIS projektu summām un skaitļu noapaļojumiem)
A16: Kopā | D16: 22836993 | S16: MKN summas
A17: ERAF | D17: 17221032 | T17: KOPĀ: Gala summa MKN grozījumos | U17: 11111 pamatpiešķīrums t.sk. virssaistības | V17: 1.1.1.1. ES fondu virssaistības | W17: 13.1.2.1. REACT | X17: 1111 bez virssaistībām | Y17: 1111 nepiesaistītā fin. pārdale uz PP | Z17: 1111 atbrīvotā fin. pārdale uz VB
A18: VB | D18: 5615961 | S18: Kopā | T18: =T19+T20 -> 112018487 | U18: =U19+U20 -> 103817142 | V18: =V19+V20 -> 2798656 | W18: =W19+W20 -> 8201345 | X18: =U18-V18 -> 101018486 | AB18: =V18+W18 -> 11000001
S19: ERAF | T19: =ROUND(D12+D17+T23+T33+T50,0) -> 96594514 | U19: =D12+D17+U23+U33+U50 -> 89853072 | V19: =V33+V50 -> 2524642 | W19: =ROUND(W23+W33+W50,1) -> 6741442 | X19: =U19-V19 -> 87328430 | Y19: =ROUND('projektu saraksts'!D45,0) -> 80786 | Z19: =ROUND('projektu saraksts'!D47,0) -> 34266
P20: Korekcija | S20: VB | T20: =ROUND(D13+D18+T24+T34+T51,0) -> 15423973 | U20: =D13+D18+U24+U34+U51 -> 13964070 | V20: =V34+V51 -> 274014 | W20: =ROUND(W24+W34+W51,1) -> 1459903 | X20: =U20-V20 -> 13690056 | Y20: =ROUND('projektu saraksts'!E45,0) -> 89010 | Z20: =ROUND('projektu saraksts'!E47,0) -> 6047
B21: Šobrīd 3.kārta | C21: virssaistības | D21: bez virssaistībām (pamatpiešķīrums) | E21: ReactEU (atbilstoši projektu līgumiem) | F21: virssaistības (REACT atlikums) | G21: KOPĀ ar ReactEU | O21: summa projektos kopā KPVIS | P21: atlikums/iztrūkums | S21: 3k kopā
A22: Kopā | B22: 19381696 | C22: =C23+C24 -> 1902739 | D22: =B22-C22 -> 17478957 | E22: =E23+E24 -> 1795012.9 | F22: 0 | G22: =G23+G24 -> 19273970 | M22: =G22 -> 19273970 | S22: Kopā | T22: =T23+T24 -> 19381696 | U22: =T22-W22 -> 17586683 | W22: =ROUND(E22,0) -> 1795013
A23: ERAF | B23: 15044401 | C23: 1251704 | D23: =B23-C23 -> 13792697 | E23: 1121640.5 | F23: 0 | G23: =D23+E23 -> 14914338 | M23: =G23 -> 14914338 | N23: trūkst pret projektu summām | O23: 15044401 | P23: =M23-O23 -> -130063.48 | Q23: no 4 k | S23: ERAF | T23: =M23+(-P23) -> 15044401 | U23: =T23-W23 -> 13922760 | W23: =ROUND(E23,0) -> 1121641 | X23: =U23-V23 -> 13922760
A24: VB | B24: 4337295 | C24: 651035 | D24: =B24-C24 -> 3686260 | E24: 673372.41 | F24: 0 | G24: =D24+E24 -> 4359632.4 | M24: =G24 -> 4359632.4 | N24: paliek pāri | O24: 4337295 | P24: =M24-O24 -> 22337.41 | Q24: uz 4k | S24: VB | T24: =M24-P24 -> 4337295 | U24: =T24-W24 -> 3663923 | W24: =ROUND(E24,0) -> 673372
B26: Šobrīd 3.kārtas nesaimn. projekti | C26: virssaistības | D26: bez virssaistībām (pamatpiešķīrums) | E26: ReactEU (atbilstoši projektu līgumiem) | F26: virssaistības (REACT atlikums) | G26: KOPĀ ar ReactEU | O26: summa projektos kopā KPVIS | S26: 3k NS
A27: Kopā | B27: 11561953 | C27: =C28+C29 -> 1902739 | D27: =B27-C27 -> 9659214 | E27: =E28+E29 -> 1795012.9 | F27: 0 | G27: =G28+G29 -> 11454227 | M27: =G27 -> 11454227 | O27: 11561953 | S27: Kopā | T27: =T28+T29 -> 11561953 | U27: =T27-W27 -> 9766940 | W27: =ROUND(E27,0) -> 1795013
A28: ERAF | B28: 7224658 | C28: 1251704 | D28: =B28-C28 -> 5972954 | E28: 1121640.5 | F28: 0 | G28: =D28+E28 -> 7094594.5 | M28: =G28 -> 7094594.5 | O28: 7224658 | P28: =M28-O28 -> -130063.48 | S28: ERAF | T28: =ROUND(M28+(-P23),0) -> 7224658 | U28: =T28-W28 -> 6103017 | W28: =ROUND(E28,0) -> 1121641
A29: VB | B29: 4337295 | C29: 651035 | D29: =B29-C29 -> 3686260 | E29: 673372.41 | F29: 0 | G29: =D29+E29 -> 4359632.4 | M29: =G29 -> 4359632.4 | O29: 4337295 | P29: =M29-O29 -> 22337.41 | S29: VB | T29: =ROUND(M29-P24,0) -> 4337295 | U29: =T29-W29 -> 3663923 | W29: =ROUND(E29,0) -> 673372
B31: Šobrīd 4.kārta | C31: virssaistības | D31: bez virssaistībām (pamatpiešķīrums) | E31: ReactEU (atbilstoši projektu līgumiem) | F31: virssaistības (REACT atlikums) | G31: KOPĀ ar ReactEU un virssaistībām | M31: noņem atlikumus | O31: summa projektos kopā KPVIS | P31: atlikums/iztrūkums | S31: 4k kopā
A32: Kopā | B32: 22921818 | C32: =C33+C34 -> 4097261 | D32: =B32-C32 -> 18824557 | E32: =E33+E34 -> 3458440 | F32: =F33+F34 -> 986644.48 | G32: =G33+G34 -> 23269642 | M32: =M33+M34 -> 22367536 | S32: Kopā | T32: =T33+T34 -> 22315532 | U32: =T32-W32 -> 18857092 | V32: =ROUND(F32,0) -> 986644 | W32: =ROUND(E32,0) -> 3458440
A33: ERAF | B33: 21402479 | C33: 3584234 | D33: =B33-C33 -> 17818245 | E33: 3076703.2 | F33: 877740.27 | G33: =D33+E33+F33 -> 21772688 | M33: =M38+M44 -> 20915830 | N33: paliek pāri | O33: =SUM(O38,M44) -> 20545620 | P33: =M33-O33 -> 370210.07 | Q33: uz 3k 130063 | S33: ERAF | T33: =ROUND(T38+T44,0) -> 20841440 | U33: =T33-W33 -> 17764737 | V33: =ROUND(F33,0) -> 877740 | W33: =ROUND(E33,0) -> 3076703 | X33: =U33-V33 -> 16886997
A34: VB | B34: 1519339 | C34: 513027 | D34: =B34-C34 -> 1006312 | E34: 381736.86 | F34: 108904.21 | G34: =D34+E34+F34 -> 1496953.1 | I34: 45247.61 | M34: =M39+M45 -> 1451705.5 | N34: trūkst pret projektu summām | O34: 1474091.4 | P34: =M34-O34 -> -22385.93 | Q34: no 3k. 22337 | S34: VB | T34: =ROUND(M34+P24+D40,0) -> 1474092 | U34: =T34-W34 -> 1092355 | V34: =ROUND(F34,0) -> 108904 | W34: =ROUND(E34,0) -> 381737
B36: Šobrīd 4.kārtas nesaimn. projekti | C36: virssaistības | D36: bez virssaistībām (pamatpiešķīrums) | E36: ReactEU (atbilstoši projektu līgumiem) | F36: virssaistības (REACT atlikums) | G36: KOPĀ ar ReactEU un virssaistībām | H36: Pamatpiešķ. atlikums | O36: summa projektos kopā KPVIS | S36: 4k NS
A37: Kopā | B37: 13764828 | C37: =C38+C39 -> 4097261 | D37: =B37-C37 -> 9667567 | E37: =E38+E39 -> 3458440 | F37: =F38+F39 -> 986644.48 | G37: =G38+G39 -> 14112652 | M37: =M38+M39 -> 13702719 | S37: Kopā | T37: =T38+T39 -> 13595042 | U37: =T37-W37 -> 10136602 | V37: =ROUND(F37,0) -> 986644 | W37: =ROUND(E37,0) -> 3458440
A38: ERAF | B38: 12245489 | C38: 3584234 | D38: =B38-C38 -> 8661255 | E38: 3076703.2 | F38: 877740.27 | G38: =D38+E38+F38 -> 12615698 | H38: 364685.64 | M38: =G38-C67 -> 12251013 | N38: paliek pāri | O38: 11880803 | P38: =M38-O38 -> 370210.07 | Q38: uz 3k 130063 | S38: ERAF | T38: =ROUND(M38+P23,0) -> 12120950 | U38: =T38-W38 -> 9044247 | V38: =ROUND(F38,0) -> 877740 | W38: =ROUND(E38,0) -> 3076703
A39: VB | B39: 1519339 | C39: 513027 | D39: =B39-C39 -> 1006312 | E39: 381736.86 | F39: 108904.21 | G39: =D39+E39+F39 -> 1496953.1 | I39: 45247.61 | M39: =G39-D67 -> 1451705.5 | N39: trūkst pret projektu summām | O39: 1474091.4 | P39: =M39-O39 -> -22385.93 | Q39: no 3k. 22337 | S39: VB | T39: =ROUND(M39+P24+D40,0) -> 1474092 | U39: =T39-W39 -> 1092355 | V39: =ROUND(F39,0) -> 108904 | W39: =ROUND(E39,0) -> 381737
A40: VB papildus (projektos minus pieejamais) | D40: =ROUND(1474091.39-1474042.87,0) -> 49
B42: Šobrīd 4.kārtas saimn. projekti | C42: virssaistības | D42: bez virssaistībām (pamatpiešķīrums) | E42: ReactEU (atbilstoši projektu līgumiem) | F42: virssaistības (REACT atlikums) | G42: KOPĀ | M42: projektos | S42: 4k S
A43: Kopā | E43: 0 | F43: 0 | S43: Kopā | T43: =T44 -> 8720490 | U43: =T43-W43 -> 8720490
A44: ERAF | B44: 9156990 | D44: 9156990 | E44: 0 | F44: 0 | G44: =B44 -> 9156990 | H44: 492173.88 | I44: 71464.813 | M44: =G44-C68 -> 8664817 | N44: ok | S44: ERAF | T44: =ROUND(M44+D79+D80+D81+D82,0)-1 -> 8720490 | U44: =T44-W44 -> 8720490
A45: VB | E45: 0 | F45: 0 | S45: VB
A46: ERAF papildus | D46: ='projektu saraksts'!D50 -> 55668.1
I47: pārdale no ERAF pārdaļu atlikums
...

Sheet sadalījums pa teritorijām
G2: 9.tabula
A3: Kārtas numurs | B3: ERAF īpatsvars Teritorijai 1 (%) | C3: 1.1.1.1. pasākums | E3: Indikatīvais ERAF finansējuma sadalījums pa teritorijām, ievērojot SAM 1.1.1. pasākumu ietvaros plānotās ERAF pārdales atblstoši MKN grozījumiem Ministru kabineta 13.04.2021 noteikumi Nr. 235
E4: KP finansējums, EUR
E5: Kopā | F5: Teritorija1 | G5: Teritorija2
A6: 1 | B6: 0.8982 | C6: 1. kārta | E6: 36343385 | F6: =B6*E6 -> 32643628 | G6: =E6-F6 -> 3699756.6
A7: 2 | B7: 0.7852 | C7: 2. kārta | E7: 17221032 | F7: =B7*E7 -> 13521954 | G7: =E7-F7 -> 3699077.7
A8: 3 | B8: 0.7694 | C8: 3. kārta | E8: 15044401 | F8: =B8*E8 -> 11575162 | G8: =E8-F8 -> 3469238.9
A9: 4 | B9: 0.8416 | C9: 4. kārta | E9: 21402479 | F9: =B9*E9 -> 18012326 | G9: =E9-F9 -> 3390152.7
A10: 5 | B10: 0.8416 | C10: 5. kārta | E10: 7225657 | F10: =B10*E10 -> 6081112.9 | G10: =E10-F10 -> 1144544.1
D12: 10.tabula
A13: 1.1.1.1. un 13.1.2.1. ERAF finansējums pēc grozījumiem
B14: pamatpiešķīrums | C14: REACT-EU
A15: 1. kārta | B15: 36343385
A16: 2. kārta | B16: 17221032
A17: 3. kārta | B17: 13922760 | C17: 1121641
A18: 4. kārta | B18: 16886997 | C18: 3076703
A19: 5. kārta | B19: 2954256 | C19: 2543098
A20: kopā | B20: =SUM(B15:B19) -> 87328430 | C20: =SUM(C17:C19) -> 6741442
A22: ERAF finansējuma sadalījuma pa teritorijām 1.1.1.1. pasākuma un 13.1.2.1. pasākuma ietvaros aprēķini:
G23: 11.tabula
A24: Kārtas numurs | B24: ERAF īpatsvars Teritorijai 1 (%) | C24: 1.1.1.1. pasākums | D24: 13.1.2.1. pasākums | E24: Indikatīvais ERAF finansējuma sadalījums pa teritorijām, ievērojot SAM 1.1.1. pasākumu ietvaros plānoto ERAF pārdali
E25: KP finansējums, EUR
E26: ERAF | F26: Teritorija1 | G26: Teritorija2
A27: 1 | B27: 0.8982 | C27: 1. kārta | E27: =B15 -> 36343385 | F27: =B27*E27 -> 32643628 | G27: =E27-F27 -> 3699756.6
A28: 2 | B28: 0.7852 | C28: 2. kārta | E28: =B16 -> 17221032 | F28: =B28*E28 -> 13521954 | G28: =E28-F28 -> 3699077.7
A29: 3 | B29: 0.7694 | C29: 3. kārta | E29: =B17 -> 13922760 | F29: =B29*E29 -> 10712172 | G29: =E29-F29 -> 3210588.5
A30: 3 | B30: 0.7694 | D30: 3. kārta | E30: =C17 -> 1121641 | F30: =B30*E30 -> 862990.59 | G30: =E30-F30 -> 258650.41
A31: 4 | B31: 0.8416 | C31: 4. kārta | E31: =B18 -> 16886997 | F31: =B31*E31 -> 14212097 | G31: =E31-F31 -> 2674900.3
A32: 4 | B32: 0.8416 | D32: 4. kārta | E32: =C18 -> 3076703 | F32: =B32*E32 -> 2589353.2 | G32: =E32-F32 -> 487349.76
A33: 5 | B33: 0.8416 | C33: 5. kārta | E33: =B19 -> 2954256 | F33: =B33*E33 -> 2486301.8 | G33: =E33-F33 -> 467954.15
A34: 5 | B34: 0.8416 | D34: 5. kārta | E34: =C19 -> 2543098 | F34: =B34*E34 -> 2140271.3 | G34: =E34-F34 -> 402826.72

Sheet Rādītāji
A1: 1115 pasākuma 2.kārta:
A2: RTU aprēķini
A3: 750000 | B3: 12 | C3: =A3/B3 -> 62500 | D3: eur/cilv
A5: Rādītaja aprēķins:
A6: 856548.98 | B6: Pieejamā summa pārdalei
A7: 62500 | B7: eur/pers
A8: =A6/A7 -> 13.704784 | B8: personu skaits
