Workbook
Name Recover: [1]Macro1!$A$99
Name Rikojums2222: [2]Macro1!$A$106
Name TableName: "Dummy"

Sheet Kopsavilkums
C1: Pielikums Nr.30 Ministru kabineta rīkojuma "Ministru kabineta rīkojuma "Par finanšu līdzekļu apropriācijas pārdali no budžeta resora ''74. Gadskārtējā valsts budžeta izpildes procesā pārdalāmais finansējums'' valsts budžeta programmas 12.00.00 ''Finansējums veselības jomas pasākumiem Covid-19 infekcijas izplatības ierobežošanai"" projekta sākotnējās ietekmes novērtējuma ziņojumam (anotācijai)
A2: Jūnijs | B2: EUR | C2: EKK 3000 | D2: EKK 7460 | E2: Apakšprogrammu sadalījums | F2: MK not,punkts/apakšpunkts
A3: Izmaksas par Covid 19 izmeklējumiem | B3: =B4+B13 -> 1110385 | C3: =C4+C13 -> 1108374 | D3: =D4+D13 -> 2011
A4: AMBULATORIE PAKALPOJUMI | B4: =SUM(B5:B12) -> 559040 | C4: =SUM(C5:C12) -> 557029 | D4: =SUM(D5:D12) -> 2011
A5: Zobārstniecības pakalpojumu summa | B5: =C5+D5 -> 10519 | C5: =Zobārstn!L4 -> 10469 | D5: =Zobārstn!M4 -> 50 | E5: 33.16.00 | F5: MK not.Nr.555 275 p
A6: Par IAL manipulācijām SAVA | B6: =C6+D6 -> 147484 | C6: =IAL_manip_SAVA!I5 -> 146693 | D6: =IAL_manip_SAVA!J5 -> 791 | E6: 33.16.00 | F6: MK not.Nr.555 275 p
A7: Par IAL manipulācijām veselības aprūpei mājās | B7: =C7+D7 -> 13997 | C7: =IAL_mājas_apr!I4 -> 13936 | D7: =IAL_mājas_apr!J4 -> 61 | E7: 33.16.00 | F7: MK not.Nr.555 275 p
A8: SAVA uzņemšanas nodaļu fiksētās piemaksas par IAL izmantošanu | B8: =C8+D8 -> 38769 | C8: =IAL_SAVA_uzņemš_nod!I43 -> 38769 | E8: 33.16.00 | F8: MK not.Nr.555 275 p
A9: Ambulatorā pēc Covid-19 rehabilitācija | B9: =C9+D9 -> 111983 | C9: =Amb_rehab!H3 -> 111983 | E9: 33.16.00 | F9: MK not.Nr.555 274.2.
A10: Dinamiskā novērošana | B10: =C10+D10 -> 176005 | C10: =Dinam_novēroš!G3 -> 176005 | E10: 33.16.00 | F10: MK not.Nr.555 274.3.
A11: Fiksētā piemaksa Ģimenes ārstu praksēm par IAL izmantošanu | B11: =C11+D11 -> 59458 | C11: =IAL_fiks_piem_ĢĀ!R4 -> 59164 | D11: =IAL_fiks_piem_ĢĀ!S4 -> 294 | E11: 33.16.00 | F11: MK not.Nr.555 275 p
A12: Fiksēta piemaksa Feldšeru punktiem par IAL izmantošanu | B12: =C12+D12 -> 825 | C12: =IAL_fiks_piem_feldš!P3 -> 10 | D12: =IAL_fiks_piem_feldš!Q3 -> 815 | E12: 33.16.00 | F12: MK not.Nr.555 275 p
A13: STACIONĀRIE PAKALPOJUMI | B13: =B14+B15+B16 -> 551345 | C13: =SUM(C14:C17) -> 551345 | D13: =SUM(D14:D16) -> 0
A14: Piemaksa gultasdienai par IAL stacionāros | B14: =C14+D14 -> 178210 | C14: =Stac_IAL!F65 -> 178210 | E14: 33.18.00 | F14: MK not.Nr.555 275 p
A15: Subakūtas rehabilitācijas pēc Covid-19 izmaksas | B15: =C15+D15 -> 114647 | C15: =Subakūt_rehab!I81 -> 114647 | E15: 33.18.00 | F15: MK not.Nr.555 274.2.
A16: Covid-19 pacientu ārstēšanas izmaksas | B16: =C16+C17 -> 258488 | C16: =Covid_ārst_izm!I52 -> 12146 | E16: 33.17.00 | F16: MK not.Nr.555 274.3.
B17: =C17+D17 -> 246342 | C17: =Covid_ārst_izm!J52 -> 246342 | E17: 33.18.00

Sheet Zobārstn
K1: Pielikums Nr.31 Ministru kabineta rīkojuma "Ministru kabineta rīkojuma "Par finanšu līdzekļu apropriācijas pārdali no budžeta resora ''74. Gadskārtējā valsts budžeta izpildes procesā pārdalāmais finansējums'' valsts budžeta programmas 12.00.00 ''Finansējums veselības jomas pasākumiem Covid-19 infekcijas izplatības ierobežošanai"" projekta sākotnējās ietekmes novērtējuma ziņojumam (anotācijai)
A2: Veikto pakalpojumu* summa zobārstniecībā ārkārtas situācijas laikā par 2023.gada jūnija ievadītiem taloniem
A3: (*iekļautas divu manipulāciju izmaksas: 70035 - Piemaksa par laiku un individuālajiem aizsardzības līdzekļiem epidemioloģiskās drošības pasākumu nodrošināšanai zobārstam vai mutes, sejas un žokļu ķirurgam ambulatoro veselības aprūpes pakalpojumu nodrošināšanai, tarifs - 0.30 euro; 70036 - Piemaksa par laiku un individuālajiem aizsardzības līdzekļiem epidemioloģiskās drošības pasākumu nodrošināšanai ārstniecības un pacientu aprūpes personām zobārstniecības pakalpojumu nodrošināšanai ambulatori, tarifs - 0.20 euro)
J4: =ROUND(J6,0) -> 10519 | L4: =ROUNDUP(L6,0) -> 10469 | M4: =ROUND(M6,0) -> 50
A5: NVD TN | B5: Ārstniecības iestādes kods | C5: Ārstniecības iestādes nosaukums | D5: Pakalpojumu summa, (manipulācija 70035) euro | E5: Tarifs, euro | F5: Manipulācijas 70035 skaits | G5: Pakalpojumu summa, (manipulācija 70036) euro | H5: Tarifs, euro | I5: Manipulācijas 70036 skaits | J5: Pakalpojumu summa kopā, euro | K5: Manipulāciju skaits kopā | L5: EKK 3000 | M5: EKK 7460
A6: KOPĀ | D6: =SUM(D7:D237) -> 7705.2 | E6: 0.3 | F6: =SUM(F7:F237) -> 25684 | G6: =SUM(G7:G237) -> 2813.4 | H6: 0.2 | I6: =SUM(I7:I237) -> 14067 | J6: =SUM(J7:J237) -> 10518.6 | K6: =SUM(K7:K237) -> 39751 | L6: =SUM(L7:L237) -> 10468.4 | M6: =SUM(M7:M237) -> 50.2
A7: NVD Kurzemes nodaļa | B7: 051000003 | C7: Talsu mutes veselības kabinets, Sabiedrība ar ierobežotu atbildību | D7: =F7*E7 -> 9.6 | E7: 0.3 | F7: 32 | G7: =I7*H7 -> 13 | H7: 0.2 | I7: 65 | J7: =D7+G7 -> 22.6 | K7: =F7+I7 -> 97 | L7: =J7 -> 22.6
A8: NVD Kurzemes nodaļa | B8: 170000154 | C8: Grusa Inga - ārsta prakse zobārstniecībā | D8: =F8*E8 -> 12.3 | E8: 0.3 | F8: 41 | G8: =I8*H8 -> 8.2 | H8: 0.2 | I8: 41 | J8: =D8+G8 -> 20.5 | K8: =F8+I8 -> 82 | L8: =J8 -> 20.5
A9: NVD Kurzemes nodaļa | B9: 170000197 | C9: RD Private, SIA | G9: =I9*H9 -> 35 | H9: 0.2 | I9: 175 | J9: =D9+G9 -> 35 | K9: =F9+I9 -> 175 | L9: =J9 -> 35
A10: NVD Kurzemes nodaļa | B10: 170020401 | C10: LIEPĀJAS REĢIONĀLĀ SLIMNĪCA, Sabiedrība ar ierobežotu atbildību | D10: =F10*E10 -> 183.9 | E10: 0.3 | F10: 613 | G10: =I10*H10 -> 54 | H10: 0.2 | I10: 270 | J10: =D10+G10 -> 237.9 | K10: =F10+I10 -> 883 | L10: =J10 -> 237.9
A11: NVD Kurzemes nodaļa | B11: 170064506 | C11: ALGORITMS L, SIA | D11: =F11*E11 -> 107.7 | E11: 0.3 | F11: 359 | G11: =I11*H11 -> 56 | H11: 0.2 | I11: 280 | J11: =D11+G11 -> 163.7 | K11: =F11+I11 -> 639 | L11: =J11 -> 163.7
A12: NVD Kurzemes nodaļa | B12: 170077201 | C12: Veselības salons Z, Sabiedrība ar ierobežotu atbildību | D12: =F12*E12 -> 11.1 | E12: 0.3 | F12: 37 | J12: =D12+G12 -> 11.1 | K12: =F12+I12 -> 37 | L12: =J12 -> 11.1
A13: NVD Kurzemes nodaļa | B13: 170077202 | C13: SOLADENS, SIA | G13: =I13*H13 -> 11.2 | H13: 0.2 | I13: 56 | J13: =D13+G13 -> 11.2 | K13: =F13+I13 -> 56 | L13: =J13 -> 11.2
A14: NVD Kurzemes nodaļa | B14: 270000014 | C14: LOLITAS LAUBERTES ZOBĀRSTNIECĪBA, Sabiedrība ar ierobežotu atbildību | D14: =F14*E14 -> 18.6 | E14: 0.3 | F14: 62 | G14: =I14*H14 -> 3.2 | H14: 0.2 | I14: 16 | J14: =D14+G14 -> 21.8 | K14: =F14+I14 -> 78 | L14: =J14 -> 21.8
A15: NVD Kurzemes nodaļa | B15: 270000024 | C15: Daces un Signes zobārstniecības privātprakse, Sabiedrība ar ierobežotu atbildību | D15: =F15*E15 -> 20.7 | E15: 0.3 | F15: 69 | J15: =D15+G15 -> 20.7 | K15: =F15+I15 -> 69 | L15: =J15 -> 20.7
A16: NVD Kurzemes nodaļa | B16: 270000064 | C16: MEDENT, SIA | D16: =F16*E16 -> 53.1 | E16: 0.3 | F16: 177 | G16: =I16*H16 -> 7.4 | H16: 0.2 | I16: 37 | J16: =D16+G16 -> 60.5 | K16: =F16+I16 -> 214 | L16: =J16 -> 60.5
A17: NVD Kurzemes nodaļa | B17: 270064004 | C17: SMAIDS A, SIA | D17: =F17*E17 -> 132 | E17: 0.3 | F17: 440 | G17: =I17*H17 -> 14 | H17: 0.2 | I17: 70 | J17: =D17+G17 -> 146 | K17: =F17+I17 -> 510 | L17: =J17 -> 146
A18: NVD Kurzemes nodaļa | B18: 270064503 | C18: Klīnika ZINTA, SIA | D18: =F18*E18 -> 131.7 | E18: 0.3 | F18: 439 | G18: =I18*H18 -> 16 | H18: 0.2 | I18: 80 | J18: =D18+G18 -> 147.7 | K18: =F18+I18 -> 519 | L18: =J18 -> 147.7
A19: NVD Kurzemes nodaļa | B19: 270064507 | C19: DAKTERES KIRIČKEVIČAS PRIVĀTPRAKSE, Individuālais uzņēmums | D19: =F19*E19 -> 6.3 | E19: 0.3 | F19: 21 | J19: =D19+G19 -> 6.3 | K19: =F19+I19 -> 21 | L19: =J19 -> 6.3
A20: NVD Kurzemes nodaļa | B20: 620200014 | C20: Dz.Ozoliņas zobārstniecības kabinets, SIA | D20: =F20*E20 -> 108.3 | E20: 0.3 | F20: 361 | G20: =I20*H20 -> 51.4 | H20: 0.2 | I20: 257 | J20: =D20+G20 -> 159.7 | K20: =F20+I20 -> 618 | L20: =J20 -> 159.7
A21: NVD Kurzemes nodaļa | B21: 620200018 | C21: G.Līces ārsta prakse zobārstniecībā, SIA | D21: =F21*E21 -> 18 | E21: 0.3 | F21: 60 | G21: =I21*H21 -> 7.2 | H21: 0.2 | I21: 36 | J21: =D21+G21 -> 25.2 | K21: =F21+I21 -> 96 | L21: =J21 -> 25.2
A22: NVD Kurzemes nodaļa | B22: 620200062 | C22: ANROJA, SIA | D22: =F22*E22 -> 25.8 | E22: 0.3 | F22: 86 | G22: =I22*H22 -> 30 | H22: 0.2 | I22: 150 | J22: =D22+G22 -> 55.8 | K22: =F22+I22 -> 236 | L22: =J22 -> 55.8
A23: NVD Kurzemes nodaļa | B23: 621200004 | C23: Strazdiņa Ināra - ārsta prakse zobārstniecībā | D23: =F23*E23 -> 6 | E23: 0.3 | F23: 20 | G23: =I23*H23 -> 2.8 | H23: 0.2 | I23: 14 | J23: =D23+G23 -> 8.8 | K23: =F23+I23 -> 34 | L23: =J23 -> 8.8
A24: NVD Kurzemes nodaļa | B24: 640600008 | C24: Blikerte Gunta - ārsta prakse zobārstniecībā | D24: =F24*E24 -> 12 | E24: 0.3 | F24: 40 | J24: =D24+G24 -> 12 | K24: =F24+I24 -> 40 | L24: =J24 -> 12
A25: NVD Kurzemes nodaļa | B25: 640600015 | C25: Liepiņa Indra - ārsta prakse zobārstniecībā | D25: =F25*E25 -> 10.5 | E25: 0.3 | F25: 35 | J25: =D25+G25 -> 10.5 | K25: =F25+I25 -> 35 | L25: =J25 -> 10.5
A26: NVD Kurzemes nodaļa | B26: 641000001 | C26: Vidaja Ilga - ārsta prakse zobārstniecībā | D26: =F26*E26 -> 8.7 | E26: 0.3 | F26: 29 | G26: =I26*H26 -> 5.8 | H26: 0.2 | I26: 29 | J26: =D26+G26 -> 14.5 | K26: =F26+I26 -> 58 | L26: =J26 -> 14.5
A27: NVD Kurzemes nodaļa | B27: 641000007 | C27: Birze Ligita - ārsta prakse zobārstniecībā | D27: =F27*E27 -> 11.7 | E27: 0.3 | F27: 39 | J27: =D27+G27 -> 11.7 | K27: =F27+I27 -> 39 | L27: =J27 -> 11.7
A28: NVD Kurzemes nodaļa | B28: 641000022 | C28: Burkevica Anita - zobu higiēnista prakse | G28: =I28*H28 -> 13.4 | H28: 0.2 | I28: 67 | J28: =D28+G28 -> 13.4 | K28: =F28+I28 -> 67 | L28: =J28 -> 13.4
A29: NVD Kurzemes nodaļa | B29: 840200025 | C29: SALDUS ZOBĀRSTNIECĪBA, SIA | D29: =F29*E29 -> 9 | E29: 0.3 | F29: 30 | G29: =I29*H29 -> 1.4 | H29: 0.2 | I29: 7 | J29: =D29+G29 -> 10.4 | K29: =F29+I29 -> 37 | L29: =J29 -> 10.4
A30: NVD Kurzemes nodaļa | B30: 840200026 | C30: Sigma Z, SIA | D30: =F30*E30 -> 65.4 | E30: 0.3 | F30: 218 | G30: =I30*H30 -> 60.6 | H30: 0.2 | I30: 303 | J30: =D30+G30 -> 126 | K30: =F30+I30 -> 521 | L30: =J30 -> 126
A31: NVD Kurzemes nodaļa | B31: 840200048 | C31: META, Sabiedrība ar ierobežotu atbildību Saldus | D31: =F31*E31 -> 39 | E31: 0.3 | F31: 130 | J31: =D31+G31 -> 39 | K31: =F31+I31 -> 130 | L31: =J31 -> 39
A32: NVD Kurzemes nodaļa | B32: 840200079 | C32: Zilzobis, SIA | D32: =F32*E32 -> 24 | E32: 0.3 | F32: 80 | G32: =I32*H32 -> 21 | H32: 0.2 | I32: 105 | J32: =D32+G32 -> 45 | K32: =F32+I32 -> 185 | L32: =J32 -> 45
A33: NVD Kurzemes nodaļa | B33: 880200029 | C33: TALSU SANUS, SIA | D33: =F33*E33 -> 27.3 | E33: 0.3 | F33: 91 | G33: =I33*H33 -> 15.4 | H33: 0.2 | I33: 77 | J33: =D33+G33 -> 42.7 | K33: =F33+I33 -> 168 | L33: =J33 -> 42.7
A34: NVD Kurzemes nodaļa | B34: 880200036 | C34: Kristapsone Agita - ārsta prakse zobārstniecībā | D34: =F34*E34 -> 4.2 | E34: 0.3 | F34: 14 | G34: =I34*H34 -> 2.8 | H34: 0.2 | I34: 14 | J34: =D34+G34 -> 7 | K34: =F34+I34 -> 28 | L34: =J34 -> 7
A35: NVD Kurzemes nodaļa | B35: 880200056 | C35: Stāmers Vilnis - ārsta prakse zobārstniecībā | D35: =F35*E35 -> 2.4 | E35: 0.3 | F35: 8 | J35: =D35+G35 -> 2.4 | K35: =F35+I35 -> 8 | L35: =J35 -> 2.4
A36: NVD Kurzemes nodaļa | B36: 880200080 | C36: Agneses Krastiņas zobārstniecības prakse, IK | D36: =F36*E36 -> 12 | E36: 0.3 | F36: 40 | J36: =D36+G36 -> 12 | K36: =F36+I36 -> 40 | L36: =J36 -> 12
A37: NVD Kurzemes nodaļa | B37: 888300008 | C37: Rojas zobārstniecība, Sabiedrība ar ierobežotu atbildību | G37: =I37*H37 -> 3.2 | H37: 0.2 | I37: 16 | J37: =D37+G37 -> 3.2 | K37: =F37+I37 -> 16 | L37: =J37 -> 3.2
A38: NVD Kurzemes nodaļa | B38: 900200006 | C38: Buivide Gunta - ārsta prakse zobārstniecībā | G38: =I38*H38 -> 10.8 | H38: 0.2 | I38: 54 | J38: =D38+G38 -> 10.8 | K38: =F38+I38 -> 54 | L38: =J38 -> 10.8
A39: NVD Kurzemes nodaļa | B39: 900200056 | C39: Ancāne Lūcija - ārsta prakse zobārstniecībā | D39: =F39*E39 -> 15.9 | E39: 0.3 | F39: 53 | J39: =D39+G39 -> 15.9 | K39: =F39+I39 -> 53 | L39: =J39 -> 15.9
A40: NVD Kurzemes nodaļa | B40: 900200082 | C40: Veismane Gita - ārsta prakse zobārstniecībā | D40: =F40*E40 -> 2.7 | E40: 0.3 | F40: 9 | J40: =D40+G40 -> 2.7 | K40: =F40+I40 -> 9 | L40: =J40 -> 2.7
...

Sheet IAL_manip_SAVA
G1: Pielikums Nr.32 Ministru kabineta rīkojuma "Ministru kabineta rīkojuma "Par finanšu līdzekļu apropriācijas pārdali no budžeta resora ''74. Gadskārtējā valsts budžeta izpildes procesā pārdalāmais finansējums'' valsts budžeta programmas 12.00.00 ''Finansējums veselības jomas pasākumiem Covid-19 infekcijas izplatības ierobežošanai"" projekta sākotnējās ietekmes novērtējuma ziņojumam (anotācijai)
A2: Veiktais darbs 2023.gada jūnija rēķinā par IAL manipulācijām SAVA:
A3: (60160 - Individuālo aizsardzības līdzekļu izmaksas viena COVID-19 pacienta aprūpei; 60161 - Individuālo aizsardzības līdzekļu izmaksas COVID-19 pacientu aprūpei ambulatoro pakalpojumu nodrošināšanai ārstniecības iestādē; 60166 - Piemaksa SAVA speciālistiem par laiku un individuālajiem aizsardzības līdzekļiem epidemioloģiskās drošības pasākumu nodrošināšanai ambulatoro veselības aprūpes pakalpojumu nodrošināšanai; 60167 - Piemaksa gultas dienai par laiku un individuālajiem aizsardzības līdzekļiem epidemioloģiskās drošības pasākumu nodrošināšanu rehabilitācijas un psihiatriskā profila dienas stacionāros ambulatorajās ārstniecības iestādēs; 60168 - Piemaksa par laiku un individuālajiem aizsardzības līdzekļiem epidemioloģiskās drošības pasākumu nodrošināšanai ārstniecības un pacientu aprūpes personām un funkcionālo speciālistu asistentiem ambulatoro veselības aprūpes pakalpojumu nodrošināšanai)
G5: =ROUNDUP(G7,0) -> 147484 | I5: =ROUNDUP(I7,0) -> 146693 | J5: =ROUNDUP(J7,0) -> 791
B6: NVD TN | C6: Ārstniecības iestādes kods | D6: Ārstniecības iestādes nosaukums | E6: Manipulācijas kods | F6: Manipulāciju tarifs, euro | G6: Pakalpojumu summa kopā, euro | H6: Manipulāciju skaits kopā | I6: EKK 3000 | J6: EKK 7460
G7: =SUM(G8:G467) -> 147483.46 | H7: =SUM(H8:H467) -> 509961 | I7: =SUM(I8:I467) -> 146692.46 | J7: =SUM(J8:J467) -> 791
B8: NVD Zemgales nodaļa | C8: 460200043 | D8: I. Muzikantes ārsta prakse, SIA | E8: 60160 | F8: 8.67 | G8: =F8*H8 -> 8.67 | H8: 1 | I8: =G8 -> 8.67
B9: NVD Zemgales nodaļa | C9: 740200008 | D9: Ogres rajona slimnīca, Sabiedrība ar ierobežotu atbildību | E9: 60160 | F9: 8.67 | G9: =F9*H9 -> 8.67 | H9: 1 | I9: =G9 -> 8.67
B10: NVD Kurzemes nodaļa | C10: 170024104 | D10: JAUNLIEPĀJAS PRIMĀRĀS VESELĪBAS APRŪPES CENTRS, Sabiedrība ar ierobežotu atbildību | E10: 60161 | F10: 0.36 | G10: =F10*H10 -> 0.72 | H10: 2 | I10: =G10 -> 0.72
B11: NVD Rīgas nodaļa | C11: 010000234 | D11: Rīgas Austrumu klīniskā universitātes slimnīca, SIA | E11: 60161 | F11: 0.36 | G11: =F11*H11 -> 0.72 | H11: 2 | I11: =G11 -> 0.72
B12: NVD Rīgas nodaļa | C12: 010011803 | D12: Paula Stradiņa klīniskā universitātes slimnīca, Valsts sabiedrība ar ierobežotu atbildību | E12: 60161 | F12: 0.36 | G12: =F12*H12 -> 0.36 | H12: 1 | I12: =G12 -> 0.36
B13: NVD Vidzemes nodaļa | C13: 420200052 | D13: CĒSU KLĪNIKA, Sabiedrība ar ierobežotu atbildību | E13: 60161 | F13: 0.36 | G13: =F13*H13 -> 1.08 | H13: 3 | I13: =G13 -> 1.08
B14: NVD Kurzemes nodaļa | C14: 170000005 | D14: LENS-L, SIA | E14: 60166 | F14: 0.3 | G14: =F14*H14 -> 26.4 | H14: 88 | I14: =G14 -> 26.4
B15: NVD Kurzemes nodaļa | C15: 170000007 | D15: Smirnova Jevgeņija - ārsta prakse oftalmoloģijā | E15: 60166 | F15: 0.3 | G15: =F15*H15 -> 30.6 | H15: 102 | I15: =G15 -> 30.6
B16: NVD Kurzemes nodaļa | C16: 170000010 | D16: Vēvere Inga - ārsta prakse ginekoloģijā, dzemdniecībā | E16: 60166 | F16: 0.3 | G16: =F16*H16 -> 70.8 | H16: 236 | I16: =G16 -> 70.8
B17: NVD Kurzemes nodaļa | C17: 170000043 | D17: Krieviņa Sigita - ārsta prakse ginekoloģijā, dzemdniecībā | E17: 60166 | F17: 0.3 | G17: =F17*H17 -> 11.7 | H17: 39 | I17: =G17 -> 11.7
B18: NVD Kurzemes nodaļa | C18: 170000089 | D18: Lapšāne Evita - ārsta prakse ginekoloģijā, dzemdniecībā | E18: 60166 | F18: 0.3 | G18: =F18*H18 -> 41.7 | H18: 139 | I18: =G18 -> 41.7
B19: NVD Kurzemes nodaļa | C19: 170000162 | D19: Pavlovska Ina - ārsta prakse otolaringoloģijā | E19: 60166 | F19: 0.3 | G19: =F19*H19 -> 42.6 | H19: 142 | I19: =G19 -> 42.6
... B108: NVD Latgales nodaļa | C108: 600200001 | D108: Krāslavas slimnīca, Sabiedrība ar ierobežotu atbildību | E108: 60166 | F108: 0.3 | G108: =F108*H108 -> 926.1 | H108: 3087 | I108: =G108 -> 926.1
B109: NVD Latgales nodaļa | C109: 601000001 | D109: Krāslavas novada Veselības un sociālo pakalpojumu centrs "Dagda" | E109: 60166 | F109: 0.3 | G109: =F109*H109 -> 276.3 | H109: 921 | J109: =G109 -> 276.3
B110: NVD Latgales nodaļa | C110: 601000008 | D110: Meļņikova Tatjana -ārsta prakse oftalmoloģijā | E110: 60166 | F110: 0.3 | G110: =F110*H110 -> 163.8 | H110: 546 | I110: =G110 -> 163.8
B111: NVD Latgales nodaļa | C111: 680200001 | D111: Zaharenoks Valerijs - ārsta prakse neiroloģijā | E111: 60166 | F111: 0.3 | G111: =F111*H111 -> 85.8 | H111: 286 | I111: =G111 -> 85.8
B112: NVD Latgales nodaļa | C112: 680200009 | D112: INSAITS A, Sabiedrība ar ierobežotu atbildību | E112: 60166 | F112: 0.3 | G112: =F112*H112 -> 29.4 | H112: 98 | I112: =G112 -> 29.4
B113: NVD Latgales nodaļa | C113: 680200030 | D113: Ludzas medicīnas centrs, Sabiedrība ar ierobežotu atbildību | E113: 60166 | F113: 0.3 | G113: =F113*H113 -> 1026 | H113: 3420 | I113: =G113 -> 1026
B114: NVD Latgales nodaļa | C114: 680200034 | D114: Rogale Nadežda - ārsta prakse oftalmoloģijā | E114: 60166 | F114: 0.3 | G114: =F114*H114 -> 97.5 | H114: 325 | I114: =G114 -> 97.5
B115: NVD Latgales nodaļa | C115: 681000002 | D115: Kārsavas slimnīca, Sabiedrība ar ierobežotu atbildību | E115: 60166 | F115: 0.3 | G115: =F115*H115 -> 132 | H115: 440 | I115: =G115 -> 132
B116: NVD Latgales nodaļa | C116: 760200002 | D116: Preiļu slimnīca, Sabiedrība ar ierobežotu atbildību | E116: 60166 | F116: 0.3 | G116: =F116*H116 -> 960.9 | H116: 3203 | I116: =G116 -> 960.9
B117: NVD Latgales nodaļa | C117: 760200003 | D117: LĀZERS, Sabiedrība ar ierobežotu atbildību | E117: 60166 | F117: 0.3 | G117: =F117*H117 -> 130.8 | H117: 436 | I117: =G117 -> 130.8
B118: NVD Latgales nodaļa | C118: 760200020 | D118: Lācis Jānis - ārsta prakse ķirurģijā un traumatoloģijā, ortopēdijā | E118: 60166 | F118: 0.3 | G118: =F118*H118 -> 111.3 | H118: 371 | I118: =G118 -> 111.3
B119: NVD Latgales nodaļa | C119: 760200024 | D119: Petrāne Valentīna - ārsta prakse otolaringoloģijā | E119: 60166 | F119: 0.3 | G119: =F119*H119 -> 41.4 | H119: 138 | I119: =G119 -> 41.4
B120: NVD Latgales nodaļa | C120: 760200025 | D120: Katkevičs Valdis - ārsta prakse psihiatrijā un neiroloģijā | E120: 60166 | F120: 0.3 | G120: =F120*H120 -> 99.6 | H120: 332 | I120: =G120 -> 99.6
B121: NVD Latgales nodaļa | C121: 761200001 | D121: Līvānu slimnīca, Līvānu novada domes pašvaldības sabiedrība ar ierobežotu atbildību | E121: 60166 | F121: 0.3 | G121: =F121*H121 -> 272.4 | H121: 908 | I121: =G121 -> 272.4
... B123: NVD Latgales nodaļa | C123: 780200005 | D123: REHABILITĀCIJAS CENTRS "RĀZNA", Sabiedrība ar ierobežotu atbildību | E123: 60166 | F123: 0.3 | G123: =F123*H123 -> 202.8 | H123: 676 | I123: =G123 -> 202.8
B124: NVD Latgales nodaļa | C124: 781800005 | D124: Veselības un sociālās aprūpes centrs "Viļāni" | E124: 60166 | F124: 0.3 | G124: =F124*H124 -> 89.1 | H124: 297 | J124: =G124 -> 89.1
B125: NVD Rīgas nodaļa | C125: 001000014 | D125: Marutas Alsbergas ārsta prakse oftalmoloģijā, Sabiedrība ar ierobežotu atbildību | E125: 60166 | F125: 0.3 | G125: =F125*H125 -> 88.5 | H125: 295 | I125: =G125 -> 88.5
B126: NVD Rīgas nodaļa | C126: 001000017 | D126: Rasmas Kalniņas ārsta prakse oftalmoloģijā, Sabiedrība ar ierobežotu atbildību | E126: 60166 | F126: 0.3 | G126: =F126*H126 -> 68.4 | H126: 228 | I126: =G126 -> 68.4
B127: NVD Rīgas nodaļa | C127: 010000032 | D127: QUARTUS, Sabiedrība ar ierobežotu atbildību | E127: 60166 | F127: 0.3 | G127: =F127*H127 -> 56.1 | H127: 187 | I127: =G127 -> 56.1
B128: NVD Rīgas nodaļa | C128: 010000033 | D128: DETOX, Sabiedrība ar ierobežotu atbildību | E128: 60166 | F128: 0.3 | G128: =F128*H128 -> 2.1 | H128: 7 | I128: =G128 -> 2.1
B129: NVD Rīgas nodaļa | C129: 010000058 | D129: MED ALFA, Sabiedrība ar ierobežotu atbildību | E129: 60166 | F129: 0.3 | G129: =F129*H129 -> 177 | H129: 590 | I129: =G129 -> 177
B130: NVD Rīgas nodaļa | C130: 010000214 | D130: Diabēta centrs, SIA | E130: 60166 | F130: 0.3 | G130: =F130*H130 -> 85.8 | H130: 286 | I130: =G130 -> 85.8
...

Sheet IAL_mājas_apr
H1: Pielikums Nr.33 Ministru kabineta rīkojuma "Ministru kabineta rīkojuma "Par finanšu līdzekļu apropriācijas pārdali no budžeta resora ''74. Gadskārtējā valsts budžeta izpildes procesā pārdalāmais finansējums'' valsts budžeta programmas 12.00.00 ''Finansējums veselības jomas pasākumiem Covid-19 infekcijas izplatības ierobežošanai"" projekta sākotnējās ietekmes novērtējuma ziņojumam (anotācijai)
A2: Veiktais darbs 2023.gada jūnija rēķinā par IAL manipulācijām veselības aprūpei mājās:
A3: (60169 - Individuālo aizsardzības līdzekļu izmaksas ārstniecības personai par veselības aprūpes pakalpojumu nodrošināšanu mājās)
G4: =ROUND(G6,0) -> 13997 | I4: =ROUND(I6,0) -> 13936 | J4: =ROUND(J6,0) -> 61
B5: NVD TN | C5: Ārstniecības iestādes kods | D5: Ārstniecības iestādes nosaukums | E5: Manipulācijas kods | F5: Manipulāciju tarifs, euro | G5: Pakalpojumu summa kopā, euro | H5: Manipulāciju skaits kopā | I5: EKK 3000 | J5: EKK 7460
B6: Kopā | G6: =SUM(G7:G80) -> 13996.8 | H6: =SUM(H7:H80) -> 15552 | I6: =SUM(I7:I80) -> 13935.6 | J6: =SUM(J7:J80) -> 61.2
B7: NVD Kurzemes nodaļa | C7: 170000161 | D7: DIŽVANAGI, Biedrība | E7: 60169 | F7: 0.9 | G7: =F7*H7 -> 79.2 | H7: 88 | I7: =G7 -> 79.2
B8: NVD Kurzemes nodaļa | C8: 170020401 | D8: LIEPĀJAS REĢIONĀLĀ SLIMNĪCA, Sabiedrība ar ierobežotu atbildību | E8: 60169 | F8: 0.9 | G8: =F8*H8 -> 812.7 | H8: 903 | I8: =G8 -> 812.7
B9: NVD Kurzemes nodaļa | C9: 170024104 | D9: JAUNLIEPĀJAS PRIMĀRĀS VESELĪBAS APRŪPES CENTRS, Sabiedrība ar ierobežotu atbildību | E9: 60169 | F9: 0.9 | G9: =F9*H9 -> 374.4 | H9: 416 | I9: =G9 -> 374.4
B10: NVD Kurzemes nodaļa | C10: 270020302 | D10: Ziemeļkurzemes reģionālā slimnīca, SIA | E10: 60169 | F10: 0.9 | G10: =F10*H10 -> 935.1 | H10: 1039 | I10: =G10 -> 935.1
B11: NVD Kurzemes nodaļa | C11: 270024101 | D11: Ventspils poliklīnika, Pašvaldības SIA | E11: 60169 | F11: 0.9 | G11: =F11*H11 -> 80.1 | H11: 89 | I11: =G11 -> 80.1
B12: NVD Kurzemes nodaļa | C12: 620200013 | D12: RŪTAS EGLĪTES ĢIMENES ĀRSTA PRAKSE, SIA | E12: 60169 | F12: 0.9 | G12: =F12*H12 -> 34.2 | H12: 38 | I12: =G12 -> 34.2
B13: NVD Kurzemes nodaļa | C13: 641600001 | D13: PRIEKULES SLIMNĪCA, SIA | E13: 60169 | F13: 0.9 | G13: =F13*H13 -> 36 | H13: 40 | I13: =G13 -> 36
B14: NVD Kurzemes nodaļa | C14: 641600005 | D14: Leimane Daiga - ģimenes ārsta un kardiologa prakse | E14: 60169 | F14: 0.9 | G14: =F14*H14 -> 18 | H14: 20 | I14: =G14 -> 18
B15: NVD Kurzemes nodaļa | C15: 840200047 | D15: Saldus medicīnas centrs, Sabiedrība ar ierobežotu atbildību | E15: 60169 | F15: 0.9 | G15: =F15*H15 -> 214.2 | H15: 238 | I15: =G15 -> 214.2
B16: NVD Kurzemes nodaļa | C16: 840200059 | D16: DRUVAS DOKTORĀTS, SIA | E16: 60169 | F16: 0.9 | G16: =F16*H16 -> 18 | H16: 20 | I16: =G16 -> 18
B17: NVD Kurzemes nodaļa | C17: 880200016 | D17: TALSU VESELĪBAS CENTRS, SIA | E17: 60169 | F17: 0.9 | G17: =F17*H17 -> 143.1 | H17: 159 | I17: =G17 -> 143.1
B18: NVD Kurzemes nodaļa | C18: 880200021 | D18: Andas Mellenbergas ārsta prakse, Sabiedrība ar ierobežotu atbildību | E18: 60169 | F18: 0.9 | G18: =F18*H18 -> 3.6 | H18: 4 | I18: =G18 -> 3.6
... B31: NVD Latgales nodaļa | C31: 600200001 | D31: Krāslavas slimnīca, Sabiedrība ar ierobežotu atbildību | E31: 60169 | F31: 0.9 | G31: =F31*H31 -> 146.7 | H31: 163 | I31: =G31 -> 146.7
B32: NVD Latgales nodaļa | C32: 601000001 | D32: Krāslavas novada Veselības un sociālo pakalpojumu centrs "Dagda" | E32: 60169 | F32: 0.9 | G32: =F32*H32 -> 16.2 | H32: 18 | J32: =G32 -> 16.2
B33: NVD Latgales nodaļa | C33: 601000021 | D33: OLGAS GOLUBES ĢIMENES ĀRSTA PRAKSE, Sabiedrība ar ierobežotu atbildību | E33: 60169 | F33: 0.9 | G33: =F33*H33 -> 20.7 | H33: 23 | I33: =G33 -> 20.7
B34: NVD Latgales nodaļa | C34: 680200030 | D34: Ludzas medicīnas centrs, Sabiedrība ar ierobežotu atbildību | E34: 60169 | F34: 0.9 | G34: =F34*H34 -> 233.1 | H34: 259 | I34: =G34 -> 233.1
B35: NVD Latgales nodaļa | C35: 760200002 | D35: Preiļu slimnīca, Sabiedrība ar ierobežotu atbildību | E35: 60169 | F35: 0.9 | G35: =F35*H35 -> 93.6 | H35: 104 | I35: =G35 -> 93.6
B36: NVD Latgales nodaļa | C36: 760200029 | D36: SIMEDA, SIA | E36: 60169 | F36: 0.9 | G36: =F36*H36 -> 165.6 | H36: 184 | I36: =G36 -> 165.6
B37: NVD Latgales nodaļa | C37: 781800005 | D37: Veselības un sociālās aprūpes centrs "Viļāni" | E37: 60169 | F37: 0.9 | G37: =F37*H37 -> 45 | H37: 50 | J37: =G37 -> 45
B38: NVD Rīgas nodaļa | C38: 010000130 | D38: Kozaka Nataļja - ģimenes ārsta prakse | E38: 60169 | F38: 0.9 | G38: =F38*H38 -> 17.1 | H38: 19 | I38: =G38 -> 17.1
B39: NVD Rīgas nodaļa | C39: 010000220 | D39: Talente Guntra - ģimenes ārsta un arodveselības un arodslimību ārsta prakse | E39: 60169 | F39: 0.9 | G39: =F39*H39 -> 46.8 | H39: 52 | I39: =G39 -> 46.8
B40: NVD Rīgas nodaļa | C40: 010000346 | D40: Kaļinkina Iļmira - ģimenes ārsta prakse | E40: 60169 | F40: 0.9 | G40: =F40*H40 -> 7.2 | H40: 8 | I40: =G40 -> 7.2
B41: NVD Rīgas nodaļa | C41: 010000427 | D41: MENTAMED, Sabiedrība ar ierobežotu atbildību | E41: 60169 | F41: 0.9 | G41: =F41*H41 -> 156.6 | H41: 174 | I41: =G41 -> 156.6
B42: NVD Rīgas nodaļa | C42: 010000442 | D42: Hudina Vera - ārsta internista prakse | E42: 60169 | F42: 0.9 | G42: =F42*H42 -> 2.7 | H42: 3 | I42: =G42 -> 2.7
B43: NVD Rīgas nodaļa | C43: 010001966 | D43: Terveus, SIA | E43: 60169 | F43: 0.9 | G43: =F43*H43 -> 124.2 | H43: 138 | I43: =G43 -> 124.2
B44: NVD Rīgas nodaļa | C44: 010011804 | D44: Bērnu klīniskā universitātes slimnīca, Valsts sabiedrība ar ierobežotu atbildību | E44: 60169 | F44: 0.9 | G44: =F44*H44 -> 0.9 | H44: 1 | I44: =G44 -> 0.9
B45: NVD Rīgas nodaļa | C45: 010040307 | D45: Latvijas Jūras medicīnas centrs, Akciju sabiedrība | E45: 60169 | F45: 0.9 | G45: =F45*H45 -> 12.6 | H45: 14 | I45: =G45 -> 12.6
B46: NVD Rīgas nodaļa | C46: 010064103 | D46: MOŽUMS-1, Sabiedrība ar ierobežotu atbildību | E46: 60169 | F46: 0.9 | G46: =F46*H46 -> 37.8 | H46: 42 | I46: =G46 -> 37.8
B47: NVD Rīgas nodaļa | C47: 010064111 | D47: Dziedniecība, Sabiedrība ar ierobežotu atbildību | E47: 60169 | F47: 0.9 | G47: =F47*H47 -> 2457.9 | H47: 2731 | I47: =G47 -> 2457.9
B48: NVD Rīgas nodaļa | C48: 010064120 | D48: Veselības centru apvienība, AS | E48: 60169 | F48: 0.9 | G48: =F48*H48 -> 1704.6 | H48: 1894 | I48: =G48 -> 1704.6
B49: NVD Rīgas nodaļa | C49: 010075413 | D49: M.Gavronskas ārsta prakse, Sabiedrība ar ierobežotu atbildību | E49: 60169 | F49: 0.9 | G49: =F49*H49 -> 9.9 | H49: 11 | I49: =G49 -> 9.9
... B80: NVD Zemgales nodaļa | C80: 741400026 | D80: OLIVERSS, Sabiedrība ar ierobežotu atbildību | E80: 60169 | F80: 0.9 | G80: =F80*H80 -> 111.6 | H80: 124 | I80: =G80 -> 111.6

Sheet IAL_SAVA_uzņemš_nod
H1: Pielikums Nr.34 Ministru kabineta rīkojuma "Ministru kabineta rīkojuma "Par finanšu līdzekļu apropriācijas pārdali no budžeta resora ''74. Gadskārtējā valsts budžeta izpildes procesā pārdalāmais finansējums'' valsts budžeta programmas 12.00.00 ''Finansējums veselības jomas pasākumiem Covid-19 infekcijas izplatības ierobežošanai"" projekta sākotnējās ietekmes novērtējuma ziņojumam (anotācijai)
A2: Stacionāro ārstniecības iestāžu Uzņemšanas nodaļas saraksts fiksēto piemaksu izmaksai par individuālo aizsarglīdzekļu izmantošanu, sniedzot klātienes konsultācijas 2023.gada jūnija rēķinā
F4: Uz personālu | G4: Uz apmeklējumu skaitu
E5: Tarifs uz 1 slodzi | F5: =0.8*3 -> 2.4 | G5: 0.0693 | H5: 0.0503
A6: Teritoriālā nodaļa | B6: Ārstniecības iestādes kods | C6: Ārstniecības iestādes nosaukums | D6: Apmeklējumu skaits mēnesī | E6: Personāla skaits kopā | F6: Respirators FFP2 ārstam uz 1 slodzi vienā dienā | G6: Dezinfekcijas līdzeklis rokām | H6: Dezinfekcijas līdzeklis virsmu apstrādei | I6: Fiksētā aprēķinātā piemaksa kopā par jūniju, euro
A7: Rīgas nodaļa | B7: 10000234 | C7: Rīgas Austrumu klīniskā universitātes slimnīca, SIA | D7: 7232 | E7: 54 | F7: 129.6 | G7: 501.1776 | H7: 363.7696 | I7: =ROUND(F7*30+SUM(G7:H7),0) -> 4753
A8: Rīgas nodaļa | B8: 10011803 | C8: Paula Stradiņa klīniskā universitātes slimnīca, Valsts sabiedrība ar ierobežotu atbildību | D8: 7464 | E8: 44 | F8: 105.6 | G8: 517.2552 | H8: 375.4392 | I8: =ROUND(F8*30+SUM(G8:H8),0) -> 4061
A9: Rīgas nodaļa | B9: 10011804 | C9: Bērnu klīniskā universitātes slimnīca, Valsts sabiedrība ar ierobežotu atbildību | D9: 9055 | E9: 32 | F9: 76.8 | G9: 627.5115 | H9: 455.4665 | I9: =ROUND(F9*30+SUM(G9:H9),0) -> 3387
A10: Rīgas nodaļa | B10: 10021301 | C10: Rīgas Dzemdību nams, SIA | D10: 52 | E10: 24 | F10: 57.6 | G10: 3.6036 | H10: 2.6156 | I10: =ROUND(F10*30+SUM(G10:H10),0) -> 1734
A11: Kurzemes nodaļa | B11: 270020302 | C11: Ziemeļkurzemes reģionālā slimnīca, SIA | D11: 1981 | E11: 22 | F11: 52.8 | G11: 137.2833 | H11: 99.6443 | I11: =ROUND(F11*30+SUM(G11:H11),0) -> 1821
A12: Latgales nodaļa | B12: 50020401 | C12: Daugavpils reģionālā slimnīca, Sabiedrība ar ierobežotu atbildību | D12: 3116 | E12: 18 | F12: 43.2 | G12: 215.9388 | H12: 156.7348 | I12: =ROUND(F12*30+SUM(G12:H12),0) -> 1669
A13: Kurzemes nodaļa | B13: 170020401 | C13: LIEPĀJAS REĢIONĀLĀ SLIMNĪCA, Sabiedrība ar ierobežotu atbildību | D13: 2581 | E13: 18 | F13: 43.2 | G13: 178.8633 | H13: 129.8243 | I13: =ROUND(F13*30+SUM(G13:H13),0) -> 1605
A14: Vidzemes nodaļa | B14: 250000092 | C14: Vidzemes slimnīca, Sabiedrība ar ierobežotu atbildību | D14: 2654 | E14: 18 | F14: 43.2 | G14: 183.9222 | H14: 133.4962 | I14: =ROUND(F14*30+SUM(G14:H14),0) -> 1613
A15: Zemgales nodaļa | B15: 110000048 | C15: Jēkabpils reģionālā slimnīca, Sabiedrība ar ierobežotu atbildību | D15: 1548 | E15: 18 | F15: 43.2 | G15: 107.2764 | H15: 77.8644 | I15: =ROUND(F15*30+SUM(G15:H15),0) -> 1481
A16: Zemgales nodaļa | B16: 90020301 | C16: JELGAVAS PILSĒTAS SLIMNĪCA, SIA | D16: 1513 | E16: 16 | F16: 38.4 | G16: 104.8509 | H16: 76.1039 | I16: =ROUND(F16*30+SUM(G16:H16),0) -> 1333
A17: Latgales nodaļa | B17: 210020301 | C17: RĒZEKNES SLIMNĪCA, Sabiedrība ar ierobežotu atbildību | D17: 831 | E17: 16 | F17: 38.4 | G17: 57.5883 | H17: 41.7993 | I17: =ROUND(F17*30+SUM(G17:H17),0) -> 1251
A18: Zemgales nodaļa | B18: 740200008 | C18: Ogres rajona slimnīca, Sabiedrība ar ierobežotu atbildību | D18: 1387 | E18: 12 | F18: 28.8 | G18: 96.1191 | H18: 69.7661 | I18: =ROUND(F18*30+SUM(G18:H18),0) -> 1030
... A42: Vidzemes nodaļa | B42: 941800004 | C42: Strenču psihoneiroloģiskā slimnīca, Valsts sabiedrība ar ierobežotu atbildību | D42: 5 | E42: 2 | F42: 4.8 | G42: 0.3465 | H42: 0.2515 | I42: =ROUND(F42*30+SUM(G42:H42),0) -> 145
I43: =SUM(I7:I42) -> 38769

Sheet Amb_rehab
F1: Pielikums Nr.35 Ministru kabineta rīkojuma "Ministru kabineta rīkojuma "Par finanšu līdzekļu apropriācijas pārdali no budžeta resora ''74. Gadskārtējā valsts budžeta izpildes procesā pārdalāmais finansējums'' valsts budžeta programmas 12.00.00 ''Finansējums veselības jomas pasākumiem Covid-19 infekcijas izplatības ierobežošanai"" projekta sākotnējās ietekmes novērtējuma ziņojumam (anotācijai)
A2: Veiktais darbs 2023.gada jūnija rēķinā PostCovid rehabilitācijai
H3: =ROUNDUP(H5,0) -> 111983
A4: Teritoriālā nodaļa | B4: Ārstniecības ietādes kods | C4: Ārstniecības iestādes nosaukums | D4: AP89 - Rehabilitācija ambulatori bērniem, kas pārslimojuši Covid-19 | E4: AP90 - Rehabilitācija ambulatori pieaugušajiem, kas pārslimojuši Covid-19 | F4: AP91 - Rehabilitācija dienas stacionārā pieaugušajiem, kas pārslimojuši Covid-19 | G4: AP92 - Rehabilitācija dienas stacionārā bērniem, kas pārslimojuši Covid-19 | H4: Kopā jūnijā, euro
C5: KOPĀ | D5: =SUM(D6:D27) -> 2052.88 | E5: =SUM(E6:E27) -> 23437.68 | F5: =SUM(F6:F27) -> 81765.19 | G5: =SUM(G6:G27) -> 4727.18 | H5: =SUM(D5:G5) -> 111982.93
A6: NVD Kurzemes nodaļa | B6: 880200016 | C6: TALSU VESELĪBAS CENTRS, SIA | D6: 131.92 | E6: 6587.05 | H6: =SUM(D6:G6) -> 6718.97
A7: NVD Latgales nodaļa | B7: 50000042 | C7: Fizioterapijas kabinets VALE, IK | E7: 1016.72 | H7: =SUM(D7:G7) -> 1016.72
A8: NVD Latgales nodaļa | B8: 50066201 | C8: IVAKO GROUP, Sabiedrība ar ierobežotu atbildību | E8: 89.12 | H8: =SUM(D8:G8) -> 89.12
A9: NVD Latgales nodaļa | B9: 680200030 | C9: Ludzas medicīnas centrs, Sabiedrība ar ierobežotu atbildību | E9: 94.04 | H9: =SUM(D9:G9) -> 94.04
A10: NVD Latgales nodaļa | B10: 760200002 | C10: Preiļu slimnīca, Sabiedrība ar ierobežotu atbildību | E10: 22.88 | F10: 791.88 | H10: =SUM(D10:G10) -> 814.76
A11: NVD Latgales nodaļa | B11: 780200005 | C11: REHABILITĀCIJAS CENTRS "RĀZNA", Sabiedrība ar ierobežotu atbildību | F11: 883.11 | H11: =SUM(D11:G11) -> 883.11
A12: NVD Rīgas nodaļa | B12: 10001535 | C12: Rīgas veselības centrs, SIA | D12: 534.64 | E12: 2509.92 | F12: 11001.48 | G12: 912.3 | H12: =SUM(D12:G12) -> 14958.34
A13: NVD Rīgas nodaļa | B13: 10011804 | C13: Bērnu klīniskā universitātes slimnīca, Valsts sabiedrība ar ierobežotu atbildību | D13: 66.72 | G13: 311.4 | H13: =SUM(D13:G13) -> 378.12
A14: NVD Rīgas nodaļa | B14: 10020301 | C14: Rīgas 1. slimnīca, SIA | D14: 520.71 | E14: 5638.63 | F14: 3499.08 | H14: =SUM(D14:G14) -> 9658.42
A15: NVD Rīgas nodaļa | B15: 10064111 | C15: Dziedniecība, Sabiedrība ar ierobežotu atbildību | F15: 917.98 | H15: =SUM(D15:G15) -> 917.98
A16: NVD Rīgas nodaļa | B16: 10064120 | C16: Veselības centru apvienība, AS | D16: 170.71 | E16: 1981.88 | F16: 16968.26 | G16: 1032.44 | H16: =SUM(D16:G16) -> 20153.29
A17: NVD Rīgas nodaļa | B17: 19362601 | C17: Protezēšanas un ortopēdijas centrs, Akciju sabiedrība | F17: 14200.14 | G17: 2471.04 | H17: =SUM(D17:G17) -> 16671.18
A18: NVD Rīgas nodaļa | B18: 130013001 | C18: Nacionālais rehabilitācijas centrs "Vaivari", Valsts sabiedrība ar ierobežotu atbildību | E18: 446.08 | F18: 3003.25 | H18: =SUM(D18:G18) -> 3449.33
A19: NVD Rīgas nodaļa | B19: 130064003 | C19: SANARE-KRC JAUNĶEMERI, Sabiedrība ar ierobežotu atbildību | F19: 12294.93 | H19: =SUM(D19:G19) -> 12294.93
A20: NVD Rīgas nodaļa | B20: 801200001 | C20: Salaspils veselības centrs, Sabiedrība ar ierobežotu atbildību | E20: 20.65 | H20: =SUM(D20:G20) -> 20.65
A21: NVD Rīgas nodaļa | B21: 801600003 | C21: Siguldas slimnīca, SIA | D21: 101.55 | H21: =SUM(D21:G21) -> 101.55
A22: NVD Rīgas nodaļa | B22: 801600004 | C22: REHABILITĀCIJAS CENTRS "KRIMULDA", Sabiedrība ar ierobežotu atbildību | F22: 8807.26 | H22: =SUM(D22:G22) -> 8807.26
A23: NVD Vidzemes nodaļa | B23: 250000087 | C23: VALMIERAS VESELĪBAS CENTRS, SIA | D23: 526.63 | E23: 3590.09 | H23: =SUM(D23:G23) -> 4116.72
A24: NVD Vidzemes nodaļa | B24: 250000092 | C24: Vidzemes slimnīca, Sabiedrība ar ierobežotu atbildību | E24: 1287.86 | H24: =SUM(D24:G24) -> 1287.86
A25: NVD Vidzemes nodaļa | B25: 420200052 | C25: CĒSU KLĪNIKA, Sabiedrība ar ierobežotu atbildību | E25: 77.9 | F25: 1947.4 | H25: =SUM(D25:G25) -> 2025.3
A26: NVD Vidzemes nodaļa | B26: 421200001 | C26: Rehabilitācijas centrs "Līgatne", SIA | E26: 58.38 | F26: 7450.42 | H26: =SUM(D26:G26) -> 7508.8
A27: NVD Zemgales nodaļa | B27: 90065207 | C27: FITOSAN PLUS, Medicīnas centrs SIA | E27: 16.48 | H27: =SUM(D27:G27) -> 16.48

Sheet Dinam_novēroš
F1: Pielikums Nr.36 Ministru kabineta rīkojuma "Ministru kabineta rīkojuma "Par finanšu līdzekļu apropriācijas pārdali no budžeta resora ''74. Gadskārtējā valsts budžeta izpildes procesā pārdalāmais finansējums'' valsts budžeta programmas 12.00.00 ''Finansējums veselības jomas pasākumiem Covid-19 infekcijas izplatības ierobežošanai"" projekta sākotnējās ietekmes novērtējuma ziņojumam (anotācijai)
A2: Veiktais darbs 2023.gada jūnija rēķinā pakalpojumu programmā AP131 - Dinamiskā novērošana pacientiem, kas pārslimojuši Covid-19
G3: =ROUNDUP(G5,0) -> 176005
A4: NVD TN | B4: Ārstniecības iestādes kods | C4: Ārstniecības iestādes nosaukums | D4: Manipulācijas kods | E4: Manipulācijas nosaukums | F4: Tarifs, euro | G4: Pakalpojumu summa, euro | H4: Manipulāciju skaits
A5: Kopā | G5: =SUM(G6:G166) -> 176004.26 | H5: =SUM(H6:H166) -> 58646
A6: NVD Kurzemes nodaļa | B6: 880200016 | C6: TALSU VESELĪBAS CENTRS, SIA | D6: 04101 | E6: Virsmas anestēzija rīkles, balsenes, bronhu rajonam, dziļākiem deguna rajoniem, bungādiņai, bungu dobumam vai urīnvadam un urīnpūslim | F6: 8.89 | G6: =F6*H6 -> 17.78 | H6: 2
A7: NVD Zemgales nodaļa | B7: 400200024 | C7: Bauskas slimnīca, SIA | D7: 06003 | E7: Elektrokardiogrammas ar 12 novadījumiem pieraksts | F7: 1.73 | G7: =F7*H7 -> 1.73 | H7: 1
A8: NVD Zemgales nodaļa | B8: 400200024 | C8: Bauskas slimnīca, SIA | D8: 06004 | E8: Elektrokardiogrammas ar 12 novadījumiem apraksts | F8: 5.52 | G8: =F8*H8 -> 5.52 | H8: 1
A9: NVD Rīgas nodaļa | B9: 010064120 | C9: Veselības centru apvienība, AS | D9: 06015 | E9: Holtera monitorēšana no 18 līdz 24 stundām | F9: 33.95 | G9: =F9*H9 -> 33.95 | H9: 1
A10: NVD Kurzemes nodaļa | B10: 880200016 | C10: TALSU VESELĪBAS CENTRS, SIA | D10: 06033 | E10: Ehokardiogrāfija ar doplerogrāfiju | F10: 47.7 | G10: =F10*H10 -> 143.1 | H10: 3
A11: NVD Rīgas nodaļa | B11: 010064120 | C11: Veselības centru apvienība, AS | D11: 06102 | E11: Brahiocefālo asinsvadu dupleksskenēšana ar krāsas doplerogrāfiju un spektra analīzi | F11: 26.44 | G11: =F11*H11 -> 26.44 | H11: 1
A12: NVD Rīgas nodaļa | B12: 010064120 | C12: Veselības centru apvienība, AS | D12: 06119 | E12: Transkraniāla krāskodēta dupleksskenēšana (arī jaundzimušajiem) | F12: 36.45 | G12: =F12*H12 -> 36.45 | H12: 1
A13: NVD Kurzemes nodaļa | B13: 880200016 | C13: TALSU VESELĪBAS CENTRS, SIA | D13: 06123 | E13: Abu kāju vēnu krāskodēta dupleksskenēšana | F13: 28.82 | G13: =F13*H13 -> 57.64 | H13: 2
A14: NVD Kurzemes nodaļa | B14: 880200016 | C14: TALSU VESELĪBAS CENTRS, SIA | D14: 07018 | E14: Spirogrāfija (pneimotahogrāfija) ar automātisku datoranalīzi un bronhodilatācijas testu | F14: 11.14 | G14: =F14*H14 -> 11.14 | H14: 1
A15: NVD Vidzemes nodaļa | B15: 250000092 | C15: Vidzemes slimnīca, Sabiedrība ar ierobežotu atbildību | D15: 07018 | E15: Spirogrāfija (pneimotahogrāfija) ar automātisku datoranalīzi un bronhodilatācijas testu | F15: 11.14 | G15: =F15*H15 -> 11.14 | H15: 1
A16: NVD Kurzemes nodaļa | B16: 880200016 | C16: TALSU VESELĪBAS CENTRS, SIA | D16: 18115 | E16: Sēra korķu izņemšana, arī abpusēja | F16: 6.82 | G16: =F16*H16 -> 6.82 | H16: 1
A17: NVD Kurzemes nodaļa | B17: 880200016 | C17: TALSU VESELĪBAS CENTRS, SIA | D17: 18135 | E17: Bungādiņas un/vai bungu dobuma izmeklēšana ar binokulārmikroskopiju. Norāda vienu reizi apmeklējuma laikā | F17: 8.77 | G17: =F17*H17 -> 8.77 | H17: 1
... A166: NVD Zemgales nodaļa | B166: 460200036 | C166: Dobeles un apkārtnes slimnīca, SIA | D166: 50635 | E166: Piemaksa par kontrastvielu Iopamidolum 370 (100 ml) | F166: 30.3 | G166: =F166*H166 -> 60.6 | H166: 2

Sheet IAL_fiks_piem_ĢĀ
P1: Pielikums Nr.37 Ministru kabineta rīkojuma "Ministru kabineta rīkojuma "Par finanšu līdzekļu apropriācijas pārdali no budžeta resora ''74. Gadskārtējā valsts budžeta izpildes procesā pārdalāmais finansējums'' valsts budžeta programmas 12.00.00 ''Finansējums veselības jomas pasākumiem Covid-19 infekcijas izplatības ierobežošanai"" projekta sākotnējās ietekmes novērtējuma ziņojumam (anotācijai)
K3: Uz apmeklējumiem
A4: Ģimenes ārstu prakšu saraksts fiksēto piemaksu izmaksai par individuālo aizsarglīdzekļu izmantošanu, sniedzot klātienes konsultācijas 2023.gadā jūniju | J4: Pozīcija | K4: Dezinfekcijas līdzeklis rokām ārstam | L4: Dezinfekcijas līdzeklis rokām māsai | M4: Dezinfekcijas līdzeklis pacientam | N4: Dezinfekcijas līdzeklis virsmu apstrādei | P4: =ROUND(P5,0) -> 59458 | R4: =ROUND(R5,0) -> 59164 | S4: =ROUNDUP(S5,0) -> 294
E5: vidēji | F5: 406 | J5: Izmaksas mēnesim, euro | K5: 0.03 | L5: 0.03 | M5: 0.03 | N5: 0.03 | O5: =SUM(O7:O1222) -> 59496.24 | P5: =SUM(P7:P1222) -> 59457.76 | R5: =SUM(R7:R1222) -> 59164.36 | S5: =SUM(S7:S1222) -> 293.4
A6: Teritoriālā nodaļa | B6: Ārstniecības iestādes kods | C6: Ārstniecības iestādes nosaukums | D6: Ārsta identifikācijas nr. | E6: Ārsta uzvārds, vārds | F6: Apmeklējumu skaits mēnesī | G6: Personāla skaits kopā | H6: Ģimenes ārstu skaits | I6: Rezidentu skaits | J6: Māsu/ ārstu palīgu skaits | O6: Fiksētā piemaksa uz 1 mēnesi, euro | P6: Par 2023.gada jūniju, euro | Q6: Komentārs | R6: EKK 3000 | S6: EKK 7460
A7: Kurzemes nodaļa | B7: 27000001 | C7: Dr.Katerynas prakse, SIA | D7: 31840056136 | E7: Bulavkina Kateryna | F7: 508 | G7: 3 | H7: 1 | I7: 0 | J7: =G7-H7-I7 -> 2 | K7: =F7*$K$5 -> 15.24 | L7: =F7*$L$5 -> 15.24 | M7: =F7*$M$5 -> 15.24 | N7: =F7*$N$5 -> 15.24 | O7: =ROUND((SUM(K7:N7)),2) -> 60.96 | P7: =ROUND((O7),2) -> 60.96 | R7: =P7 -> 60.96
A8: Kurzemes nodaļa | B8: 51000001 | C8: Kociņa Ginta - ģimenes ārsta prakse | D8: 90720009184 | E8: Kociņa Ginta | F8: 508 | G8: 2 | H8: 1 | I8: 0 | J8: =G8-H8-I8 -> 1 | K8: =F8*$K$5 -> 15.24 | L8: =F8*$L$5 -> 15.24 | M8: =F8*$M$5 -> 15.24 | N8: =F8*$N$5 -> 15.24 | O8: =ROUND((SUM(K8:N8)),2) -> 60.96 | P8: =ROUND((O8),2) -> 60.96 | R8: =P8 -> 60.96
A9: Kurzemes nodaļa | B9: 170000017 | C9: Kosova Tatjana - ģimenes ārsta prakse | D9: 36630001428 | E9: Kosova Tatjana | F9: 556 | G9: 3 | H9: 1 | I9: 0 | J9: =G9-H9-I9 -> 2 | K9: =F9*$K$5 -> 16.68 | L9: =F9*$L$5 -> 16.68 | M9: =F9*$M$5 -> 16.68 | N9: =F9*$N$5 -> 16.68 | O9: =ROUND((SUM(K9:N9)),2) -> 66.72 | P9: =ROUND((O9),2) -> 66.72 | R9: =P9 -> 66.72
A10: Kurzemes nodaļa | B10: 170000116 | C10: Rutkovska Diana - ģimenes ārsta prakse | D10: 49860008772 | E10: Rutkovska Diana | F10: 1154 | G10: 2 | H10: 1 | I10: 0 | J10: =G10-H10-I10 -> 1 | K10: =F10*$K$5 -> 34.62 | L10: =F10*$L$5 -> 34.62 | M10: =F10*$M$5 -> 34.62 | N10: =F10*$N$5 -> 34.62 | O10: =ROUND((SUM(K10:N10)),2) -> 138.48 | P10: =ROUND((O10),2) -> 138.48 | R10: =P10 -> 138.48
A11: Kurzemes nodaļa | B11: 170000124 | C11: Meissana, SIA | D11: 16180043571 | E11: Cēbere Inese | F11: 314 | G11: 2 | H11: 1 | I11: 0 | J11: =G11-H11-I11 -> 1 | K11: =F11*$K$5 -> 9.42 | L11: =F11*$L$5 -> 9.42 | M11: =F11*$M$5 -> 9.42 | N11: =F11*$N$5 -> 9.42 | O11: =ROUND((SUM(K11:N11)),2) -> 37.68 | P11: =ROUND((O11),2) -> 37.68 | R11: =P11 -> 37.68
A12: Kurzemes nodaļa | B12: 170000170 | C12: Ribakova Tatjana - ģimenes ārsta prakse | D12: 14230030829 | E12: Ribakova Tatjana | F12: 679 | G12: 3 | H12: 1 | I12: 0 | J12: =G12-H12-I12 -> 2 | K12: =F12*$K$5 -> 20.37 | L12: =F12*$L$5 -> 20.37 | M12: =F12*$M$5 -> 20.37 | N12: =F12*$N$5 -> 20.37 | O12: =ROUND((SUM(K12:N12)),2) -> 81.48 | P12: =ROUND((O12),2) -> 81.48 | R12: =P12 -> 81.48
A13: Kurzemes nodaļa | B13: 170000171 | C13: Baranovs Aleksejs - ģimenes ārsta un internista prakse | D13: 13520042277 | E13: Baranovs Aleksejs | F13: 425 | G13: 3 | H13: 1 | I13: 0 | J13: =G13-H13-I13 -> 2 | K13: =F13*$K$5 -> 12.75 | L13: =F13*$L$5 -> 12.75 | M13: =F13*$M$5 -> 12.75 | N13: =F13*$N$5 -> 12.75 | O13: =ROUND((SUM(K13:N13)),2) -> 51 | P13: =ROUND((O13),2) -> 51 | R13: =P13 -> 51
A14: Kurzemes nodaļa | B14: 170000173 | C14: Jakubauska Indra - ģimenes ārsta prakse | D14: 97580051350 | E14: Jakubauska Indra | F14: 320 | G14: 3 | H14: 1 | I14: 0 | J14: =G14-H14-I14 -> 2 | K14: =F14*$K$5 -> 9.6 | L14: =F14*$L$5 -> 9.6 | M14: =F14*$M$5 -> 9.6 | N14: =F14*$N$5 -> 9.6 | O14: =ROUND((SUM(K14:N14)),2) -> 38.4 | P14: =ROUND((O14),2) -> 38.4 | R14: =P14 -> 38.4
A15: Kurzemes nodaļa | B15: 170000183 | C15: Stabulnieks Uldis - ģimenes ārsta prakse | D15: 64540000971 | E15: Stabulnieks Uldis | F15: 221 | G15: 2 | H15: 1 | I15: 0 | J15: =G15-H15-I15 -> 1 | K15: =F15*$K$5 -> 6.63 | L15: =F15*$L$5 -> 6.63 | M15: =F15*$M$5 -> 6.63 | N15: =F15*$N$5 -> 6.63 | O15: =ROUND((SUM(K15:N15)),2) -> 26.52 | P15: =ROUND((O15),2) -> 26.52 | R15: =P15 -> 26.52
A16: Kurzemes nodaļa | B16: 170000186 | C16: Šmite Ieva - ģimenes ārsta prakse | D16: 56930053006 | E16: Šmite Ieva | F16: 850 | G16: 3 | H16: 1 | I16: 0 | J16: =G16-H16-I16 -> 2 | K16: =F16*$K$5 -> 25.5 | L16: =F16*$L$5 -> 25.5 | M16: =F16*$M$5 -> 25.5 | N16: =F16*$N$5 -> 25.5 | O16: =ROUND((SUM(K16:N16)),2) -> 102 | P16: =ROUND((O16),2) -> 102 | R16: =P16 -> 102
A17: Kurzemes nodaļa | B17: 170000188 | C17: Anaņjeva Aleksandra - ģimenes ārsta prakse | D17: 42370051229 | E17: Anaņjeva Aleksandra | F17: 472 | G17: 3 | H17: 1 | I17: 0 | J17: =G17-H17-I17 -> 2 | K17: =F17*$K$5 -> 14.16 | L17: =F17*$L$5 -> 14.16 | M17: =F17*$M$5 -> 14.16 | N17: =F17*$N$5 -> 14.16 | O17: =ROUND((SUM(K17:N17)),2) -> 56.64 | P17: =ROUND((O17),2) -> 56.64 | R17: =P17 -> 56.64
A18: Kurzemes nodaļa | B18: 170075405 | C18: Celma Violeta - ģimenes ārsta prakse | D18: 10290006471 | E18: Celma Violeta | F18: 799 | G18: 5 | H18: 1 | I18: 2 | J18: =G18-H18-I18 -> 2 | K18: =F18*$K$5 -> 23.97 | L18: =F18*$L$5 -> 23.97 | M18: =F18*$M$5 -> 23.97 | N18: =F18*$N$5 -> 23.97 | O18: =ROUND((SUM(K18:N18)),2) -> 95.88 | P18: =ROUND((O18),2) -> 95.88 | R18: =P18 -> 95.88
... A336: Rīgas nodaļa | B336: 10000045 | C336: Streļča Ludmila - ģimenes ārsta prakse | D336: 32400007337 | E336: Streļča Ludmila | F336: 427 | G336: 3 | H336: 1 | I336: 0 | J336: =G336-H336-I336 -> 2 | K336: =F336*$K$5 -> 12.81 | L336: =F336*$L$5 -> 12.81 | M336: =F336*$M$5 -> 12.81 | N336: =F336*$N$5 -> 12.81 | O336: =ROUND((SUM(K336:N336)),2) -> 51.24 | P336: =ROUND((O336),2) -> 51.24 | R336: =P336 -> 51.24
A337: Rīgas nodaļa | B337: 10000061 | C337: Rīgas patversme | D337: 78910006919 | E337: Pozņaka Ilze | F337: 315 | G337: 2 | H337: 1 | I337: 0 | J337: =G337-H337-I337 -> 1 | K337: =F337*$K$5 -> 9.45 | L337: =F337*$L$5 -> 9.45 | M337: =F337*$M$5 -> 9.45 | N337: =F337*$N$5 -> 9.45 | O337: =ROUND((SUM(K337:N337)),2) -> 37.8 | P337: =ROUND((O337),2) -> 37.8 | S337: =P337 -> 37.8
A338: Rīgas nodaļa | B338: 10000071 | C338: Pučkovs Dmitrijs - ģimenes ārsta prakse | D338: 10600008587 | E338: Pučkovs Dmitrijs | F338: 640 | G338: 3 | H338: 1 | I338: 0 | J338: =G338-H338-I338 -> 2 | K338: =F338*$K$5 -> 19.2 | L338: =F338*$L$5 -> 19.2 | M338: =F338*$M$5 -> 19.2 | N338: =F338*$N$5 -> 19.2 | O338: =ROUND((SUM(K338:N338)),2) -> 76.8 | P338: =ROUND((O338),2) -> 76.8 | R338: =P338 -> 76.8
A339: Rīgas nodaļa | B339: 10000072 | C339: Demidova Larisa - ģimenes ārsta prakse | D339: 76140005615 | E339: Demidova Larisa | F339: 321 | G339: 3 | H339: 1 | I339: 0 | J339: =G339-H339-I339 -> 2 | K339: =F339*$K$5 -> 9.63 | L339: =F339*$L$5 -> 9.63 | M339: =F339*$M$5 -> 9.63 | N339: =F339*$N$5 -> 9.63 | O339: =ROUND((SUM(K339:N339)),2) -> 38.52 | P339: =ROUND((O339),2) -> 38.52 | R339: =P339 -> 38.52
A340: Rīgas nodaļa | B340: 10000120 | C340: Kunstberga Elga - ģimenes ārsta prakse | D340: 36610003611 | E340: Kunstberga Elga | F340: 304 | G340: 3 | H340: 1 | I340: 0 | J340: =G340-H340-I340 -> 2 | K340: =F340*$K$5 -> 9.12 | L340: =F340*$L$5 -> 9.12 | M340: =F340*$M$5 -> 9.12 | N340: =F340*$N$5 -> 9.12 | O340: =ROUND((SUM(K340:N340)),2) -> 36.48 | P340: =ROUND((O340),2) -> 36.48 | R340: =P340 -> 36.48
A341: Rīgas nodaļa | B341: 10000126 | C341: Bubins Igors - ģimenes ārsta prakse | D341: 42770004724 | E341: Bubins Igors | F341: 657 | G341: 3 | H341: 1 | I341: 0 | J341: =G341-H341-I341 -> 2 | K341: =F341*$K$5 -> 19.71 | L341: =F341*$L$5 -> 19.71 | M341: =F341*$M$5 -> 19.71 | N341: =F341*$N$5 -> 19.71 | O341: =ROUND((SUM(K341:N341)),2) -> 78.84 | P341: =ROUND((O341),2) -> 78.84 | R341: =P341 -> 78.84
A342: Rīgas nodaļa | B342: 10000130 | C342: Kozaka Nataļja - ģimenes ārsta prakse | D342: 36110008834 | E342: Kozaka Nataļja | F342: 367 | G342: 2 | H342: 1 | I342: 0 | J342: =G342-H342-I342 -> 1 | K342: =F342*$K$5 -> 11.01 | L342: =F342*$L$5 -> 11.01 | M342: =F342*$M$5 -> 11.01 | N342: =F342*$N$5 -> 11.01 | O342: =ROUND((SUM(K342:N342)),2) -> 44.04 | P342: =ROUND((O342),2) -> 44.04 | R342: =P342 -> 44.04
A343: Rīgas nodaļa | B343: 10000141 | C343: Matuševica Andra - ģimenes ārsta prakse | D343: 71310006736 | E343: Matuševica Andra | F343: 345 | G343: 3 | H343: 1 | I343: 0 | J343: =G343-H343-I343 -> 2 | K343: =F343*$K$5 -> 10.35 | L343: =F343*$L$5 -> 10.35 | M343: =F343*$M$5 -> 10.35 | N343: =F343*$N$5 -> 10.35 | O343: =ROUND((SUM(K343:N343)),2) -> 41.4 | P343: =ROUND((O343),2) -> 41.4 | R343: =P343 -> 41.4
A344: Rīgas nodaļa | B344: 10000142 | C344: Frolova Tatjana - ģimenes ārsta un pediatra prakse | D344: 10130000505 | E344: Frolova Tatjana | F344: 436 | G344: 2 | H344: 1 | I344: 0 | J344: =G344-H344-I344 -> 1 | K344: =F344*$K$5 -> 13.08 | L344: =F344*$L$5 -> 13.08 | M344: =F344*$M$5 -> 13.08 | N344: =F344*$N$5 -> 13.08 | O344: =ROUND((SUM(K344:N344)),2) -> 52.32 | P344: =ROUND((O344),2) -> 52.32 | R344: =P344 -> 52.32
A345: Rīgas nodaļa | B345: 10000165 | C345: Nodelmane Jolanta - ģimenes ārsta prakse | D345: 68020006419 | E345: Nodelmane Jolanta | F345: 117 | G345: 2 | H345: 1 | I345: 0 | J345: =G345-H345-I345 -> 1 | K345: =F345*$K$5 -> 3.51 | L345: =F345*$L$5 -> 3.51 | M345: =F345*$M$5 -> 3.51 | N345: =F345*$N$5 -> 3.51 | O345: =ROUND((SUM(K345:N345)),2) -> 14.04 | P345: =ROUND((O345),2) -> 14.04 | R345: =P345 -> 14.04
A346: Rīgas nodaļa | B346: 10000166 | C346: Kozinda Ilze - ģimenes ārsta prakse | D346: 96790004521 | E346: Kozinda Ilze | F346: 127 | G346: 2 | H346: 1 | I346: 0 | J346: =G346-H346-I346 -> 1 | K346: =F346*$K$5 -> 3.81 | L346: =F346*$L$5 -> 3.81 | M346: =F346*$M$5 -> 3.81 | N346: =F346*$N$5 -> 3.81 | O346: =ROUND((SUM(K346:N346)),2) -> 15.24 | P346: =ROUND((O346),2) -> 15.24 | R346: =P346 -> 15.24
A347: Rīgas nodaļa | B347: 10000170 | C347: Zeltiņa Anda - ģimenes ārsta prakse | D347: 32810030654 | E347: Zeltiņa Anda | F347: 618 | G347: 3 | H347: 1 | I347: 0 | J347: =G347-H347-I347 -> 2 | K347: =F347*$K$5 -> 18.54 | L347: =F347*$L$5 -> 18.54 | M347: =F347*$M$5 -> 18.54 | N347: =F347*$N$5 -> 18.54 | O347: =ROUND((SUM(K347:N347)),2) -> 74.16 | P347: =ROUND((O347),2) -> 74.16 | R347: =P347 -> 74.16
A348: Rīgas nodaļa | B348: 10000193 | C348: Šabanovs Nikolajs - ģimenes ārsta prakse | D348: 51860008690 | E348: Šabanovs Nikolajs | F348: 359 | G348: 2 | H348: 1 | I348: 0 | J348: =G348-H348-I348 -> 1 | K348: =F348*$K$5 -> 10.77 | L348: =F348*$L$5 -> 10.77 | M348: =F348*$M$5 -> 10.77 | N348: =F348*$N$5 -> 10.77 | O348: =ROUND((SUM(K348:N348)),2) -> 43.08 | P348: =ROUND((O348),2) -> 43.08 | R348: =P348 -> 43.08
A349: Rīgas nodaļa | B349: 10000205 | C349: Paradovska Inga - ģimenes ārsta un arodveselības un arodslimību ārsta prakse | D349: 78670004530 | E349: Paradovska Inga | F349: 524 | G349: 3 | H349: 1 | I349: 0 | J349: =G349-H349-I349 -> 2 | K349: =F349*$K$5 -> 15.72 | L349: =F349*$L$5 -> 15.72 | M349: =F349*$M$5 -> 15.72 | N349: =F349*$N$5 -> 15.72 | O349: =ROUND((SUM(K349:N349)),2) -> 62.88 | P349: =ROUND((O349),2) -> 62.88 | R349: =P349 -> 62.88
... A867: Rīgas nodaļa | B867: 809600006 | C867: Ivetas Vīksnes ģimenes ārsta prakse, Sabiedrība ar ierobežotu atbildību | D867: 37810004368 | E867: Vīksne Iveta | F867: 742 | G867: 3 | H867: 1 | I867: 0 | J867: =G867-H867-I867 -> 2 | K867: =F867*$K$5 -> 22.26 | L867: =F867*$L$5 -> 22.26 | M867: =F867*$M$5 -> 22.26 | N867: =F867*$N$5 -> 22.26 | O867: =ROUND((SUM(K867:N867)),2) -> 89.04 | P867: =ROUND((O867),2) -> 89.04 | R867: =P867 -> 89.04
A868: Rīgas nodaļa | B868: 809635210 | C868: Ropažu novada pašvaldības aģentūra "Stopiņu ambulance" | D868: 15310042465 | E868: Kristīne Grosvalde | F868: 185 | G868: 3 | H868: 1 | I868: 0 | J868: =G868-H868-I868 -> 2 | K868: =F868*$K$5 -> 5.55 | L868: =F868*$L$5 -> 5.55 | M868: =F868*$M$5 -> 5.55 | N868: =F868*$N$5 -> 5.55 | O868: =ROUND((SUM(K868:N868)),2) -> 22.2 | P868: =ROUND((O868),2) -> 22.2 | S868: =P868 -> 22.2
A869: Rīgas nodaļa | B869: 809635210 | C869: Ropažu novada pašvaldības aģentūra "Stopiņu ambulance" | D869: 63350043772 | E869: Ziedonis Ritvars | F869: 119 | G869: 3 | H869: 1 | I869: 0 | J869: =G869-H869-I869 -> 2 | K869: =F869*$K$5 -> 3.57 | L869: =F869*$L$5 -> 3.57 | M869: =F869*$M$5 -> 3.57 | N869: =F869*$N$5 -> 3.57 | O869: =ROUND((SUM(K869:N869)),2) -> 14.28 | P869: =ROUND((O869),2) -> 14.28 | S869: =P869 -> 14.28
A870: Rīgas nodaļa | B870: 809635210 | C870: Ropažu novada pašvaldības aģentūra "Stopiņu ambulance" | D870: 79530047105 | E870: Opuļa Anda | F870: 171 | G870: 1 | H870: 0 | I870: 0 | J870: =G870-H870-I870 -> 1 | K870: =F870*$K$5 -> 5.13 | L870: =F870*$L$5 -> 5.13 | M870: =F870*$M$5 -> 5.13 | N870: =F870*$N$5 -> 5.13 | O870: =ROUND((SUM(K870:N870)),2) -> 20.52 | P870: =ROUND((O870),2) -> 20.52 | S870: =P870 -> 20.52
A871: Rīgas nodaļa | B871: 809635210 | C871: Ropažu novada pašvaldības aģentūra "Stopiņu ambulance" | D871: 94030006373 | E871: Ikauniece Vija | F871: 326 | G871: 3 | H871: 1 | I871: 0 | J871: =G871-H871-I871 -> 2 | K871: =F871*$K$5 -> 9.78 | L871: =F871*$L$5 -> 9.78 | M871: =F871*$M$5 -> 9.78 | N871: =F871*$N$5 -> 9.78 | O871: =ROUND((SUM(K871:N871)),2) -> 39.12 | P871: =ROUND((O871),2) -> 39.12 | S871: =P871 -> 39.12
A872: Rīgas nodaļa | B872: 10001289 | C872: Edītes Krūmiņas ģimenes ārsta prakse, Sabiedrība ar ierobežotu atbildību | D872: 93310005518 | E872: Edīte Krūmiņa | F872: 315 | G872: 3 | H872: 1 | I872: 0 | J872: =G872-H872-I872 -> 2 | K872: =F872*$K$5 -> 9.45 | L872: =F872*$L$5 -> 9.45 | M872: =F872*$M$5 -> 9.45 | N872: =F872*$N$5 -> 9.45 | O872: =ROUND((SUM(K872:N872)),2) -> 37.8 | P872: =ROUND((O872),2) -> 37.8 | R872: =P872 -> 37.8
A873: Rīgas nodaļa | B873: 1000094 | C873: Beatas Krūmiņas ārsta prakse, Sabiedrība ar ierobežotu atbildību | D873: 61110047702 | E873: Beata Krūmiņa | F873: 241 | G873: 2 | H873: 1 | I873: 0 | J873: =G873-H873-I873 -> 1 | K873: =F873*$K$5 -> 7.23 | L873: =F873*$L$5 -> 7.23 | M873: =F873*$M$5 -> 7.23 | N873: =F873*$N$5 -> 7.23 | O873: =ROUND((SUM(K873:N873)),2) -> 28.92 | P873: =ROUND((O873),2) -> 28.92 | R873: =P873 -> 28.92
A874: Rīgas nodaļa | B874: 1000091 | C874: Ilzes Kidalas ģimenes ārsta prakse, SIA | D874: 57800053148 | E874: Ilze Kidala | F874: 251 | G874: 2 | H874: 1 | I874: 0 | J874: =G874-H874-I874 -> 1 | K874: =F874*$K$5 -> 7.53 | L874: =F874*$L$5 -> 7.53 | M874: =F874*$M$5 -> 7.53 | N874: =F874*$N$5 -> 7.53 | O874: =ROUND((SUM(K874:N874)),2) -> 30.12 | P874: =ROUND((O874),2) -> 30.12 | R874: =P874 -> 30.12
A875: Rīgas nodaļa | B875: 4000003 | C875: RIVA MED, SIA | D875: 11960039963 | E875: Rita Ivanova | F875: 265 | G875: 3 | H875: 1 | I875: 0 | J875: =G875-H875-I875 -> 2 | K875: =F875*$K$5 -> 7.95 | L875: =F875*$L$5 -> 7.95 | M875: =F875*$M$5 -> 7.95 | N875: =F875*$N$5 -> 7.95 | O875: =ROUND((SUM(K875:N875)),2) -> 31.8 | P875: =ROUND((O875),2) -> 31.8 | R875: =P875 -> 31.8
...

Sheet IAL_fiks_piem_feldš
O1: Pielikums Nr.38 Ministru kabineta rīkojuma "Ministru kabineta rīkojuma "Par finanšu līdzekļu apropriācijas pārdali no budžeta resora ''74. Gadskārtējā valsts budžeta izpildes procesā pārdalāmais finansējums'' valsts budžeta programmas 12.00.00 ''Finansējums veselības jomas pasākumiem Covid-19 infekcijas izplatības ierobežošanai"" projekta sākotnējās ietekmes novērtējuma ziņojumam (anotācijai)
I2: Uz apmeklējumiem
A3: Feldšerpunktu saraksts fiksēto piemaksu izmaksai par individuālo aizsarglīdzekļu izmantošanu, sniedzot klātienes konsultācijas 2023.gadā par jūniju | H3: Pozīcija | I3: Dezinfekcijas līdzeklis rokām ārstam | J3: Dezinfekcijas līdzeklis rokām māsai | K3: Dezinfekcijas līdzeklis pacientam | L3: Dezinfekcijas līdzeklis virsmu apstrādei | N3: =ROUND(N4,0) -> 825 | P3: =ROUND(P4,0) -> 10 | Q3: =ROUNDUP(Q4,0) -> 815
C4: Vid. apmeklējumu skaits 1M | D4: 74 | H4: Izmaksas mēnesim, euro | I4: 0.03 | J4: 0.03 | K4: 0.03 | L4: 0.03 | M4: =SUM(M6:M122) -> 824.76 | N4: =SUM(N6:N122) -> 824.76 | P4: =SUM(P6:P122) -> 10.44 | Q4: =SUM(Q6:Q122) -> 814.32
A5: NVD TN | B5: ĀI kods | C5: ĀI nosaukums | D5: Apmeklējumu skaits mēnesī | E5: Personāla skaits kopā | F5: Ārstniecības personu skaits | G5: Māsu/palīgu skaits | M5: Fiksētā piemaksa uz 1 mēnesi, euro | N5: Par 2023.gada jūniju | O5: Komentārs | P5: EKK 3000 | Q5: EKK 7460
A6: Kurzemes nodaļa | B6: 27000002 | C6: Dienvidkurzemes novada Veselības aprūpes centrs AIZVĪĶU FELDŠERU PUNKTS | D6: 153 | E6: =F6+G6 -> 2 | F6: 0 | G6: 2 | I6: 0 | J6: =D6*$J$4 -> 4.59 | K6: =D6*$K$4 -> 4.59 | L6: =D6*$L$4 -> 4.59 | M6: =ROUND((I6+J6+K6+L6),2) -> 13.77 | N6: =ROUND((M6),2) -> 13.77 | Q6: =M6 -> 13.77
A7: Kurzemes nodaļa | B7: 905100008 | C7: APŠUCIEMA FELDŠERU PUNKTS, ENGURES NOVADA DOME | D7: 30 | E7: =F7+G7 -> 1 | F7: 0 | G7: 1 | I7: 0 | J7: =D7*$J$4 -> 0.9 | K7: =D7*$K$4 -> 0.9 | L7: =D7*$L$4 -> 0.9 | M7: =ROUND((I7+J7+K7+L7),2) -> 2.7 | N7: =ROUND((M7),2) -> 2.7 | Q7: =M7 -> 2.7
A8: Kurzemes nodaļa | B8: 880200008 | C8: ĀRSTA PALĪGA KABINETS (feldšera punkts), TALSU NOVADA PAŠVALDĪBA | D8: 97 | E8: =F8+G8 -> 1 | F8: 0 | G8: 1 | I8: 0 | J8: =D8*$J$4 -> 2.91 | K8: =D8*$K$4 -> 2.91 | L8: =D8*$L$4 -> 2.91 | M8: =ROUND((I8+J8+K8+L8),2) -> 8.73 | N8: =ROUND((M8),2) -> 8.73 | Q8: =M8 -> 8.73
A9: Kurzemes nodaļa | B9: 27000002 | C9: Dienvidkurzemes novada Veselības aprūpes centrs BUNKAS FELDŠERU PUNKTS | D9: 191 | E9: =F9+G9 -> 1 | F9: 0 | G9: 1 | I9: 0 | J9: =D9*$J$4 -> 5.73 | K9: =D9*$K$4 -> 5.73 | L9: =D9*$L$4 -> 5.73 | M9: =ROUND((I9+J9+K9+L9),2) -> 17.19 | N9: =ROUND((M9),2) -> 17.19 | Q9: =M9 -> 17.19
A10: Kurzemes nodaļa | B10: 27000002 | C10: Dienvidkurzemes novada Veselības aprūpes centrs DUBEŅU FELDŠERPUNKTS | D10: 47 | E10: =F10+G10 -> 1 | F10: 0 | G10: 1 | I10: 0 | J10: =D10*$J$4 -> 1.41 | K10: =D10*$K$4 -> 1.41 | L10: =D10*$L$4 -> 1.41 | M10: =ROUND((I10+J10+K10+L10),2) -> 4.23 | N10: =ROUND((M10),2) -> 4.23 | Q10: =M10 -> 4.23
A11: Kurzemes nodaļa | B11: 840600016 | C11: Gaiķu pagasta doktorāts, Saldus novada pašvaldība | D11: 29 | E11: =F11+G11 -> 1 | F11: 0 | G11: 1 | I11: 0 | J11: =D11*$J$4 -> 0.87 | K11: =D11*$K$4 -> 0.87 | L11: =D11*$L$4 -> 0.87 | M11: =ROUND((I11+J11+K11+L11),2) -> 2.61 | N11: =ROUND((M11),2) -> 2.61 | Q11: =M11 -> 2.61
A12: Kurzemes nodaļa | B12: 27000002 | C12: Dienvidkurzemes novada Veselības aprūpes centrs GAVIEZES FELDŠERPUNKTS | D12: 54 | E12: =F12+G12 -> 1 | F12: 0 | G12: 1 | I12: 0 | J12: =D12*$J$4 -> 1.62 | K12: =D12*$K$4 -> 1.62 | L12: =D12*$L$4 -> 1.62 | M12: =ROUND((I12+J12+K12+L12),2) -> 4.86 | N12: =ROUND((M12),2) -> 4.86 | Q12: =M12 -> 4.86
A13: Kurzemes nodaļa | B13: 27000002 | C13: Dienvidkurzemes novada Veselības aprūpes centrs GRAMZDAS FELDŠERU PUNKTS | D13: 153 | E13: =F13+G13 -> 2 | F13: 0 | G13: 2 | I13: 0 | J13: =D13*$J$4 -> 4.59 | K13: =D13*$K$4 -> 4.59 | L13: =D13*$L$4 -> 4.59 | M13: =ROUND((I13+J13+K13+L13),2) -> 13.77 | N13: =ROUND((M13),2) -> 13.77 | Q13: =M13 -> 13.77
A14: Kurzemes nodaļa | B14: 900200076 | C14: JAUNSĀTU PAGASTA FELDŠERU VECMĀŠU PUNKTS, Pūres un Jaunsātu pagastu pārvalde | D14: 18 | E14: =F14+G14 -> 1 | F14: 0 | G14: 1 | I14: 0 | J14: =D14*$J$4 -> 0.54 | K14: =D14*$K$4 -> 0.54 | L14: =D14*$L$4 -> 0.54 | M14: =ROUND((I14+J14+K14+L14),2) -> 1.62 | N14: =ROUND((M14),2) -> 1.62 | Q14: =M14 -> 1.62
A15: Kurzemes nodaļa | B15: 27000002 | C15: Dienvidkurzemes novada Veselības aprūpes centrs KALĒTU FELDŠERU-VECMĀŠU PUNKTS | D15: 91 | E15: =F15+G15 -> 1 | F15: 0 | G15: 1 | I15: 0 | J15: =D15*$J$4 -> 2.73 | K15: =D15*$K$4 -> 2.73 | L15: =D15*$L$4 -> 2.73 | M15: =ROUND((I15+J15+K15+L15),2) -> 8.19 | N15: =ROUND((M15),2) -> 8.19 | Q15: =M15 -> 8.19
A16: Kurzemes nodaļa | B16: 27000002 | C16: Dienvidkurzemes novada Veselības aprūpes centrs Kalvenes pagasta feldšeru-vecmāšu punkts | D16: 29 | E16: =F16+G16 -> 1 | F16: 0 | G16: 1 | I16: 0 | J16: =D16*$J$4 -> 0.87 | K16: =D16*$K$4 -> 0.87 | L16: =D16*$L$4 -> 0.87 | M16: =ROUND((I16+J16+K16+L16),2) -> 2.61 | N16: =ROUND((M16),2) -> 2.61 | Q16: =M16 -> 2.61
A17: Kurzemes nodaļa | B17: 901200020 | C17: Kandavas un pagastu apvienība | D17: 63 | E17: =F17+G17 -> 2 | F17: 0 | G17: 2 | I17: 0 | J17: =D17*$J$4 -> 1.89 | K17: =D17*$K$4 -> 1.89 | L17: =D17*$L$4 -> 1.89 | M17: =ROUND((I17+J17+K17+L17),2) -> 5.67 | N17: =ROUND((M17),2) -> 5.67 | Q17: =M17 -> 5.67
A18: Kurzemes nodaļa | B18: 840200073 | C18: Kursīšu medpunkts, KURSĪŠU PAGASTA PĀRVALDE | D18: 157 | E18: =F18+G18 -> 1 | F18: 0 | G18: 1 | I18: 0 | J18: =D18*$J$4 -> 4.71 | K18: =D18*$K$4 -> 4.71 | L18: =D18*$L$4 -> 4.71 | M18: =ROUND((I18+J18+K18+L18),2) -> 14.13 | N18: =ROUND((M18),2) -> 14.13 | Q18: =M18 -> 14.13
