Workbook
Name Recover: [1]Macro1!$A$99
Name Rikojums2222: [2]Macro1!$A$106
Name TableName: "Dummy"

Sheet Kopsavilkums
C1: Pielikums Nr.30 Ministru kabineta rīkojuma "Ministru kabineta rīkojuma "Par finanšu līdzekļu apropriācijas pārdali no budžeta resora ''74. Gadskārtējā valsts budžeta izpildes procesā pārdalāmais finansējums'' valsts budžeta programmas 12.00.00 ''Finansējums veselības jomas pasākumiem Covid-19 infekcijas izplatības ierobežošanai"" projekta sākotnējās ietekmes novērtējuma ziņojumam (anotācijai)
A2: Jūnijs | B2: EUR | C2: EKK 3000 | D2: EKK 7460 | E2: Apakšprogrammu sadalījums | F2: MK not,punkts/apakšpunkts
A3: Izmaksas par Covid 19 izmeklējumiem | B3: =B4+B13 -> 1110385 | C3: =C4+C13 -> 1108374 | D3: =D4+D13 -> 2011
A4: AMBULATORIE PAKALPOJUMI | B4: =SUM(B5:B12) -> 559040 | C4: =SUM(C5:C12) -> 557029 | D4: =SUM(D5:D12) -> 2011
A5: Zobārstniecības pakalpojumu summa | B5: =C5+D5 -> 10519 | C5: =Zobārstn!L4 -> 10469 | D5: =Zobārstn!M4 -> 50 | E5: 33.16.00 | F5: MK not.Nr.555 275 p
A6: Par IAL manipulācijām SAVA | B6: =C6+D6 -> 147484 | C6: =IAL_manip_SAVA!I5 -> 146693 | D6: =IAL_manip_SAVA!J5 -> 791 | E6: 33.16.00 | F6: MK not.Nr.555 275 p
A7: Par IAL manipulācijām veselības aprūpei mājās | B7: =C7+D7 -> 13997 | C7: =IAL_mājas_apr!I4 -> 13936 | D7: =IAL_mājas_apr!J4 -> 61 | E7: 33.16.00 | F7: MK not.Nr.555 275 p
A8: SAVA uzņemšanas nodaļu fiksētās piemaksas par IAL izmantošanu | B8: =C8+D8 -> 38769 | C8: =IAL_SAVA_uzņemš_nod!I43 -> 38769 | E8: 33.16.00 | F8: MK not.Nr.555 275 p
A9: Ambulatorā pēc Covid-19 rehabilitācija | B9: =C9+D9 -> 111983 | C9: =Amb_rehab!H3 -> 111983 | E9: 33.16.00 | F9: MK not.Nr.555 274.2.
A10: Dinamiskā novērošana | B10: =C10+D10 -> 176005 | C10: =Dinam_novēroš!G3 -> 176005 | E10: 33.16.00 | F10: MK not.Nr.555 274.3.
A11: Fiksētā piemaksa Ģimenes ārstu praksēm par IAL izmantošanu | B11: =C11+D11 -> 59458 | C11: =IAL_fiks_piem_ĢĀ!R4 -> 59164 | D11: =IAL_fiks_piem_ĢĀ!S4 -> 294 | E11: 33.16.00 | F11: MK not.Nr.555 275 p
A12: Fiksēta piemaksa Feldšeru punktiem par IAL izmantošanu | B12: =C12+D12 -> 825 | C12: =IAL_fiks_piem_feldš!P3 -> 10 | D12: =IAL_fiks_piem_feldš!Q3 -> 815 | E12: 33.16.00 | F12: MK not.Nr.555 275 p
A13: STACIONĀRIE PAKALPOJUMI | B13: =B14+B15+B16 -> 551345 | C13: =SUM(C14:C17) -> 551345 | D13: =SUM(D14:D16) -> 0
A14: Piemaksa gultasdienai par IAL stacionāros | B14: =C14+D14 -> 178210 | C14: =Stac_IAL!F65 -> 178210 | E14: 33.18.00 | F14: MK not.Nr.555 275 p
A15: Subakūtas rehabilitācijas pēc Covid-19 izmaksas | B15: =C15+D15 -> 114647 | C15: =Subakūt_rehab!I81 -> 114647 | E15: 33.18.00 | F15: MK not.Nr.555 274.2.
A16: Covid-19 pacientu ārstēšanas izmaksas | B16: =C16+C17 -> 258488 | C16: =Covid_ārst_izm!I52 -> 12146 | E16: 33.17.00 | F16: MK not.Nr.555 274.3.
B17: =C17+D17 -> 246342 | C17: =Covid_ārst_izm!J52 -> 246342 | E17: 33.18.00

Sheet Zobārstn
K1: Pielikums Nr.31 Ministru kabineta rīkojuma "Ministru kabineta rīkojuma "Par finanšu līdzekļu apropriācijas pārdali no budžeta resora ''74. Gadskārtējā valsts budžeta izpildes procesā pārdalāmais finansējums'' valsts budžeta programmas 12.00.00 ''Finansējums veselības jomas pasākumiem Covid-19 infekcijas izplatības ierobežošanai"" projekta sākotnējās ietekmes novērtējuma ziņojumam (anotācijai)
A2: Veikto pakalpojumu* summa zobārstniecībā ārkārtas situācijas laikā par 2023.gada jūnija ievadītiem taloniem
A3: (*iekļautas divu manipulāciju izmaksas: 70035 - Piemaksa par laiku un individuālajiem aizsardzības līdzekļiem epidemioloģiskās drošības pasākumu nodrošināšanai zobārstam vai mutes, sejas un žokļu ķirurgam ambulatoro veselības aprūpes pakalpojumu nodrošināšanai, tarifs - 0.30 euro; 70036 - Piemaksa par laiku un individuālajiem aizsardzības līdzekļiem epidemioloģiskās drošības pasākumu nodrošināšanai ārstniecības un pacientu aprūpes personām zobārstniecības pakalpojumu nodrošināšanai ambulatori, tarifs - 0.20 euro)
J4: =ROUND(J6,0) -> 10519 | L4: =ROUNDUP(L6,0) -> 10469 | M4: =ROUND(M6,0) -> 50
A5: NVD TN | B5: Ārstniecības iestādes kods | C5: Ārstniecības iestādes nosaukums | D5: Pakalpojumu summa, (manipulācija 70035) euro | E5: Tarifs, euro | F5: Manipulācijas 70035 skaits | G5: Pakalpojumu summa, (manipulācija 70036) euro | H5: Tarifs, euro | I5: Manipulācijas 70036 skaits | J5: Pakalpojumu summa kopā, euro | K5: Manipulāciju skaits kopā | L5: EKK 3000 | M5: EKK 7460
A6: KOPĀ | D6: =SUM(D7:D237) -> 7705.2 | E6: 0.3 | F6: =SUM(F7:F237) -> 25684 | G6: =SUM(G7:G237) -> 2813.4 | H6: 0.2 | I6: =SUM(I7:I237) -> 14067 | J6: =SUM(J7:J237) -> 10518.6 | K6: =SUM(K7:K237) -> 39751 | L6: =SUM(L7:L237) -> 10468.4 | M6: =SUM(M7:M237) -> 50.2
A7: NVD Kurzemes nodaļa | B7: 051000003 | C7: Talsu mutes veselības kabinets, Sabiedrība ar ierobežotu atbildību | D7: =F7*E7 -> 9.6 | E7: 0.3 | F7: 32 | G7: =I7*H7 -> 13 | H7: 0.2 | I7: 65 | J7: =D7+G7 -> 22.6 | K7: =F7+I7 -> 97 | L7: =J7 -> 22.6
A8: NVD Kurzemes nodaļa | B8: 170000154 | C8: Grusa Inga - ārsta prakse zobārstniecībā | D8: =F8*E8 -> 12.3 | E8: 0.3 | F8: 41 | G8: =I8*H8 -> 8.2 | H8: 0.2 | I8: 41 | J8: =D8+G8 -> 20.5 | K8: =F8+I8 -> 82 | L8: =J8 -> 20.5
A9: NVD Kurzemes nodaļa | B9: 170000197 | C9: RD Private, SIA | G9: =I9*H9 -> 35 | H9: 0.2 | I9: 175 | J9: =D9+G9 -> 35 | K9: =F9+I9 -> 175 | L9: =J9 -> 35
A10: NVD Kurzemes nodaļa | B10: 170020401 | C10: LIEPĀJAS REĢIONĀLĀ SLIMNĪCA, Sabiedrība ar ierobežotu atbildību | D10: =F10*E10 -> 183.9 | E10: 0.3 | F10: 613 | G10: =I10*H10 -> 54 | H10: 0.2 | I10: 270 | J10: =D10+G10 -> 237.9 | K10: =F10+I10 -> 883 | L10: =J10 -> 237.9
A11: NVD Kurzemes nodaļa | B11: 170064506 | C11: ALGORITMS L, SIA | D11: =F11*E11 -> 107.7 | E11: 0.3 | F11: 359 | G11: =I11*H11 -> 56 | H11: 0.2 | I11: 280 | J11: =D11+G11 -> 163.7 | K11: =F11+I11 -> 639 | L11: =J11 -> 163.7
A12: NVD Kurzemes nodaļa | B12: 170077201 | C12: Veselības salons Z, Sabiedrība ar ierobežotu atbildību | D12: =F12*E12 -> 11.1 | E12: 0.3 | F12: 37 | J12: =D12+G12 -> 11.1 | K12: =F12+I12 -> 37 | L12: =J12 -> 11.1
A13: NVD Kurzemes nodaļa | B13: 170077202 | C13: SOLADENS, SIA | G13: =I13*H13 -> 11.2 | H13: 0.2 | I13: 56 | J13: =D13+G13 -> 11.2 | K13: =F13+I13 -> 56 | L13: =J13 -> 11.2
A14: NVD Kurzemes nodaļa | B14: 270000014 | C14: LOLITAS LAUBERTES ZOBĀRSTNIECĪBA, Sabiedrība ar ierobežotu atbildību | D14: =F14*E14 -> 18.6 | E14: 0.3 | F14: 62 | G14: =I14*H14 -> 3.2 | H14: 0.2 | I14: 16 | J14: =D14+G14 -> 21.8 | K14: =F14+I14 -> 78 | L14: =J14 -> 21.8
A15: NVD Kurzemes nodaļa | B15: 270000024 | C15: Daces un Signes zobārstniecības privātprakse, Sabiedrība ar ierobežotu atbildību | D15: =F15*E15 -> 20.7 | E15: 0.3 | F15: 69 | J15: =D15+G15 -> 20.7 | K15: =F15+I15 -> 69 | L15: =J15 -> 20.7
A16: NVD Kurzemes nodaļa | B16: 270000064 | C16: MEDENT, SIA | D16: =F16*E16 -> 53.1 | E16: 0.3 | F16: 177 | G16: =I16*H16 -> 7.4 | H16: 0.2 | I16: 37 | J16: =D16+G16 -> 60.5 | K16: =F16+I16 -> 214 | L16: =J16 -> 60.5
A17: NVD Kurzemes nodaļa | B17: 270064004 | C17: SMAIDS A, SIA | D17: =F17*E17 -> 132 | E17: 0.3 | F17: 440 | G17: =I17*H17 -> 14 | H17: 0.2 | I17: 70 | J17: =D17+G17 -> 146 | K17: =F17+I17 -> 510 | L17: =J17 -> 146
A18: NVD Kurzemes nodaļa | B18: 270064503 | C18: Klīnika ZINTA, SIA | D18: =F18*E18 -> 131.7 | E18: 0.3 | F18: 439 | G18: =I18*H18 -> 16 | H18: 0.2 | I18: 80 | J18: =D18+G18 -> 147.7 | K18: =F18+I18 -> 519 | L18: =J18 -> 147.7
A19: NVD Kurzemes nodaļa | B19: 270064507 | C19: DAKTERES KIRIČKEVIČAS PRIVĀTPRAKSE, Individuālais uzņēmums | D19: =F19*E19 -> 6.3 | E19: 0.3 | F19: 21 | J19: =D19+G19 -> 6.3 | K19: =F19+I19 -> 21 | L19: =J19 -> 6.3
A20: NVD Kurzemes nodaļa | B20: 620200014 | C20: Dz.Ozoliņas zobārstniecības kabinets, SIA | D20: =F20*E20 -> 108.3 | E20: 0.3 | F20: 361 | G20: =I20*H20 -> 51.4 | H20: 0.2 | I20: 257 | J20: =D20+G20 -> 159.7 | K20: =F20+I20 -> 618 | L20: =J20 -> 159.7
A21: NVD Kurzemes nodaļa | B21: 620200018 | C21: G.Līces ārsta prakse zobārstniecībā, SIA | D21: =F21*E21 -> 18 | E21: 0.3 | F21: 60 | G21: =I21*H21 -> 7.2 | H21: 0.2 | I21: 36 | J21: =D21+G21 -> 25.2 | K21: =F21+I21 -> 96 | L21: =J21 -> 25.2
A22: NVD Kurzemes nodaļa | B22: 620200062 | C22: ANROJA, SIA | D22: =F22*E22 -> 25.8 | E22: 0.3 | F22: 86 | G22: =I22*H22 -> 30 | H22: 0.2 | I22: 150 | J22: =D22+G22 -> 55.8 | K22: =F22+I22 -> 236 | L22: =J22 -> 55.8
A23: NVD Kurzemes nodaļa | B23: 621200004 | C23: Strazdiņa Ināra - ārsta prakse zobārstniecībā | D23: =F23*E23 -> 6 | E23: 0.3 | F23: 20 | G23: =I23*H23 -> 2.8 | H23: 0.2 | I23: 14 | J23: =D23+G23 -> 8.8 | K23: =F23+I23 -> 34 | L23: =J23 -> 8.8
A24: NVD Kurzemes nodaļa | B24: 640600008 | C24: Blikerte Gunta - ārsta prakse zobārstniecībā | D24: =F24*E24 -> 12 | E24: 0.3 | F24: 40 | J24: =D24+G24 -> 12 | K24: =F24+I24 -> 40 | L24: =J24 -> 12
A25: NVD Kurzemes nodaļa | B25: 640600015 | C25: Liepiņa Indra - ārsta prakse zobārstniecībā | D25: =F25*E25 -> 10.5 | E25: 0.3 | F25: 35 | J25: =D25+G25 -> 10.5 | K25: =F25+I25 -> 35 | L25: =J25 -> 10.5
A26: NVD Kurzemes nodaļa | B26: 641000001 | C26: Vidaja Ilga - ārsta prakse zobārstniecībā | D26: =F26*E26 -> 8.7 | E26: 0.3 | F26: 29 | G26: =I26*H26 -> 5.8 | H26: 0.2 | I26: 29 | J26: =D26+G26 -> 14.5 | K26: =F26+I26 -> 58 | L26: =J26 -> 14.5
A27: NVD Kurzemes nodaļa | B27: 641000007 | C27: Birze Ligita - ārsta prakse zobārstniecībā | D27: =F27*E27 -> 11.7 | E27: 0.3 | F27: 39 | J27: =D27+G27 -> 11.7 | K27: =F27+I27 -> 39 | L27: =J27 -> 11.7
A28: NVD Kurzemes nodaļa | B28: 641000022 | C28: Burkevica Anita - zobu higiēnista prakse | G28: =I28*H28 -> 13.4 | H28: 0.2 | I28: 67 | J28: =D28+G28 -> 13.4 | K28: =F28+I28 -> 67 | L28: =J28 -> 13.4
A29: NVD Kurzemes nodaļa | B29: 840200025 | C29: SALDUS ZOBĀRSTNIECĪBA, SIA | D29: =F29*E29 -> 9 | E29: 0.3 | F29: 30 | G29: =I29*H29 -> 1.4 | H29: 0.2 | I29: 7 | J29: =D29+G29 -> 10.4 | K29: =F29+I29 -> 37 | L29: =J29 -> 10.4
A30: NVD Kurzemes nodaļa | B30: 840200026 | C30: Sigma Z, SIA | D30: =F30*E30 -> 65.4 | E30: 0.3 | F30: 218 | G30: =I30*H30 -> 60.6 | H30: 0.2 | I30: 303 | J30: =D30+G30 -> 126 | K30: =F30+I30 -> 521 | L30: =J30 -> 126
A31: NVD Kurzemes nodaļa | B31: 840200048 | C31: META, Sabiedrība ar ierobežotu atbildību Saldus | D31: =F31*E31 -> 39 | E31: 0.3 | F31: 130 | J31: =D31+G31 -> 39 | K31: =F31+I31 -> 130 | L31: =J31 -> 39
A32: NVD Kurzemes nodaļa | B32: 840200079 | C32: Zilzobis, SIA | D32: =F32*E32 -> 24 | E32: 0.3 | F32: 80 | G32: =I32*H32 -> 21 | H32: 0.2 | I32: 105 | J32: =D32+G32 -> 45 | K32: =F32+I32 -> 185 | L32: =J32 -> 45
A33: NVD Kurzemes nodaļa | B33: 880200029 | C33: TALSU SANUS, SIA | D33: =F33*E33 -> 27.3 | E33: 0.3 | F33: 91 | G33: =I33*H33 -> 15.4 | H33: 0.2 | I33: 77 | J33: =D33+G33 -> 42.7 | K33: =F33+I33 -> 168 | L33: =J33 -> 42.7
A34: NVD Kurzemes nodaļa | B34: 880200036 | C34: Kristapsone Agita - ārsta prakse zobārstniecībā | D34: =F34*E34 -> 4.2 | E34: 0.3 | F34: 14 | G34: =I34*H34 -> 2.8 | H34: 0.2 | I34: 14 | J34: =D34+G34 -> 7 | K34: =F34+I34 -> 28 | L34: =J34 -> 7
A35: NVD Kurzemes nodaļa | B35: 880200056 | C35: Stāmers Vilnis - ārsta prakse zobārstniecībā | D35: =F35*E35 -> 2.4 | E35: 0.3 | F35: 8 | J35: =D35+G35 -> 2.4 | K35: =F35+I35 -> 8 | L35: =J35 -> 2.4
A36: NVD Kurzemes nodaļa | B36: 880200080 | C36: Agneses Krastiņas zobārstniecības prakse, IK | D36: =F36*E36 -> 12 | E36: 0.3 | F36: 40 | J36: =D36+G36 -> 12 | K36: =F36+I36 -> 40 | L36: =J36 -> 12
A37: NVD Kurzemes nodaļa | B37: 888300008 | C37: Rojas zobārstniecība, Sabiedrība ar ierobežotu atbildību | G37: =I37*H37 -> 3.2 | H37: 0.2 | I37: 16 | J37: =D37+G37 -> 3.2 | K37: =F37+I37 -> 16 | L37: =J37 -> 3.2
A38: NVD Kurzemes nodaļa | B38: 900200006 | C38: Buivide Gunta - ārsta prakse zobārstniecībā | G38: =I38*H38 -> 10.8 | H38: 0.2 | I38: 54 | J38: =D38+G38 -> 10.8 | K38: =F38+I38 -> 54 | L38: =J38 -> 10.8
A39: NVD Kurzemes nodaļa | B39: 900200056 | C39: Ancāne Lūcija - ārsta prakse zobārstniecībā | D39: =F39*E39 -> 15.9 | E39: 0.3 | F39: 53 | J39: =D39+G39 -> 15.9 | K39: =F39+I39 -> 53 | L39: =J39 -> 15.9
A40: NVD Kurzemes nodaļa | B40: 900200082 | C40: Veismane Gita - ārsta prakse zobārstniecībā | D40: =F40*E40 -> 2.7 | E40: 0.3 | F40: 9 | J40: =D40+G40 -> 2.7 | K40: =F40+I40 -> 9 | L40: =J40 -> 2.7
A41: NVD Kurzemes nodaļa | B41: 900200087 | C41: Zīriņa Inta - ārsta prakse zobārstniecībā | D41: =F41*E41 -> 13.5 | E41: 0.3 | F41: 45 | J41: =D41+G41 -> 13.5 | K41: =F41+I41 -> 45 | L41: =J41 -> 13.5
A42: NVD Kurzemes nodaļa | B42: 900200088 | C42: Stulberga Anita - ārsta prakse zobārstniecībā | D42: =F42*E42 -> 9.3 | E42: 0.3 | F42: 31 | J42: =D42+G42 -> 9.3 | K42: =F42+I42 -> 31 | L42: =J42 -> 9.3
A43: NVD Kurzemes nodaļa | B43: 900200089 | C43: Medinteks, SIA | D43: =F43*E43 -> 102.3 | E43: 0.3 | F43: 341 | G43: =I43*H43 -> 23.6 | H43: 0.2 | I43: 118 | J43: =D43+G43 -> 125.9 | K43: =F43+I43 -> 459 | L43: =J43 -> 125.9
A44: NVD Kurzemes nodaļa | B44: 901200014 | C44: Krūzmane Anda - ārsta prakse zobārstniecībā | D44: =F44*E44 -> 7.2 | E44: 0.3 | F44: 24 | J44: =D44+G44 -> 7.2 | K44: =F44+I44 -> 24 | L44: =J44 -> 7.2
A45: NVD Kurzemes nodaļa | B45: 901200021 | C45: GV-96, Sabiedrība ar ierobežotu atbildību | D45: =F45*E45 -> 38.4 | E45: 0.3 | F45: 128 | G45: =I45*H45 -> 25 | H45: 0.2 | I45: 125 | J45: =D45+G45 -> 63.4 | K45: =F45+I45 -> 253 | L45: =J45 -> 63.4
A46: NVD Latgales nodaļa | B46: 002000005 | C46: Dentella, SIA | D46: =F46*E46 -> 27.3 | E46: 0.3 | F46: 91 | G46: =I46*H46 -> 13 | H46: 0.2 | I46: 65 | J46: =D46+G46 -> 40.3 | K46: =F46+I46 -> 156 | L46: =J46 -> 40.3
A47: NVD Latgales nodaļa | B47: 006000002 | C47: AM Dental Studio, Sabiedrība ar ierobežotu atbildību | D47: =F47*E47 -> 48.6 | E47: 0.3 | F47: 162 | J47: =D47+G47 -> 48.6 | K47: =F47+I47 -> 162 | L47: =J47 -> 48.6
A48: NVD Latgales nodaļa | B48: 006000005 | C48: Zūbs, Sabiedrība ar ierobežotu atbildību | D48: =F48*E48 -> 37.2 | E48: 0.3 | F48: 124 | G48: =I48*H48 -> 10.2 | H48: 0.2 | I48: 51 | J48: =D48+G48 -> 47.4 | K48: =F48+I48 -> 175 | L48: =J48 -> 47.4
A49: NVD Latgales nodaļa | B49: 050000017 | C49: GRĪVAS POLIKLĪNIKA, Sabiedrība ar ierobežotu atbildību | D49: =F49*E49 -> 3.6 | E49: 0.3 | F49: 12 | J49: =D49+G49 -> 3.6 | K49: =F49+I49 -> 12 | L49: =J49 -> 3.6
A50: NVD Latgales nodaļa | B50: 050000127 | C50: DIADENT, Sabiedrība ar ierobežotu atbildību | D50: =F50*E50 -> 30.6 | E50: 0.3 | F50: 102 | G50: =I50*H50 -> 5.2 | H50: 0.2 | I50: 26 | J50: =D50+G50 -> 35.8 | K50: =F50+I50 -> 128 | L50: =J50 -> 35.8
A51: NVD Latgales nodaļa | B51: 050024301 | C51: Daugavpils zobārstniecības poliklīnika, Sabiedrība ar ierobežotu atbildību | D51: =F51*E51 -> 266.4 | E51: 0.3 | F51: 888 | G51: =I51*H51 -> 103.2 | H51: 0.2 | I51: 516 | J51: =D51+G51 -> 369.6 | K51: =F51+I51 -> 1404 | L51: =J51 -> 369.6
A52: NVD Latgales nodaļa | B52: 210000043 | C52: Medical plus, Sabiedrība ar ierobežotu atbildību | D52: =F52*E52 -> 29.1 | E52: 0.3 | F52: 97 | G52: =I52*H52 -> 31.6 | H52: 0.2 | I52: 158 | J52: =D52+G52 -> 60.7 | K52: =F52+I52 -> 255 | L52: =J52 -> 60.7
A53: NVD Latgales nodaļa | B53: 210000058 | C53: Medicīnas centrs 36,6, Sabiedrība ar ierobežotu atbildību | D53: =F53*E53 -> 65.1 | E53: 0.3 | F53: 217 | G53: =I53*H53 -> 37.4 | H53: 0.2 | I53: 187 | J53: =D53+G53 -> 102.5 | K53: =F53+I53 -> 404 | L53: =J53 -> 102.5
A54: NVD Latgales nodaļa | B54: 210020301 | C54: RĒZEKNES SLIMNĪCA, Sabiedrība ar ierobežotu atbildību | D54: =F54*E54 -> 166.2 | E54: 0.3 | F54: 554 | G54: =I54*H54 -> 7.6 | H54: 0.2 | I54: 38 | J54: =D54+G54 -> 173.8 | K54: =F54+I54 -> 592 | L54: =J54 -> 173.8
A55: NVD Latgales nodaļa | B55: 440200002 | C55: Grunšteine Gaļina - ārsta prakse zobārstniecībā | D55: =F55*E55 -> 9.6 | E55: 0.3 | F55: 32 | J55: =D55+G55 -> 9.6 | K55: =F55+I55 -> 32 | L55: =J55 -> 9.6
A56: NVD Latgales nodaļa | B56: 440200012 | C56: Latarceva Irēna - ārsta prakse zobārstniecībā | D56: =F56*E56 -> 8.4 | E56: 0.3 | F56: 28 | J56: =D56+G56 -> 8.4 | K56: =F56+I56 -> 28 | L56: =J56 -> 8.4
A57: NVD Latgales nodaļa | B57: 600200001 | C57: Krāslavas slimnīca, Sabiedrība ar ierobežotu atbildību | D57: =F57*E57 -> 40.5 | E57: 0.3 | F57: 135 | G57: =I57*H57 -> 8.4 | H57: 0.2 | I57: 42 | J57: =D57+G57 -> 48.9 | K57: =F57+I57 -> 177 | L57: =J57 -> 48.9
A58: NVD Latgales nodaļa | B58: 600200018 | C58: SALVE D, Krāslavas pilsētas S. Gorenko individuālais komerciālais uzņēmums | D58: =F58*E58 -> 14.1 | E58: 0.3 | F58: 47 | J58: =D58+G58 -> 14.1 | K58: =F58+I58 -> 47 | L58: =J58 -> 14.1
A59: NVD Latgales nodaļa | B59: 601000004 | C59: Maceviča Ilona - ārsta prakse zobārstniecībā | D59: =F59*E59 -> 15.6 | E59: 0.3 | F59: 52 | J59: =D59+G59 -> 15.6 | K59: =F59+I59 -> 52 | L59: =J59 -> 15.6
A60: NVD Latgales nodaļa | B60: 680200023 | C60: Daudiša Vita - ārsta prakse zobārstniecībā | D60: =F60*E60 -> 10.5 | E60: 0.3 | F60: 35 | J60: =D60+G60 -> 10.5 | K60: =F60+I60 -> 35 | L60: =J60 -> 10.5
A61: NVD Latgales nodaļa | B61: 680200030 | C61: Ludzas medicīnas centrs, Sabiedrība ar ierobežotu atbildību | D61: =F61*E61 -> 0.6 | E61: 0.3 | F61: 2 | G61: =I61*H61 -> 3.4 | H61: 0.2 | I61: 17 | J61: =D61+G61 -> 4 | K61: =F61+I61 -> 19 | L61: =J61 -> 4
A62: NVD Latgales nodaļa | B62: 681000002 | C62: Kārsavas slimnīca, Sabiedrība ar ierobežotu atbildību | D62: =F62*E62 -> 23.7 | E62: 0.3 | F62: 79 | J62: =D62+G62 -> 23.7 | K62: =F62+I62 -> 79 | L62: =J62 -> 23.7
A63: NVD Latgales nodaļa | B63: 681000014 | C63: DENTAL PLUS, Sabiedrība ar ierobežotu atbildību | D63: =F63*E63 -> 5.4 | E63: 0.3 | F63: 18 | J63: =D63+G63 -> 5.4 | K63: =F63+I63 -> 18 | L63: =J63 -> 5.4
A64: NVD Latgales nodaļa | B64: 681800001 | C64: Zilupes veselības un sociālās aprūpes centrs, Sabiedrība ar ierobežotu atbildību | D64: =F64*E64 -> 45.6 | E64: 0.3 | F64: 152 | J64: =D64+G64 -> 45.6 | K64: =F64+I64 -> 152 | L64: =J64 -> 45.6
A65: NVD Latgales nodaļa | B65: 684900003 | C65: Griščenko Svetlana -ārsta prakse zobārstniecībā | D65: =F65*E65 -> 6.9 | E65: 0.3 | F65: 23 | J65: =D65+G65 -> 6.9 | K65: =F65+I65 -> 23 | L65: =J65 -> 6.9
A66: NVD Latgales nodaļa | B66: 760200003 | C66: LĀZERS, Sabiedrība ar ierobežotu atbildību | G66: =I66*H66 -> 23 | H66: 0.2 | I66: 115 | J66: =D66+G66 -> 23 | K66: =F66+I66 -> 115 | L66: =J66 -> 23
A67: NVD Latgales nodaļa | B67: 760200015 | C67: Lipska Natālija - ārsta prakse zobārstniecībā | D67: =F67*E67 -> 4.2 | E67: 0.3 | F67: 14 | J67: =D67+G67 -> 4.2 | K67: =F67+I67 -> 14 | L67: =J67 -> 4.2
A68: NVD Latgales nodaļa | B68: 760200019 | C68: Kozuļ-Kaža Anna - ārsta prakse zobārstniecībā | D68: =F68*E68 -> 4.5 | E68: 0.3 | F68: 15 | J68: =D68+G68 -> 4.5 | K68: =F68+I68 -> 15 | L68: =J68 -> 4.5
A69: NVD Latgales nodaļa | B69: 761200011 | C69: Valaine Maija - ārsta prakse zobārstniecībā | D69: =F69*E69 -> 11.1 | E69: 0.3 | F69: 37 | J69: =D69+G69 -> 11.1 | K69: =F69+I69 -> 37 | L69: =J69 -> 11.1
A70: NVD Latgales nodaļa | B70: 761200024 | C70: SOME, Sabiedrība ar ierobežotu atbildību | D70: =F70*E70 -> 34.8 | E70: 0.3 | F70: 116 | G70: =I70*H70 -> 21.8 | H70: 0.2 | I70: 109 | J70: =D70+G70 -> 56.6 | K70: =F70+I70 -> 225 | L70: =J70 -> 56.6
A71: NVD Rīgas nodaļa | B71: 001000008 | C71: Innas Tkačenko privātprakse, Sabiedrība ar ierobežotu atbildību | D71: =F71*E71 -> 10.5 | E71: 0.3 | F71: 35 | G71: =I71*H71 -> 2.4 | H71: 0.2 | I71: 12 | J71: =D71+G71 -> 12.9 | K71: =F71+I71 -> 47 | L71: =J71 -> 12.9
A72: NVD Rīgas nodaļa | B72: 001000031 | C72: Samadanta, Sabiedrība ar ierobežotu atbildību | G72: =I72*H72 -> 5.2 | H72: 0.2 | I72: 26 | J72: =D72+G72 -> 5.2 | K72: =F72+I72 -> 26 | L72: =J72 -> 5.2
A73: NVD Rīgas nodaļa | B73: 001000035 | C73: Dens un Dentis, SIA | D73: =F73*E73 -> 40.2 | E73: 0.3 | F73: 134 | G73: =I73*H73 -> 5.8 | H73: 0.2 | I73: 29 | J73: =D73+G73 -> 46 | K73: =F73+I73 -> 163 | L73: =J73 -> 46
A74: NVD Rīgas nodaļa | B74: 010000104 | C74: DENTRA, Sabiedrība ar ierobežotu atbildību | D74: =F74*E74 -> 0.3 | E74: 0.3 | F74: 1 | J74: =D74+G74 -> 0.3 | K74: =F74+I74 -> 1 | L74: =J74 -> 0.3
A75: NVD Rīgas nodaļa | B75: 010000178 | C75: MELLER, Sabiedrība ar ierobežotu atbildību | D75: =F75*E75 -> 12 | E75: 0.3 | F75: 40 | G75: =I75*H75 -> 12.2 | H75: 0.2 | I75: 61 | J75: =D75+G75 -> 24.2 | K75: =F75+I75 -> 101 | L75: =J75 -> 24.2
A76: NVD Rīgas nodaļa | B76: 010000319 | C76: Dental.LV, Sabiedrība ar ierobežotu atbildību | D76: =F76*E76 -> 16.8 | E76: 0.3 | F76: 56 | G76: =I76*H76 -> 6.6 | H76: 0.2 | I76: 33 | J76: =D76+G76 -> 23.4 | K76: =F76+I76 -> 89 | L76: =J76 -> 23.4
A77: NVD Rīgas nodaļa | B77: 010000343 | C77: Adoria, Sabiedrība ar ierobežotu atbildību | D77: =F77*E77 -> 68.1 | E77: 0.3 | F77: 227 | G77: =I77*H77 -> 17 | H77: 0.2 | I77: 85 | J77: =D77+G77 -> 85.1 | K77: =F77+I77 -> 312 | L77: =J77 -> 85.1
A78: NVD Rīgas nodaļa | B78: 010000427 | C78: MENTAMED, Sabiedrība ar ierobežotu atbildību | D78: =F78*E78 -> 18.6 | E78: 0.3 | F78: 62 | G78: =I78*H78 -> 6 | H78: 0.2 | I78: 30 | J78: =D78+G78 -> 24.6 | K78: =F78+I78 -> 92 | L78: =J78 -> 24.6
A79: NVD Rīgas nodaļa | B79: 010000832 | C79: SMAIDS, SIA | D79: =F79*E79 -> 8.7 | E79: 0.3 | F79: 29 | G79: =I79*H79 -> 2.4 | H79: 0.2 | I79: 12 | J79: =D79+G79 -> 11.1 | K79: =F79+I79 -> 41 | L79: =J79 -> 11.1
A80: NVD Rīgas nodaļa | B80: 010001043 | C80: SANA LV, Sabiedrība ar ierobežotu atbildību | D80: =F80*E80 -> 6.9 | E80: 0.3 | F80: 23 | G80: =I80*H80 -> 0.6 | H80: 0.2 | I80: 3 | J80: =D80+G80 -> 7.5 | K80: =F80+I80 -> 26 | L80: =J80 -> 7.5
A81: NVD Rīgas nodaļa | B81: 010001054 | C81: LORADENT, Sabiedrība ar ierobežotu atbildību | D81: =F81*E81 -> 9 | E81: 0.3 | F81: 30 | G81: =I81*H81 -> 5.6 | H81: 0.2 | I81: 28 | J81: =D81+G81 -> 14.6 | K81: =F81+I81 -> 58 | L81: =J81 -> 14.6
A82: NVD Rīgas nodaļa | B82: 010001157 | C82: Dental4u, Sabiedrība ar ierobežotu atbildību | D82: =F82*E82 -> 15 | E82: 0.3 | F82: 50 | G82: =I82*H82 -> 3.4 | H82: 0.2 | I82: 17 | J82: =D82+G82 -> 18.4 | K82: =F82+I82 -> 67 | L82: =J82 -> 18.4
A83: NVD Rīgas nodaļa | B83: 010001180 | C83: Dr. Lūkass zobārstniecības prakse, Sabiedrība ar ierobežotu atbildību | G83: =I83*H83 -> 4.8 | H83: 0.2 | I83: 24 | J83: =D83+G83 -> 4.8 | K83: =F83+I83 -> 24 | L83: =J83 -> 4.8
A84: NVD Rīgas nodaļa | B84: 010001408 | C84: Čiekurkalna zobārstniecība, SIA | D84: =F84*E84 -> 1.8 | E84: 0.3 | F84: 6 | G84: =I84*H84 -> 3.8 | H84: 0.2 | I84: 19 | J84: =D84+G84 -> 5.6 | K84: =F84+I84 -> 25 | L84: =J84 -> 5.6
A85: NVD Rīgas nodaļa | B85: 010001409 | C85: ComfortDent, Sabiedrība ar ierobežotu atbildību | D85: =F85*E85 -> 3.6 | E85: 0.3 | F85: 12 | G85: =I85*H85 -> 4.2 | H85: 0.2 | I85: 21 | J85: =D85+G85 -> 7.8 | K85: =F85+I85 -> 33 | L85: =J85 -> 7.8
A86: NVD Rīgas nodaļa | B86: 010001411 | C86: ĀRSTNIECĪBAS REHABILITĀCIJAS CENTRS VALEO, Sabiedrība ar ierobežotu atbildību | D86: =F86*E86 -> 61.8 | E86: 0.3 | F86: 206 | G86: =I86*H86 -> 8 | H86: 0.2 | I86: 40 | J86: =D86+G86 -> 69.8 | K86: =F86+I86 -> 246 | L86: =J86 -> 69.8
A87: NVD Rīgas nodaļa | B87: 010001535 | C87: Rīgas veselības centrs, SIA | D87: =F87*E87 -> 174.3 | E87: 0.3 | F87: 581 | G87: =I87*H87 -> 81.6 | H87: 0.2 | I87: 408 | J87: =D87+G87 -> 255.9 | K87: =F87+I87 -> 989 | L87: =J87 -> 255.9
A88: NVD Rīgas nodaļa | B88: 010001714 | C88: Santadent, SIA | D88: =F88*E88 -> 18.6 | E88: 0.3 | F88: 62 | G88: =I88*H88 -> 15.8 | H88: 0.2 | I88: 79 | J88: =D88+G88 -> 34.4 | K88: =F88+I88 -> 141 | L88: =J88 -> 34.4
A89: NVD Rīgas nodaļa | B89: 010001873 | C89: LAPS, Sabiedrība ar ierobežotu atbildību | D89: =F89*E89 -> 56.7 | E89: 0.3 | F89: 189 | G89: =I89*H89 -> 28.2 | H89: 0.2 | I89: 141 | J89: =D89+G89 -> 84.9 | K89: =F89+I89 -> 330 | L89: =J89 -> 84.9
A90: NVD Rīgas nodaļa | B90: 010001881 | C90: KDent, SIA | D90: =F90*E90 -> 74.7 | E90: 0.3 | F90: 249 | J90: =D90+G90 -> 74.7 | K90: =F90+I90 -> 249 | L90: =J90 -> 74.7
A91: NVD Rīgas nodaļa | B91: 010001897 | C91: Liepiņa Rudīte - zobārsta prakse | D91: =F91*E91 -> 3.6 | E91: 0.3 | F91: 12 | G91: =I91*H91 -> 1 | H91: 0.2 | I91: 5 | J91: =D91+G91 -> 4.6 | K91: =F91+I91 -> 17 | L91: =J91 -> 4.6
A92: NVD Rīgas nodaļa | B92: 010001913 | C92: We care, SIA | D92: =F92*E92 -> 12.3 | E92: 0.3 | F92: 41 | G92: =I92*H92 -> 13.6 | H92: 0.2 | I92: 68 | J92: =D92+G92 -> 25.9 | K92: =F92+I92 -> 109 | L92: =J92 -> 25.9
A93: NVD Rīgas nodaļa | B93: 010001914 | C93: PERIODENT PLUS, Sabiedrība ar ierobežotu atbildību | D93: =F93*E93 -> 35.1 | E93: 0.3 | F93: 117 | G93: =I93*H93 -> 8.8 | H93: 0.2 | I93: 44 | J93: =D93+G93 -> 43.9 | K93: =F93+I93 -> 161 | L93: =J93 -> 43.9
A94: NVD Rīgas nodaļa | B94: 010001978 | C94: Dr. Artjomenko Dental Victory, SIA | D94: =F94*E94 -> 9.6 | E94: 0.3 | F94: 32 | G94: =I94*H94 -> 6 | H94: 0.2 | I94: 30 | J94: =D94+G94 -> 15.6 | K94: =F94+I94 -> 62 | L94: =J94 -> 15.6
A95: NVD Rīgas nodaļa | B95: 010011803 | C95: Paula Stradiņa klīniskā universitātes slimnīca, Valsts sabiedrība ar ierobežotu atbildību | D95: =F95*E95 -> 2.4 | E95: 0.3 | F95: 8 | J95: =D95+G95 -> 2.4 | K95: =F95+I95 -> 8 | L95: =J95 -> 2.4
A96: NVD Rīgas nodaļa | B96: 010019111 | C96: Rīgas Stradiņa universitātes Stomatoloģijas institūts, Sabiedrība ar ierobežotu atbildību | D96: =F96*E96 -> 784.8 | E96: 0.3 | F96: 2616 | G96: =I96*H96 -> 296.2 | H96: 0.2 | I96: 1481 | J96: =D96+G96 -> 1081 | K96: =F96+I96 -> 4097 | L96: =J96 -> 1081
A97: NVD Rīgas nodaļa | B97: 010020301 | C97: Rīgas 1. slimnīca, SIA | D97: =F97*E97 -> 406.8 | E97: 0.3 | F97: 1356 | G97: =I97*H97 -> 142.2 | H97: 0.2 | I97: 711 | J97: =D97+G97 -> 549 | K97: =F97+I97 -> 2067 | L97: =J97 -> 549
A98: NVD Rīgas nodaļa | B98: 010054114 | C98: DZELZCEĻA VESELĪBAS CENTRS, Sabiedrība ar ierobežotu atbildību | D98: =F98*E98 -> 8.7 | E98: 0.3 | F98: 29 | G98: =I98*H98 -> 0.2 | H98: 0.2 | I98: 1 | J98: =D98+G98 -> 8.9 | K98: =F98+I98 -> 30 | L98: =J98 -> 8.9
A99: NVD Rīgas nodaļa | B99: 010054211 | C99: VESELĪBAS CENTRS BIĶERNIEKI, Sabiedrība ar ierobežotu atbildību | D99: =F99*E99 -> 44.7 | E99: 0.3 | F99: 149 | G99: =I99*H99 -> 20.4 | H99: 0.2 | I99: 102 | J99: =D99+G99 -> 65.1 | K99: =F99+I99 -> 251 | L99: =J99 -> 65.1
A100: NVD Rīgas nodaļa | B100: 010064013 | C100: ĢIMENES ĀRSTA ANDRA LASMAŅA KLĪNIKA "ALMA", Sabiedrība ar ierobežotu atbildību | D100: =F100*E100 -> 8.7 | E100: 0.3 | F100: 29 | G100: =I100*H100 -> 4.4 | H100: 0.2 | I100: 22 | J100: =D100+G100 -> 13.1 | K100: =F100+I100 -> 51 | L100: =J100 -> 13.1
...

Sheet IAL_manip_SAVA
G1: Pielikums Nr.32 Ministru kabineta rīkojuma "Ministru kabineta rīkojuma "Par finanšu līdzekļu apropriācijas pārdali no budžeta resora ''74. Gadskārtējā valsts budžeta izpildes procesā pārdalāmais finansējums'' valsts budžeta programmas 12.00.00 ''Finansējums veselības jomas pasākumiem Covid-19 infekcijas izplatības ierobežošanai"" projekta sākotnējās ietekmes novērtējuma ziņojumam (anotācijai)
A2: Veiktais darbs 2023.gada jūnija rēķinā par IAL manipulācijām SAVA:
A3: (60160 - Individuālo aizsardzības līdzekļu izmaksas viena COVID-19 pacienta aprūpei; 60161 - Individuālo aizsardzības līdzekļu izmaksas COVID-19 pacientu aprūpei ambulatoro pakalpojumu nodrošināšanai ārstniecības iestādē; 60166 - Piemaksa SAVA speciālistiem par laiku un individuālajiem aizsardzības līdzekļiem epidemioloģiskās drošības pasākumu nodrošināšanai ambulatoro veselības aprūpes pakalpojumu nodrošināšanai; 60167 - Piemaksa gultas dienai par laiku un individuālajiem aizsardzības līdzekļiem epidemioloģiskās drošības pasākumu nodrošināšanu rehabilitācijas un psihiatriskā profila dienas stacionāros ambulatorajās ārstniecības iestādēs; 60168 - Piemaksa par laiku un individuālajiem aizsardzības līdzekļiem epidemioloģiskās drošības pasākumu nodrošināšanai ārstniecības un pacientu aprūpes personām un funkcionālo speciālistu asistentiem ambulatoro veselības aprūpes pakalpojumu nodrošināšanai)
G5: =ROUNDUP(G7,0) -> 147484 | I5: =ROUNDUP(I7,0) -> 146693 | J5: =ROUNDUP(J7,0) -> 791
B6: NVD TN | C6: Ārstniecības iestādes kods | D6: Ārstniecības iestādes nosaukums | E6: Manipulācijas kods | F6: Manipulāciju tarifs, euro | G6: Pakalpojumu summa kopā, euro | H6: Manipulāciju skaits kopā | I6: EKK 3000 | J6: EKK 7460
G7: =SUM(G8:G467) -> 147483.46 | H7: =SUM(H8:H467) -> 509961 | I7: =SUM(I8:I467) -> 146692.46 | J7: =SUM(J8:J467) -> 791
B8: NVD Zemgales nodaļa | C8: 460200043 | D8: I. Muzikantes ārsta prakse, SIA | E8: 60160 | F8: 8.67 | G8: =F8*H8 -> 8.67 | H8: 1 | I8: =G8 -> 8.67
B9: NVD Zemgales nodaļa | C9: 740200008 | D9: Ogres rajona slimnīca, Sabiedrība ar ierobežotu atbildību | E9: 60160 | F9: 8.67 | G9: =F9*H9 -> 8.67 | H9: 1 | I9: =G9 -> 8.67
B10: NVD Kurzemes nodaļa | C10: 170024104 | D10: JAUNLIEPĀJAS PRIMĀRĀS VESELĪBAS APRŪPES CENTRS, Sabiedrība ar ierobežotu atbildību | E10: 60161 | F10: 0.36 | G10: =F10*H10 -> 0.72 | H10: 2 | I10: =G10 -> 0.72
B11: NVD Rīgas nodaļa | C11: 010000234 | D11: Rīgas Austrumu klīniskā universitātes slimnīca, SIA | E11: 60161 | F11: 0.36 | G11: =F11*H11 -> 0.72 | H11: 2 | I11: =G11 -> 0.72
B12: NVD Rīgas nodaļa | C12: 010011803 | D12: Paula Stradiņa klīniskā universitātes slimnīca, Valsts sabiedrība ar ierobežotu atbildību | E12: 60161 | F12: 0.36 | G12: =F12*H12 -> 0.36 | H12: 1 | I12: =G12 -> 0.36
B13: NVD Vidzemes nodaļa | C13: 420200052 | D13: CĒSU KLĪNIKA, Sabiedrība ar ierobežotu atbildību | E13: 60161 | F13: 0.36 | G13: =F13*H13 -> 1.08 | H13: 3 | I13: =G13 -> 1.08
B14: NVD Kurzemes nodaļa | C14: 170000005 | D14: LENS-L, SIA | E14: 60166 | F14: 0.3 | G14: =F14*H14 -> 26.4 | H14: 88 | I14: =G14 -> 26.4
B15: NVD Kurzemes nodaļa | C15: 170000007 | D15: Smirnova Jevgeņija - ārsta prakse oftalmoloģijā | E15: 60166 | F15: 0.3 | G15: =F15*H15 -> 30.6 | H15: 102 | I15: =G15 -> 30.6
B16: NVD Kurzemes nodaļa | C16: 170000010 | D16: Vēvere Inga - ārsta prakse ginekoloģijā, dzemdniecībā | E16: 60166 | F16: 0.3 | G16: =F16*H16 -> 70.8 | H16: 236 | I16: =G16 -> 70.8
B17: NVD Kurzemes nodaļa | C17: 170000043 | D17: Krieviņa Sigita - ārsta prakse ginekoloģijā, dzemdniecībā | E17: 60166 | F17: 0.3 | G17: =F17*H17 -> 11.7 | H17: 39 | I17: =G17 -> 11.7
B18: NVD Kurzemes nodaļa | C18: 170000089 | D18: Lapšāne Evita - ārsta prakse ginekoloģijā, dzemdniecībā | E18: 60166 | F18: 0.3 | G18: =F18*H18 -> 41.7 | H18: 139 | I18: =G18 -> 41.7
B19: NVD Kurzemes nodaļa | C19: 170000162 | D19: Pavlovska Ina - ārsta prakse otolaringoloģijā | E19: 60166 | F19: 0.3 | G19: =F19*H19 -> 42.6 | H19: 142 | I19: =G19 -> 42.6
... B108: NVD Latgales nodaļa | C108: 600200001 | D108: Krāslavas slimnīca, Sabiedrība ar ierobežotu atbildību | E108: 60166 | F108: 0.3 | G108: =F108*H108 -> 926.1 | H108: 3087 | I108: =G108 -> 926.1
B109: NVD Latgales nodaļa | C109: 601000001 | D109: Krāslavas novada Veselības un sociālo pakalpojumu centrs "Dagda" | E109: 60166 | F109: 0.3 | G109: =F109*H109 -> 276.3 | H109: 921 | J109: =G109 -> 276.3
B110: NVD Latgales nodaļa | C110: 601000008 | D110: Meļņikova Tatjana -ārsta prakse oftalmoloģijā | E110: 60166 | F110: 0.3 | G110: =F110*H110 -> 163.8 | H110: 546 | I110: =G110 -> 163.8
B111: NVD Latgales nodaļa | C111: 680200001 | D111: Zaharenoks Valerijs - ārsta prakse neiroloģijā | E111: 60166 | F111: 0.3 | G111: =F111*H111 -> 85.8 | H111: 286 | I111: =G111 -> 85.8
B112: NVD Latgales nodaļa | C112: 680200009 | D112: INSAITS A, Sabiedrība ar ierobežotu atbildību | E112: 60166 | F112: 0.3 | G112: =F112*H112 -> 29.4 | H112: 98 | I112: =G112 -> 29.4
B113: NVD Latgales nodaļa | C113: 680200030 | D113: Ludzas medicīnas centrs, Sabiedrība ar ierobežotu atbildību | E113: 60166 | F113: 0.3 | G113: =F113*H113 -> 1026 | H113: 3420 | I113: =G113 -> 1026
B114: NVD Latgales nodaļa | C114: 680200034 | D114: Rogale Nadežda - ārsta prakse oftalmoloģijā | E114: 60166 | F114: 0.3 | G114: =F114*H114 -> 97.5 | H114: 325 | I114: =G114 -> 97.5
B115: NVD Latgales nodaļa | C115: 681000002 | D115: Kārsavas slimnīca, Sabiedrība ar ierobežotu atbildību | E115: 60166 | F115: 0.3 | G115: =F115*H115 -> 132 | H115: 440 | I115: =G115 -> 132
B116: NVD Latgales nodaļa | C116: 760200002 | D116: Preiļu slimnīca, Sabiedrība ar ierobežotu atbildību | E116: 60166 | F116: 0.3 | G116: =F116*H116 -> 960.9 | H116: 3203 | I116: =G116 -> 960.9
B117: NVD Latgales nodaļa | C117: 760200003 | D117: LĀZERS, Sabiedrība ar ierobežotu atbildību | E117: 60166 | F117: 0.3 | G117: =F117*H117 -> 130.8 | H117: 436 | I117: =G117 -> 130.8
B118: NVD Latgales nodaļa | C118: 760200020 | D118: Lācis Jānis - ārsta prakse ķirurģijā un traumatoloģijā, ortopēdijā | E118: 60166 | F118: 0.3 | G118: =F118*H118 -> 111.3 | H118: 371 | I118: =G118 -> 111.3
B119: NVD Latgales nodaļa | C119: 760200024 | D119: Petrāne Valentīna - ārsta prakse otolaringoloģijā | E119: 60166 | F119: 0.3 | G119: =F119*H119 -> 41.4 | H119: 138 | I119: =G119 -> 41.4
B120: NVD Latgales nodaļa | C120: 760200025 | D120: Katkevičs Valdis - ārsta prakse psihiatrijā un neiroloģijā | E120: 60166 | F120: 0.3 | G120: =F120*H120 -> 99.6 | H120: 332 | I120: =G120 -> 99.6
B121: NVD Latgales nodaļa | C121: 761200001 | D121: Līvānu slimnīca, Līvānu novada domes pašvaldības sabiedrība ar ierobežotu atbildību | E121: 60166 | F121: 0.3 | G121: =F121*H121 -> 272.4 | H121: 908 | I121: =G121 -> 272.4
... B123: NVD Latgales nodaļa | C123: 780200005 | D123: REHABILITĀCIJAS CENTRS "RĀZNA", Sabiedrība ar ierobežotu atbildību | E123: 60166 | F123: 0.3 | G123: =F123*H123 -> 202.8 | H123: 676 | I123: =G123 -> 202.8
B124: NVD Latgales nodaļa | C124: 781800005 | D124: Veselības un sociālās aprūpes centrs "Viļāni" | E124: 60166 | F124: 0.3 | G124: =F124*H124 -> 89.1 | H124: 297 | J124: =G124 -> 89.1
B125: NVD Rīgas nodaļa | C125: 001000014 | D125: Marutas Alsbergas ārsta prakse oftalmoloģijā, Sabiedrība ar ierobežotu atbildību | E125: 60166 | F125: 0.3 | G125: =F125*H125 -> 88.5 | H125: 295 | I125: =G125 -> 88.5
B126: NVD Rīgas nodaļa | C126: 001000017 | D126: Rasmas Kalniņas ārsta prakse oftalmoloģijā, Sabiedrība ar ierobežotu atbildību | E126: 60166 | F126: 0.3 | G126: =F126*H126 -> 68.4 | H126: 228 | I126: =G126 -> 68.4
B127: NVD Rīgas nodaļa | C127: 010000032 | D127: QUARTUS, Sabiedrība ar ierobežotu atbildību | E127: 60166 | F127: 0.3 | G127: =F127*H127 -> 56.1 | H127: 187 | I127: =G127 -> 56.1
B128: NVD Rīgas nodaļa | C128: 010000033 | D128: DETOX, Sabiedrība ar ierobežotu atbildību | E128: 60166 | F128: 0.3 | G128: =F128*H128 -> 2.1 | H128: 7 | I128: =G128 -> 2.1
B129: NVD Rīgas nodaļa | C129: 010000058 | D129: MED ALFA, Sabiedrība ar ierobežotu atbildību | E129: 60166 | F129: 0.3 | G129: =F129*H129 -> 177 | H129: 590 | I129: =G129 -> 177
B130: NVD Rīgas nodaļa | C130: 010000214 | D130: Diabēta centrs, SIA | E130: 60166 | F130: 0.3 | G130: =F130*H130 -> 85.8 | H130: 286 | I130: =G130 -> 85.8
B131: NVD Rīgas nodaļa | C131: 010000234 | D131: Rīgas Austrumu klīniskā universitātes slimnīca, SIA | E131: 60166 | F131: 0.3 | G131: =F131*H131 -> 12306.9 | H131: 41023 | I131: =G131 -> 12306.9
B132: NVD Rīgas nodaļa | C132: 010000289 | D132: ULTRA EXPRESS, SIA | E132: 60166 | F132: 0.3 | G132: =F132*H132 -> 210.3 | H132: 701 | I132: =G132 -> 210.3
B133: NVD Rīgas nodaļa | C133: 010000310 | D133: Zābere Lauma - ārsta prakse kardioloģijā | E133: 60166 | F133: 0.3 | G133: =F133*H133 -> 69.3 | H133: 231 | I133: =G133 -> 69.3
B134: NVD Rīgas nodaļa | C134: 010000316 | D134: Tamane Sandra - ārsta prakse ārsta prakse ginekoloģijā, dzemdniecībā | E134: 60166 | F134: 0.3 | G134: =F134*H134 -> 2.7 | H134: 9 | I134: =G134 -> 2.7
B135: NVD Rīgas nodaļa | C135: 010000323 | D135: Lejniece Sarmīte - ārsta prakse ginekoloģijā, dzemdniecībā | E135: 60166 | F135: 0.3 | G135: =F135*H135 -> 5.4 | H135: 18 | I135: =G135 -> 5.4
B136: NVD Rīgas nodaļa | C136: 010000326 | D136: Ārstu prakse "SAULESPUĶE", Sabiedrība ar ierobežotu atbildību | E136: 60166 | F136: 0.3 | G136: =F136*H136 -> 10.5 | H136: 35 | I136: =G136 -> 10.5
... B224: NVD Rīgas nodaļa | C224: 800800007 | D224: Ozola Guna - ārsta prakse oftalmoloģijā | E224: 60166 | F224: 0.3 | G224: =F224*H224 -> 34.8 | H224: 116 | I224: =G224 -> 34.8
B225: NVD Rīgas nodaļa | C225: 800800015 | D225: Ķekavas ambulance, Pašvaldības aģentūra | E225: 60166 | F225: 0.3 | G225: =F225*H225 -> 41.1 | H225: 137 | J225: =G225 -> 41.1
B226: NVD Rīgas nodaļa | C226: 800800027 | D226: R.D. doktorāts, SIA | E226: 60166 | F226: 0.3 | G226: =F226*H226 -> 5.7 | H226: 19 | I226: =G226 -> 5.7
B227: NVD Rīgas nodaļa | C227: 801000001 | D227: Jūlijas Jurgaitītes ārsta prakse ginekoloģijā un dzemdniecībā, Sabiedrība ar ierobežotu atbildību | E227: 60166 | F227: 0.3 | G227: =F227*H227 -> 41.7 | H227: 139 | I227: =G227 -> 41.7
B228: NVD Rīgas nodaļa | C228: 801000013 | D228: OlainMed, Sabiedrība ar ierobežotu atbildību | E228: 60166 | F228: 0.3 | G228: =F228*H228 -> 227.4 | H228: 758 | I228: =G228 -> 227.4
B229: NVD Rīgas nodaļa | C229: 801200001 | D229: Salaspils veselības centrs, Sabiedrība ar ierobežotu atbildību | E229: 60166 | F229: 0.3 | G229: =F229*H229 -> 1039.2 | H229: 3464 | I229: =G229 -> 1039.2
B230: NVD Rīgas nodaļa | C230: 801400002 | D230: Saulkrastu veselības un sociālās aprūpes centrs, Pašvaldības aģentūra | E230: 60166 | F230: 0.3 | G230: =F230*H230 -> 147.3 | H230: 491 | J230: =G230 -> 147.3
B231: NVD Rīgas nodaļa | C231: 801400007 | D231: Agritas Mickevičas ārsta prakse ginekoloģijā un dzemdniecībā, Sabiedrība ar ierobežotu atbildību | E231: 60166 | F231: 0.3 | G231: =F231*H231 -> 71.1 | H231: 237 | I231: =G231 -> 71.1
B232: NVD Rīgas nodaļa | C232: 801600003 | D232: Siguldas slimnīca, SIA | E232: 60166 | F232: 0.3 | G232: =F232*H232 -> 719.1 | H232: 2397 | I232: =G232 -> 719.1
B233: NVD Rīgas nodaļa | C233: 801600009 | D233: I.B., Sabiedrība ar ierobežotu atbildību | E233: 60166 | F233: 0.3 | G233: =F233*H233 -> 250.2 | H233: 834 | I233: =G233 -> 250.2
B234: NVD Rīgas nodaļa | C234: 801600020 | D234: Vanaga Anita - ārsta prakse ginekoloģijā, dzemdniecībā | E234: 60166 | F234: 0.3 | G234: =F234*H234 -> 11.4 | H234: 38 | I234: =G234 -> 11.4
B235: NVD Rīgas nodaļa | C235: 801600021 | D235: Vucāne Silvija - ārsta prakse ginekoloģijā, dzemdniecībā | E235: 60166 | F235: 0.3 | G235: =F235*H235 -> 29.7 | H235: 99 | I235: =G235 -> 29.7
B236: NVD Rīgas nodaļa | C236: 801600025 | D236: Rudzīte Inga - ārsta prakse otolaringoloģijā | E236: 60166 | F236: 0.3 | G236: =F236*H236 -> 53.7 | H236: 179 | I236: =G236 -> 53.7
B237: NVD Rīgas nodaļa | C237: 801600026 | D237: Strade Māra -ārsta prakse ginekoloģijā, dzemdniecībā | E237: 60166 | F237: 0.3 | G237: =F237*H237 -> 73.8 | H237: 246 | I237: =G237 -> 73.8
B238: NVD Rīgas nodaļa | C238: 801600029 | D238: Kārkliņa Inguna - ārsta prakse oftalmoloģijā | E238: 60166 | F238: 0.3 | G238: =F238*H238 -> 41.4 | H238: 138 | I238: =G238 -> 41.4
B239: NVD Rīgas nodaļa | C239: 804435102 | D239: Ādažu slimnīca, Pašvaldības sabiedrība ar ierobežotu atbildību | E239: 60166 | F239: 0.3 | G239: =F239*H239 -> 613.2 | H239: 2044 | I239: =G239 -> 613.2
B240: NVD Rīgas nodaļa | C240: 806012001 | D240: Balt Aliance, Sabiedrība ar ierobežotu atbildību | E240: 60166 | F240: 0.3 | G240: =F240*H240 -> 117.6 | H240: 392 | I240: =G240 -> 117.6
B241: NVD Vidzemes nodaļa | C241: 250000021 | D241: Sandras Dunkures ārsta prakse oftalmoloģijā, SIA | E241: 60166 | F241: 0.3 | G241: =F241*H241 -> 49.8 | H241: 166 | I241: =G241 -> 49.8
B242: NVD Vidzemes nodaļa | C242: 250000023 | D242: I.GRUNDMANES APO, SIA | E242: 60166 | F242: 0.3 | G242: =F242*H242 -> 58.5 | H242: 195 | I242: =G242 -> 58.5
... B277: NVD Vidzemes nodaļa | C277: 700800009 | D277: Salvere IR, Sabiedrība ar ierobežotu atbildību | E277: 60166 | F277: 0.3 | G277: =F277*H277 -> 64.2 | H277: 214 | I277: =G277 -> 64.2
B278: NVD Vidzemes nodaļa | C278: 701400002 | D278: Lubānas Sociālās aprūpes centrs, Madonas novada Lubānas apvienības pārvalde | E278: 60166 | F278: 0.3 | G278: =F278*H278 -> 8.7 | H278: 29 | J278: =G278 -> 8.7
B279: NVD Vidzemes nodaļa | C279: 701800002 | D279: Varakļānu veselības aprūpes centrs, SIA | E279: 60166 | F279: 0.3 | G279: =F279*H279 -> 117.9 | H279: 393 | I279: =G279 -> 117.9
B280: NVD Vidzemes nodaļa | C280: 705500004 | D280: Ērgļu slimnīca, Ērgļu pašvaldības sabiedrība ar ierobežotu atbildību | E280: 60166 | F280: 0.3 | G280: =F280*H280 -> 62.4 | H280: 208 | I280: =G280 -> 62.4
B281: NVD Vidzemes nodaļa | C281: 705500009 | D281: AURIS, Madonas rajona D.Kalves individuālais uzņēmums | E281: 60166 | F281: 0.3 | G281: =F281*H281 -> 63.9 | H281: 213 | I281: =G281 -> 63.9
B282: NVD Vidzemes nodaļa | C282: 940200005 | D282: Točs Oskars - ārsta prakse neiroloģijā | E282: 60166 | F282: 0.3 | G282: =F282*H282 -> 56.4 | H282: 188 | I282: =G282 -> 56.4
B283: NVD Vidzemes nodaļa | C283: 940200008 | D283: ARIANDA GRĪNVALDE ĀRSTA PRAKSE PSIHIATRIJĀ, IK | E283: 60166 | F283: 0.3 | G283: =F283*H283 -> 164.4 | H283: 548 | I283: =G283 -> 164.4
B284: NVD Vidzemes nodaļa | C284: 940200010 | D284: Batalauska Vija - ārsta prakse ginekoloģijā, dzemdniecībā | E284: 60166 | F284: 0.3 | G284: =F284*H284 -> 12.3 | H284: 41 | I284: =G284 -> 12.3
B285: NVD Vidzemes nodaļa | C285: 941600009 | D285: Galīte Solveiga -acu ārsta prakse | E285: 60166 | F285: 0.3 | G285: =F285*H285 -> 65.4 | H285: 218 | I285: =G285 -> 65.4
B286: NVD Vidzemes nodaļa | C286: 941600020 | D286: Sarkanā Krusta Smiltenes slimnīca, SIA | E286: 60166 | F286: 0.3 | G286: =F286*H286 -> 504 | H286: 1680 | I286: =G286 -> 504
B287: NVD Vidzemes nodaļa | C287: 941800004 | D287: Strenču psihoneiroloģiskā slimnīca, Valsts sabiedrība ar ierobežotu atbildību | E287: 60166 | F287: 0.3 | G287: =F287*H287 -> 202.2 | H287: 674 | I287: =G287 -> 202.2
B288: NVD Vidzemes nodaļa | C288: 961600006 | D288: J.TRALMAKA UN A.TRALMAKAS ĀRSTA PRAKSE, Sabiedrība ar ierobežotu atbildību | E288: 60166 | F288: 0.3 | G288: =F288*H288 -> 57.9 | H288: 193 | I288: =G288 -> 57.9
B289: NVD Vidzemes nodaļa | C289: 961600013 | D289: Radziņš Māris - ārsta prakse ķirurģijā | E289: 60166 | F289: 0.3 | G289: =F289*H289 -> 0.3 | H289: 1 | I289: =G289 -> 0.3
B290: NVD Zemgales nodaļa | C290: 090000019 | D290: Dialīzes centrs, Sabiedrība ar ierobežotu atbildību | E290: 60166 | F290: 0.3 | G290: =F290*H290 -> 279.3 | H290: 931 | I290: =G290 -> 279.3
... B313: NVD Zemgales nodaļa | C313: 400200024 | D313: Bauskas slimnīca, SIA | E313: 60166 | F313: 0.3 | G313: =F313*H313 -> 924.6 | H313: 3082 | I313: =G313 -> 924.6
B314: NVD Zemgales nodaļa | C314: 406435102 | D314: Iecavas veselības centrs, Pašvaldības aģentūra | E314: 60166 | F314: 0.3 | G314: =F314*H314 -> 147 | H314: 490 | J314: =G314 -> 147
B315: NVD Zemgales nodaļa | C315: 460200027 | D315: Mirdzas Siliņas ārsta prakse, SIA | E315: 60166 | F315: 0.3 | G315: =F315*H315 -> 52.2 | H315: 174 | I315: =G315 -> 52.2
B316: NVD Zemgales nodaļa | C316: 460200036 | D316: Dobeles un apkārtnes slimnīca, SIA | E316: 60166 | F316: 0.3 | G316: =F316*H316 -> 656.4 | H316: 2188 | I316: =G316 -> 656.4
B317: NVD Zemgales nodaļa | C317: 460200042 | D317: Rūde Iveta - ārsta prakse narkoloģijā un psihiatrijā | E317: 60166 | F317: 0.3 | G317: =F317*H317 -> 82.5 | H317: 275 | I317: =G317 -> 82.5
B318: NVD Zemgales nodaļa | C318: 460200043 | D318: I. Muzikantes ārsta prakse, SIA | E318: 60166 | F318: 0.3 | G318: =F318*H318 -> 57.6 | H318: 192 | I318: =G318 -> 57.6
B319: NVD Zemgales nodaļa | C319: 468900005 | D319: Rehabilitācijas centrs "Tērvete", Sabiedrība ar ierobežotu atbildību | E319: 60166 | F319: 0.3 | G319: =F319*H319 -> 255 | H319: 850 | I319: =G319 -> 255
B320: NVD Zemgales nodaļa | C320: 740200008 | D320: Ogres rajona slimnīca, Sabiedrība ar ierobežotu atbildību | E320: 60166 | F320: 0.3 | G320: =F320*H320 -> 1426.2 | H320: 4754 | I320: =G320 -> 1426.2
B321: NVD Zemgales nodaļa | C321: 740200012 | D321: Pajumte B.V, SIA | E321: 60166 | F321: 0.3 | G321: =F321*H321 -> 3.3 | H321: 11 | I321: =G321 -> 3.3
B322: NVD Zemgales nodaļa | C322: 740200018 | D322: Ausmas Balodes ģimenes ārsta doktorāts, Sabiedrība ar ierobežotu atbildību | E322: 60166 | F322: 0.3 | G322: =F322*H322 -> 3 | H322: 10 | I322: =G322 -> 3
B323: NVD Zemgales nodaļa | C323: 740200041 | D323: LIJAS MORAS ĀRSTA PRAKSE, SIA | E323: 60166 | F323: 0.3 | G323: =F323*H323 -> 23.1 | H323: 77 | I323: =G323 -> 23.1
B324: NVD Zemgales nodaļa | C324: 740200049 | D324: Daces Teterovskas ārsta prakse endokrinoloģijā, Sabiedrība ar ierobežotu atbildību | E324: 60166 | F324: 0.3 | G324: =F324*H324 -> 111 | H324: 370 | I324: =G324 -> 111
B325: NVD Zemgales nodaļa | C325: 741400012 | D325: Ruzhylo Roman - ārsta prakse oftalmoloģijā | E325: 60166 | F325: 0.3 | G325: =F325*H325 -> 31.5 | H325: 105 | I325: =G325 -> 31.5
B326: NVD Zemgales nodaļa | C326: 741400013 | D326: Melkerte Iveta - ārsta prakse otorinolaringoloģijā | E326: 60166 | F326: 0.3 | G326: =F326*H326 -> 22.5 | H326: 75 | I326: =G326 -> 22.5
... B388: NVD Latgales nodaļa | C388: 600200001 | D388: Krāslavas slimnīca, Sabiedrība ar ierobežotu atbildību | E388: 60168 | F388: 0.2 | G388: =F388*H388 -> 109 | H388: 545 | I388: =G388 -> 109
B389: NVD Latgales nodaļa | C389: 601000001 | D389: Krāslavas novada Veselības un sociālo pakalpojumu centrs "Dagda" | E389: 60168 | F389: 0.2 | G389: =F389*H389 -> 16.2 | H389: 81 | J389: =G389 -> 16.2
B390: NVD Latgales nodaļa | C390: 680200030 | D390: Ludzas medicīnas centrs, Sabiedrība ar ierobežotu atbildību | E390: 60168 | F390: 0.2 | G390: =F390*H390 -> 37.6 | H390: 188 | I390: =G390 -> 37.6
B391: NVD Latgales nodaļa | C391: 760200002 | D391: Preiļu slimnīca, Sabiedrība ar ierobežotu atbildību | E391: 60168 | F391: 0.2 | G391: =F391*H391 -> 40.6 | H391: 203 | I391: =G391 -> 40.6
B392: NVD Latgales nodaļa | C392: 780200005 | D392: REHABILITĀCIJAS CENTRS "RĀZNA", Sabiedrība ar ierobežotu atbildību | E392: 60168 | F392: 0.2 | G392: =F392*H392 -> 14 | H392: 70 | I392: =G392 -> 14
B393: NVD Latgales nodaļa | C393: 781800005 | D393: Veselības un sociālās aprūpes centrs "Viļāni" | E393: 60168 | F393: 0.2 | G393: =F393*H393 -> 11.2 | H393: 56 | J393: =G393 -> 11.2
B394: NVD Rīgas nodaļa | C394: 010000234 | D394: Rīgas Austrumu klīniskā universitātes slimnīca, SIA | E394: 60168 | F394: 0.2 | G394: =F394*H394 -> 489.8 | H394: 2449 | I394: =G394 -> 489.8
...

Sheet IAL_mājas_apr
H1: Pielikums Nr.33 Ministru kabineta rīkojuma "Ministru kabineta rīkojuma "Par finanšu līdzekļu apropriācijas pārdali no budžeta resora ''74. Gadskārtējā valsts budžeta izpildes procesā pārdalāmais finansējums'' valsts budžeta programmas 12.00.00 ''Finansējums veselības jomas pasākumiem Covid-19 infekcijas izplatības ierobežošanai"" projekta sākotnējās ietekmes novērtējuma ziņojumam (anotācijai)
A2: Veiktais darbs 2023.gada jūnija rēķinā par IAL manipulācijām veselības aprūpei mājās:
A3: (60169 - Individuālo aizsardzības līdzekļu izmaksas ārstniecības personai par veselības aprūpes pakalpojumu nodrošināšanu mājās)
G4: =ROUND(G6,0) -> 13997 | I4: =ROUND(I6,0) -> 13936 | J4: =ROUND(J6,0) -> 61
B5: NVD TN | C5: Ārstniecības iestādes kods | D5: Ārstniecības iestādes nosaukums | E5: Manipulācijas kods | F5: Manipulāciju tarifs, euro | G5: Pakalpojumu summa kopā, euro | H5: Manipulāciju skaits kopā | I5: EKK 3000 | J5: EKK 7460
B6: Kopā | G6: =SUM(G7:G80) -> 13996.8 | H6: =SUM(H7:H80) -> 15552 | I6: =SUM(I7:I80) -> 13935.6 | J6: =SUM(J7:J80) -> 61.2
B7: NVD Kurzemes nodaļa | C7: 170000161 | D7: DIŽVANAGI, Biedrība | E7: 60169 | F7: 0.9 | G7: =F7*H7 -> 79.2 | H7: 88 | I7: =G7 -> 79.2
B8: NVD Kurzemes nodaļa | C8: 170020401 | D8: LIEPĀJAS REĢIONĀLĀ SLIMNĪCA, Sabiedrība ar ierobežotu atbildību | E8: 60169 | F8: 0.9 | G8: =F8*H8 -> 812.7 | H8: 903 | I8: =G8 -> 812.7
B9: NVD Kurzemes nodaļa | C9: 170024104 | D9: JAUNLIEPĀJAS PRIMĀRĀS VESELĪBAS APRŪPES CENTRS, Sabiedrība ar ierobežotu atbildību | E9: 60169 | F9: 0.9 | G9: =F9*H9 -> 374.4 | H9: 416 | I9: =G9 -> 374.4
B10: NVD Kurzemes nodaļa | C10: 270020302 | D10: Ziemeļkurzemes reģionālā slimnīca, SIA | E10: 60169 | F10: 0.9 | G10: =F10*H10 -> 935.1 | H10: 1039 | I10: =G10 -> 935.1
B11: NVD Kurzemes nodaļa | C11: 270024101 | D11: Ventspils poliklīnika, Pašvaldības SIA | E11: 60169 | F11: 0.9 | G11: =F11*H11 -> 80.1 | H11: 89 | I11: =G11 -> 80.1
B12: NVD Kurzemes nodaļa | C12: 620200013 | D12: RŪTAS EGLĪTES ĢIMENES ĀRSTA PRAKSE, SIA | E12: 60169 | F12: 0.9 | G12: =F12*H12 -> 34.2 | H12: 38 | I12: =G12 -> 34.2
B13: NVD Kurzemes nodaļa | C13: 641600001 | D13: PRIEKULES SLIMNĪCA, SIA | E13: 60169 | F13: 0.9 | G13: =F13*H13 -> 36 | H13: 40 | I13: =G13 -> 36
B14: NVD Kurzemes nodaļa | C14: 641600005 | D14: Leimane Daiga - ģimenes ārsta un kardiologa prakse | E14: 60169 | F14: 0.9 | G14: =F14*H14 -> 18 | H14: 20 | I14: =G14 -> 18
B15: NVD Kurzemes nodaļa | C15: 840200047 | D15: Saldus medicīnas centrs, Sabiedrība ar ierobežotu atbildību | E15: 60169 | F15: 0.9 | G15: =F15*H15 -> 214.2 | H15: 238 | I15: =G15 -> 214.2
B16: NVD Kurzemes nodaļa | C16: 840200059 | D16: DRUVAS DOKTORĀTS, SIA | E16: 60169 | F16: 0.9 | G16: =F16*H16 -> 18 | H16: 20 | I16: =G16 -> 18
B17: NVD Kurzemes nodaļa | C17: 880200016 | D17: TALSU VESELĪBAS CENTRS, SIA | E17: 60169 | F17: 0.9 | G17: =F17*H17 -> 143.1 | H17: 159 | I17: =G17 -> 143.1
B18: NVD Kurzemes nodaļa | C18: 880200021 | D18: Andas Mellenbergas ārsta prakse, Sabiedrība ar ierobežotu atbildību | E18: 60169 | F18: 0.9 | G18: =F18*H18 -> 3.6 | H18: 4 | I18: =G18 -> 3.6
... B31: NVD Latgales nodaļa | C31: 600200001 | D31: Krāslavas slimnīca, Sabiedrība ar ierobežotu atbildību | E31: 60169 | F31: 0.9 | G31: =F31*H31 -> 146.7 | H31: 163 | I31: =G31 -> 146.7
B32: NVD Latgales nodaļa | C32: 601000001 | D32: Krāslavas novada Veselības un sociālo pakalpojumu centrs "Dagda" | E32: 60169 | F32: 0.9 | G32: =F32*H32 -> 16.2 | H32: 18 | J32: =G32 -> 16.2
B33: NVD Latgales nodaļa | C33: 601000021 | D33: OLGAS GOLUBES ĢIMENES ĀRSTA PRAKSE, Sabiedrība ar ierobežotu atbildību | E33: 60169 | F33: 0.9 | G33: =F33*H33 -> 20.7 | H33: 23 | I33: =G33 -> 20.7
B34: NVD Latgales nodaļa | C34: 680200030 | D34: Ludzas medicīnas centrs, Sabiedrība ar ierobežotu atbildību | E34: 60169 | F34: 0.9 | G34: =F34*H34 -> 233.1 | H34: 259 | I34: =G34 -> 233.1
B35: NVD Latgales nodaļa | C35: 760200002 | D35: Preiļu slimnīca, Sabiedrība ar ierobežotu atbildību | E35: 60169 | F35: 0.9 | G35: =F35*H35 -> 93.6 | H35: 104 | I35: =G35 -> 93.6
B36: NVD Latgales nodaļa | C36: 760200029 | D36: SIMEDA, SIA | E36: 60169 | F36: 0.9 | G36: =F36*H36 -> 165.6 | H36: 184 | I36: =G36 -> 165.6
B37: NVD Latgales nodaļa | C37: 781800005 | D37: Veselības un sociālās aprūpes centrs "Viļāni" | E37: 60169 | F37: 0.9 | G37: =F37*H37 -> 45 | H37: 50 | J37: =G37 -> 45
B38: NVD Rīgas nodaļa | C38: 010000130 | D38: Kozaka Nataļja - ģimenes ārsta prakse | E38: 60169 | F38: 0.9 | G38: =F38*H38 -> 17.1 | H38: 19 | I38: =G38 -> 17.1
B39: NVD Rīgas nodaļa | C39: 010000220 | D39: Talente Guntra - ģimenes ārsta un arodveselības un arodslimību ārsta prakse | E39: 60169 | F39: 0.9 | G39: =F39*H39 -> 46.8 | H39: 52 | I39: =G39 -> 46.8
B40: NVD Rīgas nodaļa | C40: 010000346 | D40: Kaļinkina Iļmira - ģimenes ārsta prakse | E40: 60169 | F40: 0.9 | G40: =F40*H40 -> 7.2 | H40: 8 | I40: =G40 -> 7.2
B41: NVD Rīgas nodaļa | C41: 010000427 | D41: MENTAMED, Sabiedrība ar ierobežotu atbildību | E41: 60169 | F41: 0.9 | G41: =F41*H41 -> 156.6 | H41: 174 | I41: =G41 -> 156.6
B42: NVD Rīgas nodaļa | C42: 010000442 | D42: Hudina Vera - ārsta internista prakse | E42: 60169 | F42: 0.9 | G42: =F42*H42 -> 2.7 | H42: 3 | I42: =G42 -> 2.7
B43: NVD Rīgas nodaļa | C43: 010001966 | D43: Terveus, SIA | E43: 60169 | F43: 0.9 | G43: =F43*H43 -> 124.2 | H43: 138 | I43: =G43 -> 124.2
B44: NVD Rīgas nodaļa | C44: 010011804 | D44: Bērnu klīniskā universitātes slimnīca, Valsts sabiedrība ar ierobežotu atbildību | E44: 60169 | F44: 0.9 | G44: =F44*H44 -> 0.9 | H44: 1 | I44: =G44 -> 0.9
B45: NVD Rīgas nodaļa | C45: 010040307 | D45: Latvijas Jūras medicīnas centrs, Akciju sabiedrība | E45: 60169 | F45: 0.9 | G45: =F45*H45 -> 12.6 | H45: 14 | I45: =G45 -> 12.6
B46: NVD Rīgas nodaļa | C46: 010064103 | D46: MOŽUMS-1, Sabiedrība ar ierobežotu atbildību | E46: 60169 | F46: 0.9 | G46: =F46*H46 -> 37.8 | H46: 42 | I46: =G46 -> 37.8
B47: NVD Rīgas nodaļa | C47: 010064111 | D47: Dziedniecība, Sabiedrība ar ierobežotu atbildību | E47: 60169 | F47: 0.9 | G47: =F47*H47 -> 2457.9 | H47: 2731 | I47: =G47 -> 2457.9
B48: NVD Rīgas nodaļa | C48: 010064120 | D48: Veselības centru apvienība, AS | E48: 60169 | F48: 0.9 | G48: =F48*H48 -> 1704.6 | H48: 1894 | I48: =G48 -> 1704.6
B49: NVD Rīgas nodaļa | C49: 010075413 | D49: M.Gavronskas ārsta prakse, Sabiedrība ar ierobežotu atbildību | E49: 60169 | F49: 0.9 | G49: =F49*H49 -> 9.9 | H49: 11 | I49: =G49 -> 9.9
... B80: NVD Zemgales nodaļa | C80: 741400026 | D80: OLIVERSS, Sabiedrība ar ierobežotu atbildību | E80: 60169 | F80: 0.9 | G80: =F80*H80 -> 111.6 | H80: 124 | I80: =G80 -> 111.6

Sheet IAL_SAVA_uzņemš_nod
H1: Pielikums Nr.34 Ministru kabineta rīkojuma "Ministru kabineta rīkojuma "Par finanšu līdzekļu apropriācijas pārdali no budžeta resora ''74. Gadskārtējā valsts budžeta izpildes procesā pārdalāmais finansējums'' valsts budžeta programmas 12.00.00 ''Finansējums veselības jomas pasākumiem Covid-19 infekcijas izplatības ierobežošanai"" projekta sākotnējās ietekmes novērtējuma ziņojumam (anotācijai)
A2: Stacionāro ārstniecības iestāžu Uzņemšanas nodaļas saraksts fiksēto piemaksu izmaksai par individuālo aizsarglīdzekļu izmantošanu, sniedzot klātienes konsultācijas 2023.gada jūnija rēķinā
F4: Uz personālu | G4: Uz apmeklējumu skaitu
E5: Tarifs uz 1 slodzi | F5: =0.8*3 -> 2.4 | G5: 0.0693 | H5: 0.0503
A6: Teritoriālā nodaļa | B6: Ārstniecības iestādes kods | C6: Ārstniecības iestādes nosaukums | D6: Apmeklējumu skaits mēnesī | E6: Personāla skaits kopā | F6: Respirators FFP2 ārstam uz 1 slodzi vienā dienā | G6: Dezinfekcijas līdzeklis rokām | H6: Dezinfekcijas līdzeklis virsmu apstrādei | I6: Fiksētā aprēķinātā piemaksa kopā par jūniju, euro
A7: Rīgas nodaļa | B7: 10000234 | C7: Rīgas Austrumu klīniskā universitātes slimnīca, SIA | D7: 7232 | E7: 54 | F7: 129.6 | G7: 501.1776 | H7: 363.7696 | I7: =ROUND(F7*30+SUM(G7:H7),0) -> 4753
A8: Rīgas nodaļa | B8: 10011803 | C8: Paula Stradiņa klīniskā universitātes slimnīca, Valsts sabiedrība ar ierobežotu atbildību | D8: 7464 | E8: 44 | F8: 105.6 | G8: 517.2552 | H8: 375.4392 | I8: =ROUND(F8*30+SUM(G8:H8),0) -> 4061
A9: Rīgas nodaļa | B9: 10011804 | C9: Bērnu klīniskā universitātes slimnīca, Valsts sabiedrība ar ierobežotu atbildību | D9: 9055 | E9: 32 | F9: 76.8 | G9: 627.5115 | H9: 455.4665 | I9: =ROUND(F9*30+SUM(G9:H9),0) -> 3387
A10: Rīgas nodaļa | B10: 10021301 | C10: Rīgas Dzemdību nams, SIA | D10: 52 | E10: 24 | F10: 57.6 | G10: 3.6036 | H10: 2.6156 | I10: =ROUND(F10*30+SUM(G10:H10),0) -> 1734
A11: Kurzemes nodaļa | B11: 270020302 | C11: Ziemeļkurzemes reģionālā slimnīca, SIA | D11: 1981 | E11: 22 | F11: 52.8 | G11: 137.2833 | H11: 99.6443 | I11: =ROUND(F11*30+SUM(G11:H11),0) -> 1821
A12: Latgales nodaļa | B12: 50020401 | C12: Daugavpils reģionālā slimnīca, Sabiedrība ar ierobežotu atbildību | D12: 3116 | E12: 18 | F12: 43.2 | G12: 215.9388 | H12: 156.7348 | I12: =ROUND(F12*30+SUM(G12:H12),0) -> 1669
A13: Kurzemes nodaļa | B13: 170020401 | C13: LIEPĀJAS REĢIONĀLĀ SLIMNĪCA, Sabiedrība ar ierobežotu atbildību | D13: 2581 | E13: 18 | F13: 43.2 | G13: 178.8633 | H13: 129.8243 | I13: =ROUND(F13*30+SUM(G13:H13),0) -> 1605
A14: Vidzemes nodaļa | B14: 250000092 | C14: Vidzemes slimnīca, Sabiedrība ar ierobežotu atbildību | D14: 2654 | E14: 18 | F14: 43.2 | G14: 183.9222 | H14: 133.4962 | I14: =ROUND(F14*30+SUM(G14:H14),0) -> 1613
A15: Zemgales nodaļa | B15: 110000048 | C15: Jēkabpils reģionālā slimnīca, Sabiedrība ar ierobežotu atbildību | D15: 1548 | E15: 18 | F15: 43.2 | G15: 107.2764 | H15: 77.8644 | I15: =ROUND(F15*30+SUM(G15:H15),0) -> 1481
A16: Zemgales nodaļa | B16: 90020301 | C16: JELGAVAS PILSĒTAS SLIMNĪCA, SIA | D16: 1513 | E16: 16 | F16: 38.4 | G16: 104.8509 | H16: 76.1039 | I16: =ROUND(F16*30+SUM(G16:H16),0) -> 1333
A17: Latgales nodaļa | B17: 210020301 | C17: RĒZEKNES SLIMNĪCA, Sabiedrība ar ierobežotu atbildību | D17: 831 | E17: 16 | F17: 38.4 | G17: 57.5883 | H17: 41.7993 | I17: =ROUND(F17*30+SUM(G17:H17),0) -> 1251
A18: Zemgales nodaļa | B18: 740200008 | C18: Ogres rajona slimnīca, Sabiedrība ar ierobežotu atbildību | D18: 1387 | E18: 12 | F18: 28.8 | G18: 96.1191 | H18: 69.7661 | I18: =ROUND(F18*30+SUM(G18:H18),0) -> 1030
... A42: Vidzemes nodaļa | B42: 941800004 | C42: Strenču psihoneiroloģiskā slimnīca, Valsts sabiedrība ar ierobežotu atbildību | D42: 5 | E42: 2 | F42: 4.8 | G42: 0.3465 | H42: 0.2515 | I42: =ROUND(F42*30+SUM(G42:H42),0) -> 145
I43: =SUM(I7:I42) -> 38769

Sheet Amb_rehab
F1: Pielikums Nr.35 Ministru kabineta rīkojuma "Ministru kabineta rīkojuma "Par finanšu līdzekļu apropriācijas pārdali no budžeta resora ''74. Gadskārtējā valsts budžeta izpildes procesā pārdalāmais finansējums'' valsts budžeta programmas 12.00.00 ''Finansējums veselības jomas pasākumiem Covid-19 infekcijas izplatības ierobežošanai"" projekta sākotnējās ietekmes novērtējuma ziņojumam (anotācijai)
A2: Veiktais darbs 2023.gada jūnija rēķinā PostCovid rehabilitācijai
H3: =ROUNDUP(H5,0) -> 111983
A4: Teritoriālā nodaļa | B4: Ārstniecības ietādes kods | C4: Ārstniecības iestādes nosaukums | D4: AP89 - Rehabilitācija ambulatori bērniem, kas pārslimojuši Covid-19 | E4: AP90 - Rehabilitācija ambulatori pieaugušajiem, kas pārslimojuši Covid-19 | F4: AP91 - Rehabilitācija dienas stacionārā pieaugušajiem, kas pārslimojuši Covid-19 | G4: AP92 - Rehabilitācija dienas stacionārā bērniem, kas pārslimojuši Covid-19 | H4: Kopā jūnijā, euro
C5: KOPĀ | D5: =SUM(D6:D27) -> 2052.88 | E5: =SUM(E6:E27) -> 23437.68 | F5: =SUM(F6:F27) -> 81765.19 | G5: =SUM(G6:G27) -> 4727.18 | H5: =SUM(D5:G5) -> 111982.93
A6: NVD Kurzemes nodaļa | B6: 880200016 | C6: TALSU VESELĪBAS CENTRS, SIA | D6: 131.92 | E6: 6587.05 | H6: =SUM(D6:G6) -> 6718.97
A7: NVD Latgales nodaļa | B7: 50000042 | C7: Fizioterapijas kabinets VALE, IK | E7: 1016.72 | H7: =SUM(D7:G7) -> 1016.72
A8: NVD Latgales nodaļa | B8: 50066201 | C8: IVAKO GROUP, Sabiedrība ar ierobežotu atbildību | E8: 89.12 | H8: =SUM(D8:G8) -> 89.12
A9: NVD Latgales nodaļa | B9: 680200030 | C9: Ludzas medicīnas centrs, Sabiedrība ar ierobežotu atbildību | E9: 94.04 | H9: =SUM(D9:G9) -> 94.04
A10: NVD Latgales nodaļa | B10: 760200002 | C10: Preiļu slimnīca, Sabiedrība ar ierobežotu atbildību | E10: 22.88 | F10: 791.88 | H10: =SUM(D10:G10) -> 814.76
A11: NVD Latgales nodaļa | B11: 780200005 | C11: REHABILITĀCIJAS CENTRS "RĀZNA", Sabiedrība ar ierobežotu atbildību | F11: 883.11 | H11: =SUM(D11:G11) -> 883.11
A12: NVD Rīgas nodaļa | B12: 10001535 | C12: Rīgas veselības centrs, SIA | D12: 534.64 | E12: 2509.92 | F12: 11001.48 | G12: 912.3 | H12: =SUM(D12:G12) -> 14958.34
A13: NVD Rīgas nodaļa | B13: 10011804 | C13: Bērnu klīniskā universitātes slimnīca, Valsts sabiedrība ar ierobežotu atbildību | D13: 66.72 | G13: 311.4 | H13: =SUM(D13:G13) -> 378.12
A14: NVD Rīgas nodaļa | B14: 10020301 | C14: Rīgas 1. slimnīca, SIA | D14: 520.71 | E14: 5638.63 | F14: 3499.08 | H14: =SUM(D14:G14) -> 9658.42
A15: NVD Rīgas nodaļa | B15: 10064111 | C15: Dziedniecība, Sabiedrība ar ierobežotu atbildību | F15: 917.98 | H15: =SUM(D15:G15) -> 917.98
A16: NVD Rīgas nodaļa | B16: 10064120 | C16: Veselības centru apvienība, AS | D16: 170.71 | E16: 1981.88 | F16: 16968.26 | G16: 1032.44 | H16: =SUM(D16:G16) -> 20153.29
A17: NVD Rīgas nodaļa | B17: 19362601 | C17: Protezēšanas un ortopēdijas centrs, Akciju sabiedrība | F17: 14200.14 | G17: 2471.04 | H17: =SUM(D17:G17) -> 16671.18
A18: NVD Rīgas nodaļa | B18: 130013001 | C18: Nacionālais rehabilitācijas centrs "Vaivari", Valsts sabiedrība ar ierobežotu atbildību | E18: 446.08 | F18: 3003.25 | H18: =SUM(D18:G18) -> 3449.33
A19: NVD Rīgas nodaļa | B19: 130064003 | C19: SANARE-KRC JAUNĶEMERI, Sabiedrība ar ierobežotu atbildību | F19: 12294.93 | H19: =SUM(D19:G19) -> 12294.93
A20: NVD Rīgas nodaļa | B20: 801200001 | C20: Salaspils veselības centrs, Sabiedrība ar ierobežotu atbildību | E20: 20.65 | H20: =SUM(D20:G20) -> 20.65
A21: NVD Rīgas nodaļa | B21: 801600003 | C21: Siguldas slimnīca, SIA | D21: 101.55 | H21: =SUM(D21:G21) -> 101.55
A22: NVD Rīgas nodaļa | B22: 801600004 | C22: REHABILITĀCIJAS CENTRS "KRIMULDA", Sabiedrība ar ierobežotu atbildību | F22: 8807.26 | H22: =SUM(D22:G22) -> 8807.26
A23: NVD Vidzemes nodaļa | B23: 250000087 | C23: VALMIERAS VESELĪBAS CENTRS, SIA | D23: 526.63 | E23: 3590.09 | H23: =SUM(D23:G23) -> 4116.72
A24: NVD Vidzemes nodaļa | B24: 250000092 | C24: Vidzemes slimnīca, Sabiedrība ar ierobežotu atbildību | E24: 1287.86 | H24: =SUM(D24:G24) -> 1287.86
A25: NVD Vidzemes nodaļa | B25: 420200052 | C25: CĒSU KLĪNIKA, Sabiedrība ar ierobežotu atbildību | E25: 77.9 | F25: 1947.4 | H25: =SUM(D25:G25) -> 2025.3
A26: NVD Vidzemes nodaļa | B26: 421200001 | C26: Rehabilitācijas centrs "Līgatne", SIA | E26: 58.38 | F26: 7450.42 | H26: =SUM(D26:G26) -> 7508.8
A27: NVD Zemgales nodaļa | B27: 90065207 | C27: FITOSAN PLUS, Medicīnas centrs SIA | E27: 16.48 | H27: =SUM(D27:G27) -> 16.48

Sheet Dinam_novēroš
F1: Pielikums Nr.36 Ministru kabineta rīkojuma "Ministru kabineta rīkojuma "Par finanšu līdzekļu apropriācijas pārdali no budžeta resora ''74. Gadskārtējā valsts budžeta izpildes procesā pārdalāmais finansējums'' valsts budžeta programmas 12.00.00 ''Finansējums veselības jomas pasākumiem Covid-19 infekcijas izplatības ierobežošanai"" projekta sākotnējās ietekmes novērtējuma ziņojumam (anotācijai)
A2: Veiktais darbs 2023.gada jūnija rēķinā pakalpojumu programmā AP131 - Dinamiskā novērošana pacientiem, kas pārslimojuši Covid-19
G3: =ROUNDUP(G5,0) -> 176005
A4: NVD TN | B4: Ārstniecības iestādes kods | C4: Ārstniecības iestādes nosaukums | D4: Manipulācijas kods | E4: Manipulācijas nosaukums | F4: Tarifs, euro | G4: Pakalpojumu summa, euro | H4: Manipulāciju skaits
A5: Kopā | G5: =SUM(G6:G166) -> 176004.26 | H5: =SUM(H6:H166) -> 58646
A6: NVD Kurzemes nodaļa | B6: 880200016 | C6: TALSU VESELĪBAS CENTRS, SIA | D6: 04101 | E6: Virsmas anestēzija rīkles, balsenes, bronhu rajonam, dziļākiem deguna rajoniem, bungādiņai, bungu dobumam vai urīnvadam un urīnpūslim | F6: 8.89 | G6: =F6*H6 -> 17.78 | H6: 2
A7: NVD Zemgales nodaļa | B7: 400200024 | C7: Bauskas slimnīca, SIA | D7: 06003 | E7: Elektrokardiogrammas ar 12 novadījumiem pieraksts | F7: 1.73 | G7: =F7*H7 -> 1.73 | H7: 1
A8: NVD Zemgales nodaļa | B8: 400200024 | C8: Bauskas slimnīca, SIA | D8: 06004 | E8: Elektrokardiogrammas ar 12 novadījumiem apraksts | F8: 5.52 | G8: =F8*H8 -> 5.52 | H8: 1
A9: NVD Rīgas nodaļa | B9: 010064120 | C9: Veselības centru apvienība, AS | D9: 06015 | E9: Holtera monitorēšana no 18 līdz 24 stundām | F9: 33.95 | G9: =F9*H9 -> 33.95 | H9: 1
A10: NVD Kurzemes nodaļa | B10: 880200016 | C10: TALSU VESELĪBAS CENTRS, SIA | D10: 06033 | E10: Ehokardiogrāfija ar doplerogrāfiju | F10: 47.7 | G10: =F10*H10 -> 143.1 | H10: 3
A11: NVD Rīgas nodaļa | B11: 010064120 | C11: Veselības centru apvienība, AS | D11: 06102 | E11: Brahiocefālo asinsvadu dupleksskenēšana ar krāsas doplerogrāfiju un spektra analīzi | F11: 26.44 | G11: =F11*H11 -> 26.44 | H11: 1
A12: NVD Rīgas nodaļa | B12: 010064120 | C12: Veselības centru apvienība, AS | D12: 06119 | E12: Transkraniāla krāskodēta dupleksskenēšana (arī jaundzimušajiem) | F12: 36.45 | G12: =F12*H12 -> 36.45 | H12: 1
A13: NVD Kurzemes nodaļa | B13: 880200016 | C13: TALSU VESELĪBAS CENTRS, SIA | D13: 06123 | E13: Abu kāju vēnu krāskodēta dupleksskenēšana | F13: 28.82 | G13: =F13*H13 -> 57.64 | H13: 2
A14: NVD Kurzemes nodaļa | B14: 880200016 | C14: TALSU VESELĪBAS CENTRS, SIA | D14: 07018 | E14: Spirogrāfija (pneimotahogrāfija) ar automātisku datoranalīzi un bronhodilatācijas testu | F14: 11.14 | G14: =F14*H14 -> 11.14 | H14: 1
A15: NVD Vidzemes nodaļa | B15: 250000092 | C15: Vidzemes slimnīca, Sabiedrība ar ierobežotu atbildību | D15: 07018 | E15: Spirogrāfija (pneimotahogrāfija) ar automātisku datoranalīzi un bronhodilatācijas testu | F15: 11.14 | G15: =F15*H15 -> 11.14 | H15: 1
A16: NVD Kurzemes nodaļa | B16: 880200016 | C16: TALSU VESELĪBAS CENTRS, SIA | D16: 18115 | E16: Sēra korķu izņemšana, arī abpusēja | F16: 6.82 | G16: =F16*H16 -> 6.82 | H16: 1
A17: NVD Kurzemes nodaļa | B17: 880200016 | C17: TALSU VESELĪBAS CENTRS, SIA | D17: 18135 | E17: Bungādiņas un/vai bungu dobuma izmeklēšana ar binokulārmikroskopiju. Norāda vienu reizi apmeklējuma laikā | F17: 8.77 | G17: =F17*H17 -> 8.77 | H17: 1
... A166: NVD Zemgales nodaļa | B166: 460200036 | C166: Dobeles un apkārtnes slimnīca, SIA | D166: 50635 | E166: Piemaksa par kontrastvielu Iopamidolum 370 (100 ml) | F166: 30.3 | G166: =F166*H166 -> 60.6 | H166: 2

Sheet IAL_fiks_piem_ĢĀ
P1: Pielikums Nr.37 Ministru kabineta rīkojuma "Ministru kabineta rīkojuma "Par finanšu līdzekļu apropriācijas pārdali no budžeta resora ''74. Gadskārtējā valsts budžeta izpildes procesā pārdalāmais finansējums'' valsts budžeta programmas 12.00.00 ''Finansējums veselības jomas pasākumiem Covid-19 infekcijas izplatības ierobežošanai"" projekta sākotnējās ietekmes novērtējuma ziņojumam (anotācijai)
K3: Uz apmeklējumiem
A4: Ģimenes ārstu prakšu saraksts fiksēto piemaksu izmaksai par individuālo aizsarglīdzekļu izmantošanu, sniedzot klātienes konsultācijas 2023.gadā jūniju | J4: Pozīcija | K4: Dezinfekcijas līdzeklis rokām ārstam | L4: Dezinfekcijas līdzeklis rokām māsai | M4: Dezinfekcijas līdzeklis pacientam | N4: Dezinfekcijas līdzeklis virsmu apstrādei | P4: =ROUND(P5,0) -> 59458 | R4: =ROUND(R5,0) -> 59164 | S4: =ROUNDUP(S5,0) -> 294
E5: vidēji | F5: 406 | J5: Izmaksas mēnesim, euro | K5: 0.03 | L5: 0.03 | M5: 0.03 | N5: 0.03 | O5: =SUM(O7:O1222) -> 59496.24 | P5: =SUM(P7:P1222) -> 59457.76 | R5: =SUM(R7:R1222) -> 59164.36 | S5: =SUM(S7:S1222) -> 293.4
A6: Teritoriālā nodaļa | B6: Ārstniecības iestādes kods | C6: Ārstniecības iestādes nosaukums | D6: Ārsta identifikācijas nr. | E6: Ārsta uzvārds, vārds | F6: Apmeklējumu skaits mēnesī | G6: Personāla skaits kopā | H6: Ģimenes ārstu skaits | I6: Rezidentu skaits | J6: Māsu/ ārstu palīgu skaits | O6: Fiksētā piemaksa uz 1 mēnesi, euro | P6: Par 2023.gada jūniju, euro | Q6: Komentārs | R6: EKK 3000 | S6: EKK 7460
A7: Kurzemes nodaļa | B7: 27000001 | C7: Dr.Katerynas prakse, SIA | D7: 31840056136 | E7: Bulavkina Kateryna | F7: 508 | G7: 3 | H7: 1 | I7: 0 | J7: =G7-H7-I7 -> 2 | K7: =F7*$K$5 -> 15.24 | L7: =F7*$L$5 -> 15.24 | M7: =F7*$M$5 -> 15.24 | N7: =F7*$N$5 -> 15.24 | O7: =ROUND((SUM(K7:N7)),2) -> 60.96 | P7: =ROUND((O7),2) -> 60.96 | R7: =P7 -> 60.96
A8: Kurzemes nodaļa | B8: 51000001 | C8: Kociņa Ginta - ģimenes ārsta prakse | D8: 90720009184 | E8: Kociņa Ginta | F8: 508 | G8: 2 | H8: 1 | I8: 0 | J8: =G8-H8-I8 -> 1 | K8: =F8*$K$5 -> 15.24 | L8: =F8*$L$5 -> 15.24 | M8: =F8*$M$5 -> 15.24 | N8: =F8*$N$5 -> 15.24 | O8: =ROUND((SUM(K8:N8)),2) -> 60.96 | P8: =ROUND((O8),2) -> 60.96 | R8: =P8 -> 60.96
A9: Kurzemes nodaļa | B9: 170000017 | C9: Kosova Tatjana - ģimenes ārsta prakse | D9: 36630001428 | E9: Kosova Tatjana | F9: 556 | G9: 3 | H9: 1 | I9: 0 | J9: =G9-H9-I9 -> 2 | K9: =F9*$K$5 -> 16.68 | L9: =F9*$L$5 -> 16.68 | M9: =F9*$M$5 -> 16.68 | N9: =F9*$N$5 -> 16.68 | O9: =ROUND((SUM(K9:N9)),2) -> 66.72 | P9: =ROUND((O9),2) -> 66.72 | R9: =P9 -> 66.72
A10: Kurzemes nodaļa | B10: 170000116 | C10: Rutkovska Diana - ģimenes ārsta prakse | D10: 49860008772 | E10: Rutkovska Diana | F10: 1154 | G10: 2 | H10: 1 | I10: 0 | J10: =G10-H10-I10 -> 1 | K10: =F10*$K$5 -> 34.62 | L10: =F10*$L$5 -> 34.62 | M10: =F10*$M$5 -> 34.62 | N10: =F10*$N$5 -> 34.62 | O10: =ROUND((SUM(K10:N10)),2) -> 138.48 | P10: =ROUND((O10),2) -> 138.48 | R10: =P10 -> 138.48
A11: Kurzemes nodaļa | B11: 170000124 | C11: Meissana, SIA | D11: 16180043571 | E11: Cēbere Inese | F11: 314 | G11: 2 | H11: 1 | I11: 0 | J11: =G11-H11-I11 -> 1 | K11: =F11*$K$5 -> 9.42 | L11: =F11*$L$5 -> 9.42 | M11: =F11*$M$5 -> 9.42 | N11: =F11*$N$5 -> 9.42 | O11: =ROUND((SUM(K11:N11)),2) -> 37.68 | P11: =ROUND((O11),2) -> 37.68 | R11: =P11 -> 37.68
A12: Kurzemes nodaļa | B12: 170000170 | C12: Ribakova Tatjana - ģimenes ārsta prakse | D12: 14230030829 | E12: Ribakova Tatjana | F12: 679 | G12: 3 | H12: 1 | I12: 0 | J12: =G12-H12-I12 -> 2 | K12: =F12*$K$5 -> 20.37 | L12: =F12*$L$5 -> 20.37 | M12: =F12*$M$5 -> 20.37 | N12: =F12*$N$5 -> 20.37 | O12: =ROUND((SUM(K12:N12)),2) -> 81.48 | P12: =ROUND((O12),2) -> 81.48 | R12: =P12 -> 81.48
A13: Kurzemes nodaļa | B13: 170000171 | C13: Baranovs Aleksejs - ģimenes ārsta un internista prakse | D13: 13520042277 | E13: Baranovs Aleksejs | F13: 425 | G13: 3 | H13: 1 | I13: 0 | J13: =G13-H13-I13 -> 2 | K13: =F13*$K$5 -> 12.75 | L13: =F13*$L$5 -> 12.75 | M13: =F13*$M$5 -> 12.75 | N13: =F13*$N$5 -> 12.75 | O13: =ROUND((SUM(K13:N13)),2) -> 51 | P13: =ROUND((O13),2) -> 51 | R13: =P13 -> 51
A14: Kurzemes nodaļa | B14: 170000173 | C14: Jakubauska Indra - ģimenes ārsta prakse | D14: 97580051350 | E14: Jakubauska Indra | F14: 320 | G14: 3 | H14: 1 | I14: 0 | J14: =G14-H14-I14 -> 2 | K14: =F14*$K$5 -> 9.6 | L14: =F14*$L$5 -> 9.6 | M14: =F14*$M$5 -> 9.6 | N14: =F14*$N$5 -> 9.6 | O14: =ROUND((SUM(K14:N14)),2) -> 38.4 | P14: =ROUND((O14),2) -> 38.4 | R14: =P14 -> 38.4
A15: Kurzemes nodaļa | B15: 170000183 | C15: Stabulnieks Uldis - ģimenes ārsta prakse | D15: 64540000971 | E15: Stabulnieks Uldis | F15: 221 | G15: 2 | H15: 1 | I15: 0 | J15: =G15-H15-I15 -> 1 | K15: =F15*$K$5 -> 6.63 | L15: =F15*$L$5 -> 6.63 | M15: =F15*$M$5 -> 6.63 | N15: =F15*$N$5 -> 6.63 | O15: =ROUND((SUM(K15:N15)),2) -> 26.52 | P15: =ROUND((O15),2) -> 26.52 | R15: =P15 -> 26.52
A16: Kurzemes nodaļa | B16: 170000186 | C16: Šmite Ieva - ģimenes ārsta prakse | D16: 56930053006 | E16: Šmite Ieva | F16: 850 | G16: 3 | H16: 1 | I16: 0 | J16: =G16-H16-I16 -> 2 | K16: =F16*$K$5 -> 25.5 | L16: =F16*$L$5 -> 25.5 | M16: =F16*$M$5 -> 25.5 | N16: =F16*$N$5 -> 25.5 | O16: =ROUND((SUM(K16:N16)),2) -> 102 | P16: =ROUND((O16),2) -> 102 | R16: =P16 -> 102
A17: Kurzemes nodaļa | B17: 170000188 | C17: Anaņjeva Aleksandra - ģimenes ārsta prakse | D17: 42370051229 | E17: Anaņjeva Aleksandra | F17: 472 | G17: 3 | H17: 1 | I17: 0 | J17: =G17-H17-I17 -> 2 | K17: =F17*$K$5 -> 14.16 | L17: =F17*$L$5 -> 14.16 | M17: =F17*$M$5 -> 14.16 | N17: =F17*$N$5 -> 14.16 | O17: =ROUND((SUM(K17:N17)),2) -> 56.64 | P17: =ROUND((O17),2) -> 56.64 | R17: =P17 -> 56.64
A18: Kurzemes nodaļa | B18: 170075405 | C18: Celma Violeta - ģimenes ārsta prakse | D18: 10290006471 | E18: Celma Violeta | F18: 799 | G18: 5 | H18: 1 | I18: 2 | J18: =G18-H18-I18 -> 2 | K18: =F18*$K$5 -> 23.97 | L18: =F18*$L$5 -> 23.97 | M18: =F18*$M$5 -> 23.97 | N18: =F18*$N$5 -> 23.97 | O18: =ROUND((SUM(K18:N18)),2) -> 95.88 | P18: =ROUND((O18),2) -> 95.88 | R18: =P18 -> 95.88
... A336: Rīgas nodaļa | B336: 10000045 | C336: Streļča Ludmila - ģimenes ārsta prakse | D336: 32400007337 | E336: Streļča Ludmila | F336: 427 | G336: 3 | H336: 1 | I336: 0 | J336: =G336-H336-I336 -> 2 | K336: =F336*$K$5 -> 12.81 | L336: =F336*$L$5 -> 12.81 | M336: =F336*$M$5 -> 12.81 | N336: =F336*$N$5 -> 12.81 | O336: =ROUND((SUM(K336:N336)),2) -> 51.24 | P336: =ROUND((O336),2) -> 51.24 | R336: =P336 -> 51.24
A337: Rīgas nodaļa | B337: 10000061 | C337: Rīgas patversme | D337: 78910006919 | E337: Pozņaka Ilze | F337: 315 | G337: 2 | H337: 1 | I337: 0 | J337: =G337-H337-I337 -> 1 | K337: =F337*$K$5 -> 9.45 | L337: =F337*$L$5 -> 9.45 | M337: =F337*$M$5 -> 9.45 | N337: =F337*$N$5 -> 9.45 | O337: =ROUND((SUM(K337:N337)),2) -> 37.8 | P337: =ROUND((O337),2) -> 37.8 | S337: =P337 -> 37.8
A338: Rīgas nodaļa | B338: 10000071 | C338: Pučkovs Dmitrijs - ģimenes ārsta prakse | D338: 10600008587 | E338: Pučkovs Dmitrijs | F338: 640 | G338: 3 | H338: 1 | I338: 0 | J338: =G338-H338-I338 -> 2 | K338: =F338*$K$5 -> 19.2 | L338: =F338*$L$5 -> 19.2 | M338: =F338*$M$5 -> 19.2 | N338: =F338*$N$5 -> 19.2 | O338: =ROUND((SUM(K338:N338)),2) -> 76.8 | P338: =ROUND((O338),2) -> 76.8 | R338: =P338 -> 76.8
A339: Rīgas nodaļa | B339: 10000072 | C339: Demidova Larisa - ģimenes ārsta prakse | D339: 76140005615 | E339: Demidova Larisa | F339: 321 | G339: 3 | H339: 1 | I339: 0 | J339: =G339-H339-I339 -> 2 | K339: =F339*$K$5 -> 9.63 | L339: =F339*$L$5 -> 9.63 | M339: =F339*$M$5 -> 9.63 | N339: =F339*$N$5 -> 9.63 | O339: =ROUND((SUM(K339:N339)),2) -> 38.52 | P339: =ROUND((O339),2) -> 38.52 | R339: =P339 -> 38.52
A340: Rīgas nodaļa | B340: 10000120 | C340: Kunstberga Elga - ģimenes ārsta prakse | D340: 36610003611 | E340: Kunstberga Elga | F340: 304 | G340: 3 | H340: 1 | I340: 0 | J340: =G340-H340-I340 -> 2 | K340: =F340*$K$5 -> 9.12 | L340: =F340*$L$5 -> 9.12 | M340: =F340*$M$5 -> 9.12 | N340: =F340*$N$5 -> 9.12 | O340: =ROUND((SUM(K340:N340)),2) -> 36.48 | P340: =ROUND((O340),2) -> 36.48 | R340: =P340 -> 36.48
A341: Rīgas nodaļa | B341: 10000126 | C341: Bubins Igors - ģimenes ārsta prakse | D341: 42770004724 | E341: Bubins Igors | F341: 657 | G341: 3 | H341: 1 | I341: 0 | J341: =G341-H341-I341 -> 2 | K341: =F341*$K$5 -> 19.71 | L341: =F341*$L$5 -> 19.71 | M341: =F341*$M$5 -> 19.71 | N341: =F341*$N$5 -> 19.71 | O341: =ROUND((SUM(K341:N341)),2) -> 78.84 | P341: =ROUND((O341),2) -> 78.84 | R341: =P341 -> 78.84
A342: Rīgas nodaļa | B342: 10000130 | C342: Kozaka Nataļja - ģimenes ārsta prakse | D342: 36110008834 | E342: Kozaka Nataļja | F342: 367 | G342: 2 | H342: 1 | I342: 0 | J342: =G342-H342-I342 -> 1 | K342: =F342*$K$5 -> 11.01 | L342: =F342*$L$5 -> 11.01 | M342: =F342*$M$5 -> 11.01 | N342: =F342*$N$5 -> 11.01 | O342: =ROUND((SUM(K342:N342)),2) -> 44.04 | P342: =ROUND((O342),2) -> 44.04 | R342: =P342 -> 44.04
A343: Rīgas nodaļa | B343: 10000141 | C343: Matuševica Andra - ģimenes ārsta prakse | D343: 71310006736 | E343: Matuševica Andra | F343: 345 | G343: 3 | H343: 1 | I343: 0 | J343: =G343-H343-I343 -> 2 | K343: =F343*$K$5 -> 10.35 | L343: =F343*$L$5 -> 10.35 | M343: =F343*$M$5 -> 10.35 | N343: =F343*$N$5 -> 10.35 | O343: =ROUND((SUM(K343:N343)),2) -> 41.4 | P343: =ROUND((O343),2) -> 41.4 | R343: =P343 -> 41.4
A344: Rīgas nodaļa | B344: 10000142 | C344: Frolova Tatjana - ģimenes ārsta un pediatra prakse | D344: 10130000505 | E344: Frolova Tatjana | F344: 436 | G344: 2 | H344: 1 | I344: 0 | J344: =G344-H344-I344 -> 1 | K344: =F344*$K$5 -> 13.08 | L344: =F344*$L$5 -> 13.08 | M344: =F344*$M$5 -> 13.08 | N344: =F344*$N$5 -> 13.08 | O344: =ROUND((SUM(K344:N344)),2) -> 52.32 | P344: =ROUND((O344),2) -> 52.32 | R344: =P344 -> 52.32
A345: Rīgas nodaļa | B345: 10000165 | C345: Nodelmane Jolanta - ģimenes ārsta prakse | D345: 68020006419 | E345: Nodelmane Jolanta | F345: 117 | G345: 2 | H345: 1 | I345: 0 | J345: =G345-H345-I345 -> 1 | K345: =F345*$K$5 -> 3.51 | L345: =F345*$L$5 -> 3.51 | M345: =F345*$M$5 -> 3.51 | N345: =F345*$N$5 -> 3.51 | O345: =ROUND((SUM(K345:N345)),2) -> 14.04 | P345: =ROUND((O345),2) -> 14.04 | R345: =P345 -> 14.04
A346: Rīgas nodaļa | B346: 10000166 | C346: Kozinda Ilze - ģimenes ārsta prakse | D346: 96790004521 | E346: Kozinda Ilze | F346: 127 | G346: 2 | H346: 1 | I346: 0 | J346: =G346-H346-I346 -> 1 | K346: =F346*$K$5 -> 3.81 | L346: =F346*$L$5 -> 3.81 | M346: =F346*$M$5 -> 3.81 | N346: =F346*$N$5 -> 3.81 | O346: =ROUND((SUM(K346:N346)),2) -> 15.24 | P346: =ROUND((O346),2) -> 15.24 | R346: =P346 -> 15.24
A347: Rīgas nodaļa | B347: 10000170 | C347: Zeltiņa Anda - ģimenes ārsta prakse | D347: 32810030654 | E347: Zeltiņa Anda | F347: 618 | G347: 3 | H347: 1 | I347: 0 | J347: =G347-H347-I347 -> 2 | K347: =F347*$K$5 -> 18.54 | L347: =F347*$L$5 -> 18.54 | M347: =F347*$M$5 -> 18.54 | N347: =F347*$N$5 -> 18.54 | O347: =ROUND((SUM(K347:N347)),2) -> 74.16 | P347: =ROUND((O347),2) -> 74.16 | R347: =P347 -> 74.16
A348: Rīgas nodaļa | B348: 10000193 | C348: Šabanovs Nikolajs - ģimenes ārsta prakse | D348: 51860008690 | E348: Šabanovs Nikolajs | F348: 359 | G348: 2 | H348: 1 | I348: 0 | J348: =G348-H348-I348 -> 1 | K348: =F348*$K$5 -> 10.77 | L348: =F348*$L$5 -> 10.77 | M348: =F348*$M$5 -> 10.77 | N348: =F348*$N$5 -> 10.77 | O348: =ROUND((SUM(K348:N348)),2) -> 43.08 | P348: =ROUND((O348),2) -> 43.08 | R348: =P348 -> 43.08
A349: Rīgas nodaļa | B349: 10000205 | C349: Paradovska Inga - ģimenes ārsta un arodveselības un arodslimību ārsta prakse | D349: 78670004530 | E349: Paradovska Inga | F349: 524 | G349: 3 | H349: 1 | I349: 0 | J349: =G349-H349-I349 -> 2 | K349: =F349*$K$5 -> 15.72 | L349: =F349*$L$5 -> 15.72 | M349: =F349*$M$5 -> 15.72 | N349: =F349*$N$5 -> 15.72 | O349: =ROUND((SUM(K349:N349)),2) -> 62.88 | P349: =ROUND((O349),2) -> 62.88 | R349: =P349 -> 62.88
... A867: Rīgas nodaļa | B867: 809600006 | C867: Ivetas Vīksnes ģimenes ārsta prakse, Sabiedrība ar ierobežotu atbildību | D867: 37810004368 | E867: Vīksne Iveta | F867: 742 | G867: 3 | H867: 1 | I867: 0 | J867: =G867-H867-I867 -> 2 | K867: =F867*$K$5 -> 22.26 | L867: =F867*$L$5 -> 22.26 | M867: =F867*$M$5 -> 22.26 | N867: =F867*$N$5 -> 22.26 | O867: =ROUND((SUM(K867:N867)),2) -> 89.04 | P867: =ROUND((O867),2) -> 89.04 | R867: =P867 -> 89.04
A868: Rīgas nodaļa | B868: 809635210 | C868: Ropažu novada pašvaldības aģentūra "Stopiņu ambulance" | D868: 15310042465 | E868: Kristīne Grosvalde | F868: 185 | G868: 3 | H868: 1 | I868: 0 | J868: =G868-H868-I868 -> 2 | K868: =F868*$K$5 -> 5.55 | L868: =F868*$L$5 -> 5.55 | M868: =F868*$M$5 -> 5.55 | N868: =F868*$N$5 -> 5.55 | O868: =ROUND((SUM(K868:N868)),2) -> 22.2 | P868: =ROUND((O868),2) -> 22.2 | S868: =P868 -> 22.2
A869: Rīgas nodaļa | B869: 809635210 | C869: Ropažu novada pašvaldības aģentūra "Stopiņu ambulance" | D869: 63350043772 | E869: Ziedonis Ritvars | F869: 119 | G869: 3 | H869: 1 | I869: 0 | J869: =G869-H869-I869 -> 2 | K869: =F869*$K$5 -> 3.57 | L869: =F869*$L$5 -> 3.57 | M869: =F869*$M$5 -> 3.57 | N869: =F869*$N$5 -> 3.57 | O869: =ROUND((SUM(K869:N869)),2) -> 14.28 | P869: =ROUND((O869),2) -> 14.28 | S869: =P869 -> 14.28
A870: Rīgas nodaļa | B870: 809635210 | C870: Ropažu novada pašvaldības aģentūra "Stopiņu ambulance" | D870: 79530047105 | E870: Opuļa Anda | F870: 171 | G870: 1 | H870: 0 | I870: 0 | J870: =G870-H870-I870 -> 1 | K870: =F870*$K$5 -> 5.13 | L870: =F870*$L$5 -> 5.13 | M870: =F870*$M$5 -> 5.13 | N870: =F870*$N$5 -> 5.13 | O870: =ROUND((SUM(K870:N870)),2) -> 20.52 | P870: =ROUND((O870),2) -> 20.52 | S870: =P870 -> 20.52
A871: Rīgas nodaļa | B871: 809635210 | C871: Ropažu novada pašvaldības aģentūra "Stopiņu ambulance" | D871: 94030006373 | E871: Ikauniece Vija | F871: 326 | G871: 3 | H871: 1 | I871: 0 | J871: =G871-H871-I871 -> 2 | K871: =F871*$K$5 -> 9.78 | L871: =F871*$L$5 -> 9.78 | M871: =F871*$M$5 -> 9.78 | N871: =F871*$N$5 -> 9.78 | O871: =ROUND((SUM(K871:N871)),2) -> 39.12 | P871: =ROUND((O871),2) -> 39.12 | S871: =P871 -> 39.12
A872: Rīgas nodaļa | B872: 10001289 | C872: Edītes Krūmiņas ģimenes ārsta prakse, Sabiedrība ar ierobežotu atbildību | D872: 93310005518 | E872: Edīte Krūmiņa | F872: 315 | G872: 3 | H872: 1 | I872: 0 | J872: =G872-H872-I872 -> 2 | K872: =F872*$K$5 -> 9.45 | L872: =F872*$L$5 -> 9.45 | M872: =F872*$M$5 -> 9.45 | N872: =F872*$N$5 -> 9.45 | O872: =ROUND((SUM(K872:N872)),2) -> 37.8 | P872: =ROUND((O872),2) -> 37.8 | R872: =P872 -> 37.8
A873: Rīgas nodaļa | B873: 1000094 | C873: Beatas Krūmiņas ārsta prakse, Sabiedrība ar ierobežotu atbildību | D873: 61110047702 | E873: Beata Krūmiņa | F873: 241 | G873: 2 | H873: 1 | I873: 0 | J873: =G873-H873-I873 -> 1 | K873: =F873*$K$5 -> 7.23 | L873: =F873*$L$5 -> 7.23 | M873: =F873*$M$5 -> 7.23 | N873: =F873*$N$5 -> 7.23 | O873: =ROUND((SUM(K873:N873)),2) -> 28.92 | P873: =ROUND((O873),2) -> 28.92 | R873: =P873 -> 28.92
A874: Rīgas nodaļa | B874: 1000091 | C874: Ilzes Kidalas ģimenes ārsta prakse, SIA | D874: 57800053148 | E874: Ilze Kidala | F874: 251 | G874: 2 | H874: 1 | I874: 0 | J874: =G874-H874-I874 -> 1 | K874: =F874*$K$5 -> 7.53 | L874: =F874*$L$5 -> 7.53 | M874: =F874*$M$5 -> 7.53 | N874: =F874*$N$5 -> 7.53 | O874: =ROUND((SUM(K874:N874)),2) -> 30.12 | P874: =ROUND((O874),2) -> 30.12 | R874: =P874 -> 30.12
A875: Rīgas nodaļa | B875: 4000003 | C875: RIVA MED, SIA | D875: 11960039963 | E875: Rita Ivanova | F875: 265 | G875: 3 | H875: 1 | I875: 0 | J875: =G875-H875-I875 -> 2 | K875: =F875*$K$5 -> 7.95 | L875: =F875*$L$5 -> 7.95 | M875: =F875*$M$5 -> 7.95 | N875: =F875*$N$5 -> 7.95 | O875: =ROUND((SUM(K875:N875)),2) -> 31.8 | P875: =ROUND((O875),2) -> 31.8 | R875: =P875 -> 31.8
A876: Rīgas nodaļa | B876: 10064120 | C876: Veselības centru apvienība, AS | D876: 76150003505 | E876: Lidija Bubņenkova | F876: 331 | G876: 3 | H876: 1 | I876: 0 | J876: =G876-H876-I876 -> 2 | K876: =F876*$K$5 -> 9.93 | L876: =F876*$L$5 -> 9.93 | M876: =F876*$M$5 -> 9.93 | N876: =F876*$N$5 -> 9.93 | O876: =ROUND((SUM(K876:N876)),2) -> 39.72 | P876: =ROUND((O876),2) -> 39.72 | R876: =P876 -> 39.72
A877: Rīgas nodaļa | B877: 1000096 | C877: Malaša-Homiceviča Alla - ģimenes ārsta prakse | D877: 49500049078 | E877: Alla Malaša-Homiceviča | F877: 145 | G877: 3 | H877: 0 | I877: 1 | J877: =G877-H877-I877 -> 2 | K877: =F877*$K$5 -> 4.35 | L877: =F877*$L$5 -> 4.35 | M877: =F877*$M$5 -> 4.35 | N877: =F877*$N$5 -> 4.35 | O877: =ROUND((SUM(K877:N877)),2) -> 17.4 | P877: =ROUND((O877),2) -> 17.4 | R877: =P877 -> 17.4
A878: Rīgas nodaļa | B878: 10054211 | C878: VESELĪBAS CENTRS BIĶERNIEKI, Sabiedrība ar ierobežotu atbildību | D878: 19040028146 | E878: Kursaite Santa | F878: 168 | G878: 2 | H878: 1 | I878: 0 | J878: =G878-H878-I878 -> 1 | K878: =F878*$K$5 -> 5.04 | L878: =F878*$L$5 -> 5.04 | M878: =F878*$M$5 -> 5.04 | N878: =F878*$N$5 -> 5.04 | O878: =ROUND((SUM(K878:N878)),2) -> 20.16 | P878: =ROUND((O878),2) -> 20.16 | R878: =P878 -> 20.16
A879: Rīgas nodaļa | B879: 10064120 | C879: Veselības centru apvienība, AS | D879: 82760047158 | E879: Toprina Anastasija | F879: 211 | G879: 3 | H879: 1 | I879: 0 | J879: =G879-H879-I879 -> 2 | K879: =F879*$K$5 -> 6.33 | L879: =F879*$L$5 -> 6.33 | M879: =F879*$M$5 -> 6.33 | N879: =F879*$N$5 -> 6.33 | O879: =ROUND((SUM(K879:N879)),2) -> 25.32 | P879: =ROUND((O879),2) -> 25.32 | R879: =P879 -> 25.32
A880: Rīgas nodaļa | B880: 10054211 | C880: VESELĪBAS CENTRS BIĶERNIEKI, Sabiedrība ar ierobežotu atbildību | D880: 10540059434 | E880: Rubīne Dana | F880: 337 | G880: 3 | H880: 1 | I880: 0 | J880: =G880-H880-I880 -> 2 | K880: =F880*$K$5 -> 10.11 | L880: =F880*$L$5 -> 10.11 | M880: =F880*$M$5 -> 10.11 | N880: =F880*$N$5 -> 10.11 | O880: =ROUND((SUM(K880:N880)),2) -> 40.44 | P880: =ROUND((O880),2) -> 40.44 | R880: =P880 -> 40.44
A881: Rīgas nodaļa | B881: 1000121 | C881: Mārtiņa Būmaņa ģimenes ārsta prakse, SIA | D881: 70830049106 | E881: Būmanis Mārtiņš | F881: 347 | G881: 2 | H881: 1 | I881: 0 | J881: =G881-H881-I881 -> 1 | K881: =F881*$K$5 -> 10.41 | L881: =F881*$L$5 -> 10.41 | M881: =F881*$M$5 -> 10.41 | N881: =F881*$N$5 -> 10.41 | O881: =ROUND((SUM(K881:N881)),2) -> 41.64 | P881: =ROUND((O881),2) -> 41.64 | R881: =P881 -> 41.64
A882: Rīgas nodaļa | B882: 34000004 | C882: Vivitas Skujiņas ārsta prakse, SIA | D882: 13860047707 | E882: Vivita Skujiņa | F882: 372 | G882: 3 | H882: 1 | I882: 0 | J882: =G882-H882-I882 -> 2 | K882: =F882*$K$5 -> 11.16 | L882: =F882*$L$5 -> 11.16 | M882: =F882*$M$5 -> 11.16 | N882: =F882*$N$5 -> 11.16 | O882: =ROUND((SUM(K882:N882)),2) -> 44.64 | P882: =ROUND((O882),2) -> 44.64 | R882: =P882 -> 44.64
A883: Rīgas nodaļa | B883: 804400029 | C883: Minute Clinic, SIA | D883: 64460004302 | E883: Balode Gunta | F883: 407 | G883: 3 | H883: 1 | I883: 0 | J883: =G883-H883-I883 -> 2 | K883: =F883*$K$5 -> 12.21 | L883: =F883*$L$5 -> 12.21 | M883: =F883*$M$5 -> 12.21 | N883: =F883*$N$5 -> 12.21 | O883: =ROUND((SUM(K883:N883)),2) -> 48.84 | P883: =ROUND((O883),2) -> 48.84 | R883: =P883 -> 48.84
A884: Rīgas nodaļa | B884: 10064103 | C884: MOŽUMS-1, Sabiedrība ar ierobežotu atbildību | D884: 85090056259 | E884: Jūlija Pozņaka | F884: 407 | G884: 2 | H884: 1 | I884: 0 | J884: =G884-H884-I884 -> 1 | K884: =F884*$K$5 -> 12.21 | L884: =F884*$L$5 -> 12.21 | M884: =F884*$M$5 -> 12.21 | N884: =F884*$N$5 -> 12.21 | O884: =ROUND((SUM(K884:N884)),2) -> 48.84 | P884: =ROUND((O884),2) -> 48.84 | R884: =P884 -> 48.84
A885: Rīgas nodaļa | B885: 1000142 | C885: Ludmila Černobajeva ģimenes ārsta prakse, SIA | D885: 23510059311 | E885: Černobajeva Ludmila | F885: 406 | K885: =F885*$K$5 -> 12.18 | L885: =F885*$L$5 -> 12.18 | M885: =F885*$M$5 -> 12.18 | N885: =F885*$N$5 -> 12.18 | O885: =ROUND((SUM(K885:N885)),2) -> 48.72 | P885: =ROUND((O885),2) -> 48.72 | R885: =P885 -> 48.72
A886: Vidzemes nodaļa | B886: 250000017 | C886: Berga Rudīte - ģimenes ārsta prakse | D886: 13290008944 | E886: Berga Rudīte | F886: 362 | G886: 3 | H886: 1 | I886: 0 | J886: =G886-H886-I886 -> 2 | K886: =F886*$K$5 -> 10.86 | L886: =F886*$L$5 -> 10.86 | M886: =F886*$M$5 -> 10.86 | N886: =F886*$N$5 -> 10.86 | O886: =ROUND((SUM(K886:N886)),2) -> 43.44 | P886: =ROUND((O886),2) -> 43.44 | R886: =P886 -> 43.44
A887: Vidzemes nodaļa | B887: 250000020 | C887: I. RĀVIŅAS ĀRSTA PRAKSE, SIA | D887: 76440004448 | E887: Rāviņa Inese | F887: 362 | G887: 3 | H887: 1 | I887: 0 | J887: =G887-H887-I887 -> 2 | K887: =F887*$K$5 -> 10.86 | L887: =F887*$L$5 -> 10.86 | M887: =F887*$M$5 -> 10.86 | N887: =F887*$N$5 -> 10.86 | O887: =ROUND((SUM(K887:N887)),2) -> 43.44 | P887: =ROUND((O887),2) -> 43.44 | R887: =P887 -> 43.44
A888: Vidzemes nodaļa | B888: 250000024 | C888: DH prakse, SIA | D888: 10550003244 | E888: Vorslava Dace | F888: 413 | G888: 3 | H888: 1 | I888: 0 | J888: =G888-H888-I888 -> 2 | K888: =F888*$K$5 -> 12.39 | L888: =F888*$L$5 -> 12.39 | M888: =F888*$M$5 -> 12.39 | N888: =F888*$N$5 -> 12.39 | O888: =ROUND((SUM(K888:N888)),2) -> 49.56 | P888: =ROUND((O888),2) -> 49.56 | R888: =P888 -> 49.56
A889: Vidzemes nodaļa | B889: 250000026 | C889: Pauniņš Aivars - ģimenes ārsta prakse | D889: 52200009555 | E889: Pauniņš Aivars | F889: 499 | G889: 3 | H889: 1 | I889: 0 | J889: =G889-H889-I889 -> 2 | K889: =F889*$K$5 -> 14.97 | L889: =F889*$L$5 -> 14.97 | M889: =F889*$M$5 -> 14.97 | N889: =F889*$N$5 -> 14.97 | O889: =ROUND((SUM(K889:N889)),2) -> 59.88 | P889: =ROUND((O889),2) -> 59.88 | R889: =P889 -> 59.88
A890: Vidzemes nodaļa | B890: 250000027 | C890: ŅINAS GAILĪTES ĢIMENES ĀRSTA PRAKSE, SIA | D890: 28060008038 | E890: Gailīte Ņina | F890: 654 | G890: 3 | H890: 1 | I890: 0 | J890: =G890-H890-I890 -> 2 | K890: =F890*$K$5 -> 19.62 | L890: =F890*$L$5 -> 19.62 | M890: =F890*$M$5 -> 19.62 | N890: =F890*$N$5 -> 19.62 | O890: =ROUND((SUM(K890:N890)),2) -> 78.48 | P890: =ROUND((O890),2) -> 78.48 | R890: =P890 -> 78.48
A891: Vidzemes nodaļa | B891: 250000031 | C891: ĢIMENES ĀRSTA INTAS AUZIŅAS PRIVĀTPRAKSE, SIA | D891: 73890011003 | E891: Auziņa Inta | F891: 291 | G891: 2 | H891: 1 | I891: 0 | J891: =G891-H891-I891 -> 1 | K891: =F891*$K$5 -> 8.73 | L891: =F891*$L$5 -> 8.73 | M891: =F891*$M$5 -> 8.73 | N891: =F891*$N$5 -> 8.73 | O891: =ROUND((SUM(K891:N891)),2) -> 34.92 | P891: =ROUND((O891),2) -> 34.92 | R891: =P891 -> 34.92
A892: Vidzemes nodaļa | B892: 250000081 | C892: Krustiņa Dace - ģimenes ārsta un arodveselības un arodslimību ārsta prakse | D892: 17750008894 | E892: Krustiņa Dace | F892: 426 | G892: 3 | H892: 1 | I892: 0 | J892: =G892-H892-I892 -> 2 | K892: =F892*$K$5 -> 12.78 | L892: =F892*$L$5 -> 12.78 | M892: =F892*$M$5 -> 12.78 | N892: =F892*$N$5 -> 12.78 | O892: =ROUND((SUM(K892:N892)),2) -> 51.12 | P892: =ROUND((O892),2) -> 51.12 | R892: =P892 -> 51.12
A893: Vidzemes nodaļa | B893: 250000084 | C893: Lasmane Māra - ģimenes ārsta prakse | D893: 10570000901 | E893: Lasmane Māra | F893: 192 | G893: 2 | H893: 1 | I893: 0 | J893: =G893-H893-I893 -> 1 | K893: =F893*$K$5 -> 5.76 | L893: =F893*$L$5 -> 5.76 | M893: =F893*$M$5 -> 5.76 | N893: =F893*$N$5 -> 5.76 | O893: =ROUND((SUM(K893:N893)),2) -> 23.04 | P893: =ROUND((O893),2) -> 23.04 | R893: =P893 -> 23.04
A894: Vidzemes nodaļa | B894: 250000104 | C894: Kravale Jolanta - ģimenes ārsta prakse | D894: 92210001465 | E894: Kravale Jolanta | F894: 291 | G894: 3 | H894: 1 | I894: 0 | J894: =G894-H894-I894 -> 2 | K894: =F894*$K$5 -> 8.73 | L894: =F894*$L$5 -> 8.73 | M894: =F894*$M$5 -> 8.73 | N894: =F894*$N$5 -> 8.73 | O894: =ROUND((SUM(K894:N894)),2) -> 34.92 | P894: =ROUND((O894),2) -> 34.92 | R894: =P894 -> 34.92
A895: Vidzemes nodaļa | B895: 250000108 | C895: Bērziņa Inga - ģimenes ārsta prakse | D895: 34470037479 | E895: Bērziņa Inga | F895: 687 | G895: 3 | H895: 1 | I895: 0 | J895: =G895-H895-I895 -> 2 | K895: =F895*$K$5 -> 20.61 | L895: =F895*$L$5 -> 20.61 | M895: =F895*$M$5 -> 20.61 | N895: =F895*$N$5 -> 20.61 | O895: =ROUND((SUM(K895:N895)),2) -> 82.44 | P895: =ROUND((O895),2) -> 82.44 | R895: =P895 -> 82.44
A896: Vidzemes nodaļa | B896: 250000159 | C896: Grunte Inga - ģimenes ārsta prakse | D896: 67690004758 | E896: Grunte Inga | F896: 638 | G896: 2 | H896: 1 | I896: 0 | J896: =G896-H896-I896 -> 1 | K896: =F896*$K$5 -> 19.14 | L896: =F896*$L$5 -> 19.14 | M896: =F896*$M$5 -> 19.14 | N896: =F896*$N$5 -> 19.14 | O896: =ROUND((SUM(K896:N896)),2) -> 76.56 | P896: =ROUND((O896),2) -> 76.56 | R896: =P896 -> 76.56
A897: Vidzemes nodaļa | B897: 250000171 | C897: Beātes Salenieces Ģimenes ārsta prakse, Sabiedrība ar ierobežotu atbildību | D897: 15680051435 | E897: Saleniece Beāte | F897: 534 | G897: 3 | H897: 1 | I897: 0 | J897: =G897-H897-I897 -> 2 | K897: =F897*$K$5 -> 16.02 | L897: =F897*$L$5 -> 16.02 | M897: =F897*$M$5 -> 16.02 | N897: =F897*$N$5 -> 16.02 | O897: =ROUND((SUM(K897:N897)),2) -> 64.08 | P897: =ROUND((O897),2) -> 64.08 | R897: =P897 -> 64.08
... A929: Vidzemes nodaļa | B929: 420200011 | C929: Rogoza Natālija - ģimenes ārsta prakse | D929: 55560000193 | E929: Rogoza Natālija | F929: 495 | G929: 3 | H929: 1 | I929: 0 | J929: =G929-H929-I929 -> 2 | K929: =F929*$K$5 -> 14.85 | L929: =F929*$L$5 -> 14.85 | M929: =F929*$M$5 -> 14.85 | N929: =F929*$N$5 -> 14.85 | O929: =ROUND((SUM(K929:N929)),2) -> 59.4 | P929: =ROUND((O929),2) -> 59.4 | R929: =P929 -> 59.4
A930: Vidzemes nodaļa | B930: 420200012 | C930: Žīgure Ira - ģimenes ārsta un pediatra prakse | D930: 84220007285 | E930: Žīgure Ira | F930: 278 | G930: 3 | H930: 1 | I930: 1 | J930: =G930-H930-I930 -> 1 | K930: =F930*$K$5 -> 8.34 | L930: =F930*$L$5 -> 8.34 | M930: =F930*$M$5 -> 8.34 | N930: =F930*$N$5 -> 8.34 | O930: =ROUND((SUM(K930:N930)),2) -> 33.36 | P930: =ROUND((O930/21*7),2) -> 11.12 | Q930: Līgums līdz 9.06.2023., ar 12.06.2023. pārņem Lasmane Madara | R930: =P930 -> 11.12
A931: Vidzemes nodaļa | B931: 420200015 | C931: VIZMAS OLTES ģimenes ārsta prakse, SIA | D931: 37380007036 | E931: Olte Vizma | F931: 596 | G931: 3 | H931: 1 | I931: 0 | J931: =G931-H931-I931 -> 2 | K931: =F931*$K$5 -> 17.88 | L931: =F931*$L$5 -> 17.88 | M931: =F931*$M$5 -> 17.88 | N931: =F931*$N$5 -> 17.88 | O931: =ROUND((SUM(K931:N931)),2) -> 71.52 | P931: =ROUND((O931),2) -> 71.52 | R931: =P931 -> 71.52
A932: Vidzemes nodaļa | B932: 420200016 | C932: Olte Iveta - ģimenes ārsta prakse | D932: 79760009967 | E932: Olte Iveta | F932: 602 | G932: 2 | H932: 1 | I932: 0 | J932: =G932-H932-I932 -> 1 | K932: =F932*$K$5 -> 18.06 | L932: =F932*$L$5 -> 18.06 | M932: =F932*$M$5 -> 18.06 | N932: =F932*$N$5 -> 18.06 | O932: =ROUND((SUM(K932:N932)),2) -> 72.24 | P932: =ROUND((O932),2) -> 72.24 | R932: =P932 -> 72.24
A933: Vidzemes nodaļa | B933: 420200017 | C933: Ivanova Valentīna - ģimenes ārsta un arodveselības un arodslimību ārsta prakse | D933: 99720006793 | E933: Ivanova Valentīna | F933: 463 | G933: 2 | H933: 1 | I933: 0 | J933: =G933-H933-I933 -> 1 | K933: =F933*$K$5 -> 13.89 | L933: =F933*$L$5 -> 13.89 | M933: =F933*$M$5 -> 13.89 | N933: =F933*$N$5 -> 13.89 | O933: =ROUND((SUM(K933:N933)),2) -> 55.56 | P933: =ROUND((O933),2) -> 55.56 | R933: =P933 -> 55.56
A934: Vidzemes nodaļa | B934: 420200064 | C934: Gārša Inese - ārsta prakse pediatrijā | D934: 10350008394 | E934: Gārša Inese | F934: 2026 | G934: 5 | H934: 1 | I934: 0 | J934: =G934-H934-I934 -> 4 | K934: =F934*$K$5 -> 60.78 | L934: =F934*$L$5 -> 60.78 | M934: =F934*$M$5 -> 60.78 | N934: =F934*$N$5 -> 60.78 | O934: =ROUND((SUM(K934:N934)),2) -> 243.12 | P934: =ROUND((O934),2) -> 243.12 | R934: =P934 -> 243.12
A935: Vidzemes nodaļa | B935: 420200077 | C935: Stramkale Anita - ģimenes ārsta prakse | D935: 73930009212 | E935: Stramkale Anita | F935: 325 | G935: 2 | H935: 1 | I935: 0 | J935: =G935-H935-I935 -> 1 | K935: =F935*$K$5 -> 9.75 | L935: =F935*$L$5 -> 9.75 | M935: =F935*$M$5 -> 9.75 | N935: =F935*$N$5 -> 9.75 | O935: =ROUND((SUM(K935:N935)),2) -> 39 | P935: =ROUND((O935),2) -> 39 | R935: =P935 -> 39
A936: Vidzemes nodaļa | B936: 420200084 | C936: Toms Ķēdis-ģimenes ārsta prakse, SIA | D936: 36090051340 | E936: Ķēdis Toms | F936: 504 | G936: 3 | H936: 1 | I936: 0 | J936: =G936-H936-I936 -> 2 | K936: =F936*$K$5 -> 15.12 | L936: =F936*$L$5 -> 15.12 | M936: =F936*$M$5 -> 15.12 | N936: =F936*$N$5 -> 15.12 | O936: =ROUND((SUM(K936:N936)),2) -> 60.48 | P936: =ROUND((O936),2) -> 60.48 | R936: =P936 -> 60.48
A937: Vidzemes nodaļa | B937: 421200002 | C937: Dinas Puhartes doktorāts, SIA | D937: 10300004728 | E937: Puharte-Zicmane Dina | F937: 958 | G937: 6 | H937: 2 | I937: 0 | J937: =G937-H937-I937 -> 4 | K937: =F937*$K$5 -> 28.74 | L937: =F937*$L$5 -> 28.74 | M937: =F937*$M$5 -> 28.74 | N937: =F937*$N$5 -> 28.74 | O937: =ROUND((SUM(K937:N937)),2) -> 114.96 | P937: =ROUND((O937),2) -> 114.96 | R937: =P937 -> 114.96
A938: Vidzemes nodaļa | B938: 424700007 | C938: Vasiļevskis Uldis - ģimenes ārsta prakse | D938: 81980008095 | E938: Vasiļevskis Uldis | F938: 215 | G938: 3 | H938: 1 | I938: 0 | J938: =G938-H938-I938 -> 2 | K938: =F938*$K$5 -> 6.45 | L938: =F938*$L$5 -> 6.45 | M938: =F938*$M$5 -> 6.45 | N938: =F938*$N$5 -> 6.45 | O938: =ROUND((SUM(K938:N938)),2) -> 25.8 | P938: =ROUND((O938),2) -> 25.8 | R938: =P938 -> 25.8
A939: Vidzemes nodaļa | B939: 424700008 | C939: Elmere Olita - ģimenes ārsta prakse | D939: 89550006129 | E939: Elmere Olita | F939: 40 | G939: 5 | H939: 1 | I939: 0 | J939: =G939-H939-I939 -> 4 | K939: =F939*$K$5 -> 1.2 | L939: =F939*$L$5 -> 1.2 | M939: =F939*$M$5 -> 1.2 | N939: =F939*$N$5 -> 1.2 | O939: =ROUND((SUM(K939:N939)),2) -> 4.8 | P939: =ROUND((O939),2) -> 4.8 | R939: =P939 -> 4.8
A940: Vidzemes nodaļa | B940: 427300003 | C940: Prindule Ilona - ģimenes ārsta prakse | D940: 93170009369 | E940: Prindule Ilona | F940: 340 | G940: 3 | H940: 1 | I940: 0 | J940: =G940-H940-I940 -> 2 | K940: =F940*$K$5 -> 10.2 | L940: =F940*$L$5 -> 10.2 | M940: =F940*$M$5 -> 10.2 | N940: =F940*$N$5 -> 10.2 | O940: =ROUND((SUM(K940:N940)),2) -> 40.8 | P940: =ROUND((O940),2) -> 40.8 | R940: =P940 -> 40.8
A941: Vidzemes nodaļa | B941: 427300004 | C941: Prindulis Jānis - ģimenes ārsta prakse | D941: 83900003437 | E941: Prindulis Jānis | F941: 292 | G941: 3 | H941: 1 | I941: 0 | J941: =G941-H941-I941 -> 2 | K941: =F941*$K$5 -> 8.76 | L941: =F941*$L$5 -> 8.76 | M941: =F941*$M$5 -> 8.76 | N941: =F941*$N$5 -> 8.76 | O941: =ROUND((SUM(K941:N941)),2) -> 35.04 | P941: =ROUND((O941),2) -> 35.04 | R941: =P941 -> 35.04
A942: Vidzemes nodaļa | B942: 427300005 | C942: Smeķe Aija - ģimenes ārsta prakse | D942: 63140005605 | E942: Smeķe Aija | F942: 391 | G942: 2 | H942: 1 | I942: 0 | J942: =G942-H942-I942 -> 1 | K942: =F942*$K$5 -> 11.73 | L942: =F942*$L$5 -> 11.73 | M942: =F942*$M$5 -> 11.73 | N942: =F942*$N$5 -> 11.73 | O942: =ROUND((SUM(K942:N942)),2) -> 46.92 | P942: =ROUND((O942),2) -> 46.92 | R942: =P942 -> 46.92
... A981: Vidzemes nodaļa | B981: 700200006 | C981: Rudzāta ārsta prakse, SIA | D981: 74590007565 | E981: Rudzāts Reinis | F981: 198 | G981: 7 | H981: 1 | I981: 0 | J981: =G981-H981-I981 -> 6 | K981: =F981*$K$5 -> 5.94 | L981: =F981*$L$5 -> 5.94 | M981: =F981*$M$5 -> 5.94 | N981: =F981*$N$5 -> 5.94 | O981: =ROUND((SUM(K981:N981)),2) -> 23.76 | P981: =ROUND((O981),2) -> 23.76 | R981: =P981 -> 23.76
A982: Vidzemes nodaļa | B982: 38000004 | C982: VIVERE, SIA | D982: 46980056255 | E982: Petrovska Sigita | F982: 406 | K982: =F982*$K$5 -> 12.18 | L982: =F982*$L$5 -> 12.18 | M982: =F982*$M$5 -> 12.18 | N982: =F982*$N$5 -> 12.18 | O982: =ROUND((SUM(K982:N982)),2) -> 48.72 | P982: =ROUND((O982),2) -> 48.72 | R982: =P982 -> 48.72
A983: Vidzemes nodaļa | B983: 700200012 | C983: ANITAS KLŪGAS DOKTORĀTS, SIA | D983: 96840005649 | E983: Klūga Anita | F983: 344 | G983: 3 | H983: 1 | I983: 0 | J983: =G983-H983-I983 -> 2 | K983: =F983*$K$5 -> 10.32 | L983: =F983*$L$5 -> 10.32 | M983: =F983*$M$5 -> 10.32 | N983: =F983*$N$5 -> 10.32 | O983: =ROUND((SUM(K983:N983)),2) -> 41.28 | P983: =ROUND((O983),2) -> 41.28 | R983: =P983 -> 41.28
A984: Vidzemes nodaļa | B984: 700200013 | C984: Tuča Ilona - ģimenes ārsta un pediatra prakse | D984: 30420000704 | E984: Tuča Ilona | F984: 235 | G984: 3 | H984: 1 | I984: 0 | J984: =G984-H984-I984 -> 2 | K984: =F984*$K$5 -> 7.05 | L984: =F984*$L$5 -> 7.05 | M984: =F984*$M$5 -> 7.05 | N984: =F984*$N$5 -> 7.05 | O984: =ROUND((SUM(K984:N984)),2) -> 28.2 | P984: =ROUND((O984),2) -> 28.2 | R984: =P984 -> 28.2
A985: Vidzemes nodaļa | B985: 700200022 | C985: DECIMA, SIA | D985: 87660000861 | E985: Veipa Alda | F985: 596 | G985: 3 | H985: 1 | I985: 0 | J985: =G985-H985-I985 -> 2 | K985: =F985*$K$5 -> 17.88 | L985: =F985*$L$5 -> 17.88 | M985: =F985*$M$5 -> 17.88 | N985: =F985*$N$5 -> 17.88 | O985: =ROUND((SUM(K985:N985)),2) -> 71.52 | P985: =ROUND((O985),2) -> 71.52 | R985: =P985 -> 71.52
A986: Vidzemes nodaļa | B986: 700200024 | C986: DAMIA, Sabiedrība ar ierobežotu atbildību | D986: 43060009884 | E986: Galeja Inita | F986: 1043 | G986: 4 | H986: 1 | I986: 0 | J986: =G986-H986-I986 -> 3 | K986: =F986*$K$5 -> 31.29 | L986: =F986*$L$5 -> 31.29 | M986: =F986*$M$5 -> 31.29 | N986: =F986*$N$5 -> 31.29 | O986: =ROUND((SUM(K986:N986)),2) -> 125.16 | P986: =ROUND((O986),2) -> 125.16 | R986: =P986 -> 125.16
A987: Vidzemes nodaļa | B987: 700200030 | C987: Kreicuma Ilga - ģimenes ārsta prakse | D987: 98020009035 | E987: Kreicuma Ilga | F987: 300 | G987: 2 | H987: 1 | I987: 0 | J987: =G987-H987-I987 -> 1 | K987: =F987*$K$5 -> 9 | L987: =F987*$L$5 -> 9 | M987: =F987*$M$5 -> 9 | N987: =F987*$N$5 -> 9 | O987: =ROUND((SUM(K987:N987)),2) -> 36 | P987: =ROUND((O987),2) -> 36 | R987: =P987 -> 36
A988: Vidzemes nodaļa | B988: 700200033 | C988: Stalaža Lilita - ģimenes ārsta prakse | D988: 45050009854 | E988: Stalaža Lilita | F988: 402 | G988: 3 | H988: 1 | I988: 0 | J988: =G988-H988-I988 -> 2 | K988: =F988*$K$5 -> 12.06 | L988: =F988*$L$5 -> 12.06 | M988: =F988*$M$5 -> 12.06 | N988: =F988*$N$5 -> 12.06 | O988: =ROUND((SUM(K988:N988)),2) -> 48.24 | P988: =ROUND((O988),2) -> 48.24 | R988: =P988 -> 48.24
A989: Vidzemes nodaļa | B989: 700200041 | C989: Madonas slimnīca, Madonas novada pašvaldības SIA | D989: 10400006181 | E989: Sokolova Daina | F989: 96 | G989: 3 | H989: 1 | I989: 0 | J989: =G989-H989-I989 -> 2 | K989: =F989*$K$5 -> 2.88 | L989: =F989*$L$5 -> 2.88 | M989: =F989*$M$5 -> 2.88 | N989: =F989*$N$5 -> 2.88 | O989: =ROUND((SUM(K989:N989)),2) -> 11.52 | P989: =ROUND((O989),2) -> 11.52 | R989: =P989 -> 11.52
A990: Vidzemes nodaļa | B990: 700200042 | C990: Annas Višņovas doktorāts, SIA | D990: 34320002908 | E990: Višņova Anna | F990: 365 | G990: 3 | H990: 1 | I990: 0 | J990: =G990-H990-I990 -> 2 | K990: =F990*$K$5 -> 10.95 | L990: =F990*$L$5 -> 10.95 | M990: =F990*$M$5 -> 10.95 | N990: =F990*$N$5 -> 10.95 | O990: =ROUND((SUM(K990:N990)),2) -> 43.8 | P990: =ROUND((O990),2) -> 43.8 | R990: =P990 -> 43.8
A991: Vidzemes nodaļa | B991: 700200046 | C991: Kreicberga Dace - ģimenes ārsta prakse | D991: 79870002923 | E991: Kreicberga Dace | F991: 212 | G991: 2 | H991: 1 | I991: 0 | J991: =G991-H991-I991 -> 1 | K991: =F991*$K$5 -> 6.36 | L991: =F991*$L$5 -> 6.36 | M991: =F991*$M$5 -> 6.36 | N991: =F991*$N$5 -> 6.36 | O991: =ROUND((SUM(K991:N991)),2) -> 25.44 | P991: =ROUND((O991),2) -> 25.44 | R991: =P991 -> 25.44
A992: Vidzemes nodaļa | B992: 700200047 | C992: Pujate Rasma - ģimenes ārsta prakse | D992: 84700040098 | E992: Pujate Rasma | F992: 180 | G992: 2 | H992: 1 | I992: 0 | J992: =G992-H992-I992 -> 1 | K992: =F992*$K$5 -> 5.4 | L992: =F992*$L$5 -> 5.4 | M992: =F992*$M$5 -> 5.4 | N992: =F992*$N$5 -> 5.4 | O992: =ROUND((SUM(K992:N992)),2) -> 21.6 | P992: =ROUND((O992),2) -> 21.6 | R992: =P992 -> 21.6
A993: Vidzemes nodaļa | B993: 700200068 | C993: Sanare PR, Sabiedrība ar ierobežotu atbildību | D993: 81280047302 | E993: Pomere Rita | F993: 179 | G993: 2 | H993: 1 | I993: 0 | J993: =G993-H993-I993 -> 1 | K993: =F993*$K$5 -> 5.37 | L993: =F993*$L$5 -> 5.37 | M993: =F993*$M$5 -> 5.37 | N993: =F993*$N$5 -> 5.37 | O993: =ROUND((SUM(K993:N993)),2) -> 21.48 | P993: =ROUND((O993),2) -> 21.48 | R993: =P993 -> 21.48
A994: Vidzemes nodaļa | B994: 701400003 | C994: Igaune Velta - ģimenes ārsta prakse | D994: 91080004046 | E994: Igaune Velta | F994: 729 | G994: 3 | H994: 1 | I994: 0 | J994: =G994-H994-I994 -> 2 | K994: =F994*$K$5 -> 21.87 | L994: =F994*$L$5 -> 21.87 | M994: =F994*$M$5 -> 21.87 | N994: =F994*$N$5 -> 21.87 | O994: =ROUND((SUM(K994:N994)),2) -> 87.48 | P994: =ROUND((O994),2) -> 87.48 | R994: =P994 -> 87.48
... A1040: Vidzemes nodaļa | B1040: 700200064 | C1040: Bogdanovas ģimenes ārsta prakse, Sabiedrība ar ierobežotu atbildību | D1040: 71110045095 | E1040: Bogdanova Inga | F1040: 184 | G1040: 3 | H1040: 1 | I1040: 0 | J1040: =G1040-H1040-I1040 -> 2 | K1040: =F1040*$K$5 -> 5.52 | L1040: =F1040*$L$5 -> 5.52 | M1040: =F1040*$M$5 -> 5.52 | N1040: =F1040*$N$5 -> 5.52 | O1040: =ROUND((SUM(K1040:N1040)),2) -> 22.08 | P1040: =ROUND((O1040),2) -> 22.08 | R1040: =P1040 -> 22.08
A1041: Vidzemes nodaļa | B1041: 26000011 | C1041: Lasmane Madara - ģimenes ārsta prakse | D1041: 61390046765 | E1041: Lasmane Madara | F1041: 406 | K1041: =F1041*$K$5 -> 12.18 | L1041: =F1041*$L$5 -> 12.18 | M1041: =F1041*$M$5 -> 12.18 | N1041: =F1041*$N$5 -> 12.18 | O1041: =ROUND((SUM(K1041:N1041)),2) -> 48.72 | P1041: =ROUND((O1041/21*14),2) -> 32.48 | Q1041: Jauna prakse ar 12.06.2023 | R1041: =P1041 -> 32.48
A1042: Zemgales nodaļa | B1042: 409500012 | C1042: A.Jurovas ģimenes ārsta prakse, SIA | D1042: 83610002347 | E1042: Jurova Aija | F1042: 509 | G1042: 2 | H1042: 1 | I1042: 0 | J1042: =G1042-H1042-I1042 -> 1 | K1042: =F1042*$K$5 -> 15.27 | L1042: =F1042*$L$5 -> 15.27 | M1042: =F1042*$M$5 -> 15.27 | N1042: =F1042*$N$5 -> 15.27 | O1042: =ROUND((SUM(K1042:N1042)),2) -> 61.08 | P1042: =ROUND((O1042),2) -> 61.08 | R1042: =P1042 -> 61.08
A1043: Zemgales nodaļa | B1043: 540200017 | C1043: Afanasjeva Rita - ģimenes ārsta prakse | D1043: 47440001812 | E1043: Afanasjeva Rita | F1043: 351 | G1043: 3 | H1043: 1 | I1043: 0 | J1043: =G1043-H1043-I1043 -> 2 | K1043: =F1043*$K$5 -> 10.53 | L1043: =F1043*$L$5 -> 10.53 | M1043: =F1043*$M$5 -> 10.53 | N1043: =F1043*$N$5 -> 10.53 | O1043: =ROUND((SUM(K1043:N1043)),2) -> 42.12 | P1043: =ROUND((O1043),2) -> 42.12 | R1043: =P1043 -> 42.12
A1044: Zemgales nodaļa | B1044: 90075409 | C1044: Akmentiņa Maruta - ģimenes ārsta prakse | D1044: 25540007370 | E1044: Akmentiņa Maruta | F1044: 175 | G1044: 2 | H1044: 1 | I1044: 0 | J1044: =G1044-H1044-I1044 -> 1 | K1044: =F1044*$K$5 -> 5.25 | L1044: =F1044*$L$5 -> 5.25 | M1044: =F1044*$M$5 -> 5.25 | N1044: =F1044*$N$5 -> 5.25 | O1044: =ROUND((SUM(K1044:N1044)),2) -> 21 | P1044: =ROUND((O1044),2) -> 21 | R1044: =P1044 -> 21
A1045: Zemgales nodaļa | B1045: 460200050 | C1045: Aksanas Utenkovas ārsta prakse, SIA | D1045: 10380041835 | E1045: Utenkova Aksana | F1045: 364 | G1045: 3 | H1045: 1 | I1045: 0 | J1045: =G1045-H1045-I1045 -> 2 | K1045: =F1045*$K$5 -> 10.92 | L1045: =F1045*$L$5 -> 10.92 | M1045: =F1045*$M$5 -> 10.92 | N1045: =F1045*$N$5 -> 10.92 | O1045: =ROUND((SUM(K1045:N1045)),2) -> 43.68 | P1045: =ROUND((O1045),2) -> 43.68 | R1045: =P1045 -> 43.68
A1046: Zemgales nodaļa | B1046: 540200013 | C1046: Alksne Indra - ģimenes ārsta prakse | D1046: 66570001940 | E1046: Alksne Indra | F1046: 359 | G1046: 3 | H1046: 1 | I1046: 0 | J1046: =G1046-H1046-I1046 -> 2 | K1046: =F1046*$K$5 -> 10.77 | L1046: =F1046*$L$5 -> 10.77 | M1046: =F1046*$M$5 -> 10.77 | N1046: =F1046*$N$5 -> 10.77 | O1046: =ROUND((SUM(K1046:N1046)),2) -> 43.08 | P1046: =ROUND((O1046),2) -> 43.08 | R1046: =P1046 -> 43.08
A1047: Zemgales nodaļa | B1047: 740600004 | C1047: Anitas Selezņevas ģimenes ārsta prakse, SIA | D1047: 57810011143 | E1047: Selezņeva Anita | F1047: 435 | G1047: 5 | H1047: 2 | I1047: 1 | J1047: =G1047-H1047-I1047 -> 2 | K1047: =F1047*$K$5 -> 13.05 | L1047: =F1047*$L$5 -> 13.05 | M1047: =F1047*$M$5 -> 13.05 | N1047: =F1047*$N$5 -> 13.05 | O1047: =ROUND((SUM(K1047:N1047)),2) -> 52.2 | P1047: =ROUND((O1047),2) -> 52.2 | R1047: =P1047 -> 52.2
A1048: Zemgales nodaļa | B1048: 406475401 | C1048: ANNAMED, Sabiedrība ar ierobežotu atbildību | D1048: 47500009885 | E1048: Krieva Anna | F1048: 606 | G1048: 3 | H1048: 1 | I1048: 0 | J1048: =G1048-H1048-I1048 -> 2 | K1048: =F1048*$K$5 -> 18.18 | L1048: =F1048*$L$5 -> 18.18 | M1048: =F1048*$M$5 -> 18.18 | N1048: =F1048*$N$5 -> 18.18 | O1048: =ROUND((SUM(K1048:N1048)),2) -> 72.72 | P1048: =ROUND((O1048),2) -> 72.72 | R1048: =P1048 -> 72.72
A1049: Zemgales nodaļa | B1049: 110000072 | C1049: Antonova Ināra - ģimenes ārsta prakse | D1049: 88940003082 | E1049: Antonova Ināra | F1049: 299 | G1049: 2 | H1049: 1 | I1049: 0 | J1049: =G1049-H1049-I1049 -> 1 | K1049: =F1049*$K$5 -> 8.97 | L1049: =F1049*$L$5 -> 8.97 | M1049: =F1049*$M$5 -> 8.97 | N1049: =F1049*$N$5 -> 8.97 | O1049: =ROUND((SUM(K1049:N1049)),2) -> 35.88 | P1049: =ROUND((O1049),2) -> 35.88 | R1049: =P1049 -> 35.88
...

Sheet IAL_fiks_piem_feldš
O1: Pielikums Nr.38 Ministru kabineta rīkojuma "Ministru kabineta rīkojuma "Par finanšu līdzekļu apropriācijas pārdali no budžeta resora ''74. Gadskārtējā valsts budžeta izpildes procesā pārdalāmais finansējums'' valsts budžeta programmas 12.00.00 ''Finansējums veselības jomas pasākumiem Covid-19 infekcijas izplatības ierobežošanai"" projekta sākotnējās ietekmes novērtējuma ziņojumam (anotācijai)
I2: Uz apmeklējumiem
A3: Feldšerpunktu saraksts fiksēto piemaksu izmaksai par individuālo aizsarglīdzekļu izmantošanu, sniedzot klātienes konsultācijas 2023.gadā par jūniju | H3: Pozīcija | I3: Dezinfekcijas līdzeklis rokām ārstam | J3: Dezinfekcijas līdzeklis rokām māsai | K3: Dezinfekcijas līdzeklis pacientam | L3: Dezinfekcijas līdzeklis virsmu apstrādei | N3: =ROUND(N4,0) -> 825 | P3: =ROUND(P4,0) -> 10 | Q3: =ROUNDUP(Q4,0) -> 815
C4: Vid. apmeklējumu skaits 1M | D4: 74 | H4: Izmaksas mēnesim, euro | I4: 0.03 | J4: 0.03 | K4: 0.03 | L4: 0.03 | M4: =SUM(M6:M122) -> 824.76 | N4: =SUM(N6:N122) -> 824.76 | P4: =SUM(P6:P122) -> 10.44 | Q4: =SUM(Q6:Q122) -> 814.32
A5: NVD TN | B5: ĀI kods | C5: ĀI nosaukums | D5: Apmeklējumu skaits mēnesī | E5: Personāla skaits kopā | F5: Ārstniecības personu skaits | G5: Māsu/palīgu skaits | M5: Fiksētā piemaksa uz 1 mēnesi, euro | N5: Par 2023.gada jūniju | O5: Komentārs | P5: EKK 3000 | Q5: EKK 7460
A6: Kurzemes nodaļa | B6: 27000002 | C6: Dienvidkurzemes novada Veselības aprūpes centrs AIZVĪĶU FELDŠERU PUNKTS | D6: 153 | E6: =F6+G6 -> 2 | F6: 0 | G6: 2 | I6: 0 | J6: =D6*$J$4 -> 4.59 | K6: =D6*$K$4 -> 4.59 | L6: =D6*$L$4 -> 4.59 | M6: =ROUND((I6+J6+K6+L6),2) -> 13.77 | N6: =ROUND((M6),2) -> 13.77 | Q6: =M6 -> 13.77
A7: Kurzemes nodaļa | B7: 905100008 | C7: APŠUCIEMA FELDŠERU PUNKTS, ENGURES NOVADA DOME | D7: 30 | E7: =F7+G7 -> 1 | F7: 0 | G7: 1 | I7: 0 | J7: =D7*$J$4 -> 0.9 | K7: =D7*$K$4 -> 0.9 | L7: =D7*$L$4 -> 0.9 | M7: =ROUND((I7+J7+K7+L7),2) -> 2.7 | N7: =ROUND((M7),2) -> 2.7 | Q7: =M7 -> 2.7
A8: Kurzemes nodaļa | B8: 880200008 | C8: ĀRSTA PALĪGA KABINETS (feldšera punkts), TALSU NOVADA PAŠVALDĪBA | D8: 97 | E8: =F8+G8 -> 1 | F8: 0 | G8: 1 | I8: 0 | J8: =D8*$J$4 -> 2.91 | K8: =D8*$K$4 -> 2.91 | L8: =D8*$L$4 -> 2.91 | M8: =ROUND((I8+J8+K8+L8),2) -> 8.73 | N8: =ROUND((M8),2) -> 8.73 | Q8: =M8 -> 8.73
A9: Kurzemes nodaļa | B9: 27000002 | C9: Dienvidkurzemes novada Veselības aprūpes centrs BUNKAS FELDŠERU PUNKTS | D9: 191 | E9: =F9+G9 -> 1 | F9: 0 | G9: 1 | I9: 0 | J9: =D9*$J$4 -> 5.73 | K9: =D9*$K$4 -> 5.73 | L9: =D9*$L$4 -> 5.73 | M9: =ROUND((I9+J9+K9+L9),2) -> 17.19 | N9: =ROUND((M9),2) -> 17.19 | Q9: =M9 -> 17.19
A10: Kurzemes nodaļa | B10: 27000002 | C10: Dienvidkurzemes novada Veselības aprūpes centrs DUBEŅU FELDŠERPUNKTS | D10: 47 | E10: =F10+G10 -> 1 | F10: 0 | G10: 1 | I10: 0 | J10: =D10*$J$4 -> 1.41 | K10: =D10*$K$4 -> 1.41 | L10: =D10*$L$4 -> 1.41 | M10: =ROUND((I10+J10+K10+L10),2) -> 4.23 | N10: =ROUND((M10),2) -> 4.23 | Q10: =M10 -> 4.23
A11: Kurzemes nodaļa | B11: 840600016 | C11: Gaiķu pagasta doktorāts, Saldus novada pašvaldība | D11: 29 | E11: =F11+G11 -> 1 | F11: 0 | G11: 1 | I11: 0 | J11: =D11*$J$4 -> 0.87 | K11: =D11*$K$4 -> 0.87 | L11: =D11*$L$4 -> 0.87 | M11: =ROUND((I11+J11+K11+L11),2) -> 2.61 | N11: =ROUND((M11),2) -> 2.61 | Q11: =M11 -> 2.61
A12: Kurzemes nodaļa | B12: 27000002 | C12: Dienvidkurzemes novada Veselības aprūpes centrs GAVIEZES FELDŠERPUNKTS | D12: 54 | E12: =F12+G12 -> 1 | F12: 0 | G12: 1 | I12: 0 | J12: =D12*$J$4 -> 1.62 | K12: =D12*$K$4 -> 1.62 | L12: =D12*$L$4 -> 1.62 | M12: =ROUND((I12+J12+K12+L12),2) -> 4.86 | N12: =ROUND((M12),2) -> 4.86 | Q12: =M12 -> 4.86
A13: Kurzemes nodaļa | B13: 27000002 | C13: Dienvidkurzemes novada Veselības aprūpes centrs GRAMZDAS FELDŠERU PUNKTS | D13: 153 | E13: =F13+G13 -> 2 | F13: 0 | G13: 2 | I13: 0 | J13: =D13*$J$4 -> 4.59 | K13: =D13*$K$4 -> 4.59 | L13: =D13*$L$4 -> 4.59 | M13: =ROUND((I13+J13+K13+L13),2) -> 13.77 | N13: =ROUND((M13),2) -> 13.77 | Q13: =M13 -> 13.77
A14: Kurzemes nodaļa | B14: 900200076 | C14: JAUNSĀTU PAGASTA FELDŠERU VECMĀŠU PUNKTS, Pūres un Jaunsātu pagastu pārvalde | D14: 18 | E14: =F14+G14 -> 1 | F14: 0 | G14: 1 | I14: 0 | J14: =D14*$J$4 -> 0.54 | K14: =D14*$K$4 -> 0.54 | L14: =D14*$L$4 -> 0.54 | M14: =ROUND((I14+J14+K14+L14),2) -> 1.62 | N14: =ROUND((M14),2) -> 1.62 | Q14: =M14 -> 1.62
A15: Kurzemes nodaļa | B15: 27000002 | C15: Dienvidkurzemes novada Veselības aprūpes centrs KALĒTU FELDŠERU-VECMĀŠU PUNKTS | D15: 91 | E15: =F15+G15 -> 1 | F15: 0 | G15: 1 | I15: 0 | J15: =D15*$J$4 -> 2.73 | K15: =D15*$K$4 -> 2.73 | L15: =D15*$L$4 -> 2.73 | M15: =ROUND((I15+J15+K15+L15),2) -> 8.19 | N15: =ROUND((M15),2) -> 8.19 | Q15: =M15 -> 8.19
A16: Kurzemes nodaļa | B16: 27000002 | C16: Dienvidkurzemes novada Veselības aprūpes centrs Kalvenes pagasta feldšeru-vecmāšu punkts | D16: 29 | E16: =F16+G16 -> 1 | F16: 0 | G16: 1 | I16: 0 | J16: =D16*$J$4 -> 0.87 | K16: =D16*$K$4 -> 0.87 | L16: =D16*$L$4 -> 0.87 | M16: =ROUND((I16+J16+K16+L16),2) -> 2.61 | N16: =ROUND((M16),2) -> 2.61 | Q16: =M16 -> 2.61
A17: Kurzemes nodaļa | B17: 901200020 | C17: Kandavas un pagastu apvienība | D17: 63 | E17: =F17+G17 -> 2 | F17: 0 | G17: 2 | I17: 0 | J17: =D17*$J$4 -> 1.89 | K17: =D17*$K$4 -> 1.89 | L17: =D17*$L$4 -> 1.89 | M17: =ROUND((I17+J17+K17+L17),2) -> 5.67 | N17: =ROUND((M17),2) -> 5.67 | Q17: =M17 -> 5.67
A18: Kurzemes nodaļa | B18: 840200073 | C18: Kursīšu medpunkts, KURSĪŠU PAGASTA PĀRVALDE | D18: 157 | E18: =F18+G18 -> 1 | F18: 0 | G18: 1 | I18: 0 | J18: =D18*$J$4 -> 4.71 | K18: =D18*$K$4 -> 4.71 | L18: =D18*$L$4 -> 4.71 | M18: =ROUND((I18+J18+K18+L18),2) -> 14.13 | N18: =ROUND((M18),2) -> 14.13 | Q18: =M18 -> 14.13
A19: Kurzemes nodaļa | B19: 901200001 | C19: Lapiņa Diāna - ārsta palīga prakse | D19: 116 | E19: =F19+G19 -> 1 | F19: 0 | G19: 1 | I19: 0 | J19: =D19*$J$4 -> 3.48 | K19: =D19*$K$4 -> 3.48 | L19: =D19*$L$4 -> 3.48 | M19: =ROUND((I19+J19+K19+L19),2) -> 10.44 | N19: =ROUND((M19),2) -> 10.44 | P19: =M19 -> 10.44
A20: Kurzemes nodaļa | B20: 900200077 | C20: LESTENES FELDŠERU-VECMĀŠU PUNKTS, Irlavas un Lestenes pagastu pārvalde | D20: 129 | E20: =F20+G20 -> 1 | F20: 0 | G20: 1 | I20: 0 | J20: =D20*$J$4 -> 3.87 | K20: =D20*$K$4 -> 3.87 | L20: =D20*$L$4 -> 3.87 | M20: =ROUND((I20+J20+K20+L20),2) -> 11.61 | N20: =ROUND((M20),2) -> 11.61 | Q20: =M20 -> 11.61
A21: Kurzemes nodaļa | B21: 27000002 | C21: Dienvidkurzemes novada Veselības aprūpes centrs MEDZES VESELĪBAS APRŪPES CENTRS | D21: 170 | E21: =F21+G21 -> 1 | F21: 0 | G21: 1 | I21: 0 | J21: =D21*$J$4 -> 5.1 | K21: =D21*$K$4 -> 5.1 | L21: =D21*$L$4 -> 5.1 | M21: =ROUND((I21+J21+K21+L21),2) -> 15.3 | N21: =ROUND((M21),2) -> 15.3 | Q21: =M21 -> 15.3
A22: Kurzemes nodaļa | B22: 27000002 | C22: Dienvidkurzemes novada Veselības aprūpes centrs OTAŅĶU FELDŠERPUNKTS | D22: 37 | E22: =F22+G22 -> 1 | F22: 0 | G22: 1 | I22: 0 | J22: =D22*$J$4 -> 1.11 | K22: =D22*$K$4 -> 1.11 | L22: =D22*$L$4 -> 1.11 | M22: =ROUND((I22+J22+K22+L22),2) -> 3.33 | N22: =ROUND((M22),2) -> 3.33 | Q22: =M22 -> 3.33
A23: Kurzemes nodaļa | B23: 620200048 | C23: Padures veselības punkts, Kuldīgas novada pašvaldība | D23: 61 | E23: =F23+G23 -> 1 | F23: 0 | G23: 1 | I23: 0 | J23: =D23*$J$4 -> 1.83 | K23: =D23*$K$4 -> 1.83 | L23: =D23*$L$4 -> 1.83 | M23: =ROUND((I23+J23+K23+L23),2) -> 5.49 | N23: =ROUND((M23),2) -> 5.49 | Q23: =M23 -> 5.49
A24: Kurzemes nodaļa | B24: 33000008 | C24: Nīkrāces veselības punkts, Kuldīgas novada pašvaldība | D24: 94 | E24: =F24+G24 -> 1 | F24: 0 | G24: 1 | I24: 0 | J24: =D24*$J$4 -> 2.82 | K24: =D24*$K$4 -> 2.82 | L24: =D24*$L$4 -> 2.82 | M24: =ROUND((I24+J24+K24+L24),2) -> 8.46 | N24: =ROUND((M24),2) -> 8.46 | Q24: =M24 -> 8.46
A25: Kurzemes nodaļa | B25: 27000002 | C25: Dienvidkurzemes novada Veselības aprūpes centrs Kazdangas ambulancē | D25: 43 | E25: =F25+G25 -> 1 | F25: 0 | G25: 1 | I25: 0 | J25: =D25*$J$4 -> 1.29 | K25: =D25*$K$4 -> 1.29 | L25: =D25*$L$4 -> 1.29 | M25: =ROUND((I25+J25+K25+L25),2) -> 3.87 | N25: =ROUND((M25),2) -> 3.87 | Q25: =M25 -> 3.87
A26: Kurzemes nodaļa | B26: 840200081 | C26: Saldus novada pašvaldības Zirņu doktorāts | D26: 19 | E26: =F26+G26 -> 1 | F26: 0 | G26: 1 | I26: 0 | J26: =D26*$J$4 -> 0.57 | K26: =D26*$K$4 -> 0.57 | L26: =D26*$L$4 -> 0.57 | M26: =ROUND((I26+J26+K26+L26),2) -> 1.71 | N26: =ROUND((M26),2) -> 1.71 | Q26: =M26 -> 1.71
A27: Latgales nodaļa | B27: 601000012 | C27: ANDRUPENES FELDŠERU-VECMĀŠU PUNKTS, Dagdas novada pašvaldības Andrupenes pagasta pārvalde | D27: 134 | E27: =F27+G27 -> 1 | F27: 0 | G27: 1 | I27: 0 | J27: =D27*$J$4 -> 4.02 | K27: =D27*$K$4 -> 4.02 | L27: =D27*$L$4 -> 4.02 | M27: =ROUND((I27+J27+K27+L27),2) -> 12.06 | N27: =ROUND((M27),2) -> 12.06 | Q27: =M27 -> 12.06
A28: Latgales nodaļa | B28: 601000014 | C28: ASŪNES FELDŠERU-VECMĀŠU PUNKTS, Dagdas novada pašvaldības Asūnes pagasta pārvalde | D28: 94 | E28: =F28+G28 -> 1 | F28: 0 | G28: 1 | I28: 0 | J28: =D28*$J$4 -> 2.82 | K28: =D28*$K$4 -> 2.82 | L28: =D28*$L$4 -> 2.82 | M28: =ROUND((I28+J28+K28+L28),2) -> 8.46 | N28: =ROUND((M28),2) -> 8.46 | Q28: =M28 -> 8.46
A29: Latgales nodaļa | B29: 600200022 | C29: AULEJAS FELDŠERU-AKUŠIERU PUNKTS, Krāslavas novada Aulejas pagasta pārvalde | D29: 192 | E29: =F29+G29 -> 1 | F29: 0 | G29: 1 | I29: 0 | J29: =D29*$J$4 -> 5.76 | K29: =D29*$K$4 -> 5.76 | L29: =D29*$L$4 -> 5.76 | M29: =ROUND((I29+J29+K29+L29),2) -> 17.28 | N29: =ROUND((M29),2) -> 17.28 | Q29: =M29 -> 17.28
A30: Latgales nodaļa | B30: 680200016 | C30: CIRMAS FELDŠERU – VECMĀŠU PUNKTS, CIRMAS PAGASTA PĀRVALDE | D30: 54 | E30: =F30+G30 -> 1 | F30: 0 | G30: 1 | I30: 0 | J30: =D30*$J$4 -> 1.62 | K30: =D30*$K$4 -> 1.62 | L30: =D30*$L$4 -> 1.62 | M30: =ROUND((I30+J30+K30+L30),2) -> 4.86 | N30: =ROUND((M30),2) -> 4.86 | Q30: =M30 -> 4.86
A31: Latgales nodaļa | B31: 604300001 | C31: GRĀVERU FELDŠERU PUNKTS, Aglonas novada dome | D31: 211 | E31: =F31+G31 -> 1 | F31: 0 | G31: 1 | I31: 0 | J31: =D31*$J$4 -> 6.33 | K31: =D31*$K$4 -> 6.33 | L31: =D31*$L$4 -> 6.33 | M31: =ROUND((I31+J31+K31+L31),2) -> 18.99 | N31: =ROUND((M31),2) -> 18.99 | Q31: =M31 -> 18.99
... A54: Latgales nodaļa | B54: 780200015 | C54: STOĻEROVAS PAGASTA FELDŠERU-VECMĀŠU PUNKTS, RĒZEKNES NOVADA PAŠVALDĪBAS STOĻEROVAS PAGASTA PĀRVALDE | D54: 126 | E54: =F54+G54 -> 1 | F54: 0 | G54: 1 | I54: 0 | J54: =D54*$J$4 -> 3.78 | K54: =D54*$K$4 -> 3.78 | L54: =D54*$L$4 -> 3.78 | M54: =ROUND((I54+J54+K54+L54),2) -> 11.34 | N54: =ROUND((M54),2) -> 11.34 | Q54: =M54 -> 11.34
A55: Latgales nodaļa | B55: 440200014 | C55: SVENTES FELDŠERU - VECMĀŠU PUNKTS, SVENTES PAGASTA PĀRVALDE | D55: 349 | E55: 1 | F55: 0 | G55: 1 | I55: 0 | J55: =D55*$J$4 -> 10.47 | K55: =D55*$K$4 -> 10.47 | L55: =D55*$L$4 -> 10.47 | M55: =ROUND((I55+J55+K55+L55),2) -> 31.41 | N55: =ROUND((M55),2) -> 31.41 | Q55: =M55 -> 31.41
A56: Latgales nodaļa | B56: 601000018 | C56: ŠĶAUNES FELDŠERU-AKUŠIERU PUNKTS, Dagdas novada pašvaldības Šķaunes pagasta pārvalde | D56: 201 | E56: =F56+G56 -> 1 | F56: 0 | G56: 1 | I56: 0 | J56: =D56*$J$4 -> 6.03 | K56: =D56*$K$4 -> 6.03 | L56: =D56*$L$4 -> 6.03 | M56: =ROUND((I56+J56+K56+L56),2) -> 18.09 | N56: =ROUND((M56),2) -> 18.09 | Q56: =M56 -> 18.09
A57: Latgales nodaļa | B57: 780200038 | C57: ŠTIKĀNU FELDŠERU - VECMĀŠU PUNKTS, RĒZEKNES NOVADA PAŠVALDĪBAS SILMALAS PAGASTA PĀRVALDE | D57: 37 | E57: =F57+G57 -> 1 | F57: 0 | G57: 1 | I57: 0 | J57: =D57*$J$4 -> 1.11 | K57: =D57*$K$4 -> 1.11 | L57: =D57*$L$4 -> 1.11 | M57: =ROUND((I57+J57+K57+L57),2) -> 3.33 | N57: =ROUND((M57),2) -> 3.33 | Q57: =M57 -> 3.33
A58: Latgales nodaļa | B58: 440200023 | C58: Vecsalienas pagasta feldšeru punkts, VECSALIENAS PAGASTA PĀRVALDE | D58: 117 | E58: =F58+G58 -> 1 | F58: 0 | G58: 1 | I58: 0 | J58: =D58*$J$4 -> 3.51 | K58: =D58*$K$4 -> 3.51 | L58: =D58*$L$4 -> 3.51 | M58: =ROUND((I58+J58+K58+L58),2) -> 10.53 | N58: =ROUND((M58),2) -> 10.53 | Q58: =M58 -> 10.53
A59: Latgales nodaļa | B59: 760200028 | C59: Pelēču feldšeru vecmāšu punkts, Preiļu novada pašvaldība | D59: 21 | E59: =F59+G59 -> 1 | F59: 0 | G59: 1 | I59: 0 | J59: =D59*$J$4 -> 0.63 | K59: =D59*$K$4 -> 0.63 | L59: =D59*$L$4 -> 0.63 | M59: =ROUND((I59+J59+K59+L59),2) -> 1.89 | N59: =ROUND((M59),2) -> 1.89 | Q59: =M59 -> 1.89
A60: Latgales nodaļa | B60: 781800013 | C60: SOKOLKU PAGASTA FELDŠERU-VECMĀŠU PUNKTS, VIĻĀNU NOVADA PAŠVALDĪBA | D60: 27 | E60: =F60+G60 -> 1 | F60: 0 | G60: 1 | I60: 0 | J60: =D60*$J$4 -> 0.81 | K60: =D60*$K$4 -> 0.81 | L60: =D60*$L$4 -> 0.81 | M60: =ROUND((I60+J60+K60+L60),2) -> 2.43 | N60: =ROUND((M60),2) -> 2.43 | Q60: =M60 -> 2.43
A61: Latgales nodaļa | B61: 440200013 | C61: MEDUMU PAGASTA FELDŠERU-VECMĀŠU PUNKTS, MEDUMU PAGASTA PĀRVALDE | D61: 46 | E61: =F61+G61 -> 1 | F61: 0 | G61: 1 | I61: 0 | J61: =D61*$J$4 -> 1.38 | K61: =D61*$K$4 -> 1.38 | L61: =D61*$L$4 -> 1.38 | M61: =ROUND((I61+J61+K61+L61),2) -> 4.14 | N61: =ROUND((M61),2) -> 4.14 | Q61: =M61 -> 4.14
A62: Latgales nodaļa | B62: 780200021 | C62: FEIMAŅU FELDŠERU-VECMĀŠU PUNKTS, RĒZEKNES NOVADA PAŠVALDĪBAS FEIMAŅU PAGASTA PĀRVALDE | D62: 219 | E62: =F62+G62 -> 1 | F62: 0 | G62: 1 | I62: 0 | J62: =D62*$J$4 -> 6.57 | K62: =D62*$K$4 -> 6.57 | L62: =D62*$L$4 -> 6.57 | M62: =ROUND((I62+J62+K62+L62),2) -> 19.71 | N62: =ROUND((M62),2) -> 19.71 | Q62: =M62 -> 19.71
A63: Latgales nodaļa | B63: 781800012 | C63: DEKŠĀRU FELDŠERU-VECMĀŠU PUNKTS, VIĻĀNU NOVADA PAŠVALDĪBA | D63: 37 | E63: =F63+G63 -> 2 | F63: 0 | G63: 2 | I63: 0 | J63: =D63*$J$4 -> 1.11 | K63: =D63*$K$4 -> 1.11 | L63: =D63*$L$4 -> 1.11 | M63: =ROUND((I63+J63+K63+L63),2) -> 3.33 | N63: =ROUND((M63),2) -> 3.33 | Q63: =M63 -> 3.33
A64: Latgales nodaļa | B64: 600200033 | C64: BOROVKAS FELDŠERU-VECMĀŠU PUNKTS, Krāslavas novada Ūdrīšu pagasta pārvalde | D64: 116 | E64: =F64+G64 -> 1 | F64: 0 | G64: 1 | I64: 0 | J64: =D64*$J$4 -> 3.48 | K64: =D64*$K$4 -> 3.48 | L64: =D64*$L$4 -> 3.48 | M64: =ROUND((I64+J64+K64+L64),2) -> 10.44 | N64: =ROUND((M64),2) -> 10.44 | Q64: =M64 -> 10.44
A65: Latgales nodaļa | B65: 600200032 | C65: AUGSTKALNES FELDŠERU-VECMĀŠU PUNKTS, Krāslavas novada Ūdrīšu pagasta pārvalde | D65: 121 | E65: =F65+G65 -> 1 | F65: 0 | G65: 1 | I65: 0 | J65: =D65*$J$4 -> 3.63 | K65: =D65*$K$4 -> 3.63 | L65: =D65*$L$4 -> 3.63 | M65: =ROUND((I65+J65+K65+L65),2) -> 10.89 | N65: =ROUND((M65),2) -> 10.89 | Q65: =M65 -> 10.89
A66: Latgales nodaļa | B66: 681000010 | C66: MĒRDZENES AMBULANCE, Kārsavas novada pašvaldība | D66: 65 | E66: =F66+G66 -> 1 | F66: 0 | G66: 1 | I66: 0 | J66: =D66*$J$4 -> 1.95 | K66: =D66*$K$4 -> 1.95 | L66: =D66*$L$4 -> 1.95 | M66: =ROUND((I66+J66+K66+L66),2) -> 5.85 | N66: =ROUND((M66),2) -> 5.85 | Q66: =M66 -> 5.85
A67: Latgales nodaļa | B67: 681000008 | C67: GOLIŠEVAS FELDŠERU – VECMĀŠU PUNKTS, Kārsavas novada pašvaldība | D67: 92 | E67: =F67+G67 -> 1 | F67: 0 | G67: 1 | I67: 0 | J67: =D67*$J$4 -> 2.76 | K67: =D67*$K$4 -> 2.76 | L67: =D67*$L$4 -> 2.76 | M67: =ROUND((I67+J67+K67+L67),2) -> 8.28 | N67: =ROUND((M67),2) -> 8.28 | Q67: =M67 -> 8.28
... A122: Zemgales nodaļa | B122: 20000001 | C122: Seces pagasta feldšerpunkts, Aizkraukles novada pašvaldībA | D122: 16 | E122: =F122+G122 -> 1 | F122: 0 | G122: 1 | I122: 0 | J122: =D122*$J$4 -> 0.48 | K122: =D122*$K$4 -> 0.48 | L122: =D122*$L$4 -> 0.48 | M122: =ROUND((I122+J122+K122+L122),2) -> 1.44 | N122: =ROUND((M122),2) -> 1.44 | Q122: =M122 -> 1.44

Sheet Stac_IAL
D1: Pielikums Nr.39 Ministru kabineta rīkojuma "Ministru kabineta rīkojuma "Par finanšu līdzekļu apropriācijas pārdali no budžeta resora ''74. Gadskārtējā valsts budžeta izpildes procesā pārdalāmais finansējums'' valsts budžeta programmas 12.00.00 ''Finansējums veselības jomas pasākumiem Covid-19 infekcijas izplatības ierobežošanai"" projekta sākotnējās ietekmes novērtējuma ziņojumam (anotācijai)
A2: Piemaksa gultasdienai par individuālajiem aizsardzības līdzekļiem epidemioloģiskās drošības pasākumu nodrošināšanai stacionārajās ārstniecības iestādēs 2023. gada jūnijā
A3: Ārstniecības iestādes nosaukums | B3: Manipulācijas kods | C3: Manupulācijas nosaukums | D3: Tarifs, euro | E3: Kopā, manipulāciju skaits | F3: Kopsumma, euro
A4: Ainaži, bērnu psihoneiroloģiskā slimnīca | B4: 60517 | C4: Piemaksa gultasdienai par individuālajiem aizsardzības līdzekļiem epidemioloģiskās drošības pasākumu nodrošināšanai stacionārajās ārstniecības iestādēs | D4: 0.91 | E4: 1045 | F4: =SUM(E4*D4) -> 950.95
A5: Aizkraukles slimnīca | B5: 60516 | C5: Piemaksa Covid-19 pacientu aprūpes gultasdienai par individuālajiem aizsardzības līdzekļiem epidemioloģiskās drošības pasākumu nodrošināšanai stacionārajās ārstniecības iestādēs | D5: 3.54 | E5: 8 | F5: =SUM(E5*D5) -> 28.32
A6: Aizkraukles slimnīca | B6: 60517 | C6: Piemaksa gultasdienai par individuālajiem aizsardzības līdzekļiem epidemioloģiskās drošības pasākumu nodrošināšanai stacionārajās ārstniecības iestādēs | D6: 0.91 | E6: 856 | F6: =SUM(E6*D6) -> 778.96
A7: Alūksnes slimnīca | B7: 60517 | C7: Piemaksa gultasdienai par individuālajiem aizsardzības līdzekļiem epidemioloģiskās drošības pasākumu nodrošināšanai stacionārajās ārstniecības iestādēs | D7: 0.91 | E7: 954 | F7: =SUM(E7*D7) -> 868.14
A8: Balvu un Gulbenes slimnīcu apvienība | B8: 60517 | C8: Piemaksa gultasdienai par individuālajiem aizsardzības līdzekļiem epidemioloģiskās drošības pasākumu nodrošināšanai stacionārajās ārstniecības iestādēs | D8: 0.91 | E8: 1555 | F8: =SUM(E8*D8) -> 1415.05
A9: Bauskas slimnīca | B9: 60517 | C9: Piemaksa gultasdienai par individuālajiem aizsardzības līdzekļiem epidemioloģiskās drošības pasākumu nodrošināšanai stacionārajās ārstniecības iestādēs | D9: 0.91 | E9: 571 | F9: =SUM(E9*D9) -> 519.61
A10: Bērnu klīniskā universitātes slimnīca | B10: 60516 | C10: Piemaksa Covid-19 pacientu aprūpes gultasdienai par individuālajiem aizsardzības līdzekļiem epidemioloģiskās drošības pasākumu nodrošināšanai stacionārajās ārstniecības iestādēs | D10: 3.54 | E10: 15 | F10: =SUM(E10*D10) -> 53.1
A11: Bērnu klīniskā universitātes slimnīca | B11: 60517 | C11: Piemaksa gultasdienai par individuālajiem aizsardzības līdzekļiem epidemioloģiskās drošības pasākumu nodrošināšanai stacionārajās ārstniecības iestādēs | D11: 0.91 | E11: 6050 | F11: =SUM(E11*D11) -> 5505.5
A12: Cēsu klīnika | B12: 60516 | C12: Piemaksa Covid-19 pacientu aprūpes gultasdienai par individuālajiem aizsardzības līdzekļiem epidemioloģiskās drošības pasākumu nodrošināšanai stacionārajās ārstniecības iestādēs | D12: 3.54 | E12: 12 | F12: =SUM(E12*D12) -> 42.48
A13: Cēsu klīnika | B13: 60517 | C13: Piemaksa gultasdienai par individuālajiem aizsardzības līdzekļiem epidemioloģiskās drošības pasākumu nodrošināšanai stacionārajās ārstniecības iestādēs | D13: 0.91 | E13: 1280 | F13: =SUM(E13*D13) -> 1164.8
A14: Daugavpils psihoneiroloģiskā slimnīca | B14: 60516 | C14: Piemaksa Covid-19 pacientu aprūpes gultasdienai par individuālajiem aizsardzības līdzekļiem epidemioloģiskās drošības pasākumu nodrošināšanai stacionārajās ārstniecības iestādēs | D14: 3.54 | E14: 22 | F14: =SUM(E14*D14) -> 77.88
A15: Daugavpils psihoneiroloģiskā slimnīca | B15: 60517 | C15: Piemaksa gultasdienai par individuālajiem aizsardzības līdzekļiem epidemioloģiskās drošības pasākumu nodrošināšanai stacionārajās ārstniecības iestādēs | D15: 0.91 | E15: 17487 | F15: =SUM(E15*D15) -> 15913.17
... A63: Ziemeļkurzemes reģionālā slimnīca | B63: 60517 | C63: Piemaksa gultasdienai par individuālajiem aizsardzības līdzekļiem epidemioloģiskās drošības pasākumu nodrošināšanai stacionārajās ārstniecības iestādēs | D63: 0.91 | E63: 3684 | F63: =SUM(E63*D63) -> 3352.44
A64: Kopā: | E64: =SUM(E4:E63) -> 188635 | F64: =SUM(F4:F63) -> 178209.18
F65: =ROUNDUP(F64,0) -> 178210

Sheet Subakūt_rehab
F1: Pielikums Nr.40 Ministru kabineta rīkojuma "Ministru kabineta rīkojuma "Par finanšu līdzekļu apropriācijas pārdali no budžeta resora ''74. Gadskārtējā valsts budžeta izpildes procesā pārdalāmais finansējums'' valsts budžeta programmas 12.00.00 ''Finansējums veselības jomas pasākumiem Covid-19 infekcijas izplatības ierobežošanai"" projekta sākotnējās ietekmes novērtējuma ziņojumam (anotācijai)
A2: Covid - 19 rehabilitācija 2023. gada jūnijs
A3: Ārstniecības iestādes nosaukums | B3: Pakalpojumu programmas nosaukums | C3: Stacionārās kartes nr. | D3: Mēnesis | E3: Gultas dienas tarifs | F3: Gultas dienu skaits | G3: Gultas dienu izmaksas | H3: Manipulāciju izmaksas, euro | I3: Kopsumma, euro
A4: Sanare KRC Jaunķemeri | B4: Subakūtā rehabilitācija pieaugušajiem pēc COVID-19 (augstas aprūpes intensitātes) | C4: 908592023 | D4: 06 | E4: 106.23 | F4: 10 | G4: =E4*F4 -> 1062.3 | H4: 62.38 | I4: =G4+H4 -> 1124.68
A5: Sanare KRC Jaunķemeri | B5: Subakūtā rehabilitācija pieaugušajiem pēc COVID-19 (augstas aprūpes intensitātes) | C5: 908692023 | D5: 06 | E5: 106.23 | F5: 10 | G5: =E5*F5 -> 1062.3 | H5: 62.38 | I5: =G5+H5 -> 1124.68
A6: Sanare KRC Jaunķemeri | B6: Subakūtā rehabilitācija pieaugušajiem pēc COVID-19 (augstas aprūpes intensitātes) | C6: 909092023 | D6: 06 | E6: 106.23 | F6: 9 | G6: =E6*F6 -> 956.07 | H6: 62.38 | I6: =G6+H6 -> 1018.45
A7: Sanare KRC Jaunķemeri | B7: Subakūtā rehabilitācija pieaugušajiem pēc COVID-19 (augstas aprūpes intensitātes) | C7: 909992023 | D7: 06 | E7: 106.23 | F7: 10 | G7: =E7*F7 -> 1062.3 | H7: 62.38 | I7: =G7+H7 -> 1124.68
A8: Sanare KRC Jaunķemeri | B8: Subakūtā rehabilitācija pieaugušajiem pēc COVID-19 (zemas aprūpes intensitātes) | C8: 902042023 | D8: 06 | E8: 55.2 | F8: 10 | G8: =E8*F8 -> 552 | H8: 62.38 | I8: =G8+H8 -> 614.38
A9: Sanare KRC Jaunķemeri | B9: Subakūtā rehabilitācija pieaugušajiem pēc COVID-19 (zemas aprūpes intensitātes) | C9: 902052023 | D9: 06 | E9: 55.2 | F9: 10 | G9: =E9*F9 -> 552 | H9: 62.38 | I9: =G9+H9 -> 614.38
A10: Sanare KRC Jaunķemeri | B10: Subakūtā rehabilitācija pieaugušajiem pēc COVID-19 (zemas aprūpes intensitātes) | C10: 902442023 | D10: 06 | E10: 55.2 | F10: 10 | G10: =E10*F10 -> 552 | H10: 62.38 | I10: =G10+H10 -> 614.38
A11: Sanare KRC Jaunķemeri | B11: Subakūtā rehabilitācija pieaugušajiem pēc COVID-19 (zemas aprūpes intensitātes) | C11: 902902023 | D11: 06 | E11: 55.2 | F11: 10 | G11: =E11*F11 -> 552 | H11: 62.38 | I11: =G11+H11 -> 614.38
A12: Sanare KRC Jaunķemeri | B12: Subakūtā rehabilitācija pieaugušajiem pēc COVID-19 (zemas aprūpes intensitātes) | C12: 902962023 | D12: 06 | E12: 55.2 | F12: 10 | G12: =E12*F12 -> 552 | H12: 62.38 | I12: =G12+H12 -> 614.38
A13: Sanare KRC Jaunķemeri | B13: Subakūtā rehabilitācija pieaugušajiem pēc COVID-19 (zemas aprūpes intensitātes) | C13: 902972023 | D13: 06 | E13: 55.2 | F13: 10 | G13: =E13*F13 -> 552 | H13: 62.38 | I13: =G13+H13 -> 614.38
A14: Sanare KRC Jaunķemeri | B14: Subakūtā rehabilitācija pieaugušajiem pēc COVID-19 (zemas aprūpes intensitātes) | C14: 902982023 | D14: 06 | E14: 55.2 | F14: 10 | G14: =E14*F14 -> 552 | H14: 62.38 | I14: =G14+H14 -> 614.38
A15: Sanare KRC Jaunķemeri | B15: Subakūtā rehabilitācija pieaugušajiem pēc COVID-19 (zemas aprūpes intensitātes) | C15: 902992023 | D15: 06 | E15: 55.2 | F15: 10 | G15: =E15*F15 -> 552 | H15: 62.38 | I15: =G15+H15 -> 614.38
... A79: Vidzemes slimnīca | B79: Subakūtā rehabilitācija pieaugušajiem pēc COVID-19 (zemas aprūpes intensitātes) | C79: 069822023 | D79: 06 | E79: 55.2 | F79: 20 | G79: =E79*F79 -> 1104 | H79: 423.2 | I79: =G79+H79 -> 1527.2
A80: Kopā | F80: =AVERAGE(F4:F79) -> 15.671053 | G80: =SUM(G4:G79) -> 92023.65 | H80: =SUM(H4:H79) -> 22623.27 | I80: =SUM(I4:I79) -> 114646.92
I81: =ROUNDUP(I80,0) -> 114647

Sheet Subakut.rehab_manip
F1: Pielikums Nr.41 Ministru kabineta rīkojuma "Ministru kabineta rīkojuma "Par finanšu līdzekļu apropriācijas pārdali no budžeta resora ''74. Gadskārtējā valsts budžeta izpildes procesā pārdalāmais finansējums'' valsts budžeta programmas 12.00.00 ''Finansējums veselības jomas pasākumiem Covid-19 infekcijas izplatības ierobežošanai"" projekta sākotnējās ietekmes novērtējuma ziņojumam (anotācijai)
A2: Covid - 19 rehabilitācija 2023. gada jūnijs (manipulāciju atšifrējums)
A3: Stacionārās kartes nr. | B3: Mēnesis | C3: Pakalpojumu programmas nosaukums | D3: Manipulācijas kods | E3: Manipulācijas nosaukums | F3: Manipulācijas tarifs, euro | G3: Manipulāciju skaits | H3: Manipulāciju summa, euro
A4: 010282023 | B4: 06 | C4: Subakūtā rehabilitācija pieaugušajiem pēc COVID-19 (zemas aprūpes intensitātes) | D4: 55181 | E4: Intensīvs multiprofesionāls rehabilitācijas pakalpojums stacionārā (3–4 stundas) | F4: 83.24 | G4: 16 | H4: =F4*G4 -> 1331.84
A5: 010302023 | B5: 06 | C5: Subakūtā rehabilitācija pieaugušajiem pēc COVID-19 (zemas aprūpes intensitātes) | D5: 55181 | E5: Intensīvs multiprofesionāls rehabilitācijas pakalpojums stacionārā (3–4 stundas) | F5: 83.24 | G5: 18 | H5: =F5*G5 -> 1498.32
A6: 010312023 | B6: 06 | C6: Subakūtā rehabilitācija pieaugušajiem pēc COVID-19 (zemas aprūpes intensitātes) | D6: 55181 | E6: Intensīvs multiprofesionāls rehabilitācijas pakalpojums stacionārā (3–4 stundas) | F6: 83.24 | G6: 16 | H6: =F6*G6 -> 1331.84
A7: 011142023 | B7: 06 | C7: Subakūtā rehabilitācija pieaugušajiem pēc COVID-19 (zemas aprūpes intensitātes) | D7: 55181 | E7: Intensīvs multiprofesionāls rehabilitācijas pakalpojums stacionārā (3–4 stundas) | F7: 83.24 | G7: 18 | H7: =F7*G7 -> 1498.32
A8: 011352023 | B8: 06 | C8: Subakūtā rehabilitācija pieaugušajiem pēc COVID-19 (zemas aprūpes intensitātes) | D8: 55181 | E8: Intensīvs multiprofesionāls rehabilitācijas pakalpojums stacionārā (3–4 stundas) | F8: 83.24 | G8: 18 | H8: =F8*G8 -> 1498.32
A9: 025352023 | B9: 06 | C9: Subakūtā rehabilitācija pieaugušajiem pēc COVID-19 (augstas aprūpes intensitātes) | D9: 55180 | E9: Multiprofesionāls rehabilitācijas bāzes pakalpojums stacionārā (2–3 stundas) | F9: 62.38 | G9: 3 | H9: =F9*G9 -> 187.14
A10: 025352023 | B10: 06 | C10: Subakūtā rehabilitācija pieaugušajiem pēc COVID-19 (augstas aprūpes intensitātes) | D10: 55181 | E10: Intensīvs multiprofesionāls rehabilitācijas pakalpojums stacionārā (3–4 stundas) | F10: 83.24 | G10: 10 | H10: =F10*G10 -> 832.4
A11: 025482023 | B11: 06 | C11: Subakūtā rehabilitācija pieaugušajiem pēc COVID-19 (augstas aprūpes intensitātes) | D11: 55180 | E11: Multiprofesionāls rehabilitācijas bāzes pakalpojums stacionārā (2–3 stundas) | F11: 62.38 | G11: 3 | H11: =F11*G11 -> 187.14
A12: 025482023 | B12: 06 | C12: Subakūtā rehabilitācija pieaugušajiem pēc COVID-19 (augstas aprūpes intensitātes) | D12: 55181 | E12: Intensīvs multiprofesionāls rehabilitācijas pakalpojums stacionārā (3–4 stundas) | F12: 83.24 | G12: 10 | H12: =F12*G12 -> 832.4
A13: 026012023 | B13: 06 | C13: Subakūtā rehabilitācija pieaugušajiem pēc COVID-19 (augstas aprūpes intensitātes) | D13: 55180 | E13: Multiprofesionāls rehabilitācijas bāzes pakalpojums stacionārā (2–3 stundas) | F13: 62.38 | G13: 3 | H13: =F13*G13 -> 187.14
A14: 026012023 | B14: 06 | C14: Subakūtā rehabilitācija pieaugušajiem pēc COVID-19 (augstas aprūpes intensitātes) | D14: 55181 | E14: Intensīvs multiprofesionāls rehabilitācijas pakalpojums stacionārā (3–4 stundas) | F14: 83.24 | G14: 10 | H14: =F14*G14 -> 832.4
A15: 026562023 | B15: 06 | C15: Subakūtā rehabilitācija pieaugušajiem pēc COVID-19 (augstas aprūpes intensitātes) | D15: 55180 | E15: Multiprofesionāls rehabilitācijas bāzes pakalpojums stacionārā (2–3 stundas) | F15: 62.38 | G15: 6 | H15: =F15*G15 -> 374.28
... A94: 909992023 | B94: 06 | C94: Subakūtā rehabilitācija pieaugušajiem pēc COVID-19 (augstas aprūpes intensitātes) | D94: 55180 | E94: Multiprofesionāls rehabilitācijas bāzes pakalpojums stacionārā (2–3 stundas) | F94: 62.38 | G94: 1 | H94: =F94*G94 -> 62.38
A95: Kopā: | G95: 309 | H95: =SUM(H4:H94) -> 22623.27

Sheet Covid_ārst_izm
I1: Pielikums Nr.42 Ministru kabineta rīkojuma "Ministru kabineta rīkojuma "Par finanšu līdzekļu apropriācijas pārdali no budžeta resora ''74. Gadskārtējā valsts budžeta izpildes procesā pārdalāmais finansējums'' valsts budžeta programmas 12.00.00 ''Finansējums veselības jomas pasākumiem Covid-19 infekcijas izplatības ierobežošanai"" projekta sākotnējās ietekmes novērtējuma ziņojumam (anotācijai)
A2: Covid 19 pacientu izmaksas 2023. gada jūnijs*
A3: Ārstniecības iestāde | B3: Hospitalizāciju skaits | C3: Kopā izmaksas, euro | I3: Apakšprogramma 33.17.00 | J3: Apakšprogramma 33.18.00
A4: Aizkraukles slimnīca | B4: 1 | C4: 793.7 | I4: 4867.99 | J4: 209535.93
A5: Alūksnes slimnīca | B5: 1 | C5: 44 | I5: =ROUNDUP(I4,0) -> 4868 | J5: =ROUNDUP(J4,0) -> 209536
A6: Bērnu klīniskā universitātes slimnīca | B6: 4 | C6: 666.6
A7: Daugavpils reģionālā slimnīca | B7: 11 | C7: 11381.97
A8: Jelgavas pilsētas slimnīca | B8: 17 | C8: 26233.3
A9: Jēkabpils reģionālā slimnīca | B9: 7 | C9: 9690.33
A10: Jūrmalas slimnīca | B10: 3 | C10: 6858.2
A11: Liepājas reģionālā slimnīca | B11: 3 | C11: 11692.54
A12: Limbažu slimnīca | B12: 4 | C12: 5768.1
A13: Ludzas medicīnas centrs | B13: 1 | C13: 5191.29
A14: Ogres rajona slimnīca | B14: 1 | C14: 1694.47
A15: Paula Stradiņa klīniskā universitātes slimnīca | B15: 8 | C15: 11439.73
A16: Preiļu slimnīca | B16: 6 | C16: 3109.19
A17: Rēzeknes slimnīca | B17: 14 | C17: 19103.28
... A21: Ziemeļkurzemes reģionālā slimnīca | B21: 6 | C21: 20376.68
A22: Kopā: | B22: =SUM(B4:B21) -> 134 | C22: =SUM(C4:C21) -> 214403.92
A23: * ar pamata izrakstīšanās diagnozi U07.1
A25: IT piemaksa par Covid-19 (diagnoze - U07.1) 2023. gada jūnijs*
A26: Ārstniecības iestādes nosaukums | B26: Manipulācijas kods | C26: Manipulācijas nosaukums | D26: Tarifs, euro | E26: Manipulāciju skaits | F26: Summa, euro | I26: Apakšprogramma 33.17.00 | J26: Apakšprogramma 33.18.00
A27: Daugavpils reģionālā slimnīca | B27: 03227 | C27: I līmeņa intensīvā terapija | D27: 28.04 | E27: 10 | F27: =D27*E27 -> 280.4 | I27: =F33 -> 7277.75
A28: Daugavpils reģionālā slimnīca | B28: 03227 | C28: I līmeņa intensīvā terapija | D28: 30.88 | E28: 1 | F28: =D28*E28 -> 30.88 | I28: =ROUND(I27,0) -> 7278
A29: Jelgavas pilsētas slimnīca | B29: 03227 | C29: I līmeņa intensīvā terapija | D29: 30.88 | E29: 16 | F29: =D29*E29 -> 494.08
A30: Liepājas reģionālā slimnīca | B30: 03227 | C30: I līmeņa intensīvā terapija | D30: 30.88 | E30: 10 | F30: =D30*E30 -> 308.8
A31: Liepājas reģionālā slimnīca | B31: 03228 | C31: II līmeņa intensīvā terapija | D31: 279.27 | E31: 13 | F31: =D31*E31 -> 3630.51
A32: Rīgas Austrumu klīniskā universitātes slimnīca | B32: 03228 | C32: II līmeņa intensīvā terapija | D32: 230.28 | E32: 11 | F32: =D32*E32 -> 2533.08
A33: Kopā: | E33: =SUM(E27:E32) -> 61 | F33: =SUM(F27:F32) -> 7277.75
A35: Piemaksa par gultasdienas par Covid-19 pacientu ārstēšanu 2023. gada jūnijā*
A36: Ārstniecības iestāde | B36: Tarifs, euro | C36: Manipulāciju skaits | D36: Kopsumma, euro | I36: Apakšprogramma 33.17.00 | J36: Apakšprogramma 33.18.00
A37: Daugavpils reģionālā slimnīca | B37: 33.43 | C37: 97 | D37: =B37*C37 -> 3242.71 | J37: =D49 -> 36806.43
A38: Jelgavas pilsētas slimnīca | B38: 33.43 | C38: 98 | D38: =B38*C38 -> 3276.14 | J38: =ROUND(J37,0) -> 36806
A39: Jēkabpils reģionālā slimnīca | B39: 33.43 | C39: 62 | D39: =B39*C39 -> 2072.66
A40: Jūrmalas slimnīca | B40: 33.43 | C40: 34 | D40: =B40*C40 -> 1136.62
A41: Liepājas reģionālā slimnīca | B41: 33.43 | C41: 11 | D41: =B41*C41 -> 367.73
A42: Ogres rajona slimnīca | B42: 33.43 | C42: 12 | D42: =B42*C42 -> 401.16
A43: Paula Stradiņa klīniskā universitātes slimnīca | B43: 33.43 | C43: 69 | D43: =B43*C43 -> 2306.67
A44: Rēzeknes slimnīca | B44: 33.43 | C44: 112 | D44: =B44*C44 -> 3744.16
A45: Rīgas Austrumu klīniskā universitātes slimnīca | B45: 33.43 | C45: 357 | D45: =B45*C45 -> 11934.51
A46: Tukuma slimnīca | B46: 33.43 | C46: 17 | D46: =B46*C46 -> 568.31
A47: Vidzemes slimnīca | B47: 33.43 | C47: 115 | D47: =B47*C47 -> 3844.45
A48: Ziemeļkurzemes reģionālā slimnīca | B48: 33.43 | C48: 117 | D48: =B48*C48 -> 3911.31
A49: Kopā: | C49: =SUM(C37:C48) -> 1101 | D49: =SUM(D37:D48) -> 36806.43
A50: * ar pamata izrakstīšanās diagnozi U07.1
H51: Kopā, euro | I51: Apakšprogramma 33.17.00 | J51: Apakšprogramma 33.18.00
H52: =I52+J52 -> 258488 | I52: =I5+I28+I38 -> 12146 | J52: =J5+J28+J38 -> 246342
