Workbook
Name Recover: [1]Macro1!$A$99
Name Rikojums2222: [2]Macro1!$A$106
Name TableName: "Dummy"

Sheet Kopsavilkums
C1: Pielikums Nr.15 Ministru kabineta rīkojuma "Ministru kabineta rīkojuma "Par finanšu līdzekļu apropriācijas pārdali no budžeta resora ''74. Gadskārtējā valsts budžeta izpildes procesā pārdalāmais finansējums'' valsts budžeta programmas 12.00.00 ''Finansējums veselības jomas pasākumiem Covid-19 infekcijas izplatības ierobežošanai"" projekta sākotnējās ietekmes novērtējuma ziņojumam (anotācijai)
B2: Maijs | C2: euro | D2: EKK 3000 | E2: Apakšprogrammu sadalījums | F2: MK noteikumu apakšpunkts
B3: Izmaksas par Covid 19 izmeklējumiem | C3: =C4+C5+C6+C13 -> 132247 | D3: =D4+D5+D6+D13 -> 132247
B4: Piemaksa par Covid-19 diagnostiku stacionāros | C4: =ātrie_testi_stac_daļa!J79 -> 91023 | D4: =C4 -> 91023 | E4: 33.18.00 | F4: MK not.Nr.555 274.1
B5: Covid-19 diagnostikas manipulācijas ( ātrie testi, ambulatorā daļa) | C5: =ātrie_testi_amb_daļa!G25 -> 8447 | D5: =C5 -> 8447 | E5: 33.16.00 | F5: MK not.Nr.555 274.1
B6: Covid-19 pakalpojumu programma laboratorijām | C6: =SUM(C7:C12) -> 30829 | D6: =SUM(D7:D12) -> 30829
B7: Rīgas Austrumu klīniskā universitātes slimnīca, SIA | C7: =Covid_pakalp_progr!H20 -> 15050 | D7: =C7 -> 15050 | E7: 33.16.00 | F7: MK not.Nr.555 274.1
B8: „Centrālā laboratorija” SIA | C8: =Covid_pakalp_progr!H37 -> 8198 | D8: =C8 -> 8198 | E8: 33.16.00
B9: NMS Laboratorija, SIA | C9: =Covid_pakalp_progr!H28 -> 152 | D9: =C9 -> 152 | E9: 33.16.00
B10: Paula Stradiņa klīniskā universitātes slimnīca, VSIA | C10: =Covid_pakalp_progr!H45 -> 2317 | D10: =C10 -> 2317 | E10: 33.16.00
B11: Ogres rajona slimnīca SIA | C11: =Covid_pakalp_progr!H58 -> 5 | D11: =C11 -> 5 | E11: 33.16.00
B12: Daugavpils reģionālā slimnīca SIA | C12: =Covid_pakalp_progr!H52 -> 5107 | D12: =C12 -> 5107 | E12: 33.16.00
B13: Citas saistītās Covid-19 izmeklējumu izmaksas | C13: =SUM(C14:C14) -> 1948 | D13: =SUM(D14:D14) -> 1948
B14: Rīgas Austrumu klīniskā universitātes slimnīca SIA: Sekvencēšana | C14: =Sekvencēšana!E12 -> 1948 | D14: =C14 -> 1948 | E14: 33.16.00 | F14: MK not.Nr.555 274.1

Sheet ātrie_testi_stac_daļa
F1: Turpinājums pielikumam Nr.15 Ministru kabineta rīkojuma "Ministru kabineta rīkojuma "Par finanšu līdzekļu apropriācijas pārdali no budžeta resora ''74. Gadskārtējā valsts budžeta izpildes procesā pārdalāmais finansējums'' valsts budžeta programmas 12.00.00 ''Finansējums veselības jomas pasākumiem Covid-19 infekcijas izplatības ierobežošanai"" projekta sākotnējās ietekmes novērtējuma ziņojumam (anotācijai)
A2: Piemaksa par Covid-19 diagnostiku stacionāros 2023. gada maijs
A3: Ārstniecības iestādes nosaukums | B3: Manipulācijas kods | C3: Manupulācijas nosaukums | D3: Tarifs, euro | E3: Janvāris, 2023 | F3: Februāris, 2023 | G3: Marts, 2023 | H3: Aprīlis, 2023 | I3: Maijs, 2023 | J3: Kopsumma, euro
A4: Aizkraukles slimnīca | B4: 47268 | C4: SARS-CoV-2 (COVID-19) antigēna noteikšana (Ag eksprestests) (ar reaģenta komplekta vērtību) | D4: 4.52 | E4: 7 | F4: 4 | G4: 2 | H4: 0 | I4: 0 | J4: =D4*(E4+F4+G4+H4+I4) -> 58.76
A5: Aizkraukles slimnīca | B5: 47268 | C5: SARS-CoV-2 (COVID-19) antigēna noteikšana (Ag eksprestests) (ar reaģenta komplekta vērtību) | D5: 4.77 | E5: 0 | F5: 0 | G5: 0 | H5: 44 | I5: 45 | J5: =D5*(E5+F5+G5+H5+I5) -> 424.53
A6: Balvu un Gulbenes slimnīcu apvienība | B6: 47328 | C6: SARS-CoV-2 (COVID-19) antigēna noteikšana (Ag eksprestests) (bez reaģenta komplekta vērtības) | D6: 3.83 | E6: 0 | F6: 0 | G6: 1 | H6: 0 | I6: 0 | J6: =D6*(E6+F6+G6+H6+I6) -> 3.83
A7: Balvu un Gulbenes slimnīcu apvienība | B7: 47328 | C7: SARS-CoV-2 (COVID-19) antigēna noteikšana (Ag eksprestests) (bez reaģenta komplekta vērtības) | D7: 4.05 | E7: 0 | F7: 0 | G7: 0 | H7: 0 | I7: 208 | J7: =D7*(E7+F7+G7+H7+I7) -> 842.4
A8: Bauskas slimnīca | B8: 47328 | C8: SARS-CoV-2 (COVID-19) antigēna noteikšana (Ag eksprestests) (bez reaģenta komplekta vērtības) | D8: 3.83 | E8: 0 | F8: 0 | G8: 30 | H8: 0 | I8: 0 | J8: =D8*(E8+F8+G8+H8+I8) -> 114.9
A9: Bauskas slimnīca | B9: 47328 | C9: SARS-CoV-2 (COVID-19) antigēna noteikšana (Ag eksprestests) (bez reaģenta komplekta vērtības) | D9: 4.05 | E9: 0 | F9: 0 | G9: 0 | H9: 29 | I9: 44 | J9: =D9*(E9+F9+G9+H9+I9) -> 295.65
A10: Bērnu klīniskā universitātes slimnīca | B10: 47268 | C10: SARS-CoV-2 (COVID-19) antigēna noteikšana (Ag eksprestests) (ar reaģenta komplekta vērtību) | D10: 4.77 | E10: 0 | F10: 0 | G10: 0 | H10: 0 | I10: 2 | J10: =D10*(E10+F10+G10+H10+I10) -> 9.54
A11: Cēsu klīnika | B11: 47268 | C11: SARS-CoV-2 (COVID-19) antigēna noteikšana (Ag eksprestests) (ar reaģenta komplekta vērtību) | D11: 4.52 | E11: 0 | F11: 0 | G11: 6 | H11: 0 | I11: 0 | J11: =D11*(E11+F11+G11+H11+I11) -> 27.12
A12: Cēsu klīnika | B12: 47268 | C12: SARS-CoV-2 (COVID-19) antigēna noteikšana (Ag eksprestests) (ar reaģenta komplekta vērtību) | D12: 4.77 | E12: 0 | F12: 0 | G12: 0 | H12: 14 | I12: 270 | J12: =D12*(E12+F12+G12+H12+I12) -> 1354.68
A13: Daugavpils psihoneiroloģiskā slimnīca | B13: 47078 | C13: SARS-CoV-2 RNS (COVID-19) noteikšana ar reālā laika PĶR (bez parauga paņemšanas) ātrai diagnostikai un diferenciāldiagnostikai (ar reaģenta vērtību) | D13: 44.25 | E13: 0 | F13: 0 | G13: 2 | H13: 0 | I13: 0 | J13: =D13*(E13+F13+G13+H13+I13) -> 88.5
A14: Daugavpils psihoneiroloģiskā slimnīca | B14: 47078 | C14: SARS-CoV-2 RNS (COVID-19) noteikšana ar reālā laika PĶR (bez parauga paņemšanas) ātrai diagnostikai un diferenciāldiagnostikai (ar reaģenta vērtību) | D14: 44.58 | E14: 0 | F14: 0 | G14: 0 | H14: 9 | I14: 15 | J14: =D14*(E14+F14+G14+H14+I14) -> 1069.92
A15: Daugavpils psihoneiroloģiskā slimnīca | B15: 47268 | C15: SARS-CoV-2 (COVID-19) antigēna noteikšana (Ag eksprestests) (ar reaģenta komplekta vērtību) | D15: 4.52 | E15: 0 | F15: 0 | G15: 66 | H15: 0 | I15: 0 | J15: =D15*(E15+F15+G15+H15+I15) -> 298.32
... A77: Ziemeļkurzemes reģionālā slimnīca | B77: 47268 | C77: SARS-CoV-2 (COVID-19) antigēna noteikšana (Ag eksprestests) (ar reaģenta komplekta vērtību) | D77: 4.77 | E77: 0 | F77: 0 | G77: 0 | H77: 0 | I77: 18 | J77: =D77*(E77+F77+G77+H77+I77) -> 85.86
A78: Kopā: | E78: 20 | F78: 11 | G78: 196 | H78: 728 | I78: 10853 | J78: =SUM(J4:J77) -> 91022.16
J79: =ROUNDUP(J78,0) -> 91023

Sheet ātrie_testi_amb_daļa
E1: Turpinājums pielikumam Nr.15 Ministru kabineta rīkojuma "Ministru kabineta rīkojuma "Par finanšu līdzekļu apropriācijas pārdali no budžeta resora ''74. Gadskārtējā valsts budžeta izpildes procesā pārdalāmais finansējums'' valsts budžeta programmas 12.00.00 ''Finansējums veselības jomas pasākumiem Covid-19 infekcijas izplatības ierobežošanai"" projekta sākotnējās ietekmes novērtējuma ziņojumam (anotācijai)
A2: Rēķina mēnesis: maijs 2022
A3: Covid-19 diagnostikas manipulācijas ( ātrie testi, ambulatorā daļa)
A4: NVD TN (pakalpojumu sniedzēja) | B4: ĀI (pakalpojumu sniedzēja) nosaukums | C4: Manipulācijas kods | D4: Manipulācijas nosaukums | E4: Manipulāciju skaits | F4: Tarifs, euro | G4: Summa, euro
A5: NVD Kurzemes nodaļa | B5: Ziemeļkurzemes reģionālā slimnīca, SIA | C5: 47268 | D5: SARS-CoV-2 (COVID-19) antigēna noteikšana (Ag eksprestests) (ar reaģenta komplekta vērtību) | E5: 3 | F5: 4.77 | G5: =E5*F5 -> 14.31
A6: NVD Kurzemes nodaļa | B6: Tukuma slimnīca, Sabiedrība ar ierobežotu atbildību | C6: 47328 | D6: SARS-CoV-2 (COVID-19) antigēna noteikšana (Ag eksprestests) (bez reaģenta komplekta vērtības) | E6: 31 | F6: 4.05 | G6: =E6*F6 -> 125.55
A7: NVD Latgales nodaļa | B7: Latgales medicīnas centrs, Sabiedrība ar ierobežotu atbildību | C7: 47268 | D7: SARS-CoV-2 (COVID-19) antigēna noteikšana (Ag eksprestests) (ar reaģenta komplekta vērtību) | E7: 1 | F7: 4.77 | G7: =E7*F7 -> 4.77
A8: NVD Latgales nodaļa | B8: RĒZEKNES SLIMNĪCA, Sabiedrība ar ierobežotu atbildību | C8: 47268 | D8: SARS-CoV-2 (COVID-19) antigēna noteikšana (Ag eksprestests) (ar reaģenta komplekta vērtību) | E8: 471 | F8: 4.77 | G8: =E8*F8 -> 2246.67
A9: NVD Latgales nodaļa | B9: Ludzas medicīnas centrs, Sabiedrība ar ierobežotu atbildību | C9: 47268 | D9: SARS-CoV-2 (COVID-19) antigēna noteikšana (Ag eksprestests) (ar reaģenta komplekta vērtību) | E9: 11 | F9: 4.77 | G9: =E9*F9 -> 52.47
A10: NVD Latgales nodaļa | B10: Preiļu slimnīca, Sabiedrība ar ierobežotu atbildību | C10: 47328 | D10: SARS-CoV-2 (COVID-19) antigēna noteikšana (Ag eksprestests) (bez reaģenta komplekta vērtības) | E10: 1 | F10: 4.05 | G10: =E10*F10 -> 4.05
A11: NVD Rīgas nodaļa | B11: Bērnu klīniskā universitātes slimnīca, Valsts sabiedrība ar ierobežotu atbildību | C11: 47268 | D11: SARS-CoV-2 (COVID-19) antigēna noteikšana (Ag eksprestests) (ar reaģenta komplekta vērtību) | E11: 9 | F11: 4.77 | G11: =E11*F11 -> 42.93
A12: NVD Rīgas nodaļa | B12: Bērnu klīniskā universitātes slimnīca, Valsts sabiedrība ar ierobežotu atbildību | C12: 47328 | D12: SARS-CoV-2 (COVID-19) antigēna noteikšana (Ag eksprestests) (bez reaģenta komplekta vērtības) | E12: 354 | F12: 4.05 | G12: =E12*F12 -> 1433.7
A13: NVD Rīgas nodaļa | B13: Rīgas 2. slimnīca, SIA | C13: 47328 | D13: SARS-CoV-2 (COVID-19) antigēna noteikšana (Ag eksprestests) (bez reaģenta komplekta vērtības) | E13: 68 | F13: 4.05 | G13: =E13*F13 -> 275.4
A14: NVD Rīgas nodaļa | B14: Nacionālais rehabilitācijas centrs "Vaivari", Valsts sabiedrība ar ierobežotu atbildību | C14: 47268 | D14: SARS-CoV-2 (COVID-19) antigēna noteikšana (Ag eksprestests) (ar reaģenta komplekta vērtību) | E14: 2 | F14: 4.77 | G14: =E14*F14 -> 9.54
A15: NVD Rīgas nodaļa | B15: Jūrmalas slimnīca, Sabiedrība ar ierobežotu atbildību | C15: 47268 | D15: SARS-CoV-2 (COVID-19) antigēna noteikšana (Ag eksprestests) (ar reaģenta komplekta vērtību) | E15: 1 | F15: 4.77 | G15: =E15*F15 -> 4.77
A16: NVD Rīgas nodaļa | B16: Jūrmalas slimnīca, Sabiedrība ar ierobežotu atbildību | C16: 47328 | D16: SARS-CoV-2 (COVID-19) antigēna noteikšana (Ag eksprestests) (bez reaģenta komplekta vērtības) | E16: 172 | F16: 4.05 | G16: =E16*F16 -> 696.6
... A23: NVD Zemgales nodaļa | B23: Dobeles un apkārtnes slimnīca, SIA | C23: 47328 | D23: SARS-CoV-2 (COVID-19) antigēna noteikšana (Ag eksprestests) (bez reaģenta komplekta vērtības) | E23: 17 | F23: 4.05 | G23: =E23*F23 -> 68.85
F24: Pavisam kopā: | G24: =SUM(G5:G23) -> 8446.83
F25: Kopā | G25: =ROUNDUP(G24,0) -> 8447

Sheet Covid_pakalp_progr
F1: Turpinājums pielikumam Nr.15 Ministru kabineta rīkojuma "Ministru kabineta rīkojuma "Par finanšu līdzekļu apropriācijas pārdali no budžeta resora ''74. Gadskārtējā valsts budžeta izpildes procesā pārdalāmais finansējums'' valsts budžeta programmas 12.00.00 ''Finansējums veselības jomas pasākumiem Covid-19 infekcijas izplatības ierobežošanai"" projekta sākotnējās ietekmes novērtējuma ziņojumam (anotācijai)
A2: Covid-19 pakalpojumu programma laboratorijām
A3: Rēķina mēnesis: maijs 2023
A4: NVD TN (pakalpojumu sniedzēja) | B4: ĀI (pakalpojumu sniedzēja) | C4: Pakalpojumu programma | D4: Manipulācijas kods | E4: Manipulācijas nosaukums | F4: Manipulāciju skaits | G4: Tarifs, euro | H4: Summa, euro
A5: 12 - NVD Rīgas nodaļa | B5: 010000234 - Rīgas Austrumu klīniskā universitātes slimnīca, SIA | C5: AP82 - Covid-19 laboratorijas pakalpojumi | D5: 47073 | E5: SARS-CoV-2 RNS (COVID-19) noteikšana ar reālā laika PĶR (bez parauga paņemšanas) | F5: 19 | G5: 23.65 | H5: =F5*G5 -> 449.35
A6: 12 - NVD Rīgas nodaļa | B6: 010000234 - Rīgas Austrumu klīniskā universitātes slimnīca, SIA | C6: AP82 - Covid-19 laboratorijas pakalpojumi | D6: 47078 | E6: SARS-CoV-2 RNS (COVID-19) noteikšana ar reālā laika PĶR (bez parauga paņemšanas) ātrai diagnostikai un diferenciāldiagnostikai (ar reaģenta vērtību) | F6: 33 | G6: 44.58 | H6: =F6*G6 -> 1471.14
A7: 12 - NVD Rīgas nodaļa | B7: 010000234 - Rīgas Austrumu klīniskā universitātes slimnīca, SIA | C7: AP82 - Covid-19 laboratorijas pakalpojumi | D7: 47079 | E7: SARS-CoV-2 (COVID-19) transporta barotne ar diviem lokaniem tamponiem | F7: 486 | G7: 0.8 | H7: =F7*G7 -> 388.8
A8: 12 - NVD Rīgas nodaļa | B8: 010000234 - Rīgas Austrumu klīniskā universitātes slimnīca, SIA | C8: AP82 - Covid-19 laboratorijas pakalpojumi | D8: 47328 | E8: SARS-CoV-2 (COVID-19) antigēna noteikšana (Ag eksprestests) (bez reaģenta komplekta vērtības) | F8: 87 | G8: 4.05 | H8: =F8*G8 -> 352.35
A9: 12 - NVD Rīgas nodaļa | B9: 010000234 - Rīgas Austrumu klīniskā universitātes slimnīca, SIA | C9: AP82 - Covid-19 laboratorijas pakalpojumi | D9: 47416 | E9: SARS-CoV-2 (COVID-19) ambulatora parauga (nazofaringeāla uztriepe) paņemšana laboratorijā | F9: 2 | G9: 2.14 | H9: =F9*G9 -> 4.28
A10: 12 - NVD Rīgas nodaļa | B10: 010000234 - Rīgas Austrumu klīniskā universitātes slimnīca, SIA | C10: AP82 - Covid-19 laboratorijas pakalpojumi | D10: 47420R | E10: SARS-CoV-2 genotipēšana ar sekvencēšanu epidemioloģijas jomā (ar reaģenta vērtību) | F10: 39 | G10: 214.17 | H10: =F10*G10 -> 8352.63
A11: 12 - NVD Rīgas nodaļa | B11: 010000234 - Rīgas Austrumu klīniskā universitātes slimnīca, SIA | C11: AP82 - Covid-19 laboratorijas pakalpojumi | D11: 47046R | E11: R IgA klases antivielu pret SARS-CoV-2 (COVID-19) noteikšana ar imūnfermentatīvo metodi (ELISA, CMIA, ECLIA, CLIA) | F11: 3 | G11: 14.21 | H11: =F11*G11 -> 42.63
A12: 12 - NVD Rīgas nodaļa | B12: 010000234 - Rīgas Austrumu klīniskā universitātes slimnīca, SIA | C12: AP82 - Covid-19 laboratorijas pakalpojumi | D12: 47047R | E12: R IgM klases antivielu pret SARS-CoV-2 (COVID-19) noteikšana ar imūnfermentatīvo metodi (ELISA, CMIA, ECLIA, CLIA) | F12: 65 | G12: 14.21 | H12: =F12*G12 -> 923.65
A13: 12 - NVD Rīgas nodaļa | B13: 010000234 - Rīgas Austrumu klīniskā universitātes slimnīca, SIA | C13: AP82 - Covid-19 laboratorijas pakalpojumi | D13: 47075R | E13: R SARS-CoV-2 RNS (COVID 19) apstiprināšana ar reālā laika PĶR (bez parauga paņemšanas) | F13: 36 | G13: 24.92 | H13: =F13*G13 -> 897.12
A14: 12 - NVD Rīgas nodaļa | B14: 010000234 - Rīgas Austrumu klīniskā universitātes slimnīca, SIA | C14: AP82 - Covid-19 laboratorijas pakalpojumi | D14: 47049R | E14: R IgG klases antivielu pret SARS-CoV-2 (COVID-19) noteikšana ar imūnfermentatīvo metodi (ELISA, CMIA, ECLIA, CLIA) | F14: 68 | G14: 14.21 | H14: =F14*G14 -> 966.28
A15: 12 - NVD Rīgas nodaļa | B15: 010000234 - Rīgas Austrumu klīniskā universitātes slimnīca, SIA | C15: AP82 - Covid-19 laboratorijas pakalpojumi | D15: 47051R | E15: R IgG klases antivielu pret SARS-CoV-2 (COVID-19) kvantitatīva noteikšana ar imūnfermentatīvo metodi (ELISA, CMIA, ECLIA, CLIA) | F15: 53 | G15: 21.74 | H15: =F15*G15 -> 1152.22
A16: 12 - NVD Rīgas nodaļa | B16: 010000234 - Rīgas Austrumu klīniskā universitātes slimnīca, SIA | C16: AP82 - Covid-19 laboratorijas pakalpojumi | D16: 47076R | E16: R Asins ņemšana ar slēgtu sistēmu vienā stobriņā antivielu pret SARS-CoV-2 (COVID-19) noteikšanai | F16: 34 | G16: 1.44 | H16: =F16*G16 -> 48.96
G17: Kopā: | H17: =SUM(H5:H16) -> 15049.41
G18: Reaģenti
G19: Pavisam kopā: | H19: =H17+H18 -> 15049.41
H20: =ROUNDUP(H19,0) -> 15050
A23: NVD TN (pakalpojumu sniedzēja) | B23: ĀI (pakalpojumu sniedzēja) | C23: Pakalpojumu programma | D23: Manipulācijas kods | E23: Manipulācijas nosaukums | F23: Manipulāciju skaits | G23: Tarifs, euro | H23: Summa, euro
A24: 12 - NVD Rīgas nodaļa | B24: 010068301 - NMS Laboratorija, SIA | C24: AP82 - Covid-19 laboratorijas pakalpojumi | D24: 47073 | E24: SARS-CoV-2 RNS (COVID-19) noteikšana ar reālā laika PĶR (bez parauga paņemšanas) | F24: 6 | G24: 23.65 | H24: =F24*G24 -> 141.9
A25: 12 - NVD Rīgas nodaļa | B25: 010068301 - NMS Laboratorija, SIA | C25: AP82 - Covid-19 laboratorijas pakalpojumi | D25: 47079 | E25: SARS-CoV-2 (COVID-19) transporta barotne ar diviem lokaniem tamponiem | F25: 6 | G25: 0.8 | H25: =F25*G25 -> 4.8
A26: 12 - NVD Rīgas nodaļa | B26: 010068301 - NMS Laboratorija, SIA | C26: AP82 - Covid-19 laboratorijas pakalpojumi | D26: 47268 | E26: SARS-CoV-2 (COVID-19) antigēna noteikšana (Ag eksprestests) (ar reaģenta komplekta vērtību) | F26: 1 | G26: 4.77 | H26: =F26*G26 -> 4.77
G27: Pavisam kopā: | H27: =SUM(H24:H26) -> 151.47
H28: =ROUNDUP(H27,0) -> 152
A30: NVD TN (pakalpojumu sniedzēja) | B30: ĀI (pakalpojumu sniedzēja) | C30: Pakalpojumu programma | D30: Manipulācijas kods | E30: Manipulācijas nosaukums | F30: Manipulāciju skaits | G30: Tarifs, euro | H30: Summa, euro
A31: 12 - NVD Rīgas nodaļa | B31: 010068302 - CENTRĀLĀ LABORATORIJA, Sabiedrība ar ierobežotu atbildību | C31: AP82 - Covid-19 laboratorijas pakalpojumi | D31: 47073 | E31: SARS-CoV-2 RNS (COVID-19) noteikšana ar reālā laika PĶR (bez parauga paņemšanas) | F31: 110 | G31: 23.65 | H31: =F31*G31 -> 2601.5
A32: 12 - NVD Rīgas nodaļa | B32: 010068302 - CENTRĀLĀ LABORATORIJA, Sabiedrība ar ierobežotu atbildību | C32: AP82 - Covid-19 laboratorijas pakalpojumi | D32: 47075 | E32: SARS-CoV-2 RNS (COVID-19) apstiprināšana ar reālā laika PĶR (bez parauga paņemšanas) | F32: 39 | G32: 24.92 | H32: =F32*G32 -> 971.88
A33: 12 - NVD Rīgas nodaļa | B33: 010068302 - CENTRĀLĀ LABORATORIJA, Sabiedrība ar ierobežotu atbildību | C33: AP82 - Covid-19 laboratorijas pakalpojumi | D33: 47078 | E33: SARS-CoV-2 RNS (COVID-19) noteikšana ar reālā laika PĶR (bez parauga paņemšanas) ātrai diagnostikai un diferenciāldiagnostikai (ar reaģenta vērtību) | F33: 101 | G33: 44.58 | H33: =F33*G33 -> 4502.58
A34: 12 - NVD Rīgas nodaļa | B34: 010068302 - CENTRĀLĀ LABORATORIJA, Sabiedrība ar ierobežotu atbildību | C34: AP82 - Covid-19 laboratorijas pakalpojumi | D34: 47079 | E34: SARS-CoV-2 (COVID-19) transporta barotne ar diviem lokaniem tamponiem | F34: 110 | G34: 0.8 | H34: =F34*G34 -> 88
A35: 12 - NVD Rīgas nodaļa | B35: 010068302 - CENTRĀLĀ LABORATORIJA, Sabiedrība ar ierobežotu atbildību | C35: AP82 - Covid-19 laboratorijas pakalpojumi | D35: 47268 | E35: SARS-CoV-2 (COVID-19) antigēna noteikšana (Ag eksprestests) (ar reaģenta komplekta vērtību) | F35: 7 | G35: 4.77 | H35: =F35*G35 -> 33.39
G36: Pavisam kopā: | H36: =SUM(H31:H35) -> 8197.35
H37: =ROUNDUP(H36,0) -> 8198
A40: NVD TN (pakalpojumu sniedzēja) | B40: ĀI (pakalpojumu sniedzēja) | C40: Pakalpojumu programma | D40: Manipulācijas kods | E40: Manipulācijas nosaukums | F40: Manipulāciju skaits | G40: Tarifs, euro | H40: Summa, euro
A41: 12 - NVD Rīgas nodaļa | B41: 010011803 - Paula Stradiņa klīniskā universitātes slimnīca, Valsts sabiedrība ar ierobežotu atbildību | C41: AP82 - Covid-19 laboratorijas pakalpojumi | D41: 47073 | E41: SARS-CoV-2 RNS (COVID-19) noteikšana ar reālā laika PĶR (bez parauga paņemšanas) | F41: 2 | G41: 23.65 | H41: =F41*G41 -> 47.3
A42: 12 - NVD Rīgas nodaļa | B42: 010011803 - Paula Stradiņa klīniskā universitātes slimnīca, Valsts sabiedrība ar ierobežotu atbildību | C42: AP82 - Covid-19 laboratorijas pakalpojumi | D42: 47078 | E42: SARS-CoV-2 RNS (COVID-19) noteikšana ar reālā laika PĶR (bez parauga paņemšanas) ātrai diagnostikai un diferenciāldiagnostikai (ar reaģenta vērtību) | F42: 50 | G42: 44.58 | H42: =F42*G42 -> 2229
A43: 12 - NVD Rīgas nodaļa | B43: 010011803 - Paula Stradiņa klīniskā universitātes slimnīca, Valsts sabiedrība ar ierobežotu atbildību | C43: AP82 - Covid-19 laboratorijas pakalpojumi | D43: 60046 | E43: COVID-19 transporta barotne ar diviem lokaniem tamponiem ātrajam molekulārajam testam | F43: 50 | G43: 0.8 | H43: =F43*G43 -> 40
G44: Pavisam kopā: | H44: =SUM(H41:H43) -> 2316.3
H45: =ROUNDUP(H44,0) -> 2317
A48: NVD TN (pakalpojumu sniedzēja) | B48: ĀI (pakalpojumu sniedzēja) | C48: Pakalpojumu programma | D48: Manipulācijas kods | E48: Manipulācijas nosaukums | F48: Manipulāciju skaits | G48: Tarifs, euro | H48: Summa, euro
A49: NVD Latgales nodaļa | B49: 050020401 - Daugavpils reģionālā slimnīca, Sabiedrība ar ierobežotu atbildību | C49: AP82 - Covid-19 laboratorijas pakalpojumi | D49: 47078 | E49: SARS-CoV-2 RNS (COVID-19) noteikšana ar reālā laika PĶR (bez parauga paņemšanas) ātrai diagnostikai un diferenciāldiagnostikai (ar reaģenta vērtību) | F49: 103 | G49: 44.58 | H49: =F49*G49 -> 4591.74
A50: NVD Latgales nodaļa | B50: 050020401 - Daugavpils reģionālā slimnīca, Sabiedrība ar ierobežotu atbildību | C50: AP82 - Covid-19 laboratorijas pakalpojumi | D50: 47268 | E50: SARS-CoV-2 (COVID-19) antigēna noteikšana (Ag eksprestests) (ar reaģenta komplekta vērtību) | F50: 108 | G50: 4.77 | H50: =F50*G50 -> 515.16
G51: Pavisam kopā: | H51: =SUM(H49:H50) -> 5106.9
H52: =ROUNDUP(H51,0) -> 5107
A55: NVD TN (pakalpojumu sniedzēja) | B55: ĀI (pakalpojumu sniedzēja) | C55: Pakalpojumu programma | D55: Manipulācijas kods | E55: Manipulācijas nosaukums | F55: Manipulāciju skaits | G55: Tarifs, euro | H55: Summa, euro
A56: NVD Zemgales nodaļa | B56: 740200008 - Ogres rajona slimnīca, Sabiedrība ar ierobežotu atbildību | C56: AP82 - Covid-19 laboratorijas pakalpojumi | D56: 47268 | E56: SARS-CoV-2 (COVID-19) antigēna noteikšana (Ag eksprestests) (ar reaģenta komplekta vērtību) | F56: 1 | G56: 4.77 | H56: =F56*G56 -> 4.77
G57: Pavisam kopā: | H57: =SUM(H56:H56) -> 4.77
H58: =ROUNDUP(H57,0) -> 5
G61: Kopā, euro: | H61: =H19+H27+H36+H44+H51+H57 -> 30826.2
G62: Kopā, euro: | H62: =H20+H28+H37+H45+H52+H58 -> 30829

Sheet Sekvencēšana
C1: Turpinājums pielikumam Nr.15 Ministru kabineta rīkojuma "Ministru kabineta rīkojuma "Par finanšu līdzekļu apropriācijas pārdali no budžeta resora ''74. Gadskārtējā valsts budžeta izpildes procesā pārdalāmais finansējums'' valsts budžeta programmas 12.00.00 ''Finansējums veselības jomas pasākumiem Covid-19 infekcijas izplatības ierobežošanai"" projekta sākotnējās ietekmes novērtējuma ziņojumam (anotācijai)
A2: Atskaite par Covid-19 vīrusa sekvencēšanu LIC laboratorijā
A3: Pārskata periods (mēnesis): maijs 2023
A4: Nr.p.k. | B4: Pasākums | C4: Tarifs, euro | E4: Kopā, euro
A5: 1 | B5: Primārā parauga uzglabāšana (kriostobriņi paraugu uzglabāšanai) | C5: paraugu skaits | E5: 186
C6: Summa, euro | D6: 0.79 | E6: =E5*$D$6 -> 146.94
A7: SARS-CoV-2 vīrusu celmu sekvencēšana
A8: 2 | B8: Nacionālā References laboratorija (NRL)*
B9: Pirmais etaps (RNS izdalīšana no primārā parauga) | C9: paraugu skaits | E9: 186
C10: Summa, euro | D10: =8*1.21 -> 9.68 | E10: =$D$10*E9 -> 1800.48
A11: Kopā: | C11: Summa, euro | E11: =SUM(E6+E10) -> 1947.42
E12: =ROUNDUP(E11,0) -> 1948
A13: *datu apstrādi veic NRL personāls - bioinformātikas speciālisti
