Workbook

Sheet VP augusts
D1: 2.pielikums
D2: Ministru kabineta rīkojuma projekta
D3: “Par finanšu līdzekļu piešķiršanu no valsts budžeta programmas
D4: “Līdzekļi neparedzētiem gadījumiem”” sākotnējās ietekmes novērtējuma ziņojumam (anotācijai)
A6: Valsts policijas izdevumi par laika periodu no 2023.gada 1.augusta (atsevišķi izdevumi no 1. maija) līdz 31.augustam
A7: Kopsavilkums
A9: Kods | B9: Koda nosaukums | C9: Detalizēts izdevumu aprēķins | D9: Izdevumi, euro
A10: Izdevumi kopā ar vidējās izpeļņas pieauguma kompensēšanu | D10: =D11+D14 -> 1514354
A11: 1000 | B11: Atlīdzība | C11: × | D11: =D17+D45 -> 1430805
A12: 1100 | B12: Atalgojums | C12: × | D12: =D46+D20-2.5 -> 1157800.2
A13: 1210 | B13: Darba devēja valsts sociālās apdrošināšanas obligātās iemaksas | C13: × | D13: =D48+D28 -> 273003.96
A14: 2000 | B14: Preces un pakalpojumi | C14: × | D14: =D49+D29 -> 83549
A16: 1) Izdevumi saistībā ar rīkojumiem Nr. 518 un Nr. 514 izpildei nepieciešamo pasākumu īstenošanu | D16: =D17+D29+D41 -> 1400534
A17: 1000 | B17: Atlīdzība | C17: × | D17: =ROUNDUP(D19+D18,0) -> 1320774
C18: Korekcija* | D18: -2.5
C19: × | D19: =D20+D28 -> 1320775.9
A20: 1100 | B20: Atalgojums | C20: × | D20: =SUM(D21:D27) -> 1068773.8
A21: 1116 | B21: Mēnešalga amatpersonām ar speciālajām dienesta pakāpēm
A22: 1141
A23: 1141 | B23: Piemaksa par nakts darbu | C23: Detalizēts aprēķins par laika periodu no 2023.gada 1.augusta līdz 31.augustam 1.tabulā. Iesaistītas 383 personas, kopējais iesaistes laiks 6 432,50 stundas. | D23: ='1.tabula'!G6 -> 26261.45
A24: 1142 | B24: Samaksa par virsstundu darbu
C25: Samaksa par virsstundu darbu Detalizēts aprēķins par laika periodu no 2023.gada 1.maija līdz 31.augustam 2.tabulā. Iesaistītas 578 personas, kopējais iesaistes laiks 61 750,25 stundas. | D25: =' 2.tabula'!G6 -> 1010055.4
A26: 1145 | B26: Piemaksa par darbu īpašos apstākļos, speciālās piemaksas | C26: Detalizēts aprēķins par laika periodu no 2023.gada 1.augusta līdz 31.augustam 3.tabulā. Iesaistītas 650 personas, kopējais iesaistes laiks 18 034 stundas. | D26: ='3.tabula'!J7 -> 32457
A27: 1146 | B27: Piemaksa par personisko darba ieguldījumu un darba kvalitāti
A28: 1210 | B28: Darba devēja valsts sociālās apdrošināšanas obligātās iemaksas | C28: 23,59% no aprēķinātā atalgojuma * izņemot divas personas, kurām tiek piemērota nodokļu likme 21,94% (izdienas pensionārs) | D28: ='1.tabula'!H6+' 2.tabula'!H6+'3.tabula'!K7 -> 252002.05
A29: 2000 | B29: Preces un pakalpojumi | C29: × | D29: =ROUNDUP((D30+D31),0) -> 79760
C30: Korekcija* | D30: -1.7
C31: × | D31: =SUM(D32:D42) -> 79760.82
A32: 2111 | B32: Dienas nauda | C32: Detalizēts aprēķins 5.tabulā. Dienas nauda par periodu no 2023.gada 21./22.jūlija līdz 12.augustam izmaksāta 13 personām. Valsts policijas pavēle no 18.07.2023 Nr.3681 “Par komandējumu uz Daugavpili (Latvijā)” dienas nauda: 100% (8,00 euro) pirmā un pēdējā diena, 30% (2,40 euro) pārējās dienas *Valsts policija iekšzemes komandējumiem nemaksā dienas naudu avansā, bet gan izmaksā tad, kad no komandējuma amatpersonas ir atgriezušās. Komandējuma laika ietvars saskaņā ar Valsts policijas pavēli par komandējumu, ir tāds, ka uz mēnesi tiek sūtīta komandējumā viena amatpersonu grupa, pēc tam – uz mēnesi tika nosūtīta cita amatpersonu grupa. | D32: ='5.tabula'!G6 -> 844
A33: 2112 | B33: Pārējie komandējumu un darba braucienu izdevumi | C33: Dienesta viesnīcas pakalpojumi (naktsmītne) Naktsmītnes izdevumi: 31 nakts x 13 gultasvietas × 15,00 euro = 6 045,00 euro; Aprēķins veikts par dienesta viesnīcas pakalpojumiem (naktsmītni), kas tika nodrošināti no 2023.gada 1.jūlija līdz 31.jūlijam, izdevumi pakalpojuma sniedzējam tika apmaksāti 2023.gada augustā. | D33: =31*13*15 -> 6045
A34: 2271 | B34: Izdevumi, kas saistīti ar operatīvo darbību | C34: Izdevumi, kas saistīti ar operatīvo darbību 2023.gada augustā | D34: 47921
A35: 2312 | B35: Inventārs
A36: 2322 | B36: Degviela | C36: Detalizēts aprēķins par laika periodu no 2023.gada 1.augusta līdz 31.augustam 4.tabulā. Pasākuma nodrošināšanai tika iesaistīti 133 transportlīdzekļi; Vidēji viena transportlīdzekļa nobraukums 1034,28 km; Vidējā degvielas cena 1,4351 euro/l; Vidējais degvielas patēriņš 7,953 l/km uz 100 km. 133 t-ldz. x 1034,28 km x 1,4351 euro/l x 7,953 l/km ÷ 100 km = 15 700,21 euro | D36: ='4.tabula'!F6 -> 15700.21
A37: 2350 | B37: Kārtējā remonta un iestāžu uzturēšanas materiāli
A38: 2363 | B38: Ēdināšanas izdevumi | C38: Aprēķins veikts par ēdināšanas pakalpojumiem, kas tika nodrošināti no 2023.gada 1.jūlija līdz 31.jūlijam, izdevumi pakalpojuma sniedzējam tika apmaksāti 2023.gada augustā. Ēdināšanas pakalpojumi: brokastis 265 porcijas × 6,00 euro = 1 590,00 euro; pusdienas 273 porcijas × 8,00 euro = 2 184,00 euro; vakariņas 273 porcijas × 8,00 euro = 2 184,00 euro; launags (sausā uztura paka) 130 pakas × 22,00 euro = 2 860 euro. Saskaņā ar līgumu par izmitināšanu un ēdināšanu Daugavpilī ir noteikts, ka ēdināšana 3 reizes dienā nedrīkst pārsniegt 22 euro: Ēdināšanas izmaksas sastāda: Brokastis 6 euro /1 pers Pusdienas un vakariņas 8 euro /1 pers Par 14 euro tiek ēdinātas amatpersonas, kuras atrodas viesnīcā, jo amatpersonas strādā maiņās. Savukārt tām amatpersonām, kuras ir maiņā uz robežas un tām nav iespējams atgriezties uz pusdienām un vakariņām, tad, lai nodrošinātu ēdināšanu amatpersonām dod līdzi pārtikas paku un kopā tas sastāda 22 euro (brokastis ir 6 euro - tās paēd izmitināšanas vietā). Pārtikas pakas tiek dotas arī Latgales reģiona pārvaldes amatpersonām, kuras arī tiek norīkotas uz robežu, augstākminēto iemeslu dēļ, komandējama izdevumi un dienas nauda viņām nav. Papildus jāatzīmē, ka dienas nauda dienās, kad nodrošināta 3 reižu ēdināšana sastāda 30% no Ministru kabineta noteikumos par komandējumu paredzētā limita. | D38: =265*6+273*8+273*8+130*22 -> 8818
A39: 2389 | B39: Pārējie specifiskas lietošanas materiāli un inventārs
A40: 2390 | B40: Pārējās preces | C40: Negāzēts dzeramais ūdens 5 L / 612 gab. x 0,68692 euro = 420,40 euro; Negāzēts dzeramais ūdens 0,5 L / 24 gab. x 0,5089 euro = 12,21 euro. | D40: =ROUND(612*0.68692,2)+ROUND(24*0.5089,2) -> 432.61
A41: 5000 | B41: Pamatkapitāla veidošana | D41: =ROUNDUP(SUM(D42),0) -> 0
A42: 5239 | B42: Pārējie iepriekš neklasificētie pamatlīdzekļi un ieguldījuma īpašumi
A44: 2) Vidējās izpeļņas pieauguma kompensēšanai | D44: =D45+D49 -> 113820
A45: 1000 | B45: Atlīdzība | C45: × | D45: =ROUNDUP(D46+D48,0) -> 110031
A46: 1100 | B46: Atalgojums | C46: × | D46: =D47 -> 89028.86
A47: 1116 | B47: Mēnešalga amatpersonām ar speciālajām dienesta pakāpēm | C47: 1 068 773,83 euro × 8,33% = 89 028,86 euro. | D47: =ROUND(D20*8.33%,2) -> 89028.86
A48: 1210 | B48: Darba devēja valsts sociālās apdrošināšanas obligātās iemaksas | C48: 23,59% no aprēķinātā atalgojuma | D48: =ROUND(D47*0.2359,2) -> 21001.91
A49: 2000 | B49: Preces un pakalpojumi | D49: =ROUNDUP(SUM(D50:D50),2) -> 3789
A50: 2271 | B50: Izdevumi, kas saistīti ar operatīvo darbību | C50: Informācija klasificēta | D50: 3789
A53: * Precizējumi veikti, jo ir izveidojies atlikums no iepriekš piešķirtajiem finansējumiem "Līdzekļi neparedzētiem gadījumiem" par 2023.gadu.

Sheet 1.tabula
I1: 2.pielikuma 1.tabula
A2: Valsts policija
A3: Piemaksa par nakts darbu amatpersonām ar speciālajām dienesta pakāpēm, kuras laika periodā no 2023.gada 1. augusta līdz 31. augustam tika iesaistītas atbalsta sniegšanā Valsts robežsardzei Latvijas Republikas-Baltkrievijas Republikas valsts robežas robežuzraudzības nodrošināšanā
E4: 166.33
A5: Nr. p.k. | B5: Struktūrvienība | C5: Amats | D5: Mēnešalga amatpersonām ar speciālajām pakāpēm | E5: Stundas likme | F5: Stundu skaits | G5: Piemaksa par nakts darbu | H5: DD VSAOI | I5: Atlīdzība
A6: kopā | F6: =SUM(F7:F389) -> 6432.5 | G6: =SUM(G7:G389) -> 26261.45 | H6: =SUM(H7:H389) -> 6191.95 | I6: =SUM(I7:I389) -> 32453.4
A7: 1 | B7: VP LATGALES REĢIONA PĀRVALDES DISCIPLINĀRĀS UZRAUDZĪBAS GRUPA | C7: galvenais inspektors | D7: 1565 | E7: =ROUND(D7/$E$4,3) -> 9.409 | F7: 8 | G7: 37.64 | H7: =ROUND(G7*0.2359,2) -> 8.88 | I7: =G7+H7 -> 46.52
A8: =A7+1 -> 2 | B8: VP LATGALES RP DIENVIDLATGALES IECIRKNIS | C8: iecirkņa priekšnieka vietnieks, Izmeklēšanas nodaļas priekšnieks | D8: 2040 | E8: =ROUND(D8/$E$4,3) -> 12.265 | F8: 16 | G8: 98.12 | H8: =ROUND(G8*0.2359,2) -> 23.15 | I8: =G8+H8 -> 121.27
A9: =A8+1 -> 3 | B9: VP LATGALES RP DIENVIDLATGALES IECIRKNIS | C9: iecirkņa priekšnieka vietnieks, Reaģēšanas nodaļas priekšnieks | D9: 1984 | E9: =ROUND(D9/$E$4,3) -> 11.928 | F9: 24 | G9: 143.14 | H9: =ROUND(G9*0.2359,2) -> 33.77 | I9: =G9+H9 -> 176.91
A10: =A9+1 -> 4 | B10: VP LATGALES RP DIENVIDLATGALES IECIRKNIS | C10: iecirkņa priekšnieks | D10: 2200 | E10: =ROUND(D10/$E$4,3) -> 13.227 | F10: 16 | G10: 105.82 | H10: =ROUND(G10*0.2359,2) -> 24.96 | I10: =G10+H10 -> 130.78
A11: =A10+1 -> 5 | B11: VP LATGALES RP DIENVIDLATGALES IECIRKŅA IZMEKLĒŠANAS NODAĻAS 1.GRUPA | C11: galvenais inspektors | D11: 1872 | E11: =ROUND(D11/$E$4,3) -> 11.255 | F11: 8 | G11: 45.02 | H11: =ROUND(G11*0.2359,2) -> 10.62 | I11: =G11+H11 -> 55.64
A12: =A11+1 -> 6 | B12: VP LATGALES RP DIENVIDLATGALES IECIRKŅA IZMEKLĒŠANAS NODAĻAS 1.GRUPA | C12: inspektors | D12: 1443 | E12: =ROUND(D12/$E$4,3) -> 8.676 | F12: 8 | G12: 34.7 | H12: =ROUND(G12*0.2359,2) -> 8.19 | I12: =G12+H12 -> 42.89
A13: =A12+1 -> 7 | B13: VP LATGALES RP DIENVIDLATGALES IECIRKŅA IZMEKLĒŠANAS NODAĻAS 1.GRUPA | C13: inspektors | D13: 1443 | E13: =ROUND(D13/$E$4,3) -> 8.676 | F13: 14 | G13: 60.73 | H13: =ROUND(G13*0.2359,2) -> 14.33 | I13: =G13+H13 -> 75.06
A14: =A13+1 -> 8 | B14: VP LATGALES RP DIENVIDLATGALES IECIRKŅA IZMEKLĒŠANAS NODAĻAS 1.GRUPA | C14: inspektors | D14: 1417 | E14: =ROUND(D14/$E$4,3) -> 8.519 | F14: 8 | G14: 34.08 | H14: =ROUND(G14*0.2359,2) -> 8.04 | I14: =G14+H14 -> 42.12
A15: =A14+1 -> 9 | B15: VP LATGALES RP DIENVIDLATGALES IECIRKŅA IZMEKLĒŠANAS NODAĻAS 1.GRUPA | C15: inspektors | D15: 1383 | E15: =ROUND(D15/$E$4,3) -> 8.315 | F15: 16 | G15: 66.52 | H15: =ROUND(G15*0.2359,2) -> 15.69 | I15: =G15+H15 -> 82.21
A16: =A15+1 -> 10 | B16: VP LATGALES RP DIENVIDLATGALES IECIRKŅA IZMEKLĒŠANAS NODAĻAS 2.GRUPA | C16: galvenais inspektors | D16: 1525 | E16: =ROUND(D16/$E$4,3) -> 9.169 | F16: 24 | G16: 110.03 | H16: =ROUND(G16*0.2359,2) -> 25.96 | I16: =G16+H16 -> 135.99
A17: =A16+1 -> 11 | B17: VP LATGALES RP DIENVIDLATGALES IECIRKŅA IZMEKLĒŠANAS NODAĻAS 2.GRUPA | C17: inspektors | D17: 1463 | E17: =ROUND(D17/$E$4,3) -> 8.796 | F17: 8 | G17: 35.18 | H17: =ROUND(G17*0.2359,2) -> 8.3 | I17: =G17+H17 -> 43.48
A18: =A17+1 -> 12 | B18: VP LATGALES RP DIENVIDLATGALES IECIRKŅA IZMEKLĒŠANAS NODAĻAS 2.GRUPA | C18: inspektors | D18: 1470 | E18: =ROUND(D18/$E$4,3) -> 8.838 | F18: 8 | G18: 35.35 | H18: =ROUND(G18*0.2359,2) -> 8.34 | I18: =G18+H18 -> 43.69
A19: =A18+1 -> 13 | B19: VP LATGALES RP DIENVIDLATGALES IECIRKŅA IZMEKLĒŠANAS NODAĻAS 2.GRUPA | C19: vecākais inspektors | D19: 1517 | E19: =ROUND(D19/$E$4,3) -> 9.12 | F19: 8 | G19: 36.48 | H19: =ROUND(G19*0.2359,2) -> 8.61 | I19: =G19+H19 -> 45.09
... A30: =A29+1 -> 24 | B30: VP LATGALES RP DIENVIDLATGALES IECIRKŅA IZMEKLĒŠANAS NODAĻAS 3.GRUPA | C30: inspektors | D30: 1383 | E30: =ROUND(D30/$E$4,3) -> 8.315 | F30: 8 | G30: 33.26 | H30: =ROUND(G30*0.2359,2) -> 7.85 | I30: =G30+H30 -> 41.11
A31: =A30+1 -> 25 | B31: VP LATGALES RP DIENVIDLATGALES IECIRKŅA IZMEKLĒŠANAS NODAĻAS 4.GRUPA | C31: vecākais inspektors | D31: 1637 | E31: =ROUND(D31/$E$4,3) -> 9.842 | F31: 8 | G31: 39.37 | H31: =ROUND(G31*0.2359,2)-0.65 -> 8.64 | I31: =G31+H31 -> 48.01 | J31: ***
A32: =A31+1 -> 26 | B32: VP LATGALES RP DIENVIDLATGALES IECIRKŅA IZMEKLĒŠANAS NODAĻAS 4.GRUPA | C32: vecākais inspektors | D32: 1470 | E32: =ROUND(D32/$E$4,3) -> 8.838 | F32: 24 | G32: 106.06 | H32: =ROUND(G32*0.2359,2) -> 25.02 | I32: =G32+H32 -> 131.08
A33: =A32+1 -> 27 | B33: VP LATGALES RP DIENVIDLATGALES IECIRKŅA IZMEKLĒŠANAS NODAĻAS 4.GRUPA | C33: inspektors | D33: 1437 | E33: =ROUND(D33/$E$4,3) -> 8.639 | F33: 40 | G33: 172.78 | H33: =ROUND(G33*0.2359,2) -> 40.76 | I33: =G33+H33 -> 213.54
A34: =A33+1 -> 28 | B34: VP LATGALES RP DIENVIDLATGALES IECIRKŅA IZMEKLĒŠANAS NODAĻAS 4.GRUPA | C34: inspektors | D34: 1423 | E34: =ROUND(D34/$E$4,3) -> 8.555 | F34: 16 | G34: 68.44 | H34: =ROUND(G34*0.2359,2) -> 16.14 | I34: =G34+H34 -> 84.58
A35: =A34+1 -> 29 | B35: VP LATGALES RP DIENVIDLATGALES IECIRKŅA IZMEKLĒŠANAS NODAĻAS 4.GRUPA | C35: inspektors | D35: 1443 | E35: =ROUND(D35/$E$4,3) -> 8.676 | F35: 16 | G35: 69.41 | H35: =ROUND(G35*0.2359,2) -> 16.37 | I35: =G35+H35 -> 85.78
A36: =A35+1 -> 30 | B36: VP LATGALES RP DIENVIDLATGALES IECIRKŅA IZMEKLĒŠANAS NODAĻAS 5.GRUPA | C36: inspektors | D36: 1437 | E36: =ROUND(D36/$E$4,3) -> 8.639 | F36: 24 | G36: 103.67 | H36: =ROUND(G36*0.2359,2) -> 24.46 | I36: =G36+H36 -> 128.13
A37: =A36+1 -> 31 | B37: VP LATGALES RP DIENVIDLATGALES IECIRKŅA IZMEKLĒŠANAS NODAĻAS 5.GRUPA | C37: vecākais inspektors | D37: 1497 | E37: =ROUND(D37/$E$4,3) -> 9 | F37: 16 | G37: 72 | H37: =ROUND(G37*0.2359,2) -> 16.98 | I37: =G37+H37 -> 88.98
A38: =A37+1 -> 32 | B38: VP LATGALES RP DIENVIDLATGALES IECIRKŅA IZMEKLĒŠANAS NODAĻAS 5.GRUPA | C38: inspektors | D38: 1443 | E38: =ROUND(D38/$E$4,3) -> 8.676 | F38: 18 | G38: 78.08 | H38: =ROUND(G38*0.2359,2) -> 18.42 | I38: =G38+H38 -> 96.5
A39: =A38+1 -> 33 | B39: VP LATGALES RP DIENVIDLATGALES IECIRKŅA IZMEKLĒŠANAS NODAĻAS 5.GRUPA | C39: vecākais inspektors | D39: 1517 | E39: =ROUND(D39/$E$4,3) -> 9.12 | F39: 16 | G39: 72.96 | H39: =ROUND(G39*0.2359,2) -> 17.21 | I39: =G39+H39 -> 90.17
A40: =A39+1 -> 34 | B40: VP LATGALES RP DIENVIDLATGALES IECIRKŅA IZMEKLĒŠANAS NODAĻAS 5.GRUPA | C40: vecākais inspektors | D40: 1430 | E40: =ROUND(D40/$E$4,3) -> 8.597 | F40: 16 | G40: 68.78 | H40: =ROUND(G40*0.2359,2) -> 16.23 | I40: =G40+H40 -> 85.01
A41: =A40+1 -> 35 | B41: VP LATGALES RP DIENVIDLATGALES IECIRKŅA IZMEKLĒŠANAS NODAĻAS 5.GRUPA | C41: inspektors | D41: 1403 | E41: =ROUND(D41/$E$4,3) -> 8.435 | F41: 10 | G41: 42.18 | H41: =ROUND(G41*0.2359,2) -> 9.95 | I41: =G41+H41 -> 52.13
A42: =A41+1 -> 36 | B42: VP LATGALES RP DIENVIDLATGALES IECIRKŅA IZMEKLĒŠANAS NODAĻAS 5.GRUPA | C42: inspektors | D42: 1403 | E42: =ROUND(D42/$E$4,3) -> 8.435 | F42: 22 | G42: 92.79 | H42: =ROUND(G42*0.2359,2) -> 21.89 | I42: =G42+H42 -> 114.68
A43: =A42+1 -> 37 | B43: VP LATGALES RP DIENVIDLATGALES IECIRKŅA IZMEKLĒŠANAS NODAĻAS 5.GRUPA | C43: inspektors | D43: 1363 | E43: =ROUND(D43/$E$4,3) -> 8.195 | F43: 16 | G43: 65.56 | H43: =ROUND(G43*0.2359,2) -> 15.47 | I43: =G43+H43 -> 81.03
... A271: =A270+1 -> 265 | B271: VP LATGALES RP ZIEMEĻLATGALES IECIRKŅA REAĢĒŠANAS NODAĻAS 9.GRUPA | C271: vecākais inspektors | D271: 1295 | E271: =ROUND(D271/$E$4,3) -> 7.786 | F271: 16 | G271: 62.29 | H271: =ROUND(G271*0.2359,2) -> 14.69 | I271: =G271+H271 -> 76.98
A272: 266 | B272: VP RĪGAS RP KĀRTPP PPP SUB 2.ROTA | C272: jaunākais inspektors | D272: 1303 | E272: =ROUND(D272/$E$4,3) -> 7.834 | F272: 48 | G272: 188.02 | H272: =ROUND(G272*0.2359,2) -> 44.35 | I272: =G272+H272 -> 232.37
A273: =A272+1 -> 267 | B273: VP RĪGAS RP KĀRTPP PPP SUB 2.ROTA | C273: jaunākais inspektors | D273: 1303 | E273: =ROUND(D273/$E$4,3) -> 7.834 | F273: 50 | G273: 195.85 | H273: =ROUND(G273*0.2359,2) -> 46.2 | I273: =G273+H273 -> 242.05
A274: =A273+1 -> 268 | B274: VP RĪGAS RP KĀRTPP PPP SUB 2.ROTA | C274: jaunākais inspektors | D274: 1263 | E274: =ROUND(D274/$E$4,3) -> 7.593 | F274: 48 | G274: 182.23 | H274: =ROUND(G274*0.2359,2) -> 42.99 | I274: =G274+H274 -> 225.22
A275: =A274+1 -> 269 | B275: VP RĪGAS RP KĀRTPP PPP SUB 2.ROTA | C275: rotas komandieris | D275: 1728 | E275: =ROUND(D275/$E$4,3) -> 10.389 | F275: 48 | G275: 249.34 | H275: =ROUND(G275*0.2359,2) -> 58.82 | I275: =G275+H275 -> 308.16
A276: =A275+1 -> 270 | B276: VP RĪGAS RP KĀRTPP PPP SUB 2.ROTA | C276: jaunākais inspektors | D276: 1263 | E276: =ROUND(D276/$E$4,3) -> 7.593 | F276: 50 | G276: 189.83 | H276: =ROUND(G276*0.2359,2) -> 44.78 | I276: =G276+H276 -> 234.61
A277: =A276+1 -> 271 | B277: VP RĪGAS RP KĀRTPP PPP SUB 2.ROTA | C277: vada komandiera vietnieks | D277: 1416 | E277: =ROUND(D277/$E$4,3) -> 8.513 | F277: 48 | G277: 204.31 | H277: =ROUND(G277*0.2359,2) -> 48.2 | I277: =G277+H277 -> 252.51
A278: =A277+1 -> 272 | B278: VP RĪGAS RP KĀRTPP PPP SUB 2.ROTA | C278: jaunākais inspektors | D278: 1303 | E278: =ROUND(D278/$E$4,3) -> 7.834 | F278: 48 | G278: 188.02 | H278: =ROUND(G278*0.2359,2) -> 44.35 | I278: =G278+H278 -> 232.37
A279: =A278+1 -> 273 | B279: VP RĪGAS RP KĀRTPP PPP SUB 2.ROTA | C279: jaunākais inspektors | D279: 1303 | E279: =ROUND(D279/$E$4,3) -> 7.834 | F279: 50 | G279: 195.85 | H279: =ROUND(G279*0.2359,2) -> 46.2 | I279: =G279+H279 -> 242.05
A280: =A279+1 -> 274 | B280: VP RĪGAS RP KĀRTPP PPP SUB 2.ROTA | C280: jaunākais inspektors | D280: 1243 | E280: =ROUND(D280/$E$4,3) -> 7.473 | F280: 48 | G280: 179.35 | H280: =ROUND(G280*0.2359,2) -> 42.31 | I280: =G280+H280 -> 221.66
A281: =A280+1 -> 275 | B281: VP RĪGAS RP KĀRTPP PPP SUB 2.ROTA | C281: jaunākais inspektors | D281: 1243 | E281: =ROUND(D281/$E$4,3) -> 7.473 | F281: 48 | G281: 179.35 | H281: =ROUND(G281*0.2359,2) -> 42.31 | I281: =G281+H281 -> 221.66
A282: =A281+1 -> 276 | B282: VP RĪGAS RP KĀRTPP PPP SUB 2.ROTA | C282: jaunākais inspektors | D282: 1243 | E282: =ROUND(D282/$E$4,3) -> 7.473 | F282: 48 | G282: 179.35 | H282: =ROUND(G282*0.2359,2) -> 42.31 | I282: =G282+H282 -> 221.66
A283: =A282+1 -> 277 | B283: VP RĪGAS RP KĀRTPP PPP SUB 2.ROTA | C283: jaunākais inspektors | D283: 1223 | E283: =ROUND(D283/$E$4,3) -> 7.353 | F283: 48 | G283: 176.47 | H283: =ROUND(G283*0.2359,2) -> 41.63 | I283: =G283+H283 -> 218.1
A284: =A283+1 -> 278 | B284: VP RĪGAS RP KĀRTPP PPP SUB 4.ROTA (LATGALES REĢIONA) | C284: jaunākais inspektors | D284: 1225 | E284: =ROUND(D284/$E$4,3) -> 7.365 | F284: 42 | G284: 154.67 | H284: =ROUND(G284*0.2359,2) -> 36.49 | I284: =G284+H284 -> 191.16
... A294: =A293+1 -> 288 | B294: VP RĪGAS RP KĀRTPP PPP SUB 4.ROTA (LATGALES REĢIONA) | C294: jaunākais inspektors | D294: 1185 | E294: =ROUND(D294/$E$4,3) -> 7.124 | F294: 40 | G294: 142.48 | H294: =ROUND(G294*0.2359,2) -> 33.61 | I294: =G294+H294 -> 176.09
A295: =A294+1 -> 289 | B295: VP RĪGAS RP KĀRTPP PPP SUB 4.ROTA (LATGALES REĢIONA) | C295: jaunākais inspektors | D295: 1245 | E295: =ROUND(D295/$E$4,3) -> 7.485 | F295: 40 | G295: 149.7 | H295: =ROUND(G295*0.2359,2)-2.47 -> 32.84 | I295: =G295+H295 -> 182.54 | J295: ***
A296: =A295+1 -> 290 | B296: VP RĪGAS RP KĀRTPP PPP SUB 4.ROTA (LATGALES REĢIONA) | C296: jaunākais inspektors | D296: 1185 | E296: =ROUND(D296/$E$4,3) -> 7.124 | F296: 8 | G296: 28.5 | H296: =ROUND(G296*0.2359,2) -> 6.72 | I296: =G296+H296 -> 35.22
A297: =A296+1 -> 291 | B297: VP RĪGAS RP KĀRTPP PPP SUB 6.ROTA (ZEMGALES REĢIONA) | C297: rotas komandiera vietnieks | D297: 1449 | E297: =ROUND(D297/$E$4,3) -> 8.712 | F297: 32 | G297: 139.39 | H297: =ROUND(G297*0.2359,2) -> 32.88 | I297: =G297+H297 -> 172.27
A298: =A297+1 -> 292 | B298: VP RĪGAS RP KĀRTPP PPP SUB 6.ROTA (ZEMGALES REĢIONA) | C298: jaunākais inspektors | D298: 1323 | E298: =ROUND(D298/$E$4,3) -> 7.954 | F298: 32 | G298: 127.26 | H298: =ROUND(G298*0.2359,2) -> 30.02 | I298: =G298+H298 -> 157.28
A299: =A298+1 -> 293 | B299: VP RĪGAS RP KĀRTPP PPP SUB 6.ROTA (ZEMGALES REĢIONA) | C299: rotas komandieris | D299: 1539 | E299: =ROUND(D299/$E$4,3) -> 9.253 | F299: 30 | G299: 138.8 | H299: =ROUND(G299*0.2359,2) -> 32.74 | I299: =G299+H299 -> 171.54
A300: =A299+1 -> 294 | B300: VP RĪGAS RP KĀRTPP PPP SUB 6.ROTA (ZEMGALES REĢIONA) | C300: jaunākais inspektors | D300: 1225 | E300: =ROUND(D300/$E$4,3) -> 7.365 | F300: 32 | G300: 117.84 | H300: =ROUND(G300*0.2359,2) -> 27.8 | I300: =G300+H300 -> 145.64
A301: =A300+1 -> 295 | B301: VP RĪGAS RP KĀRTPP PPP SUB 6.ROTA (ZEMGALES REĢIONA) | C301: jaunākais inspektors | D301: 1205 | E301: =ROUND(D301/$E$4,3) -> 7.245 | F301: 32 | G301: 115.92 | H301: =ROUND(G301*0.2359,2) -> 27.35 | I301: =G301+H301 -> 143.27
A302: =A301+1 -> 296 | B302: VP RĪGAS RP KĀRTPP PPP SUB 6.ROTA (ZEMGALES REĢIONA) | C302: jaunākais inspektors | D302: 1185 | E302: =ROUND(D302/$E$4,3) -> 7.124 | F302: 32 | G302: 113.98 | H302: =ROUND(G302*0.2359,2) -> 26.89 | I302: =G302+H302 -> 140.87
A303: =A302+1 -> 297 | B303: VP RĪGAS RP KĀRTPP PPP SUB 6.ROTA (ZEMGALES REĢIONA) | C303: jaunākais inspektors | D303: 1185 | E303: =ROUND(D303/$E$4,3) -> 7.124 | F303: 30 | G303: 106.86 | H303: =ROUND(G303*0.2359,2) -> 25.21 | I303: =G303+H303 -> 132.07
A304: =A303+1 -> 298 | B304: VP RĪGAS RP KĀRTPP PPP SUB 6.ROTA (ZEMGALES REĢIONA) | C304: jaunākais inspektors | D304: 1185 | E304: =ROUND(D304/$E$4,3) -> 7.124 | F304: 30 | G304: 106.86 | H304: =ROUND(G304*0.2359,2) -> 25.21 | I304: =G304+H304 -> 132.07
A305: =A304+1 -> 299 | B305: VP RĪGAS RP KĀRTPP PPP SUB 6.ROTA (ZEMGALES REĢIONA) | C305: jaunākais inspektors | D305: 1185 | E305: =ROUND(D305/$E$4,3) -> 7.124 | F305: 30 | G305: 106.86 | H305: =ROUND(G305*0.2359,2) -> 25.21 | I305: =G305+H305 -> 132.07
A306: =A305+1 -> 300 | B306: VP RĪGAS RP KĀRTPP PPP SUB 6.ROTA (ZEMGALES REĢIONA) | C306: jaunākais inspektors | D306: 1185 | E306: =ROUND(D306/$E$4,3) -> 7.124 | F306: 30 | G306: 106.86 | H306: =ROUND(G306*0.2359,2) -> 25.21 | I306: =G306+H306 -> 132.07
A307: =A306+1 -> 301 | B307: VP RĪGAS RP KĀRTPP PPP SUB 6.ROTA (ZEMGALES REĢIONA) | C307: jaunākais inspektors | D307: 1165 | E307: =ROUND(D307/$E$4,3) -> 7.004 | F307: 32 | G307: 112.06 | H307: =ROUND(G307*0.2359,2) -> 26.43 | I307: =G307+H307 -> 138.49
... A310: =A309+1 -> 304 | B310: VP RĪGAS RP KĀRTPP PPP SUB DIENESTA ORGANIZĀCIJAS, KOORDINĀCIJAS UN KONTROLES GRUPA | C310: inspektors | D310: 1482 | E310: =ROUND(D310/$E$4,3) -> 8.91 | F310: 50 | G310: 222.75 | H310: =ROUND(G310*0.2359,2) -> 52.55 | I310: =G310+H310 -> 275.3
A311: 305 | B311: VP VIDZEMES RP DIENVIDVIDZEMES IECIRKŅA IZMEKLĒŠANAS NODAĻAS 1.GRUPA | C311: vecākais inspektors | D311: 1490 | E311: =ROUND(D311/$E$4,3) -> 8.958 | F311: 8 | G311: 35.83 | H311: =ROUND(G311*0.2359,2) -> 8.45 | I311: =G311+H311 -> 44.28
A312: =A311+1 -> 306 | B312: VP VIDZEMES RP DIENVIDVIDZEMES IECIRKŅA IZMEKLĒŠANAS NODAĻAS 1.GRUPA | C312: inspektors | D312: 1423 | E312: =ROUND(D312/$E$4,3) -> 8.555 | F312: 8 | G312: 34.22 | H312: =ROUND(G312*0.2359,2) -> 8.07 | I312: =G312+H312 -> 42.29
A313: =A312+1 -> 307 | B313: VP VIDZEMES RP DIENVIDVIDZEMES IECIRKŅA IZMEKLĒŠANAS NODAĻAS 2.GRUPA | C313: inspektors | D313: 1357 | E313: =ROUND(D313/$E$4,3) -> 8.158 | F313: 8 | G313: 32.63 | H313: =ROUND(G313*0.2359,2) -> 7.7 | I313: =G313+H313 -> 40.33
A314: =A313+1 -> 308 | B314: VP VIDZEMES RP DIENVIDVIDZEMES IECIRKŅA IZMEKLĒŠANAS NODAĻAS 3.GRUPA | C314: inspektors | D314: 1443 | E314: =ROUND(D314/$E$4,3) -> 8.676 | F314: 8 | G314: 34.7 | H314: =ROUND(G314*0.2359,2) -> 8.19 | I314: =G314+H314 -> 42.89
A315: =A314+1 -> 309 | B315: VP VIDZEMES RP DIENVIDVIDZEMES IECIRKŅA IZMEKLĒŠANAS NODAĻAS 4.GRUPA | C315: vecākais inspektors | D315: 1335 | E315: =ROUND(D315/$E$4,3) -> 8.026 | F315: 8 | G315: 32.1 | H315: =ROUND(G315*0.2359,2) -> 7.57 | I315: =G315+H315 -> 39.67
A316: =A315+1 -> 310 | B316: VP VIDZEMES RP DIENVIDVIDZEMES IECIRKŅA IZMEKLĒŠANAS NODAĻAS 4.GRUPA | C316: inspektors | D316: 1277 | E316: =ROUND(D316/$E$4,3) -> 7.678 | F316: 8 | G316: 30.71 | H316: =ROUND(G316*0.2359,2) -> 7.24 | I316: =G316+H316 -> 37.95
A317: =A316+1 -> 311 | B317: VP VIDZEMES RP DIENVIDVIDZEMES IECIRKŅA IZMEKLĒŠANAS NODAĻAS 5.GRUPA | C317: galvenais inspektors | D317: 1355 | E317: =ROUND(D317/$E$4,3) -> 8.146 | F317: 8 | G317: 32.58 | H317: =ROUND(G317*0.2359,2) -> 7.69 | I317: =G317+H317 -> 40.27
A318: =A317+1 -> 312 | B318: VP VIDZEMES RP DIENVIDVIDZEMES IECIRKŅA IZMEKLĒŠANAS NODAĻAS 5.GRUPA | C318: vecākais inspektors | D318: 1295 | E318: =ROUND(D318/$E$4,3) -> 7.786 | F318: 8 | G318: 31.14 | H318: =ROUND(G318*0.2359,2) -> 7.35 | I318: =G318+H318 -> 38.49
A319: =A318+1 -> 313 | B319: VP VIDZEMES RP DIENVIDVIDZEMES IECIRKŅA IZMEKLĒŠANAS NODAĻAS 5.GRUPA | C319: inspektors | D319: 1257 | E319: =ROUND(D319/$E$4,3) -> 7.557 | F319: 8 | G319: 30.23 | H319: =ROUND(G319*0.2359,2) -> 7.13 | I319: =G319+H319 -> 37.36
A320: =A319+1 -> 314 | B320: VP VIDZEMES RP DIENVIDVIDZEMES IECIRKŅA PREVENCIJAS GRUPA | C320: vecākais inspektors | D320: 1335 | E320: =ROUND(D320/$E$4,3) -> 8.026 | F320: 8 | G320: 32.1 | H320: =ROUND(G320*0.2359,2) -> 7.57 | I320: =G320+H320 -> 39.67
A321: =A320+1 -> 315 | B321: VP VIDZEMES RP DIENVIDVIDZEMES IECIRKŅA PREVENCIJAS GRUPA | C321: inspektors | D321: 1342 | E321: =ROUND(D321/$E$4,3) -> 8.068 | F321: 8 | G321: 32.27 | H321: =ROUND(G321*0.2359,2) -> 7.61 | I321: =G321+H321 -> 39.88
A322: =A321+1 -> 316 | B322: VP VIDZEMES RP DIENVIDVIDZEMES IECIRKŅA PREVENCIJAS GRUPA | C322: vecākais inspektors | D322: 1335 | E322: =ROUND(D322/$E$4,3) -> 8.026 | F322: 16 | G322: 64.21 | H322: =ROUND(G322*0.2359,2) -> 15.15 | I322: =G322+H322 -> 79.36
A323: =A322+1 -> 317 | B323: VP VIDZEMES RP DIENVIDVIDZEMES IECIRKŅA PREVENCIJAS GRUPA | C323: galvenais inspektors | D323: 1341 | E323: =ROUND(D323/$E$4,3) -> 8.062 | F323: 8 | G323: 32.25 | H323: =ROUND(G323*0.2359,2) -> 7.61 | I323: =G323+H323 -> 39.86
... A389: =A388+1 -> 383 | B389: VP ZEMGALES RP AUSTRUMZEMGALES IECIRKŅA REAĢĒŠANAS NODAĻAS 4.GRUPA | C389: galvenais inspektors | D389: 1401 | E389: =ROUND(D389/$E$4,3) -> 8.423 | F389: 8 | G389: 33.69 | H389: =ROUND(G389*0.2359,2) -> 7.95 | I389: =G389+H389 -> 41.64
B391: *** - izdienas pensionārs

Sheet  2.tabula
I1: 2.pielikuma 2.tabula
A2: Valsts policija
A3: Detalizēts aprēķins samaksai par virsstundu darbu amatpersonām ar speciālo dienesta pakāpi, sniedzot atbalstu Valsts robežsardzei Latvijas Republikas-Baltkrievijas Republikas valsts robežas nelikumīgas šķērsošanas nodrošināšanā, par laika periodu no 2023.gada 1.maija līdz 31.augustam
E4: 166.33
A5: Nr. p.k. | B5: Struktūrvienība | C5: Amats | D5: Mēnešalga amatpersonām ar speciālajām pakāpēm | E5: Stundas likme | F5: Stundu skaits | G5: Samaksa par virsstundu darbu | H5: DD VSAOI | I5: Atlīdzība
A6: kopā | F6: =SUM(F7:F584) -> 61750.25 | G6: =SUM(G7:G584) -> 1010055.4 | H6: =SUM(H7:H584) -> 238158.22 | I6: =SUM(I7:I584) -> 1248213.6
A7: 1 | B7: VP GKĀRTPP SDP SUKB SPECIĀLO UZDEVUMU NODAĻA | C7: vecākais inspektors | D7: 1327 | E7: =ROUND(D7/$E$4,3) -> 7.978 | F7: 182 | G7: 2903.99 | H7: =ROUND(G7*0.2359,2) -> 685.05 | I7: =G7+H7 -> 3589.04
A8: 2 | B8: VP GKĀRTPP SDP SUKB SPECIĀLO UZDEVUMU NODAĻA | C8: jaunākais inspektors | D8: 1073 | E8: =ROUND(D8/$E$4,3) -> 6.451 | F8: 90 | G8: 1161.18 | H8: =ROUND(G8*0.2359,2) -> 273.92 | I8: =G8+H8 -> 1435.1
A9: 3 | B9: VP LATGALES REĢIONA PĀRVALDES DISCIPLINĀRĀS UZRAUDZĪBAS GRUPA | C9: galvenais inspektors | D9: 1565 | E9: =ROUND(D9/$E$4,3) -> 9.409 | F9: 105 | G9: 1975.89 | H9: =ROUND(G9*0.2359,2) -> 466.11 | I9: =G9+H9 -> 2442
A10: =A9+1 -> 4 | B10: VP LATGALES REĢIONA PĀRVALDES DISCIPLINĀRĀS UZRAUDZĪBAS GRUPA | C10: vecākais inspektors | D10: 1470 | E10: =ROUND(D10/$E$4,3) -> 8.838 | F10: 30 | G10: 530.28 | H10: =ROUND(G10*0.2359,2) -> 125.09 | I10: =G10+H10 -> 655.37
A11: =A10+1 -> 5 | B11: VP LATGALES REĢIONA PĀRVALDES DISCIPLINĀRĀS UZRAUDZĪBAS GRUPA | C11: vecākais inspektors | D11: 1517 | E11: =ROUND(D11/$E$4,3) -> 9.12 | F11: 151 | G11: 2754.24 | H11: =ROUND(G11*0.2359,2) -> 649.73 | I11: =G11+H11 -> 3403.97
A12: =A11+1 -> 6 | B12: VP LATGALES RP DIENVIDLATGALES IECIRKNIS | C12: iecirkņa priekšnieka vietnieks, Izmeklēšanas nodaļas priekšnieks | D12: 2040 | E12: =ROUND(D12/$E$4,3) -> 12.265 | F12: 112 | G12: 2747.36 | H12: =ROUND(G12*0.2359,2) -> 648.1 | I12: =G12+H12 -> 3395.46
A13: =A12+1 -> 7 | B13: VP LATGALES RP DIENVIDLATGALES IECIRKNIS | C13: iecirkņa priekšnieka vietnieks, Reaģēšanas nodaļas priekšnieks | D13: 1984 | E13: =ROUND(D13/$E$4,3) -> 11.928 | F13: 154.5 | G13: 3685.75 | H13: =ROUND(G13*0.2359,2) -> 869.47 | I13: =G13+H13 -> 4555.22
A14: =A13+1 -> 8 | B14: VP LATGALES RP DIENVIDLATGALES IECIRKNIS | C14: iecirkņa priekšnieks | D14: 2200 | E14: =ROUND(D14/$E$4,3) -> 13.227 | F14: 69 | G14: 1825.33 | H14: =ROUND(G14*0.2359,2) -> 430.6 | I14: =G14+H14 -> 2255.93
A15: =A14+1 -> 9 | B15: VP LATGALES RP DIENVIDLATGALES IECIRKŅA IZMEKLĒŠANAS NODAĻAS 1.GRUPA | C15: galvenais inspektors | D15: 1872 | E15: =ROUND(D15/$E$4,3) -> 11.255 | F15: 113 | G15: 2543.63 | H15: =ROUND(G15*0.2359,2) -> 600.04 | I15: =G15+H15 -> 3143.67
A16: =A15+1 -> 10 | B16: VP LATGALES RP DIENVIDLATGALES IECIRKŅA IZMEKLĒŠANAS NODAĻAS 1.GRUPA | C16: inspektors | D16: 1443 | E16: =ROUND(D16/$E$4,3) -> 8.676 | F16: 186 | G16: 3227.47 | H16: =ROUND(G16*0.2359,2) -> 761.36 | I16: =G16+H16 -> 3988.83
A17: =A16+1 -> 11 | B17: VP LATGALES RP DIENVIDLATGALES IECIRKŅA IZMEKLĒŠANAS NODAĻAS 1.GRUPA | C17: inspektors | D17: 1443 | E17: =ROUND(D17/$E$4,3) -> 8.676 | F17: 139 | G17: 2411.93 | H17: =ROUND(G17*0.2359,2) -> 568.97 | I17: =G17+H17 -> 2980.9
A18: =A17+1 -> 12 | B18: VP LATGALES RP DIENVIDLATGALES IECIRKŅA IZMEKLĒŠANAS NODAĻAS 1.GRUPA | C18: inspektors | D18: 1417 | E18: =ROUND(D18/$E$4,3) -> 8.519 | F18: 145 | G18: 2470.51 | H18: =ROUND(G18*0.2359,2) -> 582.79 | I18: =G18+H18 -> 3053.3
A19: =A18+1 -> 13 | B19: VP LATGALES RP DIENVIDLATGALES IECIRKŅA IZMEKLĒŠANAS NODAĻAS 1.GRUPA | C19: vecākais inspektors | D19: 1490 | E19: =ROUND(D19/$E$4,3) -> 8.958 | F19: 160 | G19: 2866.56 | H19: =ROUND(G19*0.2359,2) -> 676.22 | I19: =G19+H19 -> 3542.78
A20: =A19+1 -> 14 | B20: VP LATGALES RP DIENVIDLATGALES IECIRKŅA IZMEKLĒŠANAS NODAĻAS 1.GRUPA | C20: inspektors | D20: 1490 | E20: =ROUND(D20/$E$4,3) -> 8.958 | F20: 135 | G20: 2418.66 | H20: =ROUND(G20*0.2359,2) -> 570.56 | I20: =G20+H20 -> 2989.22
A21: =A20+1 -> 15 | B21: VP LATGALES RP DIENVIDLATGALES IECIRKŅA IZMEKLĒŠANAS NODAĻAS 1.GRUPA | C21: vecākais inspektors | D21: 1470 | E21: =ROUND(D21/$E$4,3) -> 8.838 | F21: 101 | G21: 1785.28 | H21: =ROUND(G21*0.2359,2) -> 421.15 | I21: =G21+H21 -> 2206.43
... A45: =A44+1 -> 39 | B45: VP LATGALES RP DIENVIDLATGALES IECIRKŅA IZMEKLĒŠANAS NODAĻAS 4.GRUPA | C45: inspektors | D45: 1443 | E45: =ROUND(D45/$E$4,3) -> 8.676 | F45: 58 | G45: 1006.42 | H45: =ROUND(G45*0.2359,2) -> 237.41 | I45: =G45+H45 -> 1243.83
A46: =A45+1 -> 40 | B46: VP LATGALES RP DIENVIDLATGALES IECIRKŅA IZMEKLĒŠANAS NODAĻAS 4.GRUPA | C46: vecākais inspektors | D46: 1637 | E46: =ROUND(D46/$E$4,3) -> 9.842 | F46: 97 | G46: 1909.35 | H46: =ROUND(G46*0.2359,2)-31.51 -> 418.91 | I46: =G46+H46 -> 2328.26 | J46: ***
A47: =A46+1 -> 41 | B47: VP LATGALES RP DIENVIDLATGALES IECIRKŅA IZMEKLĒŠANAS NODAĻAS 4.GRUPA | C47: vecākais inspektors | D47: 1470 | E47: =ROUND(D47/$E$4,3) -> 8.838 | F47: 183 | G47: 3234.71 | H47: =ROUND(G47*0.2359,2) -> 763.07 | I47: =G47+H47 -> 3997.78
A48: =A47+1 -> 42 | B48: VP LATGALES RP DIENVIDLATGALES IECIRKŅA IZMEKLĒŠANAS NODAĻAS 4.GRUPA | C48: inspektors | D48: 1437 | E48: =ROUND(D48/$E$4,3) -> 8.639 | F48: 154 | G48: 2660.81 | H48: =ROUND(G48*0.2359,2) -> 627.69 | I48: =G48+H48 -> 3288.5
A49: =A48+1 -> 43 | B49: VP LATGALES RP DIENVIDLATGALES IECIRKŅA IZMEKLĒŠANAS NODAĻAS 4.GRUPA | C49: inspektors | D49: 1423 | E49: =ROUND(D49/$E$4,3) -> 8.555 | F49: 153 | G49: 2617.83 | H49: =ROUND(G49*0.2359,2) -> 617.55 | I49: =G49+H49 -> 3235.38
A50: =A49+1 -> 44 | B50: VP LATGALES RP DIENVIDLATGALES IECIRKŅA IZMEKLĒŠANAS NODAĻAS 4.GRUPA | C50: inspektors | D50: 1443 | E50: =ROUND(D50/$E$4,3) -> 8.676 | F50: 96 | G50: 1665.79 | H50: =ROUND(G50*0.2359,2) -> 392.96 | I50: =G50+H50 -> 2058.75
A51: =A50+1 -> 45 | B51: VP LATGALES RP DIENVIDLATGALES IECIRKŅA IZMEKLĒŠANAS NODAĻAS 5.GRUPA | C51: inspektors | D51: 1437 | E51: =ROUND(D51/$E$4,3) -> 8.639 | F51: 118 | G51: 2038.8 | H51: =ROUND(G51*0.2359,2)-0.01 -> 480.94 | I51: =G51+H51 -> 2519.74
A52: =A51+1 -> 46 | B52: VP LATGALES RP DIENVIDLATGALES IECIRKŅA IZMEKLĒŠANAS NODAĻAS 5.GRUPA | C52: inspektors | D52: 1443 | E52: =ROUND(D52/$E$4,3) -> 8.676 | F52: 81 | G52: 1405.51 | H52: =ROUND(G52*0.2359,2) -> 331.56 | I52: =G52+H52 -> 1737.07
A53: =A52+1 -> 47 | B53: VP LATGALES RP DIENVIDLATGALES IECIRKŅA IZMEKLĒŠANAS NODAĻAS 5.GRUPA | C53: galvenais inspektors | D53: 1762 | E53: =ROUND(D53/$E$4,3) -> 10.593 | F53: 96 | G53: 2033.86 | H53: =ROUND(G53*0.2359,2) -> 479.79 | I53: =G53+H53 -> 2513.65
A54: =A53+1 -> 48 | B54: VP LATGALES RP DIENVIDLATGALES IECIRKŅA IZMEKLĒŠANAS NODAĻAS 5.GRUPA | C54: vecākais inspektors | D54: 1497 | E54: =ROUND(D54/$E$4,3) -> 9 | F54: 134 | G54: 2412 | H54: =ROUND(G54*0.2359,2) -> 568.99 | I54: =G54+H54 -> 2980.99
A55: =A54+1 -> 49 | B55: VP LATGALES RP DIENVIDLATGALES IECIRKŅA IZMEKLĒŠANAS NODAĻAS 5.GRUPA | C55: inspektors | D55: 1443 | E55: =ROUND(D55/$E$4,3) -> 8.676 | F55: 132.5 | G55: 2299.14 | H55: =ROUND(G55*0.2359,2) -> 542.37 | I55: =G55+H55 -> 2841.51
A56: =A55+1 -> 50 | B56: VP LATGALES RP DIENVIDLATGALES IECIRKŅA IZMEKLĒŠANAS NODAĻAS 5.GRUPA | C56: vecākais inspektors | D56: 1517 | E56: =ROUND(D56/$E$4,3) -> 9.12 | F56: 113 | G56: 2061.12 | H56: =ROUND(G56*0.2359,2) -> 486.22 | I56: =G56+H56 -> 2547.34
A57: =A56+1 -> 51 | B57: VP LATGALES RP DIENVIDLATGALES IECIRKŅA IZMEKLĒŠANAS NODAĻAS 5.GRUPA | C57: vecākais inspektors | D57: 1450 | E57: =ROUND(D57/$E$4,3) -> 8.718 | F57: 55.5 | G57: 967.7 | H57: =ROUND(G57*0.2359,2) -> 228.28 | I57: =G57+H57 -> 1195.98
A58: =A57+1 -> 52 | B58: VP LATGALES RP DIENVIDLATGALES IECIRKŅA IZMEKLĒŠANAS NODAĻAS 5.GRUPA | C58: vecākais inspektors | D58: 1430 | E58: =ROUND(D58/$E$4,3) -> 8.597 | F58: 127 | G58: 2183.64 | H58: =ROUND(G58*0.2359,2) -> 515.12 | I58: =G58+H58 -> 2698.76
A59: =A58+1 -> 53 | B59: VP LATGALES RP DIENVIDLATGALES IECIRKŅA IZMEKLĒŠANAS NODAĻAS 5.GRUPA | C59: inspektors | D59: 1403 | E59: =ROUND(D59/$E$4,3) -> 8.435 | F59: 113 | G59: 1906.31 | H59: =ROUND(G59*0.2359,2) -> 449.7 | I59: =G59+H59 -> 2356.01
A60: =A59+1 -> 54 | B60: VP LATGALES RP DIENVIDLATGALES IECIRKŅA IZMEKLĒŠANAS NODAĻAS 5.GRUPA | C60: inspektors | D60: 1403 | E60: =ROUND(D60/$E$4,3) -> 8.435 | F60: 95 | G60: 1602.65 | H60: =ROUND(G60*0.2359,2) -> 378.07 | I60: =G60+H60 -> 1980.72
A61: =A60+1 -> 55 | B61: VP LATGALES RP DIENVIDLATGALES IECIRKŅA IZMEKLĒŠANAS NODAĻAS 5.GRUPA | C61: inspektors | D61: 1363 | E61: =ROUND(D61/$E$4,3) -> 8.195 | F61: 131 | G61: 2147.09 | H61: =ROUND(G61*0.2359,2) -> 506.5 | I61: =G61+H61 -> 2653.59
A62: =A61+1 -> 56 | B62: VP LATGALES RP DIENVIDLATGALES IECIRKŅA IZMEKLĒŠANAS NODAĻAS 6.GRUPA | C62: galvenais inspektors | D62: 1448 | E62: =ROUND(D62/$E$4,3) -> 8.706 | F62: 119 | G62: 2072.03 | H62: =ROUND(G62*0.2359,2) -> 488.79 | I62: =G62+H62 -> 2560.82
A63: =A62+1 -> 57 | B63: VP LATGALES RP DIENVIDLATGALES IECIRKŅA IZMEKLĒŠANAS NODAĻAS 6.GRUPA | C63: vecākais inspektors | D63: 1361 | E63: =ROUND(D63/$E$4,3) -> 8.183 | F63: 77 | G63: 1260.18 | H63: =ROUND(G63*0.2359,2) -> 297.28 | I63: =G63+H63 -> 1557.46
... A75: =A74+1 -> 69 | B75: VP LATGALES RP DIENVIDLATGALES IECIRKŅA IZMEKLĒŠANAS NODAĻAS 6.GRUPA | C75: inspektors | D75: 1237 | E75: =ROUND(D75/$E$4,3) -> 7.437 | F75: 83 | G75: 1234.54 | H75: =ROUND(G75*0.2359,2) -> 291.23 | I75: =G75+H75 -> 1525.77
A76: =A75+1 -> 70 | B76: VP LATGALES RP DIENVIDLATGALES IECIRKŅA IZMEKLĒŠANAS NODAĻAS 7.GRUPA | C76: vecākais inspektors | D76: 1355 | E76: =ROUND(D76/$E$4,3) -> 8.146 | F76: 115 | G76: 1873.58 | H76: =ROUND(G76*0.2359,2)-0.01 -> 441.97 | I76: =G76+H76 -> 2315.55
A77: =A76+1 -> 71 | B77: VP LATGALES RP DIENVIDLATGALES IECIRKŅA IZMEKLĒŠANAS NODAĻAS 7.GRUPA | C77: inspektors | D77: 1342 | E77: =ROUND(D77/$E$4,3) -> 8.068 | F77: 40 | G77: 645.44 | H77: =ROUND(G77*0.2359,2) -> 152.26 | I77: =G77+H77 -> 797.7
A78: =A77+1 -> 72 | B78: VP LATGALES RP DIENVIDLATGALES IECIRKŅA IZMEKLĒŠANAS NODAĻAS 7.GRUPA | C78: inspektors | D78: 1362 | E78: =ROUND(D78/$E$4,3) -> 8.189 | F78: 70 | G78: 1146.46 | H78: =ROUND(G78*0.2359,2) -> 270.45 | I78: =G78+H78 -> 1416.91
A79: =A78+1 -> 73 | B79: VP LATGALES RP DIENVIDLATGALES IECIRKŅA IZMEKLĒŠANAS NODAĻAS 7.GRUPA | C79: galvenais inspektors | D79: 1355 | E79: =ROUND(D79/$E$4,3) -> 8.146 | F79: 117 | G79: 1906.16 | H79: =ROUND(G79*0.2359,2) -> 449.66 | I79: =G79+H79 -> 2355.82
A80: =A79+1 -> 74 | B80: VP LATGALES RP DIENVIDLATGALES IECIRKŅA IZMEKLĒŠANAS NODAĻAS 7.GRUPA | C80: vecākais inspektors | D80: 1335 | E80: =ROUND(D80/$E$4,3) -> 8.026 | F80: 167 | G80: 2680.68 | H80: =ROUND(G80*0.2359,2) -> 632.37 | I80: =G80+H80 -> 3313.05
A81: =A80+1 -> 75 | B81: VP LATGALES RP DIENVIDLATGALES IECIRKŅA IZMEKLĒŠANAS NODAĻAS 7.GRUPA | C81: inspektors | D81: 1337 | E81: =ROUND(D81/$E$4,3) -> 8.038 | F81: 105 | G81: 1687.98 | H81: =ROUND(G81*0.2359,2) -> 398.19 | I81: =G81+H81 -> 2086.17
A82: =A81+1 -> 76 | B82: VP LATGALES RP DIENVIDLATGALES IECIRKŅA IZMEKLĒŠANAS NODAĻAS 7.GRUPA | C82: vecākais inspektors | D82: 1381 | E82: =ROUND(D82/$E$4,3) -> 8.303 | F82: 109 | G82: 1810.05 | H82: =ROUND(G82*0.2359,2)-0.01 -> 426.98 | I82: =G82+H82 -> 2237.03
A83: =A82+1 -> 77 | B83: VP LATGALES RP DIENVIDLATGALES IECIRKŅA IZMEKLĒŠANAS NODAĻAS 7.GRUPA | C83: vecākais inspektors | D83: 1335 | E83: =ROUND(D83/$E$4,3) -> 8.026 | F83: 142 | G83: 2279.38 | H83: =ROUND(G83*0.2359,2) -> 537.71 | I83: =G83+H83 -> 2817.09
A84: =A83+1 -> 78 | B84: VP LATGALES RP DIENVIDLATGALES IECIRKŅA IZMEKLĒŠANAS NODAĻAS 7.GRUPA | C84: inspektors | D84: 1362 | E84: =ROUND(D84/$E$4,3) -> 8.189 | F84: 81 | G84: 1326.62 | H84: =ROUND(G84*0.2359,2) -> 312.95 | I84: =G84+H84 -> 1639.57
A85: =A84+1 -> 79 | B85: VP LATGALES RP DIENVIDLATGALES IECIRKŅA IZMEKLĒŠANAS NODAĻAS 7.GRUPA | C85: inspektors | D85: 1322 | E85: =ROUND(D85/$E$4,3) -> 7.948 | F85: 85 | G85: 1351.16 | H85: =ROUND(G85*0.2359,2) -> 318.74 | I85: =G85+H85 -> 1669.9
A86: =A85+1 -> 80 | B86: VP LATGALES RP DIENVIDLATGALES IECIRKŅA IZMEKLĒŠANAS NODAĻAS 7.GRUPA | C86: vecākais inspektors | D86: 1315 | E86: =ROUND(D86/$E$4,3) -> 7.906 | F86: 140 | G86: 2213.68 | H86: =ROUND(G86*0.2359,2) -> 522.21 | I86: =G86+H86 -> 2735.89
A87: =A86+1 -> 81 | B87: VP LATGALES RP DIENVIDLATGALES IECIRKŅA IZMEKLĒŠANAS NODAĻAS 7.GRUPA | C87: inspektors | D87: 1277 | E87: =ROUND(D87/$E$4,3) -> 7.678 | F87: 54 | G87: 829.22 | H87: =ROUND(G87*0.2359,2) -> 195.61 | I87: =G87+H87 -> 1024.83
A88: =A87+1 -> 82 | B88: VP LATGALES RP DIENVIDLATGALES IECIRKŅA IZMEKLĒŠANAS NODAĻAS 7.GRUPA | C88: inspektors | D88: 1257 | E88: =ROUND(D88/$E$4,3) -> 7.557 | F88: 93 | G88: 1405.6 | H88: =ROUND(G88*0.2359,2) -> 331.58 | I88: =G88+H88 -> 1737.18
A89: =A88+1 -> 83 | B89: VP LATGALES RP DIENVIDLATGALES IECIRKŅA IZMEKLĒŠANAS NODAĻAS 7.GRUPA | C89: inspektors | D89: 1257 | E89: =ROUND(D89/$E$4,3) -> 7.557 | F89: 122 | G89: 1843.91 | H89: =ROUND(G89*0.2359,2) -> 434.98 | I89: =G89+H89 -> 2278.89
A90: =A89+1 -> 84 | B90: VP LATGALES RP DIENVIDLATGALES IECIRKŅA IZMEKLĒŠANAS NODAĻAS 8.GRUPA | C90: inspektors | D90: 1337 | E90: =ROUND(D90/$E$4,3) -> 8.038 | F90: 40 | G90: 643.04 | H90: =ROUND(G90*0.2359,2) -> 151.69 | I90: =G90+H90 -> 794.73
A91: =A90+1 -> 85 | B91: VP LATGALES RP DIENVIDLATGALES IECIRKŅA IZMEKLĒŠANAS NODAĻAS 8.GRUPA | C91: vecākais inspektors | D91: 1335 | E91: =ROUND(D91/$E$4,3) -> 8.026 | F91: 127 | G91: 2038.6 | H91: =ROUND(G91*0.2359,2) -> 480.91 | I91: =G91+H91 -> 2519.51
A92: =A91+1 -> 86 | B92: VP LATGALES RP DIENVIDLATGALES IECIRKŅA IZMEKLĒŠANAS NODAĻAS 8.GRUPA | C92: vecākais inspektors | D92: 1355 | E92: =ROUND(D92/$E$4,3) -> 8.146 | F92: 170 | G92: 2769.64 | H92: =ROUND(G92*0.2359,2) -> 653.36 | I92: =G92+H92 -> 3423
A93: =A92+1 -> 87 | B93: VP LATGALES RP DIENVIDLATGALES IECIRKŅA IZMEKLĒŠANAS NODAĻAS 8.GRUPA | C93: inspektors | D93: 1362 | E93: =ROUND(D93/$E$4,3) -> 8.189 | F93: 66 | G93: 1080.95 | H93: =ROUND(G93*0.2359,2) -> 255 | I93: =G93+H93 -> 1335.95
A94: =A93+1 -> 88 | B94: VP LATGALES RP DIENVIDLATGALES IECIRKŅA IZMEKLĒŠANAS NODAĻAS 8.GRUPA | C94: galvenais inspektors | D94: 1355 | E94: =ROUND(D94/$E$4,3) -> 8.146 | F94: 206 | G94: 3356.15 | H94: =ROUND(G94*0.2359,2) -> 791.72 | I94: =G94+H94 -> 4147.87
... A121: =A120+1 -> 115 | B121: VP LATGALES RP DIENVIDLATGALES IECIRKŅA PREVENCIJAS GRUPA | C121: galvenais inspektors | D121: 1341 | E121: =ROUND(D121/$E$4,3) -> 8.062 | F121: 158 | G121: 2547.59 | H121: =ROUND(G121*0.2359,2) -> 600.98 | I121: =G121+H121 -> 3148.57
A122: =A121+1 -> 116 | B122: VP LATGALES RP DIENVIDLATGALES IECIRKŅA PREVENCIJAS GRUPA | C122: inspektors | D122: 1337 | E122: =ROUND(D122/$E$4,3) -> 8.038 | F122: 181 | G122: 2909.76 | H122: =ROUND(G122*0.2359,2)-0.01 -> 686.4 | I122: =G122+H122 -> 3596.16
A123: =A122+1 -> 117 | B123: VP LATGALES RP DIENVIDLATGALES IECIRKŅA PREVENCIJAS GRUPA | C123: inspektors | D123: 1277 | E123: =ROUND(D123/$E$4,3) -> 7.678 | F123: 128 | G123: 1965.57 | H123: =ROUND(G123*0.2359,2) -> 463.68 | I123: =G123+H123 -> 2429.25
A124: =A123+1 -> 118 | B124: VP LATGALES RP DIENVIDLATGALES IECIRKŅA PREVENCIJAS GRUPA | C124: inspektors | D124: 1302 | E124: =ROUND(D124/$E$4,3) -> 7.828 | F124: 46 | G124: 720.18 | H124: =ROUND(G124*0.2359,2) -> 169.89 | I124: =G124+H124 -> 890.07
A125: =A124+1 -> 119 | B125: VP LATGALES RP DIENVIDLATGALES IECIRKŅA PREVENCIJAS GRUPA | C125: inspektors | D125: 1282 | E125: =ROUND(D125/$E$4,3) -> 7.708 | F125: 77 | G125: 1187.03 | H125: =ROUND(G125*0.2359,2) -> 280.02 | I125: =G125+H125 -> 1467.05
A126: =A125+1 -> 120 | B126: VP LATGALES RP DIENVIDLATGALES IECIRKŅA REAĢĒŠANAS NODAĻAS 1.GRUPA | C126: inspektors | D126: 1317 | E126: =ROUND(D126/$E$4,3) -> 7.918 | F126: 101 | G126: 1599.44 | H126: =ROUND(G126*0.2359,2) -> 377.31 | I126: =G126+H126 -> 1976.75
A127: =A126+1 -> 121 | B127: VP LATGALES RP DIENVIDLATGALES IECIRKŅA REAĢĒŠANAS NODAĻAS 1.GRUPA | C127: vecākais inspektors | D127: 1355 | E127: =ROUND(D127/$E$4,3) -> 8.146 | F127: 204 | G127: 3323.57 | H127: =ROUND(G127*0.2359,2) -> 784.03 | I127: =G127+H127 -> 4107.6
A128: =A127+1 -> 122 | B128: VP LATGALES RP DIENVIDLATGALES IECIRKŅA REAĢĒŠANAS NODAĻAS 1.GRUPA | C128: galvenais inspektors | D128: 1421 | E128: =ROUND(D128/$E$4,3) -> 8.543 | F128: 93 | G128: 1589 | H128: =ROUND(G128*0.2359,2) -> 374.85 | I128: =G128+H128 -> 1963.85
A129: =A128+1 -> 123 | B129: VP LATGALES RP DIENVIDLATGALES IECIRKŅA REAĢĒŠANAS NODAĻAS 1.GRUPA | C129: inspektors | D129: 1337 | E129: =ROUND(D129/$E$4,3) -> 8.038 | F129: 141 | G129: 2266.72 | H129: =ROUND(G129*0.2359,2) -> 534.72 | I129: =G129+H129 -> 2801.44
A130: =A129+1 -> 124 | B130: VP LATGALES RP DIENVIDLATGALES IECIRKŅA REAĢĒŠANAS NODAĻAS 1.GRUPA | C130: inspektors | D130: 1337 | E130: =ROUND(D130/$E$4,3) -> 8.038 | F130: 138 | G130: 2218.49 | H130: =ROUND(G130*0.2359,2) -> 523.34 | I130: =G130+H130 -> 2741.83
A131: =A130+1 -> 125 | B131: VP LATGALES RP DIENVIDLATGALES IECIRKŅA REAĢĒŠANAS NODAĻAS 1.GRUPA | C131: inspektors | D131: 1297 | E131: =ROUND(D131/$E$4,3) -> 7.798 | F131: 159 | G131: 2479.76 | H131: =ROUND(G131*0.2359,2) -> 584.98 | I131: =G131+H131 -> 3064.74
A132: =A131+1 -> 126 | B132: VP LATGALES RP DIENVIDLATGALES IECIRKŅA REAĢĒŠANAS NODAĻAS 1.GRUPA | C132: inspektors | D132: 1317 | E132: =ROUND(D132/$E$4,3) -> 7.918 | F132: 195 | G132: 3088.02 | H132: =ROUND(G132*0.2359,2) -> 728.46 | I132: =G132+H132 -> 3816.48
A133: =A132+1 -> 127 | B133: VP LATGALES RP DIENVIDLATGALES IECIRKŅA REAĢĒŠANAS NODAĻAS 1.GRUPA | C133: vecākais inspektors | D133: 1295 | E133: =ROUND(D133/$E$4,3) -> 7.786 | F133: 194 | G133: 3020.97 | H133: =ROUND(G133*0.2359,2) -> 712.65 | I133: =G133+H133 -> 3733.62
A134: =A133+1 -> 128 | B134: VP LATGALES RP DIENVIDLATGALES IECIRKŅA REAĢĒŠANAS NODAĻAS 1.GRUPA | C134: inspektors | D134: 1277 | E134: =ROUND(D134/$E$4,3) -> 7.678 | F134: 30 | G134: 460.68 | H134: =ROUND(G134*0.2359,2) -> 108.67 | I134: =G134+H134 -> 569.35
... A167: =A166+1 -> 161 | B167: VP LATGALES RP DIENVIDLATGALES IECIRKŅA REAĢĒŠANAS NODAĻAS 4.GRUPA | C167: jaunākais inspektors | D167: 1140 | E167: =ROUND(D167/$E$4,3) -> 6.854 | F167: 112 | G167: 1535.3 | H167: =ROUND(G167*0.2359,2) -> 362.18 | I167: =G167+H167 -> 1897.48
A168: =A167+1 -> 162 | B168: VP LATGALES RP DIENVIDLATGALES IECIRKŅA REAĢĒŠANAS NODAĻAS 4.GRUPA | C168: vecākais inspektors | D168: 1475 | E168: =ROUND(D168/$E$4,3) -> 8.868 | F168: 125 | G168: 2217 | H168: =ROUND(G168*0.2359,2)-36.57 -> 486.42 | I168: =G168+H168 -> 2703.42 | J168: ***
A169: =A168+1 -> 163 | B169: VP LATGALES RP DIENVIDLATGALES IECIRKŅA REAĢĒŠANAS NODAĻAS 4.GRUPA | C169: inspektors | D169: 1362 | E169: =ROUND(D169/$E$4,3) -> 8.189 | F169: 114 | G169: 1867.09 | H169: =ROUND(G169*0.2359,2) -> 440.45 | I169: =G169+H169 -> 2307.54
A170: =A169+1 -> 164 | B170: VP LATGALES RP DIENVIDLATGALES IECIRKŅA REAĢĒŠANAS NODAĻAS 4.GRUPA | C170: inspektors | D170: 1317 | E170: =ROUND(D170/$E$4,3) -> 7.918 | F170: 311 | G170: 4925 | H170: =ROUND(G170*0.2359,2) -> 1161.81 | I170: =G170+H170 -> 6086.81
A171: =A170+1 -> 165 | B171: VP LATGALES RP DIENVIDLATGALES IECIRKŅA REAĢĒŠANAS NODAĻAS 4.GRUPA | C171: inspektors | D171: 1317 | E171: =ROUND(D171/$E$4,3) -> 7.918 | F171: 129 | G171: 2042.84 | H171: =ROUND(G171*0.2359,2) -> 481.91 | I171: =G171+H171 -> 2524.75
A172: =A171+1 -> 166 | B172: VP LATGALES RP DIENVIDLATGALES IECIRKŅA REAĢĒŠANAS NODAĻAS 4.GRUPA | C172: inspektors | D172: 1297 | E172: =ROUND(D172/$E$4,3) -> 7.798 | F172: 26 | G172: 405.5 | H172: =ROUND(G172*0.2359,2) -> 95.66 | I172: =G172+H172 -> 501.16
A173: =A172+1 -> 167 | B173: VP LATGALES RP DIENVIDLATGALES IECIRKŅA REAĢĒŠANAS NODAĻAS 4.GRUPA | C173: inspektors | D173: 1337 | E173: =ROUND(D173/$E$4,3) -> 8.038 | F173: 123 | G173: 1977.35 | H173: =ROUND(G173*0.2359,2) -> 466.46 | I173: =G173+H173 -> 2443.81
A174: =A173+1 -> 168 | B174: VP LATGALES RP DIENVIDLATGALES IECIRKŅA REAĢĒŠANAS NODAĻAS 4.GRUPA | C174: galvenais inspektors | D174: 1381 | E174: =ROUND(D174/$E$4,3) -> 8.303 | F174: 79 | G174: 1311.87 | H174: =ROUND(G174*0.2359,2) -> 309.47 | I174: =G174+H174 -> 1621.34
A175: =A174+1 -> 169 | B175: VP LATGALES RP DIENVIDLATGALES IECIRKŅA REAĢĒŠANAS NODAĻAS 4.GRUPA | C175: inspektors | D175: 1277 | E175: =ROUND(D175/$E$4,3) -> 7.678 | F175: 109 | G175: 1673.8 | H175: =ROUND(G175*0.2359,2) -> 394.85 | I175: =G175+H175 -> 2068.65
A176: =A175+1 -> 170 | B176: VP LATGALES RP DIENVIDLATGALES IECIRKŅA REAĢĒŠANAS NODAĻAS 4.GRUPA | C176: inspektors | D176: 1257 | E176: =ROUND(D176/$E$4,3) -> 7.557 | F176: 106 | G176: 1602.08 | H176: =ROUND(G176*0.2359,2) -> 377.93 | I176: =G176+H176 -> 1980.01
A177: =A176+1 -> 171 | B177: VP LATGALES RP DIENVIDLATGALES IECIRKŅA REAĢĒŠANAS NODAĻAS 5.GRUPA | C177: vecākais inspektors | D177: 1335 | E177: =ROUND(D177/$E$4,3) -> 8.026 | F177: 105 | G177: 1685.46 | H177: =ROUND(G177*0.2359,2) -> 397.6 | I177: =G177+H177 -> 2083.06
A178: =A177+1 -> 172 | B178: VP LATGALES RP DIENVIDLATGALES IECIRKŅA REAĢĒŠANAS NODAĻAS 5.GRUPA | C178: inspektors | D178: 1317 | E178: =ROUND(D178/$E$4,3) -> 7.918 | F178: 197 | G178: 3119.69 | H178: =ROUND(G178*0.2359,2) -> 735.93 | I178: =G178+H178 -> 3855.62
A179: =A178+1 -> 173 | B179: VP LATGALES RP DIENVIDLATGALES IECIRKŅA REAĢĒŠANAS NODAĻAS 5.GRUPA | C179: vecākais inspektors | D179: 1295 | E179: =ROUND(D179/$E$4,3) -> 7.786 | F179: 224 | G179: 3488.13 | H179: =ROUND(G179*0.2359,2) -> 822.85 | I179: =G179+H179 -> 4310.98
A180: =A179+1 -> 174 | B180: VP LATGALES RP DIENVIDLATGALES IECIRKŅA REAĢĒŠANAS NODAĻAS 5.GRUPA | C180: inspektors | D180: 1317 | E180: =ROUND(D180/$E$4,3) -> 7.918 | F180: 133 | G180: 2106.19 | H180: =ROUND(G180*0.2359,2) -> 496.85 | I180: =G180+H180 -> 2603.04
... A209: =A208+1 -> 203 | B209: VP LATGALES RP DIENVIDLATGALES IECIRKŅA REAĢĒŠANAS NODAĻAS 8.GRUPA | C209: inspektors | D209: 1277 | E209: =ROUND(D209/$E$4,3) -> 7.678 | F209: 15 | G209: 230.34 | H209: =ROUND(G209*0.2359,2) -> 54.34 | I209: =G209+H209 -> 284.68
A210: =A209+1 -> 204 | B210: VP LATGALES RP DIENVIDLATGALES IECIRKŅA REAĢĒŠANAS NODAĻAS 9.GRUPA | C210: vecākais inspektors | D210: 1381 | E210: =ROUND(D210/$E$4,3) -> 8.303 | F210: 85 | G210: 1411.51 | H210: =ROUND(G210*0.2359,2)-0.01 -> 332.97 | I210: =G210+H210 -> 1744.48
A211: =A210+1 -> 205 | B211: VP LATGALES RP DIENVIDLATGALES IECIRKŅA REAĢĒŠANAS NODAĻAS 9.GRUPA | C211: inspektors | D211: 1317 | E211: =ROUND(D211/$E$4,3) -> 7.918 | F211: 28 | G211: 443.41 | H211: =ROUND(G211*0.2359,2) -> 104.6 | I211: =G211+H211 -> 548.01
A212: =A211+1 -> 206 | B212: VP LATGALES RP DIENVIDLATGALES IECIRKŅA REAĢĒŠANAS NODAĻAS 9.GRUPA | C212: inspektors | D212: 1427 | E212: =ROUND(D212/$E$4,3) -> 8.579 | F212: 28 | G212: 480.42 | H212: =ROUND(G212*0.2359,2) -> 113.33 | I212: =G212+H212 -> 593.75
A213: =A212+1 -> 207 | B213: VP LATGALES RP DIENVIDLATGALES IECIRKŅA REAĢĒŠANAS NODAĻAS 9.GRUPA | C213: jaunākais inspektors | D213: 1120 | E213: =ROUND(D213/$E$4,3) -> 6.734 | F213: 15 | G213: 202.02 | H213: =ROUND(G213*0.2359,2) -> 47.66 | I213: =G213+H213 -> 249.68
A214: =A213+1 -> 208 | B214: VP LATGALES RP DIENVIDLATGALES IECIRKŅA REAĢĒŠANAS NODAĻAS 9.GRUPA | C214: inspektors | D214: 1282 | E214: =ROUND(D214/$E$4,3) -> 7.708 | F214: 95 | G214: 1464.52 | H214: =ROUND(G214*0.2359,2) -> 345.48 | I214: =G214+H214 -> 1810
A215: =A214+1 -> 209 | B215: VP LATGALES RP DIENVIDLATGALES IECIRKŅA REAĢĒŠANAS NODAĻAS 9.GRUPA | C215: jaunākais inspektors | D215: 1060 | E215: =ROUND(D215/$E$4,3) -> 6.373 | F215: 39 | G215: 497.09 | H215: =ROUND(G215*0.2359,2) -> 117.26 | I215: =G215+H215 -> 614.35
A216: =A215+1 -> 210 | B216: VP LATGALES RP KĀRTĪBAS POLICIJAS BIROJS (LRP KĀRTPB) | C216: biroja priekšnieka vietnieks | D216: 1701 | E216: =ROUND(D216/$E$4,3) -> 10.227 | F216: 75 | G216: 1534.05 | H216: =ROUND(G216*0.2359,2) -> 361.88 | I216: =G216+H216 -> 1895.93
A217: =A216+1 -> 211 | B217: VP LATGALES RP KĀRTPB ATĻAUJU SISTĒMAS GRUPA | C217: inspektors | D217: 1196 | E217: =ROUND(D217/$E$4,3) -> 7.191 | F217: 108 | G217: 1553.26 | H217: =ROUND(G217*0.2359,2) -> 366.41 | I217: =G217+H217 -> 1919.67
A218: =A217+1 -> 212 | B218: VP LATGALES RP KĀRTPB ATĻAUJU SISTĒMAS GRUPA | C218: vecākais inspektors | D218: 1240 | E218: =ROUND(D218/$E$4,3) -> 7.455 | F218: 220.5 | G218: 3287.66 | H218: =ROUND(G218*0.2359,2) -> 775.56 | I218: =G218+H218 -> 4063.22
A219: =A218+1 -> 213 | B219: VP LATGALES RP KĀRTPB ATĻAUJU SISTĒMAS GRUPA | C219: inspektors | D219: 1176 | E219: =ROUND(D219/$E$4,3) -> 7.07 | F219: 219 | G219: 3096.66 | H219: =ROUND(G219*0.2359,2) -> 730.5 | I219: =G219+H219 -> 3827.16
A220: =A219+1 -> 214 | B220: VP LATGALES RP KĀRTPB ATĻAUJU SISTĒMAS GRUPA | C220: inspektors | D220: 1296 | E220: =ROUND(D220/$E$4,3) -> 7.792 | F220: 203.5 | G220: 3171.34 | H220: =ROUND(G220*0.2359,2) -> 748.12 | I220: =G220+H220 -> 3919.46
...

Sheet 3.tabula
L1: 2.pielikuma 3.tabula
A2: Valsts policija
A3: Piemaksa par darbu īpašos apstākļos amatpersonām ar speciālajām dienesta pakāpēm, kuras laika periodā no 2023.gada 1. augusta līdz 31.augustam tika iesaistītas atbalsta sniegšanā Valsts robežsardzei Latvijas Republikas-Baltkrievijas Republikas valsts robežas robežuzraudzības nodrošināšanā
F4: 166.33
A5: Nr. p.k. | B5: Struktūrvienība | C5: Amats | D5: Mēnešalga amatpersonām ar speciālajām pakāpēm | E5: Piemaksas apmērs % | F5: Stundas likme | G5: Stundu skaits | J5: Piemaksa par darbu īpašos apstākļos | K5: DD VSAOI | L5: Atlīdzība
G6: Kopā par mēnesi | H6: 01.08. - 10.08.2023 | I6: 11.08. - 31.08.2023
A7: kopā | G7: =H7+I7 -> 18034 | H7: =SUM(H8:H657) -> 4421.5 | I7: =SUM(I8:I657) -> 13612.5 | J7: =SUM(J8:J657) -> 32457 | K7: =SUM(K8:K657) -> 7651.88 | L7: =SUM(L8:L657) -> 40108.88
A8: 1 | B8: VP LATGALES RP ZIEMEĻLATGALES IECIRKNIS | C8: iecirkņa priekšnieka vietnieks, Reaģēšanas nodaļas priekšnieks | D8: 2040 | E8: 20% | F8: =ROUND(D8/$F$4,3) -> 12.265 | G8: =H8+I8 -> 12 | I8: 12 | J8: 29.44 | K8: =ROUND(J8*23.59%,2) -> 6.94 | L8: =J8+K8 -> 36.38
A9: 2 | B9: VP LATGALES RP ZIEMEĻLATGALES IECIRKŅA IZMEKLĒŠANAS NODAĻAS 2.GRUPA | C9: inspektors | D9: 1437 | E9: 20% | F9: =ROUND(D9/$F$4,3) -> 8.639 | G9: =H9+I9 -> 24 | H9: 24 | J9: 41.47 | K9: =ROUND(J9*23.59%,2) -> 9.78 | L9: =J9+K9 -> 51.25
A10: 3 | B10: VP LATGALES RP ZIEMEĻLATGALES IECIRKŅA IZMEKLĒŠANAS NODAĻAS 2.GRUPA | C10: inspektors | D10: 1437 | E10: 20% | F10: =ROUND(D10/$F$4,3) -> 8.639 | G10: =H10+I10 -> 24 | I10: 24 | J10: 41.47 | K10: =ROUND(J10*23.59%,2) -> 9.78 | L10: =J10+K10 -> 51.25
A11: 4 | B11: VP LATGALES RP DIENVIDLATGALES IECIRKŅA REAĢĒŠANAS NODAĻAS 3.GRUPA | C11: vecākais inspektors | D11: 1463 | E11: 20% | F11: =ROUND(D11/$F$4,3) -> 8.796 | G11: =H11+I11 -> 38 | I11: 38 | J11: 66.85 | K11: =ROUND(J11*23.59%,2) -> 15.77 | L11: =J11+K11 -> 82.62
A12: 5 | B12: VP LATGALES RP DIENVIDLATGALES IECIRKŅA REAĢĒŠANAS NODAĻAS 3.GRUPA | C12: vecākais inspektors | D12: 1463 | E12: 20% | F12: =ROUND(D12/$F$4,3) -> 8.796 | G12: =H12+I12 -> 37 | H12: 37 | J12: 65.09 | K12: =ROUND(J12*23.59%,2) -> 15.35 | L12: =J12+K12 -> 80.44
A13: 6 | B13: VP LATGALES RP ZIEMEĻLATGALES IECIRKŅA IZMEKLĒŠANAS NODAĻAS 5.GRUPA | C13: galvenais inspektors | D13: 1794 | E13: 20% | F13: =ROUND(D13/$F$4,3) -> 10.786 | G13: =H13+I13 -> 24 | H13: 24 | J13: 51.77 | K13: =ROUND(J13*23.59%,2) -> 12.21 | L13: =J13+K13 -> 63.98
A14: 7 | B14: VP LATGALES RP ZIEMEĻLATGALES IECIRKŅA IZMEKLĒŠANAS NODAĻAS 5.GRUPA | C14: galvenais inspektors | D14: 1794 | E14: 20% | F14: =ROUND(D14/$F$4,3) -> 10.786 | G14: =H14+I14 -> 48 | I14: 48 | J14: 103.55 | K14: =ROUND(J14*23.59%,2) -> 24.43 | L14: =J14+K14 -> 127.98
A15: 8 | B15: VP LATGALES RP DIENVIDLATGALES IECIRKŅA REAĢĒŠANAS NODAĻAS 7.GRUPA | C15: inspektors | D15: 1317 | E15: 20% | F15: =ROUND(D15/$F$4,3) -> 7.918 | G15: =H15+I15 -> 66.5 | I15: 66.5 | J15: 105.31 | K15: =ROUND(J15*23.59%,2) -> 24.84 | L15: =J15+K15 -> 130.15
A16: 9 | B16: VP LATGALES RP DIENVIDLATGALES IECIRKŅA REAĢĒŠANAS NODAĻAS 7.GRUPA | C16: inspektors | D16: 1317 | E16: 20% | F16: =ROUND(D16/$F$4,3) -> 7.918 | G16: =H16+I16 -> 8 | H16: 8 | J16: 12.67 | K16: =ROUND(J16*23.59%,2) -> 2.99 | L16: =J16+K16 -> 15.66
A17: 10 | B17: VP LATGALES RP DIENVIDLATGALES IECIRKŅA IZMEKLĒŠANAS NODAĻAS 5.GRUPA | C17: inspektors | D17: 1437 | E17: 20% | F17: =ROUND(D17/$F$4,3) -> 8.639 | G17: =H17+I17 -> 49 | I17: 49 | J17: 84.66 | K17: =ROUND(J17*23.59%,2) -> 19.97 | L17: =J17+K17 -> 104.63
A18: 11 | B18: VP LATGALES RP DIENVIDLATGALES IECIRKŅA REAĢĒŠANAS NODAĻAS 1.GRUPA | C18: inspektors | D18: 1317 | E18: 20% | F18: =ROUND(D18/$F$4,3) -> 7.918 | G18: =H18+I18 -> 13 | I18: 13 | J18: 20.59 | K18: =ROUND(J18*23.59%,2) -> 4.86 | L18: =J18+K18 -> 25.45
A19: 12 | B19: VP LATGALES RP DIENVIDLATGALES IECIRKŅA REAĢĒŠANAS NODAĻAS 1.GRUPA | C19: inspektors | D19: 1317 | E19: 20% | F19: =ROUND(D19/$F$4,3) -> 7.918 | G19: =H19+I19 -> 13 | H19: 13 | J19: 20.59 | K19: =ROUND(J19*23.59%,2) -> 4.86 | L19: =J19+K19 -> 25.45
A20: 13 | B20: VP LATGALES RP DIENVIDLATGALES IECIRKŅA REAĢĒŠANAS NODAĻAS 6.GRUPA | C20: jaunākais inspektors | D20: 1120 | E20: 20% | F20: =ROUND(D20/$F$4,3) -> 6.734 | G20: =H20+I20 -> 64 | I20: 64 | J20: 86.2 | K20: =ROUND(J20*23.59%,2) -> 20.33 | L20: =J20+K20 -> 106.53
A21: 14 | B21: VP LATGALES RP ZIEMEĻLATGALES IECIRKŅA PREVENCIJAS GRUPA | C21: vecākais inspektors | D21: 1381 | E21: 20% | F21: =ROUND(D21/$F$4,3) -> 8.303 | G21: =H21+I21 -> 24 | I21: 24 | J21: 39.85 | K21: =ROUND(J21*23.59%,2) -> 9.4 | L21: =J21+K21 -> 49.25
A22: 15 | B22: VP LATGALES RP DIENVIDLATGALES IECIRKŅA REAĢĒŠANAS NODAĻAS 4.GRUPA | C22: vecākais inspektors | D22: 1381 | E22: 20% | F22: =ROUND(D22/$F$4,3) -> 8.303 | G22: =H22+I22 -> 25 | I22: 25 | J22: 41.52 | K22: =ROUND(J22*23.59%,2)+0.01 -> 9.8 | L22: =J22+K22 -> 51.32
A23: 16 | B23: VP LATGALES RP ZIEMEĻLATGALES IECIRKŅA REAĢĒŠANAS NODAĻAS 9.GRUPA | C23: inspektors | D23: 1317 | E23: 20% | F23: =ROUND(D23/$F$4,3) -> 7.918 | G23: =H23+I23 -> 11 | H23: 11 | J23: 17.42 | K23: =ROUND(J23*23.59%,2) -> 4.11 | L23: =J23+K23 -> 21.53
A24: 17 | B24: VP LATGALES RP DIENVIDLATGALES IECIRKŅA PREVENCIJAS GRUPA | C24: inspektors | D24: 1337 | E24: 20% | F24: =ROUND(D24/$F$4,3) -> 8.038 | G24: =H24+I24 -> 14 | H24: 14 | J24: 22.51 | K24: =ROUND(J24*23.59%,2) -> 5.31 | L24: =J24+K24 -> 27.82
A25: 18 | B25: VP LATGALES RP DIENVIDLATGALES IECIRKŅA PREVENCIJAS GRUPA | C25: inspektors | D25: 1337 | E25: 20% | F25: =ROUND(D25/$F$4,3) -> 8.038 | G25: =H25+I25 -> 27 | I25: 27 | J25: 43.41 | K25: =ROUND(J25*23.59%,2) -> 10.24 | L25: =J25+K25 -> 53.65
A26: 19 | B26: VP LATGALES RP KĀRTPB ATĻAUJU SISTĒMAS GRUPA | C26: inspektors | D26: 1196 | E26: 20% | F26: =ROUND(D26/$F$4,3) -> 7.191 | G26: =H26+I26 -> 21 | H26: 21 | J26: 30.2 | K26: =ROUND(J26*23.59%,2) -> 7.12 | L26: =J26+K26 -> 37.32
A27: 20 | B27: VP LATGALES RP KĀRTPB ATĻAUJU SISTĒMAS GRUPA | C27: inspektors | D27: 1196 | E27: 20% | F27: =ROUND(D27/$F$4,3) -> 7.191 | G27: =H27+I27 -> 29 | I27: 29 | J27: 41.71 | K27: =ROUND(J27*23.59%,2) -> 9.84 | L27: =J27+K27 -> 51.55
A28: 21 | B28: VP LATGALES RP KRIMPB KRIMINĀLIZLŪKOŠANAS INFORMĀCIJAS ANALĪZES GRUPA | C28: vecākais inspektors | D28: 1525 | E28: 20% | F28: =ROUND(D28/$F$4,3) -> 9.169 | G28: =H28+I28 -> 24 | I28: 24 | J28: 44.01 | K28: =ROUND(J28*23.59%,2) -> 10.38 | L28: =J28+K28 -> 54.39
A29: 22 | B29: VP LATGALES RP DIENVIDLATGALES IECIRKŅA IZMEKLĒŠANAS NODAĻAS 7.GRUPA | C29: vecākais inspektors | D29: 1355 | E29: 20% | F29: =ROUND(D29/$F$4,3) -> 8.146 | G29: =H29+I29 -> 26 | H29: 26 | J29: 42.36 | K29: =ROUND(J29*23.59%,2) -> 9.99 | L29: =J29+K29 -> 52.35
A30: 23 | B30: VP LATGALES RP ZIEMEĻLATGALES IECIRKŅA IZMEKLĒŠANAS NODAĻAS 3.GRUPA | C30: vecākais inspektors | D30: 1610 | E30: 20% | F30: =ROUND(D30/$F$4,3) -> 9.68 | G30: =H30+I30 -> 12.5 | H30: 12.5 | J30: 24.2 | K30: =ROUND(J30*23.59%,2) -> 5.71 | L30: =J30+K30 -> 29.91
A31: 24 | B31: VP LATGALES RP ZIEMEĻLATGALES IECIRKŅA REAĢĒŠANAS NODAĻAS 10.GRUPA | C31: galvenais inspektors | D31: 1542 | E31: 20% | F31: =ROUND(D31/$F$4,3) -> 9.271 | G31: =H31+I31 -> 33 | I31: 33 | J31: 61.19 | K31: =ROUND(J31*23.59%,2) -> 14.43 | L31: =J31+K31 -> 75.62
A32: 25 | B32: VP LATGALES RP ZIEMEĻLATGALES IECIRKŅA REAĢĒŠANAS NODAĻAS 10.GRUPA | C32: galvenais inspektors | D32: 1542 | E32: 20% | F32: =ROUND(D32/$F$4,3) -> 9.271 | G32: =H32+I32 -> 11 | H32: 11 | J32: 20.4 | K32: =ROUND(J32*23.59%,2) -> 4.81 | L32: =J32+K32 -> 25.21
A33: 26 | B33: VP LATGALES RP DIENVIDLATGALES IECIRKŅA REAĢĒŠANAS NODAĻAS 10.GRUPA | C33: vecākais inspektors | D33: 1355 | E33: 20% | F33: =ROUND(D33/$F$4,3) -> 8.146 | G33: =H33+I33 -> 24 | I33: 24 | J33: 39.1 | K33: =ROUND(J33*23.59%,2) -> 9.22 | L33: =J33+K33 -> 48.32
A34: 27 | B34: VP LATGALES RP ZIEMEĻLATGALES IECIRKŅA REAĢĒŠANAS NODAĻAS 7.GRUPA | C34: vecākais inspektors | D34: 1355 | E34: 20% | F34: =ROUND(D34/$F$4,3) -> 8.146 | G34: =H34+I34 -> 12 | I34: 12 | J34: 19.55 | K34: =ROUND(J34*23.59%,2) -> 4.61 | L34: =J34+K34 -> 24.16
A35: 28 | B35: VP LATGALES RP ZIEMEĻLATGALES IECIRKŅA REAĢĒŠANAS NODAĻAS 7.GRUPA | C35: vecākais inspektors | D35: 1355 | E35: 20% | F35: =ROUND(D35/$F$4,3) -> 8.146 | G35: =H35+I35 -> 13 | H35: 13 | J35: 21.18 | K35: =ROUND(J35*23.59%,2) -> 5 | L35: =J35+K35 -> 26.18
A36: 29 | B36: VP LATGALES RP DIENVIDLATGALES IECIRKŅA REAĢĒŠANAS NODAĻAS 6.GRUPA | C36: jaunākais inspektors | D36: 1140 | E36: 20% | F36: =ROUND(D36/$F$4,3) -> 6.854 | G36: =H36+I36 -> 50.5 | I36: 50.5 | J36: 69.23 | K36: =ROUND(J36*23.59%,2) -> 16.33 | L36: =J36+K36 -> 85.56
A37: 30 | B37: VP LATGALES RP DIENVIDLATGALES IECIRKŅA REAĢĒŠANAS NODAĻAS 6.GRUPA | C37: jaunākais inspektors | D37: 1140 | E37: 20% | F37: =ROUND(D37/$F$4,3) -> 6.854 | G37: =H37+I37 -> 11.5 | H37: 11.5 | J37: 15.76 | K37: =ROUND(J37*23.59%,2) -> 3.72 | L37: =J37+K37 -> 19.48
A38: 31 | B38: VP LATGALES RP DIENVIDLATGALES IECIRKŅA IZMEKLĒŠANAS NODAĻAS 2.GRUPA | C38: galvenais inspektors | D38: 1525 | E38: 20% | F38: =ROUND(D38/$F$4,3) -> 9.169 | G38: =H38+I38 -> 37.5 | I38: 37.5 | J38: 68.77 | K38: =ROUND(J38*23.59%,2) -> 16.22 | L38: =J38+K38 -> 84.99
A39: 32 | B39: VP LATGALES RP DIENVIDLATGALES IECIRKŅA REAĢĒŠANAS NODAĻAS 2.GRUPA | C39: vecākais inspektors | D39: 1381 | E39: 20% | F39: =ROUND(D39/$F$4,3) -> 8.303 | G39: =H39+I39 -> 30 | I39: 30 | J39: 49.82 | K39: =ROUND(J39*23.59%,2) -> 11.75 | L39: =J39+K39 -> 61.57
A40: 33 | B40: VP LATGALES RP DIENVIDLATGALES IECIRKŅA REAĢĒŠANAS NODAĻAS 2.GRUPA | C40: vecākais inspektors | D40: 1381 | E40: 20% | F40: =ROUND(D40/$F$4,3) -> 8.303 | G40: =H40+I40 -> 14 | H40: 14 | J40: 23.25 | K40: =ROUND(J40*23.59%,2) -> 5.48 | L40: =J40+K40 -> 28.73
A41: 34 | B41: VP LATGALES RP DIENVIDLATGALES IECIRKŅA IZMEKLĒŠANAS NODAĻAS 1.GRUPA | C41: galvenais inspektors | D41: 1872 | E41: 20% | F41: =ROUND(D41/$F$4,3) -> 11.255 | G41: =H41+I41 -> 13 | I41: 13 | J41: 29.26 | K41: =ROUND(J41*23.59%,2) -> 6.9 | L41: =J41+K41 -> 36.16
A42: 35 | B42: VP LATGALES RP DIENVIDLATGALES IECIRKŅA IZMEKLĒŠANAS NODAĻAS 6.GRUPA | C42: galvenais inspektors | D42: 1448 | E42: 20% | F42: =ROUND(D42/$F$4,3) -> 8.706 | G42: =H42+I42 -> 36 | I42: 36 | J42: 62.68 | K42: =ROUND(J42*23.59%,2) -> 14.79 | L42: =J42+K42 -> 77.47
A43: 36 | B43: VP LATGALES RP DIENVIDLATGALES IECIRKŅA IZMEKLĒŠANAS NODAĻAS 6.GRUPA | C43: galvenais inspektors | D43: 1448 | E43: 20% | F43: =ROUND(D43/$F$4,3) -> 8.706 | G43: =H43+I43 -> 24 | H43: 24 | J43: 41.79 | K43: =ROUND(J43*23.59%,2) -> 9.86 | L43: =J43+K43 -> 51.65
A44: 37 | B44: VP LATGALES RP ZIEMEĻLATGALES IECIRKŅA IZMEKLĒŠANAS NODAĻAS 4.GRUPA | C44: inspektors | D44: 1583 | E44: 20% | F44: =ROUND(D44/$F$4,3) -> 9.517 | G44: =H44+I44 -> 11 | H44: 11 | J44: 20.94 | K44: =ROUND(J44*23.59%,2) -> 4.94 | L44: =J44+K44 -> 25.88
A45: 38 | B45: VP LATGALES RP ZIEMEĻLATGALES IECIRKŅA IZMEKLĒŠANAS NODAĻAS 4.GRUPA | C45: inspektors | D45: 1583 | E45: 20% | F45: =ROUND(D45/$F$4,3) -> 9.517 | G45: =H45+I45 -> 33 | I45: 33 | J45: 62.81 | K45: =ROUND(J45*23.59%,2) -> 14.82 | L45: =J45+K45 -> 77.63
A46: 39 | B46: VP LATGALES RP ZIEMEĻLATGALES IECIRKŅA REAĢĒŠANAS NODAĻAS 3.GRUPA | C46: inspektors | D46: 1401 | E46: 20% | F46: =ROUND(D46/$F$4,3) -> 8.423 | G46: =H46+I46 -> 33.5 | I46: 33.5 | J46: 56.43 | K46: =ROUND(J46*23.59%,2) -> 13.31 | L46: =J46+K46 -> 69.74
A47: 40 | B47: VP LATGALES RP KĀRTPB ATĻAUJU SISTĒMAS GRUPA | C47: vecākais inspektors | D47: 1240 | E47: 20% | F47: =ROUND(D47/$F$4,3) -> 7.455 | G47: =H47+I47 -> 13 | H47: 13 | J47: 19.38 | K47: =ROUND(J47*23.59%,2) -> 4.57 | L47: =J47+K47 -> 23.95
A48: 41 | B48: VP LATGALES RP KĀRTPB ATĻAUJU SISTĒMAS GRUPA | C48: vecākais inspektors | D48: 1240 | E48: 20% | F48: =ROUND(D48/$F$4,3) -> 7.455 | G48: =H48+I48 -> 39 | I48: 39 | J48: 58.15 | K48: =ROUND(J48*23.59%,2) -> 13.72 | L48: =J48+K48 -> 71.87
A49: 42 | B49: VP LATGALES RP ZIEMEĻLATGALES IECIRKŅA IZMEKLĒŠANAS NODAĻAS 3.GRUPA | C49: inspektors | D49: 1443 | E49: 20% | F49: =ROUND(D49/$F$4,3) -> 8.676 | G49: =H49+I49 -> 12 | H49: 12 | J49: 20.82 | K49: =ROUND(J49*23.59%,2) -> 4.91 | L49: =J49+K49 -> 25.73
A50: 43 | B50: VP LATGALES RP ZIEMEĻLATGALES IECIRKŅA IZMEKLĒŠANAS NODAĻAS 3.GRUPA | C50: inspektors | D50: 1443 | E50: 20% | F50: =ROUND(D50/$F$4,3) -> 8.676 | G50: =H50+I50 -> 24.5 | I50: 24.5 | J50: 42.51 | K50: =ROUND(J50*23.59%,2) -> 10.03 | L50: =J50+K50 -> 52.54
A51: 44 | B51: VP LATGALES REĢIONA PĀRVALDES DISCIPLINĀRĀS UZRAUDZĪBAS GRUPA | C51: galvenais inspektors | D51: 1565 | E51: 20% | F51: =ROUND(D51/$F$4,3) -> 9.409 | G51: =H51+I51 -> 26 | I51: 26 | J51: 48.93 | K51: =ROUND(J51*23.59%,2) -> 11.54 | L51: =J51+K51 -> 60.47
A52: 45 | B52: VP LATGALES RP KĀRTPB RESURSU UN KRĪZES VADĪBAS NODAĻA | C52: nodaļas priekšnieks | D52: 1474 | E52: 20% | F52: =ROUND(D52/$F$4,3) -> 8.862 | G52: =H52+I52 -> 13 | H52: 13 | J52: 23.04 | K52: =ROUND(J52*23.59%,2) -> 5.44 | L52: =J52+K52 -> 28.48
A53: 46 | B53: VP LATGALES RP KĀRTPB RESURSU UN KRĪZES VADĪBAS NODAĻA | C53: nodaļas priekšnieks | D53: 1474 | E53: 20% | F53: =ROUND(D53/$F$4,3) -> 8.862 | G53: =H53+I53 -> 13 | I53: 13 | J53: 23.04 | K53: =ROUND(J53*23.59%,2) -> 5.44 | L53: =J53+K53 -> 28.48
A54: 47 | B54: VP RĪGAS RP KĀRTPP PPP SUB 2.ROTA | C54: jaunākais inspektors | D54: 1303 | E54: 20% | F54: =ROUND(D54/$F$4,3) -> 7.834 | G54: =H54+I54 -> 92.5 | I54: 92.5 | J54: 144.93 | K54: =ROUND(J54*23.59%,2) -> 34.19 | L54: =J54+K54 -> 179.12
A55: 48 | B55: VP LATGALES RP KĀRTPB ATĻAUJU SISTĒMAS GRUPA | C55: inspektors | D55: 1176 | E55: 20% | F55: =ROUND(D55/$F$4,3) -> 7.07 | G55: =H55+I55 -> 13 | H55: 13 | J55: 18.38 | K55: =ROUND(J55*23.59%,2) -> 4.34 | L55: =J55+K55 -> 22.72
A56: 49 | B56: VP LATGALES RP KĀRTPB ATĻAUJU SISTĒMAS GRUPA | C56: inspektors | D56: 1176 | E56: 20% | F56: =ROUND(D56/$F$4,3) -> 7.07 | G56: =H56+I56 -> 39 | I56: 39 | J56: 55.15 | K56: =ROUND(J56*23.59%,2) -> 13.01 | L56: =J56+K56 -> 68.16
A57: 50 | B57: VP LATGALES RP KĀRTPB PREVENCIJAS GRUPA | C57: vecākais inspektors | D57: 1313 | E57: 20% | F57: =ROUND(D57/$F$4,3) -> 7.894 | G57: =H57+I57 -> 25.5 | H57: 25.5 | J57: 40.26 | K57: =ROUND(J57*23.59%,2) -> 9.5 | L57: =J57+K57 -> 49.76
A58: 51 | B58: VP LATGALES RP KĀRTPB PREVENCIJAS GRUPA | C58: vecākais inspektors | D58: 1313 | E58: 20% | F58: =ROUND(D58/$F$4,3) -> 7.894 | G58: =H58+I58 -> 26 | I58: 26 | J58: 41.05 | K58: =ROUND(J58*23.59%,2) -> 9.68 | L58: =J58+K58 -> 50.73
A59: 52 | B59: VP LATGALES RP ZIEMEĻLATGALES IECIRKŅA REAĢĒŠANAS NODAĻAS 9.GRUPA | C59: inspektors | D59: 1337 | E59: 20% | F59: =ROUND(D59/$F$4,3) -> 8.038 | G59: =H59+I59 -> 11 | I59: 11 | J59: 17.68 | K59: =ROUND(J59*23.59%,2) -> 4.17 | L59: =J59+K59 -> 21.85
A60: 53 | B60: VP LATGALES RP ZIEMEĻLATGALES IECIRKŅA REAĢĒŠANAS NODAĻAS 6.GRUPA | C60: jaunākais inspektors | D60: 1140 | E60: 20% | F60: =ROUND(D60/$F$4,3) -> 6.854 | G60: =H60+I60 -> 40 | I60: 40 | J60: 54.83 | K60: =ROUND(J60*23.59%,2) -> 12.93 | L60: =J60+K60 -> 67.76
A61: 54 | B61: VP LATGALES RP KRIMPB ORGANIZĒTĀS NOZIEDZĪBAS SMAGO UN SĒRIJVEIDA NOZIEGUMU APKAROŠANAS NODAĻA | C61: vecākais inspektors | D61: 1545 | E61: 20% | F61: =ROUND(D61/$F$4,3) -> 9.289 | G61: =H61+I61 -> 12 | H61: 12 | J61: 22.29 | K61: =ROUND(J61*23.59%,2) -> 5.26 | L61: =J61+K61 -> 27.55
A62: 55 | B62: VP LATGALES RP KRIMPB ORGANIZĒTĀS NOZIEDZĪBAS SMAGO UN SĒRIJVEIDA NOZIEGUMU APKAROŠANAS NODAĻA | C62: vecākais inspektors | D62: 1545 | E62: 20% | F62: =ROUND(D62/$F$4,3) -> 9.289 | G62: =H62+I62 -> 24 | I62: 24 | J62: 44.59 | K62: =ROUND(J62*23.59%,2) -> 10.52 | L62: =J62+K62 -> 55.11
A63: 56 | B63: VP LATGALES RP ZIEMEĻLATGALES IECIRKŅA REAĢĒŠANAS NODAĻAS 6.GRUPA | C63: vecākais inspektors | D63: 1431 | E63: 20% | F63: =ROUND(D63/$F$4,3) -> 8.603 | G63: =H63+I63 -> 32 | I63: 32 | J63: 55.06 | K63: =ROUND(J63*23.59%,2) -> 12.99 | L63: =J63+K63 -> 68.05
A64: 57 | B64: VP LATGALES RP ZIEMEĻLATGALES IECIRKŅA REAĢĒŠANAS NODAĻAS 6.GRUPA | C64: vecākais inspektors | D64: 1431 | E64: 20% | F64: =ROUND(D64/$F$4,3) -> 8.603 | G64: =H64+I64 -> 12.5 | H64: 12.5 | J64: 21.51 | K64: =ROUND(J64*23.59%,2) -> 5.07 | L64: =J64+K64 -> 26.58
A65: 58 | B65: VP RĪGAS RP KĀRTPP PPP SUB 6.ROTA (ZEMGALES REĢIONA) | C65: rotas komandiera vietnieks | D65: 1449 | E65: 20% | F65: =ROUND(D65/$F$4,3) -> 8.712 | G65: =H65+I65 -> 19 | I65: 19 | J65: 33.11 | K65: =ROUND(J65*23.59%,2) -> 7.81 | L65: =J65+K65 -> 40.92
A66: 59 | B66: VP RĪGAS RP KĀRTPP PPP SUB 6.ROTA (ZEMGALES REĢIONA) | C66: rotas komandiera vietnieks | D66: 1449 | E66: 20% | F66: =ROUND(D66/$F$4,3) -> 8.712 | G66: =H66+I66 -> 70 | H66: 70 | J66: 121.97 | K66: =ROUND(J66*23.59%,2) -> 28.77 | L66: =J66+K66 -> 150.74
A67: 60 | B67: VP LATGALES RP ZIEMEĻLATGALES IECIRKŅA REAĢĒŠANAS NODAĻAS 5.GRUPA | C67: inspektors | D67: 1337 | E67: 20% | F67: =ROUND(D67/$F$4,3) -> 8.038 | G67: =H67+I67 -> 32.5 | I67: 32.5 | J67: 52.25 | K67: =ROUND(J67*23.59%,2) -> 12.33 | L67: =J67+K67 -> 64.58
A68: 61 | B68: VP LATGALES RP ZIEMEĻLATGALES IECIRKŅA REAĢĒŠANAS NODAĻAS 6.GRUPA | C68: galvenais inspektors | D68: 1474 | E68: 20% | F68: =ROUND(D68/$F$4,3) -> 8.862 | G68: =H68+I68 -> 24.5 | I68: 24.5 | J68: 43.42 | K68: =ROUND(J68*23.59%,2) -> 10.24 | L68: =J68+K68 -> 53.66
A69: 62 | B69: VP LATGALES RP DIENVIDLATGALES IECIRKŅA IZMEKLĒŠANAS NODAĻAS 6.GRUPA | C69: inspektors | D69: 1337 | E69: 20% | F69: =ROUND(D69/$F$4,3) -> 8.038 | G69: =H69+I69 -> 24 | I69: 24 | J69: 38.58 | K69: =ROUND(J69*23.59%,2) -> 9.1 | L69: =J69+K69 -> 47.68
A70: 63 | B70: VP LATGALES RP ZIEMEĻLATGALES IECIRKŅA REAĢĒŠANAS NODAĻAS 6.GRUPA | C70: jaunākais inspektors | D70: 1140 | E70: 20% | F70: =ROUND(D70/$F$4,3) -> 6.854 | G70: =H70+I70 -> 24.5 | I70: 24.5 | J70: 33.58 | K70: =ROUND(J70*23.59%,2) -> 7.92 | L70: =J70+K70 -> 41.5
A71: 64 | B71: VP LATGALES RP ZIEMEĻLATGALES IECIRKŅA REAĢĒŠANAS NODAĻAS 6.GRUPA | C71: jaunākais inspektors | D71: 1140 | E71: 20% | F71: =ROUND(D71/$F$4,3) -> 6.854 | G71: =H71+I71 -> 36.5 | H71: 36.5 | J71: 50.03 | K71: =ROUND(J71*23.59%,2) -> 11.8 | L71: =J71+K71 -> 61.83
A72: 65 | B72: VP LATGALES RP ZIEMEĻLATGALES IECIRKŅA IZMEKLĒŠANAS NODAĻAS 6.GRUPA | C72: inspektors | D72: 1463 | E72: 20% | F72: =ROUND(D72/$F$4,3) -> 8.796 | G72: =H72+I72 -> 37 | I72: 37 | J72: 65.09 | K72: =ROUND(J72*23.59%,2) -> 15.35 | L72: =J72+K72 -> 80.44
A73: 66 | B73: VP LATGALES RP DIENVIDLATGALES IECIRKŅA PREVENCIJAS GRUPA | C73: vecākais inspektors | D73: 1381 | E73: 20% | F73: =ROUND(D73/$F$4,3) -> 8.303 | G73: =H73+I73 -> 32 | I73: 32 | J73: 53.14 | K73: =ROUND(J73*23.59%,2) -> 12.54 | L73: =J73+K73 -> 65.68
A74: 67 | B74: VP LATGALES RP KĀRTPB RESURSU UN KRĪZES VADĪBAS NODAĻA | C74: nodaļas priekšnieka vietnieks | D74: 1386 | E74: 20% | F74: =ROUND(D74/$F$4,3) -> 8.333 | G74: =H74+I74 -> 26 | I74: 26 | J74: 43.33 | K74: =ROUND(J74*23.59%,2) -> 10.22 | L74: =J74+K74 -> 53.55
A75: 68 | B75: VP LATGALES RP KĀRTPB PREVENCIJAS GRUPA | C75: galvenais inspektors | D75: 1614 | E75: 20% | F75: =ROUND(D75/$F$4,3) -> 9.704 | G75: =H75+I75 -> 12.5 | H75: 12.5 | J75: 24.26 | K75: =ROUND(J75*23.59%,2) -> 5.72 | L75: =J75+K75 -> 29.98
A76: 69 | B76: VP LATGALES RP KĀRTPB PREVENCIJAS GRUPA | C76: galvenais inspektors | D76: 1614 | E76: 20% | F76: =ROUND(D76/$F$4,3) -> 9.704 | G76: =H76+I76 -> 12 | I76: 12 | J76: 23.29 | K76: =ROUND(J76*23.59%,2) -> 5.49 | L76: =J76+K76 -> 28.78
A77: 70 | B77: VP LATGALES RP DIENVIDLATGALES IECIRKŅA PREVENCIJAS GRUPA | C77: vecākais inspektors | D77: 1355 | E77: 20% | F77: =ROUND(D77/$F$4,3) -> 8.146 | G77: =H77+I77 -> 14 | H77: 14 | J77: 22.81 | K77: =ROUND(J77*23.59%,2) -> 5.38 | L77: =J77+K77 -> 28.19
A78: 71 | B78: VP LATGALES RP DIENVIDLATGALES IECIRKŅA PREVENCIJAS GRUPA | C78: vecākais inspektors | D78: 1355 | E78: 20% | F78: =ROUND(D78/$F$4,3) -> 8.146 | G78: =H78+I78 -> 57.5 | I78: 57.5 | J78: 93.68 | K78: =ROUND(J78*23.59%,2) -> 22.1 | L78: =J78+K78 -> 115.78
A79: 72 | B79: VP LATGALES RP DIENVIDLATGALES IECIRKŅA IZMEKLĒŠANAS NODAĻAS 1.GRUPA | C79: inspektors | D79: 1443 | E79: 20% | F79: =ROUND(D79/$F$4,3) -> 8.676 | G79: =H79+I79 -> 24.5 | I79: 24.5 | J79: 42.51 | K79: =ROUND(J79*23.59%,2) -> 10.03 | L79: =J79+K79 -> 52.54
A80: 73 | B80: VP LATGALES RP DIENVIDLATGALES IECIRKŅA IZMEKLĒŠANAS NODAĻAS 1.GRUPA | C80: inspektors | D80: 1443 | E80: 20% | F80: =ROUND(D80/$F$4,3) -> 8.676 | G80: =H80+I80 -> 11.5 | H80: 11.5 | J80: 19.95 | K80: =ROUND(J80*23.59%,2) -> 4.71 | L80: =J80+K80 -> 24.66
A81: 74 | B81: VP LATGALES RP DIENVIDLATGALES IECIRKŅA REAĢĒŠANAS NODAĻAS 10.GRUPA | C81: vecākais inspektors | D81: 1335 | E81: 20% | F81: =ROUND(D81/$F$4,3) -> 8.026 | G81: =H81+I81 -> 24 | I81: 24 | J81: 38.52 | K81: =ROUND(J81*23.59%,2) -> 9.09 | L81: =J81+K81 -> 47.61
A82: 75 | B82: VP LATGALES RP DIENVIDLATGALES IECIRKŅA IZMEKLĒŠANAS NODAĻAS 8.GRUPA | C82: vecākais inspektors | D82: 1335 | E82: 20% | F82: =ROUND(D82/$F$4,3) -> 8.026 | G82: =H82+I82 -> 16 | I82: 16 | J82: 25.68 | K82: =ROUND(J82*23.59%,2) -> 6.06 | L82: =J82+K82 -> 31.74
A83: 76 | B83: VP LATGALES RP ZIEMEĻLATGALES IECIRKŅA REAĢĒŠANAS NODAĻAS 1.GRUPA | C83: vecākais inspektors | D83: 1355 | E83: 20% | F83: =ROUND(D83/$F$4,3) -> 8.146 | G83: =H83+I83 -> 37.5 | I83: 37.5 | J83: 61.1 | K83: =ROUND(J83*23.59%,2) -> 14.41 | L83: =J83+K83 -> 75.51
A84: 77 | B84: VP LATGALES RP ZIEMEĻLATGALES IECIRKŅA REAĢĒŠANAS NODAĻAS 1.GRUPA | C84: vecākais inspektors | D84: 1355 | E84: 20% | F84: =ROUND(D84/$F$4,3) -> 8.146 | G84: =H84+I84 -> 24.5 | H84: 24.5 | J84: 39.92 | K84: =ROUND(J84*23.59%,2) -> 9.42 | L84: =J84+K84 -> 49.34
A85: 78 | B85: VP LATGALES RP KRIMPB ORGANIZĒTĀS NOZIEDZĪBAS SMAGO UN SĒRIJVEIDA NOZIEGUMU APKAROŠANAS NODAĻA | C85: vecākais inspektors | D85: 1545 | E85: 20% | F85: =ROUND(D85/$F$4,3) -> 9.289 | G85: =H85+I85 -> 12 | H85: 12 | J85: 22.29 | K85: =ROUND(J85*23.59%,2) -> 5.26 | L85: =J85+K85 -> 27.55
A86: 79 | B86: VP LATGALES RP KRIMPB ORGANIZĒTĀS NOZIEDZĪBAS SMAGO UN SĒRIJVEIDA NOZIEGUMU APKAROŠANAS NODAĻA | C86: vecākais inspektors | D86: 1545 | E86: 20% | F86: =ROUND(D86/$F$4,3) -> 9.289 | G86: =H86+I86 -> 12 | I86: 12 | J86: 22.29 | K86: =ROUND(J86*23.59%,2) -> 5.26 | L86: =J86+K86 -> 27.55
A87: 80 | B87: VP LATGALES RP ZIEMEĻLATGALES IECIRKNIS | C87: iecirkņa priekšnieka vietnieks, Izmeklēšanas nodaļas priekšnieks | D87: 2004 | E87: 20% | F87: =ROUND(D87/$F$4,3) -> 12.048 | G87: =H87+I87 -> 13 | H87: 13 | J87: 31.32 | K87: =ROUND(J87*23.59%,2) -> 7.39 | L87: =J87+K87 -> 38.71
A88: 81 | B88: VP LATGALES RP ZIEMEĻLATGALES IECIRKNIS | C88: iecirkņa priekšnieka vietnieks, Izmeklēšanas nodaļas priekšnieks | D88: 2004 | E88: 20% | F88: =ROUND(D88/$F$4,3) -> 12.048 | G88: =H88+I88 -> 12 | I88: 12 | J88: 28.92 | K88: =ROUND(J88*23.59%,2) -> 6.82 | L88: =J88+K88 -> 35.74
A89: 82 | B89: VP LATGALES RP ZIEMEĻLATGALES IECIRKŅA REAĢĒŠANAS NODAĻAS 8.GRUPA | C89: vecākais inspektors | D89: 1381 | E89: 20% | F89: =ROUND(D89/$F$4,3) -> 8.303 | G89: =H89+I89 -> 24 | I89: 24 | J89: 39.85 | K89: =ROUND(J89*23.59%,2) -> 9.4 | L89: =J89+K89 -> 49.25
A90: 83 | B90: VP LATGALES RP ZIEMEĻLATGALES IECIRKŅA REAĢĒŠANAS NODAĻAS 1.GRUPA | C90: galvenais inspektors | D90: 1474 | E90: 20% | F90: =ROUND(D90/$F$4,3) -> 8.862 | G90: =H90+I90 -> 25 | I90: 25 | J90: 44.31 | K90: =ROUND(J90*23.59%,2) -> 10.45 | L90: =J90+K90 -> 54.76
A91: 84 | B91: VP LATGALES RP ZIEMEĻLATGALES IECIRKŅA REAĢĒŠANAS NODAĻAS 1.GRUPA | C91: galvenais inspektors | D91: 1474 | E91: 20% | F91: =ROUND(D91/$F$4,3) -> 8.862 | G91: =H91+I91 -> 12 | H91: 12 | J91: 21.27 | K91: =ROUND(J91*23.59%,2) -> 5.02 | L91: =J91+K91 -> 26.29
A92: 85 | B92: VP LATGALES RP DIENVIDLATGALES IECIRKŅA REAĢĒŠANAS NODAĻAS 1.GRUPA | C92: vecākais inspektors | D92: 1355 | E92: 20% | F92: =ROUND(D92/$F$4,3) -> 8.146 | G92: =H92+I92 -> 40 | I92: 40 | J92: 65.17 | K92: =ROUND(J92*23.59%,2) -> 15.37 | L92: =J92+K92 -> 80.54
A93: 86 | B93: VP LATGALES RP DIENVIDLATGALES IECIRKŅA REAĢĒŠANAS NODAĻAS 1.GRUPA | C93: vecākais inspektors | D93: 1355 | E93: 20% | F93: =ROUND(D93/$F$4,3) -> 8.146 | G93: =H93+I93 -> 13 | H93: 13 | J93: 21.18 | K93: =ROUND(J93*23.59%,2) -> 5 | L93: =J93+K93 -> 26.18
A94: 87 | B94: VP LATGALES RP ZIEMEĻLATGALES IECIRKŅA REAĢĒŠANAS NODAĻAS 5.GRUPA | C94: vecākais inspektors | D94: 1517 | E94: 20% | F94: =ROUND(D94/$F$4,3) -> 9.12 | G94: =H94+I94 -> 71 | I94: 71 | J94: 129.5 | K94: =ROUND(J94*23.59%,2) -> 30.55 | L94: =J94+K94 -> 160.05
A95: 88 | B95: VP LATGALES RP ZIEMEĻLATGALES IECIRKŅA REAĢĒŠANAS NODAĻAS 5.GRUPA | C95: vecākais inspektors | D95: 1517 | E95: 20% | F95: =ROUND(D95/$F$4,3) -> 9.12 | G95: =H95+I95 -> 12 | H95: 12 | J95: 21.89 | K95: =ROUND(J95*23.59%,2) -> 5.16 | L95: =J95+K95 -> 27.05
A96: 89 | B96: VP LATGALES RP ZIEMEĻLATGALES IECIRKŅA REAĢĒŠANAS NODAĻAS 1.GRUPA | C96: vecākais inspektors | D96: 1335 | E96: 20% | F96: =ROUND(D96/$F$4,3) -> 8.026 | G96: =H96+I96 -> 25 | I96: 25 | J96: 40.13 | K96: =ROUND(J96*23.59%,2) -> 9.47 | L96: =J96+K96 -> 49.6
A97: 90 | B97: VP LATGALES RP ZIEMEĻLATGALES IECIRKŅA REAĢĒŠANAS NODAĻAS 1.GRUPA | C97: vecākais inspektors | D97: 1335 | E97: 20% | F97: =ROUND(D97/$F$4,3) -> 8.026 | G97: =H97+I97 -> 12.5 | H97: 12.5 | J97: 20.07 | K97: =ROUND(J97*23.59%,2) -> 4.73 | L97: =J97+K97 -> 24.8
A98: 91 | B98: VP LATGALES RP DIENVIDLATGALES IECIRKŅA REAĢĒŠANAS NODAĻAS 3.GRUPA | C98: vecākais inspektors | D98: 1355 | E98: 20% | F98: =ROUND(D98/$F$4,3) -> 8.146 | G98: =H98+I98 -> 26 | H98: 26 | J98: 42.36 | K98: =ROUND(J98*23.59%,2) -> 9.99 | L98: =J98+K98 -> 52.35
A99: 92 | B99: VP LATGALES RP ZIEMEĻLATGALES IECIRKŅA IZMEKLĒŠANAS NODAĻAS 9.GRUPA | C99: galvenais inspektors | D99: 1463 | E99: 20% | F99: =ROUND(D99/$F$4,3) -> 8.796 | G99: =H99+I99 -> 12 | H99: 12 | J99: 21.11 | K99: =ROUND(J99*23.59%,2) -> 4.98 | L99: =J99+K99 -> 26.09
A100: 93 | B100: VP LATGALES RP ZIEMEĻLATGALES IECIRKŅA IZMEKLĒŠANAS NODAĻAS 9.GRUPA | C100: galvenais inspektors | D100: 1463 | E100: 20% | F100: =ROUND(D100/$F$4,3) -> 8.796 | G100: =H100+I100 -> 49 | I100: 49 | J100: 86.2 | K100: =ROUND(J100*23.59%,2) -> 20.33 | L100: =J100+K100 -> 106.53
...

Sheet 4.tabula
F1: 2.pielikuma 4.tabula
A2: Valsts policija
A3: Degvielas izmaksu aprēķins degvielas izdevumiem sniedzot atbalstu Valsts robežsardzei Latvijas Republikas-Baltkrievijas Republikas valsts robežas nelikumīgas šķērsošanas nodrošināšanā par laika periodu 2023.gada 1. augusta līdz 31. augustam
A5: Nr.p.k. | B5: Transportlīdzekļa marka | C5: Iesaistīto transportlīdzekļu skaits | D5: Faktiskais nobraukums pasākumā (km) | E5: Pasākuma laikā patērētā degviela (l) | F5: Summa euro
A6: Kopā: | C6: =ROUNDUP(SUM(C8:C42),2) -> 133 | D6: =ROUNDUP(SUM(D8:D42),2) -> 137558 | E6: =ROUNDUP(SUM(E8:E42),2) -> 10940.34 | F6: =ROUNDUP(SUM(F8:F42),2) -> 15700.21
A7: Vidzemes reģiona pārvalde
A8: 1 | B8: Renault Trafic | C8: 1 | D8: 313 | E8: 27.32 | F8: 38.89
A9: 2 | B9: Škoda Octavia | C9: 2 | D9: 1318 | E9: 76.49 | F9: 112.65
A10: 3 | B10: Škoda Superb | C10: 6 | D10: 3091 | E10: 275.88 | F10: 418.69
A11: 4 | B11: VW Transporter | C11: 19 | D11: 9324 | E11: 888.63 | F11: 1279.05
A12: Latgales reģiona pārvalde
A13: 5 | B13: Hyundai Santa Fe | C13: 1 | D13: 145 | E13: 19.87 | F13: 28.22
A14: =A13+1 -> 6 | B14: Fiat 500xCross | C14: 1 | D14: 900 | E14: 62.1 | F14: 94.39
A15: =A14+1 -> 7 | B15: Ford Transit Custom | C15: 3 | D15: 1910 | E15: 160.41 | F15: 230.04
A16: =A15+1 -> 8 | B16: KIA Ceed | C16: 7 | D16: 3851 | E16: 250.95 | F16: 371.33
A17: =A16+1 -> 9 | B17: Opel Mokka | C17: 41 | D17: 47636 | E17: 3338.94 | F17: 4806.05
A18: =A17+1 -> 10 | B18: Opel Insignia | C18: 1 | D18: 430 | E18: 26.23 | F18: 37.25
A19: =A18+1 -> 11 | B19: Opel Insignia Limousine NB | C19: 5 | D19: 1635 | E19: 97.88 | F19: 141.66
A20: =A19+1 -> 12 | B20: Opel Combo | C20: 1 | D20: 2414 | E20: 164.15 | F20: 233.09
A21: =A20+1 -> 13 | B21: Peugeot Boxer | C21: 1 | D21: 541 | E21: 48.69 | F21: 66.18
A22: =A21+1 -> 14 | B22: Renault Kangoo | C22: 6 | D22: 14476 | E22: 1039.27 | F22: 1476.47
A23: =A22+1 -> 15 | B23: Renault Laguna | C23: 3 | D23: 7928 | E23: 596.08 | F23: 846.43
A24: =A23+1 -> 16 | B24: Renault Master | C24: 3 | D24: 1279 | E24: 133.97 | F24: 190.23
A25: =A24+1 -> 17 | B25: Renault Trafic | C25: 4 | D25: 7589 | E25: 663.21 | F25: 948.29
... A32: =A31+1 -> 24 | B32: Citroen Jumper | C32: 1 | D32: 626 | E32: 53.21 | F32: 75.56
A33: Zemgales reģiona pārvalde
A34: 25 | B34: VW Transporter | C34: 4 | D34: 5746 | E34: 550.62 | F34: 814.01
A35: 26 | B35: VW Crafter | C35: 1 | D35: 1294 | E35: 100.04 | F35: 139.28
A36: 27 | B36: Opel Insignia Limousine NB | C36: 1 | D36: 865 | E36: 54 | F36: 75.58
A37: 28 | B37: Peugeot Boxer | C37: 1 | D37: 1070 | E37: 92.02 | F37: 128.32
A38: 29 | B38: Renault Trafic | C38: 1 | D38: 1144 | E38: 70 | F38: 98.6
A39: Rīgas reģiona pārvalde
A40: 30 | B40: Nissan Navara | C40: 1 | D40: 1811 | E40: 186.53 | F40: 258.22
A41: 31 | B41: VW Crafter | C41: 2 | D41: 3213 | E41: 362.41 | F41: 512.08
A42: 32 | B42: VW Multivan | C42: 1 | D42: 2560 | E42: 255.74 | F42: 367.65

Sheet 5.tabula
G1: 2.pielikuma 5.tabula
A2: Valsts policija
A3: Detalizēts aprēķins dienas naudas samaksai amatpersonām ar speciālajām dienesta pakāpēm, sniedzot atbalstu Valsts robežsardzei Latvijas Republikas-Baltkrievijas Republikas valsts robežas robežuzraudzības nodrošināšanā par laika periodu no 2023.gada 21./ 22.jūlijam līdz 12.augustam
A5: Nr. p.k. | B5: Struktūrvienība | C5: Amats | D5: Laika periods | E5: Dienu skaits | F5: Likme | G5: Dienas nauda (kopsumma)
A6: kopā: | G6: =SUM(G7:G33) -> 844
B7: Rīgas reģiona pārvalde
A8: 1 | B8: VP GKĀRTPP RKVP SPECIĀLO UZDEVUMU BATALJONA 6.ROTA (ZEMGALES REĢIONA) | C8: rotas komandieris | D8: 21.07.2023.-12.08.2023. | E8: 2 | F8: 8 | G8: =ROUND(E8*F8,2) -> 16
E9: 21 | F9: 2.4 | G9: =ROUND(E9*F9,2) -> 50.4
A10: 2 | B10: VP GKĀRTPP RKVP SPECIĀLO UZDEVUMU BATALJONA 6.ROTA (ZEMGALES REĢIONA) | C10: jaunākais inspektors | D10: 21.07.2023.-12.08.2023. | E10: 2 | F10: 8 | G10: =ROUND(E10*F10,2) -> 16
E11: 21 | F11: 2.4 | G11: =ROUND(E11*F11,2) -> 50.4
A12: 3 | B12: VP GKĀRTPP RKVP SPECIĀLO UZDEVUMU BATALJONA 6.ROTA (ZEMGALES REĢIONA) | C12: jaunākais inspektors | D12: 21.07.2023.-12.08.2023. | E12: 2 | F12: 8 | G12: =ROUND(E12*F12,2) -> 16
E13: 21 | F13: 2.4 | G13: =ROUND(E13*F13,2) -> 50.4
A14: 4 | B14: VP GKĀRTPP RKVP SPECIĀLO UZDEVUMU BATALJONA 6.ROTA (ZEMGALES REĢIONA) | C14: jaunākais inspektors | D14: 21.07.2023.-12.08.2023. | E14: 2 | F14: 8 | G14: =ROUND(E14*F14,2) -> 16
E15: 21 | F15: 2.4 | G15: =ROUND(E15*F15,2) -> 50.4
A16: 5 | B16: VP GKĀRTPP RKVP SPECIĀLO UZDEVUMU BATALJONA 6.ROTA (ZEMGALES REĢIONA) | C16: jaunākais inspektors | D16: 21.07.2023.-12.08.2023. | E16: 2 | F16: 8 | G16: =ROUND(E16*F16,2) -> 16
E17: 21 | F17: 2.4 | G17: =ROUND(E17*F17,2) -> 50.4
A18: 6 | B18: VP GKĀRTPP RKVP SPECIĀLO UZDEVUMU BATALJONA 6.ROTA (ZEMGALES REĢIONA) | C18: rotas komandiera vietnieks | D18: 22.07.2023.-12.08.2023. | E18: 2 | F18: 8 | G18: =ROUND(E18*F18,2) -> 16
E19: 20 | F19: 2.4 | G19: =ROUND(E19*F19,2) -> 48
A20: 7 | B20: VP GKĀRTPP RKVP SPECIĀLO UZDEVUMU BATALJONA 6.ROTA (ZEMGALES REĢIONA) | C20: jaunākais inspektors | D20: 22.07.2023.-12.08.2023. | E20: 2 | F20: 8 | G20: =ROUND(E20*F20,2) -> 16
E21: 20 | F21: 2.4 | G21: =ROUND(E21*F21,2) -> 48
A22: 8 | B22: VP GKĀRTPP RKVP SPECIĀLO UZDEVUMU BATALJONA 6.ROTA (ZEMGALES REĢIONA) | C22: jaunākais inspektors | D22: 22.07.2023.-12.08.2023. | E22: 2 | F22: 8 | G22: =ROUND(E22*F22,2) -> 16
E23: 20 | F23: 2.4 | G23: =ROUND(E23*F23,2) -> 48
A24: 9 | B24: VP GKĀRTPP RKVP SPECIĀLO UZDEVUMU BATALJONA 6.ROTA (ZEMGALES REĢIONA) | C24: jaunākais inspektors | D24: 22.07.2023.-12.08.2023. | E24: 2 | F24: 8 | G24: =ROUND(E24*F24,2) -> 16
E25: 20 | F25: 2.4 | G25: =ROUND(E25*F25,2) -> 48
A26: 10 | B26: VP GKĀRTPP RKVP SPECIĀLO UZDEVUMU BATALJONA 6.ROTA (ZEMGALES REĢIONA) | C26: jaunākais inspektors | D26: 22.07.2023.-12.08.2023. | E26: 2 | F26: 8 | G26: =ROUND(E26*F26,2) -> 16
E27: 20 | F27: 2.4 | G27: =ROUND(E27*F27,2) -> 48
A28: 11 | B28: VP GKĀRTPP RKVP SPECIĀLO UZDEVUMU BATALJONA 6.ROTA (ZEMGALES REĢIONA) | C28: jaunākais inspektors | D28: 22.07.2023.-12.08.2023. | E28: 2 | F28: 8 | G28: =ROUND(E28*F28,2) -> 16
E29: 20 | F29: 2.4 | G29: =ROUND(E29*F29,2) -> 48
A30: 12 | B30: VP GKĀRTPP RKVP SPECIĀLO UZDEVUMU BATALJONA 6.ROTA (ZEMGALES REĢIONA) | C30: jaunākais inspektors | D30: 22.07.2023.-12.08.2023. | E30: 2 | F30: 8 | G30: =ROUND(E30*F30,2) -> 16
E31: 20 | F31: 2.4 | G31: =ROUND(E31*F31,2) -> 48
A32: 13 | B32: VP GKĀRTPP RKVP SPECIĀLO UZDEVUMU BATALJONA 6.ROTA (ZEMGALES REĢIONA) | C32: jaunākais inspektors | D32: 22.07.2023.-12.08.2023. | E32: 2 | F32: 8 | G32: =ROUND(E32*F32,2) -> 16
E33: 20 | F33: 2.4 | G33: =ROUND(E33*F33,2) -> 48
