Workbook

Sheet VP augusts
D1: 2.pielikums
D2: Ministru kabineta rīkojuma projekta
D3: “Par finanšu līdzekļu piešķiršanu no valsts budžeta programmas
D4: “Līdzekļi neparedzētiem gadījumiem”” sākotnējās ietekmes novērtējuma ziņojumam (anotācijai)
A6: Valsts policijas izdevumi par laika periodu no 2023.gada 1.augusta (atsevišķi izdevumi no 1. maija) līdz 31.augustam
A7: Kopsavilkums
A9: Kods | B9: Koda nosaukums | C9: Detalizēts izdevumu aprēķins | D9: Izdevumi, euro
A10: Izdevumi kopā ar vidējās izpeļņas pieauguma kompensēšanu | D10: =D11+D14 -> 1514354
A11: 1000 | B11: Atlīdzība | C11: × | D11: =D17+D45 -> 1430805
A12: 1100 | B12: Atalgojums | C12: × | D12: =D46+D20-2.5 -> 1157800.2
A13: 1210 | B13: Darba devēja valsts sociālās apdrošināšanas obligātās iemaksas | C13: × | D13: =D48+D28 -> 273003.96
A14: 2000 | B14: Preces un pakalpojumi | C14: × | D14: =D49+D29 -> 83549
A16: 1) Izdevumi saistībā ar rīkojumiem Nr. 518 un Nr. 514 izpildei nepieciešamo pasākumu īstenošanu | D16: =D17+D29+D41 -> 1400534
A17: 1000 | B17: Atlīdzība | C17: × | D17: =ROUNDUP(D19+D18,0) -> 1320774
C18: Korekcija* | D18: -2.5
C19: × | D19: =D20+D28 -> 1320775.9
A20: 1100 | B20: Atalgojums | C20: × | D20: =SUM(D21:D27) -> 1068773.8
A21: 1116 | B21: Mēnešalga amatpersonām ar speciālajām dienesta pakāpēm
A22: 1141
A23: 1141 | B23: Piemaksa par nakts darbu | C23: Detalizēts aprēķins par laika periodu no 2023.gada 1.augusta līdz 31.augustam 1.tabulā. Iesaistītas 383 personas, kopējais iesaistes laiks 6 432,50 stundas. | D23: ='1.tabula'!G6 -> 26261.45
A24: 1142 | B24: Samaksa par virsstundu darbu
C25: Samaksa par virsstundu darbu Detalizēts aprēķins par laika periodu no 2023.gada 1.maija līdz 31.augustam 2.tabulā. Iesaistītas 578 personas, kopējais iesaistes laiks 61 750,25 stundas. | D25: =' 2.tabula'!G6 -> 1010055.4
A26: 1145 | B26: Piemaksa par darbu īpašos apstākļos, speciālās piemaksas | C26: Detalizēts aprēķins par laika periodu no 2023.gada 1.augusta līdz 31.augustam 3.tabulā. Iesaistītas 650 personas, kopējais iesaistes laiks 18 034 stundas. | D26: ='3.tabula'!J7 -> 32457
A27: 1146 | B27: Piemaksa par personisko darba ieguldījumu un darba kvalitāti
A28: 1210 | B28: Darba devēja valsts sociālās apdrošināšanas obligātās iemaksas | C28: 23,59% no aprēķinātā atalgojuma * izņemot divas personas, kurām tiek piemērota nodokļu likme 21,94% (izdienas pensionārs) | D28: ='1.tabula'!H6+' 2.tabula'!H6+'3.tabula'!K7 -> 252002.05
A29: 2000 | B29: Preces un pakalpojumi | C29: × | D29: =ROUNDUP((D30+D31),0) -> 79760
C30: Korekcija* | D30: -1.7
C31: × | D31: =SUM(D32:D42) -> 79760.82
A32: 2111 | B32: Dienas nauda | C32: Detalizēts aprēķins 5.tabulā. Dienas nauda par periodu no 2023.gada 21./22.jūlija līdz 12.augustam izmaksāta 13 personām. Valsts policijas pavēle no 18.07.2023 Nr.3681 “Par komandējumu uz Daugavpili (Latvijā)” dienas nauda: 100% (8,00 euro) pirmā un pēdējā diena, 30% (2,40 euro) pārējās dienas *Valsts policija iekšzemes komandējumiem nemaksā dienas naudu avansā, bet gan izmaksā tad, kad no komandējuma amatpersonas ir atgriezušās. Komandējuma laika ietvars saskaņā ar Valsts policijas pavēli par komandējumu, ir tāds, ka uz mēnesi tiek sūtīta komandējumā viena amatpersonu grupa, pēc tam – uz mēnesi tika nosūtīta cita amatpersonu grupa. | D32: ='5.tabula'!G6 -> 844
A33: 2112 | B33: Pārējie komandējumu un darba braucienu izdevumi | C33: Dienesta viesnīcas pakalpojumi (naktsmītne) Naktsmītnes izdevumi: 31 nakts x 13 gultasvietas × 15,00 euro = 6 045,00 euro; Aprēķins veikts par dienesta viesnīcas pakalpojumiem (naktsmītni), kas tika nodrošināti no 2023.gada 1.jūlija līdz 31.jūlijam, izdevumi pakalpojuma sniedzējam tika apmaksāti 2023.gada augustā. | D33: =31*13*15 -> 6045
A34: 2271 | B34: Izdevumi, kas saistīti ar operatīvo darbību | C34: Izdevumi, kas saistīti ar operatīvo darbību 2023.gada augustā | D34: 47921
A35: 2312 | B35: Inventārs
A36: 2322 | B36: Degviela | C36: Detalizēts aprēķins par laika periodu no 2023.gada 1.augusta līdz 31.augustam 4.tabulā. Pasākuma nodrošināšanai tika iesaistīti 133 transportlīdzekļi; Vidēji viena transportlīdzekļa nobraukums 1034,28 km; Vidējā degvielas cena 1,4351 euro/l; Vidējais degvielas patēriņš 7,953 l/km uz 100 km. 133 t-ldz. x 1034,28 km x 1,4351 euro/l x 7,953 l/km ÷ 100 km = 15 700,21 euro | D36: ='4.tabula'!F6 -> 15700.21
A37: 2350 | B37: Kārtējā remonta un iestāžu uzturēšanas materiāli
A38: 2363 | B38: Ēdināšanas izdevumi | C38: Aprēķins veikts par ēdināšanas pakalpojumiem, kas tika nodrošināti no 2023.gada 1.jūlija līdz 31.jūlijam, izdevumi pakalpojuma sniedzējam tika apmaksāti 2023.gada augustā. Ēdināšanas pakalpojumi: brokastis 265 porcijas × 6,00 euro = 1 590,00 euro; pusdienas 273 porcijas × 8,00 euro = 2 184,00 euro; vakariņas 273 porcijas × 8,00 euro = 2 184,00 euro; launags (sausā uztura paka) 130 pakas × 22,00 euro = 2 860 euro. Saskaņā ar līgumu par izmitināšanu un ēdināšanu Daugavpilī ir noteikts, ka ēdināšana 3 reizes dienā nedrīkst pārsniegt 22 euro: Ēdināšanas izmaksas sastāda: Brokastis 6 euro /1 pers Pusdienas un vakariņas 8 euro /1 pers Par 14 euro tiek ēdinātas amatpersonas, kuras atrodas viesnīcā, jo amatpersonas strādā maiņās. Savukārt tām amatpersonām, kuras ir maiņā uz robežas un tām nav iespējams atgriezties uz pusdienām un vakariņām, tad, lai nodrošinātu ēdināšanu amatpersonām dod līdzi pārtikas paku un kopā tas sastāda 22 euro (brokastis ir 6 euro - tās paēd izmitināšanas vietā). Pārtikas pakas tiek dotas arī Latgales reģiona pārvaldes amatpersonām, kuras arī tiek norīkotas uz robežu, augstākminēto iemeslu dēļ, komandējama izdevumi un dienas nauda viņām nav. Papildus jāatzīmē, ka dienas nauda dienās, kad nodrošināta 3 reižu ēdināšana sastāda 30% no Ministru kabineta noteikumos par komandējumu paredzētā limita. | D38: =265*6+273*8+273*8+130*22 -> 8818
A39: 2389 | B39: Pārējie specifiskas lietošanas materiāli un inventārs
A40: 2390 | B40: Pārējās preces | C40: Negāzēts dzeramais ūdens 5 L / 612 gab. x 0,68692 euro = 420,40 euro; Negāzēts dzeramais ūdens 0,5 L / 24 gab. x 0,5089 euro = 12,21 euro. | D40: =ROUND(612*0.68692,2)+ROUND(24*0.5089,2) -> 432.61
A41: 5000 | B41: Pamatkapitāla veidošana | D41: =ROUNDUP(SUM(D42),0) -> 0
A42: 5239 | B42: Pārējie iepriekš neklasificētie pamatlīdzekļi un ieguldījuma īpašumi
A44: 2) Vidējās izpeļņas pieauguma kompensēšanai | D44: =D45+D49 -> 113820
...

Sheet 1.tabula
I1: 2.pielikuma 1.tabula
A2: Valsts policija
A3: Piemaksa par nakts darbu amatpersonām ar speciālajām dienesta pakāpēm, kuras laika periodā no 2023.gada 1. augusta līdz 31. augustam tika iesaistītas atbalsta sniegšanā Valsts robežsardzei Latvijas Republikas-Baltkrievijas Republikas valsts robežas robežuzraudzības nodrošināšanā
E4: 166.33
A5: Nr. p.k. | B5: Struktūrvienība | C5: Amats | D5: Mēnešalga amatpersonām ar speciālajām pakāpēm | E5: Stundas likme | F5: Stundu skaits | G5: Piemaksa par nakts darbu | H5: DD VSAOI | I5: Atlīdzība
A6: kopā | F6: =SUM(F7:F389) -> 6432.5 | G6: =SUM(G7:G389) -> 26261.45 | H6: =SUM(H7:H389) -> 6191.95 | I6: =SUM(I7:I389) -> 32453.4
A7: 1 | B7: VP LATGALES REĢIONA PĀRVALDES DISCIPLINĀRĀS UZRAUDZĪBAS GRUPA | C7: galvenais inspektors | D7: 1565 | E7: =ROUND(D7/$E$4,3) -> 9.409 | F7: 8 | G7: 37.64 | H7: =ROUND(G7*0.2359,2) -> 8.88 | I7: =G7+H7 -> 46.52
A8: =A7+1 -> 2 | B8: VP LATGALES RP DIENVIDLATGALES IECIRKNIS | C8: iecirkņa priekšnieka vietnieks, Izmeklēšanas nodaļas priekšnieks | D8: 2040 | E8: =ROUND(D8/$E$4,3) -> 12.265 | F8: 16 | G8: 98.12 | H8: =ROUND(G8*0.2359,2) -> 23.15 | I8: =G8+H8 -> 121.27
A9: =A8+1 -> 3 | B9: VP LATGALES RP DIENVIDLATGALES IECIRKNIS | C9: iecirkņa priekšnieka vietnieks, Reaģēšanas nodaļas priekšnieks | D9: 1984 | E9: =ROUND(D9/$E$4,3) -> 11.928 | F9: 24 | G9: 143.14 | H9: =ROUND(G9*0.2359,2) -> 33.77 | I9: =G9+H9 -> 176.91
A10: =A9+1 -> 4 | B10: VP LATGALES RP DIENVIDLATGALES IECIRKNIS | C10: iecirkņa priekšnieks | D10: 2200 | E10: =ROUND(D10/$E$4,3) -> 13.227 | F10: 16 | G10: 105.82 | H10: =ROUND(G10*0.2359,2) -> 24.96 | I10: =G10+H10 -> 130.78
A11: =A10+1 -> 5 | B11: VP LATGALES RP DIENVIDLATGALES IECIRKŅA IZMEKLĒŠANAS NODAĻAS 1.GRUPA | C11: galvenais inspektors | D11: 1872 | E11: =ROUND(D11/$E$4,3) -> 11.255 | F11: 8 | G11: 45.02 | H11: =ROUND(G11*0.2359,2) -> 10.62 | I11: =G11+H11 -> 55.64
A12: =A11+1 -> 6 | B12: VP LATGALES RP DIENVIDLATGALES IECIRKŅA IZMEKLĒŠANAS NODAĻAS 1.GRUPA | C12: inspektors | D12: 1443 | E12: =ROUND(D12/$E$4,3) -> 8.676 | F12: 8 | G12: 34.7 | H12: =ROUND(G12*0.2359,2) -> 8.19 | I12: =G12+H12 -> 42.89
A13: =A12+1 -> 7 | B13: VP LATGALES RP DIENVIDLATGALES IECIRKŅA IZMEKLĒŠANAS NODAĻAS 1.GRUPA | C13: inspektors | D13: 1443 | E13: =ROUND(D13/$E$4,3) -> 8.676 | F13: 14 | G13: 60.73 | H13: =ROUND(G13*0.2359,2) -> 14.33 | I13: =G13+H13 -> 75.06
A14: =A13+1 -> 8 | B14: VP LATGALES RP DIENVIDLATGALES IECIRKŅA IZMEKLĒŠANAS NODAĻAS 1.GRUPA | C14: inspektors | D14: 1417 | E14: =ROUND(D14/$E$4,3) -> 8.519 | F14: 8 | G14: 34.08 | H14: =ROUND(G14*0.2359,2) -> 8.04 | I14: =G14+H14 -> 42.12
A15: =A14+1 -> 9 | B15: VP LATGALES RP DIENVIDLATGALES IECIRKŅA IZMEKLĒŠANAS NODAĻAS 1.GRUPA | C15: inspektors | D15: 1383 | E15: =ROUND(D15/$E$4,3) -> 8.315 | F15: 16 | G15: 66.52 | H15: =ROUND(G15*0.2359,2) -> 15.69 | I15: =G15+H15 -> 82.21
A16: =A15+1 -> 10 | B16: VP LATGALES RP DIENVIDLATGALES IECIRKŅA IZMEKLĒŠANAS NODAĻAS 2.GRUPA | C16: galvenais inspektors | D16: 1525 | E16: =ROUND(D16/$E$4,3) -> 9.169 | F16: 24 | G16: 110.03 | H16: =ROUND(G16*0.2359,2) -> 25.96 | I16: =G16+H16 -> 135.99
A17: =A16+1 -> 11 | B17: VP LATGALES RP DIENVIDLATGALES IECIRKŅA IZMEKLĒŠANAS NODAĻAS 2.GRUPA | C17: inspektors | D17: 1463 | E17: =ROUND(D17/$E$4,3) -> 8.796 | F17: 8 | G17: 35.18 | H17: =ROUND(G17*0.2359,2) -> 8.3 | I17: =G17+H17 -> 43.48
A18: =A17+1 -> 12 | B18: VP LATGALES RP DIENVIDLATGALES IECIRKŅA IZMEKLĒŠANAS NODAĻAS 2.GRUPA | C18: inspektors | D18: 1470 | E18: =ROUND(D18/$E$4,3) -> 8.838 | F18: 8 | G18: 35.35 | H18: =ROUND(G18*0.2359,2) -> 8.34 | I18: =G18+H18 -> 43.69
A19: =A18+1 -> 13 | B19: VP LATGALES RP DIENVIDLATGALES IECIRKŅA IZMEKLĒŠANAS NODAĻAS 2.GRUPA | C19: vecākais inspektors | D19: 1517 | E19: =ROUND(D19/$E$4,3) -> 9.12 | F19: 8 | G19: 36.48 | H19: =ROUND(G19*0.2359,2) -> 8.61 | I19: =G19+H19 -> 45.09
... A30: =A29+1 -> 24 | B30: VP LATGALES RP DIENVIDLATGALES IECIRKŅA IZMEKLĒŠANAS NODAĻAS 3.GRUPA | C30: inspektors | D30: 1383 | E30: =ROUND(D30/$E$4,3) -> 8.315 | F30: 8 | G30: 33.26 | H30: =ROUND(G30*0.2359,2) -> 7.85 | I30: =G30+H30 -> 41.11
A31: =A30+1 -> 25 | B31: VP LATGALES RP DIENVIDLATGALES IECIRKŅA IZMEKLĒŠANAS NODAĻAS 4.GRUPA | C31: vecākais inspektors | D31: 1637 | E31: =ROUND(D31/$E$4,3) -> 9.842 | F31: 8 | G31: 39.37 | H31: =ROUND(G31*0.2359,2)-0.65 -> 8.64 | I31: =G31+H31 -> 48.01 | J31: ***
A32: =A31+1 -> 26 | B32: VP LATGALES RP DIENVIDLATGALES IECIRKŅA IZMEKLĒŠANAS NODAĻAS 4.GRUPA | C32: vecākais inspektors | D32: 1470 | E32: =ROUND(D32/$E$4,3) -> 8.838 | F32: 24 | G32: 106.06 | H32: =ROUND(G32*0.2359,2) -> 25.02 | I32: =G32+H32 -> 131.08
A33: =A32+1 -> 27 | B33: VP LATGALES RP DIENVIDLATGALES IECIRKŅA IZMEKLĒŠANAS NODAĻAS 4.GRUPA | C33: inspektors | D33: 1437 | E33: =ROUND(D33/$E$4,3) -> 8.639 | F33: 40 | G33: 172.78 | H33: =ROUND(G33*0.2359,2) -> 40.76 | I33: =G33+H33 -> 213.54
A34: =A33+1 -> 28 | B34: VP LATGALES RP DIENVIDLATGALES IECIRKŅA IZMEKLĒŠANAS NODAĻAS 4.GRUPA | C34: inspektors | D34: 1423 | E34: =ROUND(D34/$E$4,3) -> 8.555 | F34: 16 | G34: 68.44 | H34: =ROUND(G34*0.2359,2) -> 16.14 | I34: =G34+H34 -> 84.58
A35: =A34+1 -> 29 | B35: VP LATGALES RP DIENVIDLATGALES IECIRKŅA IZMEKLĒŠANAS NODAĻAS 4.GRUPA | C35: inspektors | D35: 1443 | E35: =ROUND(D35/$E$4,3) -> 8.676 | F35: 16 | G35: 69.41 | H35: =ROUND(G35*0.2359,2) -> 16.37 | I35: =G35+H35 -> 85.78
A36: =A35+1 -> 30 | B36: VP LATGALES RP DIENVIDLATGALES IECIRKŅA IZMEKLĒŠANAS NODAĻAS 5.GRUPA | C36: inspektors | D36: 1437 | E36: =ROUND(D36/$E$4,3) -> 8.639 | F36: 24 | G36: 103.67 | H36: =ROUND(G36*0.2359,2) -> 24.46 | I36: =G36+H36 -> 128.13
A37: =A36+1 -> 31 | B37: VP LATGALES RP DIENVIDLATGALES IECIRKŅA IZMEKLĒŠANAS NODAĻAS 5.GRUPA | C37: vecākais inspektors | D37: 1497 | E37: =ROUND(D37/$E$4,3) -> 9 | F37: 16 | G37: 72 | H37: =ROUND(G37*0.2359,2) -> 16.98 | I37: =G37+H37 -> 88.98
A38: =A37+1 -> 32 | B38: VP LATGALES RP DIENVIDLATGALES IECIRKŅA IZMEKLĒŠANAS NODAĻAS 5.GRUPA | C38: inspektors | D38: 1443 | E38: =ROUND(D38/$E$4,3) -> 8.676 | F38: 18 | G38: 78.08 | H38: =ROUND(G38*0.2359,2) -> 18.42 | I38: =G38+H38 -> 96.5
A39: =A38+1 -> 33 | B39: VP LATGALES RP DIENVIDLATGALES IECIRKŅA IZMEKLĒŠANAS NODAĻAS 5.GRUPA | C39: vecākais inspektors | D39: 1517 | E39: =ROUND(D39/$E$4,3) -> 9.12 | F39: 16 | G39: 72.96 | H39: =ROUND(G39*0.2359,2) -> 17.21 | I39: =G39+H39 -> 90.17
A40: =A39+1 -> 34 | B40: VP LATGALES RP DIENVIDLATGALES IECIRKŅA IZMEKLĒŠANAS NODAĻAS 5.GRUPA | C40: vecākais inspektors | D40: 1430 | E40: =ROUND(D40/$E$4,3) -> 8.597 | F40: 16 | G40: 68.78 | H40: =ROUND(G40*0.2359,2) -> 16.23 | I40: =G40+H40 -> 85.01
A41: =A40+1 -> 35 | B41: VP LATGALES RP DIENVIDLATGALES IECIRKŅA IZMEKLĒŠANAS NODAĻAS 5.GRUPA | C41: inspektors | D41: 1403 | E41: =ROUND(D41/$E$4,3) -> 8.435 | F41: 10 | G41: 42.18 | H41: =ROUND(G41*0.2359,2) -> 9.95 | I41: =G41+H41 -> 52.13
A42: =A41+1 -> 36 | B42: VP LATGALES RP DIENVIDLATGALES IECIRKŅA IZMEKLĒŠANAS NODAĻAS 5.GRUPA | C42: inspektors | D42: 1403 | E42: =ROUND(D42/$E$4,3) -> 8.435 | F42: 22 | G42: 92.79 | H42: =ROUND(G42*0.2359,2) -> 21.89 | I42: =G42+H42 -> 114.68
A43: =A42+1 -> 37 | B43: VP LATGALES RP DIENVIDLATGALES IECIRKŅA IZMEKLĒŠANAS NODAĻAS 5.GRUPA | C43: inspektors | D43: 1363 | E43: =ROUND(D43/$E$4,3) -> 8.195 | F43: 16 | G43: 65.56 | H43: =ROUND(G43*0.2359,2) -> 15.47 | I43: =G43+H43 -> 81.03
... A271: =A270+1 -> 265 | B271: VP LATGALES RP ZIEMEĻLATGALES IECIRKŅA REAĢĒŠANAS NODAĻAS 9.GRUPA | C271: vecākais inspektors | D271: 1295 | E271: =ROUND(D271/$E$4,3) -> 7.786 | F271: 16 | G271: 62.29 | H271: =ROUND(G271*0.2359,2) -> 14.69 | I271: =G271+H271 -> 76.98
A272: 266 | B272: VP RĪGAS RP KĀRTPP PPP SUB 2.ROTA | C272: jaunākais inspektors | D272: 1303 | E272: =ROUND(D272/$E$4,3) -> 7.834 | F272: 48 | G272: 188.02 | H272: =ROUND(G272*0.2359,2) -> 44.35 | I272: =G272+H272 -> 232.37
A273: =A272+1 -> 267 | B273: VP RĪGAS RP KĀRTPP PPP SUB 2.ROTA | C273: jaunākais inspektors | D273: 1303 | E273: =ROUND(D273/$E$4,3) -> 7.834 | F273: 50 | G273: 195.85 | H273: =ROUND(G273*0.2359,2) -> 46.2 | I273: =G273+H273 -> 242.05
A274: =A273+1 -> 268 | B274: VP RĪGAS RP KĀRTPP PPP SUB 2.ROTA | C274: jaunākais inspektors | D274: 1263 | E274: =ROUND(D274/$E$4,3) -> 7.593 | F274: 48 | G274: 182.23 | H274: =ROUND(G274*0.2359,2) -> 42.99 | I274: =G274+H274 -> 225.22
A275: =A274+1 -> 269 | B275: VP RĪGAS RP KĀRTPP PPP SUB 2.ROTA | C275: rotas komandieris | D275: 1728 | E275: =ROUND(D275/$E$4,3) -> 10.389 | F275: 48 | G275: 249.34 | H275: =ROUND(G275*0.2359,2) -> 58.82 | I275: =G275+H275 -> 308.16
A276: =A275+1 -> 270 | B276: VP RĪGAS RP KĀRTPP PPP SUB 2.ROTA | C276: jaunākais inspektors | D276: 1263 | E276: =ROUND(D276/$E$4,3) -> 7.593 | F276: 50 | G276: 189.83 | H276: =ROUND(G276*0.2359,2) -> 44.78 | I276: =G276+H276 -> 234.61
A277: =A276+1 -> 271 | B277: VP RĪGAS RP KĀRTPP PPP SUB 2.ROTA | C277: vada komandiera vietnieks | D277: 1416 | E277: =ROUND(D277/$E$4,3) -> 8.513 | F277: 48 | G277: 204.31 | H277: =ROUND(G277*0.2359,2) -> 48.2 | I277: =G277+H277 -> 252.51
...

Sheet  2.tabula
I1: 2.pielikuma 2.tabula
A2: Valsts policija
A3: Detalizēts aprēķins samaksai par virsstundu darbu amatpersonām ar speciālo dienesta pakāpi, sniedzot atbalstu Valsts robežsardzei Latvijas Republikas-Baltkrievijas Republikas valsts robežas nelikumīgas šķērsošanas nodrošināšanā, par laika periodu no 2023.gada 1.maija līdz 31.augustam
E4: 166.33
A5: Nr. p.k. | B5: Struktūrvienība | C5: Amats | D5: Mēnešalga amatpersonām ar speciālajām pakāpēm | E5: Stundas likme | F5: Stundu skaits | G5: Samaksa par virsstundu darbu | H5: DD VSAOI | I5: Atlīdzība
A6: kopā | F6: =SUM(F7:F584) -> 61750.25 | G6: =SUM(G7:G584) -> 1010055.4 | H6: =SUM(H7:H584) -> 238158.22 | I6: =SUM(I7:I584) -> 1248213.6
A7: 1 | B7: VP GKĀRTPP SDP SUKB SPECIĀLO UZDEVUMU NODAĻA | C7: vecākais inspektors | D7: 1327 | E7: =ROUND(D7/$E$4,3) -> 7.978 | F7: 182 | G7: 2903.99 | H7: =ROUND(G7*0.2359,2) -> 685.05 | I7: =G7+H7 -> 3589.04
A8: 2 | B8: VP GKĀRTPP SDP SUKB SPECIĀLO UZDEVUMU NODAĻA | C8: jaunākais inspektors | D8: 1073 | E8: =ROUND(D8/$E$4,3) -> 6.451 | F8: 90 | G8: 1161.18 | H8: =ROUND(G8*0.2359,2) -> 273.92 | I8: =G8+H8 -> 1435.1
A9: 3 | B9: VP LATGALES REĢIONA PĀRVALDES DISCIPLINĀRĀS UZRAUDZĪBAS GRUPA | C9: galvenais inspektors | D9: 1565 | E9: =ROUND(D9/$E$4,3) -> 9.409 | F9: 105 | G9: 1975.89 | H9: =ROUND(G9*0.2359,2) -> 466.11 | I9: =G9+H9 -> 2442
A10: =A9+1 -> 4 | B10: VP LATGALES REĢIONA PĀRVALDES DISCIPLINĀRĀS UZRAUDZĪBAS GRUPA | C10: vecākais inspektors | D10: 1470 | E10: =ROUND(D10/$E$4,3) -> 8.838 | F10: 30 | G10: 530.28 | H10: =ROUND(G10*0.2359,2) -> 125.09 | I10: =G10+H10 -> 655.37
A11: =A10+1 -> 5 | B11: VP LATGALES REĢIONA PĀRVALDES DISCIPLINĀRĀS UZRAUDZĪBAS GRUPA | C11: vecākais inspektors | D11: 1517 | E11: =ROUND(D11/$E$4,3) -> 9.12 | F11: 151 | G11: 2754.24 | H11: =ROUND(G11*0.2359,2) -> 649.73 | I11: =G11+H11 -> 3403.97
A12: =A11+1 -> 6 | B12: VP LATGALES RP DIENVIDLATGALES IECIRKNIS | C12: iecirkņa priekšnieka vietnieks, Izmeklēšanas nodaļas priekšnieks | D12: 2040 | E12: =ROUND(D12/$E$4,3) -> 12.265 | F12: 112 | G12: 2747.36 | H12: =ROUND(G12*0.2359,2) -> 648.1 | I12: =G12+H12 -> 3395.46
A13: =A12+1 -> 7 | B13: VP LATGALES RP DIENVIDLATGALES IECIRKNIS | C13: iecirkņa priekšnieka vietnieks, Reaģēšanas nodaļas priekšnieks | D13: 1984 | E13: =ROUND(D13/$E$4,3) -> 11.928 | F13: 154.5 | G13: 3685.75 | H13: =ROUND(G13*0.2359,2) -> 869.47 | I13: =G13+H13 -> 4555.22
A14: =A13+1 -> 8 | B14: VP LATGALES RP DIENVIDLATGALES IECIRKNIS | C14: iecirkņa priekšnieks | D14: 2200 | E14: =ROUND(D14/$E$4,3) -> 13.227 | F14: 69 | G14: 1825.33 | H14: =ROUND(G14*0.2359,2) -> 430.6 | I14: =G14+H14 -> 2255.93
A15: =A14+1 -> 9 | B15: VP LATGALES RP DIENVIDLATGALES IECIRKŅA IZMEKLĒŠANAS NODAĻAS 1.GRUPA | C15: galvenais inspektors | D15: 1872 | E15: =ROUND(D15/$E$4,3) -> 11.255 | F15: 113 | G15: 2543.63 | H15: =ROUND(G15*0.2359,2) -> 600.04 | I15: =G15+H15 -> 3143.67
A16: =A15+1 -> 10 | B16: VP LATGALES RP DIENVIDLATGALES IECIRKŅA IZMEKLĒŠANAS NODAĻAS 1.GRUPA | C16: inspektors | D16: 1443 | E16: =ROUND(D16/$E$4,3) -> 8.676 | F16: 186 | G16: 3227.47 | H16: =ROUND(G16*0.2359,2) -> 761.36 | I16: =G16+H16 -> 3988.83
A17: =A16+1 -> 11 | B17: VP LATGALES RP DIENVIDLATGALES IECIRKŅA IZMEKLĒŠANAS NODAĻAS 1.GRUPA | C17: inspektors | D17: 1443 | E17: =ROUND(D17/$E$4,3) -> 8.676 | F17: 139 | G17: 2411.93 | H17: =ROUND(G17*0.2359,2) -> 568.97 | I17: =G17+H17 -> 2980.9
A18: =A17+1 -> 12 | B18: VP LATGALES RP DIENVIDLATGALES IECIRKŅA IZMEKLĒŠANAS NODAĻAS 1.GRUPA | C18: inspektors | D18: 1417 | E18: =ROUND(D18/$E$4,3) -> 8.519 | F18: 145 | G18: 2470.51 | H18: =ROUND(G18*0.2359,2) -> 582.79 | I18: =G18+H18 -> 3053.3
A19: =A18+1 -> 13 | B19: VP LATGALES RP DIENVIDLATGALES IECIRKŅA IZMEKLĒŠANAS NODAĻAS 1.GRUPA | C19: vecākais inspektors | D19: 1490 | E19: =ROUND(D19/$E$4,3) -> 8.958 | F19: 160 | G19: 2866.56 | H19: =ROUND(G19*0.2359,2) -> 676.22 | I19: =G19+H19 -> 3542.78
A20: =A19+1 -> 14 | B20: VP LATGALES RP DIENVIDLATGALES IECIRKŅA IZMEKLĒŠANAS NODAĻAS 1.GRUPA | C20: inspektors | D20: 1490 | E20: =ROUND(D20/$E$4,3) -> 8.958 | F20: 135 | G20: 2418.66 | H20: =ROUND(G20*0.2359,2) -> 570.56 | I20: =G20+H20 -> 2989.22
A21: =A20+1 -> 15 | B21: VP LATGALES RP DIENVIDLATGALES IECIRKŅA IZMEKLĒŠANAS NODAĻAS 1.GRUPA | C21: vecākais inspektors | D21: 1470 | E21: =ROUND(D21/$E$4,3) -> 8.838 | F21: 101 | G21: 1785.28 | H21: =ROUND(G21*0.2359,2) -> 421.15 | I21: =G21+H21 -> 2206.43
... A45: =A44+1 -> 39 | B45: VP LATGALES RP DIENVIDLATGALES IECIRKŅA IZMEKLĒŠANAS NODAĻAS 4.GRUPA | C45: inspektors | D45: 1443 | E45: =ROUND(D45/$E$4,3) -> 8.676 | F45: 58 | G45: 1006.42 | H45: =ROUND(G45*0.2359,2) -> 237.41 | I45: =G45+H45 -> 1243.83
A46: =A45+1 -> 40 | B46: VP LATGALES RP DIENVIDLATGALES IECIRKŅA IZMEKLĒŠANAS NODAĻAS 4.GRUPA | C46: vecākais inspektors | D46: 1637 | E46: =ROUND(D46/$E$4,3) -> 9.842 | F46: 97 | G46: 1909.35 | H46: =ROUND(G46*0.2359,2)-31.51 -> 418.91 | I46: =G46+H46 -> 2328.26 | J46: ***
A47: =A46+1 -> 41 | B47: VP LATGALES RP DIENVIDLATGALES IECIRKŅA IZMEKLĒŠANAS NODAĻAS 4.GRUPA | C47: vecākais inspektors | D47: 1470 | E47: =ROUND(D47/$E$4,3) -> 8.838 | F47: 183 | G47: 3234.71 | H47: =ROUND(G47*0.2359,2) -> 763.07 | I47: =G47+H47 -> 3997.78
A48: =A47+1 -> 42 | B48: VP LATGALES RP DIENVIDLATGALES IECIRKŅA IZMEKLĒŠANAS NODAĻAS 4.GRUPA | C48: inspektors | D48: 1437 | E48: =ROUND(D48/$E$4,3) -> 8.639 | F48: 154 | G48: 2660.81 | H48: =ROUND(G48*0.2359,2) -> 627.69 | I48: =G48+H48 -> 3288.5
A49: =A48+1 -> 43 | B49: VP LATGALES RP DIENVIDLATGALES IECIRKŅA IZMEKLĒŠANAS NODAĻAS 4.GRUPA | C49: inspektors | D49: 1423 | E49: =ROUND(D49/$E$4,3) -> 8.555 | F49: 153 | G49: 2617.83 | H49: =ROUND(G49*0.2359,2) -> 617.55 | I49: =G49+H49 -> 3235.38
A50: =A49+1 -> 44 | B50: VP LATGALES RP DIENVIDLATGALES IECIRKŅA IZMEKLĒŠANAS NODAĻAS 4.GRUPA | C50: inspektors | D50: 1443 | E50: =ROUND(D50/$E$4,3) -> 8.676 | F50: 96 | G50: 1665.79 | H50: =ROUND(G50*0.2359,2) -> 392.96 | I50: =G50+H50 -> 2058.75
A51: =A50+1 -> 45 | B51: VP LATGALES RP DIENVIDLATGALES IECIRKŅA IZMEKLĒŠANAS NODAĻAS 5.GRUPA | C51: inspektors | D51: 1437 | E51: =ROUND(D51/$E$4,3) -> 8.639 | F51: 118 | G51: 2038.8 | H51: =ROUND(G51*0.2359,2)-0.01 -> 480.94 | I51: =G51+H51 -> 2519.74
A52: =A51+1 -> 46 | B52: VP LATGALES RP DIENVIDLATGALES IECIRKŅA IZMEKLĒŠANAS NODAĻAS 5.GRUPA | C52: inspektors | D52: 1443 | E52: =ROUND(D52/$E$4,3) -> 8.676 | F52: 81 | G52: 1405.51 | H52: =ROUND(G52*0.2359,2) -> 331.56 | I52: =G52+H52 -> 1737.07
A53: =A52+1 -> 47 | B53: VP LATGALES RP DIENVIDLATGALES IECIRKŅA IZMEKLĒŠANAS NODAĻAS 5.GRUPA | C53: galvenais inspektors | D53: 1762 | E53: =ROUND(D53/$E$4,3) -> 10.593 | F53: 96 | G53: 2033.86 | H53: =ROUND(G53*0.2359,2) -> 479.79 | I53: =G53+H53 -> 2513.65
A54: =A53+1 -> 48 | B54: VP LATGALES RP DIENVIDLATGALES IECIRKŅA IZMEKLĒŠANAS NODAĻAS 5.GRUPA | C54: vecākais inspektors | D54: 1497 | E54: =ROUND(D54/$E$4,3) -> 9 | F54: 134 | G54: 2412 | H54: =ROUND(G54*0.2359,2) -> 568.99 | I54: =G54+H54 -> 2980.99
A55: =A54+1 -> 49 | B55: VP LATGALES RP DIENVIDLATGALES IECIRKŅA IZMEKLĒŠANAS NODAĻAS 5.GRUPA | C55: inspektors | D55: 1443 | E55: =ROUND(D55/$E$4,3) -> 8.676 | F55: 132.5 | G55: 2299.14 | H55: =ROUND(G55*0.2359,2) -> 542.37 | I55: =G55+H55 -> 2841.51
A56: =A55+1 -> 50 | B56: VP LATGALES RP DIENVIDLATGALES IECIRKŅA IZMEKLĒŠANAS NODAĻAS 5.GRUPA | C56: vecākais inspektors | D56: 1517 | E56: =ROUND(D56/$E$4,3) -> 9.12 | F56: 113 | G56: 2061.12 | H56: =ROUND(G56*0.2359,2) -> 486.22 | I56: =G56+H56 -> 2547.34
A57: =A56+1 -> 51 | B57: VP LATGALES RP DIENVIDLATGALES IECIRKŅA IZMEKLĒŠANAS NODAĻAS 5.GRUPA | C57: vecākais inspektors | D57: 1450 | E57: =ROUND(D57/$E$4,3) -> 8.718 | F57: 55.5 | G57: 967.7 | H57: =ROUND(G57*0.2359,2) -> 228.28 | I57: =G57+H57 -> 1195.98
A58: =A57+1 -> 52 | B58: VP LATGALES RP DIENVIDLATGALES IECIRKŅA IZMEKLĒŠANAS NODAĻAS 5.GRUPA | C58: vecākais inspektors | D58: 1430 | E58: =ROUND(D58/$E$4,3) -> 8.597 | F58: 127 | G58: 2183.64 | H58: =ROUND(G58*0.2359,2) -> 515.12 | I58: =G58+H58 -> 2698.76
A59: =A58+1 -> 53 | B59: VP LATGALES RP DIENVIDLATGALES IECIRKŅA IZMEKLĒŠANAS NODAĻAS 5.GRUPA | C59: inspektors | D59: 1403 | E59: =ROUND(D59/$E$4,3) -> 8.435 | F59: 113 | G59: 1906.31 | H59: =ROUND(G59*0.2359,2) -> 449.7 | I59: =G59+H59 -> 2356.01
A60: =A59+1 -> 54 | B60: VP LATGALES RP DIENVIDLATGALES IECIRKŅA IZMEKLĒŠANAS NODAĻAS 5.GRUPA | C60: inspektors | D60: 1403 | E60: =ROUND(D60/$E$4,3) -> 8.435 | F60: 95 | G60: 1602.65 | H60: =ROUND(G60*0.2359,2) -> 378.07 | I60: =G60+H60 -> 1980.72
A61: =A60+1 -> 55 | B61: VP LATGALES RP DIENVIDLATGALES IECIRKŅA IZMEKLĒŠANAS NODAĻAS 5.GRUPA | C61: inspektors | D61: 1363 | E61: =ROUND(D61/$E$4,3) -> 8.195 | F61: 131 | G61: 2147.09 | H61: =ROUND(G61*0.2359,2) -> 506.5 | I61: =G61+H61 -> 2653.59
A62: =A61+1 -> 56 | B62: VP LATGALES RP DIENVIDLATGALES IECIRKŅA IZMEKLĒŠANAS NODAĻAS 6.GRUPA | C62: galvenais inspektors | D62: 1448 | E62: =ROUND(D62/$E$4,3) -> 8.706 | F62: 119 | G62: 2072.03 | H62: =ROUND(G62*0.2359,2) -> 488.79 | I62: =G62+H62 -> 2560.82
A63: =A62+1 -> 57 | B63: VP LATGALES RP DIENVIDLATGALES IECIRKŅA IZMEKLĒŠANAS NODAĻAS 6.GRUPA | C63: vecākais inspektors | D63: 1361 | E63: =ROUND(D63/$E$4,3) -> 8.183 | F63: 77 | G63: 1260.18 | H63: =ROUND(G63*0.2359,2) -> 297.28 | I63: =G63+H63 -> 1557.46
...

Sheet 3.tabula
L1: 2.pielikuma 3.tabula
A2: Valsts policija
A3: Piemaksa par darbu īpašos apstākļos amatpersonām ar speciālajām dienesta pakāpēm, kuras laika periodā no 2023.gada 1. augusta līdz 31.augustam tika iesaistītas atbalsta sniegšanā Valsts robežsardzei Latvijas Republikas-Baltkrievijas Republikas valsts robežas robežuzraudzības nodrošināšanā
F4: 166.33
A5: Nr. p.k. | B5: Struktūrvienība | C5: Amats | D5: Mēnešalga amatpersonām ar speciālajām pakāpēm | E5: Piemaksas apmērs % | F5: Stundas likme | G5: Stundu skaits | J5: Piemaksa par darbu īpašos apstākļos | K5: DD VSAOI | L5: Atlīdzība
G6: Kopā par mēnesi | H6: 01.08. - 10.08.2023 | I6: 11.08. - 31.08.2023
A7: kopā | G7: =H7+I7 -> 18034 | H7: =SUM(H8:H657) -> 4421.5 | I7: =SUM(I8:I657) -> 13612.5 | J7: =SUM(J8:J657) -> 32457 | K7: =SUM(K8:K657) -> 7651.88 | L7: =SUM(L8:L657) -> 40108.88
A8: 1 | B8: VP LATGALES RP ZIEMEĻLATGALES IECIRKNIS | C8: iecirkņa priekšnieka vietnieks, Reaģēšanas nodaļas priekšnieks | D8: 2040 | E8: 20% | F8: =ROUND(D8/$F$4,3) -> 12.265 | G8: =H8+I8 -> 12 | I8: 12 | J8: 29.44 | K8: =ROUND(J8*23.59%,2) -> 6.94 | L8: =J8+K8 -> 36.38
A9: 2 | B9: VP LATGALES RP ZIEMEĻLATGALES IECIRKŅA IZMEKLĒŠANAS NODAĻAS 2.GRUPA | C9: inspektors | D9: 1437 | E9: 20% | F9: =ROUND(D9/$F$4,3) -> 8.639 | G9: =H9+I9 -> 24 | H9: 24 | J9: 41.47 | K9: =ROUND(J9*23.59%,2) -> 9.78 | L9: =J9+K9 -> 51.25
A10: 3 | B10: VP LATGALES RP ZIEMEĻLATGALES IECIRKŅA IZMEKLĒŠANAS NODAĻAS 2.GRUPA | C10: inspektors | D10: 1437 | E10: 20% | F10: =ROUND(D10/$F$4,3) -> 8.639 | G10: =H10+I10 -> 24 | I10: 24 | J10: 41.47 | K10: =ROUND(J10*23.59%,2) -> 9.78 | L10: =J10+K10 -> 51.25
A11: 4 | B11: VP LATGALES RP DIENVIDLATGALES IECIRKŅA REAĢĒŠANAS NODAĻAS 3.GRUPA | C11: vecākais inspektors | D11: 1463 | E11: 20% | F11: =ROUND(D11/$F$4,3) -> 8.796 | G11: =H11+I11 -> 38 | I11: 38 | J11: 66.85 | K11: =ROUND(J11*23.59%,2) -> 15.77 | L11: =J11+K11 -> 82.62
A12: 5 | B12: VP LATGALES RP DIENVIDLATGALES IECIRKŅA REAĢĒŠANAS NODAĻAS 3.GRUPA | C12: vecākais inspektors | D12: 1463 | E12: 20% | F12: =ROUND(D12/$F$4,3) -> 8.796 | G12: =H12+I12 -> 37 | H12: 37 | J12: 65.09 | K12: =ROUND(J12*23.59%,2) -> 15.35 | L12: =J12+K12 -> 80.44
A13: 6 | B13: VP LATGALES RP ZIEMEĻLATGALES IECIRKŅA IZMEKLĒŠANAS NODAĻAS 5.GRUPA | C13: galvenais inspektors | D13: 1794 | E13: 20% | F13: =ROUND(D13/$F$4,3) -> 10.786 | G13: =H13+I13 -> 24 | H13: 24 | J13: 51.77 | K13: =ROUND(J13*23.59%,2) -> 12.21 | L13: =J13+K13 -> 63.98
A14: 7 | B14: VP LATGALES RP ZIEMEĻLATGALES IECIRKŅA IZMEKLĒŠANAS NODAĻAS 5.GRUPA | C14: galvenais inspektors | D14: 1794 | E14: 20% | F14: =ROUND(D14/$F$4,3) -> 10.786 | G14: =H14+I14 -> 48 | I14: 48 | J14: 103.55 | K14: =ROUND(J14*23.59%,2) -> 24.43 | L14: =J14+K14 -> 127.98
A15: 8 | B15: VP LATGALES RP DIENVIDLATGALES IECIRKŅA REAĢĒŠANAS NODAĻAS 7.GRUPA | C15: inspektors | D15: 1317 | E15: 20% | F15: =ROUND(D15/$F$4,3) -> 7.918 | G15: =H15+I15 -> 66.5 | I15: 66.5 | J15: 105.31 | K15: =ROUND(J15*23.59%,2) -> 24.84 | L15: =J15+K15 -> 130.15
A16: 9 | B16: VP LATGALES RP DIENVIDLATGALES IECIRKŅA REAĢĒŠANAS NODAĻAS 7.GRUPA | C16: inspektors | D16: 1317 | E16: 20% | F16: =ROUND(D16/$F$4,3) -> 7.918 | G16: =H16+I16 -> 8 | H16: 8 | J16: 12.67 | K16: =ROUND(J16*23.59%,2) -> 2.99 | L16: =J16+K16 -> 15.66
A17: 10 | B17: VP LATGALES RP DIENVIDLATGALES IECIRKŅA IZMEKLĒŠANAS NODAĻAS 5.GRUPA | C17: inspektors | D17: 1437 | E17: 20% | F17: =ROUND(D17/$F$4,3) -> 8.639 | G17: =H17+I17 -> 49 | I17: 49 | J17: 84.66 | K17: =ROUND(J17*23.59%,2) -> 19.97 | L17: =J17+K17 -> 104.63
A18: 11 | B18: VP LATGALES RP DIENVIDLATGALES IECIRKŅA REAĢĒŠANAS NODAĻAS 1.GRUPA | C18: inspektors | D18: 1317 | E18: 20% | F18: =ROUND(D18/$F$4,3) -> 7.918 | G18: =H18+I18 -> 13 | I18: 13 | J18: 20.59 | K18: =ROUND(J18*23.59%,2) -> 4.86 | L18: =J18+K18 -> 25.45
A19: 12 | B19: VP LATGALES RP DIENVIDLATGALES IECIRKŅA REAĢĒŠANAS NODAĻAS 1.GRUPA | C19: inspektors | D19: 1317 | E19: 20% | F19: =ROUND(D19/$F$4,3) -> 7.918 | G19: =H19+I19 -> 13 | H19: 13 | J19: 20.59 | K19: =ROUND(J19*23.59%,2) -> 4.86 | L19: =J19+K19 -> 25.45
A20: 13 | B20: VP LATGALES RP DIENVIDLATGALES IECIRKŅA REAĢĒŠANAS NODAĻAS 6.GRUPA | C20: jaunākais inspektors | D20: 1120 | E20: 20% | F20: =ROUND(D20/$F$4,3) -> 6.734 | G20: =H20+I20 -> 64 | I20: 64 | J20: 86.2 | K20: =ROUND(J20*23.59%,2) -> 20.33 | L20: =J20+K20 -> 106.53
A21: 14 | B21: VP LATGALES RP ZIEMEĻLATGALES IECIRKŅA PREVENCIJAS GRUPA | C21: vecākais inspektors | D21: 1381 | E21: 20% | F21: =ROUND(D21/$F$4,3) -> 8.303 | G21: =H21+I21 -> 24 | I21: 24 | J21: 39.85 | K21: =ROUND(J21*23.59%,2) -> 9.4 | L21: =J21+K21 -> 49.25
A22: 15 | B22: VP LATGALES RP DIENVIDLATGALES IECIRKŅA REAĢĒŠANAS NODAĻAS 4.GRUPA | C22: vecākais inspektors | D22: 1381 | E22: 20% | F22: =ROUND(D22/$F$4,3) -> 8.303 | G22: =H22+I22 -> 25 | I22: 25 | J22: 41.52 | K22: =ROUND(J22*23.59%,2)+0.01 -> 9.8 | L22: =J22+K22 -> 51.32
A23: 16 | B23: VP LATGALES RP ZIEMEĻLATGALES IECIRKŅA REAĢĒŠANAS NODAĻAS 9.GRUPA | C23: inspektors | D23: 1317 | E23: 20% | F23: =ROUND(D23/$F$4,3) -> 7.918 | G23: =H23+I23 -> 11 | H23: 11 | J23: 17.42 | K23: =ROUND(J23*23.59%,2) -> 4.11 | L23: =J23+K23 -> 21.53
A24: 17 | B24: VP LATGALES RP DIENVIDLATGALES IECIRKŅA PREVENCIJAS GRUPA | C24: inspektors | D24: 1337 | E24: 20% | F24: =ROUND(D24/$F$4,3) -> 8.038 | G24: =H24+I24 -> 14 | H24: 14 | J24: 22.51 | K24: =ROUND(J24*23.59%,2) -> 5.31 | L24: =J24+K24 -> 27.82
A25: 18 | B25: VP LATGALES RP DIENVIDLATGALES IECIRKŅA PREVENCIJAS GRUPA | C25: inspektors | D25: 1337 | E25: 20% | F25: =ROUND(D25/$F$4,3) -> 8.038 | G25: =H25+I25 -> 27 | I25: 27 | J25: 43.41 | K25: =ROUND(J25*23.59%,2) -> 10.24 | L25: =J25+K25 -> 53.65
A26: 19 | B26: VP LATGALES RP KĀRTPB ATĻAUJU SISTĒMAS GRUPA | C26: inspektors | D26: 1196 | E26: 20% | F26: =ROUND(D26/$F$4,3) -> 7.191 | G26: =H26+I26 -> 21 | H26: 21 | J26: 30.2 | K26: =ROUND(J26*23.59%,2) -> 7.12 | L26: =J26+K26 -> 37.32
A27: 20 | B27: VP LATGALES RP KĀRTPB ATĻAUJU SISTĒMAS GRUPA | C27: inspektors | D27: 1196 | E27: 20% | F27: =ROUND(D27/$F$4,3) -> 7.191 | G27: =H27+I27 -> 29 | I27: 29 | J27: 41.71 | K27: =ROUND(J27*23.59%,2) -> 9.84 | L27: =J27+K27 -> 51.55
A28: 21 | B28: VP LATGALES RP KRIMPB KRIMINĀLIZLŪKOŠANAS INFORMĀCIJAS ANALĪZES GRUPA | C28: vecākais inspektors | D28: 1525 | E28: 20% | F28: =ROUND(D28/$F$4,3) -> 9.169 | G28: =H28+I28 -> 24 | I28: 24 | J28: 44.01 | K28: =ROUND(J28*23.59%,2) -> 10.38 | L28: =J28+K28 -> 54.39
A29: 22 | B29: VP LATGALES RP DIENVIDLATGALES IECIRKŅA IZMEKLĒŠANAS NODAĻAS 7.GRUPA | C29: vecākais inspektors | D29: 1355 | E29: 20% | F29: =ROUND(D29/$F$4,3) -> 8.146 | G29: =H29+I29 -> 26 | H29: 26 | J29: 42.36 | K29: =ROUND(J29*23.59%,2) -> 9.99 | L29: =J29+K29 -> 52.35
A30: 23 | B30: VP LATGALES RP ZIEMEĻLATGALES IECIRKŅA IZMEKLĒŠANAS NODAĻAS 3.GRUPA | C30: vecākais inspektors | D30: 1610 | E30: 20% | F30: =ROUND(D30/$F$4,3) -> 9.68 | G30: =H30+I30 -> 12.5 | H30: 12.5 | J30: 24.2 | K30: =ROUND(J30*23.59%,2) -> 5.71 | L30: =J30+K30 -> 29.91
A31: 24 | B31: VP LATGALES RP ZIEMEĻLATGALES IECIRKŅA REAĢĒŠANAS NODAĻAS 10.GRUPA | C31: galvenais inspektors | D31: 1542 | E31: 20% | F31: =ROUND(D31/$F$4,3) -> 9.271 | G31: =H31+I31 -> 33 | I31: 33 | J31: 61.19 | K31: =ROUND(J31*23.59%,2) -> 14.43 | L31: =J31+K31 -> 75.62
A32: 25 | B32: VP LATGALES RP ZIEMEĻLATGALES IECIRKŅA REAĢĒŠANAS NODAĻAS 10.GRUPA | C32: galvenais inspektors | D32: 1542 | E32: 20% | F32: =ROUND(D32/$F$4,3) -> 9.271 | G32: =H32+I32 -> 11 | H32: 11 | J32: 20.4 | K32: =ROUND(J32*23.59%,2) -> 4.81 | L32: =J32+K32 -> 25.21
A33: 26 | B33: VP LATGALES RP DIENVIDLATGALES IECIRKŅA REAĢĒŠANAS NODAĻAS 10.GRUPA | C33: vecākais inspektors | D33: 1355 | E33: 20% | F33: =ROUND(D33/$F$4,3) -> 8.146 | G33: =H33+I33 -> 24 | I33: 24 | J33: 39.1 | K33: =ROUND(J33*23.59%,2) -> 9.22 | L33: =J33+K33 -> 48.32
A34: 27 | B34: VP LATGALES RP ZIEMEĻLATGALES IECIRKŅA REAĢĒŠANAS NODAĻAS 7.GRUPA | C34: vecākais inspektors | D34: 1355 | E34: 20% | F34: =ROUND(D34/$F$4,3) -> 8.146 | G34: =H34+I34 -> 12 | I34: 12 | J34: 19.55 | K34: =ROUND(J34*23.59%,2) -> 4.61 | L34: =J34+K34 -> 24.16
A35: 28 | B35: VP LATGALES RP ZIEMEĻLATGALES IECIRKŅA REAĢĒŠANAS NODAĻAS 7.GRUPA | C35: vecākais inspektors | D35: 1355 | E35: 20% | F35: =ROUND(D35/$F$4,3) -> 8.146 | G35: =H35+I35 -> 13 | H35: 13 | J35: 21.18 | K35: =ROUND(J35*23.59%,2) -> 5 | L35: =J35+K35 -> 26.18
A36: 29 | B36: VP LATGALES RP DIENVIDLATGALES IECIRKŅA REAĢĒŠANAS NODAĻAS 6.GRUPA | C36: jaunākais inspektors | D36: 1140 | E36: 20% | F36: =ROUND(D36/$F$4,3) -> 6.854 | G36: =H36+I36 -> 50.5 | I36: 50.5 | J36: 69.23 | K36: =ROUND(J36*23.59%,2) -> 16.33 | L36: =J36+K36 -> 85.56
A37: 30 | B37: VP LATGALES RP DIENVIDLATGALES IECIRKŅA REAĢĒŠANAS NODAĻAS 6.GRUPA | C37: jaunākais inspektors | D37: 1140 | E37: 20% | F37: =ROUND(D37/$F$4,3) -> 6.854 | G37: =H37+I37 -> 11.5 | H37: 11.5 | J37: 15.76 | K37: =ROUND(J37*23.59%,2) -> 3.72 | L37: =J37+K37 -> 19.48
A38: 31 | B38: VP LATGALES RP DIENVIDLATGALES IECIRKŅA IZMEKLĒŠANAS NODAĻAS 2.GRUPA | C38: galvenais inspektors | D38: 1525 | E38: 20% | F38: =ROUND(D38/$F$4,3) -> 9.169 | G38: =H38+I38 -> 37.5 | I38: 37.5 | J38: 68.77 | K38: =ROUND(J38*23.59%,2) -> 16.22 | L38: =J38+K38 -> 84.99
A39: 32 | B39: VP LATGALES RP DIENVIDLATGALES IECIRKŅA REAĢĒŠANAS NODAĻAS 2.GRUPA | C39: vecākais inspektors | D39: 1381 | E39: 20% | F39: =ROUND(D39/$F$4,3) -> 8.303 | G39: =H39+I39 -> 30 | I39: 30 | J39: 49.82 | K39: =ROUND(J39*23.59%,2) -> 11.75 | L39: =J39+K39 -> 61.57
A40: 33 | B40: VP LATGALES RP DIENVIDLATGALES IECIRKŅA REAĢĒŠANAS NODAĻAS 2.GRUPA | C40: vecākais inspektors | D40: 1381 | E40: 20% | F40: =ROUND(D40/$F$4,3) -> 8.303 | G40: =H40+I40 -> 14 | H40: 14 | J40: 23.25 | K40: =ROUND(J40*23.59%,2) -> 5.48 | L40: =J40+K40 -> 28.73
...

Sheet 4.tabula
F1: 2.pielikuma 4.tabula
A2: Valsts policija
A3: Degvielas izmaksu aprēķins degvielas izdevumiem sniedzot atbalstu Valsts robežsardzei Latvijas Republikas-Baltkrievijas Republikas valsts robežas nelikumīgas šķērsošanas nodrošināšanā par laika periodu 2023.gada 1. augusta līdz 31. augustam
A5: Nr.p.k. | B5: Transportlīdzekļa marka | C5: Iesaistīto transportlīdzekļu skaits | D5: Faktiskais nobraukums pasākumā (km) | E5: Pasākuma laikā patērētā degviela (l) | F5: Summa euro
A6: Kopā: | C6: =ROUNDUP(SUM(C8:C42),2) -> 133 | D6: =ROUNDUP(SUM(D8:D42),2) -> 137558 | E6: =ROUNDUP(SUM(E8:E42),2) -> 10940.34 | F6: =ROUNDUP(SUM(F8:F42),2) -> 15700.21
A7: Vidzemes reģiona pārvalde
A8: 1 | B8: Renault Trafic | C8: 1 | D8: 313 | E8: 27.32 | F8: 38.89
A9: 2 | B9: Škoda Octavia | C9: 2 | D9: 1318 | E9: 76.49 | F9: 112.65
A10: 3 | B10: Škoda Superb | C10: 6 | D10: 3091 | E10: 275.88 | F10: 418.69
A11: 4 | B11: VW Transporter | C11: 19 | D11: 9324 | E11: 888.63 | F11: 1279.05
A12: Latgales reģiona pārvalde
A13: 5 | B13: Hyundai Santa Fe | C13: 1 | D13: 145 | E13: 19.87 | F13: 28.22
A14: =A13+1 -> 6 | B14: Fiat 500xCross | C14: 1 | D14: 900 | E14: 62.1 | F14: 94.39
A15: =A14+1 -> 7 | B15: Ford Transit Custom | C15: 3 | D15: 1910 | E15: 160.41 | F15: 230.04
A16: =A15+1 -> 8 | B16: KIA Ceed | C16: 7 | D16: 3851 | E16: 250.95 | F16: 371.33
A17: =A16+1 -> 9 | B17: Opel Mokka | C17: 41 | D17: 47636 | E17: 3338.94 | F17: 4806.05
A18: =A17+1 -> 10 | B18: Opel Insignia | C18: 1 | D18: 430 | E18: 26.23 | F18: 37.25
A19: =A18+1 -> 11 | B19: Opel Insignia Limousine NB | C19: 5 | D19: 1635 | E19: 97.88 | F19: 141.66
A20: =A19+1 -> 12 | B20: Opel Combo | C20: 1 | D20: 2414 | E20: 164.15 | F20: 233.09
A21: =A20+1 -> 13 | B21: Peugeot Boxer | C21: 1 | D21: 541 | E21: 48.69 | F21: 66.18
A22: =A21+1 -> 14 | B22: Renault Kangoo | C22: 6 | D22: 14476 | E22: 1039.27 | F22: 1476.47
A23: =A22+1 -> 15 | B23: Renault Laguna | C23: 3 | D23: 7928 | E23: 596.08 | F23: 846.43
A24: =A23+1 -> 16 | B24: Renault Master | C24: 3 | D24: 1279 | E24: 133.97 | F24: 190.23
A25: =A24+1 -> 17 | B25: Renault Trafic | C25: 4 | D25: 7589 | E25: 663.21 | F25: 948.29
... A32: =A31+1 -> 24 | B32: Citroen Jumper | C32: 1 | D32: 626 | E32: 53.21 | F32: 75.56
A33: Zemgales reģiona pārvalde
A34: 25 | B34: VW Transporter | C34: 4 | D34: 5746 | E34: 550.62 | F34: 814.01
A35: 26 | B35: VW Crafter | C35: 1 | D35: 1294 | E35: 100.04 | F35: 139.28
A36: 27 | B36: Opel Insignia Limousine NB | C36: 1 | D36: 865 | E36: 54 | F36: 75.58
A37: 28 | B37: Peugeot Boxer | C37: 1 | D37: 1070 | E37: 92.02 | F37: 128.32
A38: 29 | B38: Renault Trafic | C38: 1 | D38: 1144 | E38: 70 | F38: 98.6
A39: Rīgas reģiona pārvalde
A40: 30 | B40: Nissan Navara | C40: 1 | D40: 1811 | E40: 186.53 | F40: 258.22
A41: 31 | B41: VW Crafter | C41: 2 | D41: 3213 | E41: 362.41 | F41: 512.08
A42: 32 | B42: VW Multivan | C42: 1 | D42: 2560 | E42: 255.74 | F42: 367.65

Sheet 5.tabula
G1: 2.pielikuma 5.tabula
A2: Valsts policija
A3: Detalizēts aprēķins dienas naudas samaksai amatpersonām ar speciālajām dienesta pakāpēm, sniedzot atbalstu Valsts robežsardzei Latvijas Republikas-Baltkrievijas Republikas valsts robežas robežuzraudzības nodrošināšanā par laika periodu no 2023.gada 21./ 22.jūlijam līdz 12.augustam
A5: Nr. p.k. | B5: Struktūrvienība | C5: Amats | D5: Laika periods | E5: Dienu skaits | F5: Likme | G5: Dienas nauda (kopsumma)
A6: kopā: | G6: =SUM(G7:G33) -> 844
B7: Rīgas reģiona pārvalde
A8: 1 | B8: VP GKĀRTPP RKVP SPECIĀLO UZDEVUMU BATALJONA 6.ROTA (ZEMGALES REĢIONA) | C8: rotas komandieris | D8: 21.07.2023.-12.08.2023. | E8: 2 | F8: 8 | G8: =ROUND(E8*F8,2) -> 16
E9: 21 | F9: 2.4 | G9: =ROUND(E9*F9,2) -> 50.4
A10: 2 | B10: VP GKĀRTPP RKVP SPECIĀLO UZDEVUMU BATALJONA 6.ROTA (ZEMGALES REĢIONA) | C10: jaunākais inspektors | D10: 21.07.2023.-12.08.2023. | E10: 2 | F10: 8 | G10: =ROUND(E10*F10,2) -> 16
E11: 21 | F11: 2.4 | G11: =ROUND(E11*F11,2) -> 50.4
A12: 3 | B12: VP GKĀRTPP RKVP SPECIĀLO UZDEVUMU BATALJONA 6.ROTA (ZEMGALES REĢIONA) | C12: jaunākais inspektors | D12: 21.07.2023.-12.08.2023. | E12: 2 | F12: 8 | G12: =ROUND(E12*F12,2) -> 16
E13: 21 | F13: 2.4 | G13: =ROUND(E13*F13,2) -> 50.4
A14: 4 | B14: VP GKĀRTPP RKVP SPECIĀLO UZDEVUMU BATALJONA 6.ROTA (ZEMGALES REĢIONA) | C14: jaunākais inspektors | D14: 21.07.2023.-12.08.2023. | E14: 2 | F14: 8 | G14: =ROUND(E14*F14,2) -> 16
E15: 21 | F15: 2.4 | G15: =ROUND(E15*F15,2) -> 50.4
A16: 5 | B16: VP GKĀRTPP RKVP SPECIĀLO UZDEVUMU BATALJONA 6.ROTA (ZEMGALES REĢIONA) | C16: jaunākais inspektors | D16: 21.07.2023.-12.08.2023. | E16: 2 | F16: 8 | G16: =ROUND(E16*F16,2) -> 16
E17: 21 | F17: 2.4 | G17: =ROUND(E17*F17,2) -> 50.4
A18: 6 | B18: VP GKĀRTPP RKVP SPECIĀLO UZDEVUMU BATALJONA 6.ROTA (ZEMGALES REĢIONA) | C18: rotas komandiera vietnieks | D18: 22.07.2023.-12.08.2023. | E18: 2 | F18: 8 | G18: =ROUND(E18*F18,2) -> 16
E19: 20 | F19: 2.4 | G19: =ROUND(E19*F19,2) -> 48
A20: 7 | B20: VP GKĀRTPP RKVP SPECIĀLO UZDEVUMU BATALJONA 6.ROTA (ZEMGALES REĢIONA) | C20: jaunākais inspektors | D20: 22.07.2023.-12.08.2023. | E20: 2 | F20: 8 | G20: =ROUND(E20*F20,2) -> 16
E21: 20 | F21: 2.4 | G21: =ROUND(E21*F21,2) -> 48
A22: 8 | B22: VP GKĀRTPP RKVP SPECIĀLO UZDEVUMU BATALJONA 6.ROTA (ZEMGALES REĢIONA) | C22: jaunākais inspektors | D22: 22.07.2023.-12.08.2023. | E22: 2 | F22: 8 | G22: =ROUND(E22*F22,2) -> 16
E23: 20 | F23: 2.4 | G23: =ROUND(E23*F23,2) -> 48
A24: 9 | B24: VP GKĀRTPP RKVP SPECIĀLO UZDEVUMU BATALJONA 6.ROTA (ZEMGALES REĢIONA) | C24: jaunākais inspektors | D24: 22.07.2023.-12.08.2023. | E24: 2 | F24: 8 | G24: =ROUND(E24*F24,2) -> 16
E25: 20 | F25: 2.4 | G25: =ROUND(E25*F25,2) -> 48
A26: 10 | B26: VP GKĀRTPP RKVP SPECIĀLO UZDEVUMU BATALJONA 6.ROTA (ZEMGALES REĢIONA) | C26: jaunākais inspektors | D26: 22.07.2023.-12.08.2023. | E26: 2 | F26: 8 | G26: =ROUND(E26*F26,2) -> 16
E27: 20 | F27: 2.4 | G27: =ROUND(E27*F27,2) -> 48
A28: 11 | B28: VP GKĀRTPP RKVP SPECIĀLO UZDEVUMU BATALJONA 6.ROTA (ZEMGALES REĢIONA) | C28: jaunākais inspektors | D28: 22.07.2023.-12.08.2023. | E28: 2 | F28: 8 | G28: =ROUND(E28*F28,2) -> 16
E29: 20 | F29: 2.4 | G29: =ROUND(E29*F29,2) -> 48
A30: 12 | B30: VP GKĀRTPP RKVP SPECIĀLO UZDEVUMU BATALJONA 6.ROTA (ZEMGALES REĢIONA) | C30: jaunākais inspektors | D30: 22.07.2023.-12.08.2023. | E30: 2 | F30: 8 | G30: =ROUND(E30*F30,2) -> 16
E31: 20 | F31: 2.4 | G31: =ROUND(E31*F31,2) -> 48
A32: 13 | B32: VP GKĀRTPP RKVP SPECIĀLO UZDEVUMU BATALJONA 6.ROTA (ZEMGALES REĢIONA) | C32: jaunākais inspektors | D32: 22.07.2023.-12.08.2023. | E32: 2 | F32: 8 | G32: =ROUND(E32*F32,2) -> 16
E33: 20 | F33: 2.4 | G33: =ROUND(E33*F33,2) -> 48
