Workbook
Name _1_2_d_NMP_lim: #REF!
Name aa: #REF!
Name b: #REF!
Name bt: #REF!
Name BX: #REF!
Name CalendarYear: #REF!
Name ccc: #REF!
Name d: #REF!
Name D_Evija3: #REF!
Name DaysAndWeeks: {0,1,2,3,4,5,6} + {0;1;2;3;4;5}*7
Name de: #REF!
Name dff: #NAME?
Name DRGNAMES: #REF!
Name e: #REF!
Name ee: #REF!
Name Excel_BuiltIn__FilterDatabase_2: #REF!
Name Excel_BuiltIn__FilterDatabase_3: #REF!
Name Excel_BuiltIn_Print_Titles_2: #REF!
Name Excel_BuiltIn_Print_Titles_3: #REF!
Name gad_skaits: #REF!
Name gad_skaits_1: #REF!
Name gggg: #REF!
Name ghy: #REF!
Name h: #REF!
Name hh: #REF!
Name hjh: #REF!
Name hyh: #REF!
Name i: #REF!
Name izm.kods: #REF!
Name izm.kods_1: [2]izm.posteni!$A$2:$A$216
Name izm.nos: #REF!
Name izm.nos_1: [2]izm.posteni!$B$2:$B$216
Name jhg: #REF!
Name kk: #REF!
Name l: #REF!
Name Limeni_7_9group: #REF!
Name n: #REF!
Name P_Dati_rikojums: #REF!
Name pp: #REF!
Name Recover: [3]Macro1!$A$135
Name Rikojums2222: [4]Macro1!$A$106
Name rr: #REF!
Name rt: #REF!
Name rty: #REF!
Name S5\: #REF!
Name ss: #REF!
Name Str.: #REF!
Name Str.vien.nos.: #REF!
Name Struktura: #REF!
Name Struktūrvien.kodi2: #REF!
Name Struktūrvien.kodi2_1: [2]strukturkodi!$B$2:$B$232
Name Struktūrvien.kods: #REF!
Name Struktūrvien.kods_1: [2]strukturkodi!$A$2:$A$232
Name T13l6: [5]ATSKAITE_2v!#REF!
Name TableName: "Dummy"
Name TWO_LINKS: '[6]8.1.'!$C$5
Name ty: #REF!
Name tyuj: #REF!
Name u: #REF!
Name U_N_A: #REF!

Sheet 1.pielikums
B1: 1.pielikums MK rīkojuma projekta “Par finanšu līdzekļu piešķiršanu no valsts budžeta programmas “Līdzekļi neparedzētiem gadījumiem”” anotācijai
A3: Ģimenes ārstu prakšu skaits, kurām plānots kapitācijas naudas maksājums 2022.gadam (ģimenes ārstu prakses, kurām, plānojot līguma apjomu 2022.gadam, ir pilna prakse) | B3: Papildus nepieciešamais finansējums 2022.gadam samaksai par aizvietošanas nodrošināšanu (1/12 daļa no kapitācijas naudas maksājuma apjoma), euro | C3: Kapitācijas naudas maksājuma apjoms 2022.gadam, euro
A4: ='2.pielikums'!A1233 -> 1229 | B4: =ROUND(C4/12,0) -> 4938533 | C4: ='2.pielikums'!C1233 -> 59262391
A6: Ģimenes ārstu prakšu skaits, kurām 2022.gada sākumā nav iespējams prognozēt pilna gada kapitācijas naudas maksājuma apmēru (pārņemtas 2021.gada nogalē - uz plānošanas periodu vēl nav pārreģistrēti pacienti, un 2022.gadā jaunatvērtās prakses) | B6: Finansējums, balstoties uz vidējo mēneša kapitācijas naudas maksājuma apmēru, euro
A7: ='3.pielikums'!A29 -> 25 | B7: ='3.pielikums'!C29 -> 100458.5
A9: Kopā papildus nepieciešamais finansējums 2022.gadam, euro. | B9: =B4+B7 -> 5038991.5
A11: Kopā papildus nepieciešamais finansējums 2022.gada periodam no 1.janvāra līdz 30.jūnijam, euro. | B11: =B9/2 -> 2519495.8

Sheet 2.pielikums
C1: 2.pielikums MK rīkojuma projekta “Par finanšu līdzekļu piešķiršanu no valsts budžeta programmas “Līdzekļi neparedzētiem gadījumiem”” anotācijai
A2: Ģimenes ārstu prakses, kurām plānots kapitācijas naudas maksājums 2022.gadam (ģimenes ārstu prakses, kurām, plānojot līguma apjomu 2022.gadam, ir pilna prakse)
A3: Ārstniecības iestādes kārtas numurs | B3: NVD teritoriālā nodaļa | C3: Plānotais kapitācijas naudas maksājuma apmērs 2022.gada 12 mēnešiem (prognoze), euro | D3: 1/12 daļa no kapitācijas naudas maksājuma, euro
A4: 1 | B4: 10-NVD Kurzemes nodaļa | C4: 53971.2 | D4: =C4/12 -> 4497.6
A5: 2 | B5: 10-NVD Kurzemes nodaļa | C5: 58046.04 | D5: =C5/12 -> 4837.17
A6: 3 | B6: 10-NVD Kurzemes nodaļa | C6: 33432.84 | D6: =C6/12 -> 2786.07
A7: 4 | B7: 10-NVD Kurzemes nodaļa | C7: 45168.6 | D7: =C7/12 -> 3764.05
A8: 5 | B8: 10-NVD Kurzemes nodaļa | C8: 57822.12 | D8: =C8/12 -> 4818.51
A9: 6 | B9: 10-NVD Kurzemes nodaļa | C9: 69080.64 | D9: =C9/12 -> 5756.72
A10: 7 | B10: 10-NVD Kurzemes nodaļa | C10: 54168.96 | D10: =C10/12 -> 4514.08
A11: 8 | B11: 10-NVD Kurzemes nodaļa | C11: 33479.88 | D11: =C11/12 -> 2789.99
A12: 9 | B12: 10-NVD Kurzemes nodaļa | C12: 34322.64 | D12: =C12/12 -> 2860.22
A13: 10 | B13: 10-NVD Kurzemes nodaļa | C13: 61846.32 | D13: =C13/12 -> 5153.86
A14: 11 | B14: 10-NVD Kurzemes nodaļa | C14: 56202 | D14: =C14/12 -> 4683.5
A15: 12 | B15: 10-NVD Kurzemes nodaļa | C15: 61613.16 | D15: =C15/12 -> 5134.43
... A1232: 1229 | B1232: 13-NVD Zemgales nodaļa | C1232: 77991 | D1232: =C1232/12 -> 6499.25
A1233: =A1232 -> 1229 | B1233: KOPĀ | C1233: =SUM(C4:C1232) -> 59262391 | D1233: =SUM(D4:D1232) -> 4938532.6
A1235: Vidējais kapitācijas naudas maksājums mēnesī vienai ģimenes ārstu praksei (jeb vidēja 1/12 daļa no kapitācijas naudas maksājuma), euro | D1235: =ROUNDUP(D1233/A1233,2) -> 4018.34

Sheet 3.pielikums
D1: 3.pielikums MK rīkojuma projekta “Par finanšu līdzekļu piešķiršanu no valsts budžeta programmas “Līdzekļi neparedzētiem gadījumiem”” anotācijai
A2: Ģimenes ārstu prakšu skaits, kurām 2022.gada sākumā nav iespējams prognozēt pilna gada kapitācijas naudas maksājuma apmēru (pārņemtas 2021.gada nogalē - uz plānošanas periodu vēl nav pārreģistrēti pacienti, un 2022.gadā jaunatvērtās prakses)
A3: Ārstniecības iestādes kārtas numurs | B3: NVD teritoriālā nodaļa | C3: Plānotais maksājums praksei mēnesī - vidējais kapitācijas naudas maksājums mēnesī vienai ģimenes ārstu praksei (jeb vidēja 1/12 daļa no kapitācijas naudas maksājuma), euro | D3: Informācija par ģimenes ārstu praksi
A4: 1 | B4: Kurzemes nodaļa | C4: ='2.pielikums'!$D$1235 -> 4018.34 | D4: Prakse pārņemta 2021.gada 1.decembrī un uz vērtēšanas periodu nav pārreģistrēti pacienti, līdz ar to, nav precīza kapitācijas naudas maksājuma aprēķina 2022.gadam
A5: 2 | B5: Rīgas nodaļa | C5: ='2.pielikums'!$D$1235 -> 4018.34
A6: 3 | B6: Latgales nodaļa | C6: ='2.pielikums'!$D$1235 -> 4018.34 | D6: Jaunatvērtajām ģimenes ārstu praksēm līdz brīdim, kad ģimenes ārsta pacientu sarakstā reģistrēto personu skaits sasniedz 600, bet ne ilgāk kā deviņus mēnešus pēc līguma noslēgšanas ar Nacionālo veselības dienestu tiek maksāts ikmēneša fiksētais maksājums, kuru veido vidējā darba samaksa ārstam, vidējā darba samaksa ārstniecības un pacientu aprūpes personām mēnesī un valsts sociālās apdrošināšanas iemaksas, ikmēneša fiksētais maksājums ģimenes ārsta praksei, samaksa par ģimenes ārsta praksē veiktajām manipulācijām saskaņā ar manipulāciju sarakstā norādītajiem manipulāciju tarifiem un manipulāciju apmaksas nosacījumiem, pacienta līdzmaksājuma kompensācija par personām, kuras atbrīvotas no pacienta līdzmaksājuma). Taču, lai nodrošinātu vienlīdzīgu samaksu par aizvietošanu visām ģimenes ārstu praksēm, arī jaunatvērtajām praksēm maksājums jāparedz kā vidējais kapitācijas maksājums mēnesim.
A7: 4 | B7: Rīgas nodaļa | C7: ='2.pielikums'!$D$1235 -> 4018.34
A8: 5 | B8: Rīgas nodaļa | C8: ='2.pielikums'!$D$1235 -> 4018.34
A9: 6 | B9: Rīgas nodaļa | C9: ='2.pielikums'!$D$1235 -> 4018.34
A10: 7 | B10: Rīgas nodaļa | C10: ='2.pielikums'!$D$1235 -> 4018.34
A11: 8 | B11: Rīgas nodaļa | C11: ='2.pielikums'!$D$1235 -> 4018.34
A12: 9 | B12: Rīgas nodaļa | C12: ='2.pielikums'!$D$1235 -> 4018.34
A13: 10 | B13: Rīgas nodaļa | C13: ='2.pielikums'!$D$1235 -> 4018.34
A14: 11 | B14: Rīgas nodaļa | C14: ='2.pielikums'!$D$1235 -> 4018.34
A15: 12 | B15: Rīgas nodaļa | C15: ='2.pielikums'!$D$1235 -> 4018.34
A16: 13 | B16: Rīgas nodaļa | C16: ='2.pielikums'!$D$1235 -> 4018.34
A17: 14 | B17: Rīgas nodaļa | C17: ='2.pielikums'!$D$1235 -> 4018.34
A18: 15 | B18: Rīgas nodaļa | C18: ='2.pielikums'!$D$1235 -> 4018.34
... A28: 25 | B28: Zemgales nodaļa | C28: ='2.pielikums'!$D$1235 -> 4018.34
A29: =A28 -> 25 | B29: KOPĀ | C29: =SUM(C4:C28) -> 100458.5
