Workbook
Name _bkm2: '1'!#REF!

Sheet 1
A1: Mērķdotācijas pašvaldībām – pašvaldību pamata un vispārējās vidējās izglītības iestāžu, pašvaldību speciālās izglītības iestāžu un pašvaldību profesionālās izglītības iestāžu pedagogu darba samaksai un valsts sociālās apdrošināšanas obligātajām iemaksām
A2: Pašvaldības | B2: MK 07.01.2025. rīk. Nr. 7 1. pielikums (24-TA-2930) | E2: Aprēķināts No 2025.gada 1.septembra līdz 2025.gada 31.decembrim | H2: MK rīkojuma 1. pielikums (25-TA-2212)
B3: No 2025.gada 1.janvāra līdz 2025.gada 31.augustam | H3: 2025. gadam (12 mēn.)
B4: Euro | C4: Tai skaitā par izglītības programmu īstenošanu valsts valodā mazākumtautību izglītojamajiem | E4: Euro | F4: Tai skaitā par izglītības programmu īstenošanu valsts valodā mazākumtautību izglītojamajiem | H4: Euro | I4: Tai skaitā par izglītības programmu īstenošanu valsts valodā mazākumtautību izglītojamajiem
A5: Rīgas valstspilsēta | B5: 85735459 | C5: 764002 | E5: 44124751 | F5: 353214 | H5: =+B5+E5 -> 129860210 | I5: =+C5+F5 -> 1117216
A6: Daugavpils valstspilsēta | B6: 11983560 | C6: 187444 | E6: 6102866 | F6: 99347 | H6: =+B6+E6 -> 18086426 | I6: =+C6+F6 -> 286791
A7: Jelgavas valstspilsēta | B7: 10824065 | C7: 38548 | E7: 5780021 | F7: 9844 | H7: =+B7+E7 -> 16604086 | I7: =+C7+F7 -> 48392
A8: Jūrmalas valstspilsēta | B8: 5852358 | C8: 39871 | E8: 3191109 | F8: 20680 | H8: =+B8+E8 -> 9043467 | I8: =+C8+F8 -> 60551
A9: Liepājas valstspilsēta | B9: 10347871 | C9: 54761 | E9: 5379807 | F9: 26222 | H9: =+B9+E9 -> 15727678 | I9: =+C9+F9 -> 80983
A10: Rēzeknes valstspilsēta | B10: 4984581 | C10: 52444 | E10: 2516587 | F10: 29779 | H10: =+B10+E10 -> 7501168 | I10: =+C10+F10 -> 82223
A11: Ventspils valstspilsēta | B11: 5653336 | C11: 25312 | E11: 3030934 | F11: 11498 | H11: =+B11+E11 -> 8684270 | I11: =+C11+F11 -> 36810
A12: Aizkraukles novads | B12: 4941935 | C12: 0 | E12: 2587429 | F12: 0 | H12: =+B12+E12 -> 7529364 | I12: =+C12+F12 -> 0
A13: Alūksnes novads | B13: 2335010 | C13: 0 | E13: 1242934 | F13: 0 | H13: =+B13+E13 -> 3577944 | I13: =+C13+F13 -> 0
A14: Augšdaugavas novads | B14: 3560646 | C14: 20349 | E14: 1922782 | F14: 10423 | H14: =+B14+E14 -> 5483428 | I14: =+C14+F14 -> 30772
A15: Ādažu novads | B15: 3695097 | C15: 7279 | E15: 2056410 | F15: 3971 | H15: =+B15+E15 -> 5751507 | I15: =+C15+F15 -> 11250
A16: Balvu novads | B16: 3537241 | C16: 0 | E16: 1890677 | F16: 83 | H16: =+B16+E16 -> 5427918 | I16: =+C16+F16 -> 83
... A45: Valmieras novads | B45: 9809831 | C45: 6783 | E45: 5259451 | F45: 1820 | H45: =+B45+E45 -> 15069282 | I45: =+C45+F45 -> 8603
A46: Varakļānu novads | B46: 481981 | C46: 0 | H46: =+B46+E46 -> 481981 | I46: =+C46+F46 -> 0 | J46: 8M
A47: Ventspils novads | B47: 1670845 | C47: 0 | E47: 926268 | F47: 83 | H47: =+B47+E47 -> 2597113 | I47: =+C47+F47 -> 83
A48: KOPĀ | B48: =SUM(B5:B47) -> 301680966 | C48: =SUM(C5:C47) -> 1300193 | E48: =SUM(E5:E47) -> 158243531 | F48: =SUM(F5:F47) -> 618332 | H48: =SUM(H5:H47) -> 459924497 | I48: =SUM(I5:I47) -> 1918525
A50: II. No 2025. gada 1. septembra līdz 2025. gada 31. decembrim
A51: Pašvaldības | B51: Euro
A52: Nesadalītie līdzekļi | B52: 149104115
A54: PAVISAM KOPĀ | B54: =+B48+B52 -> 450785081

Sheet 2
A1: Mērķdotācijas pašvaldībām – interešu izglītības programmu pedagogu daļējai darba samaksai un valsts sociālās apdrošināšanas obligātajām iemaksām
A2: Pašvaldības | B2: MK 07.01.2025. rīk. Nr. 7 2. pielikums (25-TA-63) | E2: Aprēķināts No 2025.gada 1.septembra līdz 2025.gada 31.decembrim | H2: MK rīkojuma 2. pielikums (25-TA-2212)
B3: No 2025.gada 1.janvāra līdz 2025.gada 31.augustam | H3: 2025. gadam (12 mēn.)
B4: Euro | C4: Tai skaitā par izglītības programmu īstenošanu valsts valodā mazākumtautību izglītojamajiem | E4: Euro | F4: Tai skaitā par izglītības programmu īstenošanu valsts valodā mazākumtautību izglītojamajiem | H4: Euro | I4: Tai skaitā par izglītības programmu īstenošanu valsts valodā mazākumtautību izglītojamajiem
A5: Rīgas valstspilsēta | B5: 8579768 | C5: 491136 | E5: 4351337 | F5: 245450 | H5: =+B5+E5 -> 12931105 | I5: =+C5+F5 -> 736586
A6: Daugavpils valstspilsēta | B6: 1060516 | C6: 64550 | E6: 533036 | F6: 32460 | H6: =+B6+E6 -> 1593552 | I6: =+C6+F6 -> 97010
A7: Jelgavas valstspilsēta | B7: 874678 | C7: 45268 | E7: 435829 | F7: 22078 | H7: =+B7+E7 -> 1310507 | I7: =+C7+F7 -> 67346
A8: Jūrmalas valstspilsēta | B8: 494547 | C8: 28170 | E8: 255925 | F8: 14315 | H8: =+B8+E8 -> 750472 | I8: =+C8+F8 -> 42485
A9: Liepājas valstspilsēta | B9: 945728 | C9: 49944 | E9: 489385 | F9: 24939 | H9: =+B9+E9 -> 1435113 | I9: =+C9+F9 -> 74883
A10: Rēzeknes valstspilsēta | B10: 448883 | C10: 26582 | E10: 226754 | F10: 13345 | H10: =+B10+E10 -> 675637 | I10: =+C10+F10 -> 39927
A11: Ventspils valstspilsēta | B11: 436107 | C11: 24178 | E11: 220812 | F11: 11770 | H11: =+B11+E11 -> 656919 | I11: =+C11+F11 -> 35948
A12: Aizkraukles novads | B12: 315326 | C12: 16335 | E12: 150012 | F12: 7956 | H12: =+B12+E12 -> 465338 | I12: =+C12+F12 -> 24291
A13: Alūksnes novads | B13: 135077 | C13: 6997 | E13: 69179 | F13: 3453 | H13: =+B13+E13 -> 204256 | I13: =+C13+F13 -> 10450
A14: Augšdaugavas novads | B14: 208774 | C14: 12142 | E14: 110545 | F14: 6267 | H14: =+B14+E14 -> 319319 | I14: =+C14+F14 -> 18409
A15: Ādažu novads | B15: 352775 | C15: 18731 | E15: 190955 | F15: 9788 | H15: =+B15+E15 -> 543730 | I15: =+C15+F15 -> 28519
A16: Balvu novads | B16: 185389 | C16: 9604 | E16: 94893 | F16: 4742 | H16: =+B16+E16 -> 280282 | I16: =+C16+F16 -> 14346
... A45: Valmieras novads | B45: 750133 | C45: 39419 | E45: 364036 | F45: 19772 | H45: =+B45+E45 -> 1114169 | I45: =+C45+F45 -> 59191
A46: Varakļānu novads | B46: 30187 | C46: 1564 | H46: =+B46+E46 -> 30187 | I46: =+C46+F46 -> 1564 | J46: 8M
A47: Ventspils novads | B47: 86843 | C47: 4499 | E47: 44117 | F47: 2329 | H47: =+B47+E47 -> 130960 | I47: =+C47+F47 -> 6828
A48: KOPĀ | B48: =SUM(B5:B47) -> 24873695 | C48: =SUM(C5:C47) -> 1357234 | E48: =SUM(E5:E47) -> 12583972 | F48: =SUM(F5:F47) -> 678617 | H48: =SUM(H5:H47) -> 37457667 | I48: =SUM(I5:I47) -> 2035851
A50: II. No 2025. gada 1. septembra līdz 2025. gada 31. decembrim
A51: Pašvaldības | B51: Euro
A52: Nesadalītie līdzekļi | B52: 12571683
A54: PAVISAM KOPĀ | B54: =+B48+B52 -> 37445378

Sheet 3
A1: Mērķdotācijas pašvaldībām – pašvaldību speciālo pirmsskolas izglītības grupu pedagogu darba samaksai un valsts sociālās apdrošināšanas obligātajām iemaksām, speciālajām izglītības iestādēm, kas nodrošina internāta pakalpojumus
A2: Pašvaldības | B2: MK 07.01.2025. rīk. Nr. 7 3. pielikums (24-TA-2930) | F2: Aprēķināts No 2025.gada 1.septembra līdz 2025.gada 31.decembrim | J2: MK rīkojuma 3. pielikums (25-TA-2212)
B3: No 2025.gada 1.janvāra līdz 2025.gada 31.augustam | J3: 2025. gadam (12 mēn.)
B4: Euro | C4: Tai skaitā par izglītības programmu īstenošanu valsts valodā mazākumtautību izglītojamajiem | D4: Pavisam kopā (Euro) | F4: Euro | G4: Tai skaitā par izglītības programmu īstenošanu valsts valodā mazākumtautību izglītojamajiem | H4: Pavisam kopā (Euro) | J4: Euro | K4: Tai skaitā par izglītības programmu īstenošanu valsts valodā mazākumtautību izglītojamajiem | L4: Pavisam kopā (Euro)
A5: Rīgas valstspilsēta | B5: 10677723 | C5: 16379 | D5: 14787096 | F5: 5135543 | G5: 5542 | H5: 7333777 | J5: =+B5+F5 -> 15813266 | K5: =+C5+G5 -> 21921 | L5: =+D5+H5 -> 22120873
A6: Daugavpils valstspilsēta | B6: 1893151 | C6: 5460 | D6: 2659537 | F6: 921992 | G6: 3061 | H6: 1340756 | J6: =+B6+F6 -> 2815143 | K6: =+C6+G6 -> 8521 | L6: =+D6+H6 -> 4000293
A7: Jelgavas valstspilsēta | B7: 1000378 | C7: 331 | D7: 1417436 | F7: 516856 | G7: 0 | H7: 746256 | J7: =+B7+F7 -> 1517234 | K7: =+C7+G7 -> 331 | L7: =+D7+H7 -> 2163692
A8: Jūrmalas valstspilsēta | B8: 589408 | C8: 827 | D8: 834328 | F8: 306882 | G8: 0 | H8: 435154 | J8: =+B8+F8 -> 896290 | K8: =+C8+G8 -> 827 | L8: =+D8+H8 -> 1269482
A9: Liepājas valstspilsēta | B9: 1664848 | C9: 0 | D9: 2322904 | F9: 808641 | G9: 0 | H9: 1143950 | J9: =+B9+F9 -> 2473489 | K9: =+C9+G9 -> 0 | L9: =+D9+H9 -> 3466854
A10: Rēzeknes valstspilsēta | B10: 796697 | C10: 662 | D10: 1148377 | F10: 430797 | G10: 1324 | H10: 636562 | J10: =+B10+F10 -> 1227494 | K10: =+C10+G10 -> 1986 | L10: =+D10+H10 -> 1784939
A11: Ventspils valstspilsēta | B11: 13865 | C11: 0 | D11: 13865 | F11: 8347 | G11: 0 | H11: 8347 | J11: =+B11+F11 -> 22212 | K11: =+C11+G11 -> 0 | L11: =+D11+H11 -> 22212
A12: Aizkraukles novads | B12: 1104134 | C12: 0 | D12: 1485982 | F12: 501238 | G12: 0 | H12: 678263 | J12: =+B12+F12 -> 1605372 | K12: =+C12+G12 -> 0 | L12: =+D12+H12 -> 2164245
A13: Alūksnes novads | B13: 48817 | C13: 0 | D13: 48817 | F13: 10253 | G13: 0 | H13: 10253 | J13: =+B13+F13 -> 59070 | K13: =+C13+G13 -> 0 | L13: =+D13+H13 -> 59070
A14: Augšdaugavas novads | B14: 738265 | C14: 827 | D14: 1075367 | F14: 359095 | G14: 1075 | H14: 541108 | J14: =+B14+F14 -> 1097360 | K14: =+C14+G14 -> 1902 | L14: =+D14+H14 -> 1616475
A15: Ādažu novads | B15: 0 | C15: 0 | D15: 0 | F15: 0 | G15: 0 | H15: 0 | J15: =+B15+F15 -> 0 | K15: =+C15+G15 -> 0 | L15: =+D15+H15 -> 0
A16: Balvu novads | B16: 0 | C16: 0 | D16: 0 | F16: 0 | G16: 0 | H16: 0 | J16: =+B16+F16 -> 0 | K16: =+C16+G16 -> 0 | L16: =+D16+H16 -> 0
... A47: Ventspils novads | B47: 0 | C47: 0 | D47: 0 | F47: 0 | G47: 0 | H47: 0 | J47: =+B47+F47 -> 0 | K47: =+C47+G47 -> 0 | L47: =+D47+H47 -> 0
A48: KOPĀ | B48: =SUM(B5:B47) -> 35377094 | C48: =SUM(C5:C47) -> 24982 | D48: =SUM(D5:D47) -> 49788261 | F48: =SUM(F5:F47) -> 17100894 | G48: =SUM(G5:G47) -> 11332 | H48: =SUM(H5:H47) -> 24640190 | J48: =SUM(J5:J47) -> 52477988 | K48: =SUM(K5:K47) -> 36314 | L48: =SUM(L5:L47) -> 74428451
A50: II. No 2025. gada 1. septembra līdz 2025. gada 31. decembrim
A51: Pašvaldības | B51: Euro | D51: Pavisam kopā (Euro)
A52: Nesadalītie līdzekļi | B52: 17521191 | D52: 24658385
A54: PAVISAM KOPĀ | B54: =+B48+B52 -> 52898285 | D54: =+D48+D52 -> 74446646

Sheet 4
A1: Mērķdotācijas pašvaldībām – pašvaldību izglītības iestādēs bērnu no piecu gadu vecuma izglītošanā nodarbināto pedagogu darba samaksai un valsts sociālās apdrošināšanas obligātajām iemaksām
A2: Pašvaldības | B2: MK 07.01.2025. rīk. Nr. 7 4. pielikums (24-TA-2930) | E2: Aprēķināts No 2025.gada 1.septembra līdz 2025.gada 31.decembrim | H2: MK rīkojuma 4. pielikums (25-TA-2212)
B3: No 2025.gada 1.janvāra līdz 2025.gada 31.augustam | H3: 2025. gadam (12 mēn.)
B4: Euro | C4: Tai skaitā par izglītības programmu īstenošanu valsts valodā mazākumtautību izglītojamajiem | E4: Euro | F4: Tai skaitā par izglītības programmu īstenošanu valsts valodā mazākumtautību izglītojamajiem | H4: Euro | I4: Tai skaitā par izglītības programmu īstenošanu valsts valodā mazākumtautību izglītojamajiem
A5: Rīgas valstspilsēta | B5: 11003723 | E5: 5134739 | H5: =+B5+E5 -> 16138462 | I5: =+C5+F5 -> 0
A6: Daugavpils valstspilsēta | B6: 2022803 | E6: 1020263 | H6: =+B6+E6 -> 3043066 | I6: =+C6+F6 -> 0
A7: Jelgavas valstspilsēta | B7: 1408032 | E7: 728101 | H7: =+B7+E7 -> 2136133 | I7: =+C7+F7 -> 0
A8: Jūrmalas valstspilsēta | B8: 1102998 | E8: 539459 | H8: =+B8+E8 -> 1642457 | I8: =+C8+F8 -> 0
A9: Liepājas valstspilsēta | B9: 1820878 | E9: 848311 | H9: =+B9+E9 -> 2669189 | I9: =+C9+F9 -> 0
A10: Rēzeknes valstspilsēta | B10: 739133 | E10: 356190 | H10: =+B10+E10 -> 1095323 | I10: =+C10+F10 -> 0
A11: Ventspils valstspilsēta | B11: 781861 | E11: 410859 | H11: =+B11+E11 -> 1192720 | I11: =+C11+F11 -> 0
A12: Aizkraukles novads | B12: 856210 | E12: 405552 | H12: =+B12+E12 -> 1261762 | I12: =+C12+F12 -> 0
A13: Alūksnes novads | B13: 457389 | E13: 217061 | H13: =+B13+E13 -> 674450 | I13: =+C13+F13 -> 0
A14: Augšdaugavas novads | B14: 441274 | E14: 203129 | H14: =+B14+E14 -> 644403 | I14: =+C14+F14 -> 0
A15: Ādažu novads | B15: 710579 | E15: 335141 | H15: =+B15+E15 -> 1045720 | I15: =+C15+F15 -> 0
A16: Balvu novads | B16: 536518 | E16: 236365 | H16: =+B16+E16 -> 772883 | I16: =+C16+F16 -> 0
... A45: Valmieras novads | B45: 1703597 | E45: 807607 | H45: =+B45+E45 -> 2511204 | I45: =+C45+F45 -> 0
A46: Varakļānu novads | B46: 60328 | H46: =+B46+E46 -> 60328 | I46: =+C46+F46 -> 0 | J46: 8M
A47: Ventspils novads | B47: 296921 | E47: 135116 | H47: =+B47+E47 -> 432037 | I47: =+C47+F47 -> 0
A48: KOPĀ | B48: =SUM(B5:B47) -> 49078751 | C48: =SUM(C5:C47) -> 0 | E48: =SUM(E5:E47) -> 23568034 | F48: =SUM(F5:F47) -> 0 | H48: =SUM(H5:H47) -> 72646785 | I48: =SUM(I5:I47) -> 0
A50: II. No 2025. gada 1. septembra līdz 2025. gada 31. decembrim
A51: Pašvaldības | B51: Euro
A52: Nesadalītie līdzekļi | B52: 24276216
A54: PAVISAM KOPĀ | B54: =+B48+B52 -> 73354967

Sheet KOPĀ
A1: Mērķdotācijas pašvaldībām – Kopā
A2: Pašvaldības | B2: MK 07.01.2025. rīk. Nr. 7 KOPĀ | F2: Aprēķināts No 2025.gada 1.septembra līdz 2025.gada 31.decembrim | J2: MK rīkojums KOPĀ
B3: No 2025.gada 1.janvāra līdz 2025.gada 31.augustam | J3: 2025. gadam (12 mēn.)
B4: Euro | C4: Tai skaitā par izglītības programmu īstenošanu valsts valodā mazākumtautību izglītojamajiem | D4: Pavisam kopā (Euro) | F4: Euro | G4: Tai skaitā par izglītības programmu īstenošanu valsts valodā mazākumtautību izglītojamajiem | H4: Pavisam kopā (Euro) | J4: Euro | K4: Tai skaitā par izglītības programmu īstenošanu valsts valodā mazākumtautību izglītojamajiem | L4: Pavisam kopā (Euro)
A5: Rīgas valstspilsēta | B5: =+'1'!B5+'2'!B5+'3'!B5+'4'!B5 -> 115996673 | C5: =+'1'!C5+'2'!C5+'3'!C5+'4'!C5 -> 1271517 | D5: =+'1'!B5+'2'!B5+'3'!D5+'4'!B5 -> 120106046 | F5: =+'1'!E5+'2'!E5+'3'!F5+'4'!E5 -> 58746370 | G5: =+'1'!F5+'2'!F5+'3'!G5+'4'!F5 -> 604206 | H5: =+'1'!E5+'2'!E5+'3'!H5+'4'!E5 -> 60944604 | J5: =+B5+F5 -> 174743043 | K5: =+C5+G5 -> 1875723 | L5: =+D5+H5 -> 181050650
A6: Daugavpils valstspilsēta | B6: =+'1'!B6+'2'!B6+'3'!B6+'4'!B6 -> 16960030 | C6: =+'1'!C6+'2'!C6+'3'!C6+'4'!C6 -> 257454 | D6: =+'1'!B6+'2'!B6+'3'!D6+'4'!B6 -> 17726416 | F6: =+'1'!E6+'2'!E6+'3'!F6+'4'!E6 -> 8578157 | G6: =+'1'!F6+'2'!F6+'3'!G6+'4'!F6 -> 134868 | H6: =+'1'!E6+'2'!E6+'3'!H6+'4'!E6 -> 8996921 | J6: =+B6+F6 -> 25538187 | K6: =+C6+G6 -> 392322 | L6: =+D6+H6 -> 26723337
A7: Jelgavas valstspilsēta | B7: =+'1'!B7+'2'!B7+'3'!B7+'4'!B7 -> 14107153 | C7: =+'1'!C7+'2'!C7+'3'!C7+'4'!C7 -> 84147 | D7: =+'1'!B7+'2'!B7+'3'!D7+'4'!B7 -> 14524211 | F7: =+'1'!E7+'2'!E7+'3'!F7+'4'!E7 -> 7460807 | G7: =+'1'!F7+'2'!F7+'3'!G7+'4'!F7 -> 31922 | H7: =+'1'!E7+'2'!E7+'3'!H7+'4'!E7 -> 7690207 | J7: =+B7+F7 -> 21567960 | K7: =+C7+G7 -> 116069 | L7: =+D7+H7 -> 22214418
A8: Jūrmalas valstspilsēta | B8: =+'1'!B8+'2'!B8+'3'!B8+'4'!B8 -> 8039311 | C8: =+'1'!C8+'2'!C8+'3'!C8+'4'!C8 -> 68868 | D8: =+'1'!B8+'2'!B8+'3'!D8+'4'!B8 -> 8284231 | F8: =+'1'!E8+'2'!E8+'3'!F8+'4'!E8 -> 4293375 | G8: =+'1'!F8+'2'!F8+'3'!G8+'4'!F8 -> 34995 | H8: =+'1'!E8+'2'!E8+'3'!H8+'4'!E8 -> 4421647 | J8: =+B8+F8 -> 12332686 | K8: =+C8+G8 -> 103863 | L8: =+D8+H8 -> 12705878
A9: Liepājas valstspilsēta | B9: =+'1'!B9+'2'!B9+'3'!B9+'4'!B9 -> 14779325 | C9: =+'1'!C9+'2'!C9+'3'!C9+'4'!C9 -> 104705 | D9: =+'1'!B9+'2'!B9+'3'!D9+'4'!B9 -> 15437381 | F9: =+'1'!E9+'2'!E9+'3'!F9+'4'!E9 -> 7526144 | G9: =+'1'!F9+'2'!F9+'3'!G9+'4'!F9 -> 51161 | H9: =+'1'!E9+'2'!E9+'3'!H9+'4'!E9 -> 7861453 | J9: =+B9+F9 -> 22305469 | K9: =+C9+G9 -> 155866 | L9: =+D9+H9 -> 23298834
A10: Rēzeknes valstspilsēta | B10: =+'1'!B10+'2'!B10+'3'!B10+'4'!B10 -> 6969294 | C10: =+'1'!C10+'2'!C10+'3'!C10+'4'!C10 -> 79688 | D10: =+'1'!B10+'2'!B10+'3'!D10+'4'!B10 -> 7320974 | F10: =+'1'!E10+'2'!E10+'3'!F10+'4'!E10 -> 3530328 | G10: =+'1'!F10+'2'!F10+'3'!G10+'4'!F10 -> 44448 | H10: =+'1'!E10+'2'!E10+'3'!H10+'4'!E10 -> 3736093 | J10: =+B10+F10 -> 10499622 | K10: =+C10+G10 -> 124136 | L10: =+D10+H10 -> 11057067
A11: Ventspils valstspilsēta | B11: =+'1'!B11+'2'!B11+'3'!B11+'4'!B11 -> 6885169 | C11: =+'1'!C11+'2'!C11+'3'!C11+'4'!C11 -> 49490 | D11: =+'1'!B11+'2'!B11+'3'!D11+'4'!B11 -> 6885169 | F11: =+'1'!E11+'2'!E11+'3'!F11+'4'!E11 -> 3670952 | G11: =+'1'!F11+'2'!F11+'3'!G11+'4'!F11 -> 23268 | H11: =+'1'!E11+'2'!E11+'3'!H11+'4'!E11 -> 3670952 | J11: =+B11+F11 -> 10556121 | K11: =+C11+G11 -> 72758 | L11: =+D11+H11 -> 10556121
A12: Aizkraukles novads | B12: =+'1'!B12+'2'!B12+'3'!B12+'4'!B12 -> 7217605 | C12: =+'1'!C12+'2'!C12+'3'!C12+'4'!C12 -> 16335 | D12: =+'1'!B12+'2'!B12+'3'!D12+'4'!B12 -> 7599453 | F12: =+'1'!E12+'2'!E12+'3'!F12+'4'!E12 -> 3644231 | G12: =+'1'!F12+'2'!F12+'3'!G12+'4'!F12 -> 7956 | H12: =+'1'!E12+'2'!E12+'3'!H12+'4'!E12 -> 3821256 | J12: =+B12+F12 -> 10861836 | K12: =+C12+G12 -> 24291 | L12: =+D12+H12 -> 11420709
A13: Alūksnes novads | B13: =+'1'!B13+'2'!B13+'3'!B13+'4'!B13 -> 2976293 | C13: =+'1'!C13+'2'!C13+'3'!C13+'4'!C13 -> 6997 | D13: =+'1'!B13+'2'!B13+'3'!D13+'4'!B13 -> 2976293 | F13: =+'1'!E13+'2'!E13+'3'!F13+'4'!E13 -> 1539427 | G13: =+'1'!F13+'2'!F13+'3'!G13+'4'!F13 -> 3453 | H13: =+'1'!E13+'2'!E13+'3'!H13+'4'!E13 -> 1539427 | J13: =+B13+F13 -> 4515720 | K13: =+C13+G13 -> 10450 | L13: =+D13+H13 -> 4515720
A14: Augšdaugavas novads | B14: =+'1'!B14+'2'!B14+'3'!B14+'4'!B14 -> 4948959 | C14: =+'1'!C14+'2'!C14+'3'!C14+'4'!C14 -> 33318 | D14: =+'1'!B14+'2'!B14+'3'!D14+'4'!B14 -> 5286061 | F14: =+'1'!E14+'2'!E14+'3'!F14+'4'!E14 -> 2595551 | G14: =+'1'!F14+'2'!F14+'3'!G14+'4'!F14 -> 17765 | H14: =+'1'!E14+'2'!E14+'3'!H14+'4'!E14 -> 2777564 | J14: =+B14+F14 -> 7544510 | K14: =+C14+G14 -> 51083 | L14: =+D14+H14 -> 8063625
A15: Ādažu novads | B15: =+'1'!B15+'2'!B15+'3'!B15+'4'!B15 -> 4758451 | C15: =+'1'!C15+'2'!C15+'3'!C15+'4'!C15 -> 26010 | D15: =+'1'!B15+'2'!B15+'3'!D15+'4'!B15 -> 4758451 | F15: =+'1'!E15+'2'!E15+'3'!F15+'4'!E15 -> 2582506 | G15: =+'1'!F15+'2'!F15+'3'!G15+'4'!F15 -> 13759 | H15: =+'1'!E15+'2'!E15+'3'!H15+'4'!E15 -> 2582506 | J15: =+B15+F15 -> 7340957 | K15: =+C15+G15 -> 39769 | L15: =+D15+H15 -> 7340957
A16: Balvu novads | B16: =+'1'!B16+'2'!B16+'3'!B16+'4'!B16 -> 4259148 | C16: =+'1'!C16+'2'!C16+'3'!C16+'4'!C16 -> 9604 | D16: =+'1'!B16+'2'!B16+'3'!D16+'4'!B16 -> 4259148 | F16: =+'1'!E16+'2'!E16+'3'!F16+'4'!E16 -> 2221935 | G16: =+'1'!F16+'2'!F16+'3'!G16+'4'!F16 -> 4825 | H16: =+'1'!E16+'2'!E16+'3'!H16+'4'!E16 -> 2221935 | J16: =+B16+F16 -> 6481083 | K16: =+C16+G16 -> 14429 | L16: =+D16+H16 -> 6481083
... A45: Valmieras novads | B45: =+'1'!B45+'2'!B45+'3'!B45+'4'!B45 -> 14430004 | C45: =+'1'!C45+'2'!C45+'3'!C45+'4'!C45 -> 46533 | D45: =+'1'!B45+'2'!B45+'3'!D45+'4'!B45 -> 15375594 | F45: =+'1'!E45+'2'!E45+'3'!F45+'4'!E45 -> 7415228 | G45: =+'1'!F45+'2'!F45+'3'!G45+'4'!F45 -> 21592 | H45: =+'1'!E45+'2'!E45+'3'!H45+'4'!E45 -> 7892046 | J45: =+B45+F45 -> 21845232 | K45: =+C45+G45 -> 68125 | L45: =+D45+H45 -> 23267640
A46: Varakļānu novads | B46: =+'1'!B46+'2'!B46+'3'!B46+'4'!B46 -> 572496 | C46: =+'1'!C46+'2'!C46+'3'!C46+'4'!C46 -> 1564 | D46: =+'1'!B46+'2'!B46+'3'!D46+'4'!B46 -> 572496 | F46: =+'1'!E46+'2'!E46+'3'!F46+'4'!E46 -> 0 | G46: =+'1'!F46+'2'!F46+'3'!G46+'4'!F46 -> 0 | H46: =+'1'!E46+'2'!E46+'3'!H46+'4'!E46 -> 0 | J46: =+B46+F46 -> 572496 | K46: =+C46+G46 -> 1564 | L46: =+D46+H46 -> 572496 | M46: 8M
A47: Ventspils novads | B47: =+'1'!B47+'2'!B47+'3'!B47+'4'!B47 -> 2054609 | C47: =+'1'!C47+'2'!C47+'3'!C47+'4'!C47 -> 4499 | D47: =+'1'!B47+'2'!B47+'3'!D47+'4'!B47 -> 2054609 | F47: =+'1'!E47+'2'!E47+'3'!F47+'4'!E47 -> 1105501 | G47: =+'1'!F47+'2'!F47+'3'!G47+'4'!F47 -> 2412 | H47: =+'1'!E47+'2'!E47+'3'!H47+'4'!E47 -> 1105501 | J47: =+B47+F47 -> 3160110 | K47: =+C47+G47 -> 6911 | L47: =+D47+H47 -> 3160110
A48: KOPĀ | B48: =SUM(B5:B47) -> 411010506 | C48: =SUM(C5:C47) -> 2682409 | D48: =SUM(D5:D47) -> 425421673 | F48: =SUM(F5:F47) -> 211496431 | G48: =SUM(G5:G47) -> 1308281 | H48: =SUM(H5:H47) -> 219035727 | J48: =SUM(J5:J47) -> 622506937 | K48: =SUM(K5:K47) -> 3990690 | L48: =SUM(L5:L47) -> 644457400
A50: II. No 2025. gada 1. septembra līdz 2025. gada 31. decembrim
A51: Pašvaldības | B51: Euro | D51: Pavisam kopā (Euro)
A52: Nesadalītie līdzekļi | B52: =+'1'!B52+'2'!B52+'3'!B52+'4'!B52 -> 203473205 | D52: =+'1'!B52+'2'!B52+'3'!D52+'4'!B52 -> 210610399
A54: PAVISAM KOPĀ | B54: =+B48+B52 -> 614483711 | D54: =+D48+D52 -> 636032072

Sheet Konsolid.
A1: 62. resora Programmas kods | B1: Apstiprināts 2025. gadam | G1: Papildu nepieciešams
B2: Apstiprināts 2025. gada budžeta likumā | C2: MK 07.01.2025. rīkojums Nr.6 (24-TA-2449) (UA) | D2: MK 07.01.2025. rīkojums Nr.8 (24-TA-2557) (algas palielin. līdz 9,79€/h) | E2: MK 29.08.2025. rīkojums Nr.532 (25-TA-1794) (atbalsta pers.) | F2: Precizēts 2025. gads | G2: MK rīk. proj. 25-TA-2214 (UA) | H2: MK rīk. proj. 25-TA-2215 (apro pārdale) | I2: MK rīk. proj. 25-TA-2216 (LNG) | J2: Pārdale starp 62. resora programmām (ar FM rīk.) | K2: Kopā 2025. gadam
A3: 01.00.00. | B3: 72633320 | C3: 471499 | D3: 1341827 | F3: =+B3+C3+D3+E3 -> 74446646 | G3: 249166 | J3: -267361 | K3: =SUM(F3:J3) -> 74428451 | L3: =+'3'!L48 -> 74428451 | M3: =+K3-L3 -> 0
A4: 05.00.00. | B4: 472197088 | C4: 3745288 | D4: 12288083 | E4: 4920218 | F4: =+B4+C4+D4+E4 -> 493150677 | G4: 2001667 | I4: 1482117 | J4: 747703 | K4: =SUM(F4:J4) -> 497382164 | L4: =+'1'!H48+'2'!H48 -> 497382164 | M4: =+K4-L4 -> 0
A5: 10.00.00. | B5: 70980645 | C5: 526319 | D5: 1848003 | F5: =+B5+C5+D5+E5 -> 73354967 | G5: 225193 | H5: -453033 | J5: -480342 | K5: =SUM(F5:J5) -> 72646785 | L5: =+'4'!H48 -> 72646785 | M5: =+K5-L5 -> 0
A6: Kopā mērķdotācija | B6: =SUM(B3:B5) -> 615811053 | C6: =SUM(C3:C5) -> 4743106 | D6: =SUM(D3:D5) -> 15477913 | E6: =SUM(E3:E5) -> 4920218 | F6: =SUM(F3:F5) -> 640952290 | G6: =SUM(G3:G5) -> 2476026 | H6: =SUM(H3:H5) -> -453033 | I6: =SUM(I3:I5) -> 1482117 | ... K6: =SUM(K3:K5) -> 644457400 | L6: =+KOPĀ!L48 -> 644457400 | M6: =+K6-L6 -> 0
C7: no 17.00.00 | D7: no 23.00.00 | E7: no 23.00.00
