Workbook

Sheet KOPSAVILKUMS
I1: Pielikums MK rīkojuma projekta “Par finanšu līdzekļu piešķiršanu no valsts budžeta programmas “Līdzekļi neparedzētiem gadījumiem”” anotācijai
A3: Kopsavilkums par stacionāro iestāžu iesniegto informāciju par darba veicējiem (ārstniecības personām), virs normālā darba laika nostrādātām stundām, apmaksājamām stundām un izdevumiem, kas radušies saistībā ar mērķi ierobežot Covid-19 izplatību par 2022.gada JANVĀRIS - DECEMBRIS
C6: Izdevumi par virsstundām (2022.gada janvāris-decembris) kopā ar VSOAI, euro
C7: janvāris | D7: februāris | E7: marts | F7: aprīlis | G7: maijs | H7: jūnijs | I7: jūlijs | J7: augusts | K7: septembris | L7: oktobris | M7: novembris | N7: decembris | O7: KOPĀ
A8: KOPĀ | O8: =SUM(O9:O15) -> 1942215.8
A9: 1 | B9: SIA “Rīgas Austrumu klīniskās universitātes slimnīca” | C9: x | D9: x | E9: x | F9: x | G9: x | H9: x | I9: x | J9: x | K9: =RAKUS_sept_dec!I11 -> 1413734.9 | O9: =SUM(C9:N9) -> 1413734.9
A10: 2 | B10: SIA "Daugavpils reģionālā slimnīca" | C10: x | D10: x | E10: x | F10: x | G10: x | H10: x | I10: x | J10: x | K10: x | L10: =Daugavpils_reģ_okt!I11 -> 115439.72 | M10: =Daugavpils_reģ_nov!I11 -> 128387.95 | N10: =Daugavpils_reģ_dec!I11 -> 136027.4 | O10: =SUM(C10:N10) -> 379855.07
A11: 3 | B11: SIA "Ziemeļkurzemes reģionālā slimnīca" | C11: x | D11: x | E11: x | F11: x | G11: x | H11: x | I11: x | J11: x | K11: x | L11: ='Z-Kurzeme_okt'!I10 -> 29635.12 | M11: ='Z-Kurzeme_nov'!I10 -> 17646.61 | N11: ='Z-Kurzeme_dec'!I10 -> 36596.87 | O11: =SUM(C11:N11) -> 83878.6
A12: 4 | B12: SIA Jelgavas pilsētas slimnīca | C12: x | D12: x | E12: x | F12: x | G12: x | H12: x | I12: x | J12: x | K12: x | L12: =Jelgava_okt!I10 -> 5266.38 | M12: =Jelgava_nov!I10 -> 1185.54 | N12: =Jelgava_dec!I10 -> 3303.97 | O12: =SUM(C12:N12) -> 9755.89
A13: 5 | B13: SIA "Balvu un Gulbenes slimnīcu apvienība" | C13: x | D13: x | E13: x | F13: x | G13: x | H13: x | I13: x | J13: x | K13: ='Balvi-Gulbene_sept_dec'!I11 -> 2561.87 | O13: =SUM(C13:N13) -> 2561.87
A14: 6 | B14: VSIA „Daugavpils psihoneiroloģiskā slimnīca” | C14: x | D14: x | E14: x | F14: x | G14: x | H14: x | I14: x | J14: x | K14: x | L14: x | M14: x | N14: =Daugavpils_psih_dec!I11 -> 10111.29 | O14: =SUM(C14:N14) -> 10111.29
A15: 7 | B15: SIA "Rēzeknes slimnīca" | C15: =Rēzekne_janv_dec!I11 -> 42318.15 | O15: =SUM(C15:N15) -> 42318.15
B17: Summētā darba laika periods, kurā uzskaitītas virsstundas un papildu snepieciešamais finansējums to apmaksai

Sheet RAKUS_sept_dec
H1: Pielikums Nr.1
A2: Pārskats par darba veicējiem (ārstniecības personām), virs normālā darba laika nostrādātām stundām, apmaksājamām stundām un izdevumiem, kas radušies saistībā ar mērķi ierobežot Covid-19 izplatību
A4: Iestādes nosaukums: SIA “Rīgas Austrumu klīniskās universitātes slimnīca”
A5: Pārskata mēnesis: Septembris - Decembris
B7: Nodarbināto skaits mēnesī | C7: Apmaksājamais laiks mēnesī, stundas (tai skaitā summētā darba laika ietvaros) | F7: Mēnešalga no kuras rēķina stundas likmi | G7: Stundas likme (aprēķināta atbilstoši mēnešalgai vai darba līgumā noteiktā stundas likme) | H7: Apmaksājamā 100% piemaksa par nostrādātām virsstundām virs normālā darba laika (tai skaitā summētā darba laika ietvaros) | I7: Izdevumi par virsstundām kopā ar VSOAI, EUR
C8: Kopā | D8: līdz normālam darba laikam * | E8: virsstundas - virs normālā darba laika, kas saistītas ar darbu ar Covid-19
A10: 1 | B10: 2 | C10: 3=4+5 | D10: 4 | E10: 5 | F10: 6 | G10: 7 | H10: 8 | I10: 9=8 + VSOAI
A11: KOPĀ | B11: =B12+B457+B1036+B920 -> 1236 | E11: =E12+E457+E1036+E920 -> 63323.191 | H11: =H12+H457+H1036+H920 -> 1144720 | I11: =I12+I457+I1036+I920 -> 1413734.9
A12: Ārsti, zobārsti un funkcionālie speciālisti, kopā, tai skaitā: | B12: =SUM(B13:B456) -> 444 | E12: =SUM(E13:E456) -> 31990.775 | H12: =SUM(H13:H456) -> 718510.45 | I12: =SUM(I13:I456) -> 887483.98
A13: Anesteziologs, reanimatologs | B13: 1 | C13: =D13+E13 -> 168 | D13: 27.8 | E13: 140.2 | F13: 2092 | G13: =F13/168.17 -> 12.439793 | H13: =ROUND(E13*G13*2,2) -> 3488.12 | I13: =ROUND(H13*1.2359,2) -> 4310.97
A14: Anesteziologs, reanimatologs | B14: 1 | C14: =D14+E14 -> 403 | D14: 0 | E14: 403 | F14: 2092 | G14: =F14/168.17 -> 12.439793 | H14: =ROUND(E14*G14*2,2) -> 10026.47 | I14: =ROUND(H14*1.2359,2) -> 12391.71
A15: Anesteziologs, reanimatologs | B15: 1 | C15: =D15+E15 -> 204 | D15: 0 | E15: 204 | F15: 2092 | G15: =F15/168.17 -> 12.439793 | H15: =ROUND(E15*G15*2,2) -> 5075.44 | I15: =ROUND(H15*1.2359,2) -> 6272.74
A16: Anesteziologs, reanimatologs (1.līmenis) | B16: 1 | C16: =D16+E16 -> 533.5 | D16: 517 | E16: 16.5 | F16: 2427 | G16: =F16/168.17 -> 14.431825 | H16: =ROUND(E16*G16*2,2) -> 476.25 | I16: =ROUND(H16*1.2359,2) -> 588.6
A17: Anesteziologs, reanimatologs (1.līmenis) | B17: 1 | C17: =D17+E17 -> 241.5 | D17: 238.5 | E17: 3 | F17: 2427 | G17: =F17/168.17 -> 14.431825 | H17: =ROUND(E17*G17*2,2) -> 86.59 | I17: =ROUND(H17*1.2359,2) -> 107.02
A18: Anesteziologs, reanimatologs (1.līmenis) | B18: 1 | C18: =D18+E18 -> 248.484 | D18: 238.5 | E18: 9.984 | F18: 2427 | G18: =F18/168.17 -> 14.431825 | H18: =ROUND(E18*G18*2,2) -> 288.17 | I18: =ROUND(H18*1.2359,2) -> 356.15
A19: Anesteziologs, reanimatologs (1.līmenis) | B19: 1 | C19: =D19+E19 -> 480.5 | D19: 477.75 | E19: 2.75 | F19: 2427 | G19: =F19/168.17 -> 14.431825 | H19: =ROUND(E19*G19*2,2) -> 79.38 | I19: =ROUND(H19*1.2359,2) -> 98.11
A20: Anesteziologs, reanimatologs (1.līmenis) | B20: 1 | C20: =D20+E20 -> 421.5 | D20: 298.5 | E20: 123 | F20: 2427 | G20: =F20/168.17 -> 14.431825 | H20: =ROUND(E20*G20*2,2) -> 3550.23 | I20: =ROUND(H20*1.2359,2) -> 4387.73
A21: Anesteziologs, reanimatologs (1.līmenis) | B21: 1 | C21: =D21+E21 -> 605 | D21: 598 | E21: 7 | F21: 2427 | G21: =F21/168.17 -> 14.431825 | H21: =ROUND(E21*G21*2,2) -> 202.05 | I21: =ROUND(H21*1.2359,2) -> 249.71
A22: Anesteziologs, reanimatologs (1.līmenis) | B22: 1 | C22: =D22+E22 -> 621.33333 | D22: 614 | E22: 7.333333 | F22: 2427 | G22: =F22/168.17 -> 14.431825 | H22: =ROUND(E22*G22*2,2) -> 211.67 | I22: =ROUND(H22*1.2359,2) -> 261.6
A23: Anesteziologs, reanimatologs (1.līmenis) | B23: 1 | C23: =D23+E23 -> 438.5 | D23: 429.75 | E23: 8.75 | F23: 2427 | G23: =F23/168.17 -> 14.431825 | H23: =ROUND(E23*G23*2,2) -> 252.56 | I23: =ROUND(H23*1.2359,2) -> 312.14
A24: Anesteziologs, reanimatologs (1.līmenis) | B24: 1 | C24: =D24+E24 -> 292 | D24: 283.5 | E24: 8.5 | F24: 2427 | G24: =F24/168.17 -> 14.431825 | H24: =ROUND(E24*G24*2,2) -> 245.34 | I24: =ROUND(H24*1.2359,2) -> 303.22
... A30: Anesteziologs, reanimatologs (2.līmenis) | B30: 1 | C30: =D30+E30 -> 708.493 | D30: 677 | E30: 31.493 | F30: 2696 | G30: =F30/168.17 -> 16.031397 | H30: =ROUND(E30*G30*2,2) -> 1009.75 | I30: =ROUND(H30*1.2359,2) -> 1247.95
A31: Anesteziologs, reanimatologs (2.līmenis) | B31: 1 | C31: =D31+E31 -> 632.5 | D31: 606 | E31: 26.5 | F31: 2696 | G31: =F31/168.17 -> 16.031397 | H31: =ROUND(E31*G31*2,2) -> 849.66 | I31: =ROUND(H31*1.2077,2) -> 1026.13
A32: Anesteziologs, reanimatologs (2.līmenis) | B32: 1 | C32: =D32+E32 -> 621.5 | D32: 613 | E32: 8.5 | F32: 2696 | G32: =F32/168.17 -> 16.031397 | H32: =ROUND(E32*G32*2,2) -> 272.53 | I32: =ROUND(H32*1.2359,2) -> 336.82
A33: Anesteziologs, reanimatologs (2.līmenis) | B33: 1 | C33: =D33+E33 -> 48 | D33: 0 | E33: 48 | F33: 2696 | G33: =F33/168.17 -> 16.031397 | H33: =ROUND(E33*G33*2,2) -> 1539.01 | I33: =ROUND(H33*1.2077,2) -> 1858.66
A34: Anesteziologs, reanimatologs (2.līmenis) | B34: 1 | C34: =D34+E34 -> 505.25 | D34: 502 | E34: 3.25 | F34: 2696 | G34: =F34/168.17 -> 16.031397 | H34: =ROUND(E34*G34*2,2) -> 104.2 | I34: =ROUND(H34*1.2359,2) -> 128.78
A35: Anesteziologs, reanimatologs (2.līmenis) | B35: 1 | C35: =D35+E35 -> 601.5 | D35: 597 | E35: 4.5 | F35: 2696 | G35: =F35/168.17 -> 16.031397 | H35: =ROUND(E35*G35*2,2) -> 144.28 | I35: =ROUND(H35*1.2359,2) -> 178.32
A36: Anesteziologs, reanimatologs (eksperts) | B36: 1 | C36: =D36+E36 -> 642 | D36: 638 | E36: 4 | F36: 2965 | G36: =F36/168.17 -> 17.630969 | H36: =ROUND(E36*G36*2,2) -> 141.05 | I36: =ROUND(H36*1.2359,2) -> 174.32
A37: Anesteziologs, reanimatologs (eksperts) | B37: 1 | C37: =D37+E37 -> 600.5 | D37: 534 | E37: 66.5 | F37: 2965 | G37: =F37/168.17 -> 17.630969 | H37: =ROUND(E37*G37*2,2) -> 2344.92 | I37: =ROUND(H37*1.2359,2) -> 2898.09
A38: Anesteziologs, reanimatologs (eksperts) | B38: 1 | C38: =D38+E38 -> 351.5 | D38: 275.5 | E38: 76 | F38: 2965 | G38: =F38/168.17 -> 17.630969 | H38: =ROUND(E38*G38*2,2) -> 2679.91 | I38: =ROUND(H38*1.2359,2) -> 3312.1
A39: Anesteziologs, reanimatologs (eksperts) | B39: 1 | C39: =D39+E39 -> 595 | D39: 549 | E39: 46 | F39: 2965 | G39: =F39/168.17 -> 17.630969 | H39: =ROUND(E39*G39*2,2) -> 1622.05 | I39: =ROUND(H39*1.2077,2) -> 1958.95
A40: Anesteziologs, reanimatologs (eksperts) | B40: 1 | C40: =D40+E40 -> 387.75 | D40: 345.75 | E40: 42 | F40: 2965 | G40: =F40/168.17 -> 17.630969 | H40: =ROUND(E40*G40*2,2) -> 1481 | I40: =ROUND(H40*1.2359,2) -> 1830.37
A41: Anesteziologs, reanimatologs (eksperts) | B41: 1 | C41: =D41+E41 -> 682.25 | D41: 677 | E41: 5.25 | F41: 2965 | G41: =F41/168.17 -> 17.630969 | H41: =ROUND(E41*G41*2,2) -> 185.13 | I41: =ROUND(H41*1.2077,2) -> 223.58
A42: Anesteziologs, reanimatologs (eksperts) | B42: 1 | C42: =D42+E42 -> 610 | D42: 589 | E42: 21 | F42: 2965 | G42: =F42/168.17 -> 17.630969 | H42: =ROUND(E42*G42*2,2) -> 740.5 | I42: =ROUND(H42*1.2359,2) -> 915.18
A43: Anesteziologs, reanimatologs (eksperts) | B43: 1 | C43: =D43+E43 -> 634 | D43: 557 | E43: 77 | F43: 2965 | G43: =F43/168.17 -> 17.630969 | H43: =ROUND(E43*G43*2,2) -> 2715.17 | I43: =ROUND(H43*1.2359,2) -> 3355.68
A44: Anesteziologs, reanimatologs (eksperts) | B44: 1 | C44: =D44+E44 -> 640.5 | D44: 637 | E44: 3.5 | F44: 2965 | G44: =F44/168.17 -> 17.630969 | H44: =ROUND(E44*G44*2,2) -> 123.42 | I44: =ROUND(H44*1.2359,2) -> 152.53
A45: Anesteziologs, reanimatologs (eksperts) | B45: 1 | C45: =D45+E45 -> 582 | D45: 565 | E45: 16.999999 | F45: 2965 | G45: =F45/168.17 -> 17.630969 | H45: =ROUND(E45*G45*2,2) -> 599.45 | I45: =ROUND(H45*1.2359,2) -> 740.86
A46: Anesteziologs, reanimatologs (eksperts) | B46: 1 | C46: =D46+E46 -> 295.41667 | D46: 286.5 | E46: 8.916666 | F46: 2965 | G46: =F46/168.17 -> 17.630969 | H46: =ROUND(E46*G46*2,2) -> 314.42 | I46: =ROUND(H46*1.2359,2) -> 388.59
A47: Anesteziologs, reanimatologs (eksperts) | B47: 1 | C47: =D47+E47 -> 302.5 | D47: 286.5 | E47: 16 | F47: 2965 | G47: =F47/168.17 -> 17.630969 | H47: =ROUND(E47*G47*2,2) -> 564.19 | I47: =ROUND(H47*1.2359,2) -> 697.28
A48: Anesteziologs, reanimatologs (eksperts) | B48: 1 | C48: =D48+E48 -> 72 | D48: 0 | E48: 72 | F48: 2965 | G48: =F48/168.17 -> 17.630969 | H48: =ROUND(E48*G48*2,2) -> 2538.86 | I48: =ROUND(H48*1.2359,2) -> 3137.78
A49: Anesteziologs, reanimatologs (eksperts) | B49: 1 | C49: =D49+E49 -> 666 | D49: 557 | E49: 109 | F49: 2965 | G49: =F49/168.17 -> 17.630969 | H49: =ROUND(E49*G49*2,2) -> 3843.55 | I49: =ROUND(H49*1.2359,2) -> 4750.24
A50: Anesteziologs, reanimatologs (eksperts) | B50: 1 | C50: =D50+E50 -> 502.5 | D50: 494 | E50: 8.5 | F50: 2965 | G50: =F50/168.17 -> 17.630969 | H50: =ROUND(E50*G50*2,2) -> 299.73 | I50: =ROUND(H50*1.2359,2) -> 370.44
A51: Anesteziologs, reanimatologs (eksperts) | B51: 1 | C51: =D51+E51 -> 48 | D51: 0 | E51: 48 | F51: 2965 | G51: =F51/168.17 -> 17.630969 | H51: =ROUND(E51*G51*2,2) -> 1692.57 | I51: =ROUND(H51*1.2359,2) -> 2091.85
A52: Anesteziologs, reanimatologs (eksperts) | B52: 1 | C52: =D52+E52 -> 742.5 | D52: 646 | E52: 96.5 | F52: 2965 | G52: =F52/168.17 -> 17.630969 | H52: =ROUND(E52*G52*2,2) -> 3402.78 | I52: =ROUND(H52*1.2077,2) -> 4109.54
A53: Anesteziologs, reanimatologs (eksperts) | B53: 1 | C53: =D53+E53 -> 1 | D53: 0 | E53: 1 | F53: 2965 | G53: =F53/168.17 -> 17.630969 | H53: =ROUND(E53*G53*2,2) -> 35.26 | I53: =ROUND(H53*1.2359,2) -> 43.58
A54: Anesteziologs, reanimatologs (eksperts) | B54: 1 | C54: =D54+E54 -> 48 | D54: 0 | E54: 48 | F54: 2965 | G54: =F54/168.17 -> 17.630969 | H54: =ROUND(E54*G54*2,2) -> 1692.57 | I54: =ROUND(H54*1.2359,2) -> 2091.85
A55: Anesteziologs, reanimatologs (eksperts) | B55: 1 | C55: =D55+E55 -> 15.5 | D55: 0 | E55: 15.5 | F55: 2965 | G55: =F55/168.17 -> 17.630969 | H55: =ROUND(E55*G55*2,2) -> 546.56 | I55: =ROUND(H55*1.2359,2) -> 675.49
A56: Anesteziologs, reanimatologs (eksperts) | B56: 1 | C56: =D56+E56 -> 594 | D56: 589 | E56: 5 | F56: 2965 | G56: =F56/168.17 -> 17.630969 | H56: =ROUND(E56*G56*2,2) -> 176.31 | I56: =ROUND(H56*1.2359,2) -> 217.9
A57: Anesteziologs, reanimatologs (eksperts) | B57: 1 | C57: =D57+E57 -> 619 | D57: 613 | E57: 5.999999 | F57: 2965 | G57: =F57/168.17 -> 17.630969 | H57: =ROUND(E57*G57*2,2) -> 211.57 | I57: =ROUND(H57*1.2359,2) -> 261.48
A58: Anesteziologs, reanimatologs (eksperts) | B58: 1 | C58: =D58+E58 -> 675 | D58: 645 | E58: 30 | F58: 2965 | G58: =F58/168.17 -> 17.630969 | H58: =ROUND(E58*G58*2,2) -> 1057.86 | I58: =ROUND(H58*1.2359,2) -> 1307.41
A59: Anesteziologs, reanimatologs (eksperts) | B59: 1 | C59: =D59+E59 -> 691 | D59: 637 | E59: 54 | F59: 2965 | G59: =F59/168.17 -> 17.630969 | H59: =ROUND(E59*G59*2,2) -> 1904.14 | I59: =ROUND(H59*1.2359,2) -> 2353.33
A60: Anesteziologs, reanimatologs (eksperts) | B60: 1 | C60: =D60+E60 -> 267.25 | D60: 0 | E60: 267.25 | F60: 2965 | G60: =F60/168.17 -> 17.630969 | H60: =ROUND(E60*G60*2,2) -> 9423.75 | I60: =ROUND(H60*1.2359,2) -> 11646.81
A61: Atbildīgais ķirurgs | B61: 1 | C61: =D61+E61 -> 120 | D61: 0 | E61: 120 | F61: 3012 | G61: =F61/168.17 -> 17.910448 | H61: =ROUND(E61*G61*2,2) -> 4298.51 | I61: =ROUND(H61*1.2359,2) -> 5312.53
A62: Atbildīgais ķirurgs | B62: 1 | C62: =D62+E62 -> 32 | D62: 0 | E62: 32 | F62: 3012 | G62: =F62/168.17 -> 17.910448 | H62: =ROUND(E62*G62*2,2) -> 1146.27 | I62: =ROUND(H62*1.2359,2) -> 1416.68
A63: Atbildīgais ķirurgs | B63: 1 | C63: =D63+E63 -> 15 | D63: 0 | E63: 15 | F63: 3012 | G63: =F63/168.17 -> 17.910448 | H63: =ROUND(E63*G63*2,2) -> 537.31 | I63: =ROUND(H63*1.2359,2) -> 664.06
A64: Atbildīgais ķirurgs | B64: 1 | C64: =D64+E64 -> 138 | D64: 0 | E64: 138 | F64: 3012 | G64: =F64/168.17 -> 17.910448 | H64: =ROUND(E64*G64*2,2) -> 4943.28 | I64: =ROUND(H64*1.2359,2) -> 6109.4
... A144: Dežūrārsts | B144: 1 | C144: =D144+E144 -> 124 | D144: 0 | E144: 124 | F144: 1893 | G144: =F144/168.17 -> 11.256467 | H144: =ROUND(E144*G144*2,2) -> 2791.6 | I144: =ROUND(H144*1.2359,2) -> 3450.14
A145: Dežūrārsts | B145: 1 | C145: =D145+E145 -> 693.5 | D145: 582 | E145: 111.5 | F145: 1893 | G145: =F145/168.17 -> 11.256467 | H145: =ROUND(E145*G145*2,2) -> 2510.19 | I145: =ROUND(H145*1.2077,2) -> 3031.56
A146: Dežūrārsts | B146: 1 | C146: =D146+E146 -> 31 | D146: 0 | E146: 31 | F146: 1893 | G146: =F146/168.17 -> 11.256467 | H146: =ROUND(E146*G146*2,2) -> 697.9 | I146: =ROUND(H146*1.2359,2) -> 862.53
A147: Dežūrārsts | B147: 1 | C147: =D147+E147 -> 111.5 | D147: 0 | E147: 111.5 | F147: 1893 | G147: =F147/168.17 -> 11.256467 | H147: =ROUND(E147*G147*2,2) -> 2510.19 | I147: =ROUND(H147*1.2359,2) -> 3102.34
A148: Dežūrdienesta daļas vadītājs - laboratorijas speciālists | B148: 1 | C148: =D148+E148 -> 599 | D148: 567 | E148: 32 | F148: 1880 | G148: =F148/168.17 -> 11.179164 | H148: =ROUND(E148*G148*2,2) -> 715.47 | I148: =ROUND(H148*1.2359,2) -> 884.25
A149: Dežūrķirurgs | B149: 1 | C149: =D149+E149 -> 186.5 | D149: 159.5 | E149: 27 | F149: 1838 | G149: =F149/168.17 -> 10.929417 | H149: =ROUND(E149*G149*2,2) -> 590.19 | I149: =ROUND(H149*1.2359,2) -> 729.42
A150: Dežūrķirurgs | B150: 1 | C150: =D150+E150 -> 93 | D150: 0 | E150: 93 | F150: 1838 | G150: =F150/168.17 -> 10.929417 | H150: =ROUND(E150*G150*2,2) -> 2032.87 | I150: =ROUND(H150*1.2359,2) -> 2512.42
A151: Dežūrķirurgs | B151: 1 | C151: =D151+E151 -> 132.5 | D151: 0 | E151: 132.5 | F151: 1838 | G151: =F151/168.17 -> 10.929417 | H151: =ROUND(E151*G151*2,2) -> 2896.3 | I151: =ROUND(H151*1.2359,2) -> 3579.54
A152: Dežūrķirurgs | B152: 1 | C152: =D152+E152 -> 118.5 | D152: 0 | E152: 118.5 | F152: 1838 | G152: =F152/168.17 -> 10.929417 | H152: =ROUND(E152*G152*2,2) -> 2590.27 | I152: =ROUND(H152*1.2359,2) -> 3201.31
A153: Dežūrķirurgs | B153: 1 | C153: =D153+E153 -> 504 | D153: 501 | E153: 3 | F153: 1838 | G153: =F153/168.17 -> 10.929417 | H153: =ROUND(E153*G153*2,2) -> 65.58 | I153: =ROUND(H153*1.2359,2) -> 81.05
A154: Dežūrķirurgs | B154: 1 | C154: =D154+E154 -> 209 | D154: 165.25 | E154: 43.75 | F154: 1838 | G154: =F154/168.17 -> 10.929417 | H154: =ROUND(E154*G154*2,2) -> 956.32 | I154: =ROUND(H154*1.2359,2) -> 1181.92
A155: Dežūrķirurgs | B155: 1 | C155: =D155+E155 -> 208.5 | D155: 129.25 | E155: 79.25 | F155: 1838 | G155: =F155/168.17 -> 10.929417 | H155: =ROUND(E155*G155*2,2) -> 1732.31 | I155: =ROUND(H155*1.2359,2) -> 2140.96
A156: Dežūrķirurgs | B156: 1 | C156: =D156+E156 -> 125.5 | D156: 0 | E156: 125.5 | F156: 1838 | G156: =F156/168.17 -> 10.929417 | H156: =ROUND(E156*G156*2,2) -> 2743.28 | I156: =ROUND(H156*1.2359,2) -> 3390.42
A157: Dežūrķirurgs | B157: 1 | C157: =D157+E157 -> 134.76154 | D157: 119.25 | E157: 15.511538 | F157: 1838 | G157: =F157/168.17 -> 10.929417 | H157: =ROUND(E157*G157*2,2) -> 339.06 | I157: =ROUND(H157*1.2359,2) -> 419.04
... A162: Imūnhematoloģijas daļas vadītājs - laboratorijas ārsts | B162: 1 | C162: =D162+E162 -> 652 | D162: 637 | E162: 15 | F162: 1880 | G162: =F162/168.17 -> 11.179164 | H162: =ROUND(E162*G162*2,2) -> 335.37 | I162: =ROUND(H162*1.2359,2) -> 414.48
A163: Imūnķīmijas, parazitoloģijas un "cito" izmeklējumu daļas vadītājs - laboratorijas speciālists | B163: 1 | C163: =D163+E163 -> 618.08 | D163: 582 | E163: 36.08 | F163: 1880.00 | G163: =F163/168.17 -> 11.179164 | H163: =ROUND(E163*G163*2,2) -> 806.69 | I163: =ROUND(H163*1.2359,2) -> 996.99
A164: Infektologs | B164: 1 | C164: =D164+E164 -> 288 | D164: 238.5 | E164: 49.5 | F164: 2034 | G164: =F164/168.17 -> 12.094904 | H164: =ROUND(E164*G164*2,2) -> 1197.4 | I164: =ROUND(H164*1.2359,2) -> 1479.87
A165: Kardiologs | B165: 1 | C165: =D165+E165 -> 273.5 | D165: 271 | E165: 2.5 | F165: 1801 | G165: =F165/168.17 -> 10.709401 | H165: =ROUND(E165*G165*2,2) -> 53.55 | I165: =ROUND(H165*1.2359,2) -> 66.18
A166: Ķirurgs | B166: 1 | C166: =D166+E166 -> 352 | D166: 169.25 | E166: 182.75 | F166: 2034 | G166: =F166/168.17 -> 12.094904 | H166: =ROUND(E166*G166*2,2) -> 4420.69 | I166: =ROUND(H166*1.2359,2) -> 5463.53
A167: Ķirurgs | B167: 1 | C167: =D167+E167 -> 28.56 | D167: 0 | E167: 28.56 | F167: 2034 | G167: =F167/168.17 -> 12.094904 | H167: =ROUND(E167*G167*2,2) -> 690.86 | I167: =ROUND(H167*1.2359,2) -> 853.83
A168: Ķirurgs | B168: 1 | C168: =D168+E168 -> 89 | D168: 0 | E168: 89 | F168: 2034 | G168: =F168/168.17 -> 12.094904 | H168: =ROUND(E168*G168*2,2) -> 2152.89 | I168: =ROUND(H168*1.2359,2) -> 2660.76
A169: Ķirurgs | B169: 1 | C169: =D169+E169 -> 68 | D169: 0 | E169: 68 | F169: 2034 | G169: =F169/168.17 -> 12.094904 | H169: =ROUND(E169*G169*2,2) -> 1644.91 | I169: =ROUND(H169*1.2359,2) -> 2032.94
A170: Ķirurgs | B170: 1 | C170: =D170+E170 -> 38.5 | D170: 0 | E170: 38.5 | F170: 2034 | G170: =F170/168.17 -> 12.094904 | H170: =ROUND(E170*G170*2,2) -> 931.31 | I170: =ROUND(H170*1.2359,2) -> 1151.01
A171: Ķirurgs | B171: 1 | C171: =D171+E171 -> 2 | D171: 0 | E171: 2 | F171: 2034 | G171: =F171/168.17 -> 12.094904 | H171: =ROUND(E171*G171*2,2) -> 48.38 | I171: =ROUND(H171*1.2359,2) -> 59.79
A172: Ķirurgs | B172: 1 | C172: =D172+E172 -> 28 | D172: 0 | E172: 28 | F172: 1779 | G172: =F172/147.08 -> 12.095458 | H172: =ROUND(E172*G172*2,2) -> 677.35 | I172: =ROUND(H172*1.2359,2) -> 837.14
A173: Ķirurgs | B173: 1 | C173: =D173+E173 -> 247 | D173: 131.25 | E173: 115.75 | F173: 2034 | G173: =F173/168.17 -> 12.094904 | H173: =ROUND(E173*G173*2,2) -> 2799.97 | I173: =ROUND(H173*1.2359,2) -> 3460.48
A174: Ķirurgs | B174: 1 | C174: =D174+E174 -> 268 | D174: 0 | E174: 268 | F174: 2034 | G174: =F174/168.17 -> 12.094904 | H174: =ROUND(E174*G174*2,2) -> 6482.87 | I174: =ROUND(H174*1.2359,2) -> 8012.18
A175: Ķirurgs | B175: 1 | C175: =D175+E175 -> 320 | D175: 127.75 | E175: 192.25 | F175: 2034 | G175: =F175/168.17 -> 12.094904 | H175: =ROUND(E175*G175*2,2) -> 4650.49 | I175: =ROUND(H175*1.2359,2) -> 5747.54
A176: Ķirurgs | B176: 1 | C176: =D176+E176 -> 192 | D176: 0 | E176: 192 | F176: 2034 | G176: =F176/168.17 -> 12.094904 | H176: =ROUND(E176*G176*2,2) -> 4644.44 | I176: =ROUND(H176*1.2359,2) -> 5740.06
A177: Ķirurgs | B177: 1 | C177: =D177+E177 -> 45 | D177: 0 | E177: 45 | F177: 2034 | G177: =F177/168.17 -> 12.094904 | H177: =ROUND(E177*G177*2,2) -> 1088.54 | I177: =ROUND(H177*1.2359,2) -> 1345.33
A178: Ķirurgs | B178: 1 | C178: =D178+E178 -> 224 | D178: 0 | E178: 224 | F178: 2034 | G178: =F178/168.17 -> 12.094904 | H178: =ROUND(E178*G178*2,2) -> 5418.52 | I178: =ROUND(H178*1.2359,2) -> 6696.75
A179: Ķirurgs | B179: 1 | C179: =D179+E179 -> 4.875 | D179: 0 | E179: 4.875 | F179: 2034 | G179: =F179/168.17 -> 12.094904 | H179: =ROUND(E179*G179*2,2) -> 117.93 | I179: =ROUND(H179*1.2359,2) -> 145.75
A180: Ķirurgs | B180: 1 | C180: =D180+E180 -> 103 | D180: 0 | E180: 103 | F180: 2034 | G180: =F180/168.17 -> 12.094904 | H180: =ROUND(E180*G180*2,2) -> 2491.55 | I180: =ROUND(H180*1.2359,2) -> 3079.31
A181: Ķirurgs | B181: 1 | C181: =D181+E181 -> 78 | D181: 0 | E181: 78 | F181: 2034 | G181: =F181/168.17 -> 12.094904 | H181: =ROUND(E181*G181*2,2) -> 1886.81 | I181: =ROUND(H181*1.2359,2) -> 2331.91
A182: Ķirurgs | B182: 1 | C182: =D182+E182 -> 232 | D182: 157.25 | E182: 74.75 | F182: 2034 | G182: =F182/168.17 -> 12.094904 | H182: =ROUND(E182*G182*2,2) -> 1808.19 | I182: =ROUND(H182*1.2359,2) -> 2234.74
A183: Ķirurgs | B183: 1 | C183: =D183+E183 -> 185 | D183: 127.25 | E183: 57.75 | F183: 2034 | G183: =F183/168.17 -> 12.094904 | H183: =ROUND(E183*G183*2,2) -> 1396.96 | I183: =ROUND(H183*1.2359,2) -> 1726.5
A184: Ķirurgs | B184: 1 | C184: =D184+E184 -> 59.538 | D184: 0 | E184: 59.538 | F184: 2034 | G184: =F184/168.17 -> 12.094904 | H184: =ROUND(E184*G184*2,2) -> 1440.21 | I184: =ROUND(H184*1.2359,2) -> 1779.96
... A189: Laboratorijas ārsts | B189: 1 | C189: =D189+E189 -> 8 | D189: 0 | E189: 8 | F189: 1723 | G189: =F189/168.17 -> 10.245585 | H189: =ROUND(E189*G189*2,2) -> 163.93 | I189: =ROUND(H189*1.2359,2) -> 202.6
A190: Laboratorijas ārsts | B190: 1 | C190: =D190+E190 -> 528 | D190: 503 | E190: 25 | F190: 1723.00 | G190: =F190/168.17 -> 10.245585 | H190: =ROUND(E190*G190*2,2) -> 512.28 | I190: =ROUND(H190*1.2359,2) -> 633.13
A191: Laboratorijas ārsts | B191: 1 | C191: =D191+E191 -> 209 | D191: 206 | E191: 3 | F191: 1723 | G191: =F191/168.17 -> 10.245585 | H191: =ROUND(E191*G191*2,2) -> 61.47 | I191: =ROUND(H191*1.2359,2) -> 75.97
A192: Laboratorijas ārsts | B192: 1 | C192: =D192+E192 -> 10 | D192: 0 | E192: 10 | F192: 1723 | G192: =F192/168.17 -> 10.245585 | H192: =ROUND(E192*G192*2,2) -> 204.91 | I192: =ROUND(H192*1.2359,2) -> 253.25
A193: Laboratorijas ārsts | B193: 1 | C193: =D193+E193 -> 661 | D193: 638 | E193: 23 | F193: 1723 | G193: =F193/168.17 -> 10.245585 | H193: =ROUND(E193*G193*2,2) -> 471.3 | I193: =ROUND(H193*1.2359,2) -> 582.48
A194: Laboratorijas ārsts | B194: 1 | C194: =D194+E194 -> 358 | D194: 350 | E194: 8 | F194: 1723 | G194: =F194/168.17 -> 10.245585 | H194: =ROUND(E194*G194*2,2) -> 163.93 | I194: =ROUND(H194*1.2359,2) -> 202.6
A195: Laboratorijas ārsts (stažieris) | B195: 1 | C195: =D195+E195 -> 1 | D195: 0 | E195: 1 | F195: 1500 | G195: =F195/168.17 -> 8.9195457 | H195: =ROUND(E195*G195*2,2) -> 17.84 | I195: =ROUND(H195*1.2359,2) -> 22.05
...

Sheet Daugavpils_reģ_okt
H1: Pielikums Nr.2
A2: Pārskats par darba veicējiem (ārstniecības personām), virs normālā darba laika nostrādātām stundām, apmaksājamām stundām un izdevumiem, kas radušies saistībā ar mērķi ierobežot Covid-19 izplatību
A4: Iestādes nosaukums: SIA "Daugavpils reģionālā slimnīca"
A5: Pārskata mēnesis: Oktobris
B7: Nodarbināto skaits mēnesī | C7: Apmaksājamais laiks mēnesī, stundas (tai skaitā summētā darba laika ietvaros) | F7: Mēnešalga no kuras rēķina stundas likmi | G7: Stundas likme (aprēķināta atbilstoši mēnešalgai vai darba līgumā noteiktā stundas likme) | H7: Apmaksājamā 100% piemaksa par nostrādātām virsstundām virs normālā darba laika (tai skaitā summētā darba laika ietvaros) | I7: Izdevumi par virsstundām kopā ar VSOAI, EUR
C8: Kopā | D8: līdz normālam darba laikam | E8: virsstundas - virs normālā darba laika, kas saistītas ar darbu ar Covid-19
A10: 1 | B10: 2 | C10: 3=4+5 | D10: 4 | E10: 5 | F10: 6 | G10: 7 | H10: 8 | I10: 9=8 + VSOAI
A11: KOPĀ | B11: =B12+B123+B138 -> 139 | E11: =E12+E123+E138 -> 5424 | H11: =H12+H123+H138 -> 93522.71 | I11: =I12+I123+I138 -> 115439.72
A12: Centrālā slimnīca "Uzņemšanas nodaļa" | B12: =B13+B65+B106 -> 107 | E12: =E13+E65+E106 -> 4632 | H12: =H13+H65+H106 -> 78449.45 | I12: =I13+I65+I106 -> 96811.14
A13: Ārsti, zobārsti un funkcionālie speciālisti, kopā, tai skaitā: | B13: =SUM(B14:B64) -> 51 | E13: =SUM(E14:E64) -> 2652 | H13: =SUM(H14:H64) -> 54247.64 | I13: =SUM(I14:I64) -> 66908.52
A14: Anesteziologs un reanimatologs | B14: 1 | C14: =D14+E14 -> 120 | D14: 112 | E14: 8 | F14: 1718.25 | G14: =F14/168 -> 10.227679 | H14: =ROUND(E14*G14*2,2) -> 163.64 | I14: =ROUND(H14*1.2359,2) -> 202.24
A15: Anesteziologs un reanimatologs | B15: 1 | C15: =D15+E15 -> 120 | D15: 88 | E15: 32 | F15: 1718.25 | G15: =F15/168 -> 10.227679 | H15: =ROUND(E15*G15*2,2) -> 654.57 | I15: =ROUND(H15*1.2359,2) -> 808.98
A16: Anesteziologs un reanimatologs | B16: 1 | C16: =D16+E16 -> 64 | D16: 48 | E16: 16 | F16: 1718.25 | G16: =F16/168 -> 10.227679 | H16: =ROUND(E16*G16*2,2) -> 327.29 | I16: =ROUND(H16*1.2077,2) -> 395.27
A17: Anesteziologs un reanimatologs | B17: 1 | C17: =D17+E17 -> 240 | D17: 168 | E17: 72 | F17: 1718.25 | G17: =F17/168 -> 10.227679 | H17: =ROUND(E17*G17*2,2) -> 1472.79 | I17: =ROUND(H17*1.2359,2) -> 1820.22
A18: Anesteziologs un reanimatologs | B18: 1 | C18: =D18+E18 -> 144 | D18: 80 | E18: 64 | F18: 1718.25 | G18: =F18/168 -> 10.227679 | H18: =ROUND(E18*G18*2,2) -> 1309.14 | I18: =ROUND(H18*1.2359,2) -> 1617.97
A19: Anesteziologs un reanimatologs | B19: 1 | C19: =D19+E19 -> 48 | D19: 32 | E19: 16 | F19: 1718.25 | G19: =F19/168 -> 10.227679 | H19: =ROUND(E19*G19*2,2) -> 327.29 | I19: =ROUND(H19*1.2359,2) -> 404.5
A20: Anesteziologs un reanimatologs | B20: 1 | C20: =D20+E20 -> 160 | D20: 80 | E20: 80 | F20: 1718.25 | G20: =F20/168 -> 10.227679 | H20: =ROUND(E20*G20*2,2) -> 1636.43 | I20: =ROUND(H20*1.2359,2) -> 2022.46
A21: Anesteziologs un reanimatologs | B21: 1 | C21: =D21+E21 -> 208 | D21: 104 | E21: 104 | F21: 1718.25 | G21: =F21/168 -> 10.227679 | H21: =ROUND(E21*G21*2,2) -> 2127.36 | I21: =ROUND(H21*1.2359,2) -> 2629.2
A22: Ārsts | B22: 1 | C22: =D22+E22 -> 192 | D22: 136 | E22: 56 | F22: 1718.25 | G22: =F22/168 -> 10.227679 | H22: =ROUND(E22*G22*2,2) -> 1145.5 | I22: =ROUND(H22*1.2077,2) -> 1383.42
A23: Ārsts | B23: 1 | C23: =D23+E23 -> 248 | D23: 168 | E23: 80 | F23: 1718.25 | G23: =F23/168 -> 10.227679 | H23: =ROUND(E23*G23*2,2) -> 1636.43 | I23: =ROUND(H23*1.2359,2) -> 2022.46
A24: Ārsts | B24: 1 | C24: =D24+E24 -> 210 | D24: 168 | E24: 42 | F24: 1718.25 | G24: =F24/168 -> 10.227679 | H24: =ROUND(E24*G24*2,2) -> 859.13 | I24: =ROUND(H24*1.2359,2) -> 1061.8
A25: Ārsts | B25: 1 | C25: =D25+E25 -> 110 | D25: 72 | E25: 38 | F25: 1718.25 | G25: =F25/168 -> 10.227679 | H25: =ROUND(E25*G25*2,2) -> 777.3 | I25: =ROUND(H25*1.2359,2) -> 960.67
A26: Ārsts (dežūrslodze) | B26: 1 | C26: =D26+E26 -> 216 | D26: 168 | E26: 48 | F26: 1718.25 | G26: =F26/168 -> 10.227679 | H26: =ROUND(E26*G26*2,2) -> 981.86 | I26: =ROUND(H26*1.2359,2) -> 1213.48
A27: Ginekologs, dzemdību speciālists | B27: 1 | C27: =D27+E27 -> 48 | D27: 24 | E27: 24 | F27: 1718.25 | G27: =F27/168 -> 10.227679 | H27: =ROUND(E27*G27*2,2) -> 490.93 | I27: =ROUND(H27*1.2359,2) -> 606.74
A28: Ginekologs, dzemdību speciālists | B28: 1 | C28: =D28+E28 -> 48 | D28: 24 | E28: 24 | F28: 1718.25 | G28: =F28/168 -> 10.227679 | H28: =ROUND(E28*G28*2,2) -> 490.93 | I28: =ROUND(H28*1.2359,2) -> 606.74
A29: Internists | B29: 1 | C29: =D29+E29 -> 224 | D29: 112 | E29: 112 | F29: 1718.25 | G29: =F29/168 -> 10.227679 | H29: =ROUND(E29*G29*2,2) -> 2291 | I29: =ROUND(H29*1.2359,2) -> 2831.45
A30: Kardiologs | B30: 1 | C30: =D30+E30 -> 176 | D30: 88 | E30: 88 | F30: 1718.25 | G30: =F30/168 -> 10.227679 | H30: =ROUND(E30*G30*2,2) -> 1800.07 | I30: =ROUND(H30*1.2359,2) -> 2224.71
A31: Kardiologs | B31: 1 | C31: =D31+E31 -> 144 | D31: 72 | E31: 72 | F31: 1718.25 | G31: =F31/168 -> 10.227679 | H31: =ROUND(E31*G31*2,2) -> 1472.79 | I31: =ROUND(H31*1.2359,2) -> 1820.22
A32: Kardiologs | B32: 1 | C32: =D32+E32 -> 32 | D32: 16 | E32: 16 | F32: 1718.25 | G32: =F32/168 -> 10.227679 | H32: =ROUND(E32*G32*2,2) -> 327.29 | I32: =ROUND(H32*1.2359,2) -> 404.5
A33: Kardiologs | B33: 1 | C33: =D33+E33 -> 96 | D33: 48 | E33: 48 | F33: 1718.25 | G33: =F33/168 -> 10.227679 | H33: =ROUND(E33*G33*2,2) -> 981.86 | I33: =ROUND(H33*1.2359,2) -> 1213.48
A34: Kardiologs | B34: 1 | C34: =D34+E34 -> 32 | D34: 16 | E34: 16 | F34: 1718.25 | G34: =F34/168 -> 10.227679 | H34: =ROUND(E34*G34*2,2) -> 327.29 | I34: =ROUND(H34*1.2359,2) -> 404.5
A35: Kardiologs | B35: 1 | C35: =D35+E35 -> 96 | D35: 48 | E35: 48 | F35: 1718.25 | G35: =F35/168 -> 10.227679 | H35: =ROUND(E35*G35*2,2) -> 981.86 | I35: =ROUND(H35*1.2077,2) -> 1185.79
A36: Ķirurgs | B36: 1 | C36: =D36+E36 -> 136 | D36: 68 | E36: 68 | F36: 1718.25 | G36: =F36/168 -> 10.227679 | H36: =ROUND(E36*G36*2,2) -> 1390.96 | I36: =ROUND(H36*1.2077,2) -> 1679.86
A37: Ķirurgs | B37: 1 | C37: =D37+E37 -> 149 | D37: 74.5 | E37: 74.5 | F37: 1718.25 | G37: =F37/168 -> 10.227679 | H37: =ROUND(E37*G37*2,2) -> 1523.92 | I37: =ROUND(H37*1.2359,2) -> 1883.41
A38: Ķirurgs | B38: 1 | C38: =D38+E38 -> 34 | D38: 17 | E38: 17 | F38: 1718.25 | G38: =F38/168 -> 10.227679 | H38: =ROUND(E38*G38*2,2) -> 347.74 | I38: =ROUND(H38*1.2359,2) -> 429.77
A39: Ķirurgs | B39: 1 | C39: =D39+E39 -> 64 | D39: 32 | E39: 32 | F39: 1718.25 | G39: =F39/168 -> 10.227679 | H39: =ROUND(E39*G39*2,2) -> 654.57 | I39: =ROUND(H39*1.2359,2) -> 808.98
A40: Ķirurgs | B40: 1 | C40: =D40+E40 -> 147 | D40: 73.5 | E40: 73.5 | F40: 1718.25 | G40: =F40/168 -> 10.227679 | H40: =ROUND(E40*G40*2,2) -> 1503.47 | I40: =ROUND(H40*1.2359,2) -> 1858.14
A41: Ķirurgs | B41: 1 | C41: =D41+E41 -> 201.5 | D41: 168 | E41: 33.5 | F41: 1718.25 | G41: =F41/168 -> 10.227679 | H41: =ROUND(E41*G41*2,2) -> 685.25 | I41: =ROUND(H41*1.2359,2) -> 846.9
A42: Bērnu ķirurgs | B42: 1 | C42: =D42+E42 -> 176 | D42: 88 | E42: 88 | F42: 1718.25 | G42: =F42/168 -> 10.227679 | H42: =ROUND(E42*G42*2,2) -> 1800.07 | I42: =ROUND(H42*1.2359,2) -> 2224.71
A43: Neatliekamās medicīnas ārsts | B43: 1 | C43: =D43+E43 -> 112 | D43: 56 | E43: 56 | F43: 1718.25 | G43: =F43/168 -> 10.227679 | H43: =ROUND(E43*G43*2,2) -> 1145.5 | I43: =ROUND(H43*1.2359,2) -> 1415.72
A44: Neatliekamās medicīnas ārsts | B44: 1 | C44: =D44+E44 -> 200 | D44: 168 | E44: 32 | F44: 1718.25 | G44: =F44/168 -> 10.227679 | H44: =ROUND(E44*G44*2,2) -> 654.57 | I44: =ROUND(H44*1.2359,2) -> 808.98
A45: Neirologs | B45: 1 | C45: =D45+E45 -> 96 | D45: 48 | E45: 48 | F45: 1718.25 | G45: =F45/168 -> 10.227679 | H45: =ROUND(E45*G45*2,2) -> 981.86 | I45: =ROUND(H45*1.2359,2) -> 1213.48
A46: Neirologs | B46: 1 | C46: =D46+E46 -> 288 | D46: 144 | E46: 144 | F46: 1718.25 | G46: =F46/168 -> 10.227679 | H46: =ROUND(E46*G46*2,2) -> 2945.57 | I46: =ROUND(H46*1.2359,2) -> 3640.43
A47: Neirologs | B47: 1 | C47: =D47+E47 -> 32 | D47: 16 | E47: 16 | F47: 1718.25 | G47: =F47/168 -> 10.227679 | H47: =ROUND(E47*G47*2,2) -> 327.29 | I47: =ROUND(H47*1.2077,2) -> 395.27
A48: Neirologs | B48: 1 | C48: =D48+E48 -> 192 | D48: 96 | E48: 96 | F48: 1718.25 | G48: =F48/168 -> 10.227679 | H48: =ROUND(E48*G48*2,2) -> 1963.71 | I48: =ROUND(H48*1.2359,2) -> 2426.95
A49: Pediatrs | B49: 1 | C49: =D49+E49 -> 200 | D49: 168 | E49: 32 | F49: 1718.25 | G49: =F49/168 -> 10.227679 | H49: =ROUND(E49*G49*2,2) -> 654.57 | I49: =ROUND(H49*1.2077,2) -> 790.52
A50: Pediatrs | B50: 1 | C50: =D50+E50 -> 184 | D50: 120 | E50: 64 | F50: 1718.25 | G50: =F50/168 -> 10.227679 | H50: =ROUND(E50*G50*2,2) -> 1309.14 | I50: =ROUND(H50*1.2359,2) -> 1617.97
A51: Pediatrs | B51: 1 | C51: =D51+E51 -> 104 | D51: 56 | E51: 48 | F51: 1718.25 | G51: =F51/168 -> 10.227679 | H51: =ROUND(E51*G51*2,2) -> 981.86 | I51: =ROUND(H51*1.2359,2) -> 1213.48
A52: Pediatrs | B52: 1 | C52: =D52+E52 -> 32 | D52: 16 | E52: 16 | F52: 1718.25 | G52: =F52/168 -> 10.227679 | H52: =ROUND(E52*G52*2,2) -> 327.29 | I52: =ROUND(H52*1.2359,2) -> 404.5
A53: Pediatrs | B53: 1 | C53: =D53+E53 -> 176 | D53: 104 | E53: 72 | F53: 1718.25 | G53: =F53/168 -> 10.227679 | H53: =ROUND(E53*G53*2,2) -> 1472.79 | I53: =ROUND(H53*1.2359,2) -> 1820.22
A54: Pediatrs | B54: 1 | C54: =D54+E54 -> 88 | D54: 56 | E54: 32 | F54: 1718.25 | G54: =F54/168 -> 10.227679 | H54: =ROUND(E54*G54*2,2) -> 654.57 | I54: =ROUND(H54*1.2359,2) -> 808.98
A55: Rezidents (dežūras) | B55: 1 | C55: =D55+E55 -> 48 | D55: 24 | E55: 24 | F55: 1718.25 | G55: =F55/168 -> 10.227679 | H55: =ROUND(E55*G55*2,2) -> 490.93 | I55: =ROUND(H55*1.2359,2) -> 606.74
A56: Rezidents (dežūras) | B56: 1 | C56: =D56+E56 -> 152 | D56: 104 | E56: 48 | F56: 1718.25 | G56: =F56/168 -> 10.227679 | H56: =ROUND(E56*G56*2,2) -> 981.86 | I56: =ROUND(H56*1.2359,2) -> 1213.48
A57: Rezidents (dežūras) | B57: 1 | C57: =D57+E57 -> 154 | D57: 77 | E57: 77 | F57: 1718.25 | G57: =F57/168 -> 10.227679 | H57: =ROUND(E57*G57*2,2) -> 1575.06 | I57: =ROUND(H57*1.2359,2) -> 1946.62
A58: Rezidents (dežūras) | B58: 1 | C58: =D58+E58 -> 96 | D58: 48 | E58: 48 | F58: 1718.25 | G58: =F58/168 -> 10.227679 | H58: =ROUND(E58*G58*2,2) -> 981.86 | I58: =ROUND(H58*1.2359,2) -> 1213.48
A59: Rezidents (dežūras) | B59: 1 | C59: =D59+E59 -> 10 | D59: 5 | E59: 5 | F59: 1718.25 | G59: =F59/168 -> 10.227679 | H59: =ROUND(E59*G59*2,2) -> 102.28 | I59: =ROUND(H59*1.2359,2) -> 126.41
A60: Neatliekamās medicīnas ārsts | B60: 1 | C60: =D60+E60 -> 90 | D60: 45 | E60: 45 | F60: 1718.25 | G60: =F60/168 -> 10.227679 | H60: =ROUND(E60*G60*2,2) -> 920.49 | I60: =ROUND(H60*1.2359,2) -> 1137.63
A61: Traumatologs un ortopēds | B61: 1 | C61: =D61+E61 -> 128 | D61: 64 | E61: 64 | F61: 1718.25 | G61: =F61/168 -> 10.227679 | H61: =ROUND(E61*G61*2,2) -> 1309.14 | I61: =ROUND(H61*1.2359,2) -> 1617.97
... A64: Traumatologs un ortopēds | B64: 1 | C64: =D64+E64 -> 32 | D64: 16 | E64: 16 | F64: 1718.25 | G64: =F64/168 -> 10.227679 | H64: =ROUND(E64*G64*2,2) -> 327.29 | I64: =ROUND(H64*1.2359,2) -> 404.5
A65: Ārstniecības un pacientu aprūpes personas un funkcionālo speciālistu asistenti, kopā, tai skaitā: | B65: =SUM(B66:B105) -> 40 | E65: =SUM(E66:E105) -> 1468 | H65: =SUM(H66:H105) -> 19452.27 | I65: =SUM(I66:I105) -> 24041.03
A66: Ārsta palīgs | B66: 1 | C66: =D66+E66 -> 193 | D66: 160 | E66: 33 | F66: 1068.92 | G66: =F66/168 -> 6.362619 | H66: =ROUND(E66*G66*2,2) -> 419.93 | I66: =ROUND(H66*1.2359,2) -> 518.99
A67: Ārsta palīgs | B67: 1 | C67: =D67+E67 -> 232 | D67: 168 | E67: 64 | F67: 1368.61 | G67: =F67/168 -> 8.1464881 | H67: =ROUND(E67*G67*2,2) -> 1042.75 | I67: =ROUND(H67*1.2359,2) -> 1288.73
A68: Ārsta palīgs | B68: 1 | C68: =D68+E68 -> 216 | D68: 168 | E68: 48 | F68: 1068.92 | G68: =F68/168 -> 6.362619 | H68: =ROUND(E68*G68*2,2) -> 610.81 | I68: =ROUND(H68*1.2359,2) -> 754.9
A69: Ārsta palīgs (vecākais) | B69: 1 | C69: =D69+E69 -> 202 | D69: 168 | E69: 34 | F69: 1608.36 | G69: =F69/168 -> 9.5735714 | H69: =ROUND(E69*G69*2,2) -> 651 | I69: =ROUND(H69*1.2359,2) -> 804.57
A70: Ārsta palīgs | B70: 1 | C70: =D70+E70 -> 73 | D70: 64 | E70: 9 | F70: 1368.61 | G70: =F70/168 -> 8.1464881 | H70: =ROUND(E70*G70*2,2) -> 146.64 | I70: =ROUND(H70*1.2359,2) -> 181.23
A71: Ārsta palīgs | B71: 1 | C71: =D71+E71 -> 218 | D71: 168 | E71: 50 | F71: 1368.612 | G71: =F71/168 -> 8.1465 | H71: =ROUND(E71*G71*2,2) -> 814.65 | I71: =ROUND(H71*1.2359,2) -> 1006.83
A72: Ārsta palīgs | B72: 1 | C72: =D72+E72 -> 200 | D72: 168 | E72: 32 | F72: 1368.612 | G72: =F72/168 -> 8.1465 | H72: =ROUND(E72*G72*2,2) -> 521.38 | I72: =ROUND(H72*1.2359,2) -> 644.37
A73: Ārsta palīgs | B73: 1 | C73: =D73+E73 -> 216 | D73: 168 | E73: 48 | F73: 1068.9168 | G73: =F73/168 -> 6.3626 | H73: =ROUND(E73*G73*2,2) -> 610.81 | I73: =ROUND(H73*1.2359,2) -> 754.9
A74: Ārsta palīgs | B74: 1 | C74: =D74+E74 -> 218 | D74: 168 | E74: 50 | F74: 1068.9168 | G74: =F74/168 -> 6.3626 | H74: =ROUND(E74*G74*2,2) -> 636.26 | I74: =ROUND(H74*1.2359,2) -> 786.35
A75: Ārsta palīgs | B75: 1 | C75: =D75+E75 -> 217 | D75: 168 | E75: 49 | F75: 1068.9168 | G75: =F75/168 -> 6.3626 | H75: =ROUND(E75*G75*2,2) -> 623.53 | I75: =ROUND(H75*1.2359,2) -> 770.62
A76: Ārsta palīgs | B76: 1 | C76: =D76+E76 -> 184 | D76: 168 | E76: 16 | F76: 1068.9168 | G76: =F76/168 -> 6.3626 | H76: =ROUND(E76*G76*2,2) -> 203.6 | I76: =ROUND(H76*1.2359,2) -> 251.63
A77: Vispārējās aprūpes māsa | B77: 1 | C77: =D77+E77 -> 272 | D77: 168 | E77: 104 | F77: 1068.9168 | G77: =F77/168 -> 6.3626 | H77: =ROUND(E77*G77*2,2) -> 1323.42 | I77: =ROUND(H77*1.2359,2) -> 1635.61
... A105: Vispārējās aprūpes māsa | B105: 1 | C105: =D105+E105 -> 120 | D105: 88 | E105: 32 | F105: 1068.9168 | G105: =F105/168 -> 6.3626 | H105: =ROUND(E105*G105*2,2) -> 407.21 | I105: =ROUND(H105*1.2359,2) -> 503.27
A106: Ārstniecības un pacientu aprūpes atbalsta personas, māsu palīgi, zobārstu asistenti, kopā, tai skaitā: | B106: =SUM(B107:B122) -> 16 | E106: =SUM(E107:E122) -> 512 | H106: =SUM(H107:H122) -> 4749.54 | I106: =SUM(I107:I122) -> 5861.59
A107: Māsas palīgs | B107: 1 | C107: =D107+E107 -> 72 | D107: 64 | E107: 8 | F107: 779.22 | G107: =F107/168 -> 4.6382143 | H107: =ROUND(E107*G107*2,2) -> 74.21 | I107: =ROUND(H107*1.2359,2) -> 91.72
A108: Māsas palīgs | B108: 1 | C108: =D108+E108 -> 208 | D108: 168 | E108: 40 | F108: 779.22 | G108: =F108/168 -> 4.6382143 | H108: =ROUND(E108*G108*2,2) -> 371.06 | I108: =ROUND(H108*1.2359,2) -> 458.59
A109: Māsas palīgs | B109: 1 | C109: =D109+E109 -> 180 | D109: 168 | E109: 12 | F109: 779.22 | G109: =F109/168 -> 4.6382143 | H109: =ROUND(E109*G109*2,2) -> 111.32 | I109: =ROUND(H109*1.2359,2) -> 137.58
A110: Māsas palīgs | B110: 1 | C110: =D110+E110 -> 216 | D110: 168 | E110: 48 | F110: 779.22 | G110: =F110/168 -> 4.6382143 | H110: =ROUND(E110*G110*2,2) -> 445.27 | I110: =ROUND(H110*1.2359,2) -> 550.31
A111: Māsas palīgs | B111: 1 | C111: =D111+E111 -> 228 | D111: 168 | E111: 60 | F111: 779.22 | G111: =F111/168 -> 4.6382143 | H111: =ROUND(E111*G111*2,2) -> 556.59 | I111: =ROUND(H111*1.2359,2) -> 687.89
A112: Māsas palīgs | B112: 1 | C112: =D112+E112 -> 200 | D112: 168 | E112: 32 | F112: 779.22 | G112: =F112/168 -> 4.6382143 | H112: =ROUND(E112*G112*2,2) -> 296.85 | I112: =ROUND(H112*1.2077,2) -> 358.51
A113: Māsas palīgs | B113: 1 | C113: =D113+E113 -> 144 | D113: 120 | E113: 24 | F113: 779.22 | G113: =F113/168 -> 4.6382143 | H113: =ROUND(E113*G113*2,2) -> 222.63 | I113: =ROUND(H113*1.2359,2) -> 275.15
A114: Māsas palīgs | B114: 1 | C114: =D114+E114 -> 204 | D114: 168 | E114: 36 | F114: 779.22 | G114: =F114/168 -> 4.6382143 | H114: =ROUND(E114*G114*2,2) -> 333.95 | I114: =ROUND(H114*1.2359,2) -> 412.73
A115: Māsas palīgs | B115: 1 | C115: =D115+E115 -> 112 | D115: 88 | E115: 24 | F115: 779.22 | G115: =F115/168 -> 4.6382143 | H115: =ROUND(E115*G115*2,2) -> 222.63 | I115: =ROUND(H115*1.2359,2) -> 275.15
A116: Māsas palīgs | B116: 1 | C116: =D116+E116 -> 216 | D116: 168 | E116: 48 | F116: 779.22 | G116: =F116/168 -> 4.6382143 | H116: =ROUND(E116*G116*2,2) -> 445.27 | I116: =ROUND(H116*1.2359,2) -> 550.31
A117: Māsas palīgs | B117: 1 | C117: =D117+E117 -> 212 | D117: 168 | E117: 44 | F117: 779.22 | G117: =F117/168 -> 4.6382143 | H117: =ROUND(E117*G117*2,2) -> 408.16 | I117: =ROUND(H117*1.2359,2) -> 504.44
A118: Māsas palīgs | B118: 1 | C118: =D118+E118 -> 188 | D118: 168 | E118: 20 | F118: 779.22 | G118: =F118/168 -> 4.6382143 | H118: =ROUND(E118*G118*2,2) -> 185.53 | I118: =ROUND(H118*1.2359,2) -> 229.3
A119: Māsas palīgs | B119: 1 | C119: =D119+E119 -> 208 | D119: 168 | E119: 40 | F119: 779.22 | G119: =F119/168 -> 4.6382143 | H119: =ROUND(E119*G119*2,2) -> 371.06 | I119: =ROUND(H119*1.2359,2) -> 458.59
A120: Māsas palīgs | B120: 1 | C120: =D120+E120 -> 196 | D120: 168 | E120: 28 | F120: 779.22 | G120: =F120/168 -> 4.6382143 | H120: =ROUND(E120*G120*2,2) -> 259.74 | I120: =ROUND(H120*1.2359,2) -> 321.01
A121: Māsas palīgs | B121: 1 | C121: =D121+E121 -> 180 | D121: 168 | E121: 12 | F121: 779.22 | G121: =F121/168 -> 4.6382143 | H121: =ROUND(E121*G121*2,2) -> 111.32 | I121: =ROUND(H121*1.2359,2) -> 137.58
A122: Māsas palīgs | B122: 1 | C122: =D122+E122 -> 204 | D122: 168 | E122: 36 | F122: 779.22 | G122: =F122/168 -> 4.6382143 | H122: =ROUND(E122*G122*2,2) -> 333.95 | I122: =ROUND(H122*1.2359,2) -> 412.73
A123: "Plaušu slimību un tuberkulozes centrs " Uzņemšanas nodaļa, Covid 19 nodaļa | B123: =B124+B129+B135 -> 11 | E123: =E124+E129+E135 -> 361 | H123: =H124+H129+H135 -> 8065.12 | I123: =I124+I129+I135 -> 9967.19
A124: Ārsti, zobārsti un funkcionālie speciālisti, kopā, tai skaitā: | B124: =SUM(B125:B128) -> 4 | E124: =SUM(E125:E128) -> 320 | H124: =SUM(H125:H128) -> 7484.34 | I124: =SUM(I125:I128) -> 9249.89
A125: Kardiologs | B125: 1 | C125: =D125+E125 -> 32 | D125: 16 | E125: 16 | F125: 1964.64 | G125: =F125/168 -> 11.694286 | H125: =ROUND(E125*G125*2,2) -> 374.22 | I125: =ROUND(H125*1.2359,2) -> 462.5
A126: Internists | B126: 1 | C126: =D126+E126 -> 224 | D126: 112 | E126: 112 | F126: 1964.64 | G126: =F126/168 -> 11.694286 | H126: =ROUND(E126*G126*2,2) -> 2619.52 | I126: =ROUND(H126*1.2359,2) -> 3237.46
A127: Infektologs | B127: 1 | C127: =D127+E127 -> 320 | D127: 160 | E127: 160 | F127: 1964.64 | G127: =F127/168 -> 11.694286 | H127: =ROUND(E127*G127*2,2) -> 3742.17 | I127: =ROUND(H127*1.2359,2) -> 4624.95
A128: Pneimonologs | B128: 1 | C128: =D128+E128 -> 64 | D128: 32 | E128: 32 | F128: 1964.64 | G128: =F128/168 -> 11.694286 | H128: =ROUND(E128*G128*2,2) -> 748.43 | I128: =ROUND(H128*1.2359,2) -> 924.98
A129: Ārstniecības un pacientu aprūpes personas un funkcionālo speciālistu asistenti, kopā, tai skaitā: | B129: =SUM(B130:B134) -> 5 | E129: =SUM(E130:E134) -> 37 | H129: =SUM(H130:H134) -> 538.35 | I129: =SUM(I130:I134) -> 664.86
A130: Vispārējās aprūpes māsa | B130: 1 | C130: =D130+E130 -> 152 | D130: 147 | E130: 5 | F130: 1069.43 | G130: =F130/147 -> 7.275034 | H130: =ROUND(E130*G130*2,2) -> 72.75 | I130: =ROUND(H130*1.2359,2) -> 89.91
A131: Vispārējās aprūpes māsa | B131: 1 | C131: =D131+E131 -> 114 | D131: 112 | E131: 2 | F131: 1069.43 | G131: =F131/147 -> 7.275034 | H131: =ROUND(E131*G131*2,2) -> 29.1 | I131: =ROUND(H131*1.2194,2) -> 35.48
A132: Vispārējās aprūpes māsa | B132: 1 | C132: =D132+E132 -> 156 | D132: 147 | E132: 9 | F132: 1069.43 | G132: =F132/147 -> 7.275034 | H132: =ROUND(E132*G132*2,2) -> 130.95 | I132: =ROUND(H132*1.2359,2) -> 161.84
...

Sheet Daugavpils_reģ_nov
H1: Pielikums Nr.3
A2: Pārskats par darba veicējiem (ārstniecības personām), virs normālā darba laika nostrādātām stundām, apmaksājamām stundām un izdevumiem, kas radušies saistībā ar mērķi ierobežot Covid-19 izplatību
A4: Iestādes nosaukums: SIA "Daugavpils reģionālā slimnīca"
A5: Pārskata mēnesis: Novembris
B7: Nodarbināto skaits mēnesī | C7: Apmaksājamais laiks mēnesī, stundas (tai skaitā summētā darba laika ietvaros) | F7: Mēnešalga no kuras rēķina stundas likmi | G7: Stundas likme (aprēķināta atbilstoši mēnešalgai vai darba līgumā noteiktā stundas likme) | H7: Apmaksājamā 100% piemaksa par nostrādātām virsstundām virs normālā darba laika (tai skaitā summētā darba laika ietvaros) | I7: Izdevumi par virsstundām kopā ar VSOAI, EUR
C8: Kopā | D8: līdz normālam darba laikam | E8: virsstundas - virs normālā darba laika, kas saistītas ar darbu ar Covid-19
A10: 1 | B10: 2 | C10: 3=4+5 | D10: 4 | E10: 5 | F10: 6 | G10: 7 | H10: 8 | I10: 9=8 + VSOAI
A11: KOPĀ | B11: =B12+B118+B128+B148 -> 137 | E11: =E12+E118+E128+E148 -> 6096.5 | H11: =H12+H118+H128+H148 -> 104046.98 | I11: =I12+I118+I128+I148 -> 128387.95
A12: Centrālā slimnīca "Uzņemšanas nodaļa" | B12: =B13+B60+B102 -> 102 | E12: =E13+E60+E102 -> 5352.5 | H12: =H13+H60+H102 -> 91493.86 | I12: =I13+I60+I102 -> 112873.55
A13: Ārsti, zobārsti un funkcionālie speciālisti, kopā, tai skaitā: | B13: =SUM(B14:B59) -> 46 | E13: =SUM(E14:E59) -> 2875 | H13: =SUM(H14:H59) -> 61045.23 | I13: =SUM(I14:I59) -> 75258.04
A14: Internists - klīnikas vadītājs | B14: 1 | C14: =D14+E14 -> 300 | D14: 167 | E14: 133 | F14: 2979.13 | G14: =F14/167 -> 17.839102 | H14: =ROUND(E14*G14*2,2) -> 4745.2 | I14: =ROUND(H14*1.2359,2) -> 5864.59
A15: Anesteziologs un reanimatologs | B15: 1 | C15: =D15+E15 -> 192 | D15: 167 | E15: 25 | F15: 1708.03 | G15: =F15/D15 -> 10.227725 | H15: =ROUND(E15*G15*2,2) -> 511.39 | I15: =ROUND(H15*1.2359,2) -> 632.03
A16: Anesteziologs un reanimatologs | B16: 1 | C16: =D16+E16 -> 216 | D16: 167 | E16: 49 | F16: 1708.03 | G16: =F16/D16 -> 10.227725 | H16: =ROUND(E16*G16*2,2) -> 1002.32 | I16: =ROUND(H16*1.2359,2) -> 1238.77
A17: Anesteziologs un reanimatologs | B17: 1 | C17: =D17+E17 -> 64 | D17: 32 | E17: 32 | F17: 1708.03 | G17: =F17/167 -> 10.227725 | H17: =ROUND(E17*G17*2,2) -> 654.57 | I17: =ROUND(H17*1.2077,2) -> 790.52
A18: Anesteziologs un reanimatologs | B18: 1 | C18: =D18+E18 -> 144 | D18: 103 | E18: 41 | F18: 1708.03 | G18: =F18/167 -> 10.227725 | H18: =ROUND(E18*G18*2,2) -> 838.67 | I18: =ROUND(H18*1.2359,2) -> 1036.51
A19: Anesteziologs un reanimatologs | B19: 1 | C19: =D19+E19 -> 232 | D19: 128 | E19: 104 | F19: 1708.03 | G19: =F19/167 -> 10.227725 | H19: =ROUND(E19*G19*2,2) -> 2127.37 | I19: =ROUND(H19*1.2359,2) -> 2629.22
A20: Anesteziologs un reanimatologs | B20: 1 | C20: =D20+E20 -> 48 | D20: 24 | E20: 24 | F20: 1708.03 | G20: =F20/167 -> 10.227725 | H20: =ROUND(E20*G20*2,2) -> 490.93 | I20: =ROUND(H20*1.2359,2) -> 606.74
A21: Anesteziologs un reanimatologs | B21: 1 | C21: =D21+E21 -> 112 | D21: 56 | E21: 56 | F21: 1708.03 | G21: =F21/167 -> 10.227725 | H21: =ROUND(E21*G21*2,2) -> 1145.51 | I21: =ROUND(H21*1.2359,2) -> 1415.74
A22: Anesteziologs un reanimatologs | B22: 1 | C22: =D22+E22 -> 32 | D22: 16 | E22: 16 | F22: 1708.03 | G22: =F22/167 -> 10.227725 | H22: =ROUND(E22*G22*2,2) -> 327.29 | I22: =ROUND(H22*1.2359,2) -> 404.5
A23: Ārsts | B23: 1 | C23: =D23+E23 -> 239 | D23: 167 | E23: 72 | F23: 1708.03 | G23: =F23/167 -> 10.227725 | H23: =ROUND(E23*G23*2,2) -> 1472.79 | I23: =ROUND(H23*1.2077,2) -> 1778.69
A24: Ārsts | B24: 1 | C24: =D24+E24 -> 202.5 | D24: 167 | E24: 35.5 | F24: 1708.03 | G24: =F24/167 -> 10.227725 | H24: =ROUND(E24*G24*2,2) -> 726.17 | I24: =ROUND(H24*1.2359,2) -> 897.47
A25: Ginekologs, dzemdību speciālists | B25: 1 | C25: =D25+E25 -> 48 | D25: 24 | E25: 24 | F25: 1708.03 | G25: =F25/167 -> 10.227725 | H25: =ROUND(E25*G25*2,2) -> 490.93 | I25: =ROUND(H25*1.2359,2) -> 606.74
A26: Internists | B26: 1 | C26: =D26+E26 -> 304 | D26: 152 | E26: 152 | F26: 1708.03 | G26: =F26/167 -> 10.227725 | H26: =ROUND(E26*G26*2,2) -> 3109.23 | I26: =ROUND(H26*1.2359,2) -> 3842.7
A27: Internists | B27: 1 | C27: =D27+E27 -> 144 | D27: 72 | E27: 72 | F27: 1708.03 | G27: =F27/167 -> 10.227725 | H27: =ROUND(E27*G27*2,2) -> 1472.79 | I27: =ROUND(H27*1.2359,2) -> 1820.22
A28: Kardiologs | B28: 1 | C28: =D28+E28 -> 210 | D28: 105 | E28: 105 | F28: 1708.03 | G28: =F28/167 -> 10.227725 | H28: =ROUND(E28*G28*2,2) -> 2147.82 | I28: =ROUND(H28*1.2359,2) -> 2654.49
A29: Kardiologs | B29: 1 | C29: =D29+E29 -> 192 | D29: 96 | E29: 96 | F29: 1708.03 | G29: =F29/167 -> 10.227725 | H29: =ROUND(E29*G29*2,2) -> 1963.72 | I29: =ROUND(H29*1.2359,2) -> 2426.96
A30: Kardiologs | B30: 1 | C30: =D30+E30 -> 64 | D30: 32 | E30: 32 | F30: 1708.03 | G30: =F30/167 -> 10.227725 | H30: =ROUND(E30*G30*2,2) -> 654.57 | I30: =ROUND(H30*1.2359,2) -> 808.98
A31: Kardiologs | B31: 1 | C31: =D31+E31 -> 96 | D31: 48 | E31: 48 | F31: 1708.03 | G31: =F31/167 -> 10.227725 | H31: =ROUND(E31*G31*2,2) -> 981.86 | I31: =ROUND(H31*1.2359,2) -> 1213.48
A32: Kardiologs | B32: 1 | C32: =D32+E32 -> 64 | D32: 32 | E32: 32 | F32: 1708.03 | G32: =F32/167 -> 10.227725 | H32: =ROUND(E32*G32*2,2) -> 654.57 | I32: =ROUND(H32*1.2359,2) -> 808.98
A33: Kardiologs | B33: 1 | C33: =D33+E33 -> 160 | D33: 80 | E33: 80 | F33: 1708.03 | G33: =F33/167 -> 10.227725 | H33: =ROUND(E33*G33*2,2) -> 1636.44 | I33: =ROUND(H33*1.2077,2) -> 1976.33
A34: Ķirurgs | B34: 1 | C34: =D34+E34 -> 240 | D34: 120 | E34: 120 | F34: 1708.03 | G34: =F34/167 -> 10.227725 | H34: =ROUND(E34*G34*2,2) -> 2454.65 | I34: =ROUND(H34*1.2359,2) -> 3033.7
A35: Ķirurgs | B35: 1 | C35: =D35+E35 -> 185 | D35: 92.5 | E35: 92.5 | F35: 1708.03 | G35: =F35/167 -> 10.227725 | H35: =ROUND(E35*G35*2,2) -> 1892.13 | I35: =ROUND(H35*1.2077,2) -> 2285.13
A36: Ķirurgs | B36: 1 | C36: =D36+E36 -> 119 | D36: 59.5 | E36: 59.5 | F36: 1708.03 | G36: =F36/167 -> 10.227725 | H36: =ROUND(E36*G36*2,2) -> 1217.1 | I36: =ROUND(H36*1.2359,2) -> 1504.21
A37: Ķirurgs | B37: 1 | C37: =D37+E37 -> 68 | D37: 34 | E37: 34 | F37: 1708.03 | G37: =F37/167 -> 10.227725 | H37: =ROUND(E37*G37*2,2) -> 695.49 | I37: =ROUND(H37*1.2359,2) -> 859.56
A38: Ķirurgs | B38: 1 | C38: =D38+E38 -> 164 | D38: 82 | E38: 82 | F38: 1708.03 | G38: =F38/167 -> 10.227725 | H38: =ROUND(E38*G38*2,2) -> 1677.35 | I38: =ROUND(H38*1.2359,2) -> 2073.04
A39: Ķirurgs | B39: 1 | C39: =D39+E39 -> 210 | D39: 167 | E39: 43 | F39: 1708.03 | G39: =F39/167 -> 10.227725 | H39: =ROUND(E39*G39*2,2) -> 879.58 | I39: =ROUND(H39*1.2359,2) -> 1087.07
A40: Bērnu ķirurgs | B40: 1 | C40: =D40+E40 -> 178 | D40: 89 | E40: 89 | F40: 1708.03 | G40: =F40/167 -> 10.227725 | H40: =ROUND(E40*G40*2,2) -> 1820.53 | I40: =ROUND(H40*1.2359,2) -> 2249.99
A41: Neatliekamās medicīnas ārsts | B41: 1 | C41: =D41+E41 -> 66 | D41: 33 | E41: 33 | F41: 1708.03 | G41: =F41/167 -> 10.227725 | H41: =ROUND(E41*G41*2,2) -> 675.03 | I41: =ROUND(H41*1.2359,2) -> 834.27
A42: Neatliekamās medicīnas ārsts | B42: 1 | C42: =D42+E42 -> 192 | D42: 167 | E42: 25 | F42: 1708.03 | G42: =F42/167 -> 10.227725 | H42: =ROUND(E42*G42*2,2) -> 511.39 | I42: =ROUND(H42*1.2359,2) -> 632.03
A43: Neirologs | B43: 1 | C43: =D43+E43 -> 176 | D43: 88 | E43: 88 | F43: 1708.03 | G43: =F43/167 -> 10.227725 | H43: =ROUND(E43*G43*2,2) -> 1800.08 | I43: =ROUND(H43*1.2359,2) -> 2224.72
A44: Neirologs | B44: 1 | C44: =D44+E44 -> 178 | D44: 89 | E44: 89 | F44: 1708.03 | G44: =F44/167 -> 10.227725 | H44: =ROUND(E44*G44*2,2) -> 1820.53 | I44: =ROUND(H44*1.2359,2) -> 2249.99
A45: Neirologs | B45: 1 | C45: =D45+E45 -> 96 | D45: 48 | E45: 48 | F45: 1708.03 | G45: =F45/167 -> 10.227725 | H45: =ROUND(E45*G45*2,2) -> 981.86 | I45: =ROUND(H45*1.2077,2) -> 1185.79
A46: Neirologs | B46: 1 | C46: =D46+E46 -> 208 | D46: 104 | E46: 104 | F46: 1708.03 | G46: =F46/167 -> 10.227725 | H46: =ROUND(E46*G46*2,2) -> 2127.37 | I46: =ROUND(H46*1.2359,2) -> 2629.22
A47: Pediatrs | B47: 1 | C47: =D47+E47 -> 129 | D47: 128 | E47: 1 | F47: 1708.03 | G47: =F47/167 -> 10.227725 | H47: =ROUND(E47*G47*2,2) -> 20.46 | I47: =ROUND(H47*1.2077,2) -> 24.71
A48: Pediatrs | B48: 1 | C48: =D48+E48 -> 224 | D48: 167 | E48: 57 | F48: 1708.03 | G48: =F48/167 -> 10.227725 | H48: =ROUND(E48*G48*2,2) -> 1165.96 | I48: =ROUND(H48*1.2359,2) -> 1441.01
A49: Pediatrs | B49: 1 | C49: =D49+E49 -> 80 | D49: 40 | E49: 40 | F49: 1708.03 | G49: =F49/167 -> 10.227725 | H49: =ROUND(E49*G49*2,2) -> 818.22 | I49: =ROUND(H49*1.2359,2) -> 1011.24
A50: Pediatrs | B50: 1 | C50: =D50+E50 -> 168 | D50: 104 | E50: 64 | F50: 1708.03 | G50: =F50/167 -> 10.227725 | H50: =ROUND(E50*G50*2,2) -> 1309.15 | I50: =ROUND(H50*1.2359,2) -> 1617.98
A51: Pediatrs | B51: 1 | C51: =D51+E51 -> 168 | D51: 104 | E51: 64 | F51: 1708.03 | G51: =F51/167 -> 10.227725 | H51: =ROUND(E51*G51*2,2) -> 1309.15 | I51: =ROUND(H51*1.2359,2) -> 1617.98
A52: Rezidents (dežūras) | B52: 1 | C52: =D52+E52 -> 186 | D52: 93 | E52: 93 | F52: 1708.03 | G52: =F52/167 -> 10.227725 | H52: =ROUND(E52*G52*2,2) -> 1902.36 | I52: =ROUND(H52*1.2359,2) -> 2351.13
A53: Neatliekamās medicīnas ārsts | B53: 1 | C53: =D53+E53 -> 196 | D53: 98 | E53: 98 | F53: 1708.03 | G53: =F53/167 -> 10.227725 | H53: =ROUND(E53*G53*2,2) -> 2004.63 | I53: =ROUND(H53*1.2359,2) -> 2477.52
A54: Traumatologs un ortopēds | B54: 1 | C54: =D54+E54 -> 144 | D54: 72 | E54: 72 | F54: 1708.03 | G54: =F54/167 -> 10.227725 | H54: =ROUND(E54*G54*2,2) -> 1472.79 | I54: =ROUND(H54*1.2359,2) -> 1820.22
A55: Traumatologs un ortopēds | B55: 1 | C55: =D55+E55 -> 147 | D55: 73.5 | E55: 73.5 | F55: 1708.03 | G55: =F55/167 -> 10.227725 | H55: =ROUND(E55*G55*2,2) -> 1503.48 | I55: =ROUND(H55*1.2359,2) -> 1858.15
A56: Traumatologs un ortopēds | B56: 1 | C56: =D56+E56 -> 176 | D56: 88 | E56: 88 | F56: 1708.03 | G56: =F56/167 -> 10.227725 | H56: =ROUND(E56*G56*2,2) -> 1800.08 | I56: =ROUND(H56*1.2359,2) -> 2224.72
A57: Traumatologs un ortopēds | B57: 1 | C57: =D57+E57 -> 34 | D57: 17 | E57: 17 | F57: 1708.03 | G57: =F57/167 -> 10.227725 | H57: =ROUND(E57*G57*2,2) -> 347.74 | I57: =ROUND(H57*1.2359,2) -> 429.77
A58: Radiologs diagnosts | B58: 1 | C58: =D58+E58 -> 102 | D58: 56 | E58: 46 | F58: 1707.37 | G58: =F58/146 -> 11.694315 | H58: =ROUND(E58*G58*2,2) -> 1075.88 | I58: =ROUND(H58*1.2359,2) -> 1329.68
A59: Radiologs diagnosts | B59: 1 | C59: =D59+E59 -> 74 | D59: 48 | E59: 26 | F59: 1707.37 | G59: =F59/146 -> 11.694315 | H59: =ROUND(E59*G59*2,2) -> 608.1 | I59: =ROUND(H59*1.2359,2) -> 751.55
A60: Ārstniecības un pacientu aprūpes personas un funkcionālo speciālistu asistenti, kopā, tai skaitā: | B60: =SUM(B61:B101) -> 41 | E60: =SUM(E61:E101) -> 1796.5 | H60: =SUM(H61:H101) -> 24129.07 | I60: =SUM(I61:I101) -> 29821.12
A61: Ārsta palīgs | B61: 1 | C61: =D61+E61 -> 120 | D61: 80 | E61: 40 | F61: 1360.47 | G61: =F61/167 -> 8.1465269 | H61: =ROUND(E61*G61*2,2) -> 651.72 | I61: =ROUND(H61*1.2359,2) -> 805.46
A62: Ārsta palīgs | B62: 1 | C62: =D62+E62 -> 167 | D62: 127 | E62: 40 | F62: 1062.55 | G62: =F62/167 -> 6.3625749 | H62: =ROUND(E62*G62*2,2) -> 509.01 | I62: =ROUND(H62*1.2359,2) -> 629.09
A63: Ārsta palīgs | B63: 1 | C63: =D63+E63 -> 228 | D63: 167 | E63: 61 | F63: 1360.47 | G63: =F63/167 -> 8.1465269 | H63: =ROUND(E63*G63*2,2) -> 993.88 | I63: =ROUND(H63*1.2359,2) -> 1228.34
A64: Ārsta palīgs | B64: 1 | C64: =D64+E64 -> 144 | D64: 88 | E64: 56 | F64: 1062.55 | G64: =F64/167 -> 6.3625749 | H64: =ROUND(E64*G64*2,2) -> 712.61 | I64: =ROUND(H64*1.2359,2) -> 880.71
A65: Ārsta palīgs | B65: 1 | C65: =D65+E65 -> 128 | D65: 87 | E65: 41 | F65: 1360.47 | G65: =F65/167 -> 8.1465269 | H65: =ROUND(E65*G65*2,2) -> 668.02 | I65: =ROUND(H65*1.2359,2) -> 825.61
A66: Ārsta palīgs (vecākais) | B66: 1 | C66: =D66+E66 -> 232 | D66: 167 | E66: 65 | F66: 1598.79 | G66: =F66/167 -> 9.5735928 | H66: =ROUND(E66*G66*2,2) -> 1244.57 | I66: =ROUND(H66*1.2359,2) -> 1538.16
A67: Ārsta palīgs | B67: 1 | C67: =D67+E67 -> 96 | D67: 87 | E67: 9 | F67: 1360.47 | G67: =F67/167 -> 8.1465269 | H67: =ROUND(E67*G67*2,2) -> 146.64 | I67: =ROUND(H67*1.2359,2) -> 181.23
A68: Ārsta palīgs | B68: 1 | C68: =D68+E68 -> 156 | D68: 135 | E68: 21 | F68: 1360.47 | G68: =F68/167 -> 8.1465269 | H68: =ROUND(E68*G68*2,2) -> 342.15 | I68: =ROUND(H68*1.2359,2) -> 422.86
A69: Ārsta palīgs | B69: 1 | C69: =D69+E69 -> 144 | D69: 103 | E69: 41 | F69: 1360.47 | G69: =F69/167 -> 8.1465269 | H69: =ROUND(E69*G69*2,2) -> 668.02 | I69: =ROUND(H69*1.2359,2) -> 825.61
A70: Ārsta palīgs | B70: 1 | C70: =D70+E70 -> 144 | D70: 103 | E70: 41 | F70: 1062.55 | G70: =F70/167 -> 6.3625749 | H70: =ROUND(E70*G70*2,2) -> 521.73 | I70: =ROUND(H70*1.2359,2) -> 644.81
A71: Ārsta palīgs | B71: 1 | C71: =D71+E71 -> 157 | D71: 119 | E71: 38 | F71: 1062.55 | G71: =F71/167 -> 6.3625749 | H71: =ROUND(E71*G71*2,2) -> 483.56 | I71: =ROUND(H71*1.2359,2) -> 597.63
A72: Ārsta palīgs | B72: 1 | C72: =D72+E72 -> 188 | D72: 167 | E72: 21 | F72: 1062.55 | G72: =F72/167 -> 6.3625749 | H72: =ROUND(E72*G72*2,2) -> 267.23 | I72: =ROUND(H72*1.2359,2) -> 330.27
... A101: Vispārējās aprūpes māsa | B101: 1 | C101: =D101+E101 -> 204 | D101: 167 | E101: 37 | F101: 1062.55 | G101: =F101/167 -> 6.3625749 | H101: =ROUND(E101*G101*2,2) -> 470.83 | I101: =ROUND(H101*1.2359,2) -> 581.9
A102: Ārstniecības un pacientu aprūpes atbalsta personas, māsu palīgi, zobārstu asistenti, kopā, tai skaitā: | B102: =SUM(B103:B117) -> 15 | E102: =SUM(E103:E117) -> 681 | H102: =SUM(H103:H117) -> 6319.56 | I102: =SUM(I103:I117) -> 7794.39
A103: Māsas palīgs | B103: 1 | C103: =D103+E103 -> 220 | D103: 167 | E103: 53 | F103: 774.58 | G103: =F103/167 -> 4.6382036 | H103: =ROUND(E103*G103*2,2) -> 491.65 | I103: =ROUND(H103*1.2359,2) -> 607.63
A104: Māsas palīgs | B104: 1 | C104: =D104+E104 -> 200 | D104: 167 | E104: 33 | F104: 774.58 | G104: =F104/167 -> 4.6382036 | H104: =ROUND(E104*G104*2,2) -> 306.12 | I104: =ROUND(H104*1.2359,2) -> 378.33
A105: Māsas palīgs | B105: 1 | C105: =D105+E105 -> 203 | D105: 167 | E105: 36 | F105: 780 | G105: =F105/167 -> 4.6706587 | H105: =ROUND(E105*G105*2,2) -> 336.29 | I105: =ROUND(H105*1.2359,2) -> 415.62
A106: Māsas palīgs | B106: 1 | C106: =D106+E106 -> 208 | D106: 167 | E106: 41 | F106: 774.58 | G106: =F106/167 -> 4.6382036 | H106: =ROUND(E106*G106*2,2) -> 380.33 | I106: =ROUND(H106*1.2359,2) -> 470.05
A107: Māsas palīgs | B107: 1 | C107: =D107+E107 -> 204 | D107: 167 | E107: 37 | F107: 774.58 | G107: =F107/167 -> 4.6382036 | H107: =ROUND(E107*G107*2,2) -> 343.23 | I107: =ROUND(H107*1.2359,2) -> 424.2
A108: Māsas palīgs | B108: 1 | C108: =D108+E108 -> 144 | D108: 72 | E108: 72 | F108: 774.58 | G108: =F108/167 -> 4.6382036 | H108: =ROUND(E108*G108*2,2) -> 667.9 | I108: =ROUND(H108*1.2359,2) -> 825.46
A109: Māsas palīgs | B109: 1 | C109: =D109+E109 -> 228 | D109: 167 | E109: 61 | F109: 774.58 | G109: =F109/167 -> 4.6382036 | H109: =ROUND(E109*G109*2,2) -> 565.86 | I109: =ROUND(H109*1.2077,2) -> 683.39
A110: Māsas palīgs | B110: 1 | C110: =D110+E110 -> 216 | D110: 167 | E110: 49 | F110: 774.58 | G110: =F110/167 -> 4.6382036 | H110: =ROUND(E110*G110*2,2) -> 454.54 | I110: =ROUND(H110*1.2359,2) -> 561.77
A111: Māsas palīgs | B111: 1 | C111: =D111+E111 -> 200 | D111: 167 | E111: 33 | F111: 774.58 | G111: =F111/167 -> 4.6382036 | H111: =ROUND(E111*G111*2,2) -> 306.12 | I111: =ROUND(H111*1.2359,2) -> 378.33
A112: Māsas palīgs | B112: 1 | C112: =D112+E112 -> 216 | D112: 167 | E112: 49 | F112: 774.58 | G112: =F112/167 -> 4.6382036 | H112: =ROUND(E112*G112*2,2) -> 454.54 | I112: =ROUND(H112*1.2359,2) -> 561.77
A113: Māsas palīgs | B113: 1 | C113: =D113+E113 -> 208 | D113: 167 | E113: 41 | F113: 774.58 | G113: =F113/167 -> 4.6382036 | H113: =ROUND(E113*G113*2,2) -> 380.33 | I113: =ROUND(H113*1.2359,2) -> 470.05
A114: Māsas palīgs | B114: 1 | C114: =D114+E114 -> 192 | D114: 143 | E114: 49 | F114: 774.58 | G114: =F114/167 -> 4.6382036 | H114: =ROUND(E114*G114*2,2) -> 454.54 | I114: =ROUND(H114*1.2359,2) -> 561.77
A115: Māsas palīgs | B115: 1 | C115: =D115+E115 -> 224 | D115: 167 | E115: 57 | F115: 774.58 | G115: =F115/167 -> 4.6382036 | H115: =ROUND(E115*G115*2,2) -> 528.76 | I115: =ROUND(H115*1.2359,2) -> 653.49
A116: Māsas palīgs | B116: 1 | C116: =D116+E116 -> 200 | D116: 167 | E116: 33 | F116: 774.58 | G116: =F116/167 -> 4.6382036 | H116: =ROUND(E116*G116*2,2) -> 306.12 | I116: =ROUND(H116*1.2359,2) -> 378.33
A117: Māsas palīgs | B117: 1 | C117: =D117+E117 -> 204 | D117: 167 | E117: 37 | F117: 774.58 | G117: =F117/167 -> 4.6382036 | H117: =ROUND(E117*G117*2,2) -> 343.23 | I117: =ROUND(H117*1.2359,2) -> 424.2
A118: "Plaušu slimību un tuberkulozes centrs " Uzņemšanas nodaļa, Covid 19 nodaļa | B118: =B119+B123+B125 -> 6 | E118: =E119+E123+E125 -> 278 | H118: =H119+H123+H125 -> 6047.87 | I118: =I119+I123+I125 -> 7474.57
A119: Ārsti, zobārsti un funkcionālie speciālisti, kopā, tai skaitā: | B119: =SUM(B120:B122) -> 3 | E119: =SUM(E120:E122) -> 240 | H119: =SUM(H120:H122) -> 5613.28 | I119: =SUM(I120:I122) -> 6937.46
A120: Kardiologs | B120: 1 | C120: =D120+E120 -> 48 | D120: 32 | E120: 16 | F120: 1707.37 | G120: =F120/146 -> 11.694315 | H120: =ROUND(E120*G120*2,2) -> 374.22 | I120: =ROUND(H120*1.2359,2) -> 462.5
A121: Internists | B121: 1 | C121: =D121+E121 -> 224 | D121: 112 | E121: 112 | F121: 1707.37 | G121: =F121/146 -> 11.694315 | H121: =ROUND(E121*G121*2,2) -> 2619.53 | I121: =ROUND(H121*1.2359,2) -> 3237.48
A122: Infektologs | B122: 1 | C122: =D122+E122 -> 224 | D122: 112 | E122: 112 | F122: 1707.37 | G122: =F122/146 -> 11.694315 | H122: =ROUND(E122*G122*2,2) -> 2619.53 | I122: =ROUND(H122*1.2359,2) -> 3237.48
A123: Ārstniecības un pacientu aprūpes personas un funkcionālo speciālistu asistenti, kopā, tai skaitā: | B123: =SUM(B124:B124) -> 1 | E123: =SUM(E124:E124) -> 8 | H123: =SUM(H124:H124) -> 116.4 | I123: =SUM(I124:I124) -> 143.86
A124: Vispārējās aprūpes māsa | B124: 1 | C124: =D124+E124 -> 154 | D124: 146 | E124: 8 | F124: 1062.15 | G124: =F124/146 -> 7.275 | H124: =ROUND(E124*G124*2,2) -> 116.4 | I124: =ROUND(H124*1.2359,2) -> 143.86
A125: Ārstniecības un pacientu aprūpes atbalsta personas, māsu palīgi, zobārstu asistenti, kopā, tai skaitā: | B125: =SUM(B126:B127) -> 2 | E125: =SUM(E126:E127) -> 30 | H125: =SUM(H126:H127) -> 318.19 | I125: =SUM(I126:I127) -> 393.25
A126: Māsas palīgs | B126: 1 | C126: =D126+E126 -> 170 | D126: 146 | E126: 24 | F126: 774.27 | G126: =F126/146 -> 5.3032192 | H126: =ROUND(E126*G126*2,2) -> 254.55 | I126: =ROUND(H126*1.2359,2) -> 314.6
A127: Māsas palīgs | B127: 1 | C127: =D127+E127 -> 54 | D127: 48 | E127: 6 | F127: 774.27 | G127: =F127/146 -> 5.3032192 | H127: =ROUND(E127*G127*2,2) -> 63.64 | I127: =ROUND(H127*1.2359,2) -> 78.65
A128: Plānveida īslaicīgās ārstēšanas nodaļa - pārprofilēta Covid-19 nodaļa | B128: =B129+B131+B141 -> 16 | E128: =E129+E131+E141 -> 223 | H128: =H129+H131+H141 -> 3035.69 | I128: =I129+I131+I141 -> 3751.8
A129: Ārsti, zobārsti un funkcionālie speciālisti, kopā, tai skaitā: | B129: =SUM(B130:B130) -> 1 | E129: =SUM(E130:E130) -> 32 | H129: =SUM(H130:H130) -> 679.06 | I129: =SUM(I130:I130) -> 839.25
A130: Pediatrs | B130: 1 | C130: =D130+E130 -> 64 | D130: 32 | E130: 32 | F130: 1771.93 | G130: =F130/167 -> 10.610359 | H130: =ROUND(E130*G130*2,2) -> 679.06 | I130: =ROUND(H130*1.2359,2) -> 839.25
A131: Ārstniecības un pacientu aprūpes personas un funkcionālo speciālistu asistenti, kopā, tai skaitā: | B131: =SUM(B132:B140) -> 9 | E131: =SUM(E132:E140) -> 97 | H131: =SUM(H132:H140) -> 1385.17 | I131: =SUM(I132:I140) -> 1711.93
...

Sheet Daugavpils_reģ_dec
H1: Pielikums Nr.4
A2: Pārskats par darba veicējiem (ārstniecības personām), virs normālā darba laika nostrādātām stundām, apmaksājamām stundām un izdevumiem, kas radušies saistībā ar mērķi ierobežot Covid-19 izplatību
A4: Iestādes nosaukums: SIA "Daugavpils reģionālā slimnīca"
A5: Pārskata mēnesis: Decembris
B7: Nodarbināto skaits mēnesī | C7: Apmaksājamais laiks mēnesī, stundas (tai skaitā summētā darba laika ietvaros) | F7: Mēnešalga no kuras rēķina stundas likmi | G7: Stundas likme (aprēķināta atbilstoši mēnešalgai vai darba līgumā noteiktā stundas likme) | H7: Apmaksājamā 100% piemaksa par nostrādātām virsstundām virs normālā darba laika (tai skaitā summētā darba laika ietvaros) | I7: Izdevumi par virsstundām kopā ar VSOAI, EUR
C8: Kopā | D8: līdz normālam darba laikam | E8: virsstundas - virs normālā darba laika, kas saistītas ar darbu ar Covid-19
A10: 1 | B10: 2 | C10: 3=4+5 | D10: 4 | E10: 5 | F10: 6 | G10: 7 | H10: 8 | I10: 9=8 + VSOAI
A11: KOPĀ | B11: =B12+B126+B140+B155 -> 149 | E11: =E12+E126+E140+E155 -> 6379 | H11: =H12+H126+H140+H155 -> 110205.48 | I11: =I12+I126+I140+I155 -> 136027.4
A12: Centrālā slimnīca "Uzņemšanas nodaļa" | B12: =B13+B65+B110 -> 110 | E12: =E13+E65+E110 -> 5355 | H12: =H13+H65+H110 -> 91603.58 | I12: =I13+I65+I110 -> 113048.96
A13: Ārsti, zobārsti un funkcionālie speciālisti, kopā, tai skaitā: | B13: =SUM(B14:B64) -> 51 | E13: =SUM(E14:E64) -> 2919 | H13: =SUM(H14:H64) -> 61360.13 | I13: =SUM(I14:I64) -> 75687.57
A14: Internists - klīnikas vadītājs | B14: 1 | C14: =D14+E14 -> 265 | D14: 166 | E14: 99 | F14: 2961.29 | G14: =F14/166 -> 17.839096 | H14: =ROUND(E14*G14*2,2) -> 3532.14 | I14: =ROUND(H14*1.2359,2) -> 4365.37
A15: Anesteziologs un reanimatologs | B15: 1 | C15: =D15+E15 -> 168 | D15: 166 | E15: 2 | F15: 1697.8 | G15: =F15/166 -> 10.227711 | H15: =ROUND(E15*G15*2,2) -> 40.91 | I15: =ROUND(H15*1.2359,2) -> 50.56
A16: Anesteziologs un reanimatologs | B16: 1 | C16: =D16+E16 -> 240 | D16: 166 | E16: 74 | F16: 1697.8 | G16: =F16/166 -> 10.227711 | H16: =ROUND(E16*G16*2,2) -> 1513.7 | I16: =ROUND(H16*1.2359,2) -> 1870.78
A17: Anesteziologs un reanimatologs | B17: 1 | C17: =D17+E17 -> 90 | D17: 88 | E17: 2 | F17: 1697.8 | G17: =F17/166 -> 10.227711 | H17: =ROUND(E17*G17*2,2) -> 40.91 | I17: =ROUND(H17*1.2077,2) -> 49.41
A18: Anesteziologs un reanimatologs | B18: 1 | C18: =D18+E18 -> 64 | D18: 32 | E18: 32 | F18: 1697.8 | G18: =F18/166 -> 10.227711 | H18: =ROUND(E18*G18*2,2) -> 654.57 | I18: =ROUND(H18*1.2077,2) -> 790.52
A19: Anesteziologs un reanimatologs | B19: 1 | C19: =D19+E19 -> 216 | D19: 166 | E19: 50 | F19: 1697.8 | G19: =F19/166 -> 10.227711 | H19: =ROUND(E19*G19*2,2) -> 1022.77 | I19: =ROUND(H19*1.2359,2) -> 1264.04
A20: Anesteziologs un reanimatologs | B20: 1 | C20: =D20+E20 -> 129 | D20: 40 | E20: 89 | F20: 1697.8 | G20: =F20/166 -> 10.227711 | H20: =ROUND(E20*G20*2,2) -> 1820.53 | I20: =ROUND(H20*1.2359,2) -> 2249.99
A21: Anesteziologs un reanimatologs | B21: 1 | C21: =D21+E21 -> 32 | D21: 16 | E21: 16 | F21: 1697.8 | G21: =F21/166 -> 10.227711 | H21: =ROUND(E21*G21*2,2) -> 327.29 | I21: =ROUND(H21*1.2359,2) -> 404.5
A22: Anesteziologs un reanimatologs | B22: 1 | C22: =D22+E22 -> 128 | D22: 64 | E22: 64 | F22: 1697.8 | G22: =F22/166 -> 10.227711 | H22: =ROUND(E22*G22*2,2) -> 1309.15 | I22: =ROUND(H22*1.2359,2) -> 1617.98
A23: Ārsts | B23: 1 | C23: =D23+E23 -> 168 | D23: 142 | E23: 26 | F23: 1697.8 | G23: =F23/166 -> 10.227711 | H23: =ROUND(E23*G23*2,2) -> 531.84 | I23: =ROUND(H23*1.2077,2) -> 642.3
A24: Ārsts | B24: 1 | C24: =D24+E24 -> 232 | D24: 166 | E24: 66 | F24: 1697.8 | G24: =F24/166 -> 10.227711 | H24: =ROUND(E24*G24*2,2) -> 1350.06 | I24: =ROUND(H24*1.2359,2) -> 1668.54
A25: Ārsts stažieris | B25: 1 | C25: =D25+E25 -> 25 | D25: 24 | E25: 1 | F25: 1697.8 | G25: =F25/166 -> 10.227711 | H25: =ROUND(E25*G25*2,2) -> 20.46 | I25: =ROUND(H25*1.2359,2) -> 25.29
A26: Ginekologs, dzemdību speciālists | B26: 1 | C26: =D26+E26 -> 106 | D26: 72 | E26: 34 | F26: 1697.8 | G26: =F26/166 -> 10.227711 | H26: =ROUND(E26*G26*2,2) -> 695.48 | I26: =ROUND(H26*1.2077,2) -> 839.93
A27: Ginekologs, dzemdību speciālists | B27: 1 | C27: =D27+E27 -> 48 | D27: 24 | E27: 24 | F27: 1697.8 | G27: =F27/166 -> 10.227711 | H27: =ROUND(E27*G27*2,2) -> 490.93 | I27: =ROUND(H27*1.2359,2) -> 606.74
A28: Ginekologs, dzemdību speciālists | B28: 1 | C28: =D28+E28 -> 65 | D28: 48 | E28: 17 | F28: 1697.8 | G28: =F28/166 -> 10.227711 | H28: =ROUND(E28*G28*2,2) -> 347.74 | I28: =ROUND(H28*1.2359,2) -> 429.77
A29: Ginekologs, dzemdību speciālists | B29: 1 | C29: =D29+E29 -> 32 | D29: 16 | E29: 16 | F29: 1697.8 | G29: =F29/166 -> 10.227711 | H29: =ROUND(E29*G29*2,2) -> 327.29 | I29: =ROUND(H29*1.2359,2) -> 404.5
A30: Internists | B30: 1 | C30: =D30+E30 -> 79 | D30: 56 | E30: 23 | F30: 1697.8 | G30: =F30/166 -> 10.227711 | H30: =ROUND(E30*G30*2,2) -> 470.47 | I30: =ROUND(H30*1.2359,2) -> 581.45
A31: Internists | B31: 1 | C31: =D31+E31 -> 316 | D31: 158 | E31: 158 | F31: 1697.8 | G31: =F31/166 -> 10.227711 | H31: =ROUND(E31*G31*2,2) -> 3231.96 | I31: =ROUND(H31*1.2359,2) -> 3994.38
A32: Internists | B32: 1 | C32: =D32+E32 -> 96 | D32: 48 | E32: 48 | F32: 1697.8 | G32: =F32/166 -> 10.227711 | H32: =ROUND(E32*G32*2,2) -> 981.86 | I32: =ROUND(H32*1.2359,2) -> 1213.48
A33: Kardiologs | B33: 1 | C33: =D33+E33 -> 176 | D33: 88 | E33: 88 | F33: 1697.8 | G33: =F33/166 -> 10.227711 | H33: =ROUND(E33*G33*2,2) -> 1800.08 | I33: =ROUND(H33*1.2359,2) -> 2224.72
A34: Kardiologs | B34: 1 | C34: =D34+E34 -> 192 | D34: 96 | E34: 96 | F34: 1697.8 | G34: =F34/166 -> 10.227711 | H34: =ROUND(E34*G34*2,2) -> 1963.72 | I34: =ROUND(H34*1.2359,2) -> 2426.96
A35: Kardiologs | B35: 1 | C35: =D35+E35 -> 96 | D35: 48 | E35: 48 | F35: 1697.8 | G35: =F35/166 -> 10.227711 | H35: =ROUND(E35*G35*2,2) -> 981.86 | I35: =ROUND(H35*1.2359,2) -> 1213.48
A36: Kardiologs | B36: 1 | C36: =D36+E36 -> 48 | D36: 24 | E36: 24 | F36: 1697.8 | G36: =F36/166 -> 10.227711 | H36: =ROUND(E36*G36*2,2) -> 490.93 | I36: =ROUND(H36*1.2359,2) -> 606.74
A37: Kardiologs | B37: 1 | C37: =D37+E37 -> 64 | D37: 32 | E37: 32 | F37: 1697.8 | G37: =F37/166 -> 10.227711 | H37: =ROUND(E37*G37*2,2) -> 654.57 | I37: =ROUND(H37*1.2359,2) -> 808.98
A38: Kardiologs | B38: 1 | C38: =D38+E38 -> 112 | D38: 56 | E38: 56 | F38: 1697.8 | G38: =F38/166 -> 10.227711 | H38: =ROUND(E38*G38*2,2) -> 1145.5 | I38: =ROUND(H38*1.2077,2) -> 1383.42
A39: Ķirurgs | B39: 1 | C39: =D39+E39 -> 320 | D39: 160 | E39: 160 | F39: 1697.8 | G39: =F39/166 -> 10.227711 | H39: =ROUND(E39*G39*2,2) -> 3272.87 | I39: =ROUND(H39*1.2359,2) -> 4044.94
A40: Ķirurgs | B40: 1 | C40: =D40+E40 -> 179 | D40: 89.5 | E40: 89.5 | F40: 1697.8 | G40: =F40/166 -> 10.227711 | H40: =ROUND(E40*G40*2,2) -> 1830.76 | I40: =ROUND(H40*1.2077,2) -> 2211.01
A41: Ķirurgs | B41: 1 | C41: =D41+E41 -> 148 | D41: 74 | E41: 74 | F41: 1697.8 | G41: =F41/166 -> 10.227711 | H41: =ROUND(E41*G41*2,2) -> 1513.7 | I41: =ROUND(H41*1.2359,2) -> 1870.78
A42: Ķirurgs | B42: 1 | C42: =D42+E42 -> 68 | D42: 34 | E42: 34 | F42: 1697.8 | G42: =F42/166 -> 10.227711 | H42: =ROUND(E42*G42*2,2) -> 695.48 | I42: =ROUND(H42*1.2359,2) -> 859.54
A43: Ķirurgs | B43: 1 | C43: =D43+E43 -> 96 | D43: 48 | E43: 48 | F43: 1697.8 | G43: =F43/166 -> 10.227711 | H43: =ROUND(E43*G43*2,2) -> 981.86 | I43: =ROUND(H43*1.2359,2) -> 1213.48
A44: Ķirurgs | B44: 1 | C44: =D44+E44 -> 248.5 | D44: 166 | E44: 82.5 | F44: 1697.8 | G44: =F44/166 -> 10.227711 | H44: =ROUND(E44*G44*2,2) -> 1687.57 | I44: =ROUND(H44*1.2359,2) -> 2085.67
A45: Bērnu ķirurgs | B45: 1 | C45: =D45+E45 -> 208 | D45: 104 | E45: 104 | F45: 1697.8 | G45: =F45/166 -> 10.227711 | H45: =ROUND(E45*G45*2,2) -> 2127.36 | I45: =ROUND(H45*1.2359,2) -> 2629.2
A46: Neatliekamās medicīnas ārsts | B46: 1 | C46: =D46+E46 -> 64 | D46: 32 | E46: 32 | F46: 1697.8 | G46: =F46/166 -> 10.227711 | H46: =ROUND(E46*G46*2,2) -> 654.57 | I46: =ROUND(H46*1.2359,2) -> 808.98
A47: Neatliekamās medicīnas ārsts | B47: 1 | C47: =D47+E47 -> 192 | D47: 166 | E47: 26 | F47: 1697.8 | G47: =F47/166 -> 10.227711 | H47: =ROUND(E47*G47*2,2) -> 531.84 | I47: =ROUND(H47*1.2359,2) -> 657.3
A48: Neatliekamās medicīnas ārsts | B48: 1 | C48: =D48+E48 -> 193.5 | D48: 166 | E48: 27.5 | F48: 1697.8 | G48: =F48/166 -> 10.227711 | H48: =ROUND(E48*G48*2,2) -> 562.52 | I48: =ROUND(H48*1.2359,2) -> 695.22
A49: Neatliekamās medicīnas ārsts | B49: 1 | C49: =D49+E49 -> 111 | D49: 94.5 | E49: 16.5 | F49: 1697.8 | G49: =F49/166 -> 10.227711 | H49: =ROUND(E49*G49*2,2) -> 337.51 | I49: =ROUND(H49*1.2359,2) -> 417.13
A50: Neirologs | B50: 1 | C50: =D50+E50 -> 288 | D50: 144 | E50: 144 | F50: 1697.8 | G50: =F50/166 -> 10.227711 | H50: =ROUND(E50*G50*2,2) -> 2945.58 | I50: =ROUND(H50*1.2359,2) -> 3640.44
A51: Neirologs | B51: 1 | C51: =D51+E51 -> 240 | D51: 120 | E51: 120 | F51: 1697.8 | G51: =F51/166 -> 10.227711 | H51: =ROUND(E51*G51*2,2) -> 2454.65 | I51: =ROUND(H51*1.2359,2) -> 3033.7
A52: Neirologs | B52: 1 | C52: =D52+E52 -> 272 | D52: 136 | E52: 136 | F52: 1697.8 | G52: =F52/166 -> 10.227711 | H52: =ROUND(E52*G52*2,2) -> 2781.94 | I52: =ROUND(H52*1.2359,2) -> 3438.2
A53: Pediatrs | B53: 1 | C53: =D53+E53 -> 136 | D53: 120 | E53: 16 | F53: 1697.8 | G53: =F53/166 -> 10.227711 | H53: =ROUND(E53*G53*2,2) -> 327.29 | I53: =ROUND(H53*1.2077,2) -> 395.27
A54: Pediatrs | B54: 1 | C54: =D54+E54 -> 156 | D54: 128 | E54: 28 | F54: 1697.8 | G54: =F54/166 -> 10.227711 | H54: =ROUND(E54*G54*2,2) -> 572.75 | I54: =ROUND(H54*1.2359,2) -> 707.86
A55: Pediatrs | B55: 1 | C55: =D55+E55 -> 152 | D55: 88 | E55: 64 | F55: 1697.8 | G55: =F55/166 -> 10.227711 | H55: =ROUND(E55*G55*2,2) -> 1309.15 | I55: =ROUND(H55*1.2359,2) -> 1617.98
A56: Pediatrs | B56: 1 | C56: =D56+E56 -> 214 | D56: 122 | E56: 92 | F56: 1697.8 | G56: =F56/166 -> 10.227711 | H56: =ROUND(E56*G56*2,2) -> 1881.9 | I56: =ROUND(H56*1.2359,2) -> 2325.84
A57: Rezidents (dežūras) | B57: 1 | C57: =D57+E57 -> 12 | D57: 6 | E57: 6 | F57: 1697.8 | G57: =F57/166 -> 10.227711 | H57: =ROUND(E57*G57*2,2) -> 122.73 | I57: =ROUND(H57*1.2359,2) -> 151.68
A58: Rezidents (dežūras) | B58: 1 | C58: =D58+E58 -> 140 | D58: 70 | E58: 70 | F58: 1697.8 | G58: =F58/166 -> 10.227711 | H58: =ROUND(E58*G58*2,2) -> 1431.88 | I58: =ROUND(H58*1.2359,2) -> 1769.66
A59: Traumatologs un ortopēds | B59: 1 | C59: =D59+E59 -> 224 | D59: 112 | E59: 112 | F59: 1697.8 | G59: =F59/166 -> 10.227711 | H59: =ROUND(E59*G59*2,2) -> 2291.01 | I59: =ROUND(H59*1.2359,2) -> 2831.46
A60: Traumatologs un ortopēds | B60: 1 | C60: =D60+E60 -> 164 | D60: 82 | E60: 82 | F60: 1697.8 | G60: =F60/166 -> 10.227711 | H60: =ROUND(E60*G60*2,2) -> 1677.34 | I60: =ROUND(H60*1.2359,2) -> 2073.02
A61: Traumatologs un ortopēds | B61: 1 | C61: =D61+E61 -> 210 | D61: 105 | E61: 105 | F61: 1697.8 | G61: =F61/166 -> 10.227711 | H61: =ROUND(E61*G61*2,2) -> 2147.82 | I61: =ROUND(H61*1.2359,2) -> 2654.49
A62: Traumatologs un ortopēds | B62: 1 | C62: =D62+E62 -> 32 | D62: 16 | E62: 16 | F62: 1697.8 | G62: =F62/166 -> 10.227711 | H62: =ROUND(E62*G62*2,2) -> 327.29 | I62: =ROUND(H62*1.2359,2) -> 404.5
A63: Radiologs diagnosts | B63: 1 | C63: =D63+E63 -> 87 | D63: 48 | E63: 39 | F63: 1695.67 | G63: =F63/145 -> 11.694276 | H63: =ROUND(E63*G63*2,2) -> 912.15 | I63: =ROUND(H63*1.2359,2) -> 1127.33
A64: Radiologs diagnosts | B64: 1 | C64: =D64+E64 -> 26 | D64: 16 | E64: 10 | F64: 1695.67 | G64: =F64/145 -> 11.694276 | H64: =ROUND(E64*G64*2,2) -> 233.89 | I64: =ROUND(H64*1.2359,2) -> 289.06
A65: Ārstniecības un pacientu aprūpes personas un funkcionālo speciālistu asistenti, kopā, tai skaitā: | B65: =SUM(B66:B109) -> 44 | E65: =SUM(E66:E109) -> 1755 | H65: =SUM(H66:H109) -> 23921.88 | I65: =SUM(I66:I109) -> 29564.51
A66: Ārsta palīgs | B66: 1 | C66: =D66+E66 -> 130 | D66: 128 | E66: 2 | F66: 1352.32 | G66: =F66/166 -> 8.146506 | H66: =ROUND(E66*G66*2,2) -> 32.59 | I66: =ROUND(H66*1.2194,2) -> 39.74
A67: Ārsta palīgs | B67: 1 | C67: =D67+E67 -> 138 | D67: 136 | E67: 2 | F67: 1036.45 | G67: =F67/166 -> 6.2436747 | H67: =ROUND(E67*G67*2,2) -> 24.97 | I67: =ROUND(H67*1.2359,2) -> 30.86
A68: Ārsta palīgs - klīnikas vadītaja vietnieks | B68: 1 | C68: =D68+E68 -> 159 | D68: 94 | E68: 65 | F68: 1670 | G68: =F68/166 -> 10.060241 | H68: =ROUND(E68*G68*2,2) -> 1307.83 | I68: =ROUND(H68*1.2359,2) -> 1616.35
A69: Ārsta palīgs | B69: 1 | C69: =D69+E69 -> 168 | D69: 118 | E69: 50 | F69: 1352.32 | G69: =F69/166 -> 8.146506 | H69: =ROUND(E69*G69*2,2) -> 814.65 | I69: =ROUND(H69*1.2359,2) -> 1006.83
A70: Ārsta palīgs | B70: 1 | C70: =D70+E70 -> 62 | D70: 31 | E70: 31 | F70: 1352.32 | G70: =F70/166 -> 8.146506 | H70: =ROUND(E70*G70*2,2) -> 505.08 | I70: =ROUND(H70*1.2359,2) -> 624.23
A71: Ārsta palīgs | B71: 1 | C71: =D71+E71 -> 192 | D71: 166 | E71: 26 | F71: 1352.32 | G71: =F71/166 -> 8.146506 | H71: =ROUND(E71*G71*2,2) -> 423.62 | I71: =ROUND(H71*1.2359,2) -> 523.55
A72: Ārsta palīgs (vecākais) | B72: 1 | C72: =D72+E72 -> 243.5 | D72: 166 | E72: 77.5 | F72: 1589.22 | G72: =F72/166 -> 9.5736145 | H72: =ROUND(E72*G72*2,2) -> 1483.91 | I72: =ROUND(H72*1.2359,2) -> 1833.96
A73: Ārsta palīgs | B73: 1 | C73: =D73+E73 -> 145 | D73: 86 | E73: 59 | F73: 1056.19 | G73: =F73/166 -> 6.3625904 | H73: =ROUND(E73*G73*2,2) -> 750.79 | I73: =ROUND(H73*1.2359,2) -> 927.9
A74: Ārsta palīgs | B74: 1 | C74: =D74+E74 -> 144 | D74: 111 | E74: 33 | F74: 1352.32 | G74: =F74/166 -> 8.146506 | H74: =ROUND(E74*G74*2,2) -> 537.67 | I74: =ROUND(H74*1.2359,2) -> 664.51
A75: Ārsta palīgs | B75: 1 | C75: =D75+E75 -> 108 | D75: 80 | E75: 28 | F75: 1352.32 | G75: =F75/166 -> 8.146506 | H75: =ROUND(E75*G75*2,2) -> 456.2 | I75: =ROUND(H75*1.2359,2) -> 563.82
A76: Ārsta palīgs | B76: 1 | C76: =D76+E76 -> 111 | D76: 103 | E76: 8 | F76: 1056.19 | G76: =F76/166 -> 6.3625904 | H76: =ROUND(E76*G76*2,2) -> 101.8 | I76: =ROUND(H76*1.2359,2) -> 125.81
A77: Ārsta palīgs | B77: 1 | C77: =D77+E77 -> 204 | D77: 166 | E77: 38 | F77: 1056.19 | G77: =F77/166 -> 6.3625904 | H77: =ROUND(E77*G77*2,2) -> 483.56 | I77: =ROUND(H77*1.2359,2) -> 597.63
A78: Ārsta palīgs | B78: 1 | C78: =D78+E78 -> 228 | D78: 166 | E78: 62 | F78: 1056.19 | G78: =F78/166 -> 6.3625904 | H78: =ROUND(E78*G78*2,2) -> 788.96 | I78: =ROUND(H78*1.2359,2) -> 975.08
... A109: Vispārējās aprūpes māsa | B109: 1 | C109: =D109+E109 -> 204 | D109: 166 | E109: 38 | F109: 1056.19 | G109: =F109/166 -> 6.3625904 | H109: =ROUND(E109*G109*2,2) -> 483.56 | I109: =ROUND(H109*1.2359,2) -> 597.63
A110: Ārstniecības un pacientu aprūpes atbalsta personas, māsu palīgi, zobārstu asistenti, kopā, tai skaitā: | B110: =SUM(B111:B125) -> 15 | E110: =SUM(E111:E125) -> 681 | H110: =SUM(H111:H125) -> 6321.57 | I110: =SUM(I111:I125) -> 7796.88
A111: Māsas palīgs | B111: 1 | C111: =D111+E111 -> 219 | D111: 166 | E111: 53 | F111: 769.94 | G111: =F111/166 -> 4.6381928 | H111: =ROUND(E111*G111*2,2) -> 491.65 | I111: =ROUND(H111*1.2359,2) -> 607.63
A112: Māsas palīgs | B112: 1 | C112: =D112+E112 -> 199 | D112: 166 | E112: 33 | F112: 769.94 | G112: =F112/166 -> 4.6381928 | H112: =ROUND(E112*G112*2,2) -> 306.12 | I112: =ROUND(H112*1.2359,2) -> 378.33
A113: Māsas palīgs | B113: 1 | C113: =D113+E113 -> 202 | D113: 166 | E113: 36 | F113: 780 | G113: =F113/166 -> 4.6987952 | H113: =ROUND(E113*G113*2,2) -> 338.31 | I113: =ROUND(H113*1.2359,2) -> 418.12
A114: Māsas palīgs | B114: 1 | C114: =D114+E114 -> 207 | D114: 166 | E114: 41 | F114: 769.94 | G114: =F114/166 -> 4.6381928 | H114: =ROUND(E114*G114*2,2) -> 380.33 | I114: =ROUND(H114*1.2359,2) -> 470.05
A115: Māsas palīgs | B115: 1 | C115: =D115+E115 -> 203 | D115: 166 | E115: 37 | F115: 769.94 | G115: =F115/166 -> 4.6381928 | H115: =ROUND(E115*G115*2,2) -> 343.23 | I115: =ROUND(H115*1.2359,2) -> 424.2
A116: Māsas palīgs | B116: 1 | C116: =D116+E116 -> 144 | D116: 72 | E116: 72 | F116: 769.94 | G116: =F116/166 -> 4.6381928 | H116: =ROUND(E116*G116*2,2) -> 667.9 | I116: =ROUND(H116*1.2359,2) -> 825.46
A117: Māsas palīgs | B117: 1 | C117: =D117+E117 -> 227 | D117: 166 | E117: 61 | F117: 769.94 | G117: =F117/166 -> 4.6381928 | H117: =ROUND(E117*G117*2,2) -> 565.86 | I117: =ROUND(H117*1.2077,2) -> 683.39
A118: Māsas palīgs | B118: 1 | C118: =D118+E118 -> 215 | D118: 166 | E118: 49 | F118: 769.94 | G118: =F118/166 -> 4.6381928 | H118: =ROUND(E118*G118*2,2) -> 454.54 | I118: =ROUND(H118*1.2359,2) -> 561.77
A119: Māsas palīgs | B119: 1 | C119: =D119+E119 -> 199 | D119: 166 | E119: 33 | F119: 769.94 | G119: =F119/166 -> 4.6381928 | H119: =ROUND(E119*G119*2,2) -> 306.12 | I119: =ROUND(H119*1.2359,2) -> 378.33
A120: Māsas palīgs | B120: 1 | C120: =D120+E120 -> 215 | D120: 166 | E120: 49 | F120: 769.94 | G120: =F120/166 -> 4.6381928 | H120: =ROUND(E120*G120*2,2) -> 454.54 | I120: =ROUND(H120*1.2359,2) -> 561.77
A121: Māsas palīgs | B121: 1 | C121: =D121+E121 -> 207 | D121: 166 | E121: 41 | F121: 769.94 | G121: =F121/166 -> 4.6381928 | H121: =ROUND(E121*G121*2,2) -> 380.33 | I121: =ROUND(H121*1.2359,2) -> 470.05
A122: Māsas palīgs | B122: 1 | C122: =D122+E122 -> 215 | D122: 166 | E122: 49 | F122: 769.94 | G122: =F122/166 -> 4.6381928 | H122: =ROUND(E122*G122*2,2) -> 454.54 | I122: =ROUND(H122*1.2359,2) -> 561.77
A123: Māsas palīgs | B123: 1 | C123: =D123+E123 -> 223 | D123: 166 | E123: 57 | F123: 769.94 | G123: =F123/166 -> 4.6381928 | H123: =ROUND(E123*G123*2,2) -> 528.75 | I123: =ROUND(H123*1.2359,2) -> 653.48
A124: Māsas palīgs | B124: 1 | C124: =D124+E124 -> 199 | D124: 166 | E124: 33 | F124: 769.94 | G124: =F124/166 -> 4.6381928 | H124: =ROUND(E124*G124*2,2) -> 306.12 | I124: =ROUND(H124*1.2359,2) -> 378.33
A125: Māsas palīgs | B125: 1 | C125: =D125+E125 -> 203 | D125: 166 | E125: 37 | F125: 769.94 | G125: =F125/166 -> 4.6381928 | H125: =ROUND(E125*G125*2,2) -> 343.23 | I125: =ROUND(H125*1.2359,2) -> 424.2
A126: "Plaušu slimību un tuberkulozes centrs " Uzņemšanas nodaļa, Covid 19 nodaļa | B126: =B127+B133+B138 -> 10 | E126: =E127+E133+E138 -> 424 | H126: =H127+H133+H138 -> 9512.9 | I126: =I127+I133+I138 -> 11757.01
A127: Ārsti, zobārsti un funkcionālie speciālisti, kopā, tai skaitā: | B127: =SUM(B128:B132) -> 5 | E127: =SUM(E128:E132) -> 385 | H127: =SUM(H128:H132) -> 9004.6 | I127: =SUM(I128:I132) -> 11128.79
A128: Infektologs | B128: 1 | C128: =D128+E128 -> 96 | D128: 89 | E128: 7 | F128: 1695.67 | G128: =F128/145 -> 11.694276 | H128: =ROUND(E128*G128*2,2) -> 163.72 | I128: =ROUND(H128*1.2359,2) -> 202.34
A129: Ārsts | B129: 1 | C129: =D129+E129 -> 277 | D129: 145 | E129: 132 | F129: 1695.67 | G129: =F129/145 -> 11.694276 | H129: =ROUND(E129*G129*2,2) -> 3087.29 | I129: =ROUND(H129*1.2359,2) -> 3815.58
A130: Internists | B130: 1 | C130: =D130+E130 -> 192 | D130: 96 | E130: 96 | F130: 1695.67 | G130: =F130/145 -> 11.694276 | H130: =ROUND(E130*G130*2,2) -> 2245.3 | I130: =ROUND(H130*1.2359,2) -> 2774.97
A131: Infektologs | B131: 1 | C131: =D131+E131 -> 224 | D131: 90 | E131: 134 | F131: 1695.67 | G131: =F131/145 -> 11.694276 | H131: =ROUND(E131*G131*2,2) -> 3134.07 | I131: =ROUND(H131*1.2359,2) -> 3873.4
A132: Infektologs | B132: 1 | C132: =D132+E132 -> 32 | D132: 16 | E132: 16 | F132: 1695.67 | G132: =F132/145 -> 11.694276 | H132: =ROUND(E132*G132*2,2) -> 374.22 | I132: =ROUND(H132*1.2359,2) -> 462.5
A133: Ārstniecības un pacientu aprūpes personas un funkcionālo speciālistu asistenti, kopā, tai skaitā: | B133: =SUM(B134:B137) -> 4 | E133: =SUM(E134:E137) -> 24 | H133: =SUM(H134:H137) -> 349.2 | I133: =SUM(I134:I137) -> 431.59
...

Sheet Z-Kurzeme_okt
H1: Pielikums Nr.5
A2: Pārskats par darba veicējiem (ārstniecības personām), virs normālā darba laika nostrādātām stundām, apmaksājamām stundām un izdevumiem, kas radušies saistībā ar mērķi ierobežot Covid-19 izplatību
A4: Iestādes nosaukums: SIA "Ziemeļkurzemes reģionālā slimnīca"
A5: Pārskata mēnesis: Oktobris
B7: Nodarbināto skaits mēnesī | C7: Apmaksājamais laiks mēnesī, stundas (tai skaitā summētā darba laika ietvaros) | F7: Mēnešalga no kuras rēķina stundas likmi | G7: Stundas likme (aprēķināta atbilstoši mēnešalgai vai darba līgumā noteiktā stundas likme) | H7: Apmaksājamā 100% piemaksa par nostrādātām virsstundām virs normālā darba laika (tai skaitā summētā darba laika ietvaros) | I7: Izdevumi par virsstundām kopā ar VSOAI, EUR
C8: Kopā | D8: līdz normālam darba laikam | E8: virsstundas - virs normālā darba laika, kas saistītas ar darbu ar Covid-19
A9: 1 | B9: 2 | C9: 3=4+5 | D9: 4 | E9: 5 | F9: 6 | G9: 7 | H9: 8 | I9: 9=8 + VSOAI
A10: KOPĀ | B10: =B11+B26+B43+B53+B78+B100+B113 -> 78 | E10: =E11+E26+E43+E53+E78+E100+E113 -> 1844 | H10: =H11+H26+H43+H53+H78+H100+H113 -> 23978.62 | I10: =I11+I26+I43+I53+I78+I100+I113 -> 29635.12
A11: INFEKCIJAS NODAĻA (35 stundas nedēļā) | B11: =B12+B22+B19 -> 11 | E11: =E12+E22+E19 -> 404 | H11: =H12+H22+H19 -> 4915.34 | I11: =I12+I22+I19 -> 6074.85
A12: Ārstniecības un pacientu aprūpes personas un funkcionālo speciālistu asistenti, kopā, tai skaitā: | B12: =SUM(B13:B18) -> 6 | E12: =SUM(E13:E18) -> 225 | H12: =SUM(H13:H18) -> 3169.8 | I12: =SUM(I13:I18) -> 3917.55
A13: Māsa/vispārējās aprūpes māsa | B13: 1 | C13: =D13+E13 -> 186 | D13: 151 | E13: 35 | G13: 7.044 | H13: =ROUND(G13*E13*2,2) -> 493.08 | I13: =ROUND(H13*1.2359,2) -> 609.4
A14: Māsa/vispārējās aprūpes māsa | B14: 1 | C14: =D14+E14 -> 204 | D14: 151 | E14: 53 | G14: 7.044 | H14: =ROUND(G14*E14*2,2) -> 746.66 | I14: =ROUND(H14*1.2359,2) -> 922.8
A15: Māsa/vispārējās aprūpes māsa | B15: 1 | C15: =D15+E15 -> 161 | D15: 151 | E15: 10 | G15: 7.044 | H15: =ROUND(G15*E15*2,2) -> 140.88 | I15: =ROUND(H15*1.2359,2) -> 174.11
A16: Māsa/vispārējās aprūpes māsa | B16: 1 | C16: =D16+E16 -> 170 | D16: 151 | E16: 19 | G16: 7.044 | H16: =ROUND(G16*E16*2,2) -> 267.67 | I16: =ROUND(H16*1.2359,2) -> 330.81
A17: Māsa/vispārējās aprūpes māsa | B17: 1 | C17: =D17+E17 -> 228 | D17: 151 | E17: 77 | G17: 7.044 | H17: =ROUND(G17*E17*2,2) -> 1084.78 | I17: =ROUND(H17*1.2359,2) -> 1340.68
A18: Māsa/vispārējās aprūpes māsa | B18: 1 | C18: =D18+E18 -> 182 | D18: 151 | E18: 31 | G18: 7.044 | H18: =ROUND(G18*E18*2,2) -> 436.73 | I18: =ROUND(H18*1.2359,2) -> 539.75
A19: Ārstniecības un pacientu aprūpes atbalsta personas, māsu palīgi, zobārstu aistenti, kopā, tai skaitā: | B19: =SUM(B20:B21) -> 2 | E19: =SUM(E20:E21) -> 44 | H19: =SUM(H20:H21) -> 451.7 | I19: =SUM(I20:I21) -> 558.25
A20: Māsas palīgs | B20: 1 | C20: =D20+E20 -> 165 | D20: 151 | E20: 14 | G20: 5.133 | H20: =ROUND(G20*E20*2,2) -> 143.72 | I20: =ROUND(H20*1.2359,2) -> 177.62
A21: Māsas palīgs | B21: 1 | C21: =D21+E21 -> 181 | D21: 151 | E21: 30 | G21: 5.133 | H21: =ROUND(G21*E21*2,2) -> 307.98 | I21: =ROUND(H21*1.2359,2) -> 380.63
A22: Pārējie darbinieki, kuri tieši iesaistīti darbā ar Covid-19, kopā, tai skaitā: | B22: =SUM(B23:B25) -> 3 | E22: =SUM(E23:E25) -> 135 | H22: =SUM(H23:H25) -> 1293.84 | I22: =SUM(I23:I25) -> 1599.05
A23: Sanitārs | B23: 1 | C23: =D23+E23 -> 213 | D23: 151 | E23: 62 | G23: 4.792 | H23: =ROUND(G23*E23*2,2) -> 594.21 | I23: =ROUND(H23*1.2359,2) -> 734.38
A24: Sanitārs | B24: 1 | C24: =D24+E24 -> 221 | D24: 151 | E24: 70 | G24: 4.792 | H24: =ROUND(G24*E24*2,2) -> 670.88 | I24: =ROUND(H24*1.2359,2) -> 829.14
A25: Sanitārs | B25: 1 | C25: =D25+E25 -> 154 | D25: 151 | E25: 3 | G25: 4.792 | H25: =ROUND(G25*E25*2,2) -> 28.75 | I25: =ROUND(H25*1.2359,2) -> 35.53
A26: IEKŠĶĪGO SLIMĪBU NODAĻA | B26: =B27+B32+B39+B41 -> 12 | E26: =E27+E32+E39+E41 -> 308 | H26: =H27+H32+H39+H41 -> 4895.41 | I26: =I27+I32+I39+I41 -> 6050.23
A27: Ārsti, zobārsti un funkcionālie speciālisti, kopā, tai skaitā: | B27: =SUM(B28:B31) -> 4 | E27: =SUM(E28:E31) -> 150 | H27: =SUM(H28:H31) -> 2901.87 | I27: =SUM(I28:I31) -> 3586.42
A28: Internists | B28: 1 | C28: =D28+E28 -> 247 | D28: 172 | E28: 75 | G28: 9.646 | H28: =ROUND(G28*E28*2,2) -> 1446.9 | I28: =ROUND(H28*1.2359,2) -> 1788.22
A29: Internists | B29: 1 | C29: =D29+E29 -> 201 | D29: 172 | E29: 29 | G29: 9.646 | H29: =ROUND(G29*E29*2,2) -> 559.47 | I29: =ROUND(H29*1.2359,2) -> 691.45
A30: Internists (dežūrārsts) | B30: 1 | C30: =D30+E30 -> 205 | D30: 172 | E30: 33 | G30: 9.646 | H30: =ROUND(G30*E30*2,2) -> 636.64 | I30: =ROUND(H30*1.2359,2) -> 786.82
A31: Internists (dežūrārsts) | B31: 1 | C31: =D31+E31 -> 185 | D31: 172 | E31: 13 | G31: 9.956 | H31: =ROUND(G31*E31*2,2) -> 258.86 | I31: =ROUND(H31*1.2359,2) -> 319.93
A32: Ārstniecības un pacientu aprūpes personas un funkcionālo speciālistu asistenti, kopā, tai skaitā: | B32: =SUM(B33:B38) -> 6 | E32: =SUM(E33:E38) -> 130 | H32: =SUM(H33:H38) -> 1747.63 | I32: =SUM(I33:I38) -> 2159.89
A33: Māsa/vispārējās aprūpes māsa | B33: 1 | C33: =D33+E33 -> 201 | D33: 172 | E33: 29 | G33: 6.811 | H33: =ROUND(G33*E33*2,2) -> 395.04 | I33: =ROUND(H33*1.2359,2) -> 488.23
A34: Māsa/vispārējās aprūpes māsa | B34: 1 | C34: =D34+E34 -> 186 | D34: 172 | E34: 14 | G34: 6.402 | H34: =ROUND(G34*E34*2,2) -> 179.26 | I34: =ROUND(H34*1.2359,2) -> 221.55
A35: Māsa/vispārējās aprūpes māsa | B35: 1 | C35: =D35+E35 -> 208 | D35: 172 | E35: 36 | G35: 6.954 | H35: =ROUND(G35*E35*2,2) -> 500.69 | I35: =ROUND(H35*1.2359,2) -> 618.8
A36: Māsa/vispārējās aprūpes māsa | B36: 1 | C36: =D36+E36 -> 196 | D36: 172 | E36: 24 | G36: 6.811 | H36: =ROUND(G36*E36*2,2) -> 326.93 | I36: =ROUND(H36*1.2359,2) -> 404.05
A37: Māsa/vispārējās aprūpes māsa | B37: 1 | C37: =D37+E37 -> 197 | D37: 172 | E37: 25 | G37: 6.402 | H37: =ROUND(G37*E37*2,2) -> 320.1 | I37: =ROUND(H37*1.2359,2) -> 395.61
A38: Māsa/vispārējās aprūpes māsa | B38: 1 | C38: =D38+E38 -> 174 | D38: 172 | E38: 2 | G38: 6.402 | H38: =ROUND(G38*E38*2,2) -> 25.61 | I38: =ROUND(H38*1.2359,2) -> 31.65
A39: Ārstniecības un pacientu aprūpes atbalsta personas, māsu palīgi, zobārstu aistenti, kopā, tai skaitā: | B39: =SUM(B40:B40) -> 1 | E39: =SUM(E40:E40) -> 19 | H39: =SUM(H40:H40) -> 170.51 | I39: =SUM(I40:I40) -> 210.73
A40: Māsas palīgs | B40: 1 | C40: =D40+E40 -> 191 | D40: 172 | E40: 19 | G40: 4.487 | H40: =ROUND(G40*E40*2,2) -> 170.51 | I40: =ROUND(H40*1.2359,2) -> 210.73
A41: Pārējie darbinieki, kuri tieši iesaistīti darbā ar Covid-19, kopā, tai skaitā: | B41: =SUM(B42:B42) -> 1 | E41: =SUM(E42:E42) -> 9 | H41: =SUM(H42:H42) -> 75.4 | I41: =SUM(I42:I42) -> 93.19
A42: Sanitārs | B42: 1 | C42: =D42+E42 -> 181 | D42: 172 | E42: 9 | G42: 4.189 | H42: =ROUND(G42*E42*2,2) -> 75.4 | I42: =ROUND(H42*1.2359,2) -> 93.19
A43: KARDIOLOĢIJAS NODAĻA | B43: =B44+B46 -> 7 | E43: =E44+E46 -> 166 | H43: =H44+H46 -> 2209.77 | I43: =I44+I46 -> 2731.06
A44: Ārsti, zobārsti un funkcionālie speciālisti, kopā, tai skaitā: | B44: =SUM(B45:B45) -> 1 | E44: =SUM(E45:E45) -> 10 | H44: =SUM(H45:H45) -> 192.92 | I44: =SUM(I45:I45) -> 238.43
A45: Kardiologs | B45: 1 | C45: =D45+E45 -> 182 | D45: 172 | E45: 10 | G45: 9.646 | H45: =ROUND(G45*E45*2,2) -> 192.92 | I45: =ROUND(H45*1.2359,2) -> 238.43
A46: Ārstniecības un pacientu aprūpes personas un funkcionālo speciālistu asistenti, kopā, tai skaitā: | B46: =SUM(B47:B52) -> 6 | E46: =SUM(E47:E52) -> 156 | H46: =SUM(H47:H52) -> 2016.85 | I46: =SUM(I47:I52) -> 2492.63
A47: Māsa/vispārējās aprūpes māsa | B47: 1 | C47: =D47+E47 -> 191 | D47: 172 | E47: 19 | G47: 6.402 | H47: =ROUND(G47*E47*2,2) -> 243.28 | I47: =ROUND(H47*1.2359,2) -> 300.67
A48: Māsa/vispārējās aprūpes māsa | B48: 1 | C48: =D48+E48 -> 189 | D48: 172 | E48: 17 | G48: 6.402 | H48: =ROUND(G48*E48*2,2) -> 217.67 | I48: =ROUND(H48*1.2359,2) -> 269.02
A49: Māsa/vispārējās aprūpes māsa | B49: 1 | C49: =D49+E49 -> 209 | D49: 172 | E49: 37 | G49: 6.402 | H49: =ROUND(G49*E49*2,2) -> 473.75 | I49: =ROUND(H49*1.2359,2) -> 585.51
A50: Māsa/vispārējās aprūpes māsa | B50: 1 | C50: =D50+E50 -> 209 | D50: 172 | E50: 37 | G50: 6.519 | H50: =ROUND(G50*E50*2,2) -> 482.41 | I50: =ROUND(H50*1.2359,2) -> 596.21
A51: Māsa/vispārējās aprūpes māsa | B51: 1 | C51: =D51+E51 -> 195 | D51: 172 | E51: 23 | G51: 6.519 | H51: =ROUND(G51*E51*2,2) -> 299.87 | I51: =ROUND(H51*1.2359,2) -> 370.61
A52: Māsa/vispārējās aprūpes māsa | B52: 1 | C52: =D52+E52 -> 195 | D52: 172 | E52: 23 | G52: 6.519 | H52: =ROUND(G52*E52*2,2) -> 299.87 | I52: =ROUND(H52*1.2359,2) -> 370.61
A53: NEIROLOĢIJAS NODAĻA | B53: =B54+B59+B66+B71 -> 20 | E53: =E54+E59+E66+E71 -> 494 | H53: =H54+H59+H66+H71 -> 6233.14 | I53: =I54+I59+I66+I71 -> 7703.53
A54: Ārsti, zobārsti un funkcionālie speciālisti, kopā, tai skaitā: | B54: =SUM(B55:B58) -> 4 | E54: =SUM(E55:E58) -> 124 | H54: =SUM(H55:H58) -> 2411.43 | I54: =SUM(I55:I58) -> 2980.28
A55: Neirologs | B55: 1 | C55: =D55+E55 -> 185 | D55: 172 | E55: 13 | G55: 9.646 | H55: =ROUND(G55*E55*2,2) -> 250.8 | I55: =ROUND(H55*1.2359,2) -> 309.96
A56: Neirologs | B56: 1 | C56: =D56+E56 -> 211 | D56: 172 | E56: 39 | G56: 9.646 | H56: =ROUND(G56*E56*2,2) -> 752.39 | I56: =ROUND(H56*1.2359,2) -> 929.88
A57: Neirologs | B57: 1 | C57: =D57+E57 -> 213 | D57: 172 | E57: 41 | G57: 9.646 | H57: =ROUND(G57*E57*2,2) -> 790.97 | I57: =ROUND(H57*1.2359,2) -> 977.56
A58: Neirologs (dežūrārsts) | B58: 1 | C58: =D58+E58 -> 203 | D58: 172 | E58: 31 | G58: 9.956 | H58: =ROUND(G58*E58*2,2) -> 617.27 | I58: =ROUND(H58*1.2359,2) -> 762.88
A59: Ārstniecības un pacientu aprūpes personas un funkcionālo speciālistu asistenti, kopā, tai skaitā: | B59: =SUM(B60:B65) -> 6 | E59: =SUM(E60:E65) -> 139 | H59: =SUM(H60:H65) -> 1841.11 | I59: =SUM(I60:I65) -> 2275.43
A60: Māsa/vispārējās aprūpes māsa | B60: 1 | C60: =D60+E60 -> 177 | D60: 172 | E60: 5 | G60: 6.811 | H60: =ROUND(G60*E60*2,2) -> 68.11 | I60: =ROUND(H60*1.2359,2) -> 84.18
A61: Māsa/vispārējās aprūpes māsa | B61: 1 | C61: =D61+E61 -> 224 | D61: 172 | E61: 52 | G61: 6.811 | H61: =ROUND(G61*E61*2,2) -> 708.34 | I61: =ROUND(H61*1.2359,2) -> 875.44
A62: Māsa/vispārējās aprūpes māsa | B62: 1 | C62: =D62+E62 -> 187 | D62: 172 | E62: 15 | G62: 6.402 | H62: =ROUND(G62*E62*2,2) -> 192.06 | I62: =ROUND(H62*1.2359,2) -> 237.37
A63: Māsa/vispārējās aprūpes māsa | B63: 1 | C63: =D63+E63 -> 199 | D63: 172 | E63: 27 | G63: 6.402 | H63: =ROUND(G63*E63*2,2) -> 345.71 | I63: =ROUND(H63*1.2359,2) -> 427.26
A64: Māsa/vispārējās aprūpes māsa | B64: 1 | C64: =D64+E64 -> 190 | D64: 172 | E64: 18 | G64: 6.811 | H64: =ROUND(G64*E64*2,2) -> 245.2 | I64: =ROUND(H64*1.2359,2) -> 303.04
A65: Māsa/vispārējās aprūpes māsa | B65: 1 | C65: =D65+E65 -> 194 | D65: 172 | E65: 22 | G65: 6.402 | H65: =ROUND(G65*E65*2,2) -> 281.69 | I65: =ROUND(H65*1.2359,2) -> 348.14
A66: Ārstniecības un pacientu aprūpes atbalsta personas, māsu palīgi, zobārstu aistenti, kopā, tai skaitā: | B66: =SUM(B67:B70) -> 4 | E66: =SUM(E67:E70) -> 76 | H66: =SUM(H67:H70) -> 682.02 | I66: =SUM(I67:I70) -> 842.91
A67: Māsas palīgs | B67: 1 | C67: =D67+E67 -> 185 | D67: 172 | E67: 13 | G67: 4.487 | H67: =ROUND(G67*E67*2,2) -> 116.66 | I67: =ROUND(H67*1.2359,2) -> 144.18
A68: Māsas palīgs | B68: 1 | C68: =D68+E68 -> 192 | D68: 172 | E68: 20 | G68: 4.487 | H68: =ROUND(G68*E68*2,2) -> 179.48 | I68: =ROUND(H68*1.2359,2) -> 221.82
A69: Māsas palīgs | B69: 1 | C69: =D69+E69 -> 207 | D69: 172 | E69: 35 | G69: 4.487 | H69: =ROUND(G69*E69*2,2) -> 314.09 | I69: =ROUND(H69*1.2359,2) -> 388.18
A70: Māsas palīgs | B70: 1 | C70: =D70+E70 -> 180 | D70: 172 | E70: 8 | G70: 4.487 | H70: =ROUND(G70*E70*2,2) -> 71.79 | I70: =ROUND(H70*1.2359,2) -> 88.73
A71: Pārējie darbinieki, kuri tieši iesaistīti darbā ar Covid-19, kopā, tai skaitā: | B71: =SUM(B72:B77) -> 6 | E71: =SUM(E72:E77) -> 155 | H71: =SUM(H72:H77) -> 1298.58 | I71: =SUM(I72:I77) -> 1604.91
A72: Sanitārs | B72: 1 | C72: =D72+E72 -> 199 | D72: 172 | E72: 27 | G72: 4.189 | H72: =ROUND(G72*E72*2,2) -> 226.21 | I72: =ROUND(H72*1.2359,2) -> 279.57
A73: Sanitārs | B73: 1 | C73: =D73+E73 -> 221 | D73: 172 | E73: 49 | G73: 4.189 | H73: =ROUND(G73*E73*2,2) -> 410.52 | I73: =ROUND(H73*1.2359,2) -> 507.36
A74: Sanitārs | B74: 1 | C74: =D74+E74 -> 175 | D74: 172 | E74: 3 | G74: 4.189 | H74: =ROUND(G74*E74*2,2) -> 25.13 | I74: =ROUND(H74*1.2359,2) -> 31.06
A75: Sanitārs | B75: 1 | C75: =D75+E75 -> 180 | D75: 172 | E75: 8 | G75: 4.189 | H75: =ROUND(G75*E75*2,2) -> 67.02 | I75: =ROUND(H75*1.2359,2) -> 82.83
A76: Sanitārs | B76: 1 | C76: =D76+E76 -> 197 | D76: 172 | E76: 25 | G76: 4.189 | H76: =ROUND(G76*E76*2,2) -> 209.45 | I76: =ROUND(H76*1.2359,2) -> 258.86
A77: Sanitārs | B77: 1 | C77: =D77+E77 -> 215 | D77: 172 | E77: 43 | G77: 4.189 | H77: =ROUND(G77*E77*2,2) -> 360.25 | I77: =ROUND(H77*1.2359,2) -> 445.23
A78: UZŅEMŠANAS NODAĻA | B78: =B79+B93+B97 -> 18 | E78: =E79+E93+E97 -> 403 | H78: =H79+H93+H97 -> 4807.06 | I78: =I79+I93+I97 -> 5941.04
A79: Ārstniecības un pacientu aprūpes personas un funkcionālo speciālistu asistenti, kopā, tai skaitā: | B79: =SUM(B80:B92) -> 13 | E79: =SUM(E80:E92) -> 311 | H79: =SUM(H80:H92) -> 4007.08 | I79: =SUM(I80:I92) -> 4952.35
A80: Ārsta palīgs | B80: 1 | C80: =D80+E80 -> 187 | D80: 172 | E80: 15 | G80: 6.519 | H80: =ROUND(G80*E80*2,2) -> 195.57 | I80: =ROUND(H80*1.2359,2) -> 241.7
A81: Ārsta palīgs | B81: 1 | C81: =D81+E81 -> 188 | D81: 172 | E81: 16 | G81: 6.519 | H81: =ROUND(G81*E81*2,2) -> 208.61 | I81: =ROUND(H81*1.2359,2) -> 257.82
A82: Ārsta palīgs | B82: 1 | C82: =D82+E82 -> 204 | D82: 172 | E82: 32 | G82: 6.519 | H82: =ROUND(G82*E82*2,2) -> 417.22 | I82: =ROUND(H82*1.2359,2) -> 515.64
A83: Māsa/vispārējās aprūpes māsa | B83: 1 | C83: =D83+E83 -> 216 | D83: 172 | E83: 44 | G83: 6.519 | H83: =ROUND(G83*E83*2,2) -> 573.67 | I83: =ROUND(H83*1.2359,2) -> 709
A84: Māsa/vispārējās aprūpes māsa | B84: 1 | C84: =D84+E84 -> 200 | D84: 172 | E84: 28 | G84: 6.402 | H84: =ROUND(G84*E84*2,2) -> 358.51 | I84: =ROUND(H84*1.2359,2) -> 443.08
A85: Māsa/vispārējās aprūpes māsa | B85: 1 | C85: =D85+E85 -> 184 | D85: 172 | E85: 12 | G85: 6.402 | H85: =ROUND(G85*E85*2,2) -> 153.65 | I85: =ROUND(H85*1.2359,2) -> 189.9
A86: Māsa/vispārējās aprūpes māsa | B86: 1 | C86: =D86+E86 -> 179 | D86: 172 | E86: 7 | G86: 6.402 | H86: =ROUND(G86*E86*2,2) -> 89.63 | I86: =ROUND(H86*1.2359,2) -> 110.77
A87: Māsa/vispārējās aprūpes māsa | B87: 1 | C87: =D87+E87 -> 192 | D87: 172 | E87: 20 | G87: 6.402 | H87: =ROUND(G87*E87*2,2) -> 256.08 | I87: =ROUND(H87*1.2359,2) -> 316.49
A88: Māsa/vispārējās aprūpes māsa | B88: 1 | C88: =D88+E88 -> 173 | D88: 172 | E88: 1 | G88: 6.402 | H88: =ROUND(G88*E88*2,2) -> 12.8 | I88: =ROUND(H88*1.2359,2) -> 15.82
A89: Māsa/vispārējās aprūpes māsa | B89: 1 | C89: =D89+E89 -> 185 | D89: 172 | E89: 13 | G89: 6.402 | H89: =ROUND(G89*E89*2,2) -> 166.45 | I89: =ROUND(H89*1.2359,2) -> 205.72
A90: Māsa/vispārējās aprūpes māsa | B90: 1 | C90: =D90+E90 -> 192 | D90: 172 | E90: 20 | G90: 6.402 | H90: =ROUND(G90*E90*2,2) -> 256.08 | I90: =ROUND(H90*1.2359,2) -> 316.49
A91: Māsa/vispārējās aprūpes māsa | B91: 1 | C91: =D91+E91 -> 194 | D91: 172 | E91: 22 | G91: 6.402 | H91: =ROUND(G91*E91*2,2) -> 281.69 | I91: =ROUND(H91*1.2359,2) -> 348.14
A92: Māsa/vispārējās aprūpes māsa | B92: 1 | C92: =D92+E92 -> 253 | D92: 172 | E92: 81 | G92: 6.402 | H92: =ROUND(G92*E92*2,2) -> 1037.12 | I92: =ROUND(H92*1.2359,2) -> 1281.78
A93: Ārstniecības un pacientu aprūpes atbalsta personas, māsu palīgi, zobārstu aistenti, kopā, tai skaitā: | B93: =SUM(B94:B96) -> 3 | E93: =SUM(E94:E96) -> 49 | H93: =SUM(H94:H96) -> 439.73 | I93: =SUM(I94:I96) -> 543.46
A94: Māsas palīgs | B94: 1 | C94: =D94+E94 -> 184 | D94: 172 | E94: 12 | G94: 4.487 | H94: =ROUND(G94*E94*2,2) -> 107.69 | I94: =ROUND(H94*1.2359,2) -> 133.09
A95: Māsas palīgs | B95: 1 | C95: =D95+E95 -> 180 | D95: 172 | E95: 8 | G95: 4.487 | H95: =ROUND(G95*E95*2,2) -> 71.79 | I95: =ROUND(H95*1.2359,2) -> 88.73
A96: Māsas palīgs | B96: 1 | C96: =D96+E96 -> 201 | D96: 172 | E96: 29 | G96: 4.487 | H96: =ROUND(G96*E96*2,2) -> 260.25 | I96: =ROUND(H96*1.2359,2) -> 321.64
A97: Pārējie darbinieki, kuri tieši iesaistīti darbā ar Covid-19, kopā, tai skaitā: | B97: =SUM(B98:B99) -> 2 | E97: =SUM(E98:E99) -> 43 | H97: =SUM(H98:H99) -> 360.25 | I97: =SUM(I98:I99) -> 445.23
A98: Sanitārs | B98: 1 | C98: =D98+E98 -> 190 | D98: 172 | E98: 18 | G98: 4.189 | H98: =ROUND(G98*E98*2,2) -> 150.8 | I98: =ROUND(H98*1.2359,2) -> 186.37
A99: Sanitārs | B99: 1 | C99: =D99+E99 -> 197 | D99: 172 | E99: 25 | G99: 4.189 | H99: =ROUND(G99*E99*2,2) -> 209.45 | I99: =ROUND(H99*1.2359,2) -> 258.86
A100: ĶIRURĢIJAS NODAĻA | B100: =B101+B103+B111 -> 9 | E100: =E101+E103+E111 -> 68 | H100: =H101+H103+H111 -> 897.99 | I100: =I101+I103+I111 -> 1109.8
A101: Ārsti, zobārsti un funkcionālie speciālisti, kopā, tai skaitā: | B101: =SUM(B102:B102) -> 1 | E101: =SUM(E102:E102) -> 6 | H101: =SUM(H102:H102) -> 119.47 | I101: =SUM(I102:I102) -> 147.65
A102: Ķirurgs (dežūrārsts) | B102: 1 | C102: =D102+E102 -> 178 | D102: 172 | E102: 6 | G102: 9.956 | H102: =ROUND(G102*E102*2,2) -> 119.47 | I102: =ROUND(H102*1.2359,2) -> 147.65
...

Sheet Z-Kurzeme_nov
H1: Pielikums Nr.6
A2: Pārskats par darba veicējiem (ārstniecības personām), virs normālā darba laika nostrādātām stundām, apmaksājamām stundām un izdevumiem, kas radušies saistībā ar mērķi ierobežot Covid-19 izplatību
A4: Iestādes nosaukums: SIA "Ziemeļkurzemes reģionālā slimnīca"
A5: Pārskata mēnesis: Novembris
B7: Nodarbināto skaits mēnesī | C7: Apmaksājamais laiks mēnesī, stundas (tai skaitā summētā darba laika ietvaros) | F7: Mēnešalga no kuras rēķina stundas likmi | G7: Stundas likme (aprēķināta atbilstoši mēnešalgai vai darba līgumā noteiktā stundas likme) | H7: Apmaksājamā 100% piemaksa par nostrādātām virsstundām virs normālā darba laika (tai skaitā summētā darba laika ietvaros) | I7: Izdevumi par virsstundām kopā ar VSOAI, EUR
C8: Kopā | D8: līdz normālam darba laikam | E8: virsstundas - virs normālā darba laika, kas saistītas ar darbu ar Covid-19
A9: 1 | B9: 2 | C9: 3=4+5 | D9: 4 | E9: 5 | F9: 6 | G9: 7 | H9: 8 | I9: 9=8 + VSOAI
A10: KOPĀ | B10: =B11+B25+B38+B41+B59+B84+B101 -> 71 | E10: =E11+E25+E38+E41+E59+E84+E101 -> 1088 | H10: =H11+H25+H38+H41+H59+H84+H101 -> 14278.36 | I10: =I11+I25+I38+I41+I59+I84+I101 -> 17646.61
A11: INFEKCIJAS NODAĻA (35 stundas nedēļā) | B11: =B12+B21+B18 -> 10 | E11: =E12+E21+E18 -> 228 | H11: =H12+H21+H18 -> 2995.33 | I11: =I12+I21+I18 -> 3701.93
A12: Ārstniecības un pacientu aprūpes personas un funkcionālo speciālistu asistenti, kopā, tai skaitā: | B12: =SUM(B13:B17) -> 5 | E12: =SUM(E13:E17) -> 177 | H12: =SUM(H13:H17) -> 2493.59 | I12: =SUM(I13:I17) -> 3081.83
A13: Māsa/vispārējās aprūpes māsa | B13: 1 | C13: =D13+E13 -> 151 | D13: 145 | E13: 6 | G13: 7.044 | H13: =ROUND(G13*E13*2,2) -> 84.53 | I13: =ROUND(H13*1.2359,2) -> 104.47
A14: Māsa/vispārējās aprūpes māsa | B14: 1 | C14: =D14+E14 -> 197 | D14: 145 | E14: 52 | G14: 7.044 | H14: =ROUND(G14*E14*2,2) -> 732.58 | I14: =ROUND(H14*1.2359,2) -> 905.4
A15: Māsa/vispārējās aprūpes māsa | B15: 1 | C15: =D15+E15 -> 196 | D15: 145 | E15: 51 | G15: 7.044 | H15: =ROUND(G15*E15*2,2) -> 718.49 | I15: =ROUND(H15*1.2359,2) -> 887.98
A16: Māsa/vispārējās aprūpes māsa | B16: 1 | C16: =D16+E16 -> 187 | D16: 145 | E16: 42 | G16: 7.044 | H16: =ROUND(G16*E16*2,2) -> 591.7 | I16: =ROUND(H16*1.2359,2) -> 731.28
A17: Māsa/vispārējās aprūpes māsa | B17: 1 | C17: =D17+E17 -> 171 | D17: 145 | E17: 26 | G17: 7.044 | H17: =ROUND(G17*E17*2,2) -> 366.29 | I17: =ROUND(H17*1.2359,2) -> 452.7
A18: Ārstniecības un pacientu aprūpes atbalsta personas, māsu palīgi, zobārstu aistenti, kopā, tai skaitā: | B18: =SUM(B19:B20) -> 2 | E18: =SUM(E19:E20) -> 19 | H18: =SUM(H19:H20) -> 195.06 | I18: =SUM(I19:I20) -> 241.07
A19: Māsas palīgs | B19: 1 | C19: =D19+E19 -> 151 | D19: 145 | E19: 6 | G19: 5.133 | H19: =ROUND(G19*E19*2,2) -> 61.6 | I19: =ROUND(H19*1.2359,2) -> 76.13
A20: Māsas palīgs | B20: 1 | C20: =D20+E20 -> 158 | D20: 145 | E20: 13 | G20: 5.133 | H20: =ROUND(G20*E20*2,2) -> 133.46 | I20: =ROUND(H20*1.2359,2) -> 164.94
A21: Pārējie darbinieki, kuri tieši iesaistīti darbā ar Covid-19, kopā, tai skaitā: | B21: =SUM(B22:B24) -> 3 | E21: =SUM(E22:E24) -> 32 | H21: =SUM(H22:H24) -> 306.68 | I21: =SUM(I22:I24) -> 379.03
A22: Sanitārs | B22: 1 | C22: =D22+E22 -> 156 | D22: 145 | E22: 11 | G22: 4.792 | H22: =ROUND(G22*E22*2,2) -> 105.42 | I22: =ROUND(H22*1.2359,2) -> 130.29
A23: Sanitārs | B23: 1 | C23: =D23+E23 -> 155 | D23: 145 | E23: 10 | G23: 4.792 | H23: =ROUND(G23*E23*2,2) -> 95.84 | I23: =ROUND(H23*1.2359,2) -> 118.45
A24: Sanitārs | B24: 1 | C24: =D24+E24 -> 156 | D24: 145 | E24: 11 | G24: 4.792 | H24: =ROUND(G24*E24*2,2) -> 105.42 | I24: =ROUND(H24*1.2359,2) -> 130.29
A25: IEKŠĶĪGO SLIMĪBU NODAĻA | B25: =B26+B31+B36 -> 9 | E25: =E26+E31+E36 -> 170 | H25: =H26+H31+H36 -> 2889.91 | I25: =I26+I31+I36 -> 3571.63
A26: Ārsti, zobārsti un funkcionālie speciālisti, kopā, tai skaitā: | B26: =SUM(B27:B30) -> 4 | E26: =SUM(E27:E30) -> 98 | H26: =SUM(H27:H30) -> 1912.94 | I26: =SUM(I27:I30) -> 2364.2
A27: Internists | B27: 1 | C27: =D27+E27 -> 204 | D27: 166 | E27: 38 | G27: 9.646 | H27: =ROUND(G27*E27*2,2) -> 733.1 | I27: =ROUND(H27*1.2359,2) -> 906.04
A28: Internists | B28: 1 | C28: =D28+E28 -> 190 | D28: 166 | E28: 24 | G28: 9.646 | H28: =ROUND(G28*E28*2,2) -> 463.01 | I28: =ROUND(H28*1.2359,2) -> 572.23
A29: Internists (dežūrārsts) | B29: 1 | C29: =D29+E29 -> 182 | D29: 166 | E29: 16 | G29: 9.956 | H29: =ROUND(G29*E29*2,2) -> 318.59 | I29: =ROUND(H29*1.2359,2) -> 393.75
A30: Internists (dežūrārsts) | B30: 1 | C30: =D30+E30 -> 186 | D30: 166 | E30: 20 | G30: 9.956 | H30: =ROUND(G30*E30*2,2) -> 398.24 | I30: =ROUND(H30*1.2359,2) -> 492.18
A31: Ārstniecības un pacientu aprūpes personas un funkcionālo speciālistu asistenti, kopā, tai skaitā: | B31: =SUM(B32:B35) -> 4 | E31: =SUM(E32:E35) -> 71 | H31: =SUM(H32:H35) -> 968.59 | I31: =SUM(I32:I35) -> 1197.07
A32: Māsa/vispārējās aprūpes māsa | B32: 1 | C32: =D32+E32 -> 190 | D32: 166 | E32: 24 | G32: 6.811 | H32: =ROUND(G32*E32*2,2) -> 326.93 | I32: =ROUND(H32*1.2359,2) -> 404.05
A33: Māsa/vispārējās aprūpes māsa | B33: 1 | C33: =D33+E33 -> 191 | D33: 166 | E33: 25 | G33: 6.954 | H33: =ROUND(G33*E33*2,2) -> 347.7 | I33: =ROUND(H33*1.2359,2) -> 429.72
A34: Māsa/vispārējās aprūpes māsa | B34: 1 | C34: =D34+E34 -> 181 | D34: 166 | E34: 15 | G34: 6.811 | H34: =ROUND(G34*E34*2,2) -> 204.33 | I34: =ROUND(H34*1.2359,2) -> 252.53
A35: Māsa/vispārējās aprūpes māsa | B35: 1 | C35: =D35+E35 -> 173 | D35: 166 | E35: 7 | G35: 6.402 | H35: =ROUND(G35*E35*2,2) -> 89.63 | I35: =ROUND(H35*1.2359,2) -> 110.77
A36: Pārējie darbinieki, kuri tieši iesaistīti darbā ar Covid-19, kopā, tai skaitā: | B36: =SUM(B37:B37) -> 1 | E36: =SUM(E37:E37) -> 1 | H36: =SUM(H37:H37) -> 8.38 | I36: =SUM(I37:I37) -> 10.36
A37: Sanitārs | B37: 1 | C37: =D37+E37 -> 167 | D37: 166 | E37: 1 | G37: 4.189 | H37: =ROUND(G37*E37*2,2) -> 8.38 | I37: =ROUND(H37*1.2359,2) -> 10.36
A38: KARDIOLOĢIJAS NODAĻA | B38: =B39 -> 1 | E38: =E39 -> 5 | H38: =H39 -> 65.19 | I38: =I39 -> 80.57
A39: Ārstniecības un pacientu aprūpes personas un funkcionālo speciālistu asistenti, kopā, tai skaitā: | B39: =SUM(B40:B40) -> 1 | E39: =SUM(E40:E40) -> 5 | H39: =SUM(H40:H40) -> 65.19 | I39: =SUM(I40:I40) -> 80.57
A40: Māsa/vispārējās aprūpes māsa | B40: 1 | C40: =D40+E40 -> 171 | D40: 166 | E40: 5 | G40: 6.519 | H40: =ROUND(G40*E40*2,2) -> 65.19 | I40: =ROUND(H40*1.2359,2) -> 80.57
A41: NEIROLOĢIJAS NODAĻA | B41: =B42+B44+B49+B53 -> 13 | E41: =E42+E44+E49+E53 -> 122 | H41: =H42+H44+H49+H53 -> 1361.09 | I41: =I42+I44+I49+I53 -> 1682.18
A42: Ārsti, zobārsti un funkcionālie speciālisti, kopā, tai skaitā: | B42: =SUM(B43:B43) -> 1 | E42: =SUM(E43:E43) -> 23 | H42: =SUM(H43:H43) -> 443.72 | I42: =SUM(I43:I43) -> 548.39
A43: Neirologs | B43: 1 | C43: =D43+E43 -> 189 | D43: 166 | E43: 23 | G43: 9.646 | H43: =ROUND(G43*E43*2,2) -> 443.72 | I43: =ROUND(H43*1.2359,2) -> 548.39
A44: Ārstniecības un pacientu aprūpes personas un funkcionālo speciālistu asistenti, kopā, tai skaitā: | B44: =SUM(B45:B48) -> 4 | E44: =SUM(E45:E48) -> 15 | H44: =SUM(H45:H48) -> 198.11 | I44: =SUM(I45:I48) -> 244.84
A45: Māsa/vispārējās aprūpes māsa | B45: 1 | C45: =D45+E45 -> 170 | D45: 166 | E45: 4 | G45: 6.954 | H45: =ROUND(G45*E45*2,2) -> 55.63 | I45: =ROUND(H45*1.2359,2) -> 68.75
A46: Māsa/vispārējās aprūpes māsa | B46: 1 | C46: =D46+E46 -> 168 | D46: 166 | E46: 2 | G46: 6.811 | H46: =ROUND(G46*E46*2,2) -> 27.24 | I46: =ROUND(H46*1.2359,2) -> 33.67
A47: Māsa/vispārējās aprūpes māsa | B47: 1 | C47: =D47+E47 -> 168 | D47: 166 | E47: 2 | G47: 6.402 | H47: =ROUND(G47*E47*2,2) -> 25.61 | I47: =ROUND(H47*1.2359,2) -> 31.65
A48: Māsa/vispārējās aprūpes māsa | B48: 1 | C48: =D48+E48 -> 173 | D48: 166 | E48: 7 | G48: 6.402 | H48: =ROUND(G48*E48*2,2) -> 89.63 | I48: =ROUND(H48*1.2359,2) -> 110.77
A49: Ārstniecības un pacientu aprūpes atbalsta personas, māsu palīgi, zobārstu aistenti, kopā, tai skaitā: | B49: =SUM(B50:B52) -> 3 | E49: =SUM(E50:E52) -> 26 | H49: =SUM(H50:H52) -> 233.33 | I49: =SUM(I50:I52) -> 288.38
A50: Māsas palīgs | B50: 1 | C50: =D50+E50 -> 170 | D50: 166 | E50: 4 | G50: 4.487 | H50: =ROUND(G50*E50*2,2) -> 35.9 | I50: =ROUND(H50*1.2359,2) -> 44.37
A51: Māsas palīgs | B51: 1 | C51: =D51+E51 -> 174 | D51: 166 | E51: 8 | G51: 4.487 | H51: =ROUND(G51*E51*2,2) -> 71.79 | I51: =ROUND(H51*1.2359,2) -> 88.73
A52: Māsas palīgs | B52: 1 | C52: =D52+E52 -> 180 | D52: 166 | E52: 14 | G52: 4.487 | H52: =ROUND(G52*E52*2,2) -> 125.64 | I52: =ROUND(H52*1.2359,2) -> 155.28
A53: Pārējie darbinieki, kuri tieši iesaistīti darbā ar Covid-19, kopā, tai skaitā: | B53: =SUM(B54:B58) -> 5 | E53: =SUM(E54:E58) -> 58 | H53: =SUM(H54:H58) -> 485.93 | I53: =SUM(I54:I58) -> 600.57
A54: Sanitārs | B54: 1 | C54: =D54+E54 -> 172 | D54: 166 | E54: 6 | G54: 4.189 | H54: =ROUND(G54*E54*2,2) -> 50.27 | I54: =ROUND(H54*1.2359,2) -> 62.13
A55: Sanitārs | B55: 1 | C55: =D55+E55 -> 178 | D55: 166 | E55: 12 | G55: 4.189 | H55: =ROUND(G55*E55*2,2) -> 100.54 | I55: =ROUND(H55*1.2359,2) -> 124.26
A56: Sanitārs | B56: 1 | C56: =D56+E56 -> 177 | D56: 166 | E56: 11 | G56: 4.189 | H56: =ROUND(G56*E56*2,2) -> 92.16 | I56: =ROUND(H56*1.2359,2) -> 113.9
A57: Sanitārs | B57: 1 | C57: =D57+E57 -> 189 | D57: 166 | E57: 23 | G57: 4.189 | H57: =ROUND(G57*E57*2,2) -> 192.69 | I57: =ROUND(H57*1.2359,2) -> 238.15
A58: Sanitārs | B58: 1 | C58: =D58+E58 -> 172 | D58: 166 | E58: 6 | G58: 4.189 | H58: =ROUND(G58*E58*2,2) -> 50.27 | I58: =ROUND(H58*1.2359,2) -> 62.13
A59: UZŅEMŠANAS NODAĻA | B59: =B60+B76+B82 -> 21 | E59: =E60+E76+E82 -> 380 | H59: =H60+H76+H82 -> 4435.84 | I59: =I60+I76+I82 -> 5482.23
A60: Ārstniecības un pacientu aprūpes personas un funkcionālo speciālistu asistenti, kopā, tai skaitā: | B60: =SUM(B61:B75) -> 15 | E60: =SUM(E61:E75) -> 263 | H60: =SUM(H61:H75) -> 3403.16 | I60: =SUM(I61:I75) -> 4205.95
A61: Ārsta palīgs | B61: 1 | C61: =D61+E61 -> 168 | D61: 166 | E61: 2 | G61: 6.519 | H61: =ROUND(G61*E61*2,2) -> 26.08 | I61: =ROUND(H61*1.2359,2) -> 32.23
A62: Ārsta palīgs | B62: 1 | C62: =D62+E62 -> 168 | D62: 166 | E62: 2 | G62: 6.519 | H62: =ROUND(G62*E62*2,2) -> 26.08 | I62: =ROUND(H62*1.2359,2) -> 32.23
A63: Ārsta palīgs | B63: 1 | C63: =D63+E63 -> 168 | D63: 166 | E63: 2 | G63: 6.519 | H63: =ROUND(G63*E63*2,2) -> 26.08 | I63: =ROUND(H63*1.2359,2) -> 32.23
A64: Ārsta palīgs | B64: 1 | C64: =D64+E64 -> 176 | D64: 166 | E64: 10 | G64: 6.519 | H64: =ROUND(G64*E64*2,2) -> 130.38 | I64: =ROUND(H64*1.2359,2) -> 161.14
A65: Ārsta palīgs | B65: 1 | C65: =D65+E65 -> 250 | D65: 166 | E65: 84 | G65: 6.519 | H65: =ROUND(G65*E65*2,2) -> 1095.19 | I65: =ROUND(H65*1.2359,2) -> 1353.55
A66: Ārsta palīgs | B66: 1 | C66: =D66+E66 -> 184 | D66: 166 | E66: 18 | G66: 6.519 | H66: =ROUND(G66*E66*2,2) -> 234.68 | I66: =ROUND(H66*1.2359,2) -> 290.04
A67: Māsa/vispārējās aprūpes māsa | B67: 1 | C67: =D67+E67 -> 168 | D67: 166 | E67: 2 | G67: 6.519 | H67: =ROUND(G67*E67*2,2) -> 26.08 | I67: =ROUND(H67*1.2359,2) -> 32.23
A68: Māsa/vispārējās aprūpes māsa | B68: 1 | C68: =D68+E68 -> 192 | D68: 166 | E68: 26 | G68: 6.402 | H68: =ROUND(G68*E68*2,2) -> 332.9 | I68: =ROUND(H68*1.2359,2) -> 411.43
A69: Māsa/vispārējās aprūpes māsa | B69: 1 | C69: =D69+E69 -> 174 | D69: 166 | E69: 8 | G69: 6.879 | H69: =ROUND(G69*E69*2,2) -> 110.06 | I69: =ROUND(H69*1.2359,2) -> 136.02
A70: Māsa/vispārējās aprūpes māsa | B70: 1 | C70: =D70+E70 -> 192 | D70: 166 | E70: 26 | G70: 6.402 | H70: =ROUND(G70*E70*2,2) -> 332.9 | I70: =ROUND(H70*1.2359,2) -> 411.43
A71: Māsa/vispārējās aprūpes māsa | B71: 1 | C71: =D71+E71 -> 176 | D71: 166 | E71: 10 | G71: 6.402 | H71: =ROUND(G71*E71*2,2) -> 128.04 | I71: =ROUND(H71*1.2359,2) -> 158.24
A72: Māsa/vispārējās aprūpes māsa | B72: 1 | C72: =D72+E72 -> 185 | D72: 166 | E72: 19 | G72: 6.402 | H72: =ROUND(G72*E72*2,2) -> 243.28 | I72: =ROUND(H72*1.2359,2) -> 300.67
... A75: Māsa/vispārējās aprūpes māsa | B75: 1 | C75: =D75+E75 -> 168 | D75: 166 | E75: 2 | G75: 6.402 | H75: =ROUND(G75*E75*2,2) -> 25.61 | I75: =ROUND(H75*1.2359,2) -> 31.65
A76: Ārstniecības un pacientu aprūpes atbalsta personas, māsu palīgi, zobārstu aistenti, kopā, tai skaitā: | B76: =SUM(B77:B81) -> 5 | E76: =SUM(E77:E81) -> 88 | H76: =SUM(H77:H81) -> 789.72 | I76: =SUM(I77:I81) -> 976.01
A77: Māsas palīgs | B77: 1 | C77: =D77+E77 -> 200 | D77: 166 | E77: 34 | G77: 4.487 | H77: =ROUND(G77*E77*2,2) -> 305.12 | I77: =ROUND(H77*1.2359,2) -> 377.1
A78: Māsas palīgs | B78: 1 | C78: =D78+E78 -> 170 | D78: 166 | E78: 4 | G78: 4.487 | H78: =ROUND(G78*E78*2,2) -> 35.9 | I78: =ROUND(H78*1.2359,2) -> 44.37
A79: Māsas palīgs | B79: 1 | C79: =D79+E79 -> 188 | D79: 166 | E79: 22 | G79: 4.487 | H79: =ROUND(G79*E79*2,2) -> 197.43 | I79: =ROUND(H79*1.2359,2) -> 244
A80: Māsas palīgs | B80: 1 | C80: =D80+E80 -> 178 | D80: 166 | E80: 12 | G80: 4.487 | H80: =ROUND(G80*E80*2,2) -> 107.69 | I80: =ROUND(H80*1.2359,2) -> 133.09
A81: Māsas palīgs | B81: 1 | C81: =D81+E81 -> 182 | D81: 166 | E81: 16 | G81: 4.487 | H81: =ROUND(G81*E81*2,2) -> 143.58 | I81: =ROUND(H81*1.2359,2) -> 177.45
A82: Pārējie darbinieki, kuri tieši iesaistīti darbā ar Covid-19, kopā, tai skaitā: | B82: =SUM(B83:B83) -> 1 | E82: =SUM(E83:E83) -> 29 | H82: =SUM(H83:H83) -> 242.96 | I82: =SUM(I83:I83) -> 300.27
A83: Sanitārs | B83: 1 | C83: =D83+E83 -> 195 | D83: 166 | E83: 29 | G83: 4.189 | H83: =ROUND(G83*E83*2,2) -> 242.96 | I83: =ROUND(H83*1.2359,2) -> 300.27
A84: ĶIRURĢIJAS NODAĻA | B84: =B85+B88+B96 -> 13 | E84: =E85+E88+E96 -> 116 | H84: =H85+H88+H96 -> 1524.45 | I84: =I85+I88+I96 -> 1884.08
A85: Ārsti, zobārsti un funkcionālie speciālisti, kopā, tai skaitā: | B85: =SUM(B86:B87) -> 2 | E85: =SUM(E86:E87) -> 16 | H85: =SUM(H86:H87) -> 313.01 | I85: =SUM(I86:I87) -> 386.85
A86: Ķirurgs | B86: 1 | C86: =D86+E86 -> 175 | D86: 166 | E86: 9 | G86: 9.646 | H86: =ROUND(G86*E86*2,2) -> 173.63 | I86: =ROUND(H86*1.2359,2) -> 214.59
A87: Ķirurgs (dežūrārsts) | B87: 1 | C87: =D87+E87 -> 173 | D87: 166 | E87: 7 | G87: 9.956 | H87: =ROUND(G87*E87*2,2) -> 139.38 | I87: =ROUND(H87*1.2359,2) -> 172.26
A88: Ārstniecības un pacientu aprūpes personas un funkcionālo speciālistu asistenti, kopā, tai skaitā: | B88: =SUM(B89:B95) -> 7 | E88: =SUM(E89:E95) -> 82 | H88: =SUM(H89:H95) -> 1049.92 | I88: =SUM(I89:I95) -> 1297.6
A89: Māsa/vispārējās aprūpes māsa | B89: 1 | C89: =D89+E89 -> 169 | D89: 166 | E89: 3 | G89: 6.402 | H89: =ROUND(G89*E89*2,2) -> 38.41 | I89: =ROUND(H89*1.2359,2) -> 47.47
A90: Māsa/vispārējās aprūpes māsa | B90: 1 | C90: =D90+E90 -> 179 | D90: 166 | E90: 13 | G90: 6.402 | H90: =ROUND(G90*E90*2,2) -> 166.45 | I90: =ROUND(H90*1.2359,2) -> 205.72
A91: Māsa/vispārējās aprūpes māsa | B91: 1 | C91: =D91+E91 -> 183 | D91: 166 | E91: 17 | G91: 6.402 | H91: =ROUND(G91*E91*2,2) -> 217.67 | I91: =ROUND(H91*1.2359,2) -> 269.02
A92: Māsa/vispārējās aprūpes māsa | B92: 1 | C92: =D92+E92 -> 182 | D92: 166 | E92: 16 | G92: 6.402 | H92: =ROUND(G92*E92*2,2) -> 204.86 | I92: =ROUND(H92*1.2359,2) -> 253.19
A93: Māsa/vispārējās aprūpes māsa | B93: 1 | C93: =D93+E93 -> 176 | D93: 166 | E93: 10 | G93: 6.402 | H93: =ROUND(G93*E93*2,2) -> 128.04 | I93: =ROUND(H93*1.2359,2) -> 158.24
A94: Māsa/vispārējās aprūpes māsa | B94: 1 | C94: =D94+E94 -> 176 | D94: 166 | E94: 10 | G94: 6.402 | H94: =ROUND(G94*E94*2,2) -> 128.04 | I94: =ROUND(H94*1.2359,2) -> 158.24
A95: Māsa/vispārējās aprūpes māsa | B95: 1 | C95: =D95+E95 -> 179 | D95: 166 | E95: 13 | G95: 6.402 | H95: =ROUND(G95*E95*2,2) -> 166.45 | I95: =ROUND(H95*1.2359,2) -> 205.72
A96: Ārstniecības un pacientu aprūpes atbalsta personas, māsu palīgi, zobārstu aistenti, kopā, tai skaitā: | B96: =SUM(B97:B100) -> 4 | E96: =SUM(E97:E100) -> 18 | H96: =SUM(H97:H100) -> 161.52 | I96: =SUM(I97:I100) -> 199.63
A97: Māsas palīgs | B97: 1 | C97: =D97+E97 -> 169 | D97: 166 | E97: 3 | G97: 4.487 | H97: =ROUND(G97*E97*2,2) -> 26.92 | I97: =ROUND(H97*1.2359,2) -> 33.27
A98: Māsas palīgs | B98: 1 | C98: =D98+E98 -> 172 | D98: 166 | E98: 6 | G98: 4.487 | H98: =ROUND(G98*E98*2,2) -> 53.84 | I98: =ROUND(H98*1.2359,2) -> 66.54
A99: Māsas palīgs | B99: 1 | C99: =D99+E99 -> 174 | D99: 166 | E99: 8 | G99: 4.487 | H99: =ROUND(G99*E99*2,2) -> 71.79 | I99: =ROUND(H99*1.2359,2) -> 88.73
A100: Māsas palīgs | B100: 1 | C100: =D100+E100 -> 167 | D100: 166 | E100: 1 | G100: 4.487 | H100: =ROUND(G100*E100*2,2) -> 8.97 | I100: =ROUND(H100*1.2359,2) -> 11.09
A101: BĒRNU NODAĻA | B101: =B102+B104+B107 -> 4 | E101: =E102+E104+E107 -> 67 | H101: =H102+H104+H107 -> 1006.55 | I101: =I102+I104+I107 -> 1243.99
A102: Ārsti, zobārsti un funkcionālie speciālisti, kopā, tai skaitā: | B102: =SUM(B103:B103) -> 1 | E102: =SUM(E103:E103) -> 29 | H102: =SUM(H103:H103) -> 577.45 | I102: =SUM(I103:I103) -> 713.67
A103: Pediatrs (dežūrārsts) | B103: 1 | C103: =D103+E103 -> 195 | D103: 166 | E103: 29 | G103: 9.956 | H103: =ROUND(G103*E103*2,2) -> 577.45 | I103: =ROUND(H103*1.2359,2) -> 713.67
A104: Ārstniecības un pacientu aprūpes personas un funkcionālo speciālistu asistenti, kopā, tai skaitā: | B104: =SUM(B105:B106) -> 2 | E104: =SUM(E105:E106) -> 23 | H104: =SUM(H105:H106) -> 294.49 | I104: =SUM(I105:I106) -> 363.96
...

Sheet Z-Kurzeme_dec
H1: Pielikums Nr.7
A2: Pārskats par darba veicējiem (ārstniecības personām), virs normālā darba laika nostrādātām stundām, apmaksājamām stundām un izdevumiem, kas radušies saistībā ar mērķi ierobežot Covid-19 izplatību
A4: Iestādes nosaukums: SIA "Ziemeļkurzemes reģionālā slimnīca"
A5: Pārskata mēnesis: Decembris
B7: Nodarbināto skaits mēnesī | C7: Apmaksājamais laiks mēnesī, stundas (tai skaitā summētā darba laika ietvaros) | F7: Mēnešalga no kuras rēķina stundas likmi | G7: Stundas likme (aprēķināta atbilstoši mēnešalgai vai darba līgumā noteiktā stundas likme) | H7: Apmaksājamā 100% piemaksa par nostrādātām virsstundām virs normālā darba laika (tai skaitā summētā darba laika ietvaros) | I7: Izdevumi par virsstundām kopā ar VSOAI, EUR
C8: Kopā | D8: līdz normālam darba laikam | E8: virsstundas - virs normālā darba laika, kas saistītas ar darbu ar Covid-19
A9: 1 | B9: 2 | C9: 3=4+5 | D9: 4 | E9: 5 | F9: 6 | G9: 7 | H9: 8 | I9: 9=8 + VSOAI
A10: KOPĀ | B10: =B11+B25+B42+B54+B78+B108+B126 -> 98 | E10: =E11+E25+E42+E54+E78+E108+E126 -> 2281 | H10: =H11+H25+H42+H54+H78+H108+H126 -> 29611.52 | I10: =I11+I25+I42+I54+I78+I108+I126 -> 36596.87
A11: INFEKCIJAS NODAĻA | B11: =B12+B21+B18 -> 10 | E11: =E12+E21+E18 -> 437 | H11: =H12+H21+H18 -> 4879.75 | I11: =I12+I21+I18 -> 6030.88
A12: Ārstniecības un pacientu aprūpes personas un funkcionālo speciālistu asistenti, kopā, tai skaitā: | B12: =SUM(B13:B17) -> 5 | C12: =SUM(C13:C17) -> 839 | D12: =SUM(D13:D17) -> 695 | E12: =SUM(E13:E17) -> 144 | H12: =SUM(H13:H17) -> 2028.66 | I12: =SUM(I13:I17) -> 2507.22
A13: Māsa/vispārējās aprūpes māsa | B13: 1 | C13: =D13+E13 -> 188 | D13: 139 | E13: 49 | G13: 7.044 | H13: =ROUND(G13*E13*2,2) -> 690.31 | I13: =ROUND(H13*1.2359,2) -> 853.15
A14: Māsa/vispārējās aprūpes māsa | B14: 1 | C14: =D14+E14 -> 193 | D14: 139 | E14: 54 | G14: 7.044 | H14: =ROUND(G14*E14*2,2) -> 760.75 | I14: =ROUND(H14*1.2359,2) -> 940.21
A15: Māsa/vispārējās aprūpes māsa | B15: 1 | C15: =D15+E15 -> 153 | D15: 139 | E15: 14 | G15: 7.044 | H15: =ROUND(G15*E15*2,2) -> 197.23 | I15: =ROUND(H15*1.2359,2) -> 243.76
A16: Māsa/vispārējās aprūpes māsa | B16: 1 | C16: =D16+E16 -> 152 | D16: 139 | E16: 13 | G16: 7.044 | H16: =ROUND(G16*E16*2,2) -> 183.14 | I16: =ROUND(H16*1.2359,2) -> 226.34
A17: Māsa/vispārējās aprūpes māsa | B17: 1 | C17: =D17+E17 -> 153 | D17: 139 | E17: 14 | G17: 7.044 | H17: =ROUND(G17*E17*2,2) -> 197.23 | I17: =ROUND(H17*1.2359,2) -> 243.76
A18: Ārstniecības un pacientu aprūpes atbalsta personas, māsu palīgi, zobārstu aistenti, kopā, tai skaitā: | B18: =SUM(B19:B20) -> 2 | C18: =SUM(C19:C20) -> 341 | D18: 278 | E18: =SUM(E19:E20) -> 63 | H18: =SUM(H19:H20) -> 646.76 | I18: =SUM(I19:I20) -> 799.33
A19: Māsas palīgs | B19: 1 | C19: =D19+E19 -> 176 | D19: 139 | E19: 37 | G19: 5.133 | H19: =ROUND(G19*E19*2,2) -> 379.84 | I19: =ROUND(H19*1.2359,2) -> 469.44
A20: Māsas palīgs | B20: 1 | C20: =D20+E20 -> 165 | D20: 139 | E20: 26 | G20: 5.133 | H20: =ROUND(G20*E20*2,2) -> 266.92 | I20: =ROUND(H20*1.2359,2) -> 329.89
A21: Pārējie darbinieki, kuri tieši iesaistīti darbā ar Covid-19, kopā, tai skaitā: | B21: =SUM(B22:B24) -> 3 | C21: =SUM(C22:C24) -> 647 | D21: 417 | E21: =SUM(E22:E24) -> 230 | H21: =SUM(H22:H24) -> 2204.33 | I21: =SUM(I22:I24) -> 2724.33
A22: Sanitārs | B22: 1 | C22: =D22+E22 -> 201 | D22: 139 | E22: 62 | G22: 4.792 | H22: =ROUND(G22*E22*2,2) -> 594.21 | I22: =ROUND(H22*1.2359,2) -> 734.38
A23: Sanitārs | B23: 1 | C23: =D23+E23 -> 243 | D23: 139 | E23: 104 | G23: 4.792 | H23: =ROUND(G23*E23*2,2) -> 996.74 | I23: =ROUND(H23*1.2359,2) -> 1231.87
A24: Sanitārs | B24: 1 | C24: =D24+E24 -> 203 | D24: 139 | E24: 64 | G24: 4.792 | H24: =ROUND(G24*E24*2,2) -> 613.38 | I24: =ROUND(H24*1.2359,2) -> 758.08
A25: IEKŠĶĪGO SLIMĪBU NODAĻA | B25: =B26+B31+B38+B40 -> 12 | E25: =E26+E31+E38+E40 -> 263 | H25: =H26+H31+H38+H40 -> 4380.29 | I25: =I26+I31+I38+I40 -> 5413.59
A26: Ārsti, zobārsti un funkcionālie speciālisti, kopā, tai skaitā: | B26: =SUM(B27:B30) -> 4 | E26: =SUM(E27:E30) -> 156 | H26: =SUM(H27:H30) -> 3035.59 | I26: =SUM(I27:I30) -> 3751.68
A27: Internists | B27: 1 | C27: =D27+E27 -> 236 | D27: 160 | E27: 76 | G27: 9.646 | H27: =ROUND(G27*E27*2,2) -> 1466.19 | I27: =ROUND(H27*1.2359,2) -> 1812.06
A28: Internists | B28: 1 | C28: =D28+E28 -> 198 | D28: 160 | E28: 38 | G28: 9.646 | H28: =ROUND(G28*E28*2,2) -> 733.1 | I28: =ROUND(H28*1.2359,2) -> 906.04
A29: Internists (dežūrārsts) | B29: 1 | C29: =D29+E29 -> 181 | D29: 160 | E29: 21 | G29: 9.956 | H29: =ROUND(G29*E29*2,2) -> 418.15 | I29: =ROUND(H29*1.2359,2) -> 516.79
A30: Internists (dežūrārsts) | B30: 1 | C30: =D30+E30 -> 181 | D30: 160 | E30: 21 | G30: 9.956 | H30: =ROUND(G30*E30*2,2) -> 418.15 | I30: =ROUND(H30*1.2359,2) -> 516.79
A31: Ārstniecības un pacientu aprūpes personas un funkcionālo speciālistu asistenti, kopā, tai skaitā: | B31: =SUM(B32:B37) -> 6 | E31: =SUM(E32:E37) -> 91 | H31: =SUM(H32:H37) -> 1205.89 | I31: =SUM(I32:I37) -> 1490.35
A32: Māsa/vispārējās aprūpes māsa | B32: 1 | C32: =D32+E32 -> 163 | D32: 160 | E32: 3 | G32: 6.811 | H32: =ROUND(G32*E32*2,2) -> 40.87 | I32: =ROUND(H32*1.2359,2) -> 50.51
A33: Māsa/vispārējās aprūpes māsa | B33: 1 | C33: =D33+E33 -> 188 | D33: 160 | E33: 28 | G33: 6.954 | H33: =ROUND(G33*E33*2,2) -> 389.42 | I33: =ROUND(H33*1.2359,2) -> 481.28
A34: Māsa/vispārējās aprūpes māsa | B34: 1 | C34: =D34+E34 -> 169 | D34: 160 | E34: 9 | G34: 6.811 | H34: =ROUND(G34*E34*2,2) -> 122.6 | I34: =ROUND(H34*1.2359,2) -> 151.52
A35: Māsa/vispārējās aprūpes māsa | B35: 1 | C35: =D35+E35 -> 168 | D35: 160 | E35: 8 | G35: 6.402 | H35: =ROUND(G35*E35*2,2) -> 102.43 | I35: =ROUND(H35*1.2359,2) -> 126.59
A36: Māsa/vispārējās aprūpes māsa | B36: 1 | C36: =D36+E36 -> 168 | D36: 160 | E36: 8 | G36: 6.402 | H36: =ROUND(G36*E36*2,2) -> 102.43 | I36: =ROUND(H36*1.2359,2) -> 126.59
A37: Māsa/vispārējās aprūpes māsa | B37: 1 | C37: =D37+E37 -> 195 | D37: 160 | E37: 35 | G37: 6.402 | H37: =ROUND(G37*E37*2,2) -> 448.14 | I37: =ROUND(H37*1.2359,2) -> 553.86
A38: Ārstniecības un pacientu aprūpes atbalsta personas, māsu palīgi, zobārstu aistenti, kopā, tai skaitā: | B38: =SUM(B39:B39) -> 1 | E38: =SUM(E39:E39) -> 8 | H38: =SUM(H39:H39) -> 71.79 | I38: =SUM(I39:I39) -> 88.73
A39: Māsas palīgs | B39: 1 | C39: =D39+E39 -> 168 | D39: 160 | E39: 8 | G39: 4.487 | H39: =ROUND(G39*E39*2,2) -> 71.79 | I39: =ROUND(H39*1.2359,2) -> 88.73
A40: Pārējie darbinieki, kuri tieši iesaistīti darbā ar Covid-19, kopā, tai skaitā: | B40: =SUM(B41:B41) -> 1 | E40: =SUM(E41:E41) -> 8 | H40: =SUM(H41:H41) -> 67.02 | I40: =SUM(I41:I41) -> 82.83
A41: Sanitārs | B41: 1 | C41: =D41+E41 -> 168 | D41: 160 | E41: 8 | G41: 4.189 | H41: =ROUND(G41*E41*2,2) -> 67.02 | I41: =ROUND(H41*1.2359,2) -> 82.83
A42: KARDIOLOĢIJAS NODAĻA | B42: =B43+B52 -> 9 | E42: =E43+E52 -> 100 | H42: =H43+H52 -> 1262.72 | I42: =I43+I52 -> 1560.59
A43: Ārstniecības un pacientu aprūpes personas un funkcionālo speciālistu asistenti, kopā, tai skaitā: | B43: =SUM(B44:B51) -> 8 | E43: =SUM(E44:E51) -> 93 | H43: =SUM(H44:H51) -> 1199.9 | I43: =SUM(I44:I51) -> 1482.95
A44: Māsa/vispārējās aprūpes māsa | B44: 1 | C44: =D44+E44 -> 167 | D44: 160 | E44: 7 | G44: 6.402 | H44: =ROUND(G44*E44*2,2) -> 89.63 | I44: =ROUND(H44*1.2359,2) -> 110.77
A45: Māsa/vispārējās aprūpes māsa | B45: 1 | C45: =D45+E45 -> 174 | D45: 160 | E45: 14 | G45: 6.402 | H45: =ROUND(G45*E45*2,2) -> 179.26 | I45: =ROUND(H45*1.2359,2) -> 221.55
A46: Māsa/vispārējās aprūpes māsa | B46: 1 | C46: =D46+E46 -> 174 | D46: 160 | E46: 14 | G46: 6.519 | H46: =ROUND(G46*E46*2,2) -> 182.53 | I46: =ROUND(H46*1.2359,2) -> 225.59
A47: Māsa/vispārējās aprūpes māsa | B47: 1 | C47: =D47+E47 -> 174 | D47: 160 | E47: 14 | G47: 6.519 | H47: =ROUND(G47*E47*2,2) -> 182.53 | I47: =ROUND(H47*1.2359,2) -> 225.59
A48: Māsa/vispārējās aprūpes māsa | B48: 1 | C48: =D48+E48 -> 171 | D48: 160 | E48: 11 | G48: 6.519 | H48: =ROUND(G48*E48*2,2) -> 143.42 | I48: =ROUND(H48*1.2359,2) -> 177.25
A49: Māsa/vispārējās aprūpes māsa | B49: 1 | C49: =D49+E49 -> 171 | D49: 160 | E49: 11 | G49: 6.402 | H49: =ROUND(G49*E49*2,2) -> 140.84 | I49: =ROUND(H49*1.2359,2) -> 174.06
A50: Māsa/vispārējās aprūpes māsa | B50: 1 | C50: =D50+E50 -> 178 | D50: 160 | E50: 18 | G50: 6.402 | H50: =ROUND(G50*E50*2,2) -> 230.47 | I50: =ROUND(H50*1.2359,2) -> 284.84
A51: Māsa/vispārējās aprūpes māsa | B51: 1 | C51: =D51+E51 -> 164 | D51: 160 | E51: 4 | G51: 6.402 | H51: =ROUND(G51*E51*2,2) -> 51.22 | I51: =ROUND(H51*1.2359,2) -> 63.3
A52: Ārstniecības un pacientu aprūpes atbalsta personas, māsu palīgi, zobārstu aistenti, kopā, tai skaitā: | B52: =SUM(B53:B53) -> 1 | C52: =SUM(C53:C53) -> 167 | D52: 160 | E52: =SUM(E53:E53) -> 7 | H52: =SUM(H53:H53) -> 62.82 | I52: =SUM(I53:I53) -> 77.64
A53: Māsas palīgs | B53: 1 | C53: =D53+E53 -> 167 | D53: 160 | E53: 7 | G53: 4.487 | H53: =ROUND(G53*E53*2,2) -> 62.82 | I53: =ROUND(H53*1.2359,2) -> 77.64
A54: NEIROLOĢIJAS NODAĻA | B54: =B55+B60+B68+B73 -> 19 | E54: =E55+E60+E68+E73 -> 427 | H54: =H55+H60+H68+H73 -> 6006.4 | I54: =I55+I60+I68+I73 -> 7423.32
A55: Ārsti, zobārsti un funkcionālie speciālisti, kopā, tai skaitā: | B55: =SUM(B56:B59) -> 4 | E55: =SUM(E56:E59) -> 139 | H55: =SUM(H56:H59) -> 2698.94 | I55: =SUM(I56:I59) -> 3335.62
A56: Neirologs | B56: 1 | C56: =D56+E56 -> 197 | D56: 160 | E56: 37 | G56: 9.646 | H56: =ROUND(G56*E56*2,2) -> 713.8 | I56: =ROUND(H56*1.2359,2) -> 882.19
A57: Neirologs | B57: 1 | C57: =D57+E57 -> 234 | D57: 160 | E57: 74 | G57: 9.646 | H57: =ROUND(G57*E57*2,2) -> 1427.61 | I57: =ROUND(H57*1.2359,2) -> 1764.38
A58: Neirologs (dežūrārsts) | B58: 1 | C58: =D58+E58 -> 177 | D58: 160 | E58: 17 | G58: 9.956 | H58: =ROUND(G58*E58*2,2) -> 338.5 | I58: =ROUND(H58*1.2359,2) -> 418.35
A59: Neirologs (dežūrārsts) | B59: 1 | C59: =D59+E59 -> 171 | D59: 160 | E59: 11 | G59: 9.956 | H59: =ROUND(G59*E59*2,2) -> 219.03 | I59: =ROUND(H59*1.2359,2) -> 270.7
A60: Ārstniecības un pacientu aprūpes personas un funkcionālo speciālistu asistenti, kopā, tai skaitā: | B60: =SUM(B61:B67) -> 7 | E60: =SUM(E61:E67) -> 175 | H60: =SUM(H61:H67) -> 2326.79 | I60: =SUM(I61:I67) -> 2875.68
A61: Māsa/vispārējās aprūpes māsa | B61: 1 | C61: =D61+E61 -> 181 | D61: 160 | E61: 21 | G61: 6.811 | H61: =ROUND(G61*E61*2,2) -> 286.06 | I61: =ROUND(H61*1.2359,2) -> 353.54
A62: Māsa/vispārējās aprūpes māsa | B62: 1 | C62: =D62+E62 -> 175 | D62: 160 | E62: 15 | G62: 6.954 | H62: =ROUND(G62*E62*2,2) -> 208.62 | I62: =ROUND(H62*1.2359,2) -> 257.83
A63: Māsa/vispārējās aprūpes māsa | B63: 1 | C63: =D63+E63 -> 196 | D63: 160 | E63: 36 | G63: 6.811 | H63: =ROUND(G63*E63*2,2) -> 490.39 | I63: =ROUND(H63*1.2359,2) -> 606.07
A64: Māsa/vispārējās aprūpes māsa | B64: 1 | C64: =D64+E64 -> 178 | D64: 160 | E64: 18 | G64: 6.402 | H64: =ROUND(G64*E64*2,2) -> 230.47 | I64: =ROUND(H64*1.2359,2) -> 284.84
A65: Māsa/vispārējās aprūpes māsa | B65: 1 | C65: =D65+E65 -> 200 | D65: 160 | E65: 40 | G65: 6.402 | H65: =ROUND(G65*E65*2,2) -> 512.16 | I65: =ROUND(H65*1.2359,2) -> 632.98
A66: Māsa/vispārējās aprūpes māsa | B66: 1 | C66: =D66+E66 -> 188 | D66: 160 | E66: 28 | G66: 6.811 | H66: =ROUND(G66*E66*2,2) -> 381.42 | I66: =ROUND(H66*1.2359,2) -> 471.4
A67: Māsa/vispārējās aprūpes māsa | B67: 1 | C67: =D67+E67 -> 177 | D67: 160 | E67: 17 | G67: 6.402 | H67: =ROUND(G67*E67*2,2) -> 217.67 | I67: =ROUND(H67*1.2359,2) -> 269.02
A68: Ārstniecības un pacientu aprūpes atbalsta personas, māsu palīgi, zobārstu aistenti, kopā, tai skaitā: | B68: =SUM(B69:B72) -> 4 | E68: =SUM(E69:E72) -> 57 | H68: =SUM(H69:H72) -> 511.51 | I68: =SUM(I69:I72) -> 632.18
A69: Māsas palīgs | B69: 1 | C69: =D69+E69 -> 186 | D69: 160 | E69: 26 | G69: 4.487 | H69: =ROUND(G69*E69*2,2) -> 233.32 | I69: =ROUND(H69*1.2359,2) -> 288.36
A70: Māsas palīgs | B70: 1 | C70: =D70+E70 -> 166 | D70: 160 | E70: 6 | G70: 4.487 | H70: =ROUND(G70*E70*2,2) -> 53.84 | I70: =ROUND(H70*1.2359,2) -> 66.54
A71: Māsas palīgs | B71: 1 | C71: =D71+E71 -> 174 | D71: 160 | E71: 14 | G71: 4.487 | H71: =ROUND(G71*E71*2,2) -> 125.64 | I71: =ROUND(H71*1.2359,2) -> 155.28
A72: Māsas palīgs | B72: 1 | C72: =D72+E72 -> 171 | D72: 160 | E72: 11 | G72: 4.487 | H72: =ROUND(G72*E72*2,2) -> 98.71 | I72: =ROUND(H72*1.2359,2) -> 122
A73: Pārējie darbinieki, kuri tieši iesaistīti darbā ar Covid-19, kopā, tai skaitā: | B73: =SUM(B74:B77) -> 4 | E73: =SUM(E74:E77) -> 56 | H73: =SUM(H74:H77) -> 469.16 | I73: =SUM(I74:I77) -> 579.84
A74: Sanitārs | B74: 1 | C74: =D74+E74 -> 174 | D74: 160 | E74: 14 | G74: 4.189 | H74: =ROUND(G74*E74*2,2) -> 117.29 | I74: =ROUND(H74*1.2359,2) -> 144.96
A75: Sanitārs | B75: 1 | C75: =D75+E75 -> 168 | D75: 160 | E75: 8 | G75: 4.189 | H75: =ROUND(G75*E75*2,2) -> 67.02 | I75: =ROUND(H75*1.2359,2) -> 82.83
A76: Sanitārs | B76: 1 | C76: =D76+E76 -> 168 | D76: 160 | E76: 8 | G76: 4.189 | H76: =ROUND(G76*E76*2,2) -> 67.02 | I76: =ROUND(H76*1.2359,2) -> 82.83
A77: Sanitārs | B77: 1 | C77: =D77+E77 -> 186 | D77: 160 | E77: 26 | G77: 4.189 | H77: =ROUND(G77*E77*2,2) -> 217.83 | I77: =ROUND(H77*1.2359,2) -> 269.22
A78: UZŅEMŠANAS NODAĻA | B78: =B79+B98+B106 -> 26 | E78: =E79+E98+E106 -> 775 | H78: =H79+H98+H106 -> 9359.89 | I78: =I79+I98+I106 -> 11567.87
A79: Ārstniecības un pacientu aprūpes personas un funkcionālo speciālistu asistenti, kopā, tai skaitā: | B79: =SUM(B80:B97) -> 18 | E79: =SUM(E80:E97) -> 615 | H79: =SUM(H80:H97) -> 7931.8 | I79: =SUM(I80:I97) -> 9802.9
A80: Ārsta palīgs | B80: 1 | C80: =D80+E80 -> 180 | D80: 160 | E80: 20 | G80: 6.519 | H80: =ROUND(G80*E80*2,2) -> 260.76 | I80: =ROUND(H80*1.2359,2) -> 322.27
A81: Ārsta palīgs | B81: 1 | C81: =D81+E81 -> 172 | D81: 160 | E81: 12 | G81: 6.519 | H81: =ROUND(G81*E81*2,2) -> 156.46 | I81: =ROUND(H81*1.2359,2) -> 193.37
A82: Ārsta palīgs | B82: 1 | C82: =D82+E82 -> 171 | D82: 160 | E82: 11 | G82: 6.519 | H82: =ROUND(G82*E82*2,2) -> 143.42 | I82: =ROUND(H82*1.2359,2) -> 177.25
A83: Ārsta palīgs | B83: 1 | C83: =D83+E83 -> 171 | D83: 160 | E83: 11 | G83: 6.519 | H83: =ROUND(G83*E83*2,2) -> 143.42 | I83: =ROUND(H83*1.2359,2) -> 177.25
A84: Ārsta palīgs | B84: 1 | C84: =D84+E84 -> 204 | D84: 160 | E84: 44 | G84: 6.519 | H84: =ROUND(G84*E84*2,2) -> 573.67 | I84: =ROUND(H84*1.2359,2) -> 709
A85: Ārsta palīgs | B85: 1 | C85: =D85+E85 -> 189 | D85: 160 | E85: 29 | G85: 6.519 | H85: =ROUND(G85*E85*2,2) -> 378.1 | I85: =ROUND(H85*1.2359,2) -> 467.29
A86: Ārsta palīgs | B86: 1 | C86: =D86+E86 -> 222 | D86: 160 | E86: 62 | G86: 6.519 | H86: =ROUND(G86*E86*2,2) -> 808.36 | I86: =ROUND(H86*1.2359,2) -> 999.05
A87: Māsa/vispārējās aprūpes māsa | B87: 1 | C87: =D87+E87 -> 184 | D87: 160 | E87: 24 | G87: 6.519 | H87: =ROUND(G87*E87*2,2) -> 312.91 | I87: =ROUND(H87*1.2359,2) -> 386.73
A88: Māsa/vispārējās aprūpes māsa | B88: 1 | C88: =D88+E88 -> 192 | D88: 160 | E88: 32 | G88: 6.519 | H88: =ROUND(G88*E88*2,2) -> 417.22 | I88: =ROUND(H88*1.2359,2) -> 515.64
A89: Māsa/vispārējās aprūpes māsa | B89: 1 | C89: =D89+E89 -> 180 | D89: 160 | E89: 20 | G89: 6.402 | H89: =ROUND(G89*E89*2,2) -> 256.08 | I89: =ROUND(H89*1.2359,2) -> 316.49
A90: Māsa/vispārējās aprūpes māsa | B90: 1 | C90: =D90+E90 -> 194 | D90: 160 | E90: 34 | G90: 6.402 | H90: =ROUND(G90*E90*2,2) -> 435.34 | I90: =ROUND(H90*1.2359,2) -> 538.04
A91: Māsa/vispārējās aprūpes māsa | B91: 1 | C91: =D91+E91 -> 193 | D91: 160 | E91: 33 | G91: 6.402 | H91: =ROUND(G91*E91*2,2) -> 422.53 | I91: =ROUND(H91*1.2359,2) -> 522.2
... A97: Māsa/vispārējās aprūpes māsa | B97: 1 | C97: =D97+E97 -> 216 | D97: 160 | E97: 56 | G97: 6.402 | H97: =ROUND(G97*E97*2,2) -> 717.02 | I97: =ROUND(H97*1.2359,2) -> 886.17
A98: Ārstniecības un pacientu aprūpes atbalsta personas, māsu palīgi, zobārstu aistenti, kopā, tai skaitā: | B98: =SUM(B99:B105) -> 7 | E98: =SUM(E99:E105) -> 147 | H98: =SUM(H99:H105) -> 1319.18 | I98: =SUM(I99:I105) -> 1630.37
A99: Māsas palīgs | B99: 1 | C99: =D99+E99 -> 192 | D99: 160 | E99: 32 | G99: 4.487 | H99: =ROUND(G99*E99*2,2) -> 287.17 | I99: =ROUND(H99*1.2359,2) -> 354.91
A100: Māsas palīgs | B100: 1 | C100: =D100+E100 -> 178 | D100: 160 | E100: 18 | G100: 4.487 | H100: =ROUND(G100*E100*2,2) -> 161.53 | I100: =ROUND(H100*1.2359,2) -> 199.63
A101: Māsas palīgs | B101: 1 | C101: =D101+E101 -> 172 | D101: 160 | E101: 12 | G101: 4.487 | H101: =ROUND(G101*E101*2,2) -> 107.69 | I101: =ROUND(H101*1.2359,2) -> 133.09
A102: Māsas palīgs | B102: 1 | C102: =D102+E102 -> 168 | D102: 160 | E102: 8 | G102: 4.487 | H102: =ROUND(G102*E102*2,2) -> 71.79 | I102: =ROUND(H102*1.2359,2) -> 88.73
A103: Māsas palīgs | B103: 1 | C103: =D103+E103 -> 184 | D103: 160 | E103: 24 | G103: 4.487 | H103: =ROUND(G103*E103*2,2) -> 215.38 | I103: =ROUND(H103*1.2359,2) -> 266.19
A104: Māsas palīgs | B104: 1 | C104: =D104+E104 -> 207 | D104: 160 | E104: 47 | G104: 4.487 | H104: =ROUND(G104*E104*2,2) -> 421.78 | I104: =ROUND(H104*1.2359,2) -> 521.28
A105: Māsas palīgs | B105: 1 | C105: =D105+E105 -> 166 | D105: 160 | E105: 6 | G105: 4.487 | H105: =ROUND(G105*E105*2,2) -> 53.84 | I105: =ROUND(H105*1.2359,2) -> 66.54
A106: Pārējie darbinieki, kuri tieši iesaistīti darbā ar Covid-19, kopā, tai skaitā: | B106: =SUM(B107:B107) -> 1 | E106: =SUM(E107:E107) -> 13 | H106: =SUM(H107:H107) -> 108.91 | I106: =SUM(I107:I107) -> 134.6
A107: Sanitārs | B107: 1 | C107: =D107+E107 -> 173 | D107: 160 | E107: 13 | G107: 4.189 | H107: =ROUND(G107*E107*2,2) -> 108.91 | I107: =ROUND(H107*1.2359,2) -> 134.6
...

Sheet Jelgava_okt
H1: Pielikums Nr.8
A2: Pārskats par darba veicējiem (ārstniecības personām), virs normālā darba laika nostrādātām stundām, apmaksājamām stundām un izdevumiem, kas radušies saistībā ar mērķi ierobežot Covid-19 izplatību
A4: Iestādes nosaukums: SIA Jelgavas pilsētas slimnīca
A5: Pārskata mēnesis: Oktobris
B7: Nodarbināto skaits mēnesī | C7: Apmaksājamais laiks mēnesī, stundas (tai skaitā summētā darba laika ietvaros) | F7: Mēnešalga no kuras rēķina stundas likmi | G7: Stundas likme (aprēķināta atbilstoši mēnešalgai vai darba līgumā noteiktā stundas likme) | H7: Apmaksājamā 100% piemaksa par nostrādātām virsstundām virs normālā darba laika (tai skaitā summētā darba laika ietvaros) | I7: Izdevumi par virsstundām kopā ar VSOAI, EUR
C8: Kopā | D8: līdz normālam darba laikam | E8: virsstundas - virs normālā darba laika, kas saistītas ar darbu ar Covid-19
A9: 1 | B9: 2 | C9: 3=4+5 | D9: 4 | E9: 5 | F9: 6 | G9: 7 | H9: 8 | I9: 9=8 + VSOAI
A10: KOPĀ | B10: =B11+B13+B24+B27 -> 15 | E10: =E11+E13+E24+E27 -> 283 | H10: =H11+H13+H24+H27 -> 4261.16 | I10: =I11+I13+I24+I27 -> 5266.38
A11: Ārsti, zobārsti un funkcionālie speciālisti, kopā, tai skaitā: | B11: =B12 -> 1 | E11: =E12 -> 24 | H11: =H12 -> 447.02 | I11: =I12 -> 552.47
A12: Ārsts | B12: 1 | C12: 171 | D12: 147 | E12: =ROUND(C12-D12,1) -> 24 | F12: 1369 | G12: =F12/D12 -> 9.3129252 | H12: =ROUND(E12*G12*2,2) -> 447.02 | I12: =ROUND(H12*1.2359,2) -> 552.47
A13: Ārstniecības un pacientu aprūpes personas un funkcionālo speciālistu asistenti, kopā, tai skaitā: | B13: =SUM(B14:B23) -> 10 | E13: =SUM(E14:E23) -> 225 | H13: =SUM(H14:H23) -> 3380.55 | I13: =SUM(I14:I23) -> 4178.03
A14: Medicīnas māsa | B14: 1 | C14: 171 | D14: 147 | E14: =ROUND(C14-D14,1) -> 24 | F14: 1190 | G14: =F14/D14 -> 8.0952381 | H14: =ROUND(E14*G14*2,2) -> 388.57 | I14: =ROUND(H14*1.2359,2) -> 480.23
A15: Medicīnas māsa | B15: 1 | C15: 193 | D15: 147 | E15: =ROUND(C15-D15,1) -> 46 | F15: 1190 | G15: =F15/D15 -> 8.0952381 | H15: =ROUND(E15*G15*2,2) -> 744.76 | I15: =ROUND(H15*1.2359,2) -> 920.45
A16: Medicīnas māsa | B16: 1 | C16: 158 | D16: 147 | E16: =ROUND(C16-D16,1) -> 11 | F16: 1190 | G16: =F16/D16 -> 8.0952381 | H16: =ROUND(E16*G16*2,2) -> 178.1 | I16: =ROUND(H16*1.2359,2) -> 220.11
A17: Medicīnas māsa | B17: 1 | C17: 157 | D17: 147 | E17: =ROUND(C17-D17,1) -> 10 | F17: 1047 | G17: =F17/D17 -> 7.122449 | H17: =ROUND(E17*G17*2,2) -> 142.45 | I17: =ROUND(H17*1.2359,2) -> 176.05
A18: Medicīnas māsa | B18: 1 | C18: 161 | D18: 147 | E18: =ROUND(C18-D18,1) -> 14 | F18: 1190 | G18: =F18/D18 -> 8.0952381 | H18: =ROUND(E18*G18*2,2) -> 226.67 | I18: =ROUND(H18*1.2359,2) -> 280.14
A19: Medicīnas māsa | B19: 1 | C19: 192 | D19: 168 | E19: =ROUND(C19-D19,1) -> 24 | F19: 1190 | G19: =F19/D19 -> 7.0833333 | H19: =ROUND(E19*G19*2,2) -> 340 | I19: =ROUND(H19*1.2359,2) -> 420.21
A20: Medicīnas māsa | B20: 1 | C20: 192 | D20: 168 | E20: =ROUND(C20-D20,1) -> 24 | F20: 1190 | G20: =F20/D20 -> 7.0833333 | H20: =ROUND(E20*G20*2,2) -> 340 | I20: =ROUND(H20*1.2359,2) -> 420.21
A21: Medicīnas māsa | B21: 1 | C21: 192 | D21: 168 | E21: =ROUND(C21-D21,1) -> 24 | F21: 1190 | G21: =F21/D21 -> 7.0833333 | H21: =ROUND(E21*G21*2,2) -> 340 | I21: =ROUND(H21*1.2359,2) -> 420.21
A22: Medicīnas māsa | B22: 1 | C22: 192 | D22: 168 | E22: =ROUND(C22-D22,1) -> 24 | F22: 1190 | G22: =F22/D22 -> 7.0833333 | H22: =ROUND(E22*G22*2,2) -> 340 | I22: =ROUND(H22*1.2359,2) -> 420.21
A23: Medicīnas māsa | B23: 1 | C23: 192 | D23: 168 | E23: =ROUND(C23-D23,1) -> 24 | F23: 1190 | G23: =F23/D23 -> 7.0833333 | H23: =ROUND(E23*G23*2,2) -> 340 | I23: =ROUND(H23*1.2359,2) -> 420.21 | XEY23: =SUM(D23:XEX23) -> 2149.2933
A24: Ārstniecības un pacientu aprūpes atbalsta personas, māsu palīgi, zobārstu aistenti, kopā, tai skaitā: | B24: =SUM(B25:B26) -> 2 | E24: =SUM(E25:E26) -> 24 | H24: =SUM(H25:H26) -> 250 | I24: =SUM(I25:I26) -> 308.98
A25: Māsu palīgs | B25: 1 | C25: 180 | D25: 168 | E25: =ROUND(C25-D25,1) -> 12 | F25: 875 | G25: =F25/D25 -> 5.2083333 | H25: =ROUND(E25*G25*2,2) -> 125 | I25: =ROUND(H25*1.2359,2) -> 154.49
A26: Māsu palīgs | B26: 1 | C26: 180 | D26: 168 | E26: =ROUND(C26-D26,1) -> 12 | F26: 875 | G26: =F26/D26 -> 5.2083333 | H26: =ROUND(E26*G26*2,2) -> 125 | I26: =ROUND(H26*1.2359,2) -> 154.49
A27: Pārējie darbinieki, kuri tieši iesaistīti darbā ar Covid-19, kopā, tai skaitā: | B27: =SUM(B28:B29) -> 2 | E27: =SUM(E28:E29) -> 10 | H27: =SUM(H28:H29) -> 183.59 | I27: =SUM(I28:I29) -> 226.9
A28: Statistikas nodaļas vadītāja | B28: 1 | C28: 172 | D28: 168 | E28: =ROUND(C28-D28,1) -> 4 | F28: 1763 | G28: =F28/D28 -> 10.494048 | H28: =ROUND(E28*G28*2,2) -> 83.95 | I28: =ROUND(H28*1.2359,2) -> 103.75
A29: Veselības aprūpes statistiķis | B29: 1 | C29: 174 | D29: 168 | E29: =ROUND(C29-D29,1) -> 6 | F29: 1395 | G29: =F29/D29 -> 8.3035714 | H29: =ROUND(E29*G29*2,2) -> 99.64 | I29: =ROUND(H29*1.2359,2) -> 123.15

Sheet Jelgava_nov
H1: Pielikums Nr.9
A2: Pārskats par darba veicējiem (ārstniecības personām), virs normālā darba laika nostrādātām stundām, apmaksājamām stundām un izdevumiem, kas radušies saistībā ar mērķi ierobežot Covid-19 izplatību
A4: Iestādes nosaukums: SIA Jelgavas pilsētas slimnīca
A5: Pārskata mēnesis: Novembris
B7: Nodarbināto skaits mēnesī | C7: Apmaksājamais laiks mēnesī, stundas (tai skaitā summētā darba laika ietvaros) | F7: Mēnešalga no kuras rēķina stundas likmi | G7: Stundas likme (aprēķināta atbilstoši mēnešalgai vai darba līgumā noteiktā stundas likme) | H7: Apmaksājamā 100% piemaksa par nostrādātām virsstundām virs normālā darba laika (tai skaitā summētā darba laika ietvaros) | I7: Izdevumi par virsstundām kopā ar VSOAI, EUR
C8: Kopā | D8: līdz normālam darba laikam | E8: virsstundas - virs normālā darba laika, kas saistītas ar darbu ar Covid-19
A9: 1 | B9: 2 | C9: 3=4+5 | D9: 4 | E9: 5 | F9: 6 | G9: 7 | H9: 8 | I9: 9=8 + VSOAI
A10: KOPĀ | B10: =B11+B14 -> 4 | E10: =E11+E14 -> 57 | H10: =H11+H14 -> 959.26 | I10: =I11+I14 -> 1185.54
A11: Ārstniecības un pacientu aprūpes personas un funkcionālo speciālistu asistenti, kopā, tai skaitā: | B11: =SUM(B12:B13) -> 2 | E11: =SUM(E12:E13) -> 48 | H11: =SUM(H12:H13) -> 782.46 | I11: =SUM(I12:I13) -> 967.04
A12: Medicīnas māsa | B12: 1 | C12: 170 | D12: 146 | E12: =ROUND(C12-D12,1) -> 24 | F12: 1190 | G12: =F12/D12 -> 8.1506849 | H12: =ROUND(E12*G12*2,2) -> 391.23 | I12: =ROUND(H12*1.2359,2) -> 483.52
A13: Medicīnas māsa | B13: 1 | C13: 170 | D13: 146 | E13: =ROUND(C13-D13,1) -> 24 | F13: 1190 | G13: =F13/D13 -> 8.1506849 | H13: =ROUND(E13*G13*2,2) -> 391.23 | I13: =ROUND(H13*1.2359,2) -> 483.52
A14: Pārējie darbinieki, kuri tieši iesaistīti darbā ar Covid-19, kopā, tai skaitā: | B14: =SUM(B15:B16) -> 2 | E14: =SUM(E15:E16) -> 9 | H14: =SUM(H15:H16) -> 176.8 | I14: =SUM(I15:I16) -> 218.5
A15: Statistikas nodaļas vadītāja | B15: 1 | C15: 173 | D15: 167 | E15: =ROUND(C15-D15,1) -> 6 | F15: 1763 | G15: =F15/D15 -> 10.556886 | H15: =ROUND(E15*G15*2,2) -> 126.68 | I15: =ROUND(H15*1.2359,2) -> 156.56
A16: Veselības aprūpes statistiķis | B16: 1 | C16: 170 | D16: 167 | E16: =ROUND(C16-D16,1) -> 3 | F16: 1395 | G16: =F16/D16 -> 8.3532934 | H16: =ROUND(E16*G16*2,2) -> 50.12 | I16: =ROUND(H16*1.2359,2) -> 61.94

Sheet Jelgava_dec
H1: Pielikums Nr.10
A2: Pārskats par darba veicējiem (ārstniecības personām), virs normālā darba laika nostrādātām stundām, apmaksājamām stundām un izdevumiem, kas radušies saistībā ar mērķi ierobežot Covid-19 izplatību
A4: Iestādes nosaukums: SIA Jelgavas pilsētas slimnīca
A5: Pārskata mēnesis: Decembris
B7: Nodarbināto skaits mēnesī | C7: Apmaksājamais laiks mēnesī, stundas (tai skaitā summētā darba laika ietvaros) | F7: Mēnešalga no kuras rēķina stundas likmi | G7: Stundas likme (aprēķināta atbilstoši mēnešalgai vai darba līgumā noteiktā stundas likme) | H7: Apmaksājamā 100% piemaksa par nostrādātām virsstundām virs normālā darba laika (tai skaitā summētā darba laika ietvaros) | I7: Izdevumi par virsstundām kopā ar VSOAI, EUR
C8: Kopā | D8: līdz normālam darba laikam | E8: virsstundas - virs normālā darba laika, kas saistītas ar darbu ar Covid-19
A9: 1 | B9: 2 | C9: 3=4+5 | D9: 4 | E9: 5 | F9: 6 | G9: 7 | H9: 8 | I9: 9=8 + VSOAI
A10: KOPĀ | B10: =B11+B22 -> 12 | E10: =E11+E22 -> 177 | H10: =H11+H22 -> 2673.33 | I10: =I11+I22 -> 3303.97
A11: Ārstniecības un pacientu aprūpes personas un funkcionālo speciālistu asistenti, kopā, tai skaitā: | B11: =SUM(B12:B21) -> 10 | E11: =SUM(E12:E21) -> 167 | H11: =SUM(H12:H21) -> 2491.96 | I11: =SUM(I12:I21) -> 3079.82
A12: Medicīnas māsa | B12: 1 | C12: 190 | D12: 166 | E12: =ROUND(C12-D12,1) -> 24 | F12: 1190 | G12: =F12/D12 -> 7.1686747 | H12: =ROUND(E12*G12*2,2) -> 344.1 | I12: =ROUND(H12*1.2359,2) -> 425.27
A13: Medicīnas māsa | B13: 1 | C13: 157 | D13: 145 | E13: =ROUND(C13-D13,1) -> 12 | F13: 1190 | G13: =F13/D13 -> 8.2068966 | H13: =ROUND(E13*G13*2,2) -> 196.97 | I13: =ROUND(H13*1.2359,2) -> 243.44
A14: Medicīnas māsa | B14: 1 | C14: 156 | D14: 145 | E14: =ROUND(C14-D14,1) -> 11 | F14: 1190 | G14: =F14/D14 -> 8.2068966 | H14: =ROUND(E14*G14*2,2) -> 180.55 | I14: =ROUND(H14*1.2359,2) -> 223.14
A15: Medicīnas māsa | B15: 1 | C15: 157 | D15: 145 | E15: =ROUND(C15-D15,1) -> 12 | F15: 1190 | G15: =F15/D15 -> 8.2068966 | H15: =ROUND(E15*G15*2,2) -> 196.97 | I15: =ROUND(H15*1.2359,2) -> 243.44
A16: Medicīnas māsa | B16: 1 | C16: 157 | D16: 145 | E16: =ROUND(C16-D16,1) -> 12 | F16: 1190 | G16: =F16/D16 -> 8.2068966 | H16: =ROUND(E16*G16*2,2) -> 196.97 | I16: =ROUND(H16*1.2359,2) -> 243.44
A17: Medicīnas māsa | B17: 1 | C17: 190 | D17: 166 | E17: =ROUND(C17-D17,1) -> 24 | F17: 1190 | G17: =F17/D17 -> 7.1686747 | H17: =ROUND(E17*G17*2,2) -> 344.1 | I17: =ROUND(H17*1.2359,2) -> 425.27
A18: Medicīnas māsa | B18: 1 | C18: 178 | D18: 166 | E18: =ROUND(C18-D18,1) -> 12 | F18: 1190 | G18: =F18/D18 -> 7.1686747 | H18: =ROUND(E18*G18*2,2) -> 172.05 | I18: =ROUND(H18*1.2359,2) -> 212.64
A19: Medicīnas māsa | B19: 1 | C19: 178 | D19: 166 | E19: =ROUND(C19-D19,1) -> 12 | F19: 1190 | G19: =F19/D19 -> 7.1686747 | H19: =ROUND(E19*G19*2,2) -> 172.05 | I19: =ROUND(H19*1.2359,2) -> 212.64
A20: Medicīnas māsa | B20: 1 | C20: 190 | D20: 166 | E20: =ROUND(C20-D20,1) -> 24 | F20: 1190 | G20: =F20/D20 -> 7.1686747 | H20: =ROUND(E20*G20*2,2) -> 344.1 | I20: =ROUND(H20*1.2359,2) -> 425.27
A21: Medicīnas māsa | B21: 1 | C21: 190 | D21: 166 | E21: =ROUND(C21-D21,1) -> 24 | F21: 1190 | G21: =F21/D21 -> 7.1686747 | H21: =ROUND(E21*G21*2,2) -> 344.1 | I21: =ROUND(H21*1.2359,2) -> 425.27 | XEY21: =SUM(D21:XEX21) -> 2156.5387
A22: Pārējie darbinieki, kuri tieši iesaistīti darbā ar Covid-19, kopā, tai skaitā: | B22: =SUM(B23:B24) -> 2 | E22: =SUM(E23:E24) -> 10 | H22: =SUM(H23:H24) -> 181.37 | I22: =SUM(I23:I24) -> 224.15
A23: Statistikas nodaļas vadītāja | B23: 1 | C23: 169 | D23: 166 | E23: =ROUND(C23-D23,1) -> 3 | F23: 1763 | G23: =F23/D23 -> 10.620482 | H23: =ROUND(E23*G23*2,2) -> 63.72 | I23: =ROUND(H23*1.2359,2) -> 78.75
A24: Veselības aprūpes statistiķis | B24: 1 | C24: 173 | D24: 166 | E24: =ROUND(C24-D24,1) -> 7 | F24: 1395 | G24: =F24/D24 -> 8.4036145 | H24: =ROUND(E24*G24*2,2) -> 117.65 | I24: =ROUND(H24*1.2359,2) -> 145.4

Sheet Balvi-Gulbene_sept_dec
H1: Pielikums Nr.11
A2: Pārskats par darba veicējiem (ārstniecības personām), virs normālā darba laika nostrādātām stundām, apmaksājamām stundām un izdevumiem, kas radušies saistībā ar mērķi ierobežot Covid-19 izplatību
A4: Iestādes nosaukums: SIA "Balvu un Gulbenes slimnīcu apvienība"
A5: Pārskata periods: Septembris - Decembris
B7: Nodarbināto skaits mēnesī | C7: Apmaksājamais laiks mēnesī, stundas (tai skaitā summētā darba laika ietvaros) | F7: Mēnešalga no kuras rēķina stundas likmi | G7: Stundas likme (aprēķināta atbilstoši mēnešalgai vai darba līgumā noteiktā stundas likme) | H7: Apmaksājamā 100% piemaksa par nostrādātām virsstundām virs normālā darba laika (tai skaitā summētā darba laika ietvaros) | I7: Izdevumi par virsstundām kopā ar VSOAI, EUR
C8: Kopā | D8: līdz normālam darba laikam | E8: virsstundas - virs normālā darba laika, kas saistītas ar darbu ar Covid-19
A10: 1 | B10: 2 | C10: 3=4+5 | D10: 4 | E10: 5 | F10: 6 | G10: 7 | H10: 8 | I10: 9=8 + VSOAI
A11: KOPĀ | B11: =B12 -> 7 | E11: =E12 -> 172 | H11: =H12 -> 2079.6 | I11: =I12 -> 2561.87
A12: Ārstniecības un pacientu aprūpes personas un funkcionālo speciālistu asistenti, kopā, tai skaitā: | B12: =SUM(B13:B19) -> 7 | E12: =SUM(E13:E19) -> 172 | H12: =SUM(H13:H19) -> 2079.6 | I12: =SUM(I13:I19) -> 2561.87
A13: Medicīnas māsa | B13: 1 | C13: =D13+E13 -> 621 | D13: 597 | E13: 24 | G13: 5.4 | H13: =ROUND(E13*G13*2,2) -> 259.2 | I13: =ROUND(H13*1.2359,2) -> 320.35
A14: Medicīnas māsa | B14: 1 | C14: =D14+E14 -> 541 | D14: 517 | E14: 24 | G14: 6.15 | H14: =ROUND(E14*G14*2,2) -> 295.2 | I14: =ROUND(H14*1.2359,2) -> 364.84
A15: Medicīnas māsa | B15: 1 | C15: =D15+E15 -> 542 | D15: 518 | E15: 24 | G15: 6.15 | H15: =ROUND(E15*G15*2,2) -> 295.2 | I15: =ROUND(H15*1.2359,2) -> 364.84
A16: Medicīnas māsa | B16: 1 | C16: =D16+E16 -> 687 | D16: 677 | E16: 10 | G16: 6.15 | H16: =ROUND(E16*G16*2,2) -> 123 | I16: =ROUND(H16*1.2359,2) -> 152.02
A17: Medicīnas māsa | B17: 1 | C17: =D17+E17 -> 557 | D17: 533 | E17: 24 | G17: 6.15 | H17: =ROUND(E17*G17*2,2) -> 295.2 | I17: =ROUND(H17*1.2359,2) -> 364.84
A18: Medicīnas māsa | B18: 1 | C18: =D18+E18 -> 701 | D18: 677 | E18: 24 | G18: 6.15 | H18: =ROUND(E18*G18*2,2) -> 295.2 | I18: =ROUND(H18*1.2077,2) -> 356.51
A19: Ārsta palīgs | B19: 1 | C19: =D19+E19 -> 647 | D19: 605 | E19: 42 | G19: 6.15 | H19: =ROUND(E19*G19*2,2) -> 516.6 | I19: =ROUND(H19*1.2359,2) -> 638.47
A21: Samazināta VSAOI likme - 20,77% vai 21,94%

Sheet Daugavpils_psih_dec
H1: Pielikums Nr.12
A2: Pārskats par darba veicējiem (ārstniecības personām), virs normālā darba laika nostrādātām stundām, apmaksājamām stundām un izdevumiem, kas radušies saistībā ar mērķi ierobežot Covid-19 izplatību
A4: Iestādes nosaukums: VSIA „Daugavpils psihoneiroloģiskā slimnīca”
A5: Pārskata mēnesis: Decembris
B7: Nodarbināto skaits mēnesī | C7: Apmaksājamais laiks mēnesī, stundas (tai skaitā summētā darba laika ietvaros) | F7: Mēnešalga no kuras rēķina stundas likmi | G7: Stundas likme (aprēķināta atbilstoši mēnešalgai vai darba līgumā noteiktā stundas likme) | H7: Apmaksājamā 100% piemaksa par nostrādātām virsstundām virs normālā darba laika (tai skaitā summētā darba laika ietvaros) | I7: Izdevumi par virsstundām kopā ar VSOAI, EUR
C8: Kopā | D8: līdz normālam darba laikam | E8: virsstundas - virs normālā darba laika, kas saistītas ar darbu ar Covid-19
A10: 1 | B10: 2 | C10: 3=4+5 | D10: 4 | E10: 5 | F10: 6 | G10: 7 | H10: 8 | I10: 9=8 + VSOAI
A11: KOPĀ | B11: =B12+B18 -> 40 | E11: =E12+E18 -> 621 | H11: =H12+H18 -> 8190.142 | I11: =I12+I18 -> 10111.29
A12: Daugavpils psihoneiroloģiskā slimnīca | B12: =B13 -> 4 | E12: =E13 -> 33 | H12: =H13 -> 545.114 | I12: =I13 -> 673.7
A13: Ārstniecības un pacientu aprūpes personas un funkcionālo speciālistu asistenti, kopā, tai skaitā: | B13: =SUM(B14:B17) -> 4 | E13: =SUM(E14:E17) -> 33 | H13: =SUM(H14:H17) -> 545.114 | I13: =SUM(I14:I17) -> 673.7
A14: Māsa ( vispārīgās aprūpes māsa) psihiatrijā un narkoloģijā 1 | B14: 1 | C14: =D14+E14 -> 157 | D14: 145 | E14: 12 | F14: 1186 | G14: =ROUND(F14/147.08,3) -> 8.064 | H14: =ROUND(E14*G14,3)*2 -> 193.536 | I14: =ROUND(H14*1.2359,2) -> 239.19
A15: Māsa ( vispārīgās aprūpes māsa) psihiatrijā un narkoloģijā 2 | B15: 1 | C15: =D15+E15 -> 150 | D15: 145 | E15: 5 | F15: 1335 | G15: =ROUND(F15/147.08,3) -> 9.077 | H15: =ROUND(E15*G15,3)*2 -> 90.77 | I15: =ROUND(H15*1.2359,2) -> 112.18
A16: Māsa ( vispārīgās aprūpes māsa) psihiatrijā un narkoloģijā 3 | B16: 1 | C16: =D16+E16 -> 157 | D16: 145 | E16: 12 | F16: 1203 | G16: =ROUND(F16/147.08,3) -> 8.179 | H16: =ROUND(E16*G16,3)*2 -> 196.296 | I16: =ROUND(H16*1.2359,2) -> 242.6
A17: Māsa ( vispārīgās aprūpes māsa) psihiatrijā un narkoloģijā 4 | B17: 1 | C17: =D17+E17 -> 149 | D17: 145 | E17: 4 | F17: 1186 | G17: =ROUND(F17/147.08,3) -> 8.064 | H17: =ROUND(E17*G17,3)*2 -> 64.512 | I17: =ROUND(H17*1.2359,2) -> 79.73
A18: Aknistes psihoneiroloģiskā slimnīca | B18: =B19+B29+B51 -> 36 | E18: =E19+E29+E51 -> 588 | H18: =H19+H29+H51 -> 7645.028 | I18: =I19+I29+I51 -> 9437.59
A19: Ārstniecības un pacientu aprūpes personas un funkcionālo speciālistu asistenti, kopā, tai skaitā: | B19: =SUM(B20:B28) -> 9 | E19: =SUM(E20:E28) -> 221 | H19: =SUM(H20:H28)-0.01 -> 3598.318 | I19: =SUM(I20:I28) -> 4436.26
A20: Māsa (vispārējās aprūpes māsa) psihiatrijā un narkoloģijā 1 | B20: 1 | C20: =D20+E20 -> 168 | D20: 145 | E20: 23 | F20: 1186 | G20: =ROUND(F20/147.08,3) -> 8.064 | H20: =ROUND(E20*G20,3)*2 -> 370.944 | I20: =ROUND(H20*1.2359,2) -> 458.45
A21: Māsa (vispārējās aprūpes māsa) psihiatrijā un narkoloģijā 2 | B21: 1 | C21: =D21+E21 -> 157 | D21: 145 | E21: 12 | F21: 1203 | G21: =ROUND(F21/147.08,3) -> 8.179 | H21: =ROUND(E21*G21,3)*2 -> 196.296 | I21: =ROUND(H21*1.2359,2) -> 242.6
A22: Māsa (vispārējās aprūpes māsa) psihiatrijā un narkoloģijā 3 | B22: 1 | C22: =D22+E22 -> 169 | D22: 145 | E22: 24 | F22: 1186 | G22: =ROUND(F22/147.08,3) -> 8.064 | H22: =ROUND(E22*G22,3)*2 -> 387.072 | I22: =ROUND(H22*1.2077,2) -> 467.47
A23: Māsa (vispārējās aprūpes māsa) psihiatrijā un narkoloģijā 4 | B23: 1 | C23: =D23+E23 -> 171 | D23: 145 | E23: 26 | F23: 1186 | G23: =ROUND(F23/147.08,3) -> 8.064 | H23: =ROUND(E23*G23,3)*2 -> 419.328 | I23: =ROUND(H23*1.2359,2) -> 518.25
A24: Māsa (vispārējās aprūpes māsa) psihiatrijā un narkoloģijā 5 | B24: 1 | C24: =D24+E24 -> 158 | D24: 145 | E24: 13 | F24: 1203 | G24: =ROUND(F24/147.08,3) -> 8.179 | H24: =ROUND(E24*G24,3)*2 -> 212.654 | I24: =ROUND(H24*1.2359,2) -> 262.82
A25: Māsa (vispārējās aprūpes māsa) psihiatrijā un narkoloģijā 6 | B25: 1 | C25: =D25+E25 -> 181 | D25: 145 | E25: 36 | F25: 1203 | G25: =ROUND(F25/147.08,3) -> 8.179 | H25: =ROUND(E25*G25,3)*2 -> 588.888 | I25: =ROUND(H25*1.2359,2) -> 727.81
A26: Māsa (vispārējās aprūpes māsa) psihiatrijā un narkoloģijā 7 | B26: 1 | C26: =D26+E26 -> 184 | D26: 145 | E26: 39 | F26: 1203 | G26: =ROUND(F26/147.08,3) -> 8.179 | H26: =ROUND(E26*G26,3)*2 -> 637.962 | I26: =ROUND(H26*1.2359,2) -> 788.46
A27: Māsa (vispārējās aprūpes māsa) psihiatrijā un narkoloģijā 8 | B27: 1 | C27: =D27+E27 -> 169 | D27: 145 | E27: 24 | F27: 1203 | G27: =ROUND(F27/147.08,3) -> 8.179 | H27: =ROUND(E27*G27,3)*2 -> 392.592 | I27: =ROUND(H27*1.2359,2) -> 485.2
A28: Māsa (vispārējās aprūpes māsa) psihiatrijā un narkoloģijā 9 | B28: 1 | C28: =D28+E28 -> 169 | D28: 145 | E28: 24 | F28: 1203 | G28: =ROUND(F28/147.08,3) -> 8.179 | H28: =ROUND(E28*G28,3)*2 -> 392.592 | I28: =ROUND(H28*1.2359,2) -> 485.2
A29: Ārstniecības un pacientu aprūpes atbalsta personas, māsu palīgi, zobārstu aistenti, kopā, tai skaitā:*** | B29: =SUM(B30:B50) -> 21 | E29: =SUM(E30:E50) -> 278 | H29: =SUM(H30:H50) -> 3235.92 | I29: =SUM(I30:I50) -> 3999.27
A30: Māsas palīgs AS 1 | B30: 1 | C30: =D30+E30 -> 169 | D30: 145 | E30: 24 | F30: 856 | G30: =ROUND(F30/147.08,3) -> 5.82 | H30: =ROUND(E30*G30,3)*2 -> 279.36 | I30: =ROUND(H30*1.2359,2) -> 345.26
A31: Māsas palīgs AS 2 | B31: 1 | C31: =D31+E31 -> 152 | D31: 145 | E31: 7 | F31: 856 | G31: =ROUND(F31/147.08,3) -> 5.82 | H31: =ROUND(E31*G31,3)*2 -> 81.48 | I31: =ROUND(H31*1.2359,2) -> 100.7
A32: Māsas palīgs AS 3 | B32: 1 | C32: =D32+E32 -> 152 | D32: 145 | E32: 7 | F32: 856 | G32: =ROUND(F32/147.08,3) -> 5.82 | H32: =ROUND(E32*G32,3)*2 -> 81.48 | I32: =ROUND(H32*1.2359,2) -> 100.7
A33: Māsas palīgs AS 4 | B33: 1 | C33: =D33+E33 -> 147 | D33: 145 | E33: 2 | F33: 856 | G33: =ROUND(F33/147.08,3) -> 5.82 | H33: =ROUND(E33*G33,3)*2 -> 23.28 | I33: =ROUND(H33*1.2359,2) -> 28.77
A34: Māsas palīgs AS 5 | B34: 1 | C34: =D34+E34 -> 158 | D34: 145 | E34: 13 | F34: 856 | G34: =ROUND(F34/147.08,3) -> 5.82 | H34: =ROUND(E34*G34,3)*2 -> 151.32 | I34: =ROUND(H34*1.2359,2) -> 187.02
A35: Māsas palīgs AS 6 | B35: 1 | C35: =D35+E35 -> 156 | D35: 145 | E35: 11 | F35: 856 | G35: =ROUND(F35/147.08,3) -> 5.82 | H35: =ROUND(E35*G35,3)*2 -> 128.04 | I35: =ROUND(H35*1.2359,2) -> 158.24
A36: Māsas palīgs AS 7 | B36: 1 | C36: =D36+E36 -> 153 | D36: 145 | E36: 8 | F36: 856 | G36: =ROUND(F36/147.08,3) -> 5.82 | H36: =ROUND(E36*G36,3)*2 -> 93.12 | I36: =ROUND(H36*1.2359,2) -> 115.09
A37: Māsas palīgs AS 8 | B37: 1 | C37: =D37+E37 -> 159 | D37: 145 | E37: 14 | F37: 856 | G37: =ROUND(F37/147.08,3) -> 5.82 | H37: =ROUND(E37*G37,3)*2 -> 162.96 | I37: =ROUND(H37*1.2359,2) -> 201.4
A38: Māsas palīgs AS 9 | B38: 1 | C38: =D38+E38 -> 170 | D38: 145 | E38: 25 | F38: 856 | G38: =ROUND(F38/147.08,3) -> 5.82 | H38: =ROUND(E38*G38,3)*2 -> 291 | I38: =ROUND(H38*1.2359,2) -> 359.65
A39: Māsas palīgs AS 10 | B39: 1 | C39: =D39+E39 -> 159 | D39: 145 | E39: 14 | F39: 856 | G39: =ROUND(F39/147.08,3) -> 5.82 | H39: =ROUND(E39*G39,3)*2 -> 162.96 | I39: =ROUND(H39*1.2359,2) -> 201.4
A40: Māsas palīgs AS 11 | B40: 1 | C40: =D40+E40 -> 157 | D40: 145 | E40: 12 | F40: 856 | G40: =ROUND(F40/147.08,3) -> 5.82 | H40: =ROUND(E40*G40,3)*2 -> 139.68 | I40: =ROUND(H40*1.2359,2) -> 172.63
A41: Māsas palīgs AS 12 | B41: 1 | C41: =D41+E41 -> 162 | D41: 145 | E41: 17 | F41: 856 | G41: =ROUND(F41/147.08,3) -> 5.82 | H41: =ROUND(E41*G41,3)*2 -> 197.88 | I41: =ROUND(H41*1.2359,2) -> 244.56
... A50: Māsas palīgs AS 21 | B50: 1 | C50: =D50+E50 -> 158 | D50: 145 | E50: 13 | F50: 856 | G50: =ROUND(F50/147.08,3) -> 5.82 | H50: =ROUND(E50*G50,3)*2 -> 151.32 | I50: =ROUND(H50*1.2359,2) -> 187.02
A51: Pārējie darbinieki, kuri tieši iesaistīti darbā ar Covid-19, kopā, tai skaitā: | B51: =SUM(B52:B57) -> 6 | E51: =SUM(E52:E57) -> 89 | H51: =SUM(H52:H57) -> 810.79 | I51: =SUM(I52:I57) -> 1002.06
A52: Sanitārs 1 | B52: 1 | C52: =D52+E52 -> 164 | D52: 145 | E52: 19 | F52: 670 | G52: =ROUND(F52/147.08,3) -> 4.555 | H52: =ROUND(E52*G52,3)*2 -> 173.09 | I52: =ROUND(H52*1.2359,2) -> 213.92
A53: Sanitārs 2 | B53: 1 | C53: =D53+E53 -> 159 | D53: 145 | E53: 14 | F53: 670 | G53: =ROUND(F53/147.08,3) -> 4.555 | H53: =ROUND(E53*G53,3)*2 -> 127.54 | I53: =ROUND(H53*1.2359,2) -> 157.63
A54: Sanitārs 3 | B54: 1 | C54: =D54+E54 -> 171 | D54: 145 | E54: 26 | F54: 670 | G54: =ROUND(F54/147.08,3) -> 4.555 | H54: =ROUND(E54*G54,3)*2 -> 236.86 | I54: =ROUND(H54*1.2359,2) -> 292.74
A55: Sanitārs 4 | B55: 1 | C55: =D55+E55 -> 152 | D55: 145 | E55: 7 | F55: 670 | G55: =ROUND(F55/147.08,3) -> 4.555 | H55: =ROUND(E55*G55,3)*2 -> 63.77 | I55: =ROUND(H55*1.2359,2) -> 78.81
A56: Sanitārs 5 | B56: 1 | C56: =D56+E56 -> 155 | D56: 145 | E56: 10 | F56: 670 | G56: =ROUND(F56/147.08,3) -> 4.555 | H56: =ROUND(E56*G56,3)*2 -> 91.1 | I56: =ROUND(H56*1.2359,2) -> 112.59
A57: Sanitārs 6 | B57: 1 | C57: =D57+E57 -> 158 | D57: 145 | E57: 13 | F57: 670 | G57: =ROUND(F57/147.08,3) -> 4.555 | H57: =ROUND(E57*G57,3)*2 -> 118.43 | I57: =ROUND(H57*1.2359,2) -> 146.37
A59: Samazināta VSAOI likme - 20,77% vai 21,94%

Sheet Rēzekne_janv_dec
H1: Pielikums Nr.13
A2: Pārskats par darba veicējiem (ārstniecības personām), virs normālā darba laika nostrādātām stundām, apmaksājamām stundām un izdevumiem, kas radušies saistībā ar mērķi ierobežot Covid-19 izplatību
A4: Iestādes nosaukums: SIA Rēzeknes slimnīca
A5: Pārskata periods: Janvāris - Decembris
B7: Nodarbināto skaits mēnesī | C7: Apmaksājamais laiks mēnesī, stundas (tai skaitā summētā darba laika ietvaros) | F7: Mēnešalga no kuras rēķina stundas likmi | G7: Stundas likme (aprēķināta atbilstoši mēnešalgai vai darba līgumā noteiktā stundas likme) | H7: Apmaksājamā 100% piemaksa par nostrādātām virsstundām virs normālā darba laika (tai skaitā summētā darba laika ietvaros) | I7: Izdevumi par virsstundām kopā ar VSOAI, EUR
C8: Kopā | D8: līdz normālam darba laikam | E8: virsstundas - virs normālā darba laika, kas saistītas ar darbu ar Covid-19 *
A10: 1 | B10: 2 | C10: 3=4+5 | D10: 4 | E10: 5 | F10: 6 | G10: 7 | H10: 8 | I10: 9=8 + VSOAI
A11: KOPĀ | B11: =B12+B19+B67 -> 79 | E11: =E12+E19+E67 -> 2727.25 | H11: =H12+H19+H67 -> 34369.81 | I11: =I12+I19+I67 -> 42318.15
A12: Ārsti, zobārsti un funkcionālie speciālisti, kopā, tai skaitā: | B12: =SUM(B13:B18) -> 6 | E12: =SUM(E13:E18) -> 542.25 | H12: =SUM(H13:H18) -> 10064.16 | I12: =SUM(I13:I18) -> 12315.42
A13: Ārsts - covid nod 1 | B13: 1 | C13: =D13+E13 -> 2051.75 | D13: 1858 | E13: 193.75 | G13: 9.28 | H13: =ROUND(E13*G13*2,2) -> 3596 | I13: =ROUND(H13*1.2077,2) -> 4342.89
A14: Ārsts - covid nod 2 | B14: 1 | C14: =D14+E14 -> 1725.5 | D14: 1651 | E14: 74.5 | G14: 9.28 | H14: =ROUND(E14*G14*2,2) -> 1382.72 | I14: =ROUND(H14*1.2359,2) -> 1708.9
A15: Ārsts - covid nod 3 | B15: 1 | C15: =D15+E15 -> 1675 | D15: 1650 | E15: 25 | G15: 9.28 | H15: =ROUND(E15*G15*2,2) -> 464 | I15: =ROUND(H15*1.2077,2) -> 560.37
A16: Ārsts - covid nod 4 | B16: 1 | C16: =D16+E16 -> 1915 | D16: 1699 | E16: 216 | G16: 9.28 | H16: =ROUND(E16*G16*2,2) -> 4008.96 | I16: =ROUND(H16*1.2359,2) -> 4954.67
A17: Ārsts - covid nod 5 | B17: 1 | C17: =D17+E17 -> 1811 | D17: 1795 | E17: 16 | G17: 9.28 | H17: =ROUND(E17*G17*2,2) -> 296.96 | I17: =ROUND(H17*1.2077,2) -> 358.64
A18: Ārsts - covid nod 6 | B18: 1 | C18: =D18+E18 -> 1852 | D18: 1835 | E18: 17 | G18: 9.28 | H18: =ROUND(E18*G18*2,2) -> 315.52 | I18: =ROUND(H18*1.2359,2) -> 389.95
A19: Ārstniecības un pacientu aprūpes personas un funkcionālo speciālistu asistenti, kopā, tai skaitā: | B19: =SUM(B20:B66) -> 47 | E19: =SUM(E20:E66) -> 1435 | H19: =SUM(H20:H66) -> 17862.03 | I19: =SUM(I20:I66) -> 22045.64
A20: Māsas - covid nod (1) 1 | B20: 1 | C20: =D20+E20 -> 1882 | D20: 1834 | E20: 48 | G20: 6.38 | H20: =ROUND(E20*G20*2,2) -> 612.48 | I20: =ROUND(H20*1.2359,2) -> 756.96
A21: Māsas - covid nod (1) 2 | B21: 1 | C21: =D21+E21 -> 1471 | D21: 1403 | E21: 68 | G21: 6.38 | H21: =ROUND(E21*G21*2,2) -> 867.68 | I21: =ROUND(H21*1.2077,2) -> 1047.9
A22: Māsas - covid nod (1) 3 | B22: 1 | C22: =D22+E22 -> 763 | D22: 733 | E22: 30 | G22: 6.38 | H22: =ROUND(E22*G22*2,2) -> 382.8 | I22: =ROUND(H22*1.2359,2) -> 473.1
A23: Māsas - covid nod (1) 4 | B23: 1 | C23: =D23+E23 -> 1863 | D23: 1803 | E23: 60 | G23: 6.14 | H23: =ROUND(E23*G23*2,2) -> 736.8 | I23: =ROUND(H23*1.2359,2) -> 910.61
A24: Māsas - covid nod (1) 5 | B24: 1 | C24: =D24+E24 -> 1816 | D24: 1810 | E24: 6 | G24: 6.14 | H24: =ROUND(E24*G24*2,2) -> 73.68 | I24: =ROUND(H24*1.2359,2) -> 91.06
A25: Māsas - covid nod (1) 6 | B25: 1 | C25: =D25+E25 -> 1639 | D25: 1595 | E25: 44 | G25: 6.14 | H25: =ROUND(E25*G25*2,2) -> 540.32 | I25: =ROUND(H25*1.2359,2) -> 667.78
A26: Māsa - AITN 1 | B26: 1 | C26: =D26+E26 -> 1703 | D26: 1684 | E26: 19 | G26: 6.38 | H26: =ROUND(E26*G26*2,2) -> 242.44 | I26: =ROUND(H26*1.2359,2) -> 299.63
A27: Māsa - AITN 2 | B27: 1 | C27: =D27+E27 -> 1867.25 | D27: 1779 | E27: 88.25 | G27: 6.38 | H27: =ROUND(E27*G27*2,2) -> 1126.07 | I27: =ROUND(H27*1.2359,2) -> 1391.71
A28: Māsa - AITN 3 | B28: 1 | C28: =D28+E28 -> 1320 | D28: 1301 | E28: 19 | G28: 6.38 | H28: =ROUND(E28*G28*2,2) -> 242.44 | I28: =ROUND(H28*1.2359,2) -> 299.63
A29: Māsa - AITN 4 | B29: 1 | C29: =D29+E29 -> 1492 | D29: 1483 | E29: 9 | G29: 6.38 | H29: =ROUND(E29*G29*2,2) -> 114.84 | I29: =ROUND(H29*1.2359,2) -> 141.93
A30: Māsa - AITN 5 | B30: 1 | C30: =D30+E30 -> 1712.25 | D30: 1707 | E30: 5.25 | G30: 6.47 | H30: =ROUND(E30*G30*2,2) -> 67.94 | I30: =ROUND(H30*1.2359,2) -> 83.97
A31: Māsa - AITN 6 | B31: 1 | C31: =D31+E31 -> 1868 | D31: 1835 | E31: 33 | G31: 6.38 | H31: =ROUND(E31*G31*2,2) -> 421.08 | I31: =ROUND(H31*1.2359,2) -> 520.41
A32: Māsa - AITN 7 | B32: 1 | C32: =D32+E32 -> 1580.25 | D32: 1572 | E32: 8.25 | G32: 6.38 | H32: =ROUND(E32*G32*2,2) -> 105.27 | I32: =ROUND(H32*1.2359,2) -> 130.1
A33: Māsa - AITN 8 | B33: 1 | C33: =D33+E33 -> 1677.5 | D33: 1667 | E33: 10.5 | G33: 6.38 | H33: =ROUND(E33*G33*2,2) -> 133.98 | I33: =ROUND(H33*1.2359,2) -> 165.59
... A51: Māsa - covid nod (2) 5 | B51: 1 | C51: =D51+E51 -> 1891 | D51: 1859 | E51: 32 | G51: 6.14 | H51: =ROUND(E51*G51*2,2) -> 392.96 | I51: =ROUND(H51*1.2359,2) -> 485.66
A52: Māsa - covid nod (2) 6 | B52: 1 | C52: =D52+E52 -> 1875 | D52: 1859 | E52: 16 | G52: 6.14 | H52: =ROUND(E52*G52*2,2) -> 196.48 | I52: =ROUND(H52*1.2077,2) -> 237.29
A53: Māsa - covid nod (2) 7 | B53: 1 | C53: =D53+E53 -> 1866 | D53: 1858 | E53: 8 | G53: 6.14 | H53: =ROUND(E53*G53*2,2) -> 98.24 | I53: =ROUND(H53*1.2359,2) -> 121.41
A54: Māsa - covid nod (2) 8 | B54: 1 | C54: =D54+E54 -> 1867 | D54: 1859 | E54: 8 | G54: 6.14 | H54: =ROUND(E54*G54*2,2) -> 98.24 | I54: =ROUND(H54*1.2359,2) -> 121.41
A55: Māsa - covid nod (2) 9 | B55: 1 | C55: =D55+E55 -> 1818 | D55: 1810 | E55: 8 | G55: 6.14 | H55: =ROUND(E55*G55*2,2) -> 98.24 | I55: =ROUND(H55*1.2359,2) -> 121.41
A56: Māsa - covid nod (2) 10 | B56: 1 | C56: =D56+E56 -> 1890 | D56: 1858 | E56: 32 | G56: 6.14 | H56: =ROUND(E56*G56*2,2) -> 392.96 | I56: =ROUND(H56*1.2359,2) -> 485.66
A57: Māsa - NMPUN 1 | B57: 1 | C57: =D57+E57 -> 1858 | D57: 1836 | E57: 22 | G57: 6.14 | H57: =ROUND(E57*G57*2,2) -> 270.16 | I57: =ROUND(H57*1.2359,2) -> 333.89
A58: Māsa - NMPUN 2 | B58: 1 | C58: =D58+E58 -> 1782 | D58: 1778 | E58: 4 | G58: 6.14 | H58: =ROUND(E58*G58*2,2) -> 49.12 | I58: =ROUND(H58*1.2359,2) -> 60.71
A59: Māsa - NMPUN 3 | B59: 1 | C59: =D59+E59 -> 1799 | D59: 1787 | E59: 12 | G59: 6.14 | H59: =ROUND(E59*G59*2,2) -> 147.36 | I59: =ROUND(H59*1.2359,2) -> 182.12
A60: Māsa - NMPUN 4 | B60: 1 | C60: =D60+E60 -> 1632.5 | D60: 1603 | E60: 29.5 | G60: 6.14 | H60: =ROUND(E60*G60*2,2) -> 362.26 | I60: =ROUND(H60*1.2359,2) -> 447.72
A61: Māsa - NMPUN 5 | B61: 1 | C61: =D61+E61 -> 1576 | D61: 1572 | E61: 4 | G61: 6.14 | H61: =ROUND(E61*G61*2,2) -> 49.12 | I61: =ROUND(H61*1.2359,2) -> 60.71
A62: Māsa - NMPUN 6 | B62: 1 | C62: =D62+E62 -> 376 | D62: 368 | E62: 8 | G62: 6.14 | H62: =ROUND(E62*G62*2,2) -> 98.24 | I62: =ROUND(H62*1.2359,2) -> 121.41
A63: Māsa - NMPUN 7 | B63: 1 | C63: =D63+E63 -> 1878 | D63: 1819 | E63: 59 | G63: 6.14 | H63: =ROUND(E63*G63*2,2) -> 724.52 | I63: =ROUND(H63*1.2359,2) -> 895.43
A64: Māsa - NMPUN 8 | B64: 1 | C64: =D64+E64 -> 1844 | D64: 1818 | E64: 26 | G64: 6.14 | H64: =ROUND(E64*G64*2,2) -> 319.28 | I64: =ROUND(H64*1.2359,2) -> 394.6
... A66: Māsa - NMPUN 10 | B66: 1 | C66: =D66+E66 -> 1823 | D66: 1795 | E66: 28 | G66: 6.14 | H66: =ROUND(E66*G66*2,2) -> 343.84 | I66: =ROUND(H66*1.2359,2) -> 424.95
A67: Ārstniecības un pacientu aprūpes atbalsta personas, māsu palīgi, zobārstu aistenti, kopā, tai skaitā: | B67: =SUM(B68:B93) -> 26 | E67: =SUM(E68:E93) -> 750 | H67: =SUM(H68:H93) -> 6443.62 | I67: =SUM(I68:I93) -> 7957.09
A68: Māsu palīgs - covid nod (1) 1 | B68: 1 | C68: =D68+E68 -> 1838 | D68: 1778 | E68: 60 | G68: 4.53 | H68: =ROUND(E68*G68*2,2) -> 543.6 | I68: =ROUND(H68*1.2359,2) -> 671.84
A69: Māsu palīgs - covid nod (1) 2 | B69: 1 | C69: =D69+E69 -> 1507 | D69: 1459 | E69: 48 | G69: 4.53 | H69: =ROUND(E69*G69*2,2) -> 434.88 | I69: =ROUND(H69*1.2359,2) -> 537.47
A70: Māsu palīgs - covid nod (1) 3 | B70: 1 | C70: =D70+E70 -> 1731 | D70: 1700 | E70: 31 | G70: 4.53 | H70: =ROUND(E70*G70*2,2) -> 280.86 | I70: =ROUND(H70*1.2359,2) -> 347.11
A71: Māsu palīgs - covid nod (1) 4 | B71: 1 | C71: =D71+E71 -> 1138 | D71: 1125 | E71: 13 | G71: 4.53 | H71: =ROUND(E71*G71*2,2) -> 117.78 | I71: =ROUND(H71*1.2359,2) -> 145.56
A72: Māsu palīgs - covid nod (1) 5 | B72: 1 | C72: =D72+E72 -> 1815 | D72: 1803 | E72: 12 | G72: 4.53 | H72: =ROUND(E72*G72*2,2) -> 108.72 | I72: =ROUND(H72*1.2359,2) -> 134.37
A73: Māsu palīgs - covid nod (1) 6 | B73: 1 | C73: =D73+E73 -> 1840 | D73: 1827 | E73: 13 | G73: 4.36 | H73: =ROUND(E73*G73*2,2) -> 113.36 | I73: =ROUND(H73*1.2359,2) -> 140.1
A74: Māsu palīgs - covid nod (1) 7 | B74: 1 | C74: =D74+E74 -> 1744 | D74: 1698 | E74: 46 | G74: 4.36 | H74: =ROUND(E74*G74*2,2) -> 401.12 | I74: =ROUND(H74*1.2359,2) -> 495.74
A75: Māsu palīgs - covid nod (1) 8 | B75: 1 | C75: =D75+E75 -> 1474 | D75: 1458 | E75: 16 | G75: 4.36 | H75: =ROUND(E75*G75*2,2) -> 139.52 | I75: =ROUND(H75*1.2359,2) -> 172.43
A76: Māsu palīgs - covid nod (2) 1 | B76: 1 | C76: =D76+E76 -> 1883 | D76: 1875 | E76: 8 | G76: 4.36 | H76: =ROUND(E76*G76*2,2) -> 69.76 | I76: =ROUND(H76*1.2077,2) -> 84.25
A77: Māsu palīgs - covid nod (2) 2 | B77: 1 | C77: =D77+E77 -> 1818 | D77: 1802 | E77: 16 | G77: 4.36 | H77: =ROUND(E77*G77*2,2) -> 139.52 | I77: =ROUND(H77*1.2359,2) -> 172.43
A78: Māsu palīgs - AITN 1 | B78: 1 | C78: =D78+E78 -> 1535 | D78: 1517 | E78: 18 | G78: 4.53 | H78: =ROUND(E78*G78*2,2) -> 163.08 | I78: =ROUND(H78*1.2077,2) -> 196.95
A79: Māsu palīgs - tranzītnodaļā 1 | B79: 1 | C79: =D79+E79 -> 1821 | D79: 1802 | E79: 19 | G79: 4.36 | H79: =ROUND(E79*G79*2,2) -> 165.68 | I79: =ROUND(H79*1.2359,2) -> 204.76
A80: Māsu palīgs - tranzītnodaļā 2 | B80: 1 | C80: =D80+E80 -> 1656 | D80: 1636 | E80: 20 | G80: 4.36 | H80: =ROUND(E80*G80*2,2) -> 174.4 | I80: =ROUND(H80*1.2359,2) -> 215.54
A81: Māsu palīgs - tranzītnodaļā 3 | B81: 1 | C81: =D81+E81 -> 1893 | D81: 1859 | E81: 34 | G81: 4.36 | H81: =ROUND(E81*G81*2,2) -> 296.48 | I81: =ROUND(H81*1.2359,2) -> 366.42
A82: Māsu palīgs - tranzītnodaļā 4 | B82: 1 | C82: =D82+E82 -> 1174 | D82: 1150 | E82: 24 | G82: 4.36 | H82: =ROUND(E82*G82*2,2) -> 209.28 | I82: =ROUND(H82*1.2359,2) -> 258.65
A83: Māsu palīgs - tranzītnodaļā 5 | B83: 1 | C83: =D83+E83 -> 1811 | D83: 1794 | E83: 17 | G83: 4.36 | H83: =ROUND(E83*G83*2,2) -> 148.24 | I83: =ROUND(H83*1.2359,2) -> 183.21
A84: Sanitārs - tranzītnodaļā 1 | B84: 1 | C84: =D84+E84 -> 1733 | D84: 1652 | E84: 81 | G84: 3.79 | H84: =ROUND(E84*G84*2,2) -> 613.98 | I84: =ROUND(H84*1.2359,2) -> 758.82
A85: Māsu palīgs - NMPUN 1 | B85: 1 | C85: =D85+E85 -> 1728 | D85: 1722 | E85: 6 | G85: 4.36 | H85: =ROUND(E85*G85*2,2) -> 52.32 | I85: =ROUND(H85*1.2359,2) -> 64.66
A86: Māsu palīgs - NMPUN 2 | B86: 1 | C86: =D86+E86 -> 1796 | D86: 1788 | E86: 8 | G86: 4.36 | H86: =ROUND(E86*G86*2,2) -> 69.76 | I86: =ROUND(H86*1.2359,2) -> 86.22
A87: Māsu palīgs - NMPUN 3 | B87: 1 | C87: =D87+E87 -> 1859 | D87: 1803 | E87: 56 | G87: 4.36 | H87: =ROUND(E87*G87*2,2) -> 488.32 | I87: =ROUND(H87*1.2359,2) -> 603.51
A88: Māsu palīgs - NMPUN 4 | B88: 1 | C88: =D88+E88 -> 1882 | D88: 1834 | E88: 48 | G88: 4.36 | H88: =ROUND(E88*G88*2,2) -> 418.56 | I88: =ROUND(H88*1.2359,2) -> 517.3
A89: Māsu palīgs - NMPUN 5 | B89: 1 | C89: =D89+E89 -> 1758 | D89: 1714 | E89: 44 | G89: 4.22 | H89: =ROUND(E89*G89*2,2) -> 371.36 | I89: =ROUND(H89*1.2359,2) -> 458.96
A90: Māsu palīgs - NMPUN 6 | B90: 1 | C90: =D90+E90 -> 1906 | D90: 1898 | E90: 8 | G90: 4.36 | H90: =ROUND(E90*G90*2,2) -> 69.76 | I90: =ROUND(H90*1.2359,2) -> 86.22
... A93: Sanitārs - NMPUN 2 | B93: 1 | C93: =D93+E93 -> 2010 | D93: 1994 | E93: 16 | G93: 4.11 | H93: =ROUND(E93*G93*2,2) -> 131.52 | I93: =ROUND(H93*1.2359,2) -> 162.55
A95: * Summētais darba laika periods - 12 mēneši. Aprēķinātas Covid-19 virsstundas, kas radās 2022. gada periodā janvāris-marts.
A97: Samazināta VSAOI likme - 20,77% vai 21,94%
