Workbook

Sheet KOPSAVILKUMS
I1: Pielikums MK rīkojuma projekta “Par finanšu līdzekļu piešķiršanu no valsts budžeta programmas “Līdzekļi neparedzētiem gadījumiem”” anotācijai
A3: Kopsavilkums par stacionāro iestāžu iesniegto informāciju par darba veicējiem (ārstniecības personām), virs normālā darba laika nostrādātām stundām, apmaksājamām stundām un izdevumiem, kas radušies saistībā ar mērķi ierobežot Covid-19 izplatību par 2022.gada JANVĀRIS - DECEMBRIS
C6: Izdevumi par virsstundām (2022.gada janvāris-decembris) kopā ar VSOAI, euro
C7: janvāris | D7: februāris | E7: marts | F7: aprīlis | G7: maijs | H7: jūnijs | I7: jūlijs | J7: augusts | K7: septembris | L7: oktobris | M7: novembris | N7: decembris | O7: KOPĀ
A8: KOPĀ | O8: =SUM(O9:O15) -> 1942215.8
A9: 1 | B9: SIA “Rīgas Austrumu klīniskās universitātes slimnīca” | C9: x | D9: x | E9: x | F9: x | G9: x | H9: x | I9: x | J9: x | K9: =RAKUS_sept_dec!I11 -> 1413734.9 | O9: =SUM(C9:N9) -> 1413734.9
A10: 2 | B10: SIA "Daugavpils reģionālā slimnīca" | C10: x | D10: x | E10: x | F10: x | G10: x | H10: x | I10: x | J10: x | K10: x | L10: =Daugavpils_reģ_okt!I11 -> 115439.72 | M10: =Daugavpils_reģ_nov!I11 -> 128387.95 | N10: =Daugavpils_reģ_dec!I11 -> 136027.4 | O10: =SUM(C10:N10) -> 379855.07
A11: 3 | B11: SIA "Ziemeļkurzemes reģionālā slimnīca" | C11: x | D11: x | E11: x | F11: x | G11: x | H11: x | I11: x | J11: x | K11: x | L11: ='Z-Kurzeme_okt'!I10 -> 29635.12 | M11: ='Z-Kurzeme_nov'!I10 -> 17646.61 | N11: ='Z-Kurzeme_dec'!I10 -> 36596.87 | O11: =SUM(C11:N11) -> 83878.6
A12: 4 | B12: SIA Jelgavas pilsētas slimnīca | C12: x | D12: x | E12: x | F12: x | G12: x | H12: x | I12: x | J12: x | K12: x | L12: =Jelgava_okt!I10 -> 5266.38 | M12: =Jelgava_nov!I10 -> 1185.54 | N12: =Jelgava_dec!I10 -> 3303.97 | O12: =SUM(C12:N12) -> 9755.89
A13: 5 | B13: SIA "Balvu un Gulbenes slimnīcu apvienība" | C13: x | D13: x | E13: x | F13: x | G13: x | H13: x | I13: x | J13: x | K13: ='Balvi-Gulbene_sept_dec'!I11 -> 2561.87 | O13: =SUM(C13:N13) -> 2561.87
A14: 6 | B14: VSIA „Daugavpils psihoneiroloģiskā slimnīca” | C14: x | D14: x | E14: x | F14: x | G14: x | H14: x | I14: x | J14: x | K14: x | L14: x | M14: x | N14: =Daugavpils_psih_dec!I11 -> 10111.29 | O14: =SUM(C14:N14) -> 10111.29
A15: 7 | B15: SIA "Rēzeknes slimnīca" | C15: =Rēzekne_janv_dec!I11 -> 42318.15 | O15: =SUM(C15:N15) -> 42318.15
B17: Summētā darba laika periods, kurā uzskaitītas virsstundas un papildu snepieciešamais finansējums to apmaksai

Sheet RAKUS_sept_dec
H1: Pielikums Nr.1
A2: Pārskats par darba veicējiem (ārstniecības personām), virs normālā darba laika nostrādātām stundām, apmaksājamām stundām un izdevumiem, kas radušies saistībā ar mērķi ierobežot Covid-19 izplatību
A4: Iestādes nosaukums: SIA “Rīgas Austrumu klīniskās universitātes slimnīca”
A5: Pārskata mēnesis: Septembris - Decembris
B7: Nodarbināto skaits mēnesī | C7: Apmaksājamais laiks mēnesī, stundas (tai skaitā summētā darba laika ietvaros) | F7: Mēnešalga no kuras rēķina stundas likmi | G7: Stundas likme (aprēķināta atbilstoši mēnešalgai vai darba līgumā noteiktā stundas likme) | H7: Apmaksājamā 100% piemaksa par nostrādātām virsstundām virs normālā darba laika (tai skaitā summētā darba laika ietvaros) | I7: Izdevumi par virsstundām kopā ar VSOAI, EUR
C8: Kopā | D8: līdz normālam darba laikam * | E8: virsstundas - virs normālā darba laika, kas saistītas ar darbu ar Covid-19
A10: 1 | B10: 2 | C10: 3=4+5 | D10: 4 | E10: 5 | F10: 6 | G10: 7 | H10: 8 | I10: 9=8 + VSOAI
A11: KOPĀ | B11: =B12+B457+B1036+B920 -> 1236 | E11: =E12+E457+E1036+E920 -> 63323.191 | H11: =H12+H457+H1036+H920 -> 1144720 | I11: =I12+I457+I1036+I920 -> 1413734.9
A12: Ārsti, zobārsti un funkcionālie speciālisti, kopā, tai skaitā: | B12: =SUM(B13:B456) -> 444 | E12: =SUM(E13:E456) -> 31990.775 | H12: =SUM(H13:H456) -> 718510.45 | I12: =SUM(I13:I456) -> 887483.98
A13: Anesteziologs, reanimatologs | B13: 1 | C13: =D13+E13 -> 168 | D13: 27.8 | E13: 140.2 | F13: 2092 | G13: =F13/168.17 -> 12.439793 | H13: =ROUND(E13*G13*2,2) -> 3488.12 | I13: =ROUND(H13*1.2359,2) -> 4310.97
A14: Anesteziologs, reanimatologs | B14: 1 | C14: =D14+E14 -> 403 | D14: 0 | E14: 403 | F14: 2092 | G14: =F14/168.17 -> 12.439793 | H14: =ROUND(E14*G14*2,2) -> 10026.47 | I14: =ROUND(H14*1.2359,2) -> 12391.71
A15: Anesteziologs, reanimatologs | B15: 1 | C15: =D15+E15 -> 204 | D15: 0 | E15: 204 | F15: 2092 | G15: =F15/168.17 -> 12.439793 | H15: =ROUND(E15*G15*2,2) -> 5075.44 | I15: =ROUND(H15*1.2359,2) -> 6272.74
A16: Anesteziologs, reanimatologs (1.līmenis) | B16: 1 | C16: =D16+E16 -> 533.5 | D16: 517 | E16: 16.5 | F16: 2427 | G16: =F16/168.17 -> 14.431825 | H16: =ROUND(E16*G16*2,2) -> 476.25 | I16: =ROUND(H16*1.2359,2) -> 588.6
A17: Anesteziologs, reanimatologs (1.līmenis) | B17: 1 | C17: =D17+E17 -> 241.5 | D17: 238.5 | E17: 3 | F17: 2427 | G17: =F17/168.17 -> 14.431825 | H17: =ROUND(E17*G17*2,2) -> 86.59 | I17: =ROUND(H17*1.2359,2) -> 107.02
A18: Anesteziologs, reanimatologs (1.līmenis) | B18: 1 | C18: =D18+E18 -> 248.484 | D18: 238.5 | E18: 9.984 | F18: 2427 | G18: =F18/168.17 -> 14.431825 | H18: =ROUND(E18*G18*2,2) -> 288.17 | I18: =ROUND(H18*1.2359,2) -> 356.15
A19: Anesteziologs, reanimatologs (1.līmenis) | B19: 1 | C19: =D19+E19 -> 480.5 | D19: 477.75 | E19: 2.75 | F19: 2427 | G19: =F19/168.17 -> 14.431825 | H19: =ROUND(E19*G19*2,2) -> 79.38 | I19: =ROUND(H19*1.2359,2) -> 98.11
A20: Anesteziologs, reanimatologs (1.līmenis) | B20: 1 | C20: =D20+E20 -> 421.5 | D20: 298.5 | E20: 123 | F20: 2427 | G20: =F20/168.17 -> 14.431825 | H20: =ROUND(E20*G20*2,2) -> 3550.23 | I20: =ROUND(H20*1.2359,2) -> 4387.73
A21: Anesteziologs, reanimatologs (1.līmenis) | B21: 1 | C21: =D21+E21 -> 605 | D21: 598 | E21: 7 | F21: 2427 | G21: =F21/168.17 -> 14.431825 | H21: =ROUND(E21*G21*2,2) -> 202.05 | I21: =ROUND(H21*1.2359,2) -> 249.71
A22: Anesteziologs, reanimatologs (1.līmenis) | B22: 1 | C22: =D22+E22 -> 621.33333 | D22: 614 | E22: 7.333333 | F22: 2427 | G22: =F22/168.17 -> 14.431825 | H22: =ROUND(E22*G22*2,2) -> 211.67 | I22: =ROUND(H22*1.2359,2) -> 261.6
A23: Anesteziologs, reanimatologs (1.līmenis) | B23: 1 | C23: =D23+E23 -> 438.5 | D23: 429.75 | E23: 8.75 | F23: 2427 | G23: =F23/168.17 -> 14.431825 | H23: =ROUND(E23*G23*2,2) -> 252.56 | I23: =ROUND(H23*1.2359,2) -> 312.14
A24: Anesteziologs, reanimatologs (1.līmenis) | B24: 1 | C24: =D24+E24 -> 292 | D24: 283.5 | E24: 8.5 | F24: 2427 | G24: =F24/168.17 -> 14.431825 | H24: =ROUND(E24*G24*2,2) -> 245.34 | I24: =ROUND(H24*1.2359,2) -> 303.22
... A30: Anesteziologs, reanimatologs (2.līmenis) | B30: 1 | C30: =D30+E30 -> 708.493 | D30: 677 | E30: 31.493 | F30: 2696 | G30: =F30/168.17 -> 16.031397 | H30: =ROUND(E30*G30*2,2) -> 1009.75 | I30: =ROUND(H30*1.2359,2) -> 1247.95
A31: Anesteziologs, reanimatologs (2.līmenis) | B31: 1 | C31: =D31+E31 -> 632.5 | D31: 606 | E31: 26.5 | F31: 2696 | G31: =F31/168.17 -> 16.031397 | H31: =ROUND(E31*G31*2,2) -> 849.66 | I31: =ROUND(H31*1.2077,2) -> 1026.13
A32: Anesteziologs, reanimatologs (2.līmenis) | B32: 1 | C32: =D32+E32 -> 621.5 | D32: 613 | E32: 8.5 | F32: 2696 | G32: =F32/168.17 -> 16.031397 | H32: =ROUND(E32*G32*2,2) -> 272.53 | I32: =ROUND(H32*1.2359,2) -> 336.82
A33: Anesteziologs, reanimatologs (2.līmenis) | B33: 1 | C33: =D33+E33 -> 48 | D33: 0 | E33: 48 | F33: 2696 | G33: =F33/168.17 -> 16.031397 | H33: =ROUND(E33*G33*2,2) -> 1539.01 | I33: =ROUND(H33*1.2077,2) -> 1858.66
A34: Anesteziologs, reanimatologs (2.līmenis) | B34: 1 | C34: =D34+E34 -> 505.25 | D34: 502 | E34: 3.25 | F34: 2696 | G34: =F34/168.17 -> 16.031397 | H34: =ROUND(E34*G34*2,2) -> 104.2 | I34: =ROUND(H34*1.2359,2) -> 128.78
A35: Anesteziologs, reanimatologs (2.līmenis) | B35: 1 | C35: =D35+E35 -> 601.5 | D35: 597 | E35: 4.5 | F35: 2696 | G35: =F35/168.17 -> 16.031397 | H35: =ROUND(E35*G35*2,2) -> 144.28 | I35: =ROUND(H35*1.2359,2) -> 178.32
A36: Anesteziologs, reanimatologs (eksperts) | B36: 1 | C36: =D36+E36 -> 642 | D36: 638 | E36: 4 | F36: 2965 | G36: =F36/168.17 -> 17.630969 | H36: =ROUND(E36*G36*2,2) -> 141.05 | I36: =ROUND(H36*1.2359,2) -> 174.32
A37: Anesteziologs, reanimatologs (eksperts) | B37: 1 | C37: =D37+E37 -> 600.5 | D37: 534 | E37: 66.5 | F37: 2965 | G37: =F37/168.17 -> 17.630969 | H37: =ROUND(E37*G37*2,2) -> 2344.92 | I37: =ROUND(H37*1.2359,2) -> 2898.09
A38: Anesteziologs, reanimatologs (eksperts) | B38: 1 | C38: =D38+E38 -> 351.5 | D38: 275.5 | E38: 76 | F38: 2965 | G38: =F38/168.17 -> 17.630969 | H38: =ROUND(E38*G38*2,2) -> 2679.91 | I38: =ROUND(H38*1.2359,2) -> 3312.1
A39: Anesteziologs, reanimatologs (eksperts) | B39: 1 | C39: =D39+E39 -> 595 | D39: 549 | E39: 46 | F39: 2965 | G39: =F39/168.17 -> 17.630969 | H39: =ROUND(E39*G39*2,2) -> 1622.05 | I39: =ROUND(H39*1.2077,2) -> 1958.95
A40: Anesteziologs, reanimatologs (eksperts) | B40: 1 | C40: =D40+E40 -> 387.75 | D40: 345.75 | E40: 42 | F40: 2965 | G40: =F40/168.17 -> 17.630969 | H40: =ROUND(E40*G40*2,2) -> 1481 | I40: =ROUND(H40*1.2359,2) -> 1830.37
A41: Anesteziologs, reanimatologs (eksperts) | B41: 1 | C41: =D41+E41 -> 682.25 | D41: 677 | E41: 5.25 | F41: 2965 | G41: =F41/168.17 -> 17.630969 | H41: =ROUND(E41*G41*2,2) -> 185.13 | I41: =ROUND(H41*1.2077,2) -> 223.58
A42: Anesteziologs, reanimatologs (eksperts) | B42: 1 | C42: =D42+E42 -> 610 | D42: 589 | E42: 21 | F42: 2965 | G42: =F42/168.17 -> 17.630969 | H42: =ROUND(E42*G42*2,2) -> 740.5 | I42: =ROUND(H42*1.2359,2) -> 915.18
A43: Anesteziologs, reanimatologs (eksperts) | B43: 1 | C43: =D43+E43 -> 634 | D43: 557 | E43: 77 | F43: 2965 | G43: =F43/168.17 -> 17.630969 | H43: =ROUND(E43*G43*2,2) -> 2715.17 | I43: =ROUND(H43*1.2359,2) -> 3355.68
A44: Anesteziologs, reanimatologs (eksperts) | B44: 1 | C44: =D44+E44 -> 640.5 | D44: 637 | E44: 3.5 | F44: 2965 | G44: =F44/168.17 -> 17.630969 | H44: =ROUND(E44*G44*2,2) -> 123.42 | I44: =ROUND(H44*1.2359,2) -> 152.53
A45: Anesteziologs, reanimatologs (eksperts) | B45: 1 | C45: =D45+E45 -> 582 | D45: 565 | E45: 16.999999 | F45: 2965 | G45: =F45/168.17 -> 17.630969 | H45: =ROUND(E45*G45*2,2) -> 599.45 | I45: =ROUND(H45*1.2359,2) -> 740.86
A46: Anesteziologs, reanimatologs (eksperts) | B46: 1 | C46: =D46+E46 -> 295.41667 | D46: 286.5 | E46: 8.916666 | F46: 2965 | G46: =F46/168.17 -> 17.630969 | H46: =ROUND(E46*G46*2,2) -> 314.42 | I46: =ROUND(H46*1.2359,2) -> 388.59
A47: Anesteziologs, reanimatologs (eksperts) | B47: 1 | C47: =D47+E47 -> 302.5 | D47: 286.5 | E47: 16 | F47: 2965 | G47: =F47/168.17 -> 17.630969 | H47: =ROUND(E47*G47*2,2) -> 564.19 | I47: =ROUND(H47*1.2359,2) -> 697.28
A48: Anesteziologs, reanimatologs (eksperts) | B48: 1 | C48: =D48+E48 -> 72 | D48: 0 | E48: 72 | F48: 2965 | G48: =F48/168.17 -> 17.630969 | H48: =ROUND(E48*G48*2,2) -> 2538.86 | I48: =ROUND(H48*1.2359,2) -> 3137.78
...

Sheet Daugavpils_reģ_okt
H1: Pielikums Nr.2
A2: Pārskats par darba veicējiem (ārstniecības personām), virs normālā darba laika nostrādātām stundām, apmaksājamām stundām un izdevumiem, kas radušies saistībā ar mērķi ierobežot Covid-19 izplatību
A4: Iestādes nosaukums: SIA "Daugavpils reģionālā slimnīca"
A5: Pārskata mēnesis: Oktobris
B7: Nodarbināto skaits mēnesī | C7: Apmaksājamais laiks mēnesī, stundas (tai skaitā summētā darba laika ietvaros) | F7: Mēnešalga no kuras rēķina stundas likmi | G7: Stundas likme (aprēķināta atbilstoši mēnešalgai vai darba līgumā noteiktā stundas likme) | H7: Apmaksājamā 100% piemaksa par nostrādātām virsstundām virs normālā darba laika (tai skaitā summētā darba laika ietvaros) | I7: Izdevumi par virsstundām kopā ar VSOAI, EUR
C8: Kopā | D8: līdz normālam darba laikam | E8: virsstundas - virs normālā darba laika, kas saistītas ar darbu ar Covid-19
A10: 1 | B10: 2 | C10: 3=4+5 | D10: 4 | E10: 5 | F10: 6 | G10: 7 | H10: 8 | I10: 9=8 + VSOAI
A11: KOPĀ | B11: =B12+B123+B138 -> 139 | E11: =E12+E123+E138 -> 5424 | H11: =H12+H123+H138 -> 93522.71 | I11: =I12+I123+I138 -> 115439.72
A12: Centrālā slimnīca "Uzņemšanas nodaļa" | B12: =B13+B65+B106 -> 107 | E12: =E13+E65+E106 -> 4632 | H12: =H13+H65+H106 -> 78449.45 | I12: =I13+I65+I106 -> 96811.14
A13: Ārsti, zobārsti un funkcionālie speciālisti, kopā, tai skaitā: | B13: =SUM(B14:B64) -> 51 | E13: =SUM(E14:E64) -> 2652 | H13: =SUM(H14:H64) -> 54247.64 | I13: =SUM(I14:I64) -> 66908.52
A14: Anesteziologs un reanimatologs | B14: 1 | C14: =D14+E14 -> 120 | D14: 112 | E14: 8 | F14: 1718.25 | G14: =F14/168 -> 10.227679 | H14: =ROUND(E14*G14*2,2) -> 163.64 | I14: =ROUND(H14*1.2359,2) -> 202.24
A15: Anesteziologs un reanimatologs | B15: 1 | C15: =D15+E15 -> 120 | D15: 88 | E15: 32 | F15: 1718.25 | G15: =F15/168 -> 10.227679 | H15: =ROUND(E15*G15*2,2) -> 654.57 | I15: =ROUND(H15*1.2359,2) -> 808.98
A16: Anesteziologs un reanimatologs | B16: 1 | C16: =D16+E16 -> 64 | D16: 48 | E16: 16 | F16: 1718.25 | G16: =F16/168 -> 10.227679 | H16: =ROUND(E16*G16*2,2) -> 327.29 | I16: =ROUND(H16*1.2077,2) -> 395.27
A17: Anesteziologs un reanimatologs | B17: 1 | C17: =D17+E17 -> 240 | D17: 168 | E17: 72 | F17: 1718.25 | G17: =F17/168 -> 10.227679 | H17: =ROUND(E17*G17*2,2) -> 1472.79 | I17: =ROUND(H17*1.2359,2) -> 1820.22
A18: Anesteziologs un reanimatologs | B18: 1 | C18: =D18+E18 -> 144 | D18: 80 | E18: 64 | F18: 1718.25 | G18: =F18/168 -> 10.227679 | H18: =ROUND(E18*G18*2,2) -> 1309.14 | I18: =ROUND(H18*1.2359,2) -> 1617.97
A19: Anesteziologs un reanimatologs | B19: 1 | C19: =D19+E19 -> 48 | D19: 32 | E19: 16 | F19: 1718.25 | G19: =F19/168 -> 10.227679 | H19: =ROUND(E19*G19*2,2) -> 327.29 | I19: =ROUND(H19*1.2359,2) -> 404.5
A20: Anesteziologs un reanimatologs | B20: 1 | C20: =D20+E20 -> 160 | D20: 80 | E20: 80 | F20: 1718.25 | G20: =F20/168 -> 10.227679 | H20: =ROUND(E20*G20*2,2) -> 1636.43 | I20: =ROUND(H20*1.2359,2) -> 2022.46
A21: Anesteziologs un reanimatologs | B21: 1 | C21: =D21+E21 -> 208 | D21: 104 | E21: 104 | F21: 1718.25 | G21: =F21/168 -> 10.227679 | H21: =ROUND(E21*G21*2,2) -> 2127.36 | I21: =ROUND(H21*1.2359,2) -> 2629.2
A22: Ārsts | B22: 1 | C22: =D22+E22 -> 192 | D22: 136 | E22: 56 | F22: 1718.25 | G22: =F22/168 -> 10.227679 | H22: =ROUND(E22*G22*2,2) -> 1145.5 | I22: =ROUND(H22*1.2077,2) -> 1383.42
A23: Ārsts | B23: 1 | C23: =D23+E23 -> 248 | D23: 168 | E23: 80 | F23: 1718.25 | G23: =F23/168 -> 10.227679 | H23: =ROUND(E23*G23*2,2) -> 1636.43 | I23: =ROUND(H23*1.2359,2) -> 2022.46
A24: Ārsts | B24: 1 | C24: =D24+E24 -> 210 | D24: 168 | E24: 42 | F24: 1718.25 | G24: =F24/168 -> 10.227679 | H24: =ROUND(E24*G24*2,2) -> 859.13 | I24: =ROUND(H24*1.2359,2) -> 1061.8
A25: Ārsts | B25: 1 | C25: =D25+E25 -> 110 | D25: 72 | E25: 38 | F25: 1718.25 | G25: =F25/168 -> 10.227679 | H25: =ROUND(E25*G25*2,2) -> 777.3 | I25: =ROUND(H25*1.2359,2) -> 960.67
A26: Ārsts (dežūrslodze) | B26: 1 | C26: =D26+E26 -> 216 | D26: 168 | E26: 48 | F26: 1718.25 | G26: =F26/168 -> 10.227679 | H26: =ROUND(E26*G26*2,2) -> 981.86 | I26: =ROUND(H26*1.2359,2) -> 1213.48
A27: Ginekologs, dzemdību speciālists | B27: 1 | C27: =D27+E27 -> 48 | D27: 24 | E27: 24 | F27: 1718.25 | G27: =F27/168 -> 10.227679 | H27: =ROUND(E27*G27*2,2) -> 490.93 | I27: =ROUND(H27*1.2359,2) -> 606.74
A28: Ginekologs, dzemdību speciālists | B28: 1 | C28: =D28+E28 -> 48 | D28: 24 | E28: 24 | F28: 1718.25 | G28: =F28/168 -> 10.227679 | H28: =ROUND(E28*G28*2,2) -> 490.93 | I28: =ROUND(H28*1.2359,2) -> 606.74
A29: Internists | B29: 1 | C29: =D29+E29 -> 224 | D29: 112 | E29: 112 | F29: 1718.25 | G29: =F29/168 -> 10.227679 | H29: =ROUND(E29*G29*2,2) -> 2291 | I29: =ROUND(H29*1.2359,2) -> 2831.45
A30: Kardiologs | B30: 1 | C30: =D30+E30 -> 176 | D30: 88 | E30: 88 | F30: 1718.25 | G30: =F30/168 -> 10.227679 | H30: =ROUND(E30*G30*2,2) -> 1800.07 | I30: =ROUND(H30*1.2359,2) -> 2224.71
A31: Kardiologs | B31: 1 | C31: =D31+E31 -> 144 | D31: 72 | E31: 72 | F31: 1718.25 | G31: =F31/168 -> 10.227679 | H31: =ROUND(E31*G31*2,2) -> 1472.79 | I31: =ROUND(H31*1.2359,2) -> 1820.22
A32: Kardiologs | B32: 1 | C32: =D32+E32 -> 32 | D32: 16 | E32: 16 | F32: 1718.25 | G32: =F32/168 -> 10.227679 | H32: =ROUND(E32*G32*2,2) -> 327.29 | I32: =ROUND(H32*1.2359,2) -> 404.5
A33: Kardiologs | B33: 1 | C33: =D33+E33 -> 96 | D33: 48 | E33: 48 | F33: 1718.25 | G33: =F33/168 -> 10.227679 | H33: =ROUND(E33*G33*2,2) -> 981.86 | I33: =ROUND(H33*1.2359,2) -> 1213.48
A34: Kardiologs | B34: 1 | C34: =D34+E34 -> 32 | D34: 16 | E34: 16 | F34: 1718.25 | G34: =F34/168 -> 10.227679 | H34: =ROUND(E34*G34*2,2) -> 327.29 | I34: =ROUND(H34*1.2359,2) -> 404.5
A35: Kardiologs | B35: 1 | C35: =D35+E35 -> 96 | D35: 48 | E35: 48 | F35: 1718.25 | G35: =F35/168 -> 10.227679 | H35: =ROUND(E35*G35*2,2) -> 981.86 | I35: =ROUND(H35*1.2077,2) -> 1185.79
A36: Ķirurgs | B36: 1 | C36: =D36+E36 -> 136 | D36: 68 | E36: 68 | F36: 1718.25 | G36: =F36/168 -> 10.227679 | H36: =ROUND(E36*G36*2,2) -> 1390.96 | I36: =ROUND(H36*1.2077,2) -> 1679.86
A37: Ķirurgs | B37: 1 | C37: =D37+E37 -> 149 | D37: 74.5 | E37: 74.5 | F37: 1718.25 | G37: =F37/168 -> 10.227679 | H37: =ROUND(E37*G37*2,2) -> 1523.92 | I37: =ROUND(H37*1.2359,2) -> 1883.41
A38: Ķirurgs | B38: 1 | C38: =D38+E38 -> 34 | D38: 17 | E38: 17 | F38: 1718.25 | G38: =F38/168 -> 10.227679 | H38: =ROUND(E38*G38*2,2) -> 347.74 | I38: =ROUND(H38*1.2359,2) -> 429.77
A39: Ķirurgs | B39: 1 | C39: =D39+E39 -> 64 | D39: 32 | E39: 32 | F39: 1718.25 | G39: =F39/168 -> 10.227679 | H39: =ROUND(E39*G39*2,2) -> 654.57 | I39: =ROUND(H39*1.2359,2) -> 808.98
A40: Ķirurgs | B40: 1 | C40: =D40+E40 -> 147 | D40: 73.5 | E40: 73.5 | F40: 1718.25 | G40: =F40/168 -> 10.227679 | H40: =ROUND(E40*G40*2,2) -> 1503.47 | I40: =ROUND(H40*1.2359,2) -> 1858.14
A41: Ķirurgs | B41: 1 | C41: =D41+E41 -> 201.5 | D41: 168 | E41: 33.5 | F41: 1718.25 | G41: =F41/168 -> 10.227679 | H41: =ROUND(E41*G41*2,2) -> 685.25 | I41: =ROUND(H41*1.2359,2) -> 846.9
A42: Bērnu ķirurgs | B42: 1 | C42: =D42+E42 -> 176 | D42: 88 | E42: 88 | F42: 1718.25 | G42: =F42/168 -> 10.227679 | H42: =ROUND(E42*G42*2,2) -> 1800.07 | I42: =ROUND(H42*1.2359,2) -> 2224.71
A43: Neatliekamās medicīnas ārsts | B43: 1 | C43: =D43+E43 -> 112 | D43: 56 | E43: 56 | F43: 1718.25 | G43: =F43/168 -> 10.227679 | H43: =ROUND(E43*G43*2,2) -> 1145.5 | I43: =ROUND(H43*1.2359,2) -> 1415.72
...

Sheet Daugavpils_reģ_nov
H1: Pielikums Nr.3
A2: Pārskats par darba veicējiem (ārstniecības personām), virs normālā darba laika nostrādātām stundām, apmaksājamām stundām un izdevumiem, kas radušies saistībā ar mērķi ierobežot Covid-19 izplatību
A4: Iestādes nosaukums: SIA "Daugavpils reģionālā slimnīca"
A5: Pārskata mēnesis: Novembris
B7: Nodarbināto skaits mēnesī | C7: Apmaksājamais laiks mēnesī, stundas (tai skaitā summētā darba laika ietvaros) | F7: Mēnešalga no kuras rēķina stundas likmi | G7: Stundas likme (aprēķināta atbilstoši mēnešalgai vai darba līgumā noteiktā stundas likme) | H7: Apmaksājamā 100% piemaksa par nostrādātām virsstundām virs normālā darba laika (tai skaitā summētā darba laika ietvaros) | I7: Izdevumi par virsstundām kopā ar VSOAI, EUR
C8: Kopā | D8: līdz normālam darba laikam | E8: virsstundas - virs normālā darba laika, kas saistītas ar darbu ar Covid-19
A10: 1 | B10: 2 | C10: 3=4+5 | D10: 4 | E10: 5 | F10: 6 | G10: 7 | H10: 8 | I10: 9=8 + VSOAI
A11: KOPĀ | B11: =B12+B118+B128+B148 -> 137 | E11: =E12+E118+E128+E148 -> 6096.5 | H11: =H12+H118+H128+H148 -> 104046.98 | I11: =I12+I118+I128+I148 -> 128387.95
A12: Centrālā slimnīca "Uzņemšanas nodaļa" | B12: =B13+B60+B102 -> 102 | E12: =E13+E60+E102 -> 5352.5 | H12: =H13+H60+H102 -> 91493.86 | I12: =I13+I60+I102 -> 112873.55
A13: Ārsti, zobārsti un funkcionālie speciālisti, kopā, tai skaitā: | B13: =SUM(B14:B59) -> 46 | E13: =SUM(E14:E59) -> 2875 | H13: =SUM(H14:H59) -> 61045.23 | I13: =SUM(I14:I59) -> 75258.04
A14: Internists - klīnikas vadītājs | B14: 1 | C14: =D14+E14 -> 300 | D14: 167 | E14: 133 | F14: 2979.13 | G14: =F14/167 -> 17.839102 | H14: =ROUND(E14*G14*2,2) -> 4745.2 | I14: =ROUND(H14*1.2359,2) -> 5864.59
A15: Anesteziologs un reanimatologs | B15: 1 | C15: =D15+E15 -> 192 | D15: 167 | E15: 25 | F15: 1708.03 | G15: =F15/D15 -> 10.227725 | H15: =ROUND(E15*G15*2,2) -> 511.39 | I15: =ROUND(H15*1.2359,2) -> 632.03
A16: Anesteziologs un reanimatologs | B16: 1 | C16: =D16+E16 -> 216 | D16: 167 | E16: 49 | F16: 1708.03 | G16: =F16/D16 -> 10.227725 | H16: =ROUND(E16*G16*2,2) -> 1002.32 | I16: =ROUND(H16*1.2359,2) -> 1238.77
A17: Anesteziologs un reanimatologs | B17: 1 | C17: =D17+E17 -> 64 | D17: 32 | E17: 32 | F17: 1708.03 | G17: =F17/167 -> 10.227725 | H17: =ROUND(E17*G17*2,2) -> 654.57 | I17: =ROUND(H17*1.2077,2) -> 790.52
A18: Anesteziologs un reanimatologs | B18: 1 | C18: =D18+E18 -> 144 | D18: 103 | E18: 41 | F18: 1708.03 | G18: =F18/167 -> 10.227725 | H18: =ROUND(E18*G18*2,2) -> 838.67 | I18: =ROUND(H18*1.2359,2) -> 1036.51
A19: Anesteziologs un reanimatologs | B19: 1 | C19: =D19+E19 -> 232 | D19: 128 | E19: 104 | F19: 1708.03 | G19: =F19/167 -> 10.227725 | H19: =ROUND(E19*G19*2,2) -> 2127.37 | I19: =ROUND(H19*1.2359,2) -> 2629.22
A20: Anesteziologs un reanimatologs | B20: 1 | C20: =D20+E20 -> 48 | D20: 24 | E20: 24 | F20: 1708.03 | G20: =F20/167 -> 10.227725 | H20: =ROUND(E20*G20*2,2) -> 490.93 | I20: =ROUND(H20*1.2359,2) -> 606.74
A21: Anesteziologs un reanimatologs | B21: 1 | C21: =D21+E21 -> 112 | D21: 56 | E21: 56 | F21: 1708.03 | G21: =F21/167 -> 10.227725 | H21: =ROUND(E21*G21*2,2) -> 1145.51 | I21: =ROUND(H21*1.2359,2) -> 1415.74
A22: Anesteziologs un reanimatologs | B22: 1 | C22: =D22+E22 -> 32 | D22: 16 | E22: 16 | F22: 1708.03 | G22: =F22/167 -> 10.227725 | H22: =ROUND(E22*G22*2,2) -> 327.29 | I22: =ROUND(H22*1.2359,2) -> 404.5
A23: Ārsts | B23: 1 | C23: =D23+E23 -> 239 | D23: 167 | E23: 72 | F23: 1708.03 | G23: =F23/167 -> 10.227725 | H23: =ROUND(E23*G23*2,2) -> 1472.79 | I23: =ROUND(H23*1.2077,2) -> 1778.69
A24: Ārsts | B24: 1 | C24: =D24+E24 -> 202.5 | D24: 167 | E24: 35.5 | F24: 1708.03 | G24: =F24/167 -> 10.227725 | H24: =ROUND(E24*G24*2,2) -> 726.17 | I24: =ROUND(H24*1.2359,2) -> 897.47
A25: Ginekologs, dzemdību speciālists | B25: 1 | C25: =D25+E25 -> 48 | D25: 24 | E25: 24 | F25: 1708.03 | G25: =F25/167 -> 10.227725 | H25: =ROUND(E25*G25*2,2) -> 490.93 | I25: =ROUND(H25*1.2359,2) -> 606.74
A26: Internists | B26: 1 | C26: =D26+E26 -> 304 | D26: 152 | E26: 152 | F26: 1708.03 | G26: =F26/167 -> 10.227725 | H26: =ROUND(E26*G26*2,2) -> 3109.23 | I26: =ROUND(H26*1.2359,2) -> 3842.7
A27: Internists | B27: 1 | C27: =D27+E27 -> 144 | D27: 72 | E27: 72 | F27: 1708.03 | G27: =F27/167 -> 10.227725 | H27: =ROUND(E27*G27*2,2) -> 1472.79 | I27: =ROUND(H27*1.2359,2) -> 1820.22
A28: Kardiologs | B28: 1 | C28: =D28+E28 -> 210 | D28: 105 | E28: 105 | F28: 1708.03 | G28: =F28/167 -> 10.227725 | H28: =ROUND(E28*G28*2,2) -> 2147.82 | I28: =ROUND(H28*1.2359,2) -> 2654.49
A29: Kardiologs | B29: 1 | C29: =D29+E29 -> 192 | D29: 96 | E29: 96 | F29: 1708.03 | G29: =F29/167 -> 10.227725 | H29: =ROUND(E29*G29*2,2) -> 1963.72 | I29: =ROUND(H29*1.2359,2) -> 2426.96
A30: Kardiologs | B30: 1 | C30: =D30+E30 -> 64 | D30: 32 | E30: 32 | F30: 1708.03 | G30: =F30/167 -> 10.227725 | H30: =ROUND(E30*G30*2,2) -> 654.57 | I30: =ROUND(H30*1.2359,2) -> 808.98
A31: Kardiologs | B31: 1 | C31: =D31+E31 -> 96 | D31: 48 | E31: 48 | F31: 1708.03 | G31: =F31/167 -> 10.227725 | H31: =ROUND(E31*G31*2,2) -> 981.86 | I31: =ROUND(H31*1.2359,2) -> 1213.48
A32: Kardiologs | B32: 1 | C32: =D32+E32 -> 64 | D32: 32 | E32: 32 | F32: 1708.03 | G32: =F32/167 -> 10.227725 | H32: =ROUND(E32*G32*2,2) -> 654.57 | I32: =ROUND(H32*1.2359,2) -> 808.98
A33: Kardiologs | B33: 1 | C33: =D33+E33 -> 160 | D33: 80 | E33: 80 | F33: 1708.03 | G33: =F33/167 -> 10.227725 | H33: =ROUND(E33*G33*2,2) -> 1636.44 | I33: =ROUND(H33*1.2077,2) -> 1976.33
A34: Ķirurgs | B34: 1 | C34: =D34+E34 -> 240 | D34: 120 | E34: 120 | F34: 1708.03 | G34: =F34/167 -> 10.227725 | H34: =ROUND(E34*G34*2,2) -> 2454.65 | I34: =ROUND(H34*1.2359,2) -> 3033.7
A35: Ķirurgs | B35: 1 | C35: =D35+E35 -> 185 | D35: 92.5 | E35: 92.5 | F35: 1708.03 | G35: =F35/167 -> 10.227725 | H35: =ROUND(E35*G35*2,2) -> 1892.13 | I35: =ROUND(H35*1.2077,2) -> 2285.13
A36: Ķirurgs | B36: 1 | C36: =D36+E36 -> 119 | D36: 59.5 | E36: 59.5 | F36: 1708.03 | G36: =F36/167 -> 10.227725 | H36: =ROUND(E36*G36*2,2) -> 1217.1 | I36: =ROUND(H36*1.2359,2) -> 1504.21
A37: Ķirurgs | B37: 1 | C37: =D37+E37 -> 68 | D37: 34 | E37: 34 | F37: 1708.03 | G37: =F37/167 -> 10.227725 | H37: =ROUND(E37*G37*2,2) -> 695.49 | I37: =ROUND(H37*1.2359,2) -> 859.56
A38: Ķirurgs | B38: 1 | C38: =D38+E38 -> 164 | D38: 82 | E38: 82 | F38: 1708.03 | G38: =F38/167 -> 10.227725 | H38: =ROUND(E38*G38*2,2) -> 1677.35 | I38: =ROUND(H38*1.2359,2) -> 2073.04
A39: Ķirurgs | B39: 1 | C39: =D39+E39 -> 210 | D39: 167 | E39: 43 | F39: 1708.03 | G39: =F39/167 -> 10.227725 | H39: =ROUND(E39*G39*2,2) -> 879.58 | I39: =ROUND(H39*1.2359,2) -> 1087.07
A40: Bērnu ķirurgs | B40: 1 | C40: =D40+E40 -> 178 | D40: 89 | E40: 89 | F40: 1708.03 | G40: =F40/167 -> 10.227725 | H40: =ROUND(E40*G40*2,2) -> 1820.53 | I40: =ROUND(H40*1.2359,2) -> 2249.99
A41: Neatliekamās medicīnas ārsts | B41: 1 | C41: =D41+E41 -> 66 | D41: 33 | E41: 33 | F41: 1708.03 | G41: =F41/167 -> 10.227725 | H41: =ROUND(E41*G41*2,2) -> 675.03 | I41: =ROUND(H41*1.2359,2) -> 834.27
A42: Neatliekamās medicīnas ārsts | B42: 1 | C42: =D42+E42 -> 192 | D42: 167 | E42: 25 | F42: 1708.03 | G42: =F42/167 -> 10.227725 | H42: =ROUND(E42*G42*2,2) -> 511.39 | I42: =ROUND(H42*1.2359,2) -> 632.03
A43: Neirologs | B43: 1 | C43: =D43+E43 -> 176 | D43: 88 | E43: 88 | F43: 1708.03 | G43: =F43/167 -> 10.227725 | H43: =ROUND(E43*G43*2,2) -> 1800.08 | I43: =ROUND(H43*1.2359,2) -> 2224.72
...

Sheet Daugavpils_reģ_dec
H1: Pielikums Nr.4
A2: Pārskats par darba veicējiem (ārstniecības personām), virs normālā darba laika nostrādātām stundām, apmaksājamām stundām un izdevumiem, kas radušies saistībā ar mērķi ierobežot Covid-19 izplatību
A4: Iestādes nosaukums: SIA "Daugavpils reģionālā slimnīca"
A5: Pārskata mēnesis: Decembris
B7: Nodarbināto skaits mēnesī | C7: Apmaksājamais laiks mēnesī, stundas (tai skaitā summētā darba laika ietvaros) | F7: Mēnešalga no kuras rēķina stundas likmi | G7: Stundas likme (aprēķināta atbilstoši mēnešalgai vai darba līgumā noteiktā stundas likme) | H7: Apmaksājamā 100% piemaksa par nostrādātām virsstundām virs normālā darba laika (tai skaitā summētā darba laika ietvaros) | I7: Izdevumi par virsstundām kopā ar VSOAI, EUR
C8: Kopā | D8: līdz normālam darba laikam | E8: virsstundas - virs normālā darba laika, kas saistītas ar darbu ar Covid-19
A10: 1 | B10: 2 | C10: 3=4+5 | D10: 4 | E10: 5 | F10: 6 | G10: 7 | H10: 8 | I10: 9=8 + VSOAI
A11: KOPĀ | B11: =B12+B126+B140+B155 -> 149 | E11: =E12+E126+E140+E155 -> 6379 | H11: =H12+H126+H140+H155 -> 110205.48 | I11: =I12+I126+I140+I155 -> 136027.4
A12: Centrālā slimnīca "Uzņemšanas nodaļa" | B12: =B13+B65+B110 -> 110 | E12: =E13+E65+E110 -> 5355 | H12: =H13+H65+H110 -> 91603.58 | I12: =I13+I65+I110 -> 113048.96
A13: Ārsti, zobārsti un funkcionālie speciālisti, kopā, tai skaitā: | B13: =SUM(B14:B64) -> 51 | E13: =SUM(E14:E64) -> 2919 | H13: =SUM(H14:H64) -> 61360.13 | I13: =SUM(I14:I64) -> 75687.57
A14: Internists - klīnikas vadītājs | B14: 1 | C14: =D14+E14 -> 265 | D14: 166 | E14: 99 | F14: 2961.29 | G14: =F14/166 -> 17.839096 | H14: =ROUND(E14*G14*2,2) -> 3532.14 | I14: =ROUND(H14*1.2359,2) -> 4365.37
A15: Anesteziologs un reanimatologs | B15: 1 | C15: =D15+E15 -> 168 | D15: 166 | E15: 2 | F15: 1697.8 | G15: =F15/166 -> 10.227711 | H15: =ROUND(E15*G15*2,2) -> 40.91 | I15: =ROUND(H15*1.2359,2) -> 50.56
A16: Anesteziologs un reanimatologs | B16: 1 | C16: =D16+E16 -> 240 | D16: 166 | E16: 74 | F16: 1697.8 | G16: =F16/166 -> 10.227711 | H16: =ROUND(E16*G16*2,2) -> 1513.7 | I16: =ROUND(H16*1.2359,2) -> 1870.78
A17: Anesteziologs un reanimatologs | B17: 1 | C17: =D17+E17 -> 90 | D17: 88 | E17: 2 | F17: 1697.8 | G17: =F17/166 -> 10.227711 | H17: =ROUND(E17*G17*2,2) -> 40.91 | I17: =ROUND(H17*1.2077,2) -> 49.41
A18: Anesteziologs un reanimatologs | B18: 1 | C18: =D18+E18 -> 64 | D18: 32 | E18: 32 | F18: 1697.8 | G18: =F18/166 -> 10.227711 | H18: =ROUND(E18*G18*2,2) -> 654.57 | I18: =ROUND(H18*1.2077,2) -> 790.52
A19: Anesteziologs un reanimatologs | B19: 1 | C19: =D19+E19 -> 216 | D19: 166 | E19: 50 | F19: 1697.8 | G19: =F19/166 -> 10.227711 | H19: =ROUND(E19*G19*2,2) -> 1022.77 | I19: =ROUND(H19*1.2359,2) -> 1264.04
A20: Anesteziologs un reanimatologs | B20: 1 | C20: =D20+E20 -> 129 | D20: 40 | E20: 89 | F20: 1697.8 | G20: =F20/166 -> 10.227711 | H20: =ROUND(E20*G20*2,2) -> 1820.53 | I20: =ROUND(H20*1.2359,2) -> 2249.99
A21: Anesteziologs un reanimatologs | B21: 1 | C21: =D21+E21 -> 32 | D21: 16 | E21: 16 | F21: 1697.8 | G21: =F21/166 -> 10.227711 | H21: =ROUND(E21*G21*2,2) -> 327.29 | I21: =ROUND(H21*1.2359,2) -> 404.5
A22: Anesteziologs un reanimatologs | B22: 1 | C22: =D22+E22 -> 128 | D22: 64 | E22: 64 | F22: 1697.8 | G22: =F22/166 -> 10.227711 | H22: =ROUND(E22*G22*2,2) -> 1309.15 | I22: =ROUND(H22*1.2359,2) -> 1617.98
A23: Ārsts | B23: 1 | C23: =D23+E23 -> 168 | D23: 142 | E23: 26 | F23: 1697.8 | G23: =F23/166 -> 10.227711 | H23: =ROUND(E23*G23*2,2) -> 531.84 | I23: =ROUND(H23*1.2077,2) -> 642.3
A24: Ārsts | B24: 1 | C24: =D24+E24 -> 232 | D24: 166 | E24: 66 | F24: 1697.8 | G24: =F24/166 -> 10.227711 | H24: =ROUND(E24*G24*2,2) -> 1350.06 | I24: =ROUND(H24*1.2359,2) -> 1668.54
A25: Ārsts stažieris | B25: 1 | C25: =D25+E25 -> 25 | D25: 24 | E25: 1 | F25: 1697.8 | G25: =F25/166 -> 10.227711 | H25: =ROUND(E25*G25*2,2) -> 20.46 | I25: =ROUND(H25*1.2359,2) -> 25.29
A26: Ginekologs, dzemdību speciālists | B26: 1 | C26: =D26+E26 -> 106 | D26: 72 | E26: 34 | F26: 1697.8 | G26: =F26/166 -> 10.227711 | H26: =ROUND(E26*G26*2,2) -> 695.48 | I26: =ROUND(H26*1.2077,2) -> 839.93
A27: Ginekologs, dzemdību speciālists | B27: 1 | C27: =D27+E27 -> 48 | D27: 24 | E27: 24 | F27: 1697.8 | G27: =F27/166 -> 10.227711 | H27: =ROUND(E27*G27*2,2) -> 490.93 | I27: =ROUND(H27*1.2359,2) -> 606.74
A28: Ginekologs, dzemdību speciālists | B28: 1 | C28: =D28+E28 -> 65 | D28: 48 | E28: 17 | F28: 1697.8 | G28: =F28/166 -> 10.227711 | H28: =ROUND(E28*G28*2,2) -> 347.74 | I28: =ROUND(H28*1.2359,2) -> 429.77
A29: Ginekologs, dzemdību speciālists | B29: 1 | C29: =D29+E29 -> 32 | D29: 16 | E29: 16 | F29: 1697.8 | G29: =F29/166 -> 10.227711 | H29: =ROUND(E29*G29*2,2) -> 327.29 | I29: =ROUND(H29*1.2359,2) -> 404.5
A30: Internists | B30: 1 | C30: =D30+E30 -> 79 | D30: 56 | E30: 23 | F30: 1697.8 | G30: =F30/166 -> 10.227711 | H30: =ROUND(E30*G30*2,2) -> 470.47 | I30: =ROUND(H30*1.2359,2) -> 581.45
A31: Internists | B31: 1 | C31: =D31+E31 -> 316 | D31: 158 | E31: 158 | F31: 1697.8 | G31: =F31/166 -> 10.227711 | H31: =ROUND(E31*G31*2,2) -> 3231.96 | I31: =ROUND(H31*1.2359,2) -> 3994.38
A32: Internists | B32: 1 | C32: =D32+E32 -> 96 | D32: 48 | E32: 48 | F32: 1697.8 | G32: =F32/166 -> 10.227711 | H32: =ROUND(E32*G32*2,2) -> 981.86 | I32: =ROUND(H32*1.2359,2) -> 1213.48
A33: Kardiologs | B33: 1 | C33: =D33+E33 -> 176 | D33: 88 | E33: 88 | F33: 1697.8 | G33: =F33/166 -> 10.227711 | H33: =ROUND(E33*G33*2,2) -> 1800.08 | I33: =ROUND(H33*1.2359,2) -> 2224.72
A34: Kardiologs | B34: 1 | C34: =D34+E34 -> 192 | D34: 96 | E34: 96 | F34: 1697.8 | G34: =F34/166 -> 10.227711 | H34: =ROUND(E34*G34*2,2) -> 1963.72 | I34: =ROUND(H34*1.2359,2) -> 2426.96
A35: Kardiologs | B35: 1 | C35: =D35+E35 -> 96 | D35: 48 | E35: 48 | F35: 1697.8 | G35: =F35/166 -> 10.227711 | H35: =ROUND(E35*G35*2,2) -> 981.86 | I35: =ROUND(H35*1.2359,2) -> 1213.48
A36: Kardiologs | B36: 1 | C36: =D36+E36 -> 48 | D36: 24 | E36: 24 | F36: 1697.8 | G36: =F36/166 -> 10.227711 | H36: =ROUND(E36*G36*2,2) -> 490.93 | I36: =ROUND(H36*1.2359,2) -> 606.74
A37: Kardiologs | B37: 1 | C37: =D37+E37 -> 64 | D37: 32 | E37: 32 | F37: 1697.8 | G37: =F37/166 -> 10.227711 | H37: =ROUND(E37*G37*2,2) -> 654.57 | I37: =ROUND(H37*1.2359,2) -> 808.98
A38: Kardiologs | B38: 1 | C38: =D38+E38 -> 112 | D38: 56 | E38: 56 | F38: 1697.8 | G38: =F38/166 -> 10.227711 | H38: =ROUND(E38*G38*2,2) -> 1145.5 | I38: =ROUND(H38*1.2077,2) -> 1383.42
A39: Ķirurgs | B39: 1 | C39: =D39+E39 -> 320 | D39: 160 | E39: 160 | F39: 1697.8 | G39: =F39/166 -> 10.227711 | H39: =ROUND(E39*G39*2,2) -> 3272.87 | I39: =ROUND(H39*1.2359,2) -> 4044.94
A40: Ķirurgs | B40: 1 | C40: =D40+E40 -> 179 | D40: 89.5 | E40: 89.5 | F40: 1697.8 | G40: =F40/166 -> 10.227711 | H40: =ROUND(E40*G40*2,2) -> 1830.76 | I40: =ROUND(H40*1.2077,2) -> 2211.01
A41: Ķirurgs | B41: 1 | C41: =D41+E41 -> 148 | D41: 74 | E41: 74 | F41: 1697.8 | G41: =F41/166 -> 10.227711 | H41: =ROUND(E41*G41*2,2) -> 1513.7 | I41: =ROUND(H41*1.2359,2) -> 1870.78
A42: Ķirurgs | B42: 1 | C42: =D42+E42 -> 68 | D42: 34 | E42: 34 | F42: 1697.8 | G42: =F42/166 -> 10.227711 | H42: =ROUND(E42*G42*2,2) -> 695.48 | I42: =ROUND(H42*1.2359,2) -> 859.54
A43: Ķirurgs | B43: 1 | C43: =D43+E43 -> 96 | D43: 48 | E43: 48 | F43: 1697.8 | G43: =F43/166 -> 10.227711 | H43: =ROUND(E43*G43*2,2) -> 981.86 | I43: =ROUND(H43*1.2359,2) -> 1213.48
...

Sheet Z-Kurzeme_okt
H1: Pielikums Nr.5
A2: Pārskats par darba veicējiem (ārstniecības personām), virs normālā darba laika nostrādātām stundām, apmaksājamām stundām un izdevumiem, kas radušies saistībā ar mērķi ierobežot Covid-19 izplatību
A4: Iestādes nosaukums: SIA "Ziemeļkurzemes reģionālā slimnīca"
A5: Pārskata mēnesis: Oktobris
B7: Nodarbināto skaits mēnesī | C7: Apmaksājamais laiks mēnesī, stundas (tai skaitā summētā darba laika ietvaros) | F7: Mēnešalga no kuras rēķina stundas likmi | G7: Stundas likme (aprēķināta atbilstoši mēnešalgai vai darba līgumā noteiktā stundas likme) | H7: Apmaksājamā 100% piemaksa par nostrādātām virsstundām virs normālā darba laika (tai skaitā summētā darba laika ietvaros) | I7: Izdevumi par virsstundām kopā ar VSOAI, EUR
C8: Kopā | D8: līdz normālam darba laikam | E8: virsstundas - virs normālā darba laika, kas saistītas ar darbu ar Covid-19
A9: 1 | B9: 2 | C9: 3=4+5 | D9: 4 | E9: 5 | F9: 6 | G9: 7 | H9: 8 | I9: 9=8 + VSOAI
A10: KOPĀ | B10: =B11+B26+B43+B53+B78+B100+B113 -> 78 | E10: =E11+E26+E43+E53+E78+E100+E113 -> 1844 | H10: =H11+H26+H43+H53+H78+H100+H113 -> 23978.62 | I10: =I11+I26+I43+I53+I78+I100+I113 -> 29635.12
A11: INFEKCIJAS NODAĻA (35 stundas nedēļā) | B11: =B12+B22+B19 -> 11 | E11: =E12+E22+E19 -> 404 | H11: =H12+H22+H19 -> 4915.34 | I11: =I12+I22+I19 -> 6074.85
A12: Ārstniecības un pacientu aprūpes personas un funkcionālo speciālistu asistenti, kopā, tai skaitā: | B12: =SUM(B13:B18) -> 6 | E12: =SUM(E13:E18) -> 225 | H12: =SUM(H13:H18) -> 3169.8 | I12: =SUM(I13:I18) -> 3917.55
A13: Māsa/vispārējās aprūpes māsa | B13: 1 | C13: =D13+E13 -> 186 | D13: 151 | E13: 35 | G13: 7.044 | H13: =ROUND(G13*E13*2,2) -> 493.08 | I13: =ROUND(H13*1.2359,2) -> 609.4
A14: Māsa/vispārējās aprūpes māsa | B14: 1 | C14: =D14+E14 -> 204 | D14: 151 | E14: 53 | G14: 7.044 | H14: =ROUND(G14*E14*2,2) -> 746.66 | I14: =ROUND(H14*1.2359,2) -> 922.8
A15: Māsa/vispārējās aprūpes māsa | B15: 1 | C15: =D15+E15 -> 161 | D15: 151 | E15: 10 | G15: 7.044 | H15: =ROUND(G15*E15*2,2) -> 140.88 | I15: =ROUND(H15*1.2359,2) -> 174.11
A16: Māsa/vispārējās aprūpes māsa | B16: 1 | C16: =D16+E16 -> 170 | D16: 151 | E16: 19 | G16: 7.044 | H16: =ROUND(G16*E16*2,2) -> 267.67 | I16: =ROUND(H16*1.2359,2) -> 330.81
A17: Māsa/vispārējās aprūpes māsa | B17: 1 | C17: =D17+E17 -> 228 | D17: 151 | E17: 77 | G17: 7.044 | H17: =ROUND(G17*E17*2,2) -> 1084.78 | I17: =ROUND(H17*1.2359,2) -> 1340.68
A18: Māsa/vispārējās aprūpes māsa | B18: 1 | C18: =D18+E18 -> 182 | D18: 151 | E18: 31 | G18: 7.044 | H18: =ROUND(G18*E18*2,2) -> 436.73 | I18: =ROUND(H18*1.2359,2) -> 539.75
A19: Ārstniecības un pacientu aprūpes atbalsta personas, māsu palīgi, zobārstu aistenti, kopā, tai skaitā: | B19: =SUM(B20:B21) -> 2 | E19: =SUM(E20:E21) -> 44 | H19: =SUM(H20:H21) -> 451.7 | I19: =SUM(I20:I21) -> 558.25
A20: Māsas palīgs | B20: 1 | C20: =D20+E20 -> 165 | D20: 151 | E20: 14 | G20: 5.133 | H20: =ROUND(G20*E20*2,2) -> 143.72 | I20: =ROUND(H20*1.2359,2) -> 177.62
A21: Māsas palīgs | B21: 1 | C21: =D21+E21 -> 181 | D21: 151 | E21: 30 | G21: 5.133 | H21: =ROUND(G21*E21*2,2) -> 307.98 | I21: =ROUND(H21*1.2359,2) -> 380.63
A22: Pārējie darbinieki, kuri tieši iesaistīti darbā ar Covid-19, kopā, tai skaitā: | B22: =SUM(B23:B25) -> 3 | E22: =SUM(E23:E25) -> 135 | H22: =SUM(H23:H25) -> 1293.84 | I22: =SUM(I23:I25) -> 1599.05
A23: Sanitārs | B23: 1 | C23: =D23+E23 -> 213 | D23: 151 | E23: 62 | G23: 4.792 | H23: =ROUND(G23*E23*2,2) -> 594.21 | I23: =ROUND(H23*1.2359,2) -> 734.38
A24: Sanitārs | B24: 1 | C24: =D24+E24 -> 221 | D24: 151 | E24: 70 | G24: 4.792 | H24: =ROUND(G24*E24*2,2) -> 670.88 | I24: =ROUND(H24*1.2359,2) -> 829.14
A25: Sanitārs | B25: 1 | C25: =D25+E25 -> 154 | D25: 151 | E25: 3 | G25: 4.792 | H25: =ROUND(G25*E25*2,2) -> 28.75 | I25: =ROUND(H25*1.2359,2) -> 35.53
A26: IEKŠĶĪGO SLIMĪBU NODAĻA | B26: =B27+B32+B39+B41 -> 12 | E26: =E27+E32+E39+E41 -> 308 | H26: =H27+H32+H39+H41 -> 4895.41 | I26: =I27+I32+I39+I41 -> 6050.23
A27: Ārsti, zobārsti un funkcionālie speciālisti, kopā, tai skaitā: | B27: =SUM(B28:B31) -> 4 | E27: =SUM(E28:E31) -> 150 | H27: =SUM(H28:H31) -> 2901.87 | I27: =SUM(I28:I31) -> 3586.42
A28: Internists | B28: 1 | C28: =D28+E28 -> 247 | D28: 172 | E28: 75 | G28: 9.646 | H28: =ROUND(G28*E28*2,2) -> 1446.9 | I28: =ROUND(H28*1.2359,2) -> 1788.22
A29: Internists | B29: 1 | C29: =D29+E29 -> 201 | D29: 172 | E29: 29 | G29: 9.646 | H29: =ROUND(G29*E29*2,2) -> 559.47 | I29: =ROUND(H29*1.2359,2) -> 691.45
A30: Internists (dežūrārsts) | B30: 1 | C30: =D30+E30 -> 205 | D30: 172 | E30: 33 | G30: 9.646 | H30: =ROUND(G30*E30*2,2) -> 636.64 | I30: =ROUND(H30*1.2359,2) -> 786.82
A31: Internists (dežūrārsts) | B31: 1 | C31: =D31+E31 -> 185 | D31: 172 | E31: 13 | G31: 9.956 | H31: =ROUND(G31*E31*2,2) -> 258.86 | I31: =ROUND(H31*1.2359,2) -> 319.93
A32: Ārstniecības un pacientu aprūpes personas un funkcionālo speciālistu asistenti, kopā, tai skaitā: | B32: =SUM(B33:B38) -> 6 | E32: =SUM(E33:E38) -> 130 | H32: =SUM(H33:H38) -> 1747.63 | I32: =SUM(I33:I38) -> 2159.89
A33: Māsa/vispārējās aprūpes māsa | B33: 1 | C33: =D33+E33 -> 201 | D33: 172 | E33: 29 | G33: 6.811 | H33: =ROUND(G33*E33*2,2) -> 395.04 | I33: =ROUND(H33*1.2359,2) -> 488.23
A34: Māsa/vispārējās aprūpes māsa | B34: 1 | C34: =D34+E34 -> 186 | D34: 172 | E34: 14 | G34: 6.402 | H34: =ROUND(G34*E34*2,2) -> 179.26 | I34: =ROUND(H34*1.2359,2) -> 221.55
A35: Māsa/vispārējās aprūpes māsa | B35: 1 | C35: =D35+E35 -> 208 | D35: 172 | E35: 36 | G35: 6.954 | H35: =ROUND(G35*E35*2,2) -> 500.69 | I35: =ROUND(H35*1.2359,2) -> 618.8
A36: Māsa/vispārējās aprūpes māsa | B36: 1 | C36: =D36+E36 -> 196 | D36: 172 | E36: 24 | G36: 6.811 | H36: =ROUND(G36*E36*2,2) -> 326.93 | I36: =ROUND(H36*1.2359,2) -> 404.05
A37: Māsa/vispārējās aprūpes māsa | B37: 1 | C37: =D37+E37 -> 197 | D37: 172 | E37: 25 | G37: 6.402 | H37: =ROUND(G37*E37*2,2) -> 320.1 | I37: =ROUND(H37*1.2359,2) -> 395.61
A38: Māsa/vispārējās aprūpes māsa | B38: 1 | C38: =D38+E38 -> 174 | D38: 172 | E38: 2 | G38: 6.402 | H38: =ROUND(G38*E38*2,2) -> 25.61 | I38: =ROUND(H38*1.2359,2) -> 31.65
A39: Ārstniecības un pacientu aprūpes atbalsta personas, māsu palīgi, zobārstu aistenti, kopā, tai skaitā: | B39: =SUM(B40:B40) -> 1 | E39: =SUM(E40:E40) -> 19 | H39: =SUM(H40:H40) -> 170.51 | I39: =SUM(I40:I40) -> 210.73
A40: Māsas palīgs | B40: 1 | C40: =D40+E40 -> 191 | D40: 172 | E40: 19 | G40: 4.487 | H40: =ROUND(G40*E40*2,2) -> 170.51 | I40: =ROUND(H40*1.2359,2) -> 210.73
A41: Pārējie darbinieki, kuri tieši iesaistīti darbā ar Covid-19, kopā, tai skaitā: | B41: =SUM(B42:B42) -> 1 | E41: =SUM(E42:E42) -> 9 | H41: =SUM(H42:H42) -> 75.4 | I41: =SUM(I42:I42) -> 93.19
A42: Sanitārs | B42: 1 | C42: =D42+E42 -> 181 | D42: 172 | E42: 9 | G42: 4.189 | H42: =ROUND(G42*E42*2,2) -> 75.4 | I42: =ROUND(H42*1.2359,2) -> 93.19
...

Sheet Z-Kurzeme_nov
H1: Pielikums Nr.6
A2: Pārskats par darba veicējiem (ārstniecības personām), virs normālā darba laika nostrādātām stundām, apmaksājamām stundām un izdevumiem, kas radušies saistībā ar mērķi ierobežot Covid-19 izplatību
A4: Iestādes nosaukums: SIA "Ziemeļkurzemes reģionālā slimnīca"
A5: Pārskata mēnesis: Novembris
B7: Nodarbināto skaits mēnesī | C7: Apmaksājamais laiks mēnesī, stundas (tai skaitā summētā darba laika ietvaros) | F7: Mēnešalga no kuras rēķina stundas likmi | G7: Stundas likme (aprēķināta atbilstoši mēnešalgai vai darba līgumā noteiktā stundas likme) | H7: Apmaksājamā 100% piemaksa par nostrādātām virsstundām virs normālā darba laika (tai skaitā summētā darba laika ietvaros) | I7: Izdevumi par virsstundām kopā ar VSOAI, EUR
C8: Kopā | D8: līdz normālam darba laikam | E8: virsstundas - virs normālā darba laika, kas saistītas ar darbu ar Covid-19
A9: 1 | B9: 2 | C9: 3=4+5 | D9: 4 | E9: 5 | F9: 6 | G9: 7 | H9: 8 | I9: 9=8 + VSOAI
A10: KOPĀ | B10: =B11+B25+B38+B41+B59+B84+B101 -> 71 | E10: =E11+E25+E38+E41+E59+E84+E101 -> 1088 | H10: =H11+H25+H38+H41+H59+H84+H101 -> 14278.36 | I10: =I11+I25+I38+I41+I59+I84+I101 -> 17646.61
A11: INFEKCIJAS NODAĻA (35 stundas nedēļā) | B11: =B12+B21+B18 -> 10 | E11: =E12+E21+E18 -> 228 | H11: =H12+H21+H18 -> 2995.33 | I11: =I12+I21+I18 -> 3701.93
A12: Ārstniecības un pacientu aprūpes personas un funkcionālo speciālistu asistenti, kopā, tai skaitā: | B12: =SUM(B13:B17) -> 5 | E12: =SUM(E13:E17) -> 177 | H12: =SUM(H13:H17) -> 2493.59 | I12: =SUM(I13:I17) -> 3081.83
A13: Māsa/vispārējās aprūpes māsa | B13: 1 | C13: =D13+E13 -> 151 | D13: 145 | E13: 6 | G13: 7.044 | H13: =ROUND(G13*E13*2,2) -> 84.53 | I13: =ROUND(H13*1.2359,2) -> 104.47
A14: Māsa/vispārējās aprūpes māsa | B14: 1 | C14: =D14+E14 -> 197 | D14: 145 | E14: 52 | G14: 7.044 | H14: =ROUND(G14*E14*2,2) -> 732.58 | I14: =ROUND(H14*1.2359,2) -> 905.4
A15: Māsa/vispārējās aprūpes māsa | B15: 1 | C15: =D15+E15 -> 196 | D15: 145 | E15: 51 | G15: 7.044 | H15: =ROUND(G15*E15*2,2) -> 718.49 | I15: =ROUND(H15*1.2359,2) -> 887.98
A16: Māsa/vispārējās aprūpes māsa | B16: 1 | C16: =D16+E16 -> 187 | D16: 145 | E16: 42 | G16: 7.044 | H16: =ROUND(G16*E16*2,2) -> 591.7 | I16: =ROUND(H16*1.2359,2) -> 731.28
A17: Māsa/vispārējās aprūpes māsa | B17: 1 | C17: =D17+E17 -> 171 | D17: 145 | E17: 26 | G17: 7.044 | H17: =ROUND(G17*E17*2,2) -> 366.29 | I17: =ROUND(H17*1.2359,2) -> 452.7
A18: Ārstniecības un pacientu aprūpes atbalsta personas, māsu palīgi, zobārstu aistenti, kopā, tai skaitā: | B18: =SUM(B19:B20) -> 2 | E18: =SUM(E19:E20) -> 19 | H18: =SUM(H19:H20) -> 195.06 | I18: =SUM(I19:I20) -> 241.07
A19: Māsas palīgs | B19: 1 | C19: =D19+E19 -> 151 | D19: 145 | E19: 6 | G19: 5.133 | H19: =ROUND(G19*E19*2,2) -> 61.6 | I19: =ROUND(H19*1.2359,2) -> 76.13
A20: Māsas palīgs | B20: 1 | C20: =D20+E20 -> 158 | D20: 145 | E20: 13 | G20: 5.133 | H20: =ROUND(G20*E20*2,2) -> 133.46 | I20: =ROUND(H20*1.2359,2) -> 164.94
A21: Pārējie darbinieki, kuri tieši iesaistīti darbā ar Covid-19, kopā, tai skaitā: | B21: =SUM(B22:B24) -> 3 | E21: =SUM(E22:E24) -> 32 | H21: =SUM(H22:H24) -> 306.68 | I21: =SUM(I22:I24) -> 379.03
A22: Sanitārs | B22: 1 | C22: =D22+E22 -> 156 | D22: 145 | E22: 11 | G22: 4.792 | H22: =ROUND(G22*E22*2,2) -> 105.42 | I22: =ROUND(H22*1.2359,2) -> 130.29
A23: Sanitārs | B23: 1 | C23: =D23+E23 -> 155 | D23: 145 | E23: 10 | G23: 4.792 | H23: =ROUND(G23*E23*2,2) -> 95.84 | I23: =ROUND(H23*1.2359,2) -> 118.45
A24: Sanitārs | B24: 1 | C24: =D24+E24 -> 156 | D24: 145 | E24: 11 | G24: 4.792 | H24: =ROUND(G24*E24*2,2) -> 105.42 | I24: =ROUND(H24*1.2359,2) -> 130.29
A25: IEKŠĶĪGO SLIMĪBU NODAĻA | B25: =B26+B31+B36 -> 9 | E25: =E26+E31+E36 -> 170 | H25: =H26+H31+H36 -> 2889.91 | I25: =I26+I31+I36 -> 3571.63
A26: Ārsti, zobārsti un funkcionālie speciālisti, kopā, tai skaitā: | B26: =SUM(B27:B30) -> 4 | E26: =SUM(E27:E30) -> 98 | H26: =SUM(H27:H30) -> 1912.94 | I26: =SUM(I27:I30) -> 2364.2
A27: Internists | B27: 1 | C27: =D27+E27 -> 204 | D27: 166 | E27: 38 | G27: 9.646 | H27: =ROUND(G27*E27*2,2) -> 733.1 | I27: =ROUND(H27*1.2359,2) -> 906.04
A28: Internists | B28: 1 | C28: =D28+E28 -> 190 | D28: 166 | E28: 24 | G28: 9.646 | H28: =ROUND(G28*E28*2,2) -> 463.01 | I28: =ROUND(H28*1.2359,2) -> 572.23
A29: Internists (dežūrārsts) | B29: 1 | C29: =D29+E29 -> 182 | D29: 166 | E29: 16 | G29: 9.956 | H29: =ROUND(G29*E29*2,2) -> 318.59 | I29: =ROUND(H29*1.2359,2) -> 393.75
A30: Internists (dežūrārsts) | B30: 1 | C30: =D30+E30 -> 186 | D30: 166 | E30: 20 | G30: 9.956 | H30: =ROUND(G30*E30*2,2) -> 398.24 | I30: =ROUND(H30*1.2359,2) -> 492.18
A31: Ārstniecības un pacientu aprūpes personas un funkcionālo speciālistu asistenti, kopā, tai skaitā: | B31: =SUM(B32:B35) -> 4 | E31: =SUM(E32:E35) -> 71 | H31: =SUM(H32:H35) -> 968.59 | I31: =SUM(I32:I35) -> 1197.07
A32: Māsa/vispārējās aprūpes māsa | B32: 1 | C32: =D32+E32 -> 190 | D32: 166 | E32: 24 | G32: 6.811 | H32: =ROUND(G32*E32*2,2) -> 326.93 | I32: =ROUND(H32*1.2359,2) -> 404.05
A33: Māsa/vispārējās aprūpes māsa | B33: 1 | C33: =D33+E33 -> 191 | D33: 166 | E33: 25 | G33: 6.954 | H33: =ROUND(G33*E33*2,2) -> 347.7 | I33: =ROUND(H33*1.2359,2) -> 429.72
A34: Māsa/vispārējās aprūpes māsa | B34: 1 | C34: =D34+E34 -> 181 | D34: 166 | E34: 15 | G34: 6.811 | H34: =ROUND(G34*E34*2,2) -> 204.33 | I34: =ROUND(H34*1.2359,2) -> 252.53
A35: Māsa/vispārējās aprūpes māsa | B35: 1 | C35: =D35+E35 -> 173 | D35: 166 | E35: 7 | G35: 6.402 | H35: =ROUND(G35*E35*2,2) -> 89.63 | I35: =ROUND(H35*1.2359,2) -> 110.77
A36: Pārējie darbinieki, kuri tieši iesaistīti darbā ar Covid-19, kopā, tai skaitā: | B36: =SUM(B37:B37) -> 1 | E36: =SUM(E37:E37) -> 1 | H36: =SUM(H37:H37) -> 8.38 | I36: =SUM(I37:I37) -> 10.36
A37: Sanitārs | B37: 1 | C37: =D37+E37 -> 167 | D37: 166 | E37: 1 | G37: 4.189 | H37: =ROUND(G37*E37*2,2) -> 8.38 | I37: =ROUND(H37*1.2359,2) -> 10.36
A38: KARDIOLOĢIJAS NODAĻA | B38: =B39 -> 1 | E38: =E39 -> 5 | H38: =H39 -> 65.19 | I38: =I39 -> 80.57
A39: Ārstniecības un pacientu aprūpes personas un funkcionālo speciālistu asistenti, kopā, tai skaitā: | B39: =SUM(B40:B40) -> 1 | E39: =SUM(E40:E40) -> 5 | H39: =SUM(H40:H40) -> 65.19 | I39: =SUM(I40:I40) -> 80.57
A40: Māsa/vispārējās aprūpes māsa | B40: 1 | C40: =D40+E40 -> 171 | D40: 166 | E40: 5 | G40: 6.519 | H40: =ROUND(G40*E40*2,2) -> 65.19 | I40: =ROUND(H40*1.2359,2) -> 80.57
A41: NEIROLOĢIJAS NODAĻA | B41: =B42+B44+B49+B53 -> 13 | E41: =E42+E44+E49+E53 -> 122 | H41: =H42+H44+H49+H53 -> 1361.09 | I41: =I42+I44+I49+I53 -> 1682.18
A42: Ārsti, zobārsti un funkcionālie speciālisti, kopā, tai skaitā: | B42: =SUM(B43:B43) -> 1 | E42: =SUM(E43:E43) -> 23 | H42: =SUM(H43:H43) -> 443.72 | I42: =SUM(I43:I43) -> 548.39
...

Sheet Z-Kurzeme_dec
H1: Pielikums Nr.7
A2: Pārskats par darba veicējiem (ārstniecības personām), virs normālā darba laika nostrādātām stundām, apmaksājamām stundām un izdevumiem, kas radušies saistībā ar mērķi ierobežot Covid-19 izplatību
A4: Iestādes nosaukums: SIA "Ziemeļkurzemes reģionālā slimnīca"
A5: Pārskata mēnesis: Decembris
B7: Nodarbināto skaits mēnesī | C7: Apmaksājamais laiks mēnesī, stundas (tai skaitā summētā darba laika ietvaros) | F7: Mēnešalga no kuras rēķina stundas likmi | G7: Stundas likme (aprēķināta atbilstoši mēnešalgai vai darba līgumā noteiktā stundas likme) | H7: Apmaksājamā 100% piemaksa par nostrādātām virsstundām virs normālā darba laika (tai skaitā summētā darba laika ietvaros) | I7: Izdevumi par virsstundām kopā ar VSOAI, EUR
C8: Kopā | D8: līdz normālam darba laikam | E8: virsstundas - virs normālā darba laika, kas saistītas ar darbu ar Covid-19
A9: 1 | B9: 2 | C9: 3=4+5 | D9: 4 | E9: 5 | F9: 6 | G9: 7 | H9: 8 | I9: 9=8 + VSOAI
A10: KOPĀ | B10: =B11+B25+B42+B54+B78+B108+B126 -> 98 | E10: =E11+E25+E42+E54+E78+E108+E126 -> 2281 | H10: =H11+H25+H42+H54+H78+H108+H126 -> 29611.52 | I10: =I11+I25+I42+I54+I78+I108+I126 -> 36596.87
A11: INFEKCIJAS NODAĻA | B11: =B12+B21+B18 -> 10 | E11: =E12+E21+E18 -> 437 | H11: =H12+H21+H18 -> 4879.75 | I11: =I12+I21+I18 -> 6030.88
A12: Ārstniecības un pacientu aprūpes personas un funkcionālo speciālistu asistenti, kopā, tai skaitā: | B12: =SUM(B13:B17) -> 5 | C12: =SUM(C13:C17) -> 839 | D12: =SUM(D13:D17) -> 695 | E12: =SUM(E13:E17) -> 144 | H12: =SUM(H13:H17) -> 2028.66 | I12: =SUM(I13:I17) -> 2507.22
A13: Māsa/vispārējās aprūpes māsa | B13: 1 | C13: =D13+E13 -> 188 | D13: 139 | E13: 49 | G13: 7.044 | H13: =ROUND(G13*E13*2,2) -> 690.31 | I13: =ROUND(H13*1.2359,2) -> 853.15
A14: Māsa/vispārējās aprūpes māsa | B14: 1 | C14: =D14+E14 -> 193 | D14: 139 | E14: 54 | G14: 7.044 | H14: =ROUND(G14*E14*2,2) -> 760.75 | I14: =ROUND(H14*1.2359,2) -> 940.21
A15: Māsa/vispārējās aprūpes māsa | B15: 1 | C15: =D15+E15 -> 153 | D15: 139 | E15: 14 | G15: 7.044 | H15: =ROUND(G15*E15*2,2) -> 197.23 | I15: =ROUND(H15*1.2359,2) -> 243.76
A16: Māsa/vispārējās aprūpes māsa | B16: 1 | C16: =D16+E16 -> 152 | D16: 139 | E16: 13 | G16: 7.044 | H16: =ROUND(G16*E16*2,2) -> 183.14 | I16: =ROUND(H16*1.2359,2) -> 226.34
A17: Māsa/vispārējās aprūpes māsa | B17: 1 | C17: =D17+E17 -> 153 | D17: 139 | E17: 14 | G17: 7.044 | H17: =ROUND(G17*E17*2,2) -> 197.23 | I17: =ROUND(H17*1.2359,2) -> 243.76
A18: Ārstniecības un pacientu aprūpes atbalsta personas, māsu palīgi, zobārstu aistenti, kopā, tai skaitā: | B18: =SUM(B19:B20) -> 2 | C18: =SUM(C19:C20) -> 341 | D18: 278 | E18: =SUM(E19:E20) -> 63 | H18: =SUM(H19:H20) -> 646.76 | I18: =SUM(I19:I20) -> 799.33
A19: Māsas palīgs | B19: 1 | C19: =D19+E19 -> 176 | D19: 139 | E19: 37 | G19: 5.133 | H19: =ROUND(G19*E19*2,2) -> 379.84 | I19: =ROUND(H19*1.2359,2) -> 469.44
A20: Māsas palīgs | B20: 1 | C20: =D20+E20 -> 165 | D20: 139 | E20: 26 | G20: 5.133 | H20: =ROUND(G20*E20*2,2) -> 266.92 | I20: =ROUND(H20*1.2359,2) -> 329.89
A21: Pārējie darbinieki, kuri tieši iesaistīti darbā ar Covid-19, kopā, tai skaitā: | B21: =SUM(B22:B24) -> 3 | C21: =SUM(C22:C24) -> 647 | D21: 417 | E21: =SUM(E22:E24) -> 230 | H21: =SUM(H22:H24) -> 2204.33 | I21: =SUM(I22:I24) -> 2724.33
A22: Sanitārs | B22: 1 | C22: =D22+E22 -> 201 | D22: 139 | E22: 62 | G22: 4.792 | H22: =ROUND(G22*E22*2,2) -> 594.21 | I22: =ROUND(H22*1.2359,2) -> 734.38
A23: Sanitārs | B23: 1 | C23: =D23+E23 -> 243 | D23: 139 | E23: 104 | G23: 4.792 | H23: =ROUND(G23*E23*2,2) -> 996.74 | I23: =ROUND(H23*1.2359,2) -> 1231.87
A24: Sanitārs | B24: 1 | C24: =D24+E24 -> 203 | D24: 139 | E24: 64 | G24: 4.792 | H24: =ROUND(G24*E24*2,2) -> 613.38 | I24: =ROUND(H24*1.2359,2) -> 758.08
A25: IEKŠĶĪGO SLIMĪBU NODAĻA | B25: =B26+B31+B38+B40 -> 12 | E25: =E26+E31+E38+E40 -> 263 | H25: =H26+H31+H38+H40 -> 4380.29 | I25: =I26+I31+I38+I40 -> 5413.59
A26: Ārsti, zobārsti un funkcionālie speciālisti, kopā, tai skaitā: | B26: =SUM(B27:B30) -> 4 | E26: =SUM(E27:E30) -> 156 | H26: =SUM(H27:H30) -> 3035.59 | I26: =SUM(I27:I30) -> 3751.68
A27: Internists | B27: 1 | C27: =D27+E27 -> 236 | D27: 160 | E27: 76 | G27: 9.646 | H27: =ROUND(G27*E27*2,2) -> 1466.19 | I27: =ROUND(H27*1.2359,2) -> 1812.06
A28: Internists | B28: 1 | C28: =D28+E28 -> 198 | D28: 160 | E28: 38 | G28: 9.646 | H28: =ROUND(G28*E28*2,2) -> 733.1 | I28: =ROUND(H28*1.2359,2) -> 906.04
A29: Internists (dežūrārsts) | B29: 1 | C29: =D29+E29 -> 181 | D29: 160 | E29: 21 | G29: 9.956 | H29: =ROUND(G29*E29*2,2) -> 418.15 | I29: =ROUND(H29*1.2359,2) -> 516.79
A30: Internists (dežūrārsts) | B30: 1 | C30: =D30+E30 -> 181 | D30: 160 | E30: 21 | G30: 9.956 | H30: =ROUND(G30*E30*2,2) -> 418.15 | I30: =ROUND(H30*1.2359,2) -> 516.79
A31: Ārstniecības un pacientu aprūpes personas un funkcionālo speciālistu asistenti, kopā, tai skaitā: | B31: =SUM(B32:B37) -> 6 | E31: =SUM(E32:E37) -> 91 | H31: =SUM(H32:H37) -> 1205.89 | I31: =SUM(I32:I37) -> 1490.35
A32: Māsa/vispārējās aprūpes māsa | B32: 1 | C32: =D32+E32 -> 163 | D32: 160 | E32: 3 | G32: 6.811 | H32: =ROUND(G32*E32*2,2) -> 40.87 | I32: =ROUND(H32*1.2359,2) -> 50.51
A33: Māsa/vispārējās aprūpes māsa | B33: 1 | C33: =D33+E33 -> 188 | D33: 160 | E33: 28 | G33: 6.954 | H33: =ROUND(G33*E33*2,2) -> 389.42 | I33: =ROUND(H33*1.2359,2) -> 481.28
A34: Māsa/vispārējās aprūpes māsa | B34: 1 | C34: =D34+E34 -> 169 | D34: 160 | E34: 9 | G34: 6.811 | H34: =ROUND(G34*E34*2,2) -> 122.6 | I34: =ROUND(H34*1.2359,2) -> 151.52
A35: Māsa/vispārējās aprūpes māsa | B35: 1 | C35: =D35+E35 -> 168 | D35: 160 | E35: 8 | G35: 6.402 | H35: =ROUND(G35*E35*2,2) -> 102.43 | I35: =ROUND(H35*1.2359,2) -> 126.59
A36: Māsa/vispārējās aprūpes māsa | B36: 1 | C36: =D36+E36 -> 168 | D36: 160 | E36: 8 | G36: 6.402 | H36: =ROUND(G36*E36*2,2) -> 102.43 | I36: =ROUND(H36*1.2359,2) -> 126.59
A37: Māsa/vispārējās aprūpes māsa | B37: 1 | C37: =D37+E37 -> 195 | D37: 160 | E37: 35 | G37: 6.402 | H37: =ROUND(G37*E37*2,2) -> 448.14 | I37: =ROUND(H37*1.2359,2) -> 553.86
A38: Ārstniecības un pacientu aprūpes atbalsta personas, māsu palīgi, zobārstu aistenti, kopā, tai skaitā: | B38: =SUM(B39:B39) -> 1 | E38: =SUM(E39:E39) -> 8 | H38: =SUM(H39:H39) -> 71.79 | I38: =SUM(I39:I39) -> 88.73
A39: Māsas palīgs | B39: 1 | C39: =D39+E39 -> 168 | D39: 160 | E39: 8 | G39: 4.487 | H39: =ROUND(G39*E39*2,2) -> 71.79 | I39: =ROUND(H39*1.2359,2) -> 88.73
A40: Pārējie darbinieki, kuri tieši iesaistīti darbā ar Covid-19, kopā, tai skaitā: | B40: =SUM(B41:B41) -> 1 | E40: =SUM(E41:E41) -> 8 | H40: =SUM(H41:H41) -> 67.02 | I40: =SUM(I41:I41) -> 82.83
A41: Sanitārs | B41: 1 | C41: =D41+E41 -> 168 | D41: 160 | E41: 8 | G41: 4.189 | H41: =ROUND(G41*E41*2,2) -> 67.02 | I41: =ROUND(H41*1.2359,2) -> 82.83
A42: KARDIOLOĢIJAS NODAĻA | B42: =B43+B52 -> 9 | E42: =E43+E52 -> 100 | H42: =H43+H52 -> 1262.72 | I42: =I43+I52 -> 1560.59
...

Sheet Jelgava_okt
H1: Pielikums Nr.8
A2: Pārskats par darba veicējiem (ārstniecības personām), virs normālā darba laika nostrādātām stundām, apmaksājamām stundām un izdevumiem, kas radušies saistībā ar mērķi ierobežot Covid-19 izplatību
A4: Iestādes nosaukums: SIA Jelgavas pilsētas slimnīca
A5: Pārskata mēnesis: Oktobris
B7: Nodarbināto skaits mēnesī | C7: Apmaksājamais laiks mēnesī, stundas (tai skaitā summētā darba laika ietvaros) | F7: Mēnešalga no kuras rēķina stundas likmi | G7: Stundas likme (aprēķināta atbilstoši mēnešalgai vai darba līgumā noteiktā stundas likme) | H7: Apmaksājamā 100% piemaksa par nostrādātām virsstundām virs normālā darba laika (tai skaitā summētā darba laika ietvaros) | I7: Izdevumi par virsstundām kopā ar VSOAI, EUR
C8: Kopā | D8: līdz normālam darba laikam | E8: virsstundas - virs normālā darba laika, kas saistītas ar darbu ar Covid-19
A9: 1 | B9: 2 | C9: 3=4+5 | D9: 4 | E9: 5 | F9: 6 | G9: 7 | H9: 8 | I9: 9=8 + VSOAI
A10: KOPĀ | B10: =B11+B13+B24+B27 -> 15 | E10: =E11+E13+E24+E27 -> 283 | H10: =H11+H13+H24+H27 -> 4261.16 | I10: =I11+I13+I24+I27 -> 5266.38
A11: Ārsti, zobārsti un funkcionālie speciālisti, kopā, tai skaitā: | B11: =B12 -> 1 | E11: =E12 -> 24 | H11: =H12 -> 447.02 | I11: =I12 -> 552.47
A12: Ārsts | B12: 1 | C12: 171 | D12: 147 | E12: =ROUND(C12-D12,1) -> 24 | F12: 1369 | G12: =F12/D12 -> 9.3129252 | H12: =ROUND(E12*G12*2,2) -> 447.02 | I12: =ROUND(H12*1.2359,2) -> 552.47
A13: Ārstniecības un pacientu aprūpes personas un funkcionālo speciālistu asistenti, kopā, tai skaitā: | B13: =SUM(B14:B23) -> 10 | E13: =SUM(E14:E23) -> 225 | H13: =SUM(H14:H23) -> 3380.55 | I13: =SUM(I14:I23) -> 4178.03
A14: Medicīnas māsa | B14: 1 | C14: 171 | D14: 147 | E14: =ROUND(C14-D14,1) -> 24 | F14: 1190 | G14: =F14/D14 -> 8.0952381 | H14: =ROUND(E14*G14*2,2) -> 388.57 | I14: =ROUND(H14*1.2359,2) -> 480.23
A15: Medicīnas māsa | B15: 1 | C15: 193 | D15: 147 | E15: =ROUND(C15-D15,1) -> 46 | F15: 1190 | G15: =F15/D15 -> 8.0952381 | H15: =ROUND(E15*G15*2,2) -> 744.76 | I15: =ROUND(H15*1.2359,2) -> 920.45
A16: Medicīnas māsa | B16: 1 | C16: 158 | D16: 147 | E16: =ROUND(C16-D16,1) -> 11 | F16: 1190 | G16: =F16/D16 -> 8.0952381 | H16: =ROUND(E16*G16*2,2) -> 178.1 | I16: =ROUND(H16*1.2359,2) -> 220.11
A17: Medicīnas māsa | B17: 1 | C17: 157 | D17: 147 | E17: =ROUND(C17-D17,1) -> 10 | F17: 1047 | G17: =F17/D17 -> 7.122449 | H17: =ROUND(E17*G17*2,2) -> 142.45 | I17: =ROUND(H17*1.2359,2) -> 176.05
A18: Medicīnas māsa | B18: 1 | C18: 161 | D18: 147 | E18: =ROUND(C18-D18,1) -> 14 | F18: 1190 | G18: =F18/D18 -> 8.0952381 | H18: =ROUND(E18*G18*2,2) -> 226.67 | I18: =ROUND(H18*1.2359,2) -> 280.14
A19: Medicīnas māsa | B19: 1 | C19: 192 | D19: 168 | E19: =ROUND(C19-D19,1) -> 24 | F19: 1190 | G19: =F19/D19 -> 7.0833333 | H19: =ROUND(E19*G19*2,2) -> 340 | I19: =ROUND(H19*1.2359,2) -> 420.21
A20: Medicīnas māsa | B20: 1 | C20: 192 | D20: 168 | E20: =ROUND(C20-D20,1) -> 24 | F20: 1190 | G20: =F20/D20 -> 7.0833333 | H20: =ROUND(E20*G20*2,2) -> 340 | I20: =ROUND(H20*1.2359,2) -> 420.21
A21: Medicīnas māsa | B21: 1 | C21: 192 | D21: 168 | E21: =ROUND(C21-D21,1) -> 24 | F21: 1190 | G21: =F21/D21 -> 7.0833333 | H21: =ROUND(E21*G21*2,2) -> 340 | I21: =ROUND(H21*1.2359,2) -> 420.21
A22: Medicīnas māsa | B22: 1 | C22: 192 | D22: 168 | E22: =ROUND(C22-D22,1) -> 24 | F22: 1190 | G22: =F22/D22 -> 7.0833333 | H22: =ROUND(E22*G22*2,2) -> 340 | I22: =ROUND(H22*1.2359,2) -> 420.21
A23: Medicīnas māsa | B23: 1 | C23: 192 | D23: 168 | E23: =ROUND(C23-D23,1) -> 24 | F23: 1190 | G23: =F23/D23 -> 7.0833333 | H23: =ROUND(E23*G23*2,2) -> 340 | I23: =ROUND(H23*1.2359,2) -> 420.21 | XEY23: =SUM(D23:XEX23) -> 2149.2933
A24: Ārstniecības un pacientu aprūpes atbalsta personas, māsu palīgi, zobārstu aistenti, kopā, tai skaitā: | B24: =SUM(B25:B26) -> 2 | E24: =SUM(E25:E26) -> 24 | H24: =SUM(H25:H26) -> 250 | I24: =SUM(I25:I26) -> 308.98
A25: Māsu palīgs | B25: 1 | C25: 180 | D25: 168 | E25: =ROUND(C25-D25,1) -> 12 | F25: 875 | G25: =F25/D25 -> 5.2083333 | H25: =ROUND(E25*G25*2,2) -> 125 | I25: =ROUND(H25*1.2359,2) -> 154.49
A26: Māsu palīgs | B26: 1 | C26: 180 | D26: 168 | E26: =ROUND(C26-D26,1) -> 12 | F26: 875 | G26: =F26/D26 -> 5.2083333 | H26: =ROUND(E26*G26*2,2) -> 125 | I26: =ROUND(H26*1.2359,2) -> 154.49
A27: Pārējie darbinieki, kuri tieši iesaistīti darbā ar Covid-19, kopā, tai skaitā: | B27: =SUM(B28:B29) -> 2 | E27: =SUM(E28:E29) -> 10 | H27: =SUM(H28:H29) -> 183.59 | I27: =SUM(I28:I29) -> 226.9
A28: Statistikas nodaļas vadītāja | B28: 1 | C28: 172 | D28: 168 | E28: =ROUND(C28-D28,1) -> 4 | F28: 1763 | G28: =F28/D28 -> 10.494048 | H28: =ROUND(E28*G28*2,2) -> 83.95 | I28: =ROUND(H28*1.2359,2) -> 103.75
A29: Veselības aprūpes statistiķis | B29: 1 | C29: 174 | D29: 168 | E29: =ROUND(C29-D29,1) -> 6 | F29: 1395 | G29: =F29/D29 -> 8.3035714 | H29: =ROUND(E29*G29*2,2) -> 99.64 | I29: =ROUND(H29*1.2359,2) -> 123.15

Sheet Jelgava_nov
H1: Pielikums Nr.9
A2: Pārskats par darba veicējiem (ārstniecības personām), virs normālā darba laika nostrādātām stundām, apmaksājamām stundām un izdevumiem, kas radušies saistībā ar mērķi ierobežot Covid-19 izplatību
A4: Iestādes nosaukums: SIA Jelgavas pilsētas slimnīca
A5: Pārskata mēnesis: Novembris
B7: Nodarbināto skaits mēnesī | C7: Apmaksājamais laiks mēnesī, stundas (tai skaitā summētā darba laika ietvaros) | F7: Mēnešalga no kuras rēķina stundas likmi | G7: Stundas likme (aprēķināta atbilstoši mēnešalgai vai darba līgumā noteiktā stundas likme) | H7: Apmaksājamā 100% piemaksa par nostrādātām virsstundām virs normālā darba laika (tai skaitā summētā darba laika ietvaros) | I7: Izdevumi par virsstundām kopā ar VSOAI, EUR
C8: Kopā | D8: līdz normālam darba laikam | E8: virsstundas - virs normālā darba laika, kas saistītas ar darbu ar Covid-19
A9: 1 | B9: 2 | C9: 3=4+5 | D9: 4 | E9: 5 | F9: 6 | G9: 7 | H9: 8 | I9: 9=8 + VSOAI
A10: KOPĀ | B10: =B11+B14 -> 4 | E10: =E11+E14 -> 57 | H10: =H11+H14 -> 959.26 | I10: =I11+I14 -> 1185.54
A11: Ārstniecības un pacientu aprūpes personas un funkcionālo speciālistu asistenti, kopā, tai skaitā: | B11: =SUM(B12:B13) -> 2 | E11: =SUM(E12:E13) -> 48 | H11: =SUM(H12:H13) -> 782.46 | I11: =SUM(I12:I13) -> 967.04
A12: Medicīnas māsa | B12: 1 | C12: 170 | D12: 146 | E12: =ROUND(C12-D12,1) -> 24 | F12: 1190 | G12: =F12/D12 -> 8.1506849 | H12: =ROUND(E12*G12*2,2) -> 391.23 | I12: =ROUND(H12*1.2359,2) -> 483.52
A13: Medicīnas māsa | B13: 1 | C13: 170 | D13: 146 | E13: =ROUND(C13-D13,1) -> 24 | F13: 1190 | G13: =F13/D13 -> 8.1506849 | H13: =ROUND(E13*G13*2,2) -> 391.23 | I13: =ROUND(H13*1.2359,2) -> 483.52
A14: Pārējie darbinieki, kuri tieši iesaistīti darbā ar Covid-19, kopā, tai skaitā: | B14: =SUM(B15:B16) -> 2 | E14: =SUM(E15:E16) -> 9 | H14: =SUM(H15:H16) -> 176.8 | I14: =SUM(I15:I16) -> 218.5
