Workbook

Sheet Kopsavilkums
D1: 1.pielikums
D2: Par finanšu līdzekļu piešķiršanu no valsts budžeta programmas “Līdzekļi neparedzētiem gadījumiem”
A4: N.p.k. | B4: Ārstniecības iestāde | C4: 2021.gadā faktiski veiktie pasākumi (summa, euro) | D4: 2022.gadā faktiski veiktie pasākumi (summa, euro) | E4: Pavisam kopā nepieciešams, euro
A5: 1 | B5: Liepājas reģionālā slimnīca | C5: =Liepaja!L9+Liepaja!L12+Liepaja!L13+Liepaja!L14 -> 28544.51 | D5: =Liepaja!L15+Liepaja!L16+Liepaja!L19+Liepaja!L20+Liepaja!L21+Liepaja!L18 -> 749924.73 | E5: =ROUNDUP(Table14[[#This Row],[2021.gadā faktiski veiktie pasākumi (summa, euro)]]+Table14[[#This Row],[2022.gadā faktiski veiktie pasākumi (summa, euro)]],0) -> 778470
A6: 2 | B6: Ziemeļkurzemes reģionālā slimnīca Talsu filiāle | C6: =Ziemeļkurzeme!H9+Ziemeļkurzeme!H10+Ziemeļkurzeme!H11 -> 1244.74 | D6: =Ziemeļkurzeme!H5+Ziemeļkurzeme!H6+Ziemeļkurzeme!H7+Ziemeļkurzeme!H8-362.65 -> 4393.26 | E6: =ROUNDUP(Table14[[#This Row],[2021.gadā faktiski veiktie pasākumi (summa, euro)]]+Table14[[#This Row],[2022.gadā faktiski veiktie pasākumi (summa, euro)]],0) -> 5638
A7: 3 | B7: Jelgavas pilsētas slimnīca | D7: =Jelgava!H7 -> 1477 | E7: =ROUNDUP(Table14[[#This Row],[2021.gadā faktiski veiktie pasākumi (summa, euro)]]+Table14[[#This Row],[2022.gadā faktiski veiktie pasākumi (summa, euro)]],0) -> 1477
A8: 4 | B8: Jūrmalas slimnīca | C8: =Jūrmala!B8 -> 11481.12 | E8: =ROUNDUP(Table14[[#This Row],[2021.gadā faktiski veiktie pasākumi (summa, euro)]]+Table14[[#This Row],[2022.gadā faktiski veiktie pasākumi (summa, euro)]],0) -> 11482
A9: 5 | B9: Dobeles un apkārtnes slimnīca | C9: =Dobele!B12 -> 11410.01 | E9: =ROUNDUP(Table14[[#This Row],[2021.gadā faktiski veiktie pasākumi (summa, euro)]]+Table14[[#This Row],[2022.gadā faktiski veiktie pasākumi (summa, euro)]],0) -> 11411
A10: 6 | B10: Preiļu slimnīca | C10: ='Preiļu slimnīca'!B9 -> 1783.81 | E10: =ROUNDUP(Table14[[#This Row],[2021.gadā faktiski veiktie pasākumi (summa, euro)]]+Table14[[#This Row],[2022.gadā faktiski veiktie pasākumi (summa, euro)]],0) -> 1784
A11: 7 | B11: Tukuma slimnīca | C11: =Tukums!B12 -> 22500.81 | E11: =ROUNDUP(Table14[[#This Row],[2021.gadā faktiski veiktie pasākumi (summa, euro)]]+Table14[[#This Row],[2022.gadā faktiski veiktie pasākumi (summa, euro)]],0) -> 22501
A12: 8 | B12: Aizkraukles slimnīca | C12: =Aizkraukle!B15 -> 9239.51 | E12: =ROUNDUP(Table14[[#This Row],[2021.gadā faktiski veiktie pasākumi (summa, euro)]]+Table14[[#This Row],[2022.gadā faktiski veiktie pasākumi (summa, euro)]],0) -> 9240
A13: 9 | B13: Bauskas slimnīca | C13: =Bauska!H6+Bauska!H7 -> 5077.57 | D13: =Bauska!H8 -> 404.43 | E13: =ROUNDUP(Table14[[#This Row],[2021.gadā faktiski veiktie pasākumi (summa, euro)]]+Table14[[#This Row],[2022.gadā faktiski veiktie pasākumi (summa, euro)]],0) -> 5482
A14: 10 | B14: Ludzas medicīnas centrs | C14: =Ludza!H5+Ludza!H6 -> 2443.31 | E14: =ROUNDUP(Table14[[#This Row],[2021.gadā faktiski veiktie pasākumi (summa, euro)]]+Table14[[#This Row],[2022.gadā faktiski veiktie pasākumi (summa, euro)]],0) -> 2444
A15: 11 | B15: Saldus medicīnas centrs | C15: =Saldus!B18 -> 7369.3 | E15: =ROUNDUP(Table14[[#This Row],[2021.gadā faktiski veiktie pasākumi (summa, euro)]]+Table14[[#This Row],[2022.gadā faktiski veiktie pasākumi (summa, euro)]],0) -> 7370
A16: 13 | B16: Rīgas 1. slimnīca | C16: ='Rīgas 1.slimnīca'!B9 -> 52394.27 | E16: =ROUNDUP(Table14[[#This Row],[2021.gadā faktiski veiktie pasākumi (summa, euro)]]+Table14[[#This Row],[2022.gadā faktiski veiktie pasākumi (summa, euro)]],0) -> 52395
B17: KOPĀ | C17: =SUBTOTAL(109,Table14[2021.gadā faktiski veiktie pasākumi (summa, euro)]) -> 153488.96 | D17: =SUBTOTAL(109,Table14[2022.gadā faktiski veiktie pasākumi (summa, euro)]) -> 756199.42 | E17: =SUBTOTAL(109,Table14[Pavisam kopā nepieciešams, euro]) -> 909694
B22: Pavisam kopā nepieciešams | C22: =Table14[[#Totals],[Pavisam kopā nepieciešams, euro]] -> 909694

Sheet Liepaja
M1: 1.1. pielikums
A4: Nr. | B4: Gāzu tīkla izbūve skābekļa nodrošināšanai Covid-19 pacientiem | C4: Summa ar PVN | D4: Pavadzīme vai rēķina Nr. | E4: LRS finansējums | F4: ERAF/NVD finansējums | G4: Informācija par finanšu līdzekļu izlietojumu
G5: Pavadzīmes Nr. | H5: Pavadzīmes datums | I5: Piegādātājs / Izpildītājs | J5: Maksājumu uzdevuma Nr. | K5: Maksājuma uzdevuma datums | L5: Summa EUR ar PVN | M5: Statuss, riski, piezīmes
A6: 1 | B6: Skābekļa ģeneratoru izbūve | C6: 130971.61 | D6: PN akts 2021/0107, rēķins | E6: 0 | F6: =130971.61+(169988*1.21) -> 336657.09 | G6: - | H6: - | I6: - | J6: - | K6: - | L6: - | M6: Iegādāts NVD piešķirto līdzekļu ietvaros (Covid 19 gultu izveide, aprīkošana). Tiks iegādāts otrs ģeneratora komplekts NVD līguma Nr. NVD-9/203-2021 ietvaros
A7: 2 | B7: Skābekļu koncentrācijas mērītāju izbūve ITN | C7: 34131.68 | D7: PN akts 2021/0243, rēķins | E7: 0 | F7: 34131.68 | G7: - | H7: - | I7: - | J7: - | K7: - | L7: - | M7: Iegādāts NVD piešķirto līdzekļu ietvaros (Covid 19 gultu izveide, aprīkošana)
A8: 3 | B8: Sašķidrinātā medicīniskā skābekļa cisternas pieslēgšana | C8: 11009.79 | D8: UMT tāme. | E8: 11009.79 | F8: 0 | G8: - | H8: - | I8: - | J8: - | K8: - | L8: -
A9: 4 | B9: Skābekļa rezerves sistēmas pārvietošana | C9: 13352.96 | D9: PN akts 2020/0516, rēķins | E9: 13352.96 | F9: 0 | G9: R210115-2 | H9: 15.01.2021. | I9: SIA "UMT" | J9: 01617 | K9: 11.02.2021. | L9: 13352.96
A10: 5 | B10: Medicīnas gāzu tīkla izbūve magnētiskās rezonanses kabinetā | C10: 3507.79 | D10: UMT tāme. Izmaksas tāmē bez PVN 21% | E10: 3507.79 | F10: 0 | G10: - | H10: - | I10: - | J10: - | K10: -
A11: 6 | B11: Sašķidrinātā medicīniskā skābekļa cisternas noma | C11: 22143 | D11: Līguma Nr. 2021/0529 nosacījumi | E11: 22143 | F11: 0
G12: 07-158852 | H12: 31.10.2021. | I12: ELME MESSER GAAS | J12: 17053 | K12: 17.11.2021. | L12: 363 | M12: Medicīnas skābekļa uzglabāšanas sistēmas noma (oktobris 2021). Līgums 2021/0529
G13: 07-162402 | H13: 25.11.2021. | I13: ELME MESSER GAAS | J13: 17644 | K13: 02.12.2021. | L13: 10890 | M13: Medicīnas skābekļa uzglabāšanas sistēmas noma (novembris 2021). Līgums 2021/0529
G14: 07-166105 | H14: 27.12.2021. | I14: ELME MESSER GAAS | J14: 19267 | K14: 30.12.2021. | L14: 3938.55 | M14: Medicīnas skābekļa uzglabāšanas sistēmas noma (decembris 2021). Līgums 2021/0529
G15: 07-169761 | H15: 26.01.2022. | I15: ELME MESSER GAAS | J15: 02091 | K15: 28.02.2022. | L15: 1969.28 | M15: Medicīnas skābekļa uzglabāšanas sistēmas noma (janvāris 2022). Līgums Nr. 2021/0612
G16: 07-173420 | H16: 25.02.2022. | I16: ELME MESSER GAAS | J16: 2616 | K16: 15.03.2022. | L16: 1778.7 | M16: Medicīnas skābekļa uzglabāšanas sistēmas noma (februāris 2022)
A17: 7 | B17: Medicīnas konsoles BP 2.kārta, 4.kārta, ITN | C17: 889906.6 | D17: Līguma 2021/0365 vienošanās Nr.1 pielikums | E17: 757254.3 | F17: 132652.3
G18: R211227-1A | H18: 27.12.2021. | I18: SIA "UMT" | J18: 00319 | K18: 13.01.2022. | L18: 410438.35 | M18: Medicīnas konsoļu piegāde saskaņā ar līguma Nr. 2021/0365 nosacījumiem: Rēķins 85% apmērā no iekārtu vērtības.
G19: R220201-1A | H19: 01.02.2022. | I19: SIA "UMT" | J19: 01182 | K19: 07.02.2022. | L19: 56418.37 | M19: Medicīnas konsoļu piegāde saskaņā ar līguma Nr. 2021/0365 nosacījumiem: Rēķins 85% apmērā no iekārtu vērtības.
G20: R220211-4A | H20: 11.02.2022. | I20: SIA "UMT" | J20: 02214 | K20: 10.03.2022. | L20: 72118.42 | M20: Medicīnas konsoļu piegāde saskaņā ar līguma Nr. 2021/0365 nosacījumiem: Rēķins 85% apmērā no iekārtu vērtības.
G21: R220301-1A | H21: 01.03.2022. | I21: SIA "UMT" | J21: 02215 | K21: 10.03.2022. | L21: 207201.61 | M21: Medicīnas konsoļu piegāde saskaņā ar līguma Nr. 2021/0365 nosacījumiem: Rēķins 85% apmērā no iekārtu vērtības.
B22: KOPĀ | C22: =SUM(C6:C17) -> 1105023.4 | E22: =SUM(E6:E17) -> 807267.84 | F22: =SUM(F6:F17) -> 503441.07 | L22: =ROUNDUP(SUM(L6:L21),0) -> 778470 | M22: Faktiski apmaksātie izdevumi
D24: Kopā nepieciešamais finansējums | E24: =L22 -> 778470

Sheet Ziemeļkurzeme
I1: 1.2. pielikums
A3: Plāns | C3: Informācija par finanšu līdzekļu izlietojumu
A4: Gāzu tīkla izbūve skābekļa nodrošināšanai Covid-19 pacientiem | B4: Summa ar PVN | C4: Pavadzīmes Nr. | D4: Pavadzīmes datums | E4: Piegādātājs / Izpildītājs | F4: Maksājumu uzdevuma Nr. | G4: Maksājuma uzdevuma datums | H4: Summa EUR ar PVN | I4: Statuss, riski, piezīmes
A5: Kriogēnās tvertnes 6m3, iztvaikotājs100m3/h, pamata betona plāksne, žogs noma uz Covid-19 pandēmijas laiku no SIA “EME MESSER L”. 1815 eur/mēn. | B5: =1815*2*1.21 -> 4392.3 | C5: R-01/2022 | D5: 11.01.2022. | E5: (SIA Aicers) | F5: =54 -> 54 | G5: 17.01.2022. | H5: 1206.99
C6: 07-169764 | D6: 26.01.2022. | E6: ELME MESSER GAAS | F6: 364 | G6: 02.03.2022. | H6: 1270.5
C7: 2021/636 | D7: 30.12.2021. | E7: (SIA Volts-1) | F7: 22 | G7: 05.01.2022. | H7: 584.42
C8: 07-173424 | D8: 25.02.2022. | E8: ELME MESSER GAAS | H8: 1694
A9: Slimnīcas iekšējie rekonstrukcijas darbi (jaunas medicīniskā skābekļa centralizēto pieslēgumu izveides, ar visiem nepieciešamajiem izejmateriāliem: kapara caurules, ventīļi, reduktori, kanāli, konsoles, ligzdas utt.)veikti iekšējie sistēmas atjaunošanas darbi | B9: =75+88.94 -> 163.94 | C9: 92-24378 | D9: 04.01.2021. | E9: ELME MESSER GAAS | F9: 92 | G9: 18.01.2021. | H9: 75
C10: 092-25017 | D10: 26.02.2021. | E10: ELME MESSER GAAS | F10: 462 | G10: 02.03.2021. | H10: 88.94
A11: Slimnīcas iekšējie rekonstrukcijas darbi (jaunas medicīniskā skābekļa centralizēto pieslēgumu izveides, ar visiem nepieciešamajiem izejmateriāliem: kapara caurules, ventīļi, reduktori, kanāli, konsoles, ligzdas utt.)veikti iekšējie sistēmas atjaunošanas darbi | B11: 1080.8 | C11: 092-27984 | D11: 19.10.2021. | E11: (SIA Elme Messer L) | F11: 1254 | G11: 27.10.2021. | H11: 1080.8
A12: Kopā | B12: =ROUNDUP(SUBTOTAL(109,Table1320102[Summa ar PVN]),0) -> 5638 | H12: =H11+H10+H9+H8+H7+H6+H5 -> 6000.65
B14: =Table1320102[[#Totals],[Summa ar PVN]] -> 5638

Sheet Jelgava
I1: 1.3. pielikums
A3: Plāns | C3: Informācija par finanšu līdzekļu izlietojumu
A4: Gāzu tīkla izbūve skābekļa nodrošināšanai Covid-19 pacientiem | B4: Summa ar PVN | C4: Pavadzīmes Nr. | D4: Pavadzīmes datums | E4: Piegādātājs / Izpildītājs | F4: Maksājumu uzdevuma Nr. | G4: Maksājuma uzdevuma datums | H4: Summa EUR ar PVN | I4: Statuss, riski, piezīmes
A5: Skābekļa apgādes sistēmas izbūve, kā arī papildus nomainīta skābekļa tvertne no 3 t uz 6 t, kā arī skābekļa iztvaikotājs no 50 m^3 uz 200m^3 caurplūdi | B5: 2168.45
A6: Mediciniskā skābekļa automātiskas pārslēgšanas stacija. Darba jauda 180 m3/h | B6: 23695.43
A7: Skābekļa koncentrācijas portatīvai mērītājs | B7: 7260 | C7: 6721938347 | D7: 28.02.2022. | E7: SIA LINDE GAS | H7: =ROUNDUP(1476.13,0) -> 1477
A8: Skābekļa iekšējo maģistrāļu nomaiņa | B8: 21780
A9: Sienas konsoļu papildināšana ar skābekļa ligzdām | B9: 9680
B10: =SUM(B5:B9) -> 64583.88
A12: Kopā nepieciešamais finansējums | B12: =H7 -> 1477

Sheet Jūrmala
I1: 1.4. pielikums
A3: Plāns | C3: Informācija par finanšu līdzekļu izlietojumu
A4: Gāzu tīkla izbūve skābekļa nodrošināšanai Covid-19 pacientiem | B4: Summa ar PVN | C4: Pavadzīmes Nr. | D4: Pavadzīmes datums | E4: Piegādātājs / Izpildītājs | F4: Maksājumu uzdevuma Nr. | G4: Maksājuma uzdevuma datums | H4: Summa EUR ar PVN | I4: Statuss, riski, piezīmes
A5: Tāme MG-06/10/2021-TPSC_MG Kolektora izbūve, jauna dubultā reduktora un jaunu maģistrāļu montāža. | B5: 11481.12 | C5: Rēķins Nr.23/11/2021 | D5: 23.11.2021. | E5: SIA "BRGD" | F5: 2437 | G5: 23.12.2021. | H5: 11481.12
B6: =SUM(B5) -> 11481.12
A8: Kopā nepieciešamais finansējums | B8: =B5 -> 11481.12

Sheet Dobele
I1: 1.5. pielikums
A3: Plāns | C3: Informācija par finanšu līdzekļu izlietojumu
A4: Gāzu tīkla izbūve skābekļa nodrošināšanai Covid-19 pacientiem | B4: Summa ar PVN | C4: Pavadzīmes Nr. | D4: Pavadzīmes datums | E4: Piegādātājs / Izpildītājs | F4: Maksājumu uzdevuma Nr. | G4: Maksājuma uzdevuma datums | H4: Summa EUR ar PVN | I4: Statuss, riski, piezīmes
A5: Laikā no 2021.gada janvāra līdz maijam veikto darbi, tai skaitā medicīniskā skābekļa padeves līniju izbūve, reduktoru mezgla izbūve, tai skaitā skābekļa ēkā. | B5: 9976.37 | C5: 6721815699 | D5: 31.05.2021. | E5: SIA Linde Gas | F5: 2330 | G5: 16.06.2021. | H5: 9976.37
A6: Slimnīcas Stacionāra ēkas 4. un 5.stāva maģistrālo O2 cauruļvadu pārbūves darbi | B6: 1498.34
C7: 6721814779 | D7: 26.05.2021. | E7: SIA Linde Gas | F7: 2253 | G7: 31.05.2021. | H7: 302.5
C8: 6721909174 | D8: 10.12.2021. | E8: SIA Linde Gas | F8: 3009 | G8: 17.12.2021. | H8: 383
C9: 6721911149 | D9: 22.12.2021. | E9: SIA Linde Gas | F9: 3044 | G9: 28.12.2021. | H9: 748.14
A10: Kopā | B10: =B5+B6 -> 11474.71
A12: Kopā nepieciešamais finansējums | B12: =H5+H7+H8+H9 -> 11410.01

Sheet Preiļu slimnīca
I1: 1.6. pielikums
A3: Plāns | C3: Informācija par finanšu līdzekļu izlietojumu
A4: Gāzu tīkla izbūve skābekļa nodrošināšanai Covid-19 pacientiem | B4: Summa ar PVN | C4: Pavadzīmes Nr. | D4: Pavadzīmes datums | E4: Piegādātājs / Izpildītājs | F4: Maksājumu uzdevuma Nr. | G4: Maksājuma uzdevuma datums | H4: Summa EUR ar PVN | I4: Statuss, riski, piezīmes
A5: Centralizētas skābekļa sistēmas paplašināšana un 7 papildu pieslēguma vietu izveide terapijas nodaļā | B5: 1783.81 | C5: SAL002337 | D5: 14.10.2021. | E5: SIA "Salang-P" | F5: 21-08243 | G5: 05.11.2021. | H5: 1233.26
C6: 6721881100 | D6: 07.10.2021. | E6: SIA Linde Gas | H6: 550.55
A7: Kopā | B7: =B5+B6 -> 1783.81
A9: Kopā nepieciešamais finansējums | B9: =H5+H6 -> 1783.81

Sheet Tukums
I1: 1.7. pielikums
A3: Plāns | C3: Informācija par finanšu līdzekļu izlietojumu
A4: Gāzu tīkla izbūve skābekļa nodrošināšanai Covid-19 pacientiem | B4: Summa ar PVN | C4: Pavadzīmes Nr. | D4: Pavadzīmes datums | E4: Piegādātājs / Izpildītājs | F4: Maksājumu uzdevuma Nr. | G4: Maksājuma uzdevuma datums | H4: Summa EUR ar PVN | I4: Statuss, riski, piezīmes
A5: Izveidotas papildus 6 skābekļa ligzdas Covid-19 palātās | B5: 2168.45
A6: Izbūvēta vieta skābekļa konteineru novietošanai un renovēts savienojums ar esošo skābekļa sistēmu | B6: 6149.4 | C6: 091-21673 | D6: 15.11.2021. | E6: ELME MESSER GAAS | H6: 7440.77
A7: darbi skābekļa caurplūdes palielināšanai intensīvai terapijai | B7: 4699.94 | C7: 958/2021 | D7: 30.12.2021. | E7: MMS ELPA | H7: 4699.94
A8: skābekļa sistēmas izbūve | B8: 4819.68 | C8: 959/2021 | D8: 30.12.2021. | E8: MMS ELPA | H8: 4819.68
A9: darbi skābekļa caurplūdes palielināšanai intensīvai terapijai | B9: 5540.42 | C9: 918/2021 | D9: 09.12.2021. | E9: MMS ELPA | H9: 5540.42
A10: Kopā | B10: =B5+B6+B7+B8+B9 -> 23377.89
A12: Kopā nepieciešamais finansējums | B12: =H6+H7+H8+H9 -> 22500.81

Sheet Bauska
I1: 1.8. pielikums
A3: Plāns | C3: Informācija par finanšu līdzekļu izlietojumu
A4: Gāzu tīkla izbūve skābekļa nodrošināšanai Covid-19 pacientiem | B4: Summa ar PVN | C4: Pavadzīmes Nr. | D4: Pavadzīmes datums | E4: Piegādātājs / Izpildītājs | F4: Maksājumu uzdevuma Nr. | G4: Maksājuma uzdevuma datums | H4: Summa EUR ar PVN | I4: Statuss, riski, piezīmes
A5: skābekļa maģistrālās līnijas pārbūve ar lietošanas punktu nomaiņu, 2.kārta | B5: =4530.2*1.21 -> 5481.542
C6: 6721893818 | D6: 02.11.2021. | E6: SIA LINDE GAS | F6: 212176 | G6: 09.11.2021. | H6: 3596.57
C7: 6721909173 | D7: 10.12.2021. | E7: SIA LINDE GAS | F7: 212350 | G7: 15.12.2021. | H7: 1481
C8: 6721937768 | D8: 24.02.2022. | E8: SIA LINDE GAS | F8: 222694 | G8: 25.02.2022. | H8: =B9-H6-H7 -> 404.43
A9: Kopā | B9: =ROUNDUP(B5,0) -> 5482
A11: Kopā nepieciešamais finansējums | B11: =H6+H7+H8 -> 5482

Sheet Aizkraukle
I1: 1.9. pielikums
A3: Plāns | C3: Informācija par finanšu līdzekļu izlietojumu
A4: Gāzu tīkla izbūve skābekļa nodrošināšanai Covid-19 pacientiem | B4: Summa ar PVN | C4: Pavadzīmes Nr. | D4: Pavadzīmes datums | E4: Piegādātājs / Izpildītājs | F4: Maksājumu uzdevuma Nr. | G4: Maksājuma uzdevuma datums | H4: Summa EUR ar PVN | I4: Statuss, riski, piezīmes
A5: 3 skābekļa plūsmas mērītāju iegāde | B5: 554.94
A6: Ārējā pieslēguma rekonstrukcija: sašķidrinātā medicīniskā skābekļa cisternas uzstādīšana | B6: 6492.99
C7: 091-21638 | D7: 05.11.2021. | E7: ELME MESSER GAAS | H7: 1883.15
C8: 091-21639 | D8: 05.11.2021. | E8: ELME MESSER GAAS | H8: 1761.16
C9: 091-21666 | D9: 05.11.2021. | E9: ELME MESSER GAAS | H9: 2848.68
A10: Ārējā pieslēguma rekonstrukcija: elektrības pievades uzstādīšana | B10: 2746.52 | C10: 25/12/2021 | D10: 10.12.2021. | E10: SIA "Hanza-elektro" | H10: 2746.52
A11: Slimnīcas iekšējo konsoles pieslēgumu palielināšana: iegādāti 10 O2 caurplūdes dozatori ar mitrinātāju | B11: 931.7
A12: Slimnīcas iekšējo konsoles pieslēgumu palielināšana: no “Elme Meeser L” pasūtīti 5 konsoles sadalītāji | B12: 1100
A13: Kopā | B13: =ROUNDUP(B5+B6+B10+B11+B12,0) -> 11827
A15: Kopā nepieciešamais finansējums | B15: =H7+H8+H9+H10 -> 9239.51

Sheet Ludza
I1: 1.10. pielikums
A3: Plāns | C3: Informācija par finanšu līdzekļu izlietojumu
A4: Gāzu tīkla izbūve skābekļa nodrošināšanai Covid-19 pacientiem | B4: Summa ar PVN | C4: Pavadzīmes Nr. | D4: Pavadzīmes datums | E4: Piegādātājs / Izpildītājs | F4: Maksājumu uzdevuma Nr. | G4: Maksājuma uzdevuma datums | H4: Summa EUR ar PVN | I4: Statuss, riski, piezīmes
A5: Pavasarī (01.03.2021) bija veikti slimnīcas ārējā pieslēguma rekonstrukcijas darbi – centrālas plūsmas palielināšana | B5: =1172.76*1.21 -> 1419.0396 | C5: 091-20919 | D5: 01.03.2021. | E5: ELME MESSER GAAS | F5: ft21078252kc | G5: 19.03.2021. | H5: 1419.04
A6: 12.11.21. veikti iekšējie rekonstrukcijas darbi - jaunas medicīniskā skābekļa centralizēto pieslēgumu izveides (četras pieslēguma vietās slimnīcas vecajā korpusā) | B6: =8586.64*1.21 -> 10389.834 | C6: 091-21686 | D6: 22.11.2021. | E6: ELME MESSER GAAS | F6: ft21334dqlx3 | G6: 30.11.2021. | H6: 1024.27
A7: Kopā | B7: =ROUNDUP(B5+B6,0) -> 11809
A9: Kopā nepieciešamais finansējums | B9: =H5+H6 -> 2443.31

Sheet Saldus
I1: 1.11. pielikums
A3: Plāns | C3: Informācija par finanšu līdzekļu izlietojumu
A4: Gāzu tīkla izbūve skābekļa nodrošināšanai Covid-19 pacientiem | B4: Summa ar PVN | C4: Pavadzīmes Nr. | D4: Pavadzīmes datums | E4: Piegādātājs / Izpildītājs | F4: Maksājumu uzdevuma Nr. | G4: Maksājuma uzdevuma datums | H4: Summa EUR ar PVN | I4: Statuss, riski, piezīmes
A5: Mega Pack 4 pieslēgumu pie esošai sistēmai (Gāzes aprīkojuma iegāde un montāžas darbi Nr.365) | B5: 5739.01 | C5: 091-20882 | D5: 16.02.2021. | E5: ELME MESSER GAAS | F5: 6674, 6279 | G5: 16.03.2021., 16.02.2021. | H5: 5739.01
A6: jaunas medicīniskā skābekļa centralizēto pieslēgumu izveides aprūpes nodaļā | B6: 1096.68
C7: 092-24724 | D7: 03.02.2021. | E7: ELME MESSER GAAS | F7: 6412 | G7: 08.03.2021. | H7: 528.95
C8: DRS210148 | D8: 26.02.2021. | E8: SIA DRUSSA | F8: 6672 | G8: 16.03.2021. | H8: 72.6
C9: DRS210175 | D9: 31.03.2021. | E9: SIA DRUSSA | F9: 7096 | G9: 14.04.2021. | H9: 268.37
C10: DRS210267 | D10: 30.04.2021. | E10: SIA DRUSSA | F10: 7542 | G10: 17.05.2021. | H10: 28.47
C11: DRS210803 | D11: 30.03.2021. | E11: SIA DRUSSA | F11: 21-03985 | G11: 11.10.2021. | H11: 7.61
C12: DRS210885 | D12: 29.10.2021. | E12: SIA DRUSSA | F12: 21-04172 | G12: 10.11.2021. | H12: 81.78
C13: 210224 | D13: 11.02.2021. | E13: SIA "PROSALE" | F13: 6679 | G13: 16.03.2021. | H13: 108.9
A14: jaunas medicīniskā skābekļa centralizēto pieslēgumu izveides traumpunktā (uzņemšanas nodaļa) | B14: 88.94 | C14: 092-27991 | D14: 19.10.2021. | E14: ELME MESSER GAAS | F14: 21-04202 | G14: 15.11.2021. | H14: 533.61
A15: jaunas medicīniskā skābekļa centralizēto pieslēgumu izveides aprupes nodaļā | B15: 444.68
A16: Kopā | B16: =ROUNDUP(B5+B6+B14+B15,0) -> 7370
A18: Kopā nepieciešamais finansējums | B18: =H5+H7+H8+H9+H10+H11+H12+H13+H14 -> 7369.3

Sheet Rīgas 1.slimnīca
I1: 1.12. pielikums
A3: Plāns | C3: Informācija par finanšu līdzekļu izlietojumu
A4: Gāzu tīkla izbūve skābekļa nodrošināšanai Covid-19 pacientiem | B4: Summa ar PVN | C4: Pavadzīmes Nr. | D4: Pavadzīmes datums | E4: Piegādātājs / Izpildītājs | F4: Maksājumu uzdevuma Nr. | G4: Maksājuma uzdevuma datums | H4: Summa EUR ar PVN | I4: Statuss, riski, piezīmes
A5: 17.korpusa COVID-19 nodaļas palātās no vienas skābekļa ligzdas izveidotas divas un ievilkta saspiestā gaisa līnija | B5: 13984.28 | C5: 146/2021 | D5: 04.02.2021. | E5: NMS ELPA | F5: 559 | G5: 03.03.2021. | H5: 13984.28
A6: Ievilktas jaunas maģistrāles uz 17. korpusu un 3.,4.,5.,6. korpusu un centrālē uzstādīti jauni reduktori, lai nodrošinātu nepieciešamo skābekļa plūsmu COVID-19 nodaļās | B6: 38409.99 | C6: 835/2021 | D6: 05.11.2021. | E6: NMS ELPA | F6: 3547 | G6: 23.11.2021. | H6: 38409.99
A7: Kopā | B7: =ROUNDUP(B5+B6,0) -> 52395
A9: Kopā nepieciešamais finansējums | B9: =H5+H6 -> 52394.27
