Workbook
Name PPP: #REF!
Name q: #REF!
Name q: #REF!
Name q: #REF!
Name q: #REF!
Name q: #REF!
Name q: #REF!
Name s: #REF!
Name ssss: #REF!
Name ssss: #REF!
Name ssss: #REF!
Name ssss: #REF!
Name ssss: #REF!
Name ssss: #REF!
Name Valsts_policijas_amatpersonas_ar_speciālo_dienesta_pakāpi_dalība_Eiropas_Savienības_policijas_misijā_Gruzijā__EUMM_GEORGIA_________M.Štange__līdz_2019.gada_28.februārim: #REF!
Name Valsts_policijas_amatpersonas_ar_speciālo_dienesta_pakāpi_dalība_Eiropas_Savienības_policijas_misijā_Gruzijā__EUMM_GEORGIA_________M.Štange__līdz_2019.gada_28.februārim: #REF!
Name Valsts_policijas_amatpersonas_ar_speciālo_dienesta_pakāpi_dalība_Eiropas_Savienības_policijas_misijā_Gruzijā__EUMM_GEORGIA_________M.Štange__līdz_2019.gada_28.februārim: #REF!
Name Valsts_policijas_amatpersonas_ar_speciālo_dienesta_pakāpi_dalība_Eiropas_Savienības_policijas_misijā_Gruzijā__EUMM_GEORGIA_________M.Štange__līdz_2019.gada_28.februārim: #REF!
Name Valsts_policijas_amatpersonas_ar_speciālo_dienesta_pakāpi_dalība_Eiropas_Savienības_policijas_misijā_Gruzijā__EUMM_GEORGIA_________M.Štange__līdz_2019.gada_28.februārim: #REF!
Name Valsts_policijas_amatpersonas_ar_speciālo_dienesta_pakāpi_dalība_Eiropas_Savienības_policijas_misijā_Gruzijā__EUMM_GEORGIA_________M.Štange__līdz_2019.gada_28.februārim: #REF!
Name z: #REF!
Name z: #REF!
Name z: #REF!
Name z: #REF!
Name z: #REF!
Name z: #REF!

Sheet K.Eiduka
A1: IZDEVUMU APRĒĶINS
A2: Valsts policijas amatpersonas ar speciālo dienesta pakāpi dalība Eiropas Savienības policijas misijā Gruzijā (EUMM GEORGIA) Kristīne Eiduka (19.02.2024.-18.02.2025.)
C4: euro
A5: EUMM GEORGIA (19.02.2024.-31.12.2024.) | C5: 2024.gads
A6: Izdevumi kopā | C6: =C7+C11 -> 46044
A7: 1000 | B7: Atlīdzība | C7: =SUM(C8:C10) -> 31366
A8: 1149 | B8: Citas normatīvajos aktos noteiktās piemaksas, kas nav iepriekš klasificētas Ministru kabineta 2021. gada 07. decembra noteikumos Nr. 793 amatpersonai atbilstoši amata līmenim noteiktais piemaksas apmērs gadā 23 193 euro gadā (mēnesī 1 932,75 euro) (Operacionālais amata līmenis). Koeficients - 1,4; 1 932,75 euro × 1,4 × 9 mēn. + 1 932,75 euro × 1,4 : 29 d. × 11 d. = 25 379,01 euro | C8: =ROUNDUP((((B31*1.4))/29*11)+(B31*1.4*9),0)-1 -> 25379
A9: 1210 | B9: Darba devēja valsts sociālās apdrošināšanas obligātās iemaksas 23,59% no EKK 1149 summas (25 379,01 euro × 23,59 %) = 5 986,91 euro | C9: =ROUND(C8*0.2359,0) -> 5987
A10: 1226 | B10: Dienesta pienākumu izpildei nepieciešamā apģērba iegādes kompensācija Kompensācijas apmērs gadā - 120,94 euro
A11: 2000 | B11: Preces un pakalpojumi | C11: =SUM(C12:C16) -> 14678
A12: 2122 | B12: Pārējie komandējumu un darba braucienu izdevumi Ceļa izdevumi: Vienam braucienam un bagāžai 560,00 euro; reizi kalendāra gadā ceļa izdevumi dodoties uz Latviju un atgriežoties no Latvijas, ievērojot, ka dalības laiks tiek pagarināts, šim mērķim paredzami izdevumi, kas jau 2024. gadā plānoti, lai amatpersona atgrieztos Latvijā. Apdrošināšana par ceļojuma dienām 2,00 euro par 1 dienu 560,00 euro + 2,00 euro = 562,00 euro. | C12: =ROUNDUP(560+2,0) -> 562
A13: 2238 | B13: Ārvalstīs nodarbināto amatpersonu (darbinieku) kompensācijas Dzīvokļa (dzīvojamās telpas) īres un komunālo pakalpojumu izdevumi: 15 793,88 euro (gadā) : 12 mēn. × 10 mēn. + (1 316,16 euro : 29 d. × 11 d.) = 13 660,61 euro. | C13: =ROUNDUP((B35/12*10)+((B36/29)*11),0) -> 13661
A14: 2312
A15: 2364 | B15: Formas tērpi un speciālais apģērbs Saskaņā Valsts policijas 2022.gada 12.augusta iekšējiem noteikumiem Nr.16 "Noteikumi par Valsts policijas un Valsts policijas koledžas amatpersonu ar speciālajām dienesta pakāpēm formas tērpu, atšķirības zīmēm, speciālo apģērbu, individuālajiem aizsardzības līdzekļiem un inventāru, atpazīšanas zīmju aprakstu un darbinieku darba apģērbu" Valsts policijas amatpersonas var lūgt atjaunot formas tērpu, ja tas ir nolietots un lūgt izsniegt jaunu. Atsevišām formas tērpa daļām - specapģērbam, ekipējumam lietošanas termiņš ir sasniedzīs lietošanas termiņa beigas. Formas tērpa atjaunošanas izdevumi sastāda 455,00 euro, tai skaitā: atjaunot pēc lietošanas termiņa beigām: siltās apakšveļas (apakškrekls garām piedurknēm, garās apakšbikses (termoveļa)) komplekts - 59,00 euro × 2 gab. = 118,00 euro; bikses - 78,00 euro × 2 gab. = 156,00 euro; krekls ar īsām piedurknēm - 57,00 euro; krekls ar garām piedurknēm - 100,00 euro; polo krekls - 24,00 euro. | C15: =ROUNDUP(118+156+57+100+24,0) -> 455
A16: 2389
C18: euro
A19: EUMM GEORGIA (01.01.2025.-18.02.2025.) | C19: 2025.gads
A20: Izdevumi kopā | C20: =C21+C24 -> 11565
A21: 1000 | B21: Atlīdzība | C21: =SUM(C22:C23) -> 8840
A22: 1149 | B22: Citas normatīvajos aktos noteiktās piemaksas, kas nav iepriekš klasificētas Ministru kabineta 2021. gada 07. decembra noteikumos Nr. 793 amatpersonai atbilstoši amata līmenim noteiktais piemaksas apmērs gadā 23 193 euro (mēnesī 1 932,75 euro) (Operacionālais amata līmenis). Koeficients - 1,4; 1 932,75 euro × 1,4 × 2 mēn. + 1 932,75 euro × 1,4 : 28 d. × 18 d. = 7 151,18 euro | C22: =ROUNDUP((((B31*1.4))/28*18)+(B31*1.4*2),0) -> 7152
A23: 1210 | B23: Darba devēja valsts sociālās apdrošināšanas obligātās iemaksas 23,59% no EKK 1149 summas (7 151,18 euro × 23,59 %) = 1 686,96 euro | C23: =ROUNDUP(C22*0.2359,0) -> 1688
A24: 2000 | B24: Preces un pakalpojumi | C24: =SUM(C25:C26) -> 2725
A25: 2122 | B25: Pārējie komandējumu un darba braucienu izdevumi Ceļa izdevumi: Vienam braucieniem un bagāžai 560 euro; Apdrošināšana par ceļojuma dienām 2,00 euro par 1 dienu 560 euro + 2,00 euro = 562,00 euro. | C25: =ROUNDUP(560*1+2*1,0) -> 562
A26: 2238 | B26: Ārvalstīs nodarbināto amatpersonu (darbinieku) kompensācijas Dzīvokļa (dzīvojamās telpas) īres un komunālo pakalpojumu izdevumi: 15 793,88 euro (gadā) : 12 mēn. × 1 mēn. + (1 316,16 euro : 28 d. × 18 d.) = 2 162,26 euro. | C26: =ROUNDUP((B35/12*1)+((B36/28)*18),0) -> 2163
B29: Taktiskais amata līmenis
A30: gadā | B30: 23193
A31: mēnesī | B31: 1932.75
B34: Taktiskais amata līmenis
A35: gadā | B35: 15793.88
A36: mēnesī | B36: =ROUND(B35/12,2) -> 1316.16

Sheet E.Liepa
A1: IZDEVUMU APRĒĶINS
A2: Valsts policijas amatpersonas ar speciālo dienesta pakāpi dalība Eiropas Savienības policijas misijā Gruzijā (EUMM GEORGIA) Edgars Liepa (19.02.2024.-18.02.2025.)
C4: euro
A5: EUMM GEORGIA (19.02.2024.-31.12.2024.) | C5: 2024.gads
A6: Izdevumi kopā | C6: =C7+C11 -> 38054
A7: 1000 | B7: Atlīdzība | C7: =SUM(C8:C10) -> 26748
A8: 1149 | B8: Citas normatīvajos aktos noteiktās piemaksas, kas nav iepriekš klasificētas Ministru kabineta 2021. gada 07. decembra noteikumos Nr. 793 amatpersonai atbilstoši amata līmenim noteiktais piemaksas apmērs gadā 19 778 euro gadā (mēnesī 1 648,17 euro) (Taktiskais amata līmenis). Koeficients - 1,4; 1 648,17 euro × 1,4 × 9 mēn. + 1 648,17 euro × 1,4 : 29 d. × 11 d. = 21 642,18 euro | C8: =ROUNDUP((((B31*1.4))/29*11)+(B31*1.4*9),0) -> 21643
A9: 1210 | B9: Darba devēja valsts sociālās apdrošināšanas obligātās iemaksas 23,59% no EKK 1149 summas (21 642,18 euro × 23,59 %) = 5 105,39 euro | C9: =ROUND(C8*0.2359,0)-1 -> 5105
A10: 1226 | B10: Dienesta pienākumu izpildei nepieciešamā apģērba iegādes kompensācija Kompensācijas apmērs gadā - 120,94 euro
A11: 2000 | B11: Preces un pakalpojumi | C11: =SUM(C12:C16) -> 11306
A12: 2122 | B12: Pārējie komandējumu un darba braucienu izdevumi Ceļa izdevumi: Vienam braucienam un bagāžai 560,00 euro; reizi kalendāra gadā ceļa izdevumi dodoties uz Latviju un atgriežoties no Latvijas, ievērojot, ka dalības laiks tiek pagarināts, šim mērķim paredzami izdevumi, kas jau 2024. gadā plānoti, lai amatpersona atgrieztos Latvijā. Apdrošināšana par ceļojuma dienām 2,00 euro par 1 dienu 560,00 euro + 2,00 euro = 562,00 euro. | C12: =ROUNDUP(560+2,0) -> 562
A13: 2238 | B13: Ārvalstīs nodarbināto amatpersonu (darbinieku) kompensācijas Dzīvokļa (dzīvojamās telpas) īres un komunālo pakalpojumu izdevumi: 11 895,21 euro (gadā) : 12 mēn. × 10 mēn. + 991,27 euro (mēnesī) : 29 d. × 11 d. = 10 288,68 euro. | C13: =ROUNDUP((B39/12*10)+((B40/29)*11),0) -> 10289
A14: 2312
A15: 2364 | B15: Formas tērpi un speciālais apģērbs Saskaņā Valsts policijas 2022.gada 12.augusta iekšējiem noteikumiem Nr.16 "Noteikumi par Valsts policijas un Valsts policijas koledžas amatpersonu ar speciālajām dienesta pakāpēm formas tērpu, atšķirības zīmēm, speciālo apģērbu, individuālajiem aizsardzības līdzekļiem un inventāru, atpazīšanas zīmju aprakstu un darbinieku darba apģērbu" Valsts policijas amatpersonas var lūgt atjaunot formas tērpu, ja tas ir nolietots un lūgt izsniegt jaunu. Atsevišām formas tērpa daļām - specapģērbam, ekipējumam lietošanas termiņš ir sasniedzīs lietošanas termiņa beigas. Formas tērpa atjaunošanas izdevumi sastāda 455,00 euro, tai skaitā: atjaunot pēc lietošanas termiņa beigām: siltās apakšveļas (apakškrekls garām piedurknēm, garās apakšbikses (termoveļa)) komplekts - 59,00 euro × 2 gab. = 118,00 euro; bikses - 78,00 euro × 2 gab. = 156,00 euro; krekls ar īsām piedurknēm - 57,00 euro; krekls ar garām piedurknēm - 100,00 euro; polo krekls - 24,00 euro. | C15: =118+156+57+100+24 -> 455
A16: 2389
C18: euro
A19: EUMM GEORGIA (01.01.2025.-18.02.2025.) | C19: 2025.gads
A20: Izdevumi kopā | C20: =C21+C24 -> 9728
A21: 1000 | B21: Atlīdzība | C21: =SUM(C22:C23) -> 7537
A22: 1149 | B22: Citas normatīvajos aktos noteiktās piemaksas, kas nav iepriekš klasificētas Ministru kabineta 2021. gada 07. decembra noteikumos Nr. 793 amatpersonai atbilstoši amata līmenim noteiktais piemaksas apmērs gadā 19 778 euro (mēnesī 1 648,17 euro) (Taktiskais amata līmenis). Koeficients - 1,4; 1 648,17 euro × 1,4 × 2 mēn. + 1 648,17 euro × 1,4 : 28 d. × 18 d. = 6 098,23 euro | C22: =ROUNDUP((((B31*1.4))/28*18)+(B31*1.4*2),0)-1 -> 6098
A23: 1210 | B23: Darba devēja valsts sociālās apdrošināšanas obligātās iemaksas 23,59% no EKK 1149 summas (6 098,23 euro × 23,59 %) = 1 438,57 euro | C23: =ROUNDUP(C22*0.2359,0) -> 1439
A24: 2000 | B24: Preces un pakalpojumi | C24: =SUM(C25:C26) -> 2191
A25: 2122 | B25: Pārējie komandējumu un darba braucienu izdevumi Ceļa izdevumi: Vienam braucieniem un bagāžai 560 euro; Apdrošināšana par ceļojuma dienām 2,00 euro par 1 dienu 560 euro + 2,00 euro = 562,00 euro. | C25: =ROUNDUP(560*1+2*1,0) -> 562
A26: 2238 | B26: Ārvalstīs nodarbināto amatpersonu (darbinieku) kompensācijas Dzīvokļa (dzīvojamās telpas) īres un komunālo pakalpojumu izdevumi: 11 895,21 euro (gadā) : 12 mēn. × 1 mēn. + (991,27 euro (mēnesī): 28 d. × 18 d.) = 1 628,52 euro. | C26: =ROUNDUP((B39/12*1)+((B40/28)*18),0) -> 1629
B29: Taktiskais amata līmenis
A30: gadā | B30: 19778
A31: mēnesī | B31: =ROUND(B30/12,2) -> 1648.17 | C31: =ROUND(B31*1.4,2) -> 2307.44
B38: Taktiskais amata līmenis | C38: 11895.21
A39: gadā | B39: =C38 -> 11895.21
A40: mēnesī | B40: =ROUND(B39/12,2) -> 991.27

Sheet J.Zalais
A1: IZDEVUMU APRĒĶINS
A2: Valsts policijas amatpersonas ar speciālo dienesta pakāpi dalība Eiropas Savienības policijas misijā Gruzijā (EUMM GEORGIA) Jānis Zaļais (19.02.2024.-18.02.2025.)
C4: euro
A5: EUMM GEORGIA (19.02.2024.-31.12.2024.) | C5: 2024.gads
A6: Izdevumi kopā | C6: =C7+C11 -> 38054
A7: 1000 | B7: Atlīdzība | C7: =SUM(C8:C10) -> 26748
A8: 1149 | B8: Citas normatīvajos aktos noteiktās piemaksas, kas nav iepriekš klasificētas Ministru kabineta 2021. gada 07. decembra noteikumos Nr. 793 amatpersonai atbilstoši amata līmenim noteiktais piemaksas apmērs gadā 19 778 euro (mēnesī 1 648,17 euro) (Taktiskais amata līmenis). Koeficients - 1,4; 1 648,17 euro × 1,4 × 9 mēn. + 1 648,17 euro × 1,4 : 29 d. × 11 d. = 21 642,18 euro | C8: =ROUNDUP((((B31*1.4))/29*11)+(B31*1.4*9),0) -> 21643
A9: 1210 | B9: Darba devēja valsts sociālās apdrošināšanas obligātās iemaksas 23,59% no EKK 1149 summas (21 642,18 euro × 23,59 %) = 5 105,39 euro | C9: =ROUND(C8*0.2359,0)-1 -> 5105
A10: 1226 | B10: Dienesta pienākumu izpildei nepieciešamā apģērba iegādes kompensācija Kompensācijas apmērs gadā - 120,94 euro
A11: 2000 | B11: Preces un pakalpojumi | C11: =SUM(C12:C16) -> 11306
A12: 2122 | B12: Pārējie komandējumu un darba braucienu izdevumi Ceļa izdevumi: Vienam braucienam un bagāžai 560,00 euro; reizi kalendāra gadā ceļa izdevumi dodoties uz Latviju un atgriežoties no Latvijas, ievērojot, ka dalības laiks tiek pagarināts, šim mērķim paredzami izdevumi, kas jau 2024. gadā plānoti, lai amatpersona atgrieztos Latvijā. Apdrošināšana par ceļojuma dienām 2,00 euro par 1 dienu 560,00 euro + 2,00 euro = 562,00 euro. | C12: =ROUNDUP(560+2,0) -> 562
A13: 2238 | B13: Ārvalstīs nodarbināto amatpersonu (darbinieku) kompensācijas Dzīvokļa (dzīvojamās telpas) īres un komunālo pakalpojumu izdevumi: 11 895,21 euro (gadā) : 12 mēn. × 10 mēn. + (991,27 euro ((mēnesī) : 29 d. × 11 d.) = 10 288,68 euro. | C13: =ROUNDUP((B39/12*10)+((B40/29)*11),0) -> 10289
A14: 2312
A15: 2364 | B15: Formas tērpi un speciālais apģērbs Saskaņā Valsts policijas 2022.gada 12.augusta iekšējiem noteikumiem Nr.16 "Noteikumi par Valsts policijas un Valsts policijas koledžas amatpersonu ar speciālajām dienesta pakāpēm formas tērpu, atšķirības zīmēm, speciālo apģērbu, individuālajiem aizsardzības līdzekļiem un inventāru, atpazīšanas zīmju aprakstu un darbinieku darba apģērbu" Valsts policijas amatpersonas var lūgt atjaunot formas tērpu, ja tas ir nolietots un lūgt izsniegt jaunu. Atsevišām formas tērpa daļām - specapģērbam, ekipējumam lietošanas termiņš ir sasniedzīs lietošanas termiņa beigas. Formas tērpa atjaunošanas izdevumi sastāda 455,00 euro, tai skaitā: atjaunot pēc lietošanas termiņa beigām: siltās apakšveļas (apakškrekls garām piedurknēm, garās apakšbikses (termoveļa)) komplekts - 59,00 euro × 2 gab. = 118,00 euro; bikses - 78,00 euro × 2 gab. = 156,00 euro; krekls ar īsām piedurknēm - 57,00 euro; krekls ar garām piedurknēm - 100,00 euro; polo krekls - 24,00 euro. | C15: =118+156+57+100+24 -> 455
A16: 2389
C18: euro
A19: EUMM GEORGIA (01.01.2025.-18.02.2025.) | C19: 2025.gads
A20: Izdevumi kopā | C20: =C21+C24 -> 9728
A21: 1000 | B21: Atlīdzība | C21: =SUM(C22:C23) -> 7537
A22: 1149 | B22: Citas normatīvajos aktos noteiktās piemaksas, kas nav iepriekš klasificētas Ministru kabineta 2021. gada 07. decembra noteikumos Nr. 793 amatpersonai atbilstoši amata līmenim noteiktais piemaksas apmērs gadā 19 778 euro gadā (mēnesī 1 648,17 euro) (Taktiskais amata līmenis). Koeficients - 1,4; 1 648,17 euro × 1,4 × 2 mēn. + 1 648,17 euro × 1,4 : 28 d. × 18 d. = 6 098,23 euro | C22: =ROUNDUP((((B31*1.4))/28*18)+(B31*1.4*2),0)-1 -> 6098
A23: 1210 | B23: Darba devēja valsts sociālās apdrošināšanas obligātās iemaksas 23,59% no EKK 1149 summas (6 098,23 euro × 23,59 %) = 1 438,57 euro | C23: =ROUNDUP(C22*0.2359,0) -> 1439
A24: 2000 | B24: Preces un pakalpojumi | C24: =SUM(C25:C26) -> 2191
A25: 2122 | B25: Pārējie komandējumu un darba braucienu izdevumi Ceļa izdevumi: Vienam braucieniem un bagāžai 560 euro; Apdrošināšana par ceļojuma dienām 2,00 euro par 1 dienu 560 euro + 2,00 euro = 562,00 euro. | C25: =ROUNDUP(560*1+2*1,0) -> 562
A26: 2238 | B26: Ārvalstīs nodarbināto amatpersonu (darbinieku) kompensācijas Dzīvokļa (dzīvojamās telpas) īres un komunālo pakalpojumu izdevumi: 11 895,21 euro (gadā) : 12 mēn. × 1 mēn. + (991,27 euro (mēnesī): 28 d. × 18 d.) = 1 628,52 euro. | C26: =ROUNDUP((B39/12*1)+((B40/28)*18),0) -> 1629
B29: Taktiskais amata līmenis
A30: gadā | B30: 19778
A31: mēnesī | B31: =ROUND(B30/12,2) -> 1648.17 | C31: =ROUND(B31*1.4,2) -> 2307.44
B38: Taktiskais amata līmenis | C38: 11895.21
A39: gadā | B39: =C38 -> 11895.21
A40: mēnesī | B40: =ROUND(B39/12,2) -> 991.27

Sheet M.Stange
A1: IZDEVUMU APRĒĶINS
A2: Valsts policijas amatpersona ar speciālo dienesta pakāpi dalība Eiropas Savienības policijas misijā Gruzijā (EUMM GEORGIA) Mārtiņš Štange (07.02.2024.- 06.02.2025.)
C4: euro
A5: EUMM GEORGIA (07.02.2024. - 31.12.2024.) | C5: 2024.gads
A6: Izdevumi kopā | C6: =C7+C11 -> 39644
A7: 1000 | B7: Atlīdzība | C7: =SUM(C8:C10) -> 27928
A8: 1149 | B8: Citas normatīvajos aktos noteiktās piemaksas, kas nav iepriekš klasificētas Ministru kabineta 2021.gada 07.decembra noteikumos Nr.793 amatpersonai atbilstoši amata līmenim noteiktais piemaksas apmērs 19 778 euro gadā (mēnesī 1 648,17 euro). (Taktiskais amata līmenis). Koeficients - 1,4; (1 648,17 euro × 1,4 × 9 mēn.) + (1 648,17 euro × 1,4 : 29 d. × 23 d.) = 22 596,98 euro | C8: =ROUNDUP((((B31*1.4))/29*23)+(B31*1.4*9),0) -> 22597
A9: 1210 | B9: Darba devēja valsts sociālās apdrošināšanas obligātās iemaksas 23,59% no EKK 1149 summas (22 596,98 euro × 23,59 %) = 5 330,63 euro | C9: =ROUND(C8*0.2359,0) -> 5331
A10: 1226 | B10: Dienesta pienākumu izpildei nepieciešamā apģērba iegādes kompensācija Kompensācijas apmērs gadā - 120,94 euro
A11: 2000 | B11: Preces un pakalpojumi | C11: =SUM(C12:C16) -> 11716
A12: 2122 | B12: Pārējie komandējumu un darba braucienu izdevumi Ceļa izdevumi: Vienam braucienam un bagāžai 560,00 euro; reizi kalendāra gadā ceļa izdevumi dodoties uz Latviju un atgriežoties no Latvijas, ievērojot, ka dalības laiks tiek pagarināts, šim mērķim paredzami izdevumi, kas jau 2024. gadā plānoti, lai amatpersona atgrieztos Latvijā. Apdrošināšana par ceļojuma dienām 2,00 euro par 1 dienu 560,00 euro + 2,00 euro = 562,00 euro. | C12: =ROUNDUP(560+2,0) -> 562
A13: 2238 | B13: Ārvalstīs nodarbināto amatpersonu (darbinieku) kompensācijas Saskaņā ar Ministru kabineta 2021.gada 07.decembra noteikumiem Nr.793 atbilstoši amata līmenim (taktiskais amata līmenis) izdevumu kompensācijas apmērs amatpersonām par dzīvokļa (dzīvojamās telpas) īri un citiem pakalpojumiem, kas saistīti ar dzīvojamās telpas lietošanu 11 895,21 euro gadā (mēnesī 991,27 euro). (11 895,21 euro: 12 mēn. × 10 mēn.) + (991,27 euro : 29 d. × 23 d.) = 10 698,86 euro | C13: =ROUNDUP((B39/12*10)+((B40/29)*23),0) -> 10699
A14: 2312 | B14: Inventārs Personīgās pirmās palīdzības komplekts, kurā ietilpst pamatmedikamenti, pārsēji, ķirurģiskās līmlentes ruļļi utt. - 60,00 euro; patruļas soma - 50,00 euro.
A15: 2364 | B15: Formas tērpi un speciālais apģērbs Saskaņā Valsts policijas 2022.gada 12.augusta iekšējiem noteikumiem Nr.16 "Noteikumi par Valsts policijas un Valsts policijas koledžas amatpersonu ar speciālajām dienesta pakāpēm formas tērpu, atšķirības zīmēm, speciālo apģērbu, individuālajiem aizsardzības līdzekļiem un inventāru, atpazīšanas zīmju aprakstu un darbinieku darba apģērbu" Valsts policijas amatpersonas var lūgt atjaunot formas tērpu, ja tas ir nolietots un lūgt izsniegt jaunu. Atsevišām formas tērpa daļām - specapģērbam, ekipējumam lietošanas termiņš ir sasniedzīs lietošanas termiņa beigas. Formas tērpa atjaunošanas izdevumi sastāda 455,00 euro, tai skaitā: atjaunot pēc lietošanas termiņa beigām: siltās apakšveļas (apakškrekls garām piedurknēm, garās apakšbikses (termoveļa)) komplekts - 59,00 euro × 2 gab. = 118,00 euro; bikses - 78,00 euro × 2 gab. = 156,00 euro; krekls ar īsām piedurknēm - 57,00 euro; krekls ar garām piedurknēm - 100,00 euro; polo krekls - 24,00 euro. | C15: =118+156+57+100+24 -> 455
A16: 2389 | B16: Pārējie specifiskas lietošanas materiāli un inventārs kombinētais kabatas nazis - 76,00 euro.
C18: euro
A19: EUMM GEORGIA (01.01.2025. - 06.02.2025.) | C19: 2025.gads
A20: Izdevumi kopā | C20: =C21+C24 -> 8081
A21: 1000 | B21: Atlīdzība | C21: =SUM(C22:C23) -> 6315
A22: 1149 | B22: Citas normatīvajos aktos noteiktās piemaksas, kas nav iepriekš klasificētas Ministru kabineta 2021.gada 07.decembra noteikumos Nr.793 amatpersonai atbilstoši amata līmenim noteiktais piemaksas apmērs 19 778 euro gadā (mēnesī 1 648,17 euro) (Taktiskais amata līmenis). Koeficients - 1,4; (1 648,17 euro × 1,4 × 2 mēn.) + (1 648,17 euro × 1,4 : 28 d. × 6 d.) = 5 109,33 euro | C22: =ROUNDUP((((B31*1.4))/28*6)+(B31*1.4*2),0) -> 5110
A23: 1210 | B23: Darba devēja valsts sociālās apdrošināšanas obligātās iemaksas 23,59% no EKK 1149 summas (5 109,33 euro × 23,59 %) = 1 205,29 euro | C23: =ROUNDUP(C22*0.2359,0)-1 -> 1205
A24: 2000 | B24: Preces un pakalpojumi | C24: =SUM(C25:C26) -> 1766
A25: 2122 | B25: Pārējie komandējumu un darba braucienu izdevumi Ceļa izdevumi: Vienam braucieniem un bagāžai 560,00 euro; Apdrošināšana par ceļojuma dienām 2,00 euro par 1 dienu (560,00 euro + 2,00 euro) = 562,00 euro. | C25: =ROUNDUP(560*1+2*1,0) -> 562
A26: 2238 | B26: Ārvalstīs nodarbināto amatpersonu (darbinieku) kompensācijas Saskaņā ar Ministru kabineta 2021.gada 07.decembra noteikumiem Nr.793 atbilstoši amata līmenim (taktiskais amata līmenis) izdevumu kompensācijas apmērs amatpersonām par dzīvokļa (dzīvojamās telpas) īri un citiem pakalpojumiem, kas saistīti ar dzīvojamās telpas lietošanu 11`895,21 euro gadā (mēnesī 991,27 euro). (11 895,21 euro : 12 mēn. × 1 mēn.) + (991,27 euro : 28 d. × 6 d.) = 1 203,69 euro. | C26: =ROUNDUP((B39/12*1)+((B40/28)*6),0) -> 1204
B29: Taktiskais amata līmenis
A30: gadā | B30: 19778
A31: mēnesī | B31: 1648.17 | C31: =ROUND(B31*1.4,2) -> 2307.44
A33: vecais | B33: 1422.87 | C33: =ROUND(B33*1.4,2) -> 1992.02
B34: =B31-B33 -> 225.3 | C34: =B34*1.4 -> 315.42
A35: palielinājums | B35: =C31-C33 -> 315.42
A36: pārrēķins | C36: =ROUNDUP(B35/31*7,2) -> 71.23
B38: Taktiskais amata līmenis | C38: 11895.21
A39: gadā | B39: =C38 -> 11895.21
A40: mēnesī | B40: =ROUND(B39/12,2) -> 991.27

Sheet D.Uļģis
A1: IZDEVUMU APRĒĶINS
A2: Valsts policijas amatpersona ar speciālo dienesta pakāpi dalība Eiropas Savienības policijas misijā Gruzijā (EUMM GEORGIA) Dāvis Uļģis (28.02.2024.-27.02.2025.)
C4: euro
A5: EUMM GEORGIA (28.02.2024. - 31.12.2024.) | C5: 2024.gads
A6: Izdevumi kopā | C6: =C7+C10 -> 39498
A7: 1000 | B7: Atlīdzība | C7: =SUM(C8:C9) -> 25863
A8: 1149 | B8: Citas normatīvajos aktos noteiktās piemaksas, kas nav iepriekš klasificētas Ministru kabineta 2021.gada 7.decembra noteikumos Nr.793 amatpersonai atbilstoši amata līmenim noteiktais piemaksas apmērs gadā 19 778 euro (mēnesī 1 648,17 euro). (Taktiskais amata līmenis). Koeficients - 1,4; (1 648,17 euro × 1,4 × 9 mēn.) + (1 648,17 euro × 1,4 : 29 d. × 2 d.) = 20 926,07 euro | C8: =ROUNDUP((((B30*1.4))/29*2)+(B30*1.4*9),0)-1 -> 20926
A9: 1210 | B9: Darba devēja valsts sociālās apdrošināšanas obligātās iemaksas 23,59% no EKK 1149 summas (20 926,07 euro × 23,59 %) = 4 936,46 euro | C9: =ROUND(C8*0.2359,0)+1 -> 4937
A10: 2000 | B10: Preces un pakalpojumi | C10: =SUM(C11:C15) -> 13635
A11: 2122 | B11: Pārējie komandējumu un darba braucienu izdevumi Ceļa izdevumi: Vienam braucienam un bagāžai 560,00 euro; Brauciens no Latvijas līdz dienesta vietai, kā arī reizi kalendāra gadā ceļa izdevumi dodoties uz Latviju un atgriežoties no Latvijas. Apdrošināšana par ceļojuma dienām 2,00 euro par 1 dienu (560,00 euro + 2,00 euro) × 3 braucieni = 1 686,00 euro. | C11: =ROUNDUP(560*3+2*3,0) -> 1686
A12: 2238 | B12: Ārvalstīs nodarbināto amatpersonu (darbinieku) kompensācijas Dzīvokļa (dzīvojamās telpas) īres un citi pakalpojumi, kas saistīti ar dzīvojamās telpas lietošanu gadā 11 895,21 euro (mēnesī 991,27 euro) (11 895,21 euro: 12 mēn. × 10 mēn.) + (991,27 euro: 29 d. × 2 d.) = 9 981,04 euro | C12: =ROUNDUP((B38/12*10)+((B39/29)*2),0) -> 9982
A13: 2313 | B13: Darba aizsardzības līdzekļi Aptieciņa 21,00 euro. | C13: 21
A14: 2364 | B14: Formas tērpi un speciālais apģērbs Kopējā summa 1 278,00 euro, t.sk.: siltās apakšveļas (apakškrekls garām piedurknēm, garās apakšbikses (termoveļa)) komplekts - 90,00 euro x 2 komplekti = 180,00 euro; bikses - 65,00 euro × 2 gab. = 130,00 euro; krekls ar īsām piedurknēm - 23,00 euro; krekls ar garām piedurknēm - 35,00 euro; polo krekls - 30,00 euro; ziemas jaka - 250,00 euro; taktiskie cimdi (darba) - 45,00 euro; cimdi (auksta laika) - 35,00 euro; sporta apavi - 90,00 euro; šņorzābaki - 150,00 euro x 2 pāri = 300,00 euro; pulovers - 75,00 euro; litusmētelis - 40,00 euro; zeķes - 5,00 euro x 5 pāri = 25,00 euro; uzšūve(Latvijas karogs) - 5 euro x 4 gab.= 20,00 euro. | C14: =90*2+65*2+23+35+30+250+45+35+90+150*2+75+40+5*5+5*4 -> 1278
A15: 2389 | B15: Pārējie specifiskas lietošanas materiāli un inventārs Kopējā summa 668,00 euro, t.sk.: instrumentu komplekts - 140,00 euro; lukturis - 120,00 euro; guļammaiss - 223,00 euro; mugursoma - 140,00 euro; soma - 45,00 euro. | C15: =140+120+223+140+45 -> 668
C17: euro
A18: EUMM GEORGIA (01.01.2025. - 27.02.2025.) | C18: 2025.gads
A19: Izdevumi kopā | C19: =C20+C23 -> 10964
A20: 1000 | B20: Atlīdzība | C20: =SUM(C21:C22) -> 8454
A21: 1149 | B21: Citas normatīvajos aktos noteiktās piemaksas, kas nav iepriekš klasificētas Ministru kabineta 2021.gada 7.decembra noteikumos Nr.793 amatpersonai atbilstoši amata līmenim noteiktais piemaksas apmērs gadā 19 778 euro (mēnesī 1 648,17 euro) (Taktiskais amata līmenis). Koeficients - 1,4; (1 648,17 euro × 1,4 × 2 mēn.) + (1 648,17 euro × 1,4 : 28 d. × 27 d.) = 6 839,91 euro | C21: =ROUNDUP((((B30*1.4))/28*27)+(B30*1.4*2),0) -> 6840
A22: 1210 | B22: Darba devēja valsts sociālās apdrošināšanas obligātās iemaksas 23,59% no EKK 1149 summas (6 839,91 euro × 23,59 %) = 1 613,53 euro | C22: =ROUNDUP(C21*0.2359,0) -> 1614
A23: 2000 | B23: Preces un pakalpojumi | C23: =SUM(C24:C25) -> 2510
A24: 2122 | B24: Pārējie komandējumu un darba braucienu izdevumi Ceļa izdevumi: Vienam braucieniem un bagāžai 560,00 euro; Apdrošināšana par ceļojuma dienām 2,00 euro par 1 dienu (560,00 euro + 2,00 euro) = 562,00 euro. | C24: =ROUNDUP(560*1+2*1,0) -> 562
A25: 2238 | B25: Ārvalstīs nodarbināto amatpersonu (darbinieku) kompensācijas Dzīvokļa (dzīvojamās telpas) īres un citi pakalpojumi, kas saistīti ar dzīvojamās telpas lietošanu gadā 11 895,21 euro (mēnesī 991,27 euro) (11 895,21 euro : 12 mēn. × 1 mēn.) + (991,27 euro : 28 d. × 27 d.) = 1 947,14 euro. | C25: =ROUNDUP((B38/12*1)+((B39/28)*27),0) -> 1948
B28: Taktiskais amata līmenis
A29: gadā | B29: 19778
A30: mēnesī | B30: 1648.17 | C30: =ROUND(B30*1.4,2) -> 2307.44
A32: vecais | B32: 1422.87 | C32: =ROUND(B32*1.4,2) -> 1992.02
B33: =B30-B32 -> 225.3 | C33: =B33*1.4 -> 315.42
A34: palielinājums | B34: =C30-C32 -> 315.42
A35: pārrēķins | C35: =ROUNDUP(B34/31*7,2) -> 71.23
B37: Taktiskais amata līmenis | C37: 11895.21
A38: gadā | B38: =C37 -> 11895.21
A39: mēnesī | B39: =ROUND(B38/12,2) -> 991.27

Sheet Kopsavilkums
A1: KOPSAVILKUMS
C3: euro
A4: EUMM GEORGIA (19.02.2024.-31.12.2024.) | C4: 2024.gads
A5: Izdevumi kopā | C5: =C6+C11 -> 201294
A6: 1000 | B6: Atlīdzība | C6: =C7+C9 -> 138653
A7: 1100 | B7: Atalgojums | C7: =C8 -> 112188
A8: 1149 | B8: Citas normatīvajos aktos noteiktās piemaksas, kas nav iepriekš klasificētas | C8: =K.Eiduka!C8+E.Liepa!C8+J.Zalais!C8+M.Stange!C8+D.Uļģis!C8 -> 112188
A9: 1200 | B9: Darba devēja valsts sociālās apdrošināšanas obligātās iemaksas, pabalsti un kompensācijas | C9: =C10 -> 26465
A10: 1210 | B10: Darba devēja valsts sociālās apdrošināšanas obligātās iemaksas | C10: =K.Eiduka!C9+E.Liepa!C9+J.Zalais!C9+M.Stange!C9+D.Uļģis!C9 -> 26465
A11: 2000 | B11: Preces un pakalpojumi | C11: =C12+C14+C16 -> 62641
A12: 2100 | B12: Mācību, darba un dienesta komandējumi, darba braucieni | C12: =C13 -> 3934
A13: 2122 | B13: Pārējie komandējumu un darba braucienu izdevumi | C13: =K.Eiduka!C12+E.Liepa!C12+J.Zalais!C12+M.Stange!C12+D.Uļģis!C11 -> 3934
A14: 2200 | B14: Pakalpojumi | C14: =C15 -> 54920
A15: 2238 | B15: Ārvalstīs nodarbināto amatpersonu (darbinieku) kompensācijas | C15: =K.Eiduka!C13+E.Liepa!C13+J.Zalais!C13+M.Stange!C13+D.Uļģis!C12 -> 54920
A16: 2300 | B16: Krājumi, materiāli, energoresursi, preces, biroja preces un inventārs, kurus neuzskaita kodā 5000 | C16: =SUM(C17:C19) -> 3787
A17: 2312 | B17: Inventārs
A18: 2364 | B18: Formas tērpi un speciālais apģērbs | C18: =K.Eiduka!C15+E.Liepa!C15+J.Zalais!C15+M.Stange!C15+D.Uļģis!C15+D.Uļģis!C14+D.Uļģis!C13 -> 3787
A19: 2389 | B19: Pārējie specifiskas lietošanas materiāli un inventārs
C21: euro
A22: EUMM GEORGIA (01.01.2025.-27.02.2025.) | C22: 2025.gads
A23: Izdevumi kopā | C23: =C24+C29 -> 50066
A24: 1000 | B24: Atlīdzība | C24: =C25+C27 -> 38683
A25: 1100 | B25: Atalgojums | C25: =C26 -> 31298
A26: 1149 | B26: Citas normatīvajos aktos noteiktās piemaksas, kas nav iepriekš klasificētas | C26: =K.Eiduka!C22+E.Liepa!C22+J.Zalais!C22+M.Stange!C22+D.Uļģis!C21 -> 31298
A27: 1200 | B27: Darba devēja valsts sociālās apdrošināšanas obligātās iemaksas, pabalsti un kompensācijas | C27: =C28 -> 7385
A28: 1210 | B28: Darba devēja valsts sociālās apdrošināšanas obligātās iemaksas | C28: =K.Eiduka!C23+E.Liepa!C23+J.Zalais!C23+M.Stange!C23+D.Uļģis!C22 -> 7385
A29: 2000 | B29: Preces un pakalpojumi | C29: =C30+C32 -> 11383
A30: 2100 | B30: Mācību, darba un dienesta komandējumi, darba braucieni | C30: =C31 -> 2810
A31: 2122 | B31: Pārējie komandējumu un darba braucienu izdevumi | C31: =K.Eiduka!C25+E.Liepa!C25+J.Zalais!C25+M.Stange!C25+D.Uļģis!C24 -> 2810
A32: 2200 | B32: Pakalpojumi | C32: =C33 -> 8573
A33: 2238 | B33: Ārvalstīs nodarbināto amatpersonu (darbinieku) kompensācijas | C33: =K.Eiduka!C26+E.Liepa!C26+J.Zalais!C26+M.Stange!C26+D.Uļģis!C25 -> 8573
