Workbook

Sheet 1pielik
I1: 1. pielikums
I2: Ministru kabineta noteikumu “Grozījumi Ministru kabineta 2021. gada 24. augusta noteikumos Nr. 572 "Valsts robežsardzes maksas pakalpojuma cenrādis" projekta sākotnējās ietekmes novērtējuma ziņojumam (anotācijai)
A4: Informācija par maksas pakalpojumu cenu un plānoto ieņēmumu izmaiņām
A7: Nr.p.k. | B7: Pakalpojuma veids | C7: Mērvienība | D7: Spēkā esošais cenrādis | I7: Precizētais cenrādis | N7: Izmaiņas, euro | P7: Paskaidrojums par cenu izmaiņām
D8: Cena bez PVN (euro) | E8: PVN (euro) | F8: Cena ar PVN (euro) | G8: Plānotais skaits gadā | H8: Plānotie ieņēmumi kopā ar PVN (euro) | I8: Cena bez PVN (euro) | J8: PVN (euro) | K8: Cena ar PVN (euro) | L8: Plānotais skaits gadā | M8: Plānotie ieņēmumi kopā ar PVN (euro) | N8: Cena ar PVN | O8: Plānotie ieņēmumi kopā ar PVN
N9: 14 = (11-6) | O9: 15=(13-8)
A10: 1 | B10: 2 | C10: 3 | D10: 4 | E10: 5 | F10: 6 | G10: 7 | H10: 8 | I10: 9 | J10: 10 | K10: 11 | L10: 12 | M10: 13 | N10: 14 | O10: 15 | P10: 16
A11: 1 | B11: Gaisa kuģa AB206B izmantošana (lidojumiem) publiskos pasākumos, kurus organizē privātpersona | C11: stunda | D11: 317.94 | E11: 66.77 | F11: =D11+E11 -> 384.71 | G11: 4 | H11: =G11*F11 -> 1538.84 | I11: ='4pielik'!C8 -> 308 | J11: ='4pielik'!D8 -> 64.68 | K11: =I11+J11 -> 372.68 | L11: 4 | M11: =L11*K11 -> 1490.72 | N11: =K11-F11 -> -12.03 | O11: =M11-H11 -> -48.12 | P11: 2024.gadā 14.decembrī Ministru kabinets atbalstīja grozījumus noteikumos par Iekšlietu ministrijas sistēmas iestāžu un Ieslodzījuma vietu pārvaldes amatpersonu ar speciālajām dienesta pakāpēm mēnešalgu un speciālo piemaksu noteikšanas kārtību un to apmēru, ar kuriem Iekšlietu ministrijas sistēmas iestāžu amatpersonām ar speciālajām dienesta pakāpēm paredzēta jauna speciālā piemaksa - piemaksa par noteiktu funkciju un uzdevumu izpildi, kā arī pārskatīta amatpersonu mēnešalgu skala, paaugstinot attiecīgajām mēnešalgu grupām noteiktos mēnešalgu minimālos un maksimālos apmērus. Samazinājums sakarā ar aviācijas degvielas cenu samazināšanos.
A12: 2 | B12: Gaisa kuģa AW119MKII izmantošana (lidojumiem) publiskos pasākumos, kurus organizē privātpersona | C12: stunda | D12: 597.92 | E12: 125.56 | F12: =D12+E12 -> 723.48 | G12: 11 | H12: =G12*F12 -> 7958.28 | I12: ='4pielik'!C9 -> 564.64 | J12: ='4pielik'!D9 -> 118.57 | K12: =I12+J12 -> 683.21 | L12: 11 | M12: =L12*K12 -> 7515.31 | N12: =K12-F12 -> -40.27 | O12: =M12-H12 -> -442.97
A13: 3 | B13: Gaisa kuģa AB206B izmantošana (gaidīšana starp lidojumiem uz zemes) publiskos pasākumos, kurus organizē privātpersona | C13: stunda | D13: 130.74 | E13: 27.46 | F13: =D13+E13 -> 158.2 | G13: 4 | H13: =G13*F13 -> 632.8 | I13: ='4pielik'!C10 -> 141.94 | J13: ='4pielik'!D10 -> 29.81 | K13: =I13+J13 -> 171.75 | L13: 4 | M13: =L13*K13 -> 687 | N13: =K13-F13 -> 13.55 | O13: =M13-H13 -> 54.2 | P13: 2024.gadā 14.decembrī Ministru kabinets atbalstīja grozījumus noteikumos par Iekšlietu ministrijas sistēmas iestāžu un Ieslodzījuma vietu pārvaldes amatpersonu ar speciālajām dienesta pakāpēm mēnešalgu un speciālo piemaksu noteikšanas kārtību un to apmēru, ar kuriem Iekšlietu ministrijas sistēmas iestāžu amatpersonām ar speciālajām dienesta pakāpēm paredzēta jauna speciālā piemaksa - piemaksa par noteiktu funkciju un uzdevumu izpildi, kā arī pārskatīta amatpersonu mēnešalgu skala, paaugstinot attiecīgajām mēnešalgu grupām noteiktos mēnešalgu minimālos un maksimālos apmērus.
A14: 4 | B14: Gaisa kuģa AW119MKII izmantošana (gaidīšana starp lidojumiem uz zemes) publiskos pasākumos, kurus organizē privātpersona | C14: stunda | D14: 286.13 | E14: 60.09 | F14: =D14+E14 -> 346.22 | G14: 44 | H14: =G14*F14 -> 15233.68 | I14: ='4pielik'!C11 -> 298.55 | J14: ='4pielik'!D11 -> 62.7 | K14: =I14+J14 -> 361.25 | L14: 44 | M14: =L14*K14 -> 15895 | N14: =K14-F14 -> 15.03 | O14: =M14-H14 -> 661.32
A15: 5 | B15: Dokumentu tehniskā ekspertīze | C15: stunda | D15: 34.85 | E15: 0 | F15: =D15+E15 -> 34.85 | G15: 1 | H15: =G15*F15 -> 34.85 | I15: ='4pielik'!$C$12 -> 47.024089 | J15: ='4pielik'!$D$12 -> 0 | K15: =I15+J15 -> 47.024089 | L15: 1 | M15: =L15*K15 -> 47.024089 | N15: =K15-F15 -> 12.174089 | O15: =M15-H15 -> 12.174089
B16: Kopā | H16: =SUM(H11:H15) -> 25398.45 | M16: =SUM(M11:M15) -> 25635.054 | O16: =SUM(O11:O15) -> 236.60409
B24: Ivanova 67075674
B25: jelena.ivanova@rs.gov.lv

Sheet 2pielik
D1: 2. pielikums
H2: Ministru kabineta noteikumu “Grozījumi Ministru kabineta 2021. gada 24. augusta noteikumos Nr. 572 "Valsts robežsardzes maksas pakalpojuma cenrādis" projekta sākotnējās ietekmes novērtējuma ziņojumam (anotācijai)
A4: Maksas pakalpojumu izcenojuma aprēķins
A6: 1. Gaisa kuģa AB206B izmantošana (lidojumiem)(** un ***) - iesaistīšana publiskos pasākumos, kurus organizē privātpersona
A8: Maksas pakalpojuma mērvienība – viena stunda
A10: EKK kods | B10: Rādītājs (materiāla/izejvielas nosaukums, atlīdzība un citi izmaksu veidi) | C10: Izmaksu apjoms gadā viena maksas pakalpojuma veida nodrošināšanai
A11: 1 | B11: 2 | C11: 3
A12: Tiešās izmaksas
A13: 1000 | B13: Atlīdzība (pilotiem) | M13: =M14+M27 -> 142.56
A14: 1100 | B14: Atalgojums | M14: =ROUND(M15+M18,2) -> 115.35
C15: Ieņemamais amats | I15: Mēnešalga | K15: Patērētais laiks (h) | M15: =M16+M17 -> 0
A16: 1116 | B16: Mēnešalga amatpersonām ar speciālajām dienesta pakāpēm | C16: 1.pilots - Helikoptera pilots (22.1 saime, IIIB. līmenis 14. mēnešalgas grupa) mēnešalga /166,92 h × patērētais laiks | K16: 1 | M16: =ROUND(I16/166.92*K16,2) -> 0
A17: 1116 | B17: Mēnešalga amatpersonām ar speciālajām dienesta pakāpēm | C17: 2.pilots - Helikoptera jaunākais pilots (22.1 saime, IIB. līmenis 13. mēnešalgas grupa) mēnešalga /166,92 h × patērētais laiks | K17: 1 | M17: =ROUND(I17/166.92*K17,2) -> 0
C18: Piemaksas | I18: Piemaksa mēnesī | K18: Patērētais laiks (h) | M18: =SUM(M19:N26) -> 115.35
A19: 1142 | B19: Samaksa par virsstundu darbu un darbu svētku dienās | C19: 1.pilots - Helikoptera pilots (22.1 saime, IIIB. līmenis 14. mēnešalgas grupa) – EUR 2610 / 165,5 h x 2 (vidējā mēnešalga/vidējais darba stundu skaits mēnesī x piemaksa par virsstundu darbu (100%)) | I19: =ROUND(2610/165.5*2,2) -> 31.54 | K19: 1 | M19: =I19*K19 -> 31.54
A20: 1142 | B20: Samaksa par virsstundu darbu un darbu svētku dienās | C20: 2.pilots - Helikoptera jaunākais pilots (22.1 saime, IIB. līmenis 13. mēnešalgas grupa) – EUR 2410/165,5 x 2 (vidējā mēnešalga/vidējais darba stundu skaits mēnesī x piemaksa par virsstundu darbu (100%)) | I20: =ROUND(2410/165.5*2,2) -> 29.12 | K20: 1 | M20: =I20*K20 -> 29.12
A21: 1143 | B21: Piemaksas par speciālo dienesta pakāpi un diplomātisko rangu | C21: majors, piemaksa /165,5 h × patērētais laiks | I21: 106 | K21: 1 | M21: =ROUND(I21/165.5*K21,2) -> 0.64
A22: 1143 | B22: Piemaksas par speciālo dienesta pakāpi un diplomātisko rangu | C22: virsleitnants, piemaksa /165,5 h × patērētais laiks | I22: 71 | K22: 1 | M22: =ROUND(I22/165.5*K22,2) -> 0.43
A23: 1145 | B23: Piemaksa par darbu īpašos apstākļos, speciālās piemaksas | C23: piemaksa par noteiktu funkciju un uzdevumu izpildi, 300 euro / 165,5 h x patērētais laiks | I23: 300 | K23: 1 | M23: =ROUND(I23/165.5*K23,2) -> 1.81
A24: 1145 | B24: Piemaksa par darbu īpašos apstākļos, speciālās piemaksas | C24: piemaksa par noteiktu funkciju un uzdevumu izpildi, 300 euro / 165,5 h x patērētais laiks | I24: 300 | K24: 1 | M24: =ROUND(I24/165.5*K24,2) -> 1.81
A25: 1145 | B25: Piemaksa par darbu īpašos apstākļos, speciālās piemaksas | C25: piemaksa gaisa kuģa apkalpes loceklim × patērētais laiks | I25: 25 | K25: 1 | M25: =I25 -> 25 | O25: pilnā apmērā, jo 25 EUR par lidojuma stundu
A26: 1145 | B26: Piemaksa par darbu īpašos apstākļos, speciālās piemaksas | C26: piemaksa gaisa kuģa apkalpes loceklim × patērētais laiks | I26: 25 | K26: 1 | M26: =I26 -> 25 | O26: pilnā apmērā, jo 25 EUR par lidojuma stundu
A27: 1200 | B27: Darba devēja valsts sociālās apdrošināšanas obligātās iemaksas, pabalsti un kompensācijas | M27: =ROUND(M28,2) -> 27.21
A28: 1210 | B28: Darba devēja valsts sociālās apdrošināšanas obligātās iemaksas (23,59 % no 1100 un 1221 EKK) | M28: =ROUND(M14*0.2359,2) -> 27.21
A29: 2000 | B29: Preces un pakalpojumi | M29: =ROUND(M30+M47,2) -> 104.73
A30: 2300 | B30: Krājumi, materiāli, energoresursi, preces, biroja preces un inventārs, kurus neuzskaita kodā 5000 | M30: =SUM(M32:N46) -> 93.978
C31: Nosaukums | I31: Izlietots stundā | J31: Cena (euro) | K31: Patērētais laiks (h)
A32: 2322 | B32: Degviela | C32: aviācijas degviela JET A1 89 kg | I32: 89 | J32: 0.982 | K32: 1 | M32: =I32*J32 -> 87.398 | O32: =120 -> 120 | P32: 0.8 | Q32: =O32*P32 -> 96
A33: 2329 | B33: Pārējie enerģētiskie materiāli | C33: smērvielas 7% no patērētas degvielas | I33: 0.07 | K33: 1 | M33: =ROUND(M32*I33,2) -> 6.12
A34: 2364 | B34: Formas tērpi un speciālais apģērbs (Speciālais apģērbs pilotiem) | C34: Nosaukums | H34: Normas, gadi | I34: Vērtība | K34: Patērētais laiks (h)
C35: Pilota krekls (2 gab.) | H35: 1 | I35: 33.55 | K35: 1 | M35: =ROUND(I35*2/H35/365/24*2,2) -> 0.02
C36: Pilota tērps (virsjaka un bikses) ar laiviņcepuri (2 gab.) | H36: 4 | I36: 350.9 | K36: 1 | M36: =ROUND(I36*2/H36/365/24*2,2) -> 0.04
C37: Kombinezons ar laiviņcepuri (2 gab.) | H37: 4 | I37: 1057.16 | K37: 1 | M37: =ROUND(I37*2/H37/365/24*2,2) -> 0.12
C38: Lidotāju puszābaki (vasaras) | H38: 3 | I38: 112.05 | K38: 1 | M38: =ROUND(I38/H38/365/24*2,2) -> 0.01
C39: Lidotāju puszābaki (ziemas) | H39: 3 | I39: 159.72 | K39: 1 | M39: =ROUND(I39/H39/365/24*2,2) -> 0.01
C40: Pilota cimdi (vasaras) (2 pāri) | H40: 2 | I40: 38.72 | K40: 1 | M40: =ROUND(I40/H40/365/24*2,2) -> 0
C41: Ziemas virsjaka (ādas) | H41: 5 | I41: 907.5 | K41: 1 | M41: =ROUND(I41/H41/365/24*2,2) -> 0.04
C42: Ziemas virsjaka (īsā) | H42: 4 | I42: 249.96 | K42: 1 | M42: =ROUND(I42/H42/365/24*2,2) -> 0.01
C43: Ziemas cepure | H43: 2 | I43: 16 | K43: 1 | M43: =ROUND(I43/H43/365/24*2,2) -> 0
C44: Apakšveļa 1. slānis (2 kompl.) | H44: 1 | I44: 89.74 | K44: 1 | M44: =ROUND(I44/H44/365/24*2,2) -> 0.02
C45: Kombinezons lidojumiem virs jūras (flight suit set) | H45: 4 | I45: 3261.98 | K45: 1 | M45: =ROUND(I45/H45/365/24*2,2) -> 0.19
C46: Pilotu soma organizators | H46: 6 | I46: 107.97 | K46: 1 | M46: =ROUND(I46/H46/365/24*2,2) -> 0
A47: 5000 | B47: Pamatkapitāla veidošana | M47: =SUM(M49:N54) -> 10.75
C48: Nosaukums | E48: Amortizācija % | G48: Skaits | I48: Vērtība | K48: Patērētais laiks (h)
A49: 5239 | B49: Pārējie iepriekš neklasificētie pamatlīdzekļi un ieguldījuma īpašumi | C49: Aizsargcepure (ķivere) ar radioaustiņām un mikrofonu | E49: 10 | G49: 1 | I49: 3360.17 | K49: 1 | M49: 7.67 | V49: 15 gadi
C50: Speciāla apakšveļa kombinezonam lidojumiem virs jūras (flight suit set) | E50: 10 | G50: 1 | I50: 507.84 | K50: 1 | M50: 1.16 | V50: mēn
C51: Ceļgala planšete | E51: 10 | G51: 1 | I51: 317.02 | K51: 1 | M51: 0.72 | V51: 15 gadi
C52: Helikoptera apkalpes glābšanas veste | E52: 10 | G52: 1 | I52: 525.14 | K52: 1 | M52: 1.2 | V52: mēn
A53: 5231 | B53: Transportlīdzekļi | C53: Helikoptera amortizacija (vērtība 0 euro / 15 gadi / 365 dienas/ 24 stundas | E53: 0 | G53: 1 | I53: 361265.96 | K53: 1 | M53: =ROUND(I53*E53/100/12/165.5*K53,2) -> 0 | O53: 6628.38 | P53: 308651 | Q53: 206 | S53: 4762827.7 | T53: 119 | V53: 180
C54: vērtība × amort.%/12 mēneši /165,5 h × patērētais laiks | P54: 413878.99 | Q54: 206 | R54: =SUM(P53:P54)/2 -> 361264.99 | S54: 4568501.7 | T54: 119 | U54: =SUM(S53:S54)/2 -> 4665664.7 | V54: 6,67 | W54: gadā
A55: Tiešās izmaksas kopā: | M55: =M13+M29+M47 -> 258.04
A57: Netiešās izmaksas
A58: 1000 | B58: Atlīdzība (tehniskajam personālam - Aviācijas inženiertehniskais dienests) | M58: =M59+M81 -> 9.1
A59: 1100 | B59: Atalgojums | M59: =ROUND(M60+M67+M72+M77,2) -> 7.36
A60: 1116 | B60: Mēnešalga amatpersonām ar speciālajām dienesta pakāpēm | C60: Ieņemamais amats | I60: Mēnešalga | K60: Patērētais laiks (h) | M60: =M61+M63+M65 -> 3.09
C61: gaisa kuģa tehniskās apkopes inženieris (mehāniķis) (22.2 saime, IIIB. līmenis 15. mēnešalgas grupa) | I61: 2875 | K61: 0.033 | M61: =ROUND(I61/165.5*K61,2) -> 0.57 | O61: =I61/166.92*K61 -> 0.56838605
C62: mēnešalga /165,5 h × patērētais laiks | M62: =ROUND(I62/167*K62,2) -> 0
C63: gaisa kuģa tehniskās apkopes inženieris (avioniķis) (22.2 saime, IIIA. līmenis 15. mēnešalgas grupa) | I63: 2845 | K63: 0.083 | M63: =ROUND(I63/165.5*K63,2) -> 1.43
C64: mēnešalga /165,5 h × patērētais laiks | M64: =ROUND(I64/167*K64,2) -> 0
C65: gaisa kuģa tehniskās apkopes mehāniķis (22.2 saime, IIA. līmenis 13. mēnešalgas grupa) | I65: 2175 | K65: 0.083 | M65: =ROUND(I65/165.5*K65,2) -> 1.09
C66: mēnešalga /165,5 h × patērētais laiks | M66: =ROUND(I66/167*K66,2) -> 0
A67: 1119 | B67: Pārējo darbinieku mēnešalga (darba alga) | C67: Ieņemamais amats | I67: Mēnešalga | K67: Patērētais laiks (h) | M67: =M68+M70 -> 4.02
C68: vecākais speciālists (gaisa kuģu tehniskās apkopes organizācijas vadītājs) (46.3 saime, III. Līmenis 9. mēnešalgas grupa) | I68: 1990 | K68: 0.33 | M68: =ROUND(I68/165.5*K68,2) -> 3.97
C69: mēnešalga/165,5 h x patērētais laiks | M69: =ROUND(I69/167*K69,2) -> 0
C70: speciālists (gaisa kuģu virszemes apkalpošanas un tehniskās apkopes jomā) (46.3 saime, I. līmenis 4. mēnešalgas grupa) | I70: 755 | K70: 0.01 | M70: =ROUND(I70/165.5*K70,2) -> 0.05
C71: mēnešalga/165,5 h x patērētais laiks | M71: =ROUND(I71/167*K71,2) -> 0
A72: 1143 | B72: Piemaksas par speciālo dienesta pakāpi un diplomātisko rangu | C72: Speciālā dienesta pakāpe | I72: Piemaksa mēnesī | K72: Patērētais laiks (h) | M72: =M73+M75 -> 0.1
C73: Majors | I73: 106 | K73: 0.033 | M73: =ROUND(I73/165.5*K73,2) -> 0.02
C74: piemaksas /165,5 h × patērētais laiks | M74: =ROUND(I74/167*K74,2) -> 0
C75: Kapteinis (2.cilv.) | I75: =78*2 -> 156 | K75: 0.083 | M75: =ROUND(I75/165.5*K75,2) -> 0.08
C76: piemaksas /165,5 h × patērētais laiks | M76: =ROUND(I76/167*K76,2) -> 0
A77: 1145 | B77: Piemaksa par darbu īpašos apstākļos, speciālās piemaksas | C77: Piemaksa par noteiktu funkciju un uzdevumu izpildi | I77: Piemaksa mēnesī | K77: Patērētais laiks (h) | M77: =N78+N80+M79 -> 0.15
C78: piemaksa par noteiktu funkciju un uzdevumu izpildi, 300 euro / 165,5 h x patērētais laiks | I78: 300 | K78: 0.033 | M78: =ROUND(I78/165.5*K78,2) -> 0.06
C79: piemaksa par noteiktu funkciju un uzdevumu izpildi, 300 euro / 165,5 h x patērētais laiks | I79: 300 | K79: 0.083 | M79: =ROUND(I79/165.5*K79,2) -> 0.15
C80: piemaksa par noteiktu funkciju un uzdevumu izpildi, 300 euro / 165,5 h x patērētais laiks | I80: 300 | K80: 0.083 | M80: =ROUND(I80/165.5*K80,2) -> 0.15
A81: 1200 | B81: Darba devēja valsts sociālās apdrošināšanas obligātās iemaksas, pabalsti un kompensācijas | M81: =ROUND(M82,2) -> 1.74
A82: 1210 | B82: Darba devēja valsts sociālās apdrošināšanas obligātās iemaksas (23,59 % no 1100 un 1221 EKK) | M82: =ROUND(M59*0.2359,2) -> 1.74
A83: 2000 | B83: Preces un pakalpojumi | M83: =ROUND(M84+M95,2) -> 40.86
A84: 2200 | B84: Pakalpojumi | M84: =SUM(M86:N94) -> 40.67
A85: 2220 | B85: Izdevumi par komunālajiem pakalpojumiem | C85: Nosaukums | I85: Vērtība | K85: Patērētais laiks (h) | O85: 2023.gadā izdevumi | P85: 365dienas/24stundas
C86: Kurjerpasta pakalpojumi rezerves daļu iegādei | I86: =P86 -> 4.59 | K86: 1 | M86: =I86*K86 -> 4.59 | O86: 40170.91 | P86: =ROUND(O86/365/24,2) -> 4.59
C87: Patērētas marķētās dīzeļdegvielas (angāra apkures izmaksas 735,4 m2) . 2023.gadā tika norakstīta marķētā dīzeļdegviela par kopējo summu 44992,88 EUR ar PVN. KOPĀ pārvalde ir 2578,9 m2, tātad 1 m2=17,45 euro x 708,85 m2=12 369,43 EUR / gadā/365dienas/24 stundas=1,41 EUR/stunda | I87: 1.41 | K87: 1 | M87: =I87*K87 -> 1.41 | O87: Angara uzturēšana ?
A88: 2235 | B88: Izdevumi par saņemtajiem mācību pakalpojumiem | C88: Kvalifikācijas uzturēšanas celšanas izmaksas pilotiem | I88: =P88 -> 33.41 | K88: 1 | M88: =I88*K88 -> 33.41 | O88: 292695.89 | P88: =ROUND(O88/365/24,2) -> 33.41
A89: 2234 | B89: Normatīvajos aktos noteiktie darba devēja veselības izdevumi darba ņēmējiem | C89: Ikgadējā medicīniskā komisija SIA “AVIAMED” pilotiem | I89: =P89 -> 1 | K89: 1 | M89: =I89*K89 -> 1 | O89: 8720 | P89: =ROUND(O89/365/24,2) -> 1
A90: 2247 | B90: Apdrošināšanas izdevumi | C90: Helikoptera OCTA un apkalpes locekļu, pasažieru vietas apdrošināšanas izmaksas nelaimes gadījumiem | I90: =P90 -> 0.23 | K90: 1 | M90: =I90*K90 -> 0.23 | O90: =1250+1550/2 -> 2025 | P90: =ROUND(O90/365/24,2) -> 0.23 | R90: 2920 | S90: helio 119
A91: 2239 | B91: Pārējie neklasificētie pakalpojumi | C91: Apsargājamas stāvvietas helikopteram nodrošināšanu un citus pakalpojumus saistītus ar lidlauka infrastruktūras izmantošanu (Maksimāla cena lidostas pakalpojumiem par vienu lidostas izmantošanas reizi – 250,00 EUR un par pakalpojumiem 12 % (250 euro + (250 euro * 12%) * 1.21=286.30 EUR (nodrošina pasūtītājs )* | M91: =I91*K91 -> 0 | O91: =250*1.12 -> 280 | P91: =ROUND(O91/365/24,2) -> 0.03
C92: Lidostas un aeronavigācijas pakalpojumi (nodrošina pasūtītājs)* | M92: =I92*K92 -> 0 | O92: 369.2 | P92: =ROUND(O92/365/24,2) -> 0.04
C93: Valsts aģentūra “Civilās aviācijas aģentūra” pakalpojumi | I93: =P93 -> 0.01 | K93: 1 | M93: =I93*K93 -> 0.01 | O93: 130 | P93: =ROUND(O93/365/24,2) -> 0.01
C94: Gaisa kuģu tehniskās apkopes dokumentācijas abonēšanu uz 1 gadu | I94: =P94 -> 0.02 | K94: 1 | M94: =I94*K94 -> 0.02 | O94: =239.47*1.21/2 -> 144.87935 | P94: =ROUND(O94/365/24,2) -> 0.02
A95: 2300 | B95: Krājumi, materiāli, energoresursi, preces, biroja preces un inventārs, kurus neuzskaita kodā 5000 | M95: =SUM(M97:N113) -> 0.19
A96: 2364 | B96: Formas tērpi un speciālais apģērbs (Speciālais apģērbs helikoptera mehāniķiem) | C96: Nosaukums | H96: Normas, gadi | I96: Vērtība | K96: Patērētais laiks (h)
C97: Polo T-krekls | H97: 1 | I97: 50.07 | K97: 1 | M97: =ROUND(I97/H97/365/24*3,2) -> 0.02
C98: T-krekls ar garām piedurknēm | H98: 1 | I98: 20.24 | K98: 1 | M98: =ROUND(I98/H98/365/24*3,2) -> 0.01
C99: T-krekls ar īsām piedurknēm | H99: 1 | I99: 17.26 | K99: 1 | M99: =ROUND(I99/H99/365/24*3,2) -> 0.01
C100: Termoapakšveļa (krekls un bikses) | H100: 2 | I100: =39.77+39.77 -> 79.54 | K100: 1 | M100: =ROUND(I100/H100/365/24*3,2) -> 0.01
C101: Flīsa jaka | H101: 4 | I101: 93.75 | K101: 1 | M101: =ROUND(I101/H101/365/24*3,2) -> 0.01
C102: Darba bikses (2 gab.) | H102: 2 | I102: 111 | K102: 1 | M102: =ROUND(I102/H102/365/24*2*3,2) -> 0.04
C103: Cepure (vasaras) (2 gab.) | H103: 5 | I103: 28.31 | K103: 1 | M103: =ROUND(I103/H103/365/24*2*3,2) -> 0
C104: Cepure (ziemas) | H104: 3 | I104: 42 | K104: 1 | M104: =ROUND(I104/H104/365/24*3,2) -> 0
C105: Atstarojošā veste | H105: 4 | I105: 68.25 | K105: 1 | M105: =ROUND(I105/H105/365/24*3,2) -> 0.01
...

Sheet 3pielik
H1: 3. pielikums
H2: Ministru kabineta noteikumu “Grozījumi Ministru kabineta 2021. gada 24. augusta noteikumos Nr. 572 "Valsts robežsardzes maksas pakalpojuma cenrādis" projekta sākotnējās ietekmes novērtējuma ziņojumam (anotācijai)
F4: Maksas pakalpojumu izcenojuma aprēķina kopsavilkums
A7: Nr. p.k. | B7: Pakalpojuma veids | C7: Tiešās izmaksas | G7: Netiešās izmaksas
C8: Atalgojums (euro) | D8: Darba devēja valsts sociālās apdrošināšanas obligātās iemaksas (euro) | E8: Preces un pakalpojumi (euro) | F8: Pamatkapitāla veidošana (euro) | G8: Atalgojums (euro) | H8: Darba devēja valsts sociālās apdrošināšanas obligātās iemaksas (euro) | I8: Preces un pakalpojumi (euro) | J8: Pamatkapitāla veidošana (euro) | K8: Vienas vienības cena bez PVN (euro) | L8: PVN (euro) | M8: Vienas vienības cena ar PVN (euro)
C9: EKK 1100 | D9: EKK 1200 | E9: EKK 2000 | F9: EKK 5000 | G9: EKK 1100 | H9: EKK 1200 | I9: EKK 2000 | J9: EKK 5000 | K9: (EUR) | L9: (EUR) | M9: (EUR)
A10: 1 | B10: 2 | C10: 3 | D10: 4 | E10: 5 | F10: 6 | G10: 7 | H10: 8 | I10: 9 | J10: 10 | K10: 11 | L10: 12 | M10: 13
A11: 1 | B11: Gaisa kuģa AB206B izmantošana (lidojumiem) publiskos pasākumos, kurus organizē privātpersona | C11: ='2pielik'!$M$14 -> 115.35 | D11: ='2pielik'!$M$27 -> 27.21 | E11: ='2pielik'!$M$29 -> 104.73 | F11: ='2pielik'!$M$47 -> 10.75 | G11: ='2pielik'!$M$59 -> 7.36 | H11: ='2pielik'!$M$81 -> 1.74 | I11: ='2pielik'!$M$83 -> 40.86 | J11: ='2pielik'!$M$115 -> 0 | K11: =SUM(C11:J11) -> 308 | L11: =ROUND(K11*0.21,2) -> 64.68 | M11: =K11+L11 -> 372.68
A12: 2 | B12: Gaisa kuģa AW119MKII izmantošana (lidojumiem) publiskos pasākumos, kurus organizē privātpersona | C12: ='2pielik'!$M$131 -> 115.35 | D12: ='2pielik'!$M$144 -> 27.21 | E12: ='2pielik'!$M$146 -> 204.31 | F12: ='2pielik'!$M$164 -> 167.45 | G12: ='2pielik'!$M$176 -> 7.57 | H12: ='2pielik'!$M$198 -> 1.79 | I12: ='2pielik'!$M$200 -> 40.96 | J12: ='2pielik'!$M$232 -> 0 | K12: =SUM(C12:J12) -> 564.64 | L12: =ROUND(K12*0.21,2) -> 118.57 | M12: =K12+L12 -> 683.21
A13: 3 | B13: Gaisa kuģa AB206B izmantošana (gaidīšana starp lidojumiem uz zemes) publiskos pasākumos, kurus organizē privātpersona | C13: ='2pielik'!$M$248 -> 65.35 | D13: ='2pielik'!$M$259 -> 15.42 | E13: ='2pielik'!$M$261 -> 0.46 | F13: ='2pielik'!$M$279 -> 10.75 | G13: ='2pielik'!$M$291 -> 7.36 | H13: ='2pielik'!$M$313 -> 1.74 | I13: ='2pielik'!$M$315 -> 40.86 | J13: ='2pielik'!$M$346 -> 0 | K13: =SUM(C13:J13) -> 141.94 | L13: =ROUND(K13*0.21,2) -> 29.81 | M13: =K13+L13 -> 171.75
A14: 4 | B14: Gaisa kuģa AW119MKII izmantošana (gaidīšana starp lidojumiem uz zemes) publiskos pasākumos, kurus organizē privātpersona | C14: ='2pielik'!$M$363 -> 65.35 | D14: ='2pielik'!$M$374 -> 15.42 | E14: ='2pielik'!$M$376 -> 0.46 | F14: ='2pielik'!$M$394 -> 167.45 | G14: ='2pielik'!$M$406 -> 7.21 | H14: ='2pielik'!$M$428 -> 1.7 | I14: ='2pielik'!$M$430 -> 40.96 | J14: ='2pielik'!$M$461 -> 0 | K14: =SUM(C14:J14) -> 298.55 | L14: =ROUND(K14*0.21,2) -> 62.7 | M14: =K14+L14 -> 361.25
A15: 5 | B15: Dokumentu tehniskā ekspertīzea | C15: ='2pielik'!$M$480 -> 22.21 | D15: ='2pielik'!$M$486 -> 5.24 | E15: ='2pielik'!$M$488 -> 2.6440886 | F15: ='2pielik'!$M$494 -> 13.68 | G15: ='2pielik'!$M$505 -> 2.24 | H15: ='2pielik'!$M$514 -> 0.53 | I15: ='2pielik'!$M$517 -> 0.48 | J15: ='2pielik'!$M$521 -> 0 | K15: =SUM(C15:J15) -> 47.024089 | L15: 0 | M15: =K15+'4pielik'!D12 -> 47.024089
B23: Ivanova 67075674
B24: jelena.ivanova@rs.gov.lv

Sheet 4pielik
J1: 4. pielikums
F2: Ministru kabineta noteikumu “Grozījumi Ministru kabineta 2021. gada 24. augusta noteikumos Nr. 572 "Valsts robežsardzes maksas pakalpojuma cenrādis" projekta sākotnējās ietekmes novērtējuma ziņojumam (anotācijai)
A3: Ieņēmumu prognoze no maksas pakalpojumiem
A5: Nr. p.k. | B5: Pakalpojuma veids | C5: Vienas vienības cena (EUR) | F5: Prognozētais | H5: Prognozētie ieņēmumi (EUR)
C6: bez PVN | D6: PVN | E6: ar PVN | F6: apjoms | G6: mērvienība | H6: 2025 | I6: 2026 | J6: 2027
A7: 1 | B7: 2 | C7: 3 | D7: 4 | E7: 5 | F7: 6 | G7: 7 | H7: 8 | I7: 9 | J7: 10
A8: 1 | B8: Gaisa kuģa AB206B izmantošana (lidojumiem) publiskos pasākumos, kurus organizē privātpersona | C8: ='3pielik'!K11 -> 308 | D8: =ROUND(C8*0.21,2) -> 64.68 | E8: =SUM(C8:D8) -> 372.68 | F8: 4 | G8: stunda | H8: =F8*E8 -> 1490.72 | I8: =F8*E8 -> 1490.72 | J8: =I8 -> 1490.72
A9: 2 | B9: Gaisa kuģa AW119MKII izmantošana (lidojumiem) publiskos pasākumos, kurus organizē privātpersona | C9: ='3pielik'!K12 -> 564.64 | D9: =ROUND(C9*0.21,2) -> 118.57 | E9: =SUM(C9:D9) -> 683.21 | F9: 11 | G9: stunda | H9: =F9*E9 -> 7515.31 | I9: =F9*E9 -> 7515.31 | J9: =I9 -> 7515.31
A10: 3 | B10: Gaisa kuģa AB206B izmantošana (gaidīšana starp lidojumiem uz zemes) publiskos pasākumos, kurus organizē privātpersona | C10: ='3pielik'!K13 -> 141.94 | D10: =ROUND(C10*0.21,2) -> 29.81 | E10: =SUM(C10:D10) -> 171.75 | F10: 4 | G10: stunda | H10: =F10*E10 -> 687 | I10: =F10*E10 -> 687 | J10: =I10 -> 687
A11: 4 | B11: Gaisa kuģa AW119MKII izmantošana (gaidīšana starp lidojumiem uz zemes) publiskos pasākumos, kurus organizē privātpersona | C11: ='3pielik'!K14 -> 298.55 | D11: =ROUND(C11*0.21,2) -> 62.7 | E11: =SUM(C11:D11) -> 361.25 | F11: 44 | G11: stunda | H11: =F11*E11 -> 15895 | I11: =F11*E11 -> 15895 | J11: =I11 -> 15895
A12: 5 | B12: Dokumentu tehniskā ekspertīzea | C12: ='3pielik'!$K$15 -> 47.024089 | D12: ='3pielik'!$L$15 -> 0 | E12: =SUM(C12:D12) -> 47.024089 | F12: 1 | G12: stunda | H12: =F12*E12 -> 47.024089 | I12: =F12*E12 -> 47.024089 | J12: =I12 -> 47.024089
B13: Kopā | H13: =SUM(H8:H12) -> 25635.054 | I13: =SUM(I8:I12) -> 25635.054 | J13: =SUM(J8:J12) -> 25635.054
B21: Ivanova 67075674
B22: jelena.ivanova@rs.gov.lv
