Workbook

Sheet 1pielik
I1: 1. pielikums
I2: Ministru kabineta noteikumu “Grozījumi Ministru kabineta 2021. gada 24. augusta noteikumos Nr. 572 "Valsts robežsardzes maksas pakalpojuma cenrādis" projekta sākotnējās ietekmes novērtējuma ziņojumam (anotācijai)
A4: Informācija par maksas pakalpojumu cenu un plānoto ieņēmumu izmaiņām
A7: Nr.p.k. | B7: Pakalpojuma veids | C7: Mērvienība | D7: Spēkā esošais cenrādis | I7: Precizētais cenrādis | N7: Izmaiņas, euro | P7: Paskaidrojums par cenu izmaiņām
D8: Cena bez PVN (euro) | E8: PVN (euro) | F8: Cena ar PVN (euro) | G8: Plānotais skaits gadā | H8: Plānotie ieņēmumi kopā ar PVN (euro) | I8: Cena bez PVN (euro) | J8: PVN (euro) | K8: Cena ar PVN (euro) | L8: Plānotais skaits gadā | M8: Plānotie ieņēmumi kopā ar PVN (euro) | N8: Cena ar PVN | O8: Plānotie ieņēmumi kopā ar PVN
N9: 14 = (11-6) | O9: 15=(13-8)
A10: 1 | B10: 2 | C10: 3 | D10: 4 | E10: 5 | F10: 6 | G10: 7 | H10: 8 | I10: 9 | J10: 10 | K10: 11 | L10: 12 | M10: 13 | N10: 14 | O10: 15 | P10: 16
A11: 1 | B11: Gaisa kuģa AB206B izmantošana (lidojumiem) publiskos pasākumos, kurus organizē privātpersona | C11: stunda | D11: 317.94 | E11: 66.77 | F11: =D11+E11 -> 384.71 | G11: 4 | H11: =G11*F11 -> 1538.84 | I11: ='4pielik'!C8 -> 308 | J11: ='4pielik'!D8 -> 64.68 | K11: =I11+J11 -> 372.68 | L11: 4 | M11: =L11*K11 -> 1490.72 | N11: =K11-F11 -> -12.03 | O11: =M11-H11 -> -48.12 | P11: 2024.gadā 14.decembrī Ministru kabinets atbalstīja grozījumus noteikumos par Iekšlietu ministrijas sistēmas iestāžu un Ieslodzījuma vietu pārvaldes amatpersonu ar speciālajām dienesta pakāpēm mēnešalgu un speciālo piemaksu noteikšanas kārtību un to apmēru, ar kuriem Iekšlietu ministrijas sistēmas iestāžu amatpersonām ar speciālajām dienesta pakāpēm paredzēta jauna speciālā piemaksa - piemaksa par noteiktu funkciju un uzdevumu izpildi, kā arī pārskatīta amatpersonu mēnešalgu skala, paaugstinot attiecīgajām mēnešalgu grupām noteiktos mēnešalgu minimālos un maksimālos apmērus. Samazinājums sakarā ar aviācijas degvielas cenu samazināšanos.
A12: 2 | B12: Gaisa kuģa AW119MKII izmantošana (lidojumiem) publiskos pasākumos, kurus organizē privātpersona | C12: stunda | D12: 597.92 | E12: 125.56 | F12: =D12+E12 -> 723.48 | G12: 11 | H12: =G12*F12 -> 7958.28 | I12: ='4pielik'!C9 -> 564.64 | J12: ='4pielik'!D9 -> 118.57 | K12: =I12+J12 -> 683.21 | L12: 11 | M12: =L12*K12 -> 7515.31 | N12: =K12-F12 -> -40.27 | O12: =M12-H12 -> -442.97
A13: 3 | B13: Gaisa kuģa AB206B izmantošana (gaidīšana starp lidojumiem uz zemes) publiskos pasākumos, kurus organizē privātpersona | C13: stunda | D13: 130.74 | E13: 27.46 | F13: =D13+E13 -> 158.2 | G13: 4 | H13: =G13*F13 -> 632.8 | I13: ='4pielik'!C10 -> 141.94 | J13: ='4pielik'!D10 -> 29.81 | K13: =I13+J13 -> 171.75 | L13: 4 | M13: =L13*K13 -> 687 | N13: =K13-F13 -> 13.55 | O13: =M13-H13 -> 54.2 | P13: 2024.gadā 14.decembrī Ministru kabinets atbalstīja grozījumus noteikumos par Iekšlietu ministrijas sistēmas iestāžu un Ieslodzījuma vietu pārvaldes amatpersonu ar speciālajām dienesta pakāpēm mēnešalgu un speciālo piemaksu noteikšanas kārtību un to apmēru, ar kuriem Iekšlietu ministrijas sistēmas iestāžu amatpersonām ar speciālajām dienesta pakāpēm paredzēta jauna speciālā piemaksa - piemaksa par noteiktu funkciju un uzdevumu izpildi, kā arī pārskatīta amatpersonu mēnešalgu skala, paaugstinot attiecīgajām mēnešalgu grupām noteiktos mēnešalgu minimālos un maksimālos apmērus.
A14: 4 | B14: Gaisa kuģa AW119MKII izmantošana (gaidīšana starp lidojumiem uz zemes) publiskos pasākumos, kurus organizē privātpersona | C14: stunda | D14: 286.13 | E14: 60.09 | F14: =D14+E14 -> 346.22 | G14: 44 | H14: =G14*F14 -> 15233.68 | I14: ='4pielik'!C11 -> 298.55 | J14: ='4pielik'!D11 -> 62.7 | K14: =I14+J14 -> 361.25 | L14: 44 | M14: =L14*K14 -> 15895 | N14: =K14-F14 -> 15.03 | O14: =M14-H14 -> 661.32
A15: 5 | B15: Dokumentu tehniskā ekspertīze | C15: stunda | D15: 34.85 | E15: 0 | F15: =D15+E15 -> 34.85 | G15: 1 | H15: =G15*F15 -> 34.85 | I15: ='4pielik'!$C$12 -> 47.024089 | J15: ='4pielik'!$D$12 -> 0 | K15: =I15+J15 -> 47.024089 | L15: 1 | M15: =L15*K15 -> 47.024089 | N15: =K15-F15 -> 12.174089 | O15: =M15-H15 -> 12.174089
B16: Kopā | H16: =SUM(H11:H15) -> 25398.45 | M16: =SUM(M11:M15) -> 25635.054 | O16: =SUM(O11:O15) -> 236.60409
B24: Ivanova 67075674
B25: jelena.ivanova@rs.gov.lv

Sheet 2pielik
D1: 2. pielikums
H2: Ministru kabineta noteikumu “Grozījumi Ministru kabineta 2021. gada 24. augusta noteikumos Nr. 572 "Valsts robežsardzes maksas pakalpojuma cenrādis" projekta sākotnējās ietekmes novērtējuma ziņojumam (anotācijai)
A4: Maksas pakalpojumu izcenojuma aprēķins
A6: 1. Gaisa kuģa AB206B izmantošana (lidojumiem)(** un ***) - iesaistīšana publiskos pasākumos, kurus organizē privātpersona
A8: Maksas pakalpojuma mērvienība – viena stunda
A10: EKK kods | B10: Rādītājs (materiāla/izejvielas nosaukums, atlīdzība un citi izmaksu veidi) | C10: Izmaksu apjoms gadā viena maksas pakalpojuma veida nodrošināšanai
A11: 1 | B11: 2 | C11: 3
A12: Tiešās izmaksas
A13: 1000 | B13: Atlīdzība (pilotiem) | M13: =M14+M27 -> 142.56
A14: 1100 | B14: Atalgojums | M14: =ROUND(M15+M18,2) -> 115.35
C15: Ieņemamais amats | I15: Mēnešalga | K15: Patērētais laiks (h) | M15: =M16+M17 -> 0
A16: 1116 | B16: Mēnešalga amatpersonām ar speciālajām dienesta pakāpēm | C16: 1.pilots - Helikoptera pilots (22.1 saime, IIIB. līmenis 14. mēnešalgas grupa) mēnešalga /166,92 h × patērētais laiks | K16: 1 | M16: =ROUND(I16/166.92*K16,2) -> 0
A17: 1116 | B17: Mēnešalga amatpersonām ar speciālajām dienesta pakāpēm | C17: 2.pilots - Helikoptera jaunākais pilots (22.1 saime, IIB. līmenis 13. mēnešalgas grupa) mēnešalga /166,92 h × patērētais laiks | K17: 1 | M17: =ROUND(I17/166.92*K17,2) -> 0
C18: Piemaksas | I18: Piemaksa mēnesī | K18: Patērētais laiks (h) | M18: =SUM(M19:N26) -> 115.35
A19: 1142 | B19: Samaksa par virsstundu darbu un darbu svētku dienās | C19: 1.pilots - Helikoptera pilots (22.1 saime, IIIB. līmenis 14. mēnešalgas grupa) – EUR 2610 / 165,5 h x 2 (vidējā mēnešalga/vidējais darba stundu skaits mēnesī x piemaksa par virsstundu darbu (100%)) | I19: =ROUND(2610/165.5*2,2) -> 31.54 | K19: 1 | M19: =I19*K19 -> 31.54
A20: 1142 | B20: Samaksa par virsstundu darbu un darbu svētku dienās | C20: 2.pilots - Helikoptera jaunākais pilots (22.1 saime, IIB. līmenis 13. mēnešalgas grupa) – EUR 2410/165,5 x 2 (vidējā mēnešalga/vidējais darba stundu skaits mēnesī x piemaksa par virsstundu darbu (100%)) | I20: =ROUND(2410/165.5*2,2) -> 29.12 | K20: 1 | M20: =I20*K20 -> 29.12
A21: 1143 | B21: Piemaksas par speciālo dienesta pakāpi un diplomātisko rangu | C21: majors, piemaksa /165,5 h × patērētais laiks | I21: 106 | K21: 1 | M21: =ROUND(I21/165.5*K21,2) -> 0.64
A22: 1143 | B22: Piemaksas par speciālo dienesta pakāpi un diplomātisko rangu | C22: virsleitnants, piemaksa /165,5 h × patērētais laiks | I22: 71 | K22: 1 | M22: =ROUND(I22/165.5*K22,2) -> 0.43
A23: 1145 | B23: Piemaksa par darbu īpašos apstākļos, speciālās piemaksas | C23: piemaksa par noteiktu funkciju un uzdevumu izpildi, 300 euro / 165,5 h x patērētais laiks | I23: 300 | K23: 1 | M23: =ROUND(I23/165.5*K23,2) -> 1.81
A24: 1145 | B24: Piemaksa par darbu īpašos apstākļos, speciālās piemaksas | C24: piemaksa par noteiktu funkciju un uzdevumu izpildi, 300 euro / 165,5 h x patērētais laiks | I24: 300 | K24: 1 | M24: =ROUND(I24/165.5*K24,2) -> 1.81
A25: 1145 | B25: Piemaksa par darbu īpašos apstākļos, speciālās piemaksas | C25: piemaksa gaisa kuģa apkalpes loceklim × patērētais laiks | I25: 25 | K25: 1 | M25: =I25 -> 25 | O25: pilnā apmērā, jo 25 EUR par lidojuma stundu
A26: 1145 | B26: Piemaksa par darbu īpašos apstākļos, speciālās piemaksas | C26: piemaksa gaisa kuģa apkalpes loceklim × patērētais laiks | I26: 25 | K26: 1 | M26: =I26 -> 25 | O26: pilnā apmērā, jo 25 EUR par lidojuma stundu
A27: 1200 | B27: Darba devēja valsts sociālās apdrošināšanas obligātās iemaksas, pabalsti un kompensācijas | M27: =ROUND(M28,2) -> 27.21
A28: 1210 | B28: Darba devēja valsts sociālās apdrošināšanas obligātās iemaksas (23,59 % no 1100 un 1221 EKK) | M28: =ROUND(M14*0.2359,2) -> 27.21
A29: 2000 | B29: Preces un pakalpojumi | M29: =ROUND(M30+M47,2) -> 104.73
A30: 2300 | B30: Krājumi, materiāli, energoresursi, preces, biroja preces un inventārs, kurus neuzskaita kodā 5000 | M30: =SUM(M32:N46) -> 93.978
C31: Nosaukums | I31: Izlietots stundā | J31: Cena (euro) | K31: Patērētais laiks (h)
A32: 2322 | B32: Degviela | C32: aviācijas degviela JET A1 89 kg | I32: 89 | J32: 0.982 | K32: 1 | M32: =I32*J32 -> 87.398 | O32: =120 -> 120 | P32: 0.8 | Q32: =O32*P32 -> 96
A33: 2329 | B33: Pārējie enerģētiskie materiāli | C33: smērvielas 7% no patērētas degvielas | I33: 0.07 | K33: 1 | M33: =ROUND(M32*I33,2) -> 6.12
A34: 2364 | B34: Formas tērpi un speciālais apģērbs (Speciālais apģērbs pilotiem) | C34: Nosaukums | H34: Normas, gadi | I34: Vērtība | K34: Patērētais laiks (h)
C35: Pilota krekls (2 gab.) | H35: 1 | I35: 33.55 | K35: 1 | M35: =ROUND(I35*2/H35/365/24*2,2) -> 0.02
C36: Pilota tērps (virsjaka un bikses) ar laiviņcepuri (2 gab.) | H36: 4 | I36: 350.9 | K36: 1 | M36: =ROUND(I36*2/H36/365/24*2,2) -> 0.04
C37: Kombinezons ar laiviņcepuri (2 gab.) | H37: 4 | I37: 1057.16 | K37: 1 | M37: =ROUND(I37*2/H37/365/24*2,2) -> 0.12
C38: Lidotāju puszābaki (vasaras) | H38: 3 | I38: 112.05 | K38: 1 | M38: =ROUND(I38/H38/365/24*2,2) -> 0.01
C39: Lidotāju puszābaki (ziemas) | H39: 3 | I39: 159.72 | K39: 1 | M39: =ROUND(I39/H39/365/24*2,2) -> 0.01
C40: Pilota cimdi (vasaras) (2 pāri) | H40: 2 | I40: 38.72 | K40: 1 | M40: =ROUND(I40/H40/365/24*2,2) -> 0
C41: Ziemas virsjaka (ādas) | H41: 5 | I41: 907.5 | K41: 1 | M41: =ROUND(I41/H41/365/24*2,2) -> 0.04
C42: Ziemas virsjaka (īsā) | H42: 4 | I42: 249.96 | K42: 1 | M42: =ROUND(I42/H42/365/24*2,2) -> 0.01
C43: Ziemas cepure | H43: 2 | I43: 16 | K43: 1 | M43: =ROUND(I43/H43/365/24*2,2) -> 0
C44: Apakšveļa 1. slānis (2 kompl.) | H44: 1 | I44: 89.74 | K44: 1 | M44: =ROUND(I44/H44/365/24*2,2) -> 0.02
...

Sheet 3pielik
H1: 3. pielikums
H2: Ministru kabineta noteikumu “Grozījumi Ministru kabineta 2021. gada 24. augusta noteikumos Nr. 572 "Valsts robežsardzes maksas pakalpojuma cenrādis" projekta sākotnējās ietekmes novērtējuma ziņojumam (anotācijai)
F4: Maksas pakalpojumu izcenojuma aprēķina kopsavilkums
A7: Nr. p.k. | B7: Pakalpojuma veids | C7: Tiešās izmaksas | G7: Netiešās izmaksas
C8: Atalgojums (euro) | D8: Darba devēja valsts sociālās apdrošināšanas obligātās iemaksas (euro) | E8: Preces un pakalpojumi (euro) | F8: Pamatkapitāla veidošana (euro) | G8: Atalgojums (euro) | H8: Darba devēja valsts sociālās apdrošināšanas obligātās iemaksas (euro) | I8: Preces un pakalpojumi (euro) | J8: Pamatkapitāla veidošana (euro) | K8: Vienas vienības cena bez PVN (euro) | L8: PVN (euro) | M8: Vienas vienības cena ar PVN (euro)
C9: EKK 1100 | D9: EKK 1200 | E9: EKK 2000 | F9: EKK 5000 | G9: EKK 1100 | H9: EKK 1200 | I9: EKK 2000 | J9: EKK 5000 | K9: (EUR) | L9: (EUR) | M9: (EUR)
A10: 1 | B10: 2 | C10: 3 | D10: 4 | E10: 5 | F10: 6 | G10: 7 | H10: 8 | I10: 9 | J10: 10 | K10: 11 | L10: 12 | M10: 13
A11: 1 | B11: Gaisa kuģa AB206B izmantošana (lidojumiem) publiskos pasākumos, kurus organizē privātpersona | C11: ='2pielik'!$M$14 -> 115.35 | D11: ='2pielik'!$M$27 -> 27.21 | E11: ='2pielik'!$M$29 -> 104.73 | F11: ='2pielik'!$M$47 -> 10.75 | G11: ='2pielik'!$M$59 -> 7.36 | H11: ='2pielik'!$M$81 -> 1.74 | I11: ='2pielik'!$M$83 -> 40.86 | J11: ='2pielik'!$M$115 -> 0 | K11: =SUM(C11:J11) -> 308 | L11: =ROUND(K11*0.21,2) -> 64.68 | M11: =K11+L11 -> 372.68
A12: 2 | B12: Gaisa kuģa AW119MKII izmantošana (lidojumiem) publiskos pasākumos, kurus organizē privātpersona | C12: ='2pielik'!$M$131 -> 115.35 | D12: ='2pielik'!$M$144 -> 27.21 | E12: ='2pielik'!$M$146 -> 204.31 | F12: ='2pielik'!$M$164 -> 167.45 | G12: ='2pielik'!$M$176 -> 7.57 | H12: ='2pielik'!$M$198 -> 1.79 | I12: ='2pielik'!$M$200 -> 40.96 | J12: ='2pielik'!$M$232 -> 0 | K12: =SUM(C12:J12) -> 564.64 | L12: =ROUND(K12*0.21,2) -> 118.57 | M12: =K12+L12 -> 683.21
A13: 3 | B13: Gaisa kuģa AB206B izmantošana (gaidīšana starp lidojumiem uz zemes) publiskos pasākumos, kurus organizē privātpersona | C13: ='2pielik'!$M$248 -> 65.35 | D13: ='2pielik'!$M$259 -> 15.42 | E13: ='2pielik'!$M$261 -> 0.46 | F13: ='2pielik'!$M$279 -> 10.75 | G13: ='2pielik'!$M$291 -> 7.36 | H13: ='2pielik'!$M$313 -> 1.74 | I13: ='2pielik'!$M$315 -> 40.86 | J13: ='2pielik'!$M$346 -> 0 | K13: =SUM(C13:J13) -> 141.94 | L13: =ROUND(K13*0.21,2) -> 29.81 | M13: =K13+L13 -> 171.75
A14: 4 | B14: Gaisa kuģa AW119MKII izmantošana (gaidīšana starp lidojumiem uz zemes) publiskos pasākumos, kurus organizē privātpersona | C14: ='2pielik'!$M$363 -> 65.35 | D14: ='2pielik'!$M$374 -> 15.42 | E14: ='2pielik'!$M$376 -> 0.46 | F14: ='2pielik'!$M$394 -> 167.45 | G14: ='2pielik'!$M$406 -> 7.21 | H14: ='2pielik'!$M$428 -> 1.7 | I14: ='2pielik'!$M$430 -> 40.96 | J14: ='2pielik'!$M$461 -> 0 | K14: =SUM(C14:J14) -> 298.55 | L14: =ROUND(K14*0.21,2) -> 62.7 | M14: =K14+L14 -> 361.25
A15: 5 | B15: Dokumentu tehniskā ekspertīzea | C15: ='2pielik'!$M$480 -> 22.21 | D15: ='2pielik'!$M$486 -> 5.24 | E15: ='2pielik'!$M$488 -> 2.6440886 | F15: ='2pielik'!$M$494 -> 13.68 | G15: ='2pielik'!$M$505 -> 2.24 | H15: ='2pielik'!$M$514 -> 0.53 | I15: ='2pielik'!$M$517 -> 0.48 | J15: ='2pielik'!$M$521 -> 0 | K15: =SUM(C15:J15) -> 47.024089 | L15: 0 | M15: =K15+'4pielik'!D12 -> 47.024089
B23: Ivanova 67075674
B24: jelena.ivanova@rs.gov.lv

Sheet 4pielik
J1: 4. pielikums
F2: Ministru kabineta noteikumu “Grozījumi Ministru kabineta 2021. gada 24. augusta noteikumos Nr. 572 "Valsts robežsardzes maksas pakalpojuma cenrādis" projekta sākotnējās ietekmes novērtējuma ziņojumam (anotācijai)
A3: Ieņēmumu prognoze no maksas pakalpojumiem
A5: Nr. p.k. | B5: Pakalpojuma veids | C5: Vienas vienības cena (EUR) | F5: Prognozētais | H5: Prognozētie ieņēmumi (EUR)
C6: bez PVN | D6: PVN | E6: ar PVN | F6: apjoms | G6: mērvienība | H6: 2025 | I6: 2026 | J6: 2027
A7: 1 | B7: 2 | C7: 3 | D7: 4 | E7: 5 | F7: 6 | G7: 7 | H7: 8 | I7: 9 | J7: 10
A8: 1 | B8: Gaisa kuģa AB206B izmantošana (lidojumiem) publiskos pasākumos, kurus organizē privātpersona | C8: ='3pielik'!K11 -> 308 | D8: =ROUND(C8*0.21,2) -> 64.68 | E8: =SUM(C8:D8) -> 372.68 | F8: 4 | G8: stunda | H8: =F8*E8 -> 1490.72 | I8: =F8*E8 -> 1490.72 | J8: =I8 -> 1490.72
A9: 2 | B9: Gaisa kuģa AW119MKII izmantošana (lidojumiem) publiskos pasākumos, kurus organizē privātpersona | C9: ='3pielik'!K12 -> 564.64 | D9: =ROUND(C9*0.21,2) -> 118.57 | E9: =SUM(C9:D9) -> 683.21 | F9: 11 | G9: stunda | H9: =F9*E9 -> 7515.31 | I9: =F9*E9 -> 7515.31 | J9: =I9 -> 7515.31
A10: 3 | B10: Gaisa kuģa AB206B izmantošana (gaidīšana starp lidojumiem uz zemes) publiskos pasākumos, kurus organizē privātpersona | C10: ='3pielik'!K13 -> 141.94 | D10: =ROUND(C10*0.21,2) -> 29.81 | E10: =SUM(C10:D10) -> 171.75 | F10: 4 | G10: stunda | H10: =F10*E10 -> 687 | I10: =F10*E10 -> 687 | J10: =I10 -> 687
A11: 4 | B11: Gaisa kuģa AW119MKII izmantošana (gaidīšana starp lidojumiem uz zemes) publiskos pasākumos, kurus organizē privātpersona | C11: ='3pielik'!K14 -> 298.55 | D11: =ROUND(C11*0.21,2) -> 62.7 | E11: =SUM(C11:D11) -> 361.25 | F11: 44 | G11: stunda | H11: =F11*E11 -> 15895 | I11: =F11*E11 -> 15895 | J11: =I11 -> 15895
A12: 5 | B12: Dokumentu tehniskā ekspertīzea | C12: ='3pielik'!$K$15 -> 47.024089 | D12: ='3pielik'!$L$15 -> 0 | E12: =SUM(C12:D12) -> 47.024089 | F12: 1 | G12: stunda | H12: =F12*E12 -> 47.024089 | I12: =F12*E12 -> 47.024089 | J12: =I12 -> 47.024089
B13: Kopā | H13: =SUM(H8:H12) -> 25635.054 | I13: =SUM(I8:I12) -> 25635.054 | J13: =SUM(J8:J12) -> 25635.054
B21: Ivanova 67075674
B22: jelena.ivanova@rs.gov.lv
