Workbook

Sheet Aprēķins_atbalsts_jauniešiem
L1: 3.pielikums
H2: Tiesību akta projekta "Par apropriācijas pārdali neatliekamu un nozīmīgu pasākumu īstenošanai labklājības nozarē" anotācijai
A3: Pielikums
A4: Jauniešu, kuriem plānots sniegt atbalstu PP “Ārpusģimenes aprūpes atbalsta pakalpojumu pilnveide, tai skaitā bērniem īpašās situācijās” apakšpasākuma "Nodrošināts bāreņu un bez vecāku gādības palikušo bērnu atbalsts patstāvīgas dzīves uzsākšanai pēc pilngadības sasniegšanas" ietvaros aprēķins
A5: Statistika (2018.-2023. gads) un plāns (2024.-2025. un turpmāk ik gadu) par pilngadību sasniegušo ārpusģimenes aprūpē esošo jauniešu skaitu (tai skaitā bērni audžuģimenē, aizbildnībā un bērnu aprūpes iestādēs)
C6: 2018. gads | D6: 2019. gads | E6: 2020. gads | F6: 2021. gads | G6: 2022. gads | H6: 2023. gads | I6: 2024. gads | J6: 2025. gads un tirpmāk ik gadu
C7: Fakts | D7: Fakts | E7: Fakts | F7: Fakts | G7: Fakts | H7: Fakts | I7: Plāns* | J7: Plāns**
C8: personas | D8: personas | E8: personas | F8: personas | G8: personas | H8: personas | I8: personas | J8: personas
A9: 1 | C9: 2 | D9: 3 | E9: 3 | F9: 4 | G9: 5 | H9: 6 | I9: 7 | J9: 8
A10: Pilngadību sasniegušo ārpusģimenes aprūpē esošo jauniešu skaits gadā | C10: 581 | D10: 566 | E10: 490 | F10: 501 | G10: 494 | H10: 527 | I10: =ROUNDUP(AVERAGE(F10:H10),0) -> 508 | J10: =ROUNDUP(AVERAGE(G10:I10),0) -> 510
A11: *vidēji 2021.-2023. gads; **vidēji 2022.-2024. gads.
B12: 2024.gada prognoze jauniešu skaitam, kuriem nodrošināts atbalsts
B13: 18 gadu vecums (40% no 2024. gadā pilngadību sasniegušo jauniešu skaita) | C13: 19 gadu vecums (35% no 2023. gadā pilngadību sasniegušo jauniešu skaita) | D13: 20 gadu vecums (30% no 2022. gadā pilngadību sasniegušo jauniešu skaita) | E13: 21 gadu vecums (25% no 2021. gadā pilngadību sasniegušo jauniešu skaita) | F13: 22 gadu vecums (20% no 2020. gadā pilngadību sasniegušo jauniešu skaita) | G13: 23 gadu vecums (15% no 2019. gadā pilngadību sasniegušo jauniešu skaita) | H13: 24 gadu vecums (1.1% no 2018. gadā pilngadību sasniegušo jauniešu skaita) | I13: KOPĀ plānotais personu skaits
B14: =ROUNDUP(I10*0.4,0) -> 204 | C14: =ROUNDUP(H10*0.35,0) -> 185 | D14: =ROUNDUP(G10*0.3,0) -> 149 | E14: =ROUNDUP(F10*0.25,0) -> 126 | F14: =ROUNDUP(E10*0.2,0) -> 98 | G14: =ROUNDUP(D10*0.15,0) -> 85 | H14: =ROUNDUP(C10*0.011,0) -> 7 | I14: =SUM(B14:H14) -> 854
B15: 2025.gada un turpmāk ik gadu prognoze jauniešu skaitam, kuriem nodrošināts atbalsts
B16: 18 gadu vecums (40% no 2025. gadā pilngadību sasniegušo jauniešu skaita) | C16: 19 gadu vecums (35% no 2024. gadā pilngadību sasniegušo jauniešu skaita) | D16: 20 gadu vecums (30% no 2023. gadā pilngadību sasniegušo jauniešu skaita) | E16: 21 gadu vecums (25% no 2022. gadā pilngadību sasniegušo jauniešu skaita) | F16: 22 gadu vecums (20% no 2021. gadā pilngadību sasniegušo jauniešu skaita) | G16: 23 gadu vecums (15% no 2020. gadā pilngadību sasniegušo jauniešu skaita) | H16: 24 gadu vecums (1.1% no 2019. gadā pilngadību sasniegušo jauniešu skaita) | I16: KOPĀ plānotais personu skaits
B17: =ROUNDUP(J10*0.4,0) -> 204 | C17: =ROUNDUP(I10*0.35,0) -> 178 | D17: =ROUNDUP(H10*0.3,0) -> 159 | E17: =ROUNDUP(G10*0.25,0) -> 124 | F17: =ROUNDUP(F10*0.2,0) -> 101 | G17: =ROUNDUP(E10*0.15,0) -> 74 | H17: =ROUNDUP(D10*0.011,0) -> 7 | I17: =SUM(B17:H17) -> 847
A19: Aprēķins PP “Ārpusģimenes aprūpes atbalsta pakalpojumu pilnveide, tai skaitā bērniem īpašās situācijās”apakšpasākumam "Nodrošināts bāreņu un bez vecāku gādības palikušo bērnu atbalsts patstāvīgas dzīves uzsākšanai pēc pilngadības sasniegšanas"
A20: Valsts finansējums | B20: 3565.19 | C20: Valsts finansējums pašvaldībām uz 1 personu (jaunieti) 2024.gadā un turpmāk ik gadu plānots 3 565.19 euro jeb vidēji 297.10 euro mēnesī.
A21: Administratīvās izmaksas 10% | B21: =B20*0.1 -> 356.519 | C21: 10% administrēšanas izmaksas*
A22: Valsts finansējums KOPĀ uz 1 jaunieti. | B22: =ROUND(B20+B21,2) -> 3921.71 | C22: Maksimālais valsts atbalsta apmērs uz 1 personu (jaunieti) gadā (Likums "Par valsts budžetu 2024. gadam un budžeta ietvaru 2024., 2025.un 2026. gadam")
A23: *Valsts nodrošina atbalstu papildu administratīvo izmaksu izdevumu segšanai, kas tiek aprēķināta 10% no valsts atbalsta apjoma, bet nepārsniedz 356.52 euro gadā uz 1 jaunieti.
A24: Plānotais personu skaits gadā (unikālais skaits) | F24: 1286
A25: Kopā finansējums 2024.gadā un turpmāk ik gadu apakšprogrammā 22.03.00 "Valsts atbalsts ārpusģimenes aprūpei" | F25: =ROUND(B22*F24,0) -> 5043319
A26: Aprēķins naudas plūsmai 2024. gadā
F27: personu skaits | H27: Atbalsta apjoms** | I27: Administratīvās izmaksas | J27: Izdevumi kopā vidēji uz 1 personu | K27: Izdevumi KOPĀ
F28: % no kopsakaita | G28: personas* | H28: euro | I28: euro | J28: euro | K28: euro
A29: 1 | F29: 2 | G29: 3 | H29: 4 | I29: 5 | J29: 6 | K29: 7
A30: Nodrošināts pilns pakalpojumu grozs | C30: saņem maksimālo grozā plānoto atbalstu | F30: =F43 -> 5 | G30: 6 | H30: =H43/4 -> 891.2975 | I30: =H30*0.1 -> 89.12975 | J30: =ROUND(H30+I30,2) -> 980.43 | K30: =J30*G30 -> 5882.58 | L30: 1.tab.
C31: saņem visu grozā plānoto atbalstu (bet ne maksimālo mentora atbalstu) | F31: =F44 -> 40 | G31: 51 | H31: =H44/4 -> 748.2975 | I31: =H31*0.1 -> 74.82975 | J31: =ROUND(H31+I31,2) -> 823.13 | K31: =J31*G31 -> 41979.63 | L31: 2.tab.
A32: Menotrs (nav atbalsta grupas) | C32: saņem maksimālu mentora atbalstu | F32: =F45 -> 10 | G32: 13 | H32: =H45/4 -> 841.2975 | I32: =H32*0.1 -> 84.12975 | J32: =ROUND(H32+I32,2) -> 925.43 | K32: =J32*G32 -> 12030.59 | L32: 3.tab.
C33: saņem mentora atbalstu, bet ne maksimalajā grozā plānotajā apjomā | F33: =F46 -> 25 | G33: 32 | H33: =H46/4 -> 698.2975 | I33: =H33*0.1 -> 69.82975 | J33: =ROUND(H33+I33,2) -> 768.13 | K33: =J33*G33 -> 24580.16 | L33: 4.tab.
A34: Atbalsta grupas (nav mentors) | C34: apmeklē atbalsta grupas | F34: =F47 -> 20 | G34: 25 | H34: =H47/4 -> 366.7975 | I34: =H34*0.1 -> 36.67975 | J34: =ROUND(H34+I34,2) -> 403.48 | K34: =J34*G34 -> 10087 | L34: 5.tab.
A35: KOPĀ | F35: =SUM(F30:F34) -> 100 | G35: =SUM(G30:G34) -> 127 | H35: X | I35: X | J35: X | K35: =ROUND(SUM(K30:K34),0) -> 94560
A36: *Atbilstošu norēķinu kārtībai, pašvaldībām izdevumi par sniegto atbalstu tiek kompensēti ceturksnī (par iepriekšējo ceturksni nākamā ceturkšna sākumā). LM prognozē, ka 2024.gadā valsts kompensēs pašvaldībām izdevumus par 2024. gada III ceturksnī nodrošinātajiem atbalsta pasākumiem 127 jauniešiem (aptuveni 15% no 2024. gadā plānotās mērķa grupas ). Vienlaikus tiek prognozēts, ka 2025. gadā un turpmāk ik gadu - 847 personas.
A37: **Ņemot vērā, ka pašvaldības 2024. gadā iesniegs pārskatu apmaksai tikai par nodrošinātu pakalpojumu/ atbalsta apjomu par vienu ceturksni, tad plānotais atbalsta apjoms prognozēts 25% apmērā no gadā plānotā apjoma.
A38: Prognozējamais atlikums 2024. gadā | K38: =F25-K35 -> 4948759
A39: Aprēķins naudas plūsmai 2025. gadā un turpmāk ik gadu
F40: personu skaits | H40: Atbalsta apjoms | I40: Administratīvās izmaksas | J40: Izdevumi kopā vidēji uz 1 personu | K40: Izdevumi KOPĀ
F41: % no kopsakaita | G41: personas | H41: euro | I41: euro | J41: euro | K41: euro
A42: 1 | F42: 2 | G42: 3 | H42: 4 | I42: 5 | J42: 6 | K42: 7
A43: Nodrošināts pilns pakalpojumu grozs | C43: saņem maksimālo grozā plānoto atbalstu | F43: 5 | G43: 42 | H43: =B20 -> 3565.19 | I43: =H43*0.1 -> 356.519 | J43: =ROUND(H43+I43,2) -> 3921.71 | K43: =J43*G43 -> 164711.82 | L43: 1.tab.
C44: saņem visu grozā plānoto atbalstu (bet ne maksimālo mentora atbalstu) | F44: 40 | G44: 338 | H44: ='2.tab.'!B9 -> 2993.19 | I44: =H44*0.1 -> 299.319 | J44: =ROUND(H44+I44,2) -> 3292.51 | K44: =J44*G44 -> 1112868.4 | L44: 2.tab.
A45: Menotrs (nav atbalsta grupas) | C45: saņem maksimālu mentora atbalstu | F45: 10 | G45: 85 | H45: ='3.tab.'!B9 -> 3365.19 | I45: =H45*0.1 -> 336.519 | J45: =ROUND(H45+I45,2) -> 3701.71 | K45: =J45*G45 -> 314645.35 | L45: 3.tab.
C46: saņem mentora atbalstu, bet ne maksimalajā grozā plānotajā apjomā | F46: 25 | G46: 212 | H46: ='4.tab.'!B9 -> 2793.19 | I46: =H46*0.1 -> 279.319 | J46: =ROUND(H46+I46,2) -> 3072.51 | K46: =J46*G46 -> 651372.12 | L46: 4.tab.
A47: Atbalsta grupas (nav mentors) | C47: apmeklē atbalsta grupas | F47: 20 | G47: 170 | H47: ='5.tab.'!B9 -> 1467.19 | I47: =H47*0.1 -> 146.719 | J47: =ROUND(H47+I47,2) -> 1613.91 | K47: =J47*G47 -> 274364.7 | L47: 5.tab.
A48: KOPĀ | F48: =SUM(F43:F47) -> 100 | G48: =SUM(G43:G47) -> 847 | H48: X | I48: X | J48: X | K48: =ROUND(SUM(K43:K47),0) -> 2517962
A49: Sagatavotājs: S.Strēle

Sheet 1.tab.
A1: 1. tabula
A2: 22.03.00 "Valsts atbalsts ārpusģimenes aprūpei"
A3: Atbalsta veids | B3: euro | C3: komentāri/ paskaidrojums aprēķinam
A4: Fiksētie atbalsta pasākumi un aktivitātes gadā:
A5: Mentors | B5: =(11*3*52)+(11*2)+(30*12) -> 2098 | C5: 11.00 euro/h, 3h nedēļā = 33 euro nedēļā x 52 nedēļas=1 716 euro gadā + 2 stundas gadā, ja nepieciešams = 2 098 euro gadā Papildu biheiviorālo pārmaiņu motivātori 30.00 euro mēnesī x 12=360 euro gadā. Biheiviorālo pārmaiņu motivātori tiek izmantoti jauniešu motivācijas veicināšanai un tiek izvēlēti atbilstoši viņu interesēm un vajadzībām - ēdināšana, kultūras pasākumi, sporta nodarbības u.c. pasākumu apmaksai.
A6: Mentoru mācības | B6: 67.19 | C6: 24h nodarbības, vada 2 lektori, katram samaksa 50.00 euro/h=2 400.00 euro viena grupa, grupā apmācība 20 dalībniekiem, 36 grupas gadā (vidēji pa 6 katrā reģionā). 36 x 2 400 = 86 400 euro gadā : 1 286 personas = 67.19 euro
A7: Atbalsts jaunietim, kurš turpina uzturēšanos ārpusģimenes aprūpē pēc pilngadības sasniegšanas | B7: =100*12 -> 1200 | C7: 100.00 euro mēnesī x12=1 200, atbalsts jaunietim, kurš turpina uzturēšanos ārpusģimenes aprūpē pēc pilngadības sasniegšanas
A8: Atbalsta grupas prasmju un iemaņu apguvei patstāvīgas dzīves uzsākšanai | B8: =250/15*12 -> 200 | C8: Maksa par atbalsta grupu apmeklējumu pašvaldībā vai pie cita pakalpojumu sniedzēja - 250.00 euro par vienu grupas (vismaz 15 jaunieši) nodarbību dzīves prasmju apguvei, socializēšanās prasmju apguvei, ieskaitot materiālus (ēst gatavošanas, mājsaimniecības vai citas dzīves prasmju apguvi), izmaksas vienam bērnam gadā 200.00 euro (vienas atbalsta grupas izmaksas 250 euro (vidēji uz vienu jaunieti 16.67 euro (250euro/15jaunieši=16.67 euro)* 12 nodarbības gadā 1 jaunietim = 200 euro).
A9: Valsts finansējums | B9: =ROUND(B7+B5+B6+B8,2) -> 3565.19 | C9: Valsts finansējums pašvaldībām uz 1 personu (jaunieti) 2024.gadā un turpmāk ik gadu plānots 3 565.19 euro jeb vidēji 297.10 euro mēnesī.
A10: Administratīvās izmaksas 10% | B10: =ROUND(B9*0.1,2) -> 356.52 | C10: 10% administrēšanas izmaksas*
A11: Valsts finansējums KOPĀ uz 1 pers. | B11: =ROUND(B9+B10,2) -> 3921.71 | C11: Maksimālais valsts atbalsta apmērs uz 1 personu (jaunieti) gadā.

Sheet 2.tab.
A1: 2. tabula
A2: 22.03.00 "Valsts atbalsts ārpusģimenes aprūpei"
A3: Atbalsta veids | B3: euro | C3: komentāri/ paskaidrojums aprēķinam
A4: Fiksētie atbalsta pasākumi un aktivitātes gadā:
A5: Mentors | B5: =(11*2*52)+(11*2)+(30*12) -> 1526 | C5: 11.00 euro/h, 2h nedēļā = 22 euro nedēļā x 52 nedēļas=1 144 euro gadā + 2 stundas gadā, ja nepieciešams = 1 526 euro gadā Papildu biheiviorālo pārmaiņu motivātori 30.00 euro mēnesī x 12=360 euro gadā. Biheiviorālo pārmaiņu motivātori tiek izmantoti jauniešu motivācijas veicināšanai un tiek izvēlēti atbilstoši viņu interesēm un vajadzībām - ēdināšana, kultūras pasākumi, sporta nodarbības u.c. pasākumu apmaksai.
A6: Mentoru mācības | B6: 67.19 | C6: 24h nodarbības, vada 2 lektori, katram samaksa 50.00 euro/h=2 400.00 euro viena grupa, grupā apmācība 20 dalībniekiem, 36 grupas gadā (vidēji pa 6 katrā reģionā). 36 x 2 400 = 86 400 euro gadā : 1 286 personas = 67.19 euro
A7: Atbalsts jaunietim, kurš turpina uzturēšanos ārpusģimenes aprūpē pēc pilngadības sasniegšanas | B7: =100*12 -> 1200 | C7: 100.00 euro mēnesī x12=1 200, atbalsts jaunietim, kurš turpina uzturēšanos ārpusģimenes aprūpē pēc pilngadības sasniegšanas
A8: Atbalsta grupas prasmju un iemaņu apguvei patstāvīgas dzīves uzsākšanai | B8: =250/15*12 -> 200 | C8: Maksa par atbalsta grupu apmeklējumu pašvaldībā vai pie cita pakalpojumu sniedzēja - 250.00 euro par vienu grupas (vismaz 15 jaunieši) nodarbību dzīves prasmju apguvei, socializēšanās prasmju apguvei, ieskaitot materiālus (ēst gatavošanas, mājsaimniecības vai citas dzīves prasmju apguvi), izmaksas vienam bērnam gadā 200.00 euro (vienas atbalsta grupas izmaksas 250 euro (vidēji uz vienu jaunieti 16.67 euro (250euro/15jaunieši=16.67 euro)* 12 nodarbības gadā 1 jaunietim = 200 euro).
A9: Valsts finansējums | B9: =ROUND(B7+B5+B6+B8,2) -> 2993.19 | C9: Valsts finansējums pašvaldībām uz 1 personu (jaunieti) 2024.gadā un turpmāk ik gadu plānots 2 993.19 euro jeb vidēji 249.43 euro mēnesī.
A10: Administratīvās izmaksas 10% | B10: =ROUND(B9*0.1,2) -> 299.32 | C10: 10% administrēšanas izmaksas*
A11: Valsts finansējums KOPĀ uz 1 pers. | B11: =ROUND(B9+B10,2) -> 3292.51 | C11: Maksimālais valsts atbalsta apmērs uz 1 personu (jaunieti) gadā.

Sheet 3.tab.
A1: 3. tabula
A2: 22.03.00 "Valsts atbalsts ārpusģimenes aprūpei"
A3: Atbalsta veids | B3: euro | C3: komentāri/ paskaidrojums aprēķinam
A4: Fiksētie atbalsta pasākumi un aktivitātes gadā:
A5: Mentors | B5: =(11*3*52)+(11*2)+(30*12) -> 2098 | C5: 11.00 euro/h, 3h nedēļā = 33 euro nedēļā x 52 nedēļas=1 716 euro gadā + 2 stundas gadā, ja nepieciešams = 2 098 euro gadā Papildu biheiviorālo pārmaiņu motivātori 30.00 euro mēnesī x 12=360 euro gadā. Biheiviorālo pārmaiņu motivātori tiek izmantoti jauniešu motivācijas veicināšanai un tiek izvēlēti atbilstoši viņu interesēm un vajadzībām - ēdināšana, kultūras pasākumi, sporta nodarbības u.c. pasākumu apmaksai.
A6: Mentoru mācības | B6: 67.19 | C6: 24h nodarbības, vada 2 lektori, katram samaksa 50.00 euro/h=2 400.00 euro viena grupa, grupā apmācība 20 dalībniekiem, 36 grupas gadā (vidēji pa 6 katrā reģionā). 36 x 2 400 = 86 400 euro gadā : 1 286 personas = 67.19 euro
A7: Atbalsts jaunietim, kurš turpina uzturēšanos ārpusģimenes aprūpē pēc pilngadības sasniegšanas | B7: =100*12 -> 1200 | C7: 100.00 euro mēnesī x12=1 200, atbalsts jaunietim, kurš turpina uzturēšanos ārpusģimenes aprūpē pēc pilngadības sasniegšanas
A8: Atbalsta grupas prasmju un iemaņu apguvei patstāvīgas dzīves uzsākšanai | C8: nav
A9: Valsts finansējums | B9: =ROUND(B7+B5+B6+B8,2) -> 3365.19 | C9: Valsts finansējums pašvaldībām uz 1 personu (jaunieti) 2024.gadā un turpmāk ik gadu plānots 3 365.19 euro jeb vidēji 280.43 euro mēnesī.
A10: Administratīvās izmaksas 10% | B10: =ROUND(B9*0.1,2) -> 336.52 | C10: 10% administrēšanas izmaksas*
A11: Valsts finansējums KOPĀ uz 1 pers. | B11: =ROUND(B9+B10,2) -> 3701.71 | C11: Maksimālais valsts atbalsta apmērs uz 1 personu (jaunieti) gadā.

Sheet 4.tab.
A1: 4. tabula
A2: 22.03.00 "Valsts atbalsts ārpusģimenes aprūpei"
A3: Atbalsta veids | B3: euro | C3: komentāri/ paskaidrojums aprēķinam
A4: Fiksētie atbalsta pasākumi un aktivitātes gadā:
A5: Mentors | B5: =(11*2*52)+(11*2)+(30*12) -> 1526 | C5: 11.00 euro/h, 2h nedēļā = 22 euro nedēļā x 52 nedēļas=1 144 euro gadā + 2 stundas gadā, ja nepieciešams = 1526 euro gadā Papildu biheiviorālo pārmaiņu motivātori 30.00 euro mēnesī x 12=360 euro gadā. Biheiviorālo pārmaiņu motivātori tiek izmantoti jauniešu motivācijas veicināšanai un tiek izvēlēti atbilstoši viņu interesēm un vajadzībām - ēdināšana, kultūras pasākumi, sporta nodarbības u.c. pasākumu apmaksai.
A6: Mentoru mācības | B6: 67.19 | C6: 24h nodarbības, vada 2 lektori, katram samaksa 50.00 euro/h=2 400.00 euro viena grupa, grupā apmācība 20 dalībniekiem, 36 grupas gadā (vidēji pa 6 katrā reģionā). 36 x 2 400 = 86 400 euro gadā : 1 286 personas = 67.19 euro
A7: Atbalsts jaunietim, kurš turpina uzturēšanos ārpusģimenes aprūpē pēc pilngadības sasniegšanas | B7: =100*12 -> 1200 | C7: 100.00 euro mēnesī x12=1 200, atbalsts jaunietim, kurš turpina uzturēšanos ārpusģimenes aprūpē pēc pilngadības sasniegšanas
A8: Atbalsta grupas prasmju un iemaņu apguvei patstāvīgas dzīves uzsākšanai | C8: nav
A9: Valsts finansējums | B9: =ROUND(B7+B5+B6+B8,2) -> 2793.19 | C9: Valsts finansējums pašvaldībām uz 1 personu (jaunieti) 2024.gadā un turpmāk ik gadu plānots 2 793.19 euro jeb vidēji 232.77 euro mēnesī.
A10: Administratīvās izmaksas 10% | B10: =ROUND(B9*0.1,2) -> 279.32 | C10: 10% administrēšanas izmaksas*
A11: Valsts finansējums KOPĀ uz 1 pers. | B11: =ROUND(B9+B10,2) -> 3072.51 | C11: Maksimālais valsts atbalsta apmērs uz 1 personu (jaunieti) gadā.

Sheet 5.tab.
A1: 5. tabula
A2: 22.03.00 "Valsts atbalsts ārpusģimenes aprūpei"
A3: Atbalsta veids | B3: euro | C3: komentāri/ paskaidrojums aprēķinam
A4: Fiksētie atbalsta pasākumi un aktivitātes gadā:
A5: Mentors | C5: nav
A6: Mentoru mācības | B6: 67.19 | C6: 24h nodarbības, vada 2 lektori, katram samaksa 50.00 euro/h=2 400.00 euro viena grupa, grupā apmācība 20 dalībniekiem, 36 grupas gadā (vidēji pa 6 katrā reģionā). 36 x 2 400 = 86 400 euro gadā : 1 286 personas = 67.19 euro
A7: Atbalsts jaunietim, kurš turpina uzturēšanos ārpusģimenes aprūpē pēc pilngadības sasniegšanas | B7: =100*12 -> 1200 | C7: 100.00 euro mēnesī x12=1 200, atbalsts jaunietim, kurš turpina uzturēšanos ārpusģimenes aprūpē pēc pilngadības sasniegšanas
A8: Atbalsta grupas prasmju un iemaņu apguvei patstāvīgas dzīves uzsākšanai | B8: =250/15*12 -> 200 | C8: Maksa par atbalsta grupu apmeklējumu pašvaldībā vai pie cita pakalpojumu sniedzēja - 250.00 euro par vienu grupas (vismaz 15 jaunieši) nodarbību dzīves prasmju apguvei, socializēšanās prasmju apguvei, ieskaitot materiālus (ēst gatavošanas, mājsaimniecības vai citas dzīves prasmju apguvi), izmaksas vienam bērnam gadā 200.00 euro (vienas atbalsta grupas izmaksas 250 euro (vidēji uz vienu jaunieti 16.67 euro (250euro/15jaunieši=16.67 euro)* 12 nodarbības gadā 1 jaunietim = 200 euro).
A9: Valsts finansējums | B9: =ROUND(B7+B5+B6+B8,2) -> 1467.19 | C9: Valsts finansējums pašvaldībām uz 1 personu (jaunieti) 2024.gadā un turpmāk ik gadu plānots 1 467.19 euro jeb vidēji 122.27 euro mēnesī.
A10: Administratīvās izmaksas 10% | B10: =ROUND(B9*0.1,2) -> 146.72 | C10: 10% administrēšanas izmaksas*
A11: Valsts finansējums KOPĀ uz 1 pers. | B11: =ROUND(B9+B10,2) -> 1613.91 | C11: Maksimālais valsts atbalsta apmērs uz 1 personu (jaunieti) gadā.

Sheet sheet1
C5: 2024 | D5: jūlijs | E5: =ROUND(E11*0.15,0) -> 127
C6: 2024 | D6: augusts | E6: =E5 -> 127
C7: 2024 | D7: septembris | E7: =E6 -> 127
C8: 2024 | D8: oktobris | E8: =ROUND(E7*$G$8,0) -> 191 | G8: 1.5
C9: 2024 | D9: novembris | E9: =ROUND(E8*$G$8,0) -> 287
C10: 2024 | D10: decembris | E10: =ROUND(E9*$G$8,0) -> 431
C11: 2025 | D11: janvāris | E11: =Aprēķins_atbalsts_jauniešiem!I17 -> 847
