Workbook

Sheet Pielikums_DAC
E1: 9.pielikums
B2: Tiesību akta projekta "Par apropriācijas pārdali neatliekamu un nozīmīgu pasākumu īstenošanai labklājības nozarē" anotācijai
A4: Valsts līdzfinansējums DAC 2024. gadā
A5: N.p.k. | B5: Dienas aprūpes centrs | C5: Darbības uzsākāsanas datums | D5: EKK | E5: Nepieciešamā finansējuma plāns pēc naudas plūsmas
E6: 2024.g. | F6: 2025.g. | G6: 2026.g. | H6: 2027.g. | I6: 2028.g.* | J6: Kopā
A7: 1 | B7: Biedrība "Nepaliec viens" DAC "Atver durvis Betānijā" | C7: 06.11.2023. | D7: 3000 | E7: ='1'!I17 -> 101142 | F7: ='1'!I34 -> 109926 | G7: ='1'!I51 -> 74052 | H7: ='1'!I68 -> 35955 | J7: =SUM(E7:I7) -> 321075 | K7: jau esošie DAC
A8: 2 | B8: Biedrība "Latvijas Samariešu apvienība" DAC Žubītes | C8: 01.08.2021. | D8: 3000 | E8: ='2'!I16 -> 40273.09 | F8: ='2'!I33 -> 23141.14 | J8: =SUM(E8:I8) -> 63414.23
A9: 3 | B9: Svētā Jāņa palīdzība (DAC Duntes Ozoli) | C9: 01.01.2021. | D9: 3000 | E9: ='3'!I16 -> 39213.78 | F9: ='3'!I32 -> 2637 | J9: =SUM(E9:I9) -> 41850.78
A10: 4 | B10: Salaspils Sociālo pakalpojumu centrs | C10: 10.09.2021. | D10: 7000 | E10: ='4'!O17 -> 40396.43 | F10: ='4'!O35 -> 19433.7 | J10: =SUM(E10:I10) -> 59830.13
A11: 5 | B11: Rēzeknes SD pārvaldes daudzfunkcionālais sociālo pakalpojumu centrs | C11: 01.09.2021. | D11: 7000 | E11: ='5'!I16 -> 28303.19 | F11: ='5'!I32 -> 13381.19 | J11: =SUM(E11:I11) -> 41684.38
A12: 6 | B12: Kuldīgas SD DAC | C12: 17.01.2024. | D12: 7000 | E12: ='6'!I16 -> 25260.3 | F12: ='6'!I35 -> 23325.84 | G12: ='6'!I52 -> 17255.79 | H12: ='6'!I69 -> 9867.38 | I12: ='6'!I86 -> 1037.93 | J12: =SUM(E12:I12) -> 76747.24
A13: 7 | B13: "Rūpju Bērns" DAC "Pērle" (Cēsis) | C13: 01.01.2022. | D13: 3000 | E13: ='7'!I16 -> 58770.42 | F13: ='7'!I32 -> 37830.33 | G13: ='7'!I48 -> 2684.13 | J13: =SUM(E13:I13) -> 99284.88
A14: 8 | B14: Ādažu ūdensroze | C14: 01.07.2022. | D14: 7000 | E14: ='8'!O16 -> 48381.3 | F14: ='8'!O31 -> 32830.66 | G14: ='8'!O48 -> 12098.24 | J14: =SUM(E14:I14) -> 93310.2
A15: 9 | B15: Cerību spārni_Smiltenes DAC | C15: 22.01.2024. | D15: 3000 | E15: ='9'!P16 -> 83305.08 | F15: ='9'!P34 -> 79160.13 | G15: ='9'!P52 -> 53715.54 | H15: ='9'!P69 -> 28500.24 | I15: ='9'!P75 -> 3590.25 | J15: =SUM(E15:I15) -> 248271.24
A16: 10 | B16: Ludzas SD_DAC Kārsava | C16: 01.07.2021. | D16: 7000 | E16: ='10'!O16 -> 7623.02 | F16: ='10'!O31 -> 3764.11 | J16: =SUM(E16:I16) -> 11387.13
A17: 11 | B17: Ludzas SD_DAC Ludzā | C17: 20.07.2020. | D17: 7000 | E17: ='11'!I17 -> 4400.33 | J17: =SUM(E17:I17) -> 4400.33
A18: 12 | B18: LSA_Mazsalacas DAC | C18: 01.03.2022. | D18: 3000 | E18: ='12'!O17 -> 12576.56 | F18: ='12'!O33 -> 8768.73 | G18: ='12'!O49 -> 1673.83 | J18: =SUM(E18:I18) -> 23019.12
A19: 13 | B19: LSA_DAC Laiva_Rūjiena | C19: 01.11.2022. | D19: 3000 | E19: ='13'!O18 -> 34138.17 | F19: ='13'!O34 -> 29582.67 | G19: ='13'!O50 -> 6502.08 | J19: =SUM(E19:I19) -> 70222.92
A20: 14 | B20: LSA_DAC_Valmiera_ SOLIS | C20: 01.01.2024. | D20: 3000 | E20: ='14'!O17 -> 35355.16 | F20: ='14'!O33 -> 38109.48 | G20: ='14'!O49 -> 26384.79 | H20: ='14'!O65 -> 13772.82 | I20: ='14'!O81 -> 1067.22 | J20: =SUM(E20:I20) -> 114689.47
A21: 15 | B21: Cerību spārni_Mālpils | C21: 16.08.2022. | D21: 3000 | E21: ='15'!I17 -> 20691.16 | F21: ='15'!I35 -> 8234.78 | G21: ='15'!I51 -> 3003.84 | J21: =SUM(E21:I21) -> 31929.78
A22: 16 | B22: DSPC_Balvi | C22: 27.04.2021. | D22: 7000 | E22: ='16'!I17 -> 10894.28 | F22: ='16'!I34 -> 3797.41 | J22: =SUM(E22:I22) -> 14691.69
A23: 17 | B23: Skrudalienas DAC_Augšdaugava | C23: 21.11.2022. | D23: 7000 | E23: ='17'!I17 -> 37268.75 | F23: ='17'!I34 -> 32547.3 | G23: ='17'!I51 -> 16287 | J23: =SUM(E23:I23) -> 86103.05
A24: 18 | B24: Cēsu SD DAC Priekuļi | C24: 01.05.2021. | D24: 7000 | E24: ='18'!I16 -> 15031.17 | F24: ='18'!I32 -> 7172.16 | J24: =SUM(E24:I24) -> 22203.33
A25: 19 | B25: Cerību spārni_Spāre_Cēsis | C25: 17.07.2021. | D25: 3000 | E25: ='19'!I17 -> 13078 | F25: ='19'!I33 -> 6864 | J25: =SUM(E25:I25) -> 19942
A26: 20 | B26: Bauskas Vecumnieku DAC Sarkanā skola | C26: 05.05.2022. | D26: 7000 | E26: ='20'!I17 -> 52188.72 | F26: ='20'!I34 -> 43085.3 | G26: ='20'!I50 -> 12905.9 | J26: =SUM(E26:I26) -> 108179.92
A27: 21 | B27: Viļakas DAC Balvu nov. | C27: 12.10.2021. | D27: 7000 | E27: ='21'!I17 -> 16033.64 | F27: ='21'!I33 -> 11214.28 | J27: =SUM(E27:I27) -> 27247.92
A28: 22 | B28: Cerību spārni Bauska, fakt.uzsāk darb. 13.06.2024. | C28: 13.06.2024. | D28: 3000 | E28: ='22'!I17 -> 42946.8 | F28: ='22'!I34 -> 122363.28 | G28: ='22'!I51 -> 91339.08 | H28: ='22'!I68 -> 55480.32 | I28: ='22'!I85 -> 19215.84 | J28: =SUM(E28:I28) -> 331345.32
A29: 23 | B29: Brīnumiņš Talsi, fakt.uzsāk.darb.. 01.06.2023. | C29: 09.05.2023. | D29: 3000 | E29: ='23'!I16 -> 30136.32 | F29: ='23'!I33 -> 57800.52 | G29: ='23'!I50 -> 36493.2 | H29: ='23'!I66 -> 10496.7 | J29: =SUM(E29:I29) -> 134926.74 | L29: Budžetā | M29: Starpība
A30: 24 | B30: Atbalsta centrs ģimenēm ar bērniem ar īpašām vajadzībām Cimdiņš. | C30: 15.03.2021. | D30: 3000 | E30: ='24'!I16 -> 7492.32 | F30: ='24'!I32 -> 12790.8 | J30: =SUM(E30:I30) -> 20283.12
A31: 25 | B31: Cerību spārni_Iecava | C31: 02.09.2024. | D31: 3000 | E31: ='25'!O17 -> 24124.8 | F31: ='25'!O33 -> 97697.16 | G31: ='25'!O49 -> 84712.75 | H31: ='25'!O65 -> 54750 | I31: ='25'!O81 -> 23625 | J31: =SUM(E31:I31) -> 284909.71
B32: kopā | E32: =ROUND(SUM(E7:E31),0) -> 829025 | F32: =SUM(F7:F31) -> 825457.97 | G32: =SUM(G7:G31) -> 439108.17 | H32: =SUM(H7:H31) -> 208822.46 | I32: =SUM(I7:I31) -> 48536.24 | J32: =SUM(J7:J31) -> 2350949.6 | L32: =L35+L36 -> 103420 | M32: =M35+M36 -> 725605
A33: * norēķini par iepriekšējā gada decembrī sniegto pakalpojumu un 2028.g.janvāri
D35: 3000 | E35: =ROUND(E7+E8+E9+E13+E15+E18+E19+E20+E21+E25+E28+E29+E30+E31,0) -> 543244 | F35: =F7+F8+F9+F13+F15+F18+F19+F20+F21+F25+F28+F29 -> 524418.06 | G35: =G7+G8+G9+G13+G15+G18+G19+G20+G21+G25+G28+G29 -> 295848.49 | H35: =H7+H8+H9+H13+H15+H18+H19+H20+H21+H25+H28+H29 -> 144205.08 | I35: =I7+I8+I9+I13+I15+I18+I19+I20+I21+I25+I28+I29 -> 23873.31 | J35: =J7+J8+J9+J13+J15+J18+J19+J20+J21+J25+J28+J29 -> 1499971.5 | L35: 103420 | M35: =E35-L35 -> 439824
D36: 7000 | E36: =ROUND(E10+E11+E12+E14+E16+E17+E22+E23+E24+E26+E27,0) -> 285781 | F36: =F10+F11+F12+F14+F16+F17+F22+F23+F24+F26+F27 -> 190551.95 | G36: =G10+G11+G12+G14+G16+G17+G22+G23+G24+G26+G27 -> 58546.93 | H36: =H10+H11+H12+H14+H16+H17+H22+H23+H24+H26+H27 -> 9867.38 | I36: =I10+I11+I12+I14+I16+I17+I22+I23+I24+I26+I27 -> 1037.93 | J36: =J10+J11+J12+J14+J16+J17+J22+J23+J24+J26+J27 -> 545785.32 | L36: 0 | M36: =E36-L36 -> 285781
A44: Marika Baumgarte
A45: Labklājības ministrija
A46: Finanšu vadības departaments
A47: Tālr. 67 021 674
A48: marika.baumgarte@lm.gov.lv
A51: Sandra Strēle
A52: Labklājības ministrija
A53: Finanšu vadības departaments
A54: Tālr. 64331831
A55: Sandra.Strele@lm.gov.lv

Sheet 1
B2: 2024.g.
A3: Biedrība ""Nepaliec viens" DAC "Atver durvis Betānijā" reģ. 06.11.2023. | B3: Klientu sk. | C3: Darba dienu skaits mēnesī | D3: Klientu dienu sk. | E3: Kl.dienas cena, euro | F3: Valsts līdzfinansējuma% 2024.g. | G3: Valsts līdzifnansējuma klientu dienas cena, euro | H3: Valsts līdzfinansējums, euro | I3: Naudas plūsma, euro | J3: Fakts/ Plāns
A4: Janvaris | B4: 11 | C4: 22 | D4: 150 | E4: 45 | F4: 80 | G4: =ROUND(E4*F4%,2) -> 36 | H4: =D4*G4 -> 5400 | I4: 4356 | J4: Fakts
A5: Februāris | B5: 10 | C5: 21 | D5: 157 | E5: 45 | F5: 80 | G5: =ROUND(E5*F5%,2) -> 36 | H5: =D5*G5 -> 5652 | I5: =H4 -> 5400
A6: Marts | B6: 12 | C6: 20 | D6: 178 | E6: 45 | F6: 80 | G6: =ROUND(E6*F6%,2) -> 36 | H6: =D6*G6 -> 6408 | I6: =H5 -> 5652
A7: Aprīlis | B7: 10 | C7: 21 | D7: 177 | E7: 45 | F7: 80 | G7: =ROUND(E7*F7%,2) -> 36 | H7: =D7*G7 -> 6372 | I7: =H6 -> 6408
A8: Maijs | B8: 9 | C8: 21 | D8: 174 | E8: 45 | F8: 80 | G8: =ROUND(E8*F8%,2) -> 36 | H8: =D8*G8 -> 6264 | I8: =H7 -> 6372
A9: Jūnijs | B9: 16 | C9: 19 | D9: 285 | E9: 45 | F9: 80 | G9: =ROUND(E9*F9%,2) -> 36 | H9: =D9*G9 -> 10260 | I9: =H8 -> 6264
A10: Jūlijs | B10: 18 | C10: 23 | D10: 364 | E10: 45 | F10: 80 | G10: =ROUND(E10*F10%,2) -> 36 | H10: =D10*G10 -> 13104 | I10: =H9 -> 10260
A11: Augusts | B11: 18 | C11: 22 | D11: 367 | E11: 45 | F11: 80 | G11: =ROUND(E11*F11%,2) -> 36 | H11: =D11*G11 -> 13212 | I11: =H10 -> 13104
A12: Septembris | B12: 14 | C12: 21 | D12: =B12*C12 -> 294 | E12: 45 | F12: 80 | G12: =ROUND(E12*F12%,2) -> 36 | H12: =D12*G12 -> 10584 | I12: =H11 -> 13212 | J12: Plāns
A13: Oktobris | B13: 14 | C13: 23 | D13: =B13*C13 -> 322 | E13: 45 | F13: 80 | G13: =ROUND(E13*F13%,2) -> 36 | H13: =D13*G13 -> 11592 | I13: =H12 -> 10584
A14: Novembris līdz 05.11. | B14: 14 | C14: 3 | D14: =B14*C14 -> 42 | E14: 45 | F14: 80 | G14: =ROUND(E14*F14%,2) -> 36 | H14: =D14*G14 -> 1512 | I14: =H13 -> 11592
A15: Novembris, no 06.11. | B15: 14 | C15: 17 | D15: =B15*C15 -> 238 | E15: 45 | F15: 60 | G15: =ROUND(E15*F15%,2) -> 27 | H15: =D15*G15 -> 6426
A16: Decembris | B16: 14 | C16: 18 | D16: =B16*C16 -> 252 | E16: 45 | F16: 60 | G16: =ROUND(E16*F16%,2) -> 27 | H16: =D16*G16 -> 6804 | I16: =H14+H15 -> 7938
A17: kopā | B17: x | C17: =SUM(C4:C16) -> 251 | D17: =SUM(D4:D16) -> 3000 | E17: x | F17: x | G17: x | H17: =SUM(H4:H16) -> 103590 | I17: =SUM(I4:I16) -> 101142
B19: 2025.g.
A20: Biedrība ""Nepaliec viens" DAC "Atver durvis Betānijā" reģ. 06.11.2023. | B20: Klientu sk. | C20: Darba dienu skaits mēnesī | D20: Klientu dienu sk. | E20: Kl.dienas cena, euro | F20: Valsts līdzfinansējuma% 2025.g. | G20: Valsts līdzifnansējuma klientu dienas cena, euro | H20: Valsts līdzfinansējums, euro | I20: Naudas plūsma, euro | J20: Fakts/ Plāns
A21: Janvaris | B21: 17 | C21: 22 | D21: =B21*C21 -> 374 | E21: 45 | F21: 60 | G21: =ROUND(E21*F21%,2) -> 27 | H21: =D21*G21 -> 10098 | I21: =H16 -> 6804 | J21: Plāns
A22: Februāris | B22: 17 | C22: 20 | D22: =B22*C22 -> 340 | E22: 45 | F22: 60 | G22: =ROUND(E22*F22%,2) -> 27 | H22: =D22*G22 -> 9180 | I22: =H21 -> 10098
A23: Marts | B23: 17 | C23: 21 | D23: =B23*C23 -> 357 | E23: 45 | F23: 60 | G23: =ROUND(E23*F23%,2) -> 27 | H23: =D23*G23 -> 9639 | I23: =H22 -> 9180
A24: Aprīlis | B24: 17 | C24: 20 | D24: =B24*C24 -> 340 | E24: 45 | F24: 60 | G24: =ROUND(E24*F24%,2) -> 27 | H24: =D24*G24 -> 9180 | I24: =H23 -> 9639
A25: Maijs | B25: 17 | C25: 20 | D25: =B25*C25 -> 340 | E25: 45 | F25: 60 | G25: =ROUND(E25*F25%,2) -> 27 | H25: =D25*G25 -> 9180 | I25: =H24 -> 9180
A26: Jūnijs | B26: 17 | C26: 19 | D26: =B26*C26 -> 323 | E26: 45 | F26: 60 | G26: =ROUND(E26*F26%,2) -> 27 | H26: =D26*G26 -> 8721 | I26: =H25 -> 9180
A27: Jūlijs | B27: 17 | C27: 23 | D27: =B27*C27 -> 391 | E27: 45 | F27: 60 | G27: =ROUND(E27*F27%,2) -> 27 | H27: =D27*G27 -> 10557 | I27: =H26 -> 8721
A28: Augusts | B28: 17 | C28: 21 | D28: =B28*C28 -> 357 | E28: 45 | F28: 60 | G28: =ROUND(E28*F28%,2) -> 27 | H28: =D28*G28 -> 9639 | I28: =H27 -> 10557
A29: Septembris | B29: 17 | C29: 22 | D29: =B29*C29 -> 374 | E29: 45 | F29: 60 | G29: =ROUND(E29*F29%,2) -> 27 | H29: =D29*G29 -> 10098 | I29: =H28 -> 9639
A30: Oktobris | B30: 17 | C30: 23 | D30: =B30*C30 -> 391 | E30: 45 | F30: 60 | G30: =ROUND(E30*F30%,2) -> 27 | H30: =D30*G30 -> 10557 | I30: =H29 -> 10098
A31: Novembris līdz 05.11. | B31: 17 | C31: 3 | D31: =B31*C31 -> 51 | E31: 45 | F31: 60 | G31: =ROUND(E31*F31%,2) -> 27 | H31: =D31*G31 -> 1377 | I31: =H30 -> 10557
A32: Novembris no 06.11. | B32: 17 | C32: 16 | D32: =B32*C32 -> 272 | E32: 45 | F32: 40 | G32: =ROUND(E32*F32%,2) -> 18 | H32: =D32*G32 -> 4896
A33: Decembris | B33: 17 | C33: 19 | D33: =B33*C33 -> 323 | E33: 45 | F33: 40 | G33: =ROUND(E33*F33%,2) -> 18 | H33: =D33*G33 -> 5814 | I33: =H31+H32 -> 6273
A34: kopā | B34: x | C34: =SUM(C21:C33) -> 249 | D34: =SUM(D21:D33) -> 4233 | E34: x | F34: x | G34: x | H34: =SUM(H21:H33) -> 108936 | I34: =SUM(I21:I33) -> 109926
B36: 2026.g.
A37: Biedrība ""Nepaliec viens" DAC "Atver durvis Betānijā" reģ. 06.11.2023. | B37: Klientu sk. | C37: Darba dienu skaits mēnesī | D37: Klientu dienu sk. | E37: Kl.dienas cena, euro | F37: Valsts līdzfinansējuma% 2026.g. | G37: Valsts līdzifnansējuma klientu dienas cena, euro | H37: Valsts līdzfinansējums, euro | I37: Naudas plūsma, euro | J37: Fakts/ Plāns
A38: Janvaris | B38: 17 | C38: 21 | D38: =B38*C38 -> 357 | E38: 45 | F38: 40 | G38: =ROUND(E38*F38%,2) -> 18 | H38: =D38*G38 -> 6426 | I38: =H33 -> 5814 | J38: Plāns
A39: Februāris | B39: 17 | C39: 20 | D39: =B39*C39 -> 340 | E39: 45 | F39: 40 | G39: =ROUND(E39*F39%,2) -> 18 | H39: =D39*G39 -> 6120 | I39: =H38 -> 6426
A40: Marts | B40: 17 | C40: 22 | D40: =B40*C40 -> 374 | E40: 45 | F40: 40 | G40: =ROUND(E40*F40%,2) -> 18 | H40: =D40*G40 -> 6732 | I40: =H39 -> 6120
A41: Aprīlis | B41: 17 | C41: 21 | D41: =B41*C41 -> 357 | E41: 45 | F41: 40 | G41: =ROUND(E41*F41%,2) -> 18 | H41: =D41*G41 -> 6426 | I41: =H40 -> 6732
A42: Maijs | B42: 17 | C42: 19 | D42: =B42*C42 -> 323 | E42: 45 | F42: 40 | G42: =ROUND(E42*F42%,2) -> 18 | H42: =D42*G42 -> 5814 | I42: =H41 -> 6426
A43: Jūnijs | B43: 17 | C43: 20 | D43: =B43*C43 -> 340 | E43: 45 | F43: 40 | G43: =ROUND(E43*F43%,2) -> 18 | H43: =D43*G43 -> 6120 | I43: =H42 -> 5814
A44: Jūlijs | B44: 17 | C44: 23 | D44: =B44*C44 -> 391 | E44: 45 | F44: 40 | G44: =ROUND(E44*F44%,2) -> 18 | H44: =D44*G44 -> 7038 | I44: =H43 -> 6120
A45: Augusts | B45: 17 | C45: 21 | D45: =B45*C45 -> 357 | E45: 45 | F45: 40 | G45: =ROUND(E45*F45%,2) -> 18 | H45: =D45*G45 -> 6426 | I45: =H44 -> 7038
A46: Septembris | B46: 17 | C46: 22 | D46: =B46*C46 -> 374 | E46: 45 | F46: 40 | G46: =ROUND(E46*F46%,2) -> 18 | H46: =D46*G46 -> 6732 | I46: =H45 -> 6426
A47: Oktobris | B47: 17 | C47: 22 | D47: =B47*C47 -> 374 | E47: 45 | F47: 40 | G47: =ROUND(E47*F47%,2) -> 18 | H47: =D47*G47 -> 6732 | I47: =H46 -> 6732
A48: Novembris līdz 05.11. | B48: 17 | C48: 4 | D48: =B48*C48 -> 68 | E48: 45 | F48: 40 | G48: =ROUND(E48*F48%,2) -> 18 | H48: =D48*G48 -> 1224 | I48: =H47 -> 6732
A49: Novembris no 06.11. | B49: 17 | C49: 16 | D49: =B49*C49 -> 272 | E49: 45 | F49: 20 | G49: =ROUND(E49*F49%,2) -> 9 | H49: =D49*G49 -> 2448
A50: Decembris | B50: 17 | C50: 20 | D50: =B50*C50 -> 340 | E50: 45 | F50: 20 | G50: =ROUND(E50*F50%,2) -> 9 | H50: =D50*G50 -> 3060 | I50: =H48+H49 -> 3672
A51: kopā | B51: x | C51: =SUM(C38:C50) -> 251 | D51: =SUM(D38:D50) -> 4267 | E51: x | F51: x | G51: x | H51: =SUM(H38:H50) -> 71298 | I51: =SUM(I38:I50) -> 74052
B53: 2027.g.
A54: Biedrība ""Nepaliec viens" DAC "Atver durvis Betānijā" reģ. 06.11.2023. | B54: Klientu sk. | C54: Darba dienu skaits mēnesī | D54: Klientu dienu sk. | E54: Kl.dienas cena, euro | F54: Valsts līdzfinansējuma% 2027.g. | G54: Valsts līdzifnansējuma klientu dienas cena, euro | H54: Valsts līdzfinansējums, euro | I54: Naudas plūsma, euro | J54: Fakts/ Plāns
A55: Janvaris | B55: 17 | C55: 20 | D55: =B55*C55 -> 340 | E55: 45 | F55: 20 | G55: =ROUND(E55*F55%,2) -> 9 | H55: =D55*G55 -> 3060 | I55: =H50 -> 3060 | J55: Plāns
A56: Februāris | B56: 17 | C56: 20 | D56: =B56*C56 -> 340 | E56: 45 | F56: 20 | G56: =ROUND(E56*F56%,2) -> 9 | H56: =D56*G56 -> 3060 | I56: =H55 -> 3060
A57: Marts | B57: 17 | C57: 21 | D57: =B57*C57 -> 357 | E57: 45 | F57: 20 | G57: =ROUND(E57*F57%,2) -> 9 | H57: =D57*G57 -> 3213 | I57: =H56 -> 3060
A58: Aprīlis | B58: 17 | C58: 22 | D58: =B58*C58 -> 374 | E58: 45 | F58: 20 | G58: =ROUND(E58*F58%,2) -> 9 | H58: =D58*G58 -> 3366 | I58: =H57 -> 3213
A59: Maijs | B59: 17 | C59: 20 | D59: =B59*C59 -> 340 | E59: 45 | F59: 20 | G59: =ROUND(E59*F59%,2) -> 9 | H59: =D59*G59 -> 3060 | I59: =H58 -> 3366
A60: Jūnijs | B60: 17 | C60: 20 | D60: =B60*C60 -> 340 | E60: 45 | F60: 20 | G60: =ROUND(E60*F60%,2) -> 9 | H60: =D60*G60 -> 3060 | I60: =H59 -> 3060
A61: Jūlijs | B61: 17 | C61: 22 | D61: =B61*C61 -> 374 | E61: 45 | F61: 20 | G61: =ROUND(E61*F61%,2) -> 9 | H61: =D61*G61 -> 3366 | I61: =H60 -> 3060
A62: Augusts | B62: 17 | C62: 22 | D62: =B62*C62 -> 374 | E62: 45 | F62: 20 | G62: =ROUND(E62*F62%,2) -> 9 | H62: =D62*G62 -> 3366 | I62: =H61 -> 3366
A63: Septembris | B63: 17 | C63: 22 | D63: =B63*C63 -> 374 | E63: 45 | F63: 20 | G63: =ROUND(E63*F63%,2) -> 9 | H63: =D63*G63 -> 3366 | I63: =H62 -> 3366
A64: Oktobris | B64: 17 | C64: 21 | D64: =B64*C64 -> 357 | E64: 45 | F64: 20 | G64: =ROUND(E64*F64%,2) -> 9 | H64: =D64*G64 -> 3213 | I64: =H63 -> 3366
A65: Novembris līdz 05.11. | B65: 17 | C65: 5 | D65: =B65*C65 -> 85 | E65: 45 | F65: 20 | G65: =ROUND(E65*F65%,2) -> 9 | H65: =D65*G65 -> 765 | I65: =H64 -> 3213
A66: Novembris no 06.11. | C66: 16 | D66: =B66*C66 -> 0 | H66: =ROUND((E66*F66 %)*D66,2) -> 0
A67: Decembris | C67: 21 | D67: =B67*C67 -> 0 | H67: =ROUND((E67*F67 %)*D67,2) -> 0 | I67: =H65+H66 -> 765
A68: kopā | B68: x | C68: =SUM(C55:C67) -> 252 | D68: =SUM(D55:D67) -> 3655 | E68: x | F68: x | G68: x | H68: =SUM(H55:H67) -> 32895 | I68: =SUM(I55:I67) -> 35955

Sheet 2
B2: 2024.g.
A3: Biedrība "Samarieši" DAC "Žubītes" reģ. 01.08.2021. | B3: Klientu sk. | C3: Darba dienu skaits mēnesī | D3: Klientu dienu sk. | E3: Kl.dienas cena, euro | F3: Valsts līdzfinansējuma% 2024.g. | G3: Valsts līdzifnansējuma klientu dienas cena, euro | H3: Valsts līdzfinansējums, euro | I3: Naudas plūsma, euro | J3: Fakts/ Plāns
A4: Janvaris | B4: 17 | C4: 22 | D4: 320 | E4: 29.32 | F4: 40 | G4: =ROUND(E4*F4 %,2) -> 11.73 | H4: =D4*G4 -> 3753.6 | I4: 3026.34 | J4: Fakts
A5: Februāris | B5: 18 | C5: 21 | D5: 336 | E5: 29.32 | F5: 40 | G5: =ROUND(E5*F5 %,2) -> 11.73 | H5: =D5*G5 -> 3941.28 | I5: =H4 -> 3753.6
A6: Marts | B6: 18 | C6: 20 | D6: 343 | E6: 29.32 | F6: 40 | G6: =ROUND(E6*F6 %,2) -> 11.73 | H6: =D6*G6 -> 4023.39 | I6: =H5 -> 3941.28
A7: Aprīlis | B7: 18 | C7: 21 | D7: 354 | E7: 29.32 | F7: 40 | G7: =ROUND(E7*F7 %,2) -> 11.73 | H7: =D7*G7 -> 4152.42 | I7: =H6 -> 4023.39
A8: Maijs | B8: 19 | C8: 21 | D8: 352 | E8: 29.32 | F8: 40 | G8: =ROUND(E8*F8 %,2) -> 11.73 | H8: =D8*G8 -> 4128.96 | I8: =H7 -> 4152.42
A9: Jūnijs | B9: 17 | C9: 19 | D9: 316 | E9: 29.32 | F9: 40 | G9: =ROUND(E9*F9 %,2) -> 11.73 | H9: =D9*G9 -> 3706.68 | I9: =H8 -> 4128.96
A10: Jūlijs | B10: 17 | C10: 23 | D10: 382 | E10: 29.32 | F10: 40 | G10: =ROUND(E10*F10 %,2) -> 11.73 | H10: =D10*G10 -> 4480.86 | I10: =H9 -> 3706.68
A11: Augusts | B11: 18 | C11: 22 | D11: 394 | E11: 29.32 | F11: 20 | G11: =ROUND(E11*F11 %,2) -> 5.86 | H11: =D11*G11 -> 2308.84 | I11: =H10 -> 4480.86
A12: Septembris | B12: 18 | C12: 21 | D12: =B12*C12 -> 378 | E12: 29.32 | F12: 20 | G12: =ROUND(E12*F12 %,2) -> 5.86 | H12: =D12*G12 -> 2215.08 | I12: =H11 -> 2308.84 | J12: Plāns
A13: Oktobris | B13: 18 | C13: 23 | D13: =B13*C13 -> 414 | E13: 29.32 | F13: 20 | G13: =ROUND(E13*F13 %,2) -> 5.86 | H13: =D13*G13 -> 2426.04 | I13: =H12 -> 2215.08
A14: Novembris | B14: 18 | C14: 20 | D14: =B14*C14 -> 360 | E14: 29.32 | F14: 20 | G14: =ROUND(E14*F14 %,2) -> 5.86 | H14: =D14*G14 -> 2109.6 | I14: =H13 -> 2426.04
A15: Decembris | B15: 18 | C15: 18 | D15: =B15*C15 -> 324 | E15: 29.32 | F15: 20 | G15: =ROUND(E15*F15 %,2) -> 5.86 | H15: =D15*G15 -> 1898.64 | I15: =H14 -> 2109.6
A16: kopā | B16: x | C16: =SUM(C4:C15) -> 251 | D16: =SUM(D4:D15) -> 4273 | E16: x | F16: x | G16: x | H16: =SUM(H4:H15) -> 39145.39 | I16: =SUM(I4:I15) -> 40273.09
B18: 2025.g.
A19: Biedrība "Samarieši" DAC "Žubītes" reģ. 01.08.2021. | B19: Klientu sk. | C19: Darba dienu skaits mēnesī | D19: Klientu dienu sk. | E19: Kl.dienas cena, euro | F19: Valsts līdzfinansējuma% 2025.g. | G19: Valsts līdzifnansējuma klientu dienas cena, euro | H19: Valsts līdzfinansējums, euro | I19: Naudas plūsma, euro | J19: Fakts/ Plāns
A20: Janvaris | B20: 25 | C20: 22 | D20: =B20*C20 -> 550 | E20: 29.32 | F20: 20 | G20: =ROUND(E20*F20 %,2) -> 5.86 | H20: =D20*G20 -> 3223 | I20: =H15 -> 1898.64 | J20: Plāns
A21: Februāris | B21: 25 | C21: 20 | D21: =B21*C21 -> 500 | E21: 29.32 | F21: 20 | G21: =ROUND(E21*F21 %,2) -> 5.86 | H21: =D21*G21 -> 2930 | I21: =H20 -> 3223
A22: Marts | B22: 25 | C22: 21 | D22: =B22*C22 -> 525 | E22: 29.32 | F22: 20 | G22: =ROUND(E22*F22 %,2) -> 5.86 | H22: =D22*G22 -> 3076.5 | I22: =H21 -> 2930
A23: Aprīlis | B23: 25 | C23: 20 | D23: =B23*C23 -> 500 | E23: 29.32 | F23: 20 | G23: =ROUND(E23*F23 %,2) -> 5.86 | H23: =D23*G23 -> 2930 | I23: =H22 -> 3076.5
A24: Maijs | B24: 25 | C24: 20 | D24: =B24*C24 -> 500 | E24: 29.32 | F24: 20 | G24: =ROUND(E24*F24 %,2) -> 5.86 | H24: =D24*G24 -> 2930 | I24: =H23 -> 2930
A25: Jūnijs | B25: 25 | C25: 19 | D25: =B25*C25 -> 475 | E25: 29.32 | F25: 20 | G25: =ROUND(E25*F25 %,2) -> 5.86 | H25: =D25*G25 -> 2783.5 | I25: =H24 -> 2930
A26: Jūlijs | B26: 25 | C26: 23 | D26: =B26*C26 -> 575 | E26: 29.32 | F26: 20 | G26: =ROUND(E26*F26 %,2) -> 5.86 | H26: =D26*G26 -> 3369.5 | I26: =H25 -> 2783.5
A27: Augusts | D27: =B27*C27 -> 0 | H27: =ROUND((E27*F27 %)*D27,2) -> 0 | I27: =H26 -> 3369.5
A28: Septembris | D28: =B28*C28 -> 0 | H28: =ROUND((E28*F28 %)*D28,2) -> 0 | I28: =H27 -> 0
A29: Oktobris | D29: =B29*C29 -> 0 | H29: =ROUND((E29*F29 %)*D29,2) -> 0 | I29: =H28 -> 0
A30: Novembris līdz 05.11. | D30: =B30*C30 -> 0 | H30: =ROUND((E30*F30 %)*D30,2) -> 0 | I30: =H29 -> 0
A31: Novembris no 06.11. | D31: =B31*C31 -> 0 | H31: =ROUND((E31*F31 %)*D31,2) -> 0
A32: Decembris | D32: =B32*C32 -> 0 | H32: =ROUND((E32*F32 %)*D32,2) -> 0 | I32: =H30+H31 -> 0
A33: kopā | B33: x | C33: =SUM(C20:C32) -> 145 | D33: =SUM(D20:D32) -> 3625 | E33: x | F33: x | H33: =SUM(H20:H32) -> 21242.5 | I33: =SUM(I20:I32) -> 23141.14

Sheet 3
B2: 2024.g.
A3: Svētā Jāņa palīdzība DAC Duntes Ozoli, reģ. 01.01.2021. | B3: Klientu sk. | C3: Darba dienu skaits mēnesī | D3: Klientu dienu sk. | E3: Kl.dienas cena, euro | F3: Valsts līdzfinansējuma% 2024.g. | G3: Valsts līdzifnansējuma klientu dienas cena, euro | H3: Valsts līdzfinansējums, euro | I3: Naudas plūsma, euro | J3: Fakts/ Plāns
A4: Janvaris | B4: 26 | C4: 22 | D4: 531 | E4: 29.32 | F4: 20 | G4: =ROUND(E4*F4 %,2) -> 5.86 | H4: =D4*G4 -> 3111.66 | I4: 5301.96 | J4: Fakts
A5: Februāris | B5: 25 | C5: 21 | D5: 525 | E5: 29.32 | F5: 20 | G5: =ROUND(E5*F5 %,2) -> 5.86 | H5: =D5*G5 -> 3076.5 | I5: =H4 -> 3111.66
A6: Marts | B6: 28 | C6: 20 | D6: 500 | E6: 29.32 | F6: 20 | G6: =ROUND(E6*F6 %,2) -> 5.86 | H6: =D6*G6 -> 2930 | I6: =H5 -> 3076.5
A7: Aprīlis | B7: 25 | C7: 21 | D7: 515 | E7: 29.32 | F7: 20 | G7: =ROUND(E7*F7 %,2) -> 5.86 | H7: =D7*G7 -> 3017.9 | I7: =H6 -> 2930
A8: Maijs | B8: 25 | C8: 21 | D8: 519 | E8: 29.32 | F8: 20 | G8: =ROUND(E8*F8 %,2) -> 5.86 | H8: =D8*G8 -> 3041.34 | I8: =H7 -> 3017.9
A9: Jūnijs | B9: 25 | C9: 19 | D9: =B9*C9 -> 475 | E9: 29.32 | F9: 20 | G9: =ROUND(E9*F9 %,2) -> 5.86 | H9: =D9*G9 -> 2783.5 | I9: =H8 -> 3041.34
A10: Jūlijs | B10: 26 | C10: 23 | D10: 572 | E10: 29.32 | F10: 20 | G10: =ROUND(E10*F10 %,2) -> 5.86 | H10: =D10*G10 -> 3351.92 | I10: =H9 -> 2783.5
A11: Augusts | B11: 25 | C11: 22 | D11: =B11*C11 -> 550 | E11: 29.32 | F11: 20 | G11: =ROUND(E11*F11 %,2) -> 5.86 | H11: =D11*G11 -> 3223 | I11: =H10 -> 3351.92
A12: Septembris | B12: 25 | C12: 21 | D12: =B12*C12 -> 525 | E12: 29.32 | F12: 20 | G12: =ROUND(E12*F12 %,2) -> 5.86 | H12: =D12*G12 -> 3076.5 | I12: =H11 -> 3223 | J12: Plāns
A13: Oktobris | B13: 25 | C13: 23 | D13: =B13*C13 -> 575 | E13: 29.32 | F13: 20 | G13: =ROUND(E13*F13 %,2) -> 5.86 | H13: =D13*G13 -> 3369.5 | I13: =H12 -> 3076.5
A14: Novembris | B14: 25 | C14: 20 | D14: =B14*C14 -> 500 | E14: 29.32 | F14: 20 | G14: =ROUND(E14*F14 %,2) -> 5.86 | H14: =D14*G14 -> 2930 | I14: =H13 -> 3369.5
A15: Decembris | B15: 25 | C15: 18 | D15: =B15*C15 -> 450 | E15: 29.32 | F15: 20 | G15: =ROUND(E15*F15 %,2) -> 5.86 | H15: =D15*G15 -> 2637 | I15: =H14 -> 2930
A16: kopā | B16: x | C16: =SUM(C4:C15) -> 251 | D16: =SUM(D4:D15) -> 6237 | E16: x | F16: x | G16: x | H16: =SUM(H4:H15) -> 36548.82 | I16: =SUM(I4:I15) -> 39213.78
B18: 2025.g.
A19: Svētā Jāņa palīdzība DAC Duntes Ozoli, reģ. 01.01.2021. | B19: Klientu sk. | C19: Darba dienu skaits mēnesī | D19: Klientu dienu sk. | E19: Kl.dienas cena, euro | F19: Valsts līdzfinansējuma% 2025.g. | G19: Valsts līdzifnansējuma klientu dienas cena, euro | H19: Valsts līdzfinansējums, euro | I19: Naudas plūsma, euro | J19: Fakts/ Plāns
A20: Janvaris | D20: =B20*C20 -> 0 | H20: =ROUND((E20*F20 %)*D20,2) -> 0 | I20: =H15 -> 2637 | J20: Plāns
A21: Februāris | D21: =B21*C21 -> 0 | H21: =ROUND((E21*F21 %)*D21,2) -> 0 | I21: =H20 -> 0
A22: Marts | D22: =B22*C22 -> 0 | H22: =ROUND((E22*F22 %)*D22,2) -> 0 | I22: =H21 -> 0
A23: Aprīlis | D23: =B23*C23 -> 0 | H23: =ROUND((E23*F23 %)*D23,2) -> 0 | I23: =H22 -> 0
A24: Maijs | D24: =B24*C24 -> 0 | H24: =ROUND((E24*F24 %)*D24,2) -> 0 | I24: =H23 -> 0
A25: Jūnijs | D25: =B25*C25 -> 0 | H25: =ROUND((E25*F25 %)*D25,2) -> 0 | I25: =H24 -> 0
A26: Jūlijs | D26: =B26*C26 -> 0 | H26: =ROUND((E26*F26 %)*D26,2) -> 0 | I26: =H25 -> 0
A27: Augusts | D27: =B27*C27 -> 0 | H27: =ROUND((E27*F27 %)*D27,2) -> 0 | I27: =H26 -> 0
A28: Septembris | D28: =B28*C28 -> 0 | H28: =ROUND((E28*F28 %)*D28,2) -> 0 | I28: =H27 -> 0
A29: Oktobris | D29: =B29*C29 -> 0 | H29: =ROUND((E29*F29 %)*D29,2) -> 0 | I29: =H28 -> 0
A30: Novembris | D30: =B30*C30 -> 0 | H30: =ROUND((E30*F30 %)*D30,2) -> 0 | I30: =H29 -> 0
A31: Decembris | D31: =B31*C31 -> 0 | H31: =ROUND((E31*F31 %)*D31,2) -> 0 | I31: =H30 -> 0
A32: kopā | B32: x | C32: =SUM(C20:C31) -> 0 | D32: =SUM(D20:D31) -> 0 | E32: x | F32: x | H32: =SUM(H20:H31) -> 0 | I32: =SUM(I20:I31) -> 2637

Sheet 4
B2: 2024.g.
A3: Salaspils sociālo pakalpojumu centrs, reģ.dat. 10.09.2021. | B3: Klientu skaits kuriem ir pašaprūpes iemaņas | C3: Klientu skaits kuriem nepieciešamas atbalsts aprūpē | D3: Darba dienu skaits mēnesī | E3: Klientu dienu skaits kuriem ir pašaprūpes iemaņas | F3: Klientu dienu skaits kuriem nepieciešamas atbalsts aprūpē | G3: Kl.dienas cena ar pašaprūpes iemaņām | H3: Kl.dienas cena klientiem, kuriem nepiec.atbalsts | I3: Valsts līdzfinansējuma% 2024.g. | J3: Valsts līdzfinansējuma kl.dienas cena ar pašaprūpes iemaņām | K3: Valsts līdzfinansējuma ll.dienas cena klientiem, kuriem nepiec.atbalsts | L3: Valsts līdzfinansējums klientiem kuriem ir pašaprūpes iemaņas | M3: Valsts līdzfinansējums klientiem kuriem nepiec.atbalsts | N3: Valsts līdzfinansējums kopā | O3: Naudas plūsma | P3: Fakts/ Plāns
A4: Janvaris | B4: 17 | C4: 7 | D4: 22 | E4: 256 | F4: 63 | G4: 34.36 | H4: 40.16 | I4: 40 | J4: =ROUND(G4*I4 %,2) -> 13.74 | K4: =ROUND(H4*I4 %,2) -> 16.06 | L4: =ROUND(E4*J4,2) -> 3517.44 | M4: =ROUND(F4*K4,2) -> 1011.78 | N4: =L4+M4 -> 4529.22 | O4: 0 | P4: Fakts
A5: Februāris | B5: 15 | C5: 7 | D5: 21 | E5: 266 | F5: 74 | G5: 34.36 | H5: 40.16 | I5: 40 | J5: =ROUND(G5*I5 %,2) -> 13.74 | K5: =ROUND(H5*I5 %,2) -> 16.06 | L5: =ROUND(E5*J5,2) -> 3654.84 | M5: =ROUND(F5*K5,2) -> 1188.44 | N5: =L5+M5 -> 4843.28 | O5: 0
A6: Marts | B6: 16 | C6: 6 | D6: 20 | E6: 248 | F6: 70 | G6: 34.36 | H6: 40.16 | I6: 40 | J6: =ROUND(G6*I6 %,2) -> 13.74 | K6: =ROUND(H6*I6 %,2) -> 16.06 | L6: =ROUND(E6*J6,2) -> 3407.52 | M6: =ROUND(F6*K6,2) -> 1124.2 | N6: =L6+M6 -> 4531.72 | O6: 0
A7: Aprīlis | B7: 15 | C7: 6 | D7: 21 | E7: 183 | F7: 62 | G7: 34.36 | H7: 40.16 | I7: 40 | J7: =ROUND(G7*I7 %,2) -> 13.74 | K7: =ROUND(H7*I7 %,2) -> 16.06 | L7: =ROUND(E7*J7,2) -> 2514.42 | M7: =ROUND(F7*K7,2) -> 995.72 | N7: =L7+M7 -> 3510.14 | O7: 0
A8: Maijs | B8: 14 | C8: 7 | D8: 21 | E8: 205 | F8: 72 | G8: 34.36 | H8: 40.16 | I8: 40 | J8: =ROUND(G8*I8 %,2) -> 13.74 | K8: =ROUND(H8*I8 %,2) -> 16.06 | L8: =ROUND(E8*J8,2) -> 2816.7 | M8: =ROUND(F8*K8,2) -> 1156.32 | N8: =L8+M8 -> 3973.02 | O8: 0
A9: Jūnijs | B9: 15 | C9: 7 | D9: 19 | E9: 220 | F9: 62 | G9: 34.36 | H9: 40.16 | I9: 40 | J9: =ROUND(G9*I9 %,2) -> 13.74 | K9: =ROUND(H9*I9 %,2) -> 16.06 | L9: =ROUND(E9*J9,2) -> 3022.8 | M9: =ROUND(F9*K9,2) -> 995.72 | N9: =L9+M9 -> 4018.52 | O9: 0
A10: Jūlijs | B10: 16 | C10: 7 | D10: 23 | E10: 243 | F10: 56 | G10: 34.36 | H10: 40.16 | I10: 40 | J10: =ROUND(G10*I10 %,2) -> 13.74 | K10: =ROUND(H10*I10 %,2) -> 16.06 | L10: =ROUND(E10*J10,2) -> 3338.82 | M10: =ROUND(F10*K10,2) -> 899.36 | N10: =L10+M10 -> 4238.18 | O10: 0
A11: Augusts | B11: 15 | C11: 6 | D11: 22 | E11: 227 | F11: 47 | G11: 34.36 | H11: 40.16 | I11: 40 | J11: =ROUND(G11*I11 %,2) -> 13.74 | K11: =ROUND(H11*I11 %,2) -> 16.06 | L11: =ROUND(E11*J11,2) -> 3118.98 | M11: =ROUND(F11*K11,2) -> 754.82 | N11: =L11+M11 -> 3873.8 | O11: 0
A12: Septembris, līdz 09.09. | B12: 15 | C12: 6 | D12: 6 | E12: =ROUND(E19*D12,0) -> 66 | F12: =ROUND(F19*D12,0) -> 18 | G12: 34.36 | H12: 40.16 | I12: 40 | J12: =ROUND(G12*I12 %,2) -> 13.74 | K12: =ROUND(H12*I12 %,2) -> 16.06 | L12: =ROUND(E12*J12,2) -> 906.84 | M12: =ROUND(F12*K12,2) -> 289.08 | N12: =L12+M12 -> 1195.92 | O12: 0 | P12: Plāns
A13: Septembris, no 10.09. | B13: 15 | C13: 6 | D13: 15 | E13: =E18-E12 -> 165 | F13: =F18-F12 -> 45.25 | G13: 34.36 | H13: 40.16 | I13: 20 | J13: =ROUND(G13*I13 %,2) -> 6.87 | K13: =ROUND(H13*I13 %,2) -> 8.03 | L13: =ROUND(E13*J13,2) -> 1133.55 | M13: =ROUND(F13*K13,2) -> 363.36 | N13: =L13+M13 -> 1496.91 | O13: =SUM(N4:N11) -> 33517.88
A14: Oktobris | B14: 15 | C14: 6 | D14: 23 | E14: 231 | F14: 63 | G14: 34.36 | H14: 40.16 | I14: 20 | J14: =ROUND(G14*I14 %,2) -> 6.87 | K14: =ROUND(H14*I14 %,2) -> 8.03 | L14: =ROUND(E14*J14,2) -> 1586.97 | M14: =ROUND(F14*K14,2) -> 505.89 | N14: =L14+M14 -> 2092.86 | O14: =N12+N13 -> 2692.83
A15: Novembris | B15: 15 | C15: 6 | D15: 20 | E15: 231 | F15: 63 | G15: 34.36 | H15: 40.16 | I15: 20 | J15: =ROUND(G15*I15 %,2) -> 6.87 | K15: =ROUND(H15*I15 %,2) -> 8.03 | L15: =ROUND(E15*J15,2) -> 1586.97 | M15: =ROUND(F15*K15,2) -> 505.89 | N15: =L15+M15 -> 2092.86 | O15: =N14 -> 2092.86
A16: Decembris | B16: 15 | C16: 6 | D16: 18 | E16: 231 | F16: 63 | G16: 34.36 | H16: 40.16 | I16: 20 | J16: =ROUND(G16*I16 %,2) -> 6.87 | K16: =ROUND(H16*I16 %,2) -> 8.03 | L16: =ROUND(E16*J16,2) -> 1586.97 | M16: =ROUND(F16*K16,2) -> 505.89 | N16: =L16+M16 -> 2092.86 | O16: =N15 -> 2092.86
A17: kopā | B17: x | C17: x | D17: =SUM(D4:D16) -> 251 | E17: =SUM(E4:E16) -> 2772 | F17: =SUM(F4:F16) -> 758.25 | G17: x | H17: x | I17: x | J17: x | K17: x | L17: =SUM(L4:L16) -> 32192.82 | M17: =SUM(M4:M16) -> 10296.47 | N17: =SUM(N4:N16) -> 42489.29 | O17: =SUM(O4:O16) -> 40396.43
A18: vid.mēnesī (8 mēnešu vid.) | D18: =SUM(D4:D11)/8 -> 21.125 | E18: =SUM(E4:E11)/8 -> 231 | F18: =SUM(F4:F11)/8 -> 63.25
A19: Vid. 1 dienā | E19: =E18/D18 -> 10.934911 | F19: =F18/D18 -> 2.9940828
B20: 2025.g.
A21: Salaspils sociālo pakalpojumu centrs, reģ.dat. 10.09.2021. | B21: Klientu skaits kuriem ir pašaprūpes iemaņas | C21: Klientu skaits kuriem nepieciešamas atbalsts aprūpē | D21: Darba dienu skaits mēnesī | E21: Klientu dienu skaits kuriem ir pašaprūpes iemaņas | F21: Klientu dienu skaits kuriem nepieciešamas atbalsts aprūpē | G21: Kl.dienas cena ar pašaprūpes iemaņām | H21: Kl.dienas cena klientiem, kuriem nepiec.atbalsts | I21: Valsts līdzfinansējuma% 2025.g. | J21: Valsts līdzfinansējuma kl.dienas cena ar pašaprūpes iemaņām | K21: Valsts līdzfinansējuma ll.dienas cena klientiem, kuriem nepiec.atbalsts | L21: Valsts līdzfinansējums klientiem kuriem ir pašaprūpes iemaņas | M21: Valsts līdzfinansējums klientiem kuriem nepiec.atbalsts | N21: Valsts līdzfinansējums kopā | O21: Naudas plūsma | P21: Fakts/ Plāns
A22: Janvaris | B22: 17 | C22: 7 | D22: ='darba dienas'!B4 -> 22 | E22: 231 | F22: 63 | G22: 34.36 | H22: 40.16 | I22: 20 | J22: =ROUND(G22*I22 %,2) -> 6.87 | K22: =ROUND(H22*I22 %,2) -> 8.03 | L22: =ROUND(E22*J22,2) -> 1586.97 | M22: =ROUND(F22*K22,2) -> 505.89 | N22: =L22+M22 -> 2092.86 | O22: =N16 -> 2092.86 | P22: Plāns
A23: Februāris | B23: 15 | C23: 7 | D23: ='darba dienas'!C4 -> 20 | E23: 231 | F23: 63 | G23: 34.36 | H23: 40.16 | I23: 20 | J23: =ROUND(G23*I23 %,2) -> 6.87 | K23: =ROUND(H23*I23 %,2) -> 8.03 | L23: =ROUND(E23*J23,2) -> 1586.97 | M23: =ROUND(F23*K23,2) -> 505.89 | N23: =L23+M23 -> 2092.86 | O23: =N22 -> 2092.86
A24: Marts | B24: 16 | C24: 6 | D24: ='darba dienas'!D4 -> 21 | E24: 231 | F24: 63 | G24: 34.36 | H24: 40.16 | I24: 20 | J24: =ROUND(G24*I24 %,2) -> 6.87 | K24: =ROUND(H24*I24 %,2) -> 8.03 | L24: =ROUND(E24*J24,2) -> 1586.97 | M24: =ROUND(F24*K24,2) -> 505.89 | N24: =L24+M24 -> 2092.86 | O24: =N23 -> 2092.86
A25: Aprīlis | B25: 15 | C25: 6 | D25: ='darba dienas'!E4 -> 20 | E25: 231 | F25: 63 | G25: 34.36 | H25: 40.16 | I25: 20 | J25: =ROUND(G25*I25 %,2) -> 6.87 | K25: =ROUND(H25*I25 %,2) -> 8.03 | L25: =ROUND(E25*J25,2) -> 1586.97 | M25: =ROUND(F25*K25,2) -> 505.89 | N25: =L25+M25 -> 2092.86 | O25: =N24 -> 2092.86
A26: Maijs | B26: 14 | C26: 7 | D26: ='darba dienas'!F4 -> 20 | E26: 231 | F26: 63 | G26: 34.36 | H26: 40.16 | I26: 20 | J26: =ROUND(G26*I26 %,2) -> 6.87 | K26: =ROUND(H26*I26 %,2) -> 8.03 | L26: =ROUND(E26*J26,2) -> 1586.97 | M26: =ROUND(F26*K26,2) -> 505.89 | N26: =L26+M26 -> 2092.86 | O26: =N25 -> 2092.86
A27: Jūnijs | B27: 15 | C27: 7 | D27: ='darba dienas'!G4 -> 19 | E27: 231 | F27: 63 | G27: 34.36 | H27: 40.16 | I27: 20 | J27: =ROUND(G27*I27 %,2) -> 6.87 | K27: =ROUND(H27*I27 %,2) -> 8.03 | L27: =ROUND(E27*J27,2) -> 1586.97 | M27: =ROUND(F27*K27,2) -> 505.89 | N27: =L27+M27 -> 2092.86 | O27: =N26 -> 2092.86
A28: Jūlijs | B28: 16 | C28: 7 | D28: ='darba dienas'!H4 -> 23 | E28: 231 | F28: 63 | G28: 34.36 | H28: 40.16 | I28: 20 | J28: =ROUND(G28*I28 %,2) -> 6.87 | K28: =ROUND(H28*I28 %,2) -> 8.03 | L28: =ROUND(E28*J28,2) -> 1586.97 | M28: =ROUND(F28*K28,2) -> 505.89 | N28: =L28+M28 -> 2092.86 | O28: =N27 -> 2092.86
A29: Augusts | B29: 15 | C29: 6 | D29: ='darba dienas'!I4 -> 21 | E29: 231 | F29: 63 | G29: 34.36 | H29: 40.16 | I29: 20 | J29: =ROUND(G29*I29 %,2) -> 6.87 | K29: =ROUND(H29*I29 %,2) -> 8.03 | L29: =ROUND(E29*J29,2) -> 1586.97 | M29: =ROUND(F29*K29,2) -> 505.89 | N29: =L29+M29 -> 2092.86 | O29: =N28 -> 2092.86
A30: Septembris, līdz 09.09. | B30: 15 | C30: 6 | D30: 7 | E30: 66 | F30: 18 | G30: 34.36 | H30: 40.16 | I30: 20 | J30: =ROUND(G30*I30 %,2) -> 6.87 | K30: =ROUND(H30*I30 %,2) -> 8.03 | L30: =ROUND(E30*J30,2) -> 453.42 | M30: =ROUND(F30*K30,2) -> 144.54 | N30: =L30+M30 -> 597.96 | O30: =N29 -> 2092.86
A31: Septembris, no 10.09. | J31: =ROUND(G31*I31 %,2) -> 0 | K31: =ROUND(H31*I31 %,2) -> 0 | L31: =ROUND(E31*J31,2) -> 0 | M31: =ROUND(F31*K31,2) -> 0 | N31: =L31+M31 -> 0 | O31: =N30 -> 597.96
A32: Oktobris | J32: =ROUND(G32*I32 %,2) -> 0 | K32: =ROUND(H32*I32 %,2) -> 0 | L32: =ROUND(E32*J32,2) -> 0 | M32: =ROUND(F32*K32,2) -> 0 | N32: =L32+M32 -> 0 | O32: =N31 -> 0
A33: Novembris | J33: =ROUND(G33*I33 %,2) -> 0 | K33: =ROUND(H33*I33 %,2) -> 0 | L33: =ROUND(E33*J33,2) -> 0 | M33: =ROUND(F33*K33,2) -> 0 | N33: =L33+M33 -> 0 | O33: =N32 -> 0
A34: Decembris | J34: =ROUND(G34*I34 %,2) -> 0 | K34: =ROUND(H34*I34 %,2) -> 0 | L34: =ROUND(E34*J34,2) -> 0 | M34: =ROUND(F34*K34,2) -> 0 | N34: =L34+M34 -> 0 | O34: =N33 -> 0
A35: kopā | B35: x | C35: x | D35: =SUM(D22:D34) -> 173 | E35: =SUM(E22:E34) -> 1914 | F35: =SUM(F22:F34) -> 522 | G35: x | H35: x | I35: x | J35: x | K35: x | L35: =SUM(L22:L34) -> 13149.18 | M35: =SUM(M22:M34) -> 4191.66 | N35: =SUM(N22:N34) -> 17340.84 | O35: =SUM(O22:O34) -> 19433.7

Sheet 5
B2: 2024.g.
A3: Rēzeknes SD pārvaldes daudzfunkcionālo soc.pakalp.c. reģ. 01.09.2021. | B3: Klientu sk. | C3: Darba dienu skaits mēnesī | D3: Klientu dienu sk. | E3: Kl.dienas cena | F3: Valsts līdzfinansējuma% 2024.g. | G3: Valsts līdzifnansējuma klientu dienas cena, euro | H3: Valsts līdzfinansējums | I3: Naudas plūsma | J3: Fakts / plāns
A4: Janvaris | B4: 36 | C4: 22 | D4: 345 | E4: 23.16 | F4: 40 | G4: =ROUND(E4*F4 %,2) -> 9.26 | H4: =D4*G4 -> 3194.7 | I4: 0 | J4: Fakts
A5: Februāris | B5: 30 | C5: 21 | D5: 287 | E5: 23.16 | F5: 40 | G5: =ROUND(E5*F5 %,2) -> 9.26 | H5: =D5*G5 -> 2657.62 | I5: 0
A6: Marts | B6: 35 | C6: 20 | D6: 270 | E6: 23.16 | F6: 40 | G6: =ROUND(E6*F6 %,2) -> 9.26 | H6: =D6*G6 -> 2500.2 | I6: 0
A7: Aprīlis | B7: 34 | C7: 21 | D7: 330 | E7: 23.16 | F7: 40 | G7: =ROUND(E7*F7 %,2) -> 9.26 | H7: =D7*G7 -> 3055.8 | I7: 0
A8: Maijs | B8: 32 | C8: 21 | D8: 297 | E8: 23.16 | F8: 40 | G8: =ROUND(E8*F8 %,2) -> 9.26 | H8: =D8*G8 -> 2750.22 | I8: 0
A9: Jūnijs | B9: 33 | C9: 19 | D9: 333 | E9: 23.16 | F9: 40 | G9: =ROUND(E9*F9 %,2) -> 9.26 | H9: =D9*G9 -> 3083.58 | I9: 0
A10: Jūlijs | B10: 34 | C10: 23 | D10: 370 | E10: 23.16 | F10: 40 | G10: =ROUND(E10*F10 %,2) -> 9.26 | H10: =D10*G10 -> 3426.2 | I10: 0
A11: Augusts | B11: 33 | C11: 22 | D11: 343 | E11: 23.16 | F11: 40 | G11: =ROUND(E11*F11 %,2) -> 9.26 | H11: =D11*G11 -> 3176.18 | I11: 0
A12: Septembris | B12: 33 | C12: 21 | D12: 321 | E12: 23.16 | F12: 20 | G12: =ROUND(E12*F12 %,2) -> 4.63 | H12: =D12*G12 -> 1486.23 | I12: =SUM(H4:H11) -> 23844.5 | J12: Plāns
A13: Oktobris | B13: 33 | C13: 23 | D13: 321 | E13: 23.16 | F13: 20 | G13: =ROUND(E13*F13 %,2) -> 4.63 | H13: =D13*G13 -> 1486.23 | I13: =H12 -> 1486.23
A14: Novembris | B14: 33 | C14: 20 | D14: 321 | E14: 23.16 | F14: 20 | G14: =ROUND(E14*F14 %,2) -> 4.63 | H14: =D14*G14 -> 1486.23 | I14: =H13 -> 1486.23
A15: Decembris | B15: 33 | C15: 18 | D15: 321 | E15: 23.16 | F15: 20 | G15: =ROUND(E15*F15 %,2) -> 4.63 | H15: =D15*G15 -> 1486.23 | I15: =H14 -> 1486.23
A16: kopā | B16: x | C16: =SUM(C4:C15) -> 251 | D16: =SUM(D4:D15) -> 3859 | E16: x | F16: x | G16: x | H16: =SUM(H4:H15) -> 29789.42 | I16: =SUM(I4:I15) -> 28303.19
B18: 2025.g.
A19: Rēzeknes SD pārvaldes daudzfunkcionālo soc.pakalp.c. reģ. 01.09.2021. | B19: Klientu sk. | C19: Darba dienu skaits mēnesī | D19: Klientu dienu sk. | E19: Kl.dienas cena | F19: Valsts līdzfinansējuma% 2025.g. | G19: Valsts līdzifnansējuma klientu dienas cena, euro | H19: Valsts līdzfinansējums | I19: Naudas plūsma | J19: Plāns
A20: Janvaris | B20: 33 | C20: 22 | D20: 321 | E20: 23.16 | F20: 20 | G20: =ROUND(E20*F20 %,2) -> 4.63 | H20: =ROUND((E20*F20 %)*D20,2) -> 1486.87 | I20: =H15 -> 1486.23 | J20: Plāns
A21: Februāris | B21: 33 | C21: 20 | D21: 321 | E21: 23.16 | F21: 20 | G21: =ROUND(E21*F21 %,2) -> 4.63 | H21: =ROUND((E21*F21 %)*D21,2) -> 1486.87 | I21: =H20 -> 1486.87
A22: Marts | B22: 33 | C22: 21 | D22: 321 | E22: 23.16 | F22: 20 | G22: =ROUND(E22*F22 %,2) -> 4.63 | H22: =ROUND((E22*F22 %)*D22,2) -> 1486.87 | I22: =H21 -> 1486.87
A23: Aprīlis | B23: 33 | C23: 20 | D23: 321 | E23: 23.16 | F23: 20 | G23: =ROUND(E23*F23 %,2) -> 4.63 | H23: =ROUND((E23*F23 %)*D23,2) -> 1486.87 | I23: =H22 -> 1486.87
A24: Maijs | B24: 33 | C24: 20 | D24: 321 | E24: 23.16 | F24: 20 | G24: =ROUND(E24*F24 %,2) -> 4.63 | H24: =ROUND((E24*F24 %)*D24,2) -> 1486.87 | I24: =H23 -> 1486.87
A25: Jūnijs | B25: 33 | C25: 19 | D25: 321 | E25: 23.16 | F25: 20 | G25: =ROUND(E25*F25 %,2) -> 4.63 | H25: =ROUND((E25*F25 %)*D25,2) -> 1486.87 | I25: =H24 -> 1486.87
A26: Jūlijs | B26: 33 | C26: 23 | D26: 321 | E26: 23.16 | F26: 20 | G26: =ROUND(E26*F26 %,2) -> 4.63 | H26: =ROUND((E26*F26 %)*D26,2) -> 1486.87 | I26: =H25 -> 1486.87
A27: Augusts | B27: 33 | C27: 21 | D27: 321 | E27: 23.16 | F27: 20 | G27: =ROUND(E27*F27 %,2) -> 4.63 | H27: =ROUND((E27*F27 %)*D27,2) -> 1486.87 | I27: =H26 -> 1486.87
A28: Septembris | D28: =B28*C28 -> 0 | H28: =ROUND((E28*F28 %)*D28,2) -> 0 | I28: =H27 -> 1486.87
A29: Oktobris | D29: =B29*C29 -> 0 | H29: =ROUND((E29*F29 %)*D29,2) -> 0 | I29: =H28 -> 0
A30: Novembris | D30: =B30*C30 -> 0 | H30: =ROUND((E30*F30 %)*D30,2) -> 0 | I30: =H29 -> 0
A31: Decembris | D31: =B31*C31 -> 0 | H31: =ROUND((E31*F31 %)*D31,2) -> 0 | I31: =H30 -> 0
A32: kopā | B32: x | C32: =SUM(C20:C31) -> 166 | D32: =SUM(D20:D31) -> 2568 | E32: x | F32: x | H32: =SUM(H20:H31) -> 11894.96 | I32: =SUM(I20:I31) -> 13381.19

Sheet 6
B2: 2024.g.
A3: Kuldīgas SD DAC, reģ.dat. 17.01.2024. | B3: Klientu sk. | C3: Darba dienu skaits mēnesī | D3: Klientu dienu sk. | E3: Kl.dienas cena, euro | F3: Valsts līdzfinansējuma% 2024.g. | G3: Valsts līdzifnansējuma klientu dienas cena, euro | H3: Valsts līdzfinansējums, euro | I3: Naudas plūsma, euro | J3: Fakts / Plāns
A4: Janvaris no 17.01. | B4: 10 | C4: 22 | D4: 58 | E4: 19.13 | F4: 80 | G4: =ROUND(E4*F4 %,2) -> 15.3 | H4: =D4*G4 -> 887.4 | I4: 0 | J4: Fakts
A5: Februāris | B5: 16 | C5: 21 | D5: 203 | E5: 19.13 | F5: 80 | G5: =ROUND(E5*F5 %,2) -> 15.3 | H5: =D5*G5 -> 3105.9 | I5: 0
A6: Marts | B6: 21 | C6: 20 | D6: 206 | E6: 19.13 | F6: 80 | G6: =ROUND(E6*F6 %,2) -> 15.3 | H6: =D6*G6 -> 3151.8 | I6: 0
A7: Aprīlis | B7: 22 | C7: 21 | D7: 174 | E7: 19.13 | F7: 80 | G7: =ROUND(E7*F7 %,2) -> 15.3 | H7: =D7*G7 -> 2662.2 | I7: 0
A8: Maijs | B8: 20 | C8: 21 | D8: 161 | E8: 19.13 | F8: 80 | G8: =ROUND(E8*F8 %,2) -> 15.3 | H8: =D8*G8 -> 2463.3 | I8: 0
A9: Jūnijs | B9: 18 | C9: 19 | D9: 115 | E9: 19.13 | F9: 80 | G9: =ROUND(E9*F9 %,2) -> 15.3 | H9: =D9*G9 -> 1759.5 | I9: 0
A10: Jūlijs | B10: 20 | C10: 23 | D10: 144 | E10: 19.13 | F10: 80 | G10: =ROUND(E10*F10 %,2) -> 15.3 | H10: =D10*G10 -> 2203.2 | I10: 0
A11: Augusts | B11: 21 | C11: 22 | D11: 140 | E11: 19.13 | F11: 80 | G11: =ROUND(E11*F11 %,2) -> 15.3 | H11: =D11*G11 -> 2142 | I11: 0
A12: Septembris | B12: 18 | C12: 21 | D12: 150 | E12: 19.13 | F12: 80 | G12: =ROUND(E12*F12 %,2) -> 15.3 | H12: =D12*G12 -> 2295 | I12: =SUM(H4:H11) -> 18375.3 | J12: Plāns
A13: Oktobris | B13: 18 | C13: 23 | D13: 150 | E13: 19.13 | F13: 80 | G13: =ROUND(E13*F13 %,2) -> 15.3 | H13: =D13*G13 -> 2295 | I13: =H12 -> 2295
A14: Novembris | B14: 18 | C14: 20 | D14: 150 | E14: 19.13 | F14: 80 | G14: =ROUND(E14*F14 %,2) -> 15.3 | H14: =D14*G14 -> 2295 | I14: =H13 -> 2295
A15: Decembris | B15: 18 | C15: 18 | D15: 150 | E15: 19.13 | F15: 80 | G15: =ROUND(E15*F15 %,2) -> 15.3 | H15: =D15*G15 -> 2295 | I15: =H14 -> 2295
A16: kopā | B16: x | C16: =SUM(C4:C15) -> 251 | D16: =SUM(D4:D15) -> 1801 | E16: x | F16: x | G16: x | H16: =SUM(H4:H15) -> 27555.3 | I16: =SUM(I4:I15) -> 25260.3
A17: vid.mēnesī (8 mēnešu vid.) | C17: =AVERAGE(C4:C11) -> 21.125 | D17: =AVERAGE(D4:D11) -> 150.125
A18: Vid. 1 dienā | D18: =D17/C17 -> 7.1065089
A19: 10 % pieaug.turpm.periodam | D19: =ROUND((D17*0.1)+D17,0) -> 165
B20: 2025.g.
A21: Kuldīgas SD DAC, reģ.dat. 17.01.2024. | B21: Klientu sk. | C21: Darba dienu skaits mēnesī | D21: Klientu dienu sk. | E21: Kl.dienas cena, euro | F21: Valsts līdzfinansējuma% 2025.g. | G21: Valsts līdzifnansējuma klientu dienas cena, euro | H21: Valsts līdzfinansējums, euro | I21: Naudas plūsma, euro | J21: Fakts / Plāns
A22: Janvāris līdz 16.01. | B22: 18 | C22: 11 | D22: =ROUND($D$18*C22,0) -> 78 | E22: 19.13 | F22: 80 | G22: =ROUND(E22*F22 %,2) -> 15.3 | H22: =D22*G22 -> 1193.4 | I22: =H15 -> 2295 | J22: Plāns
A23: Janvāris no 17.01. | B23: 18 | C23: 11 | D23: =ROUND($D$18*C23,0) -> 78 | E23: 19.13 | F23: 60 | G23: =ROUND(E23*F23 %,2) -> 11.48 | H23: =D23*G23 -> 895.44
A24: Februāris | B24: 18 | C24: 20 | D24: 165 | E24: 19.13 | F24: 60 | G24: =ROUND(E24*F24 %,2) -> 11.48 | H24: =D24*G24 -> 1894.2 | I24: =H22+H23 -> 2088.84
A25: Marts | B25: 18 | C25: 21 | D25: 165 | E25: 19.13 | F25: 60 | G25: =ROUND(E25*F25 %,2) -> 11.48 | H25: =D25*G25 -> 1894.2 | I25: =H24 -> 1894.2
A26: Aprīlis | B26: 18 | C26: 20 | D26: 165 | E26: 19.13 | F26: 60 | G26: =ROUND(E26*F26 %,2) -> 11.48 | H26: =D26*G26 -> 1894.2 | I26: =H25 -> 1894.2
A27: Maijs | B27: 18 | C27: 20 | D27: 165 | E27: 19.13 | F27: 60 | G27: =ROUND(E27*F27 %,2) -> 11.48 | H27: =D27*G27 -> 1894.2 | I27: =H26 -> 1894.2
A28: Jūnijs | B28: 18 | C28: 19 | D28: 165 | E28: 19.13 | F28: 60 | G28: =ROUND(E28*F28 %,2) -> 11.48 | H28: =D28*G28 -> 1894.2 | I28: =H27 -> 1894.2
A29: Jūlijs | B29: 18 | C29: 23 | D29: 165 | E29: 19.13 | F29: 60 | G29: =ROUND(E29*F29 %,2) -> 11.48 | H29: =D29*G29 -> 1894.2 | I29: =H28 -> 1894.2
A30: Augusts | B30: 18 | C30: 21 | D30: 165 | E30: 19.13 | F30: 60 | G30: =ROUND(E30*F30 %,2) -> 11.48 | H30: =D30*G30 -> 1894.2 | I30: =H29 -> 1894.2
A31: Septembris | B31: 18 | C31: 22 | D31: 165 | E31: 19.13 | F31: 60 | G31: =ROUND(E31*F31 %,2) -> 11.48 | H31: =D31*G31 -> 1894.2 | I31: =H30 -> 1894.2
A32: Oktobris | B32: 18 | C32: 23 | D32: 165 | E32: 19.13 | F32: 60 | G32: =ROUND(E32*F32 %,2) -> 11.48 | H32: =D32*G32 -> 1894.2 | I32: =H31 -> 1894.2
A33: Novembris | B33: 18 | C33: 19 | D33: 165 | E33: 19.13 | F33: 60 | G33: =ROUND(E33*F33 %,2) -> 11.48 | H33: =D33*G33 -> 1894.2 | I33: =H32 -> 1894.2
A34: Decembris | B34: 18 | C34: 19 | D34: 165 | E34: 19.13 | F34: 60 | G34: =ROUND(E34*F34 %,2) -> 11.48 | H34: =D34*G34 -> 1894.2 | I34: =H33 -> 1894.2
A35: kopā | B35: x | C35: =SUM(C22:C34) -> 249 | D35: =SUM(D22:D34) -> 1971 | E35: x | F35: x | G35: x | H35: =SUM(H22:H34) -> 22925.04 | I35: =SUM(I22:I34) -> 23325.84
A36: 10 % pieaug.turpm.periodam | D36: =ROUND((D34*0.1)+D34,0) -> 182
B37: 2026.g.
A38: Kuldīgas SD DAC, reģ.dat. 17.01.2024. | B38: Klientu sk. | C38: Darba dienu skaits mēnesī | D38: Klientu dienu sk. | E38: Kl.dienas cena, euro | F38: Valsts līdzfinansējuma% 2026.g. | G38: Valsts līdzifnansējuma klientu dienas cena, euro | H38: Valsts līdzfinansējums, euro | I38: Naudas plūsma, euro | J38: Fakts / Plāns
A39: Janvāris līdz 16.01. | B39: 18 | C39: 11 | D39: =ROUND($D$18*C39,0) -> 78 | E39: 19.13 | F39: 60 | G39: =ROUND(E39*F39 %,2) -> 11.48 | H39: =D39*G39 -> 895.44 | I39: =H34 -> 1894.2 | J39: Plāns
A40: Janvāris no 17.01. | B40: 18 | C40: 10 | D40: =ROUND($D$18*C40,0) -> 71 | E40: 19.13 | F40: 40 | G40: =ROUND(E40*F40 %,2) -> 7.65 | H40: =D40*G40 -> 543.15
A41: Februāris | B41: 18 | C41: 20 | D41: 182 | E41: 19.13 | F41: 40 | G41: =ROUND(E41*F41 %,2) -> 7.65 | H41: =D41*G41 -> 1392.3 | I41: =H39+H40 -> 1438.59
A42: Marts | B42: 18 | C42: 22 | D42: 182 | E42: 19.13 | F42: 40 | G42: =ROUND(E42*F42 %,2) -> 7.65 | H42: =D42*G42 -> 1392.3 | I42: =H41 -> 1392.3
A43: Aprīlis | B43: 18 | C43: 21 | D43: 182 | E43: 19.13 | F43: 40 | G43: =ROUND(E43*F43 %,2) -> 7.65 | H43: =D43*G43 -> 1392.3 | I43: =H42 -> 1392.3
A44: Maijs | B44: 18 | C44: 19 | D44: 182 | E44: 19.13 | F44: 40 | G44: =ROUND(E44*F44 %,2) -> 7.65 | H44: =D44*G44 -> 1392.3 | I44: =H43 -> 1392.3
A45: Jūnijs | B45: 18 | C45: 20 | D45: 182 | E45: 19.13 | F45: 40 | G45: =ROUND(E45*F45 %,2) -> 7.65 | H45: =D45*G45 -> 1392.3 | I45: =H44 -> 1392.3
A46: Jūlijs | B46: 18 | C46: 23 | D46: 182 | E46: 19.13 | F46: 40 | G46: =ROUND(E46*F46 %,2) -> 7.65 | H46: =D46*G46 -> 1392.3 | I46: =H45 -> 1392.3
A47: Augusts | B47: 18 | C47: 21 | D47: 182 | E47: 19.13 | F47: 40 | G47: =ROUND(E47*F47 %,2) -> 7.65 | H47: =D47*G47 -> 1392.3 | I47: =H46 -> 1392.3
A48: Septembris | B48: 18 | C48: 22 | D48: 182 | E48: 19.13 | F48: 40 | G48: =ROUND(E48*F48 %,2) -> 7.65 | H48: =D48*G48 -> 1392.3 | I48: =H47 -> 1392.3
A49: Oktobris | B49: 18 | C49: 22 | D49: 182 | E49: 19.13 | F49: 40 | G49: =ROUND(E49*F49 %,2) -> 7.65 | H49: =D49*G49 -> 1392.3 | I49: =H48 -> 1392.3
A50: Novembris | B50: 18 | C50: 20 | D50: 182 | E50: 19.13 | F50: 40 | G50: =ROUND(E50*F50 %,2) -> 7.65 | H50: =D50*G50 -> 1392.3 | I50: =H49 -> 1392.3
A51: Decembris | B51: 18 | C51: 20 | D51: 182 | E51: 19.13 | F51: 40 | G51: =ROUND(E51*F51 %,2) -> 7.65 | H51: =D51*G51 -> 1392.3 | I51: =H50 -> 1392.3
A52: kopā | B52: x | C52: =SUM(C39:C51) -> 251 | D52: =SUM(D39:D51) -> 2151 | E52: x | F52: x | G52: x | H52: =SUM(H39:H51) -> 16753.89 | I52: =SUM(I39:I51) -> 17255.79
A53: 10 % pieaug.turpm.periodam | D53: =ROUND((D51*0.1)+D51,0) -> 200
B54: 2027.g.
A55: Kuldīgas SD DAC, reģ.dat. 17.01.2024. | B55: Klientu sk. | C55: Darba dienu skaits mēnesī | D55: Klientu dienu sk. | E55: Kl.dienas cena, euro | F55: Valsts līdzfinansējuma% 2027.g. | G55: Valsts līdzifnansējuma klientu dienas cena, euro | H55: Valsts līdzfinansējums, euro | I55: Naudas plūsma, euro | J55: Fakts / Plāns
A56: Janvāris līdz 16.01. | B56: 25 | C56: 10 | D56: =ROUND($D$18*C56,0) -> 71 | E56: 19.13 | F56: 40 | G56: =ROUND(E56*F56 %,2) -> 7.65 | H56: =D56*G56 -> 543.15 | I56: =H51 -> 1392.3 | J56: Plāns
A57: Janvāris no 17.01. | B57: 25 | C57: 10 | D57: =ROUND($D$18*C57,0) -> 71 | E57: 19.13 | F57: 20 | G57: =ROUND(E57*F57 %,2) -> 3.83 | H57: =D57*G57 -> 271.93
A58: Februāris | B58: 25 | C58: 20 | D58: 200 | E58: 19.13 | F58: 20 | G58: =ROUND(E58*F58 %,2) -> 3.83 | H58: =D58*G58 -> 766 | I58: =H56+H57 -> 815.08
A59: Marts | B59: 25 | C59: 21 | D59: 200 | E59: 19.13 | F59: 20 | G59: =ROUND(E59*F59 %,2) -> 3.83 | H59: =D59*G59 -> 766 | I59: =H58 -> 766
A60: Aprīlis | B60: 25 | C60: 22 | D60: 200 | E60: 19.13 | F60: 20 | G60: =ROUND(E60*F60 %,2) -> 3.83 | H60: =D60*G60 -> 766 | I60: =H59 -> 766
A61: Maijs | B61: 25 | C61: 20 | D61: 200 | E61: 19.13 | F61: 20 | G61: =ROUND(E61*F61 %,2) -> 3.83 | H61: =D61*G61 -> 766 | I61: =H60 -> 766
A62: Jūnijs | B62: 25 | C62: 20 | D62: 200 | E62: 19.13 | F62: 20 | G62: =ROUND(E62*F62 %,2) -> 3.83 | H62: =D62*G62 -> 766 | I62: =H61 -> 766
A63: Jūlijs | B63: 25 | C63: 22 | D63: 200 | E63: 19.13 | F63: 20 | G63: =ROUND(E63*F63 %,2) -> 3.83 | H63: =D63*G63 -> 766 | I63: =H62 -> 766
A64: Augusts | B64: 25 | C64: 22 | D64: 200 | E64: 19.13 | F64: 20 | G64: =ROUND(E64*F64 %,2) -> 3.83 | H64: =D64*G64 -> 766 | I64: =H63 -> 766
A65: Septembris | B65: 25 | C65: 22 | D65: 200 | E65: 19.13 | F65: 20 | G65: =ROUND(E65*F65 %,2) -> 3.83 | H65: =D65*G65 -> 766 | I65: =H64 -> 766
A66: Oktobris | B66: 25 | C66: 21 | D66: 200 | E66: 19.13 | F66: 20 | G66: =ROUND(E66*F66 %,2) -> 3.83 | H66: =D66*G66 -> 766 | I66: =H65 -> 766
A67: Novembris | B67: 25 | C67: 21 | D67: 200 | E67: 19.13 | F67: 20 | G67: =ROUND(E67*F67 %,2) -> 3.83 | H67: =D67*G67 -> 766 | I67: =H66 -> 766
A68: Decembris | B68: 25 | C68: 21 | D68: 200 | E68: 19.13 | F68: 20 | G68: =ROUND(E68*F68 %,2) -> 3.83 | H68: =D68*G68 -> 766 | I68: =H67 -> 766
A69: kopā | B69: x | C69: =SUM(C56:C68) -> 252 | D69: =SUM(D56:D68) -> 2342 | E69: x | F69: x | G69: x | H69: =SUM(H56:H68) -> 9241.08 | I69: =SUM(I56:I68) -> 9867.38
B71: 2028.g.
A72: Kuldīgas SD DAC, reģ.dat. 17.01.2024. | B72: Klientu sk. | C72: Darba dienu skaits mēnesī | D72: Klientu dienu sk. | E72: Kl.dienas cena, euro | F72: Valsts līdzfinansējuma% 2028.g. | G72: Valsts līdzifnansējuma klientu dienas cena, euro | H72: Valsts līdzfinansējums, euro | I72: Naudas plūsma, euro | J72: Fakts / Plāns
A73: Janvāris līdz 16.01. | B73: 17 | C73: 10 | D73: =ROUND(D18*C73,0) -> 71 | E73: 19.13 | F73: 20 | G73: =ROUND(E73*F73 %,2) -> 3.83 | H73: =D73*G73 -> 271.93 | I73: =H68 -> 766 | J73: Plāns
A74: Janvāris no 17.01. | D74: =B74*C74 -> 0 | H74: =ROUND((E74*F74 %)*D74,2) -> 0
A75: Februāris | D75: =B75*C75 -> 0 | H75: =ROUND((E75*F75 %)*D75,2) -> 0 | I75: =H73+H74 -> 271.93
A76: Marts | D76: =B76*C76 -> 0 | H76: =ROUND((E76*F76 %)*D76,2) -> 0 | I76: =H75 -> 0
A77: Aprīlis | D77: =B77*C77 -> 0 | H77: =ROUND((E77*F77 %)*D77,2) -> 0 | I77: =H76 -> 0
A78: Maijs | D78: =B78*C78 -> 0 | H78: =ROUND((E78*F78 %)*D78,2) -> 0 | I78: =H77 -> 0
A79: Jūnijs | D79: =B79*C79 -> 0 | H79: =ROUND((E79*F79 %)*D79,2) -> 0 | I79: =H78 -> 0
A80: Jūlijs | D80: =B80*C80 -> 0 | H80: =ROUND((E80*F80 %)*D80,2) -> 0 | I80: =H79 -> 0
A81: Augusts | D81: =B81*C81 -> 0 | H81: =ROUND((E81*F81 %)*D81,2) -> 0 | I81: =H80 -> 0
A82: Septembris | D82: =B82*C82 -> 0 | H82: =ROUND((E82*F82 %)*D82,2) -> 0 | I82: =H81 -> 0
A83: Oktobris | D83: =B83*C83 -> 0 | H83: =ROUND((E83*F83 %)*D83,2) -> 0 | I83: =H82 -> 0
A84: Novembris | D84: =B84*C84 -> 0 | H84: =ROUND((E84*F84 %)*D84,2) -> 0 | I84: =H83 -> 0
A85: Decembris | D85: =B85*C85 -> 0 | H85: =ROUND((E85*F85 %)*D85,2) -> 0 | I85: =H84 -> 0
A86: kopā | B86: x | C86: =SUM(C73:C85) -> 10 | D86: =SUM(D73:D85) -> 71 | E86: x | F86: x | G86: x | H86: =SUM(H73:H85) -> 271.93 | I86: =SUM(I73:I85) -> 1037.93

Sheet 7
B2: 2024.g.
A3: Rūpju bērns DAC Pērle Cēsis, reģ.dat. 01.01.2022. | B3: Klientu sk. | C3: Darba dienu skaits mēnesī | D3: Klientu dienu sk. | E3: Kl.dienas cena, euro | F3: Valsts līdzfinansējuma% 2024.g. | G3: Valsts līdzifnansējuma klientu dienas cena, euro | H3: Valsts līdzfinansējums, euro | I3: Naudas plūsma, euro | J3: Fakts / Plāns
A4: Janvaris | B4: 18 | C4: 22 | D4: 343 | E4: 41.57 | F4: 40 | G4: =ROUND(E4*F4 %,2) -> 16.63 | H4: =D4*G4 -> 5704.09 | I4: 0 | J4: Fakts
A5: Februāris | B5: 19 | C5: 21 | D5: 341 | E5: 41.57 | F5: 40 | G5: =ROUND(E5*F5 %,2) -> 16.63 | H5: =D5*G5 -> 5670.83 | I5: 0
A6: Marts | B6: 18 | C6: 20 | D6: 313 | E6: 41.57 | F6: 40 | G6: =ROUND(E6*F6 %,2) -> 16.63 | H6: =D6*G6 -> 5205.19 | I6: 0
A7: Aprīlis | B7: 18 | C7: 21 | D7: 314 | E7: 41.57 | F7: 40 | G7: =ROUND(E7*F7 %,2) -> 16.63 | H7: =D7*G7 -> 5221.82 | I7: 0
A8: Maijs | B8: 17 | C8: 21 | D8: 294 | E8: 41.57 | F8: 40 | G8: =ROUND(E8*F8 %,2) -> 16.63 | H8: =D8*G8 -> 4889.22 | I8: 0
A9: Jūnijs | B9: 19 | C9: 19 | D9: 274 | E9: 41.57 | F9: 40 | G9: =ROUND(E9*F9 %,2) -> 16.63 | H9: =D9*G9 -> 4556.62 | I9: 0
A10: Jūlijs | B10: 20 | C10: 23 | D10: 343 | E10: 41.57 | F10: 40 | G10: =ROUND(E10*F10 %,2) -> 16.63 | H10: =D10*G10 -> 5704.09 | I10: 0
A11: Augusts | B11: 19 | C11: 22 | D11: 349 | E11: 41.57 | F11: 40 | G11: =ROUND(E11*F11 %,2) -> 16.63 | H11: =D11*G11 -> 5803.87 | I11: 0
A12: Septembris | B12: 18 | C12: 21 | D12: 321 | E12: 41.57 | F12: 40 | G12: =ROUND(E12*F12 %,2) -> 16.63 | H12: =D12*G12 -> 5338.23 | I12: =SUM(H4:H11) -> 42755.73 | J12: Plāns
A13: Oktobris | B13: 18 | C13: 23 | D13: 321 | E13: 41.57 | F13: 40 | G13: =ROUND(E13*F13 %,2) -> 16.63 | H13: =D13*G13 -> 5338.23 | I13: =H12 -> 5338.23
A14: Novembris | B14: 18 | C14: 20 | D14: 321 | E14: 41.57 | F14: 40 | G14: =ROUND(E14*F14 %,2) -> 16.63 | H14: =D14*G14 -> 5338.23 | I14: =H13 -> 5338.23
A15: Decembris | B15: 18 | C15: 18 | D15: 321 | E15: 41.57 | F15: 40 | G15: =ROUND(E15*F15 %,2) -> 16.63 | H15: =D15*G15 -> 5338.23 | I15: =H14 -> 5338.23
A16: kopā | B16: x | C16: =SUM(C4:C15) -> 251 | D16: =SUM(D4:D15) -> 3855 | E16: x | F16: x | G16: x | H16: =SUM(H4:H15) -> 64108.65 | I16: =SUM(I4:I15) -> 58770.42
B18: 2025.g.
A19: Rūpju bērns DAC Pērle Cēsis, reģ.dat. 01.01.2022. | B19: Klientu sk. | C19: Darba dienu skaits mēnesī | D19: Klientu dienu sk. | E19: Kl.dienas cena, euro | F19: Valsts līdzfinansējuma% 2025.g. | G19: Valsts līdzifnansējuma klientu dienas cena, euro | H19: Valsts līdzfinansējums, euro | I19: Naudas plūsma, euro | J19: Fakts / Plāns
A20: Janvaris | B20: 17 | C20: 22 | D20: =B20*C20 -> 374 | E20: 41.57 | F20: 20 | G20: =ROUND(E20*F20 %,2) -> 8.31 | H20: =D20*G20 -> 3107.94 | I20: =H15 -> 5338.23 | J20: Plāns
A21: Februāris | B21: 17 | C21: 20 | D21: =B21*C21 -> 340 | E21: 41.57 | F21: 20 | G21: =ROUND(E21*F21 %,2) -> 8.31 | H21: =D21*G21 -> 2825.4 | I21: =H20 -> 3107.94
A22: Marts | B22: 17 | C22: 21 | D22: =B22*C22 -> 357 | E22: 41.57 | F22: 20 | G22: =ROUND(E22*F22 %,2) -> 8.31 | H22: =D22*G22 -> 2966.67 | I22: =H21 -> 2825.4
A23: Aprīlis | B23: 17 | C23: 20 | D23: =B23*C23 -> 340 | E23: 41.57 | F23: 20 | G23: =ROUND(E23*F23 %,2) -> 8.31 | H23: =D23*G23 -> 2825.4 | I23: =H22 -> 2966.67
A24: Maijs | B24: 17 | C24: 20 | D24: =B24*C24 -> 340 | E24: 41.57 | F24: 20 | G24: =ROUND(E24*F24 %,2) -> 8.31 | H24: =D24*G24 -> 2825.4 | I24: =H23 -> 2825.4
A25: Jūnijs | B25: 17 | C25: 19 | D25: =B25*C25 -> 323 | E25: 41.57 | F25: 20 | G25: =ROUND(E25*F25 %,2) -> 8.31 | H25: =D25*G25 -> 2684.13 | I25: =H24 -> 2825.4
A26: Jūlijs | B26: 17 | C26: 23 | D26: =B26*C26 -> 391 | E26: 41.57 | F26: 20 | G26: =ROUND(E26*F26 %,2) -> 8.31 | H26: =D26*G26 -> 3249.21 | I26: =H25 -> 2684.13
A27: Augusts | B27: 17 | C27: 21 | D27: =B27*C27 -> 357 | E27: 41.57 | F27: 20 | G27: =ROUND(E27*F27 %,2) -> 8.31 | H27: =D27*G27 -> 2966.67 | I27: =H26 -> 3249.21
A28: Septembris | B28: 17 | C28: 22 | D28: =B28*C28 -> 374 | E28: 41.57 | F28: 20 | G28: =ROUND(E28*F28 %,2) -> 8.31 | H28: =D28*G28 -> 3107.94 | I28: =H27 -> 2966.67
A29: Oktobris | B29: 17 | C29: 23 | D29: =B29*C29 -> 391 | E29: 41.57 | F29: 20 | G29: =ROUND(E29*F29 %,2) -> 8.31 | H29: =D29*G29 -> 3249.21 | I29: =H28 -> 3107.94
A30: Novembris | B30: 17 | C30: 19 | D30: =B30*C30 -> 323 | E30: 41.57 | F30: 20 | G30: =ROUND(E30*F30 %,2) -> 8.31 | H30: =D30*G30 -> 2684.13 | I30: =H29 -> 3249.21
A31: Decembris | B31: 17 | C31: 19 | D31: =B31*C31 -> 323 | E31: 41.57 | F31: 20 | G31: =ROUND(E31*F31 %,2) -> 8.31 | H31: =D31*G31 -> 2684.13 | I31: =H30 -> 2684.13
A32: kopā | B32: x | C32: =SUM(C20:C31) -> 249 | D32: =SUM(D20:D31) -> 4233 | E32: x | F32: x | G32: x | H32: =SUM(H20:H31) -> 35176.23 | I32: =SUM(I20:I31) -> 37830.33
B34: 2026.g.
A35: Rūpju bērns DAC Pērle Cēsis, reģ.dat. 01.01.2022. | B35: Klientu sk. | C35: Darba dienu skaits mēnesī | D35: Klientu dienu sk. | E35: Kl.dienas cena, euro | F35: Valsts līdzfinansējuma% 2026.g. | G35: Valsts līdzifnansējuma klientu dienas cena, euro | H35: Valsts līdzfinansējums, euro | I35: Naudas plūsma, euro | J35: Fakts / Plāns
A36: Janvaris | D36: =B36*C36 -> 0 | H36: =ROUND((E36*F36 %)*D36,2) -> 0 | I36: =H31 -> 2684.13 | J36: Plāns
A37: Februāris | D37: =B37*C37 -> 0 | H37: =ROUND((E37*F37 %)*D37,2) -> 0 | I37: =H36 -> 0
A38: Marts | D38: =B38*C38 -> 0 | H38: =ROUND((E38*F38 %)*D38,2) -> 0 | I38: =H37 -> 0
A39: Aprīlis | D39: =B39*C39 -> 0 | H39: =ROUND((E39*F39 %)*D39,2) -> 0 | I39: =H38 -> 0
A40: Maijs | D40: =B40*C40 -> 0 | H40: =ROUND((E40*F40 %)*D40,2) -> 0 | I40: =H39 -> 0
A41: Jūnijs | D41: =B41*C41 -> 0 | H41: =ROUND((E41*F41 %)*D41,2) -> 0 | I41: =H40 -> 0
A42: Jūlijs | D42: =B42*C42 -> 0 | H42: =ROUND((E42*F42 %)*D42,2) -> 0 | I42: =H41 -> 0
A43: Augusts | D43: =B43*C43 -> 0 | H43: =ROUND((E43*F43 %)*D43,2) -> 0 | I43: =H42 -> 0
A44: Septembris | D44: =B44*C44 -> 0 | H44: =ROUND((E44*F44 %)*D44,2) -> 0 | I44: =H43 -> 0
A45: Oktobris | D45: =B45*C45 -> 0 | H45: =ROUND((E45*F45 %)*D45,2) -> 0 | I45: =H44 -> 0
A46: Novembris | D46: =B46*C46 -> 0 | H46: =ROUND((E46*F46 %)*D46,2) -> 0 | I46: =H45 -> 0
A47: Decembris | D47: =B47*C47 -> 0 | H47: =ROUND((E47*F47 %)*D47,2) -> 0 | I47: =H46 -> 0
A48: kopā | B48: x | C48: =SUM(C36:C47) -> 0 | D48: =SUM(D36:D47) -> 0 | E48: x | F48: x | H48: =SUM(H36:H47) -> 0 | I48: =SUM(I36:I47) -> 2684.13

Sheet 8
B2: 2024.g.
A3: Dienas aprūpes un rehabilitācijas centrs “Ādažu Ūdensroze” sākuma dat. 01.07.2022. | B3: Klientu skaits kuriem ir pašaprūpes iemaņas | C3: Klientu skaits kuriem nepieciešamas atbalsts aprūpē | D3: Darba dienu skaits mēnesī | E3: Klientu dienu skaits kuriem ir pašaprūpes iemaņas | F3: Klientu dienu skaits kuriem nepieciešamas atbalsts aprūpē | G3: Kl.dienas cena ar pašaprūpes iemaņām | H3: Kl.dienas cena klientiem, kuriem nepiec.atbalsts | I3: Valsts līdzfinansējuma% 2024.g. | J3: Valsts līdzfinansējuma kl.dienas cena ar pašaprūpes iemaņām | K3: Valsts līdzfinansējuma ll.dienas cena klientiem, kuriem nepiec.atbalsts | L3: Valsts līdzfinansējums klientiem kuriem ir pašaprūpes iemaņas | M3: Valsts līdzfinansējums klientiem kuriem nepiec.atbalsts | N3: Valsts līdzfinansējums kopā | O3: Naudas plūsma | P3: Fakts / Plāns
A4: Janvaris | B4: 6 | C4: 7 | D4: 22 | E4: 122 | F4: 106 | G4: 33.95 | H4: 42.43 | I4: 60 | J4: =ROUND(G4*I4 %,2) -> 20.37 | K4: =ROUND(H4*I4 %,2) -> 25.46 | L4: =ROUND(E4*J4,2) -> 2485.14 | M4: =ROUND(F4*K4,2) -> 2698.76 | N4: =L4+M4 -> 5183.9 | O4: 0 | P4: Plāns
A5: Februāris | B5: 6 | C5: 7 | D5: 21 | E5: 122 | F5: 106 | G5: 33.95 | H5: 42.43 | I5: 60 | J5: =ROUND(G5*I5 %,2) -> 20.37 | K5: =ROUND(H5*I5 %,2) -> 25.46 | L5: =ROUND(E5*J5,2) -> 2485.14 | M5: =ROUND(F5*K5,2) -> 2698.76 | N5: =L5+M5 -> 5183.9 | O5: 0
A6: Marts | B6: 6 | C6: 7 | D6: 20 | E6: 122 | F6: 106 | G6: 33.95 | H6: 42.43 | I6: 60 | J6: =ROUND(G6*I6 %,2) -> 20.37 | K6: =ROUND(H6*I6 %,2) -> 25.46 | L6: =ROUND(E6*J6,2) -> 2485.14 | M6: =ROUND(F6*K6,2) -> 2698.76 | N6: =L6+M6 -> 5183.9 | O6: 0
A7: Aprīlis | B7: 6 | C7: 7 | D7: 21 | E7: 122 | F7: 106 | G7: 33.95 | H7: 42.43 | I7: 60 | J7: =ROUND(G7*I7 %,2) -> 20.37 | K7: =ROUND(H7*I7 %,2) -> 25.46 | L7: =ROUND(E7*J7,2) -> 2485.14 | M7: =ROUND(F7*K7,2) -> 2698.76 | N7: =L7+M7 -> 5183.9 | O7: 0
A8: Maijs | B8: 6 | C8: 7 | D8: 21 | E8: 122 | F8: 106 | G8: 33.95 | H8: 42.43 | I8: 60 | J8: =ROUND(G8*I8 %,2) -> 20.37 | K8: =ROUND(H8*I8 %,2) -> 25.46 | L8: =ROUND(E8*J8,2) -> 2485.14 | M8: =ROUND(F8*K8,2) -> 2698.76 | N8: =L8+M8 -> 5183.9 | O8: 0
A9: Jūnijs | B9: 6 | C9: 7 | D9: 19 | E9: 122 | F9: 106 | G9: 33.95 | H9: 42.43 | I9: 60 | J9: =ROUND(G9*I9 %,2) -> 20.37 | K9: =ROUND(H9*I9 %,2) -> 25.46 | L9: =ROUND(E9*J9,2) -> 2485.14 | M9: =ROUND(F9*K9,2) -> 2698.76 | N9: =L9+M9 -> 5183.9 | O9: 0
A10: Jūlijs | B10: 6 | C10: 7 | D10: 23 | E10: 122 | F10: 106 | G10: 33.95 | H10: 42.43 | I10: 40 | J10: =ROUND(G10*I10 %,2) -> 13.58 | K10: =ROUND(H10*I10 %,2) -> 16.97 | L10: =ROUND(E10*J10,2) -> 1656.76 | M10: =ROUND(F10*K10,2) -> 1798.82 | N10: =L10+M10 -> 3455.58 | O10: 0
A11: Augusts | B11: 6 | C11: 7 | D11: 22 | E11: 122 | F11: 106 | G11: 33.95 | H11: 42.43 | I11: 40 | J11: =ROUND(G11*I11 %,2) -> 13.58 | K11: =ROUND(H11*I11 %,2) -> 16.97 | L11: =ROUND(E11*J11,2) -> 1656.76 | M11: =ROUND(F11*K11,2) -> 1798.82 | N11: =L11+M11 -> 3455.58 | O11: 0 | P11: Fakts
A12: Septembris | B12: 6 | C12: 7 | D12: 21 | E12: 122 | F12: 106 | G12: 33.95 | H12: 42.43 | I12: 40 | J12: =ROUND(G12*I12 %,2) -> 13.58 | K12: =ROUND(H12*I12 %,2) -> 16.97 | L12: =ROUND(E12*J12,2) -> 1656.76 | M12: =ROUND(F12*K12,2) -> 1798.82 | N12: =L12+M12 -> 3455.58 | O12: =N11 -> 3455.58 | P12: Plāns
A13: Oktobris | B13: 6 | C13: 7 | D13: 23 | E13: 122 | F13: 106 | G13: 33.95 | H13: 42.43 | I13: 40 | J13: =ROUND(G13*I13 %,2) -> 13.58 | K13: =ROUND(H13*I13 %,2) -> 16.97 | L13: =ROUND(E13*J13,2) -> 1656.76 | M13: =ROUND(F13*K13,2) -> 1798.82 | N13: =L13+M13 -> 3455.58 | O13: =N12+N4+N5+N6+N7+N8+N9+N10 -> 38014.56
A14: Novembris | B14: 6 | C14: 7 | D14: 20 | E14: 122 | F14: 106 | G14: 33.95 | H14: 42.43 | I14: 40 | J14: =ROUND(G14*I14 %,2) -> 13.58 | K14: =ROUND(H14*I14 %,2) -> 16.97 | L14: =ROUND(E14*J14,2) -> 1656.76 | M14: =ROUND(F14*K14,2) -> 1798.82 | N14: =L14+M14 -> 3455.58 | O14: =N13 -> 3455.58
A15: Decembris | B15: 6 | C15: 7 | D15: 18 | E15: 122 | F15: 106 | G15: 33.95 | H15: 42.43 | I15: 40 | J15: =ROUND(G15*I15 %,2) -> 13.58 | K15: =ROUND(H15*I15 %,2) -> 16.97 | L15: =ROUND(E15*J15,2) -> 1656.76 | M15: =ROUND(F15*K15,2) -> 1798.82 | N15: =L15+M15 -> 3455.58 | O15: =N14 -> 3455.58
A16: kopā | B16: x | C16: x | D16: =SUM(D4:D15) -> 251 | E16: =SUM(E4:E15) -> 1464 | F16: =SUM(F4:F15) -> 1272 | G16: x | H16: x | I16: x | J16: x | K16: x | L16: =SUM(L4:L15) -> 24851.4 | M16: =SUM(M4:M15) -> 26985.48 | N16: =SUM(N4:N15) -> 51836.88 | O16: =SUM(O4:O15) -> 48381.3
B17: 2025.g.
A18: Dienas aprūpes un rehabilitācijas centrs “Ādažu Ūdensroze” sākuma dat. 01.07.2022. | B18: Klientu skaits kuriem ir pašaprūpes iemaņas | C18: Klientu skaits kuriem nepieciešamas atbalsts aprūpē | D18: Darba dienu skaits mēnesī | E18: Klientu dienu skaits kuriem ir pašaprūpes iemaņas | F18: Klientu dienu skaits kuriem nepieciešamas atbalsts aprūpē | G18: Kl.dienas cena ar pašaprūpes iemaņām | H18: Kl.dienas cena klientiem, kuriem nepiec.atbalsts | I18: Valsts līdzfinansējuma% 2025.g. | J18: Valsts līdzfinansējuma kl.dienas cena ar pašaprūpes iemaņām | K18: Valsts līdzfinansējuma ll.dienas cena klientiem, kuriem nepiec.atbalsts | L18: Valsts līdzfinansējums klientiem kuriem ir pašaprūpes iemaņas | M18: Valsts līdzfinansējums klientiem kuriem nepiec.atbalsts | N18: Valsts līdzfinansējums kopā | O18: Naudas plūsma | P18: Plāns
A19: Janvaris | B19: 6 | C19: 7 | D19: 22 | E19: 122 | F19: 106 | G19: 33.95 | H19: 42.43 | I19: 40 | J19: =ROUND(G19*I19 %,2) -> 13.58 | K19: =ROUND(H19*I19 %,2) -> 16.97 | L19: =ROUND(E19*J19,2) -> 1656.76 | M19: =ROUND(F19*K19,2) -> 1798.82 | N19: =L19+M19 -> 3455.58 | O19: =N15 -> 3455.58 | P19: Plāns
A20: Februāris | B20: 6 | C20: 7 | D20: ='darba dienas'!C4 -> 20 | E20: 122 | F20: 106 | G20: 33.95 | H20: 42.43 | I20: 40 | J20: =ROUND(G20*I20 %,2) -> 13.58 | K20: =ROUND(H20*I20 %,2) -> 16.97 | L20: =ROUND(E20*J20,2) -> 1656.76 | M20: =ROUND(F20*K20,2) -> 1798.82 | N20: =L20+M20 -> 3455.58 | O20: =N19 -> 3455.58
A21: Marts | B21: 6 | C21: 7 | D21: ='darba dienas'!D4 -> 21 | E21: 122 | F21: 106 | G21: 33.95 | H21: 42.43 | I21: 40 | J21: =ROUND(G21*I21 %,2) -> 13.58 | K21: =ROUND(H21*I21 %,2) -> 16.97 | L21: =ROUND(E21*J21,2) -> 1656.76 | M21: =ROUND(F21*K21,2) -> 1798.82 | N21: =L21+M21 -> 3455.58 | O21: =N20 -> 3455.58
A22: Aprīlis | B22: 6 | C22: 7 | D22: ='darba dienas'!E4 -> 20 | E22: 122 | F22: 106 | G22: 33.95 | H22: 42.43 | I22: 40 | J22: =ROUND(G22*I22 %,2) -> 13.58 | K22: =ROUND(H22*I22 %,2) -> 16.97 | L22: =ROUND(E22*J22,2) -> 1656.76 | M22: =ROUND(F22*K22,2) -> 1798.82 | N22: =L22+M22 -> 3455.58 | O22: =N21 -> 3455.58
A23: Maijs | B23: 6 | C23: 7 | D23: ='darba dienas'!F4 -> 20 | E23: 122 | F23: 106 | G23: 33.95 | H23: 42.43 | I23: 40 | J23: =ROUND(G23*I23 %,2) -> 13.58 | K23: =ROUND(H23*I23 %,2) -> 16.97 | L23: =ROUND(E23*J23,2) -> 1656.76 | M23: =ROUND(F23*K23,2) -> 1798.82 | N23: =L23+M23 -> 3455.58 | O23: =N22 -> 3455.58
A24: Jūnijs | B24: 6 | C24: 7 | D24: ='darba dienas'!G4 -> 19 | E24: 122 | F24: 106 | G24: 33.95 | H24: 42.43 | I24: 40 | J24: =ROUND(G24*I24 %,2) -> 13.58 | K24: =ROUND(H24*I24 %,2) -> 16.97 | L24: =ROUND(E24*J24,2) -> 1656.76 | M24: =ROUND(F24*K24,2) -> 1798.82 | N24: =L24+M24 -> 3455.58 | O24: =N23 -> 3455.58
A25: Jūlijs | B25: 6 | C25: 7 | D25: ='darba dienas'!H4 -> 23 | E25: 122 | F25: 106 | G25: 33.95 | H25: 42.43 | I25: 20 | J25: =ROUND(G25*I25 %,2) -> 6.79 | K25: =ROUND(H25*I25 %,2) -> 8.49 | L25: =ROUND(E25*J25,2) -> 828.38 | M25: =ROUND(F25*K25,2) -> 899.94 | N25: =L25+M25 -> 1728.32 | O25: =N24 -> 3455.58
A26: Augusts | B26: 6 | C26: 7 | D26: ='darba dienas'!I4 -> 21 | E26: 122 | F26: 106 | G26: 33.95 | H26: 42.43 | I26: 20 | J26: =ROUND(G26*I26 %,2) -> 6.79 | K26: =ROUND(H26*I26 %,2) -> 8.49 | L26: =ROUND(E26*J26,2) -> 828.38 | M26: =ROUND(F26*K26,2) -> 899.94 | N26: =L26+M26 -> 1728.32 | O26: =N25 -> 1728.32
A27: Septembris | B27: 6 | C27: 7 | D27: ='darba dienas'!J4 -> 22 | E27: 122 | F27: 106 | G27: 33.95 | H27: 42.43 | I27: 20 | J27: =ROUND(G27*I27 %,2) -> 6.79 | K27: =ROUND(H27*I27 %,2) -> 8.49 | L27: =ROUND(E27*J27,2) -> 828.38 | M27: =ROUND(F27*K27,2) -> 899.94 | N27: =L27+M27 -> 1728.32 | O27: =N26 -> 1728.32
A28: Oktobris | B28: 6 | C28: 7 | D28: ='darba dienas'!K4 -> 23 | E28: 122 | F28: 106 | G28: 33.95 | H28: 42.43 | I28: 20 | J28: =ROUND(G28*I28 %,2) -> 6.79 | K28: =ROUND(H28*I28 %,2) -> 8.49 | L28: =ROUND(E28*J28,2) -> 828.38 | M28: =ROUND(F28*K28,2) -> 899.94 | N28: =L28+M28 -> 1728.32 | O28: =N27 -> 1728.32
A29: Novembris | B29: 6 | C29: 7 | D29: ='darba dienas'!L4 -> 19 | E29: 122 | F29: 106 | G29: 33.95 | H29: 42.43 | I29: 20 | J29: =ROUND(G29*I29 %,2) -> 6.79 | K29: =ROUND(H29*I29 %,2) -> 8.49 | L29: =ROUND(E29*J29,2) -> 828.38 | M29: =ROUND(F29*K29,2) -> 899.94 | N29: =L29+M29 -> 1728.32 | O29: =N28 -> 1728.32
A30: Decembris | B30: 6 | C30: 7 | D30: ='darba dienas'!M4 -> 19 | E30: 122 | F30: 106 | G30: 33.95 | H30: 42.43 | I30: 20 | J30: =ROUND(G30*I30 %,2) -> 6.79 | K30: =ROUND(H30*I30 %,2) -> 8.49 | L30: =ROUND(E30*J30,2) -> 828.38 | M30: =ROUND(F30*K30,2) -> 899.94 | N30: =L30+M30 -> 1728.32 | O30: =N29 -> 1728.32
A31: kopā | B31: x | C31: x | D31: =SUM(D19:D30) -> 249 | E31: =SUM(E19:E30) -> 1464 | F31: =SUM(F19:F30) -> 1272 | G31: x | H31: x | I31: x | J31: x | K31: x | L31: =SUM(L19:L30) -> 14910.84 | M31: =SUM(M19:M30) -> 16192.56 | N31: =SUM(N19:N30) -> 31103.4 | O31: =SUM(O19:O30) -> 32830.66
B34: 2026.g.
A35: Dienas aprūpes un rehabilitācijas centrs “Ādažu Ūdensroze” sākuma dat. 01.07.2022. | B35: Klientu skaits kuriem ir pašaprūpes iemaņas | C35: Klientu skaits kuriem nepieciešamas atbalsts aprūpē | D35: Darba dienu skaits mēnesī | E35: Klientu dienu skaits kuriem ir pašaprūpes iemaņas | F35: Klientu dienu skaits kuriem nepieciešamas atbalsts aprūpē | G35: Kl.dienas cena ar pašaprūpes iemaņām | H35: Kl.dienas cena klientiem, kuriem nepiec.atbalsts | I35: Valsts līdzfinansējuma% 2026.g. | J35: Valsts līdzfinansējuma kl.dienas cena ar pašaprūpes iemaņām | K35: Valsts līdzfinansējuma ll.dienas cena klientiem, kuriem nepiec.atbalsts | L35: Valsts līdzfinansējums klientiem kuriem ir pašaprūpes iemaņas | M35: Valsts līdzfinansējums klientiem kuriem nepiec.atbalsts | N35: Valsts līdzfinansējums kopā | O35: Naudas plūsma | P35: Plāns
A36: Janvaris | B36: 6 | C36: 7 | D36: ='darba dienas'!B5 -> 21 | E36: 122 | F36: 106 | G36: 33.95 | H36: 42.43 | I36: 20 | J36: =ROUND(G36*I36 %,2) -> 6.79 | K36: =ROUND(H36*I36 %,2) -> 8.49 | L36: =ROUND(E36*J36,2) -> 828.38 | M36: =ROUND(F36*K36,2) -> 899.94 | N36: =L36+M36 -> 1728.32 | O36: =N30 -> 1728.32 | P36: Plāns
A37: Februāris | B37: 6 | C37: 7 | D37: ='darba dienas'!C5 -> 20 | E37: 122 | F37: 106 | G37: 33.95 | H37: 42.43 | I37: 20 | J37: =ROUND(G37*I37 %,2) -> 6.79 | K37: =ROUND(H37*I37 %,2) -> 8.49 | L37: =ROUND(E37*J37,2) -> 828.38 | M37: =ROUND(F37*K37,2) -> 899.94 | N37: =L37+M37 -> 1728.32 | O37: =N36 -> 1728.32
A38: Marts | B38: 6 | C38: 7 | D38: ='darba dienas'!D5 -> 22 | E38: 122 | F38: 106 | G38: 33.95 | H38: 42.43 | I38: 20 | J38: =ROUND(G38*I38 %,2) -> 6.79 | K38: =ROUND(H38*I38 %,2) -> 8.49 | L38: =ROUND(E38*J38,2) -> 828.38 | M38: =ROUND(F38*K38,2) -> 899.94 | N38: =L38+M38 -> 1728.32 | O38: =N37 -> 1728.32
A39: Aprīlis | B39: 6 | C39: 7 | D39: ='darba dienas'!E5 -> 21 | E39: 122 | F39: 106 | G39: 33.95 | H39: 42.43 | I39: 20 | J39: =ROUND(G39*I39 %,2) -> 6.79 | K39: =ROUND(H39*I39 %,2) -> 8.49 | L39: =ROUND(E39*J39,2) -> 828.38 | M39: =ROUND(F39*K39,2) -> 899.94 | N39: =L39+M39 -> 1728.32 | O39: =N38 -> 1728.32
A40: Maijs | B40: 6 | C40: 7 | D40: ='darba dienas'!F5 -> 19 | E40: 122 | F40: 106 | G40: 33.95 | H40: 42.43 | I40: 20 | J40: =ROUND(G40*I40 %,2) -> 6.79 | K40: =ROUND(H40*I40 %,2) -> 8.49 | L40: =ROUND(E40*J40,2) -> 828.38 | M40: =ROUND(F40*K40,2) -> 899.94 | N40: =L40+M40 -> 1728.32 | O40: =N39 -> 1728.32
A41: Jūnijs | B41: 6 | C41: 7 | D41: ='darba dienas'!G5 -> 20 | E41: 122 | F41: 106 | G41: 33.95 | H41: 42.43 | I41: 20 | J41: =ROUND(G41*I41 %,2) -> 6.79 | K41: =ROUND(H41*I41 %,2) -> 8.49 | L41: =ROUND(E41*J41,2) -> 828.38 | M41: =ROUND(F41*K41,2) -> 899.94 | N41: =L41+M41 -> 1728.32 | O41: =N40 -> 1728.32
A42: Jūlijs | G42: 33.95 | H42: 42.43 | I42: 0 | J42: =ROUND(G42*I42 %,2) -> 0 | K42: =ROUND(H42*I42 %,2) -> 0 | L42: =ROUND(E42*J42,2) -> 0 | M42: =ROUND(F42*K42,2) -> 0 | N42: =L42+M42 -> 0 | O42: =N41 -> 1728.32
A43: Augusts | G43: 33.95 | H43: 42.43 | I43: 0 | J43: =ROUND(G43*I43 %,2) -> 0 | K43: =ROUND(H43*I43 %,2) -> 0 | L43: =ROUND(E43*J43,2) -> 0 | M43: =ROUND(F43*K43,2) -> 0 | N43: =L43+M43 -> 0 | O43: =N42 -> 0
A44: Septembris | G44: 33.95 | H44: 42.43 | I44: 0 | J44: =ROUND(G44*I44 %,2) -> 0 | K44: =ROUND(H44*I44 %,2) -> 0 | L44: =ROUND(E44*J44,2) -> 0 | M44: =ROUND(F44*K44,2) -> 0 | N44: =L44+M44 -> 0 | O44: =N43 -> 0
A45: Oktobris | G45: 33.95 | H45: 42.43 | I45: 0 | J45: =ROUND(G45*I45 %,2) -> 0 | K45: =ROUND(H45*I45 %,2) -> 0 | L45: =ROUND(E45*J45,2) -> 0 | M45: =ROUND(F45*K45,2) -> 0 | N45: =L45+M45 -> 0 | O45: =N44 -> 0
A46: Novembris | G46: 33.95 | H46: 42.43 | I46: 0 | J46: =ROUND(G46*I46 %,2) -> 0 | K46: =ROUND(H46*I46 %,2) -> 0 | L46: =ROUND(E46*J46,2) -> 0 | M46: =ROUND(F46*K46,2) -> 0 | N46: =L46+M46 -> 0 | O46: =N45 -> 0
A47: Decembris | G47: 33.95 | H47: 42.43 | I47: 0 | J47: =ROUND(G47*I47 %,2) -> 0 | K47: =ROUND(H47*I47 %,2) -> 0 | L47: =ROUND(E47*J47,2) -> 0 | M47: =ROUND(F47*K47,2) -> 0 | N47: =L47+M47 -> 0 | O47: =N46 -> 0
A48: kopā | B48: x | C48: x | D48: =SUM(D36:D47) -> 123 | E48: =SUM(E36:E47) -> 732 | F48: =SUM(F36:F47) -> 636 | G48: x | H48: x | I48: x | J48: x | K48: x | L48: =SUM(L36:L47) -> 4970.28 | M48: =SUM(M36:M47) -> 5399.64 | N48: =SUM(N36:N47) -> 10369.92 | O48: =SUM(O36:O47) -> 12098.24

Sheet 9
B2: 2024.g.
A3: Biedrība "Cerību spārni", Smiltenes DAC, sāk. 22.01.2024. | B3: Klientu skaits kuriem ir pašaprūpes iemaņas | C3: Klientu skaits kuriem nepieciešamas atbalsts aprūpē | D3: Darba dienu skaits mēnesī | E3: Klientu dienu skaits kuriem ir pašaprūpes iemaņas | F3: Klientu dienu skaits kuriem nepieciešamas atbalsts aprūpē | G3: Kl.dienas cena ar pašaprūpes iemaņām | H3: Kl.dienas cena klientiem, kuriem nepiec.atbalsts | I3: Valsts līdzfinansējuma% 2024.g. | J3: Valsts līdzfinansējuma kl.dienas cena ar pašaprūpes iemaņām | K3: Valsts līdzfinansējuma ll.dienas cena klientiem, kuriem nepiec.atbalsts | L3: Valsts līdzfinansējums klientiem kuriem ir pašaprūpes iemaņas | M3: Valsts līdzfinansējums klientiem kuriem nepiec.atbalsts | N3: Valsts līdzfinansējums kopā | O3: Klientu līdzmaksājuma daļa, par kuru tiek samazināts valsts līdzfinansējuma apmērs* | P3: Naudas plūsma | Q3: Fakts / Plāns
A4: Janvāris | B4: 0 | C4: 0 | D4: 22 | E4: 0 | F4: 0 | G4: 29.91 | H4: 34.41 | I4: 80 | J4: =ROUND(G4*I4 %,2) -> 23.93 | K4: =ROUND(H4*I4 %,2) -> 27.53 | L4: =ROUND(E4*J4,2) -> 0 | M4: =ROUND(F4*K4,2) -> 0 | N4: =L4+M4 -> 0 | P4: 0 | Q4: Fakts
A5: Februāris | B5: 17 | C5: 2 | D5: 21 | E5: 200 | F5: 19 | G5: 29.91 | H5: 34.41 | I5: 80 | J5: =ROUND(G5*I5 %,2) -> 23.93 | K5: =ROUND(H5*I5 %,2) -> 27.53 | L5: =ROUND(E5*J5,2) -> 4786 | M5: =ROUND(F5*K5,2) -> 523.07 | N5: =L5+M5 -> 5309.07 | P5: 0
A6: Marts | B6: 19 | C6: 2 | D6: 20 | E6: 281 | F6: 34 | G6: 29.91 | H6: 34.41 | I6: 80 | J6: =ROUND(G6*I6 %,2) -> 23.93 | K6: =ROUND(H6*I6 %,2) -> 27.53 | L6: =ROUND(E6*J6,2) -> 6724.33 | M6: =ROUND(F6*K6,2) -> 936.02 | N6: =L6+M6 -> 7660.35 | P6: 0
A7: Aprīlis | B7: 16 | C7: 4 | D7: 21 | E7: 283 | F7: 68 | G7: 29.91 | H7: 34.41 | I7: 80 | J7: =ROUND(G7*I7 %,2) -> 23.93 | K7: =ROUND(H7*I7 %,2) -> 27.53 | L7: =ROUND(E7*J7,2) -> 6772.19 | M7: =ROUND(F7*K7,2) -> 1872.04 | N7: =L7+M7 -> 8644.23 | P7: 0
A8: Maijs | B8: 14 | C8: 5 | D8: 21 | E8: 271 | F8: 89 | G8: 29.91 | H8: 34.41 | I8: 80 | J8: =ROUND(G8*I8 %,2) -> 23.93 | K8: =ROUND(H8*I8 %,2) -> 27.53 | L8: =ROUND(E8*J8,2) -> 6485.03 | M8: =ROUND(F8*K8,2) -> 2450.17 | N8: =L8+M8 -> 8935.2 | P8: 0
A9: Jūnijs | B9: 14 | C9: 5 | D9: 19 | E9: 241 | F9: 87 | G9: 29.91 | H9: 34.41 | I9: 80 | J9: =ROUND(G9*I9 %,2) -> 23.93 | K9: =ROUND(H9*I9 %,2) -> 27.53 | L9: =ROUND(E9*J9,2) -> 5767.13 | M9: =ROUND(F9*K9,2) -> 2395.11 | N9: =L9+M9 -> 8162.24 | P9: 0
A10: Jūlijs | B10: 14 | C10: 6 | D10: 23 | E10: 288 | F10: 110 | G10: 29.91 | H10: 34.41 | I10: 80 | J10: =ROUND(G10*I10 %,2) -> 23.93 | K10: =ROUND(H10*I10 %,2) -> 27.53 | L10: =ROUND(E10*J10,2) -> 6891.84 | M10: =ROUND(F10*K10,2) -> 3028.3 | N10: =L10+M10 -> 9920.14 | P10: 0
A11: Augusts | B11: 17 | C11: 6 | D11: 22 | E11: 308 | F11: 100 | G11: 29.91 | H11: 34.41 | I11: 80 | J11: =ROUND(G11*I11 %,2) -> 23.93 | K11: =ROUND(H11*I11 %,2) -> 27.53 | L11: =ROUND(E11*J11,2) -> 7370.44 | M11: =ROUND(F11*K11,2) -> 2753 | N11: =L11+M11 -> 10123.44 | O11: 564 | P11: 0
A12: Septembris | B12: 17 | C12: 6 | D12: 21 | E12: 267 | F12: 72 | G12: 29.91 | H12: 34.41 | I12: 80 | J12: =ROUND(G12*I12 %,2) -> 23.93 | K12: =ROUND(H12*I12 %,2) -> 27.53 | L12: =ROUND(E12*J12,2) -> 6389.31 | M12: =ROUND(F12*K12,2) -> 1982.16 | N12: =L12+M12 -> 8371.47 | P12: =SUM(N4:N11)-O11 -> 58190.67 | Q12: Plāns
A13: Oktobris | B13: 17 | C13: 6 | D13: 23 | E13: 267 | F13: 72 | G13: 29.91 | H13: 34.41 | I13: 80 | J13: =ROUND(G13*I13 %,2) -> 23.93 | K13: =ROUND(H13*I13 %,2) -> 27.53 | L13: =ROUND(E13*J13,2) -> 6389.31 | M13: =ROUND(F13*K13,2) -> 1982.16 | N13: =L13+M13 -> 8371.47 | P13: =N12 -> 8371.47
A14: Novembris | B14: 17 | C14: 6 | D14: 20 | E14: 267 | F14: 72 | G14: 29.91 | H14: 34.41 | I14: 80 | J14: =ROUND(G14*I14 %,2) -> 23.93 | K14: =ROUND(H14*I14 %,2) -> 27.53 | L14: =ROUND(E14*J14,2) -> 6389.31 | M14: =ROUND(F14*K14,2) -> 1982.16 | N14: =L14+M14 -> 8371.47 | P14: =N13 -> 8371.47
A15: Decembris | B15: 17 | C15: 6 | D15: 18 | E15: 267 | F15: 72 | G15: 29.91 | H15: 34.41 | I15: 80 | J15: =ROUND(G15*I15 %,2) -> 23.93 | K15: =ROUND(H15*I15 %,2) -> 27.53 | L15: =ROUND(E15*J15,2) -> 6389.31 | M15: =ROUND(F15*K15,2) -> 1982.16 | N15: =L15+M15 -> 8371.47 | P15: =N14 -> 8371.47
A16: kopā | B16: x | C16: x | D16: =SUM(D4:D15) -> 251 | E16: =SUM(E4:E15) -> 2940 | F16: =SUM(F4:F15) -> 795 | G16: x | H16: x | I16: x | J16: x | K16: x | L16: =SUM(L4:L15) -> 70354.2 | M16: =SUM(M4:M15) -> 21886.35 | N16: =SUM(N4:N15) -> 92240.55 | O16: =SUM(O4:O15) -> 564 | P16: =SUM(P4:P15) -> 83305.08
A17: vid.mēnesī (7 mēnešu vid.) | D17: =AVERAGE(D5:D11) -> 21 | E17: =AVERAGE(E5:E11) -> 267.42857 | F17: =AVERAGE(F5:F11) -> 72.428571
A18: Vid. 1 dienā | E18: =E17/D17 -> 12.734694 | F18: =F17/D17 -> 3.4489796
B19: 2025.g.
A20: Biedrība "Cerību spārni", Smiltenes DAC, sāk. 22.01.2024. | B20: Klientu skaits kuriem ir pašaprūpes iemaņas | C20: Klientu skaits kuriem nepieciešamas atbalsts aprūpē | D20: Darba dienu skaits mēnesī | E20: Klientu skaits kuriem ir pašaprūpes iemaņas | F20: Klientu skaits kuriem nepieciešamas atbalsts aprūpē | G20: Kl.dienas cena ar pašaprūpes iemaņām | H20: Kl.dienas cena klientiem, kuriem nepiec.atbalsts | I20: Valsts līdzfinansējuma% 2025.g. | J20: Valsts līdzfinansējuma kl.dienas cena ar pašaprūpes iemaņām | K20: Valsts līdzfinansējuma ll.dienas cena klientiem, kuriem nepiec.atbalsts | L20: Valsts līdzfinansējums klientiem kuriem ir pašaprūpes iemaņas | M20: Valsts līdzfinansējums klientiem kuriem nepiec.atbalsts | N20: Valsts līdzfinansējums kopā | O20: Klientu līdzmaksājuma daļa, par kuru tiek samazināts valsts līdzfinansējuma apmērs* | P20: Naudas plūsma | Q20: Plāns
A21: Janvāris, līdz 21.01. | B21: 17 | C21: 6 | D21: 14 | E21: =E18*D21 -> 178.28571 | F21: =F18*D21 -> 48.285714 | G21: 29.91 | H21: 34.41 | I21: 80 | J21: =ROUND(G21*I21 %,2) -> 23.93 | K21: =ROUND(H21*I21 %,2) -> 27.53 | L21: =ROUND(E21*J21,2) -> 4266.38 | M21: =ROUND(F21*K21,2) -> 1329.31 | N21: =L21+M21 -> 5595.69 | P21: =N15 -> 8371.47 | Q21: Plāns
A22: Janvāris, no 22.01. | B22: 17 | C22: 6 | D22: 8 | E22: =E18*D22 -> 101.87755 | F22: =F18*D22 -> 27.591837 | G22: 29.91 | H22: 34.41 | I22: 60 | J22: =ROUND(G22*I22 %,2) -> 17.95 | K22: =ROUND(H22*I22 %,2) -> 20.65 | L22: =ROUND(E22*J22,2) -> 1828.7 | M22: =ROUND(F22*K22,2) -> 569.77 | N22: =L22+M22 -> 2398.47
A23: Februāris | B23: 17 | C23: 6 | D23: ='darba dienas'!C4 -> 20 | E23: 267 | F23: 72 | G23: 29.91 | H23: 34.41 | I23: 60 | J23: =ROUND(G23*I23 %,2) -> 17.95 | K23: =ROUND(H23*I23 %,2) -> 20.65 | L23: =ROUND(E23*J23,2) -> 4792.65 | M23: =ROUND(F23*K23,2) -> 1486.8 | N23: =L23+M23 -> 6279.45 | P23: =N21+N22 -> 7994.16
A24: Marts | B24: 17 | C24: 6 | D24: ='darba dienas'!D4 -> 21 | E24: 267 | F24: 72 | G24: 29.91 | H24: 34.41 | I24: 60 | J24: =ROUND(G24*I24 %,2) -> 17.95 | K24: =ROUND(H24*I24 %,2) -> 20.65 | L24: =ROUND(E24*J24,2) -> 4792.65 | M24: =ROUND(F24*K24,2) -> 1486.8 | N24: =L24+M24 -> 6279.45 | P24: =N23 -> 6279.45
A25: Aprīlis | B25: 17 | C25: 6 | D25: ='darba dienas'!E4 -> 20 | E25: 267 | F25: 72 | G25: 29.91 | H25: 34.41 | I25: 60 | J25: =ROUND(G25*I25 %,2) -> 17.95 | K25: =ROUND(H25*I25 %,2) -> 20.65 | L25: =ROUND(E25*J25,2) -> 4792.65 | M25: =ROUND(F25*K25,2) -> 1486.8 | N25: =L25+M25 -> 6279.45 | P25: =N24 -> 6279.45
A26: Maijs | B26: 17 | C26: 6 | D26: ='darba dienas'!F4 -> 20 | E26: 267 | F26: 72 | G26: 29.91 | H26: 34.41 | I26: 60 | J26: =ROUND(G26*I26 %,2) -> 17.95 | K26: =ROUND(H26*I26 %,2) -> 20.65 | L26: =ROUND(E26*J26,2) -> 4792.65 | M26: =ROUND(F26*K26,2) -> 1486.8 | N26: =L26+M26 -> 6279.45 | P26: =N25 -> 6279.45
A27: Jūnijs | B27: 17 | C27: 6 | D27: ='darba dienas'!G4 -> 19 | E27: 267 | F27: 72 | G27: 29.91 | H27: 34.41 | I27: 60 | J27: =ROUND(G27*I27 %,2) -> 17.95 | K27: =ROUND(H27*I27 %,2) -> 20.65 | L27: =ROUND(E27*J27,2) -> 4792.65 | M27: =ROUND(F27*K27,2) -> 1486.8 | N27: =L27+M27 -> 6279.45 | P27: =N26 -> 6279.45
A28: Jūlijs | B28: 17 | C28: 6 | D28: ='darba dienas'!H4 -> 23 | E28: 267 | F28: 72 | G28: 29.91 | H28: 34.41 | I28: 60 | J28: =ROUND(G28*I28 %,2) -> 17.95 | K28: =ROUND(H28*I28 %,2) -> 20.65 | L28: =ROUND(E28*J28,2) -> 4792.65 | M28: =ROUND(F28*K28,2) -> 1486.8 | N28: =L28+M28 -> 6279.45 | P28: =N27 -> 6279.45
A29: Augusts | B29: 17 | C29: 6 | D29: ='darba dienas'!I4 -> 21 | E29: 267 | F29: 72 | G29: 29.91 | H29: 34.41 | I29: 60 | J29: =ROUND(G29*I29 %,2) -> 17.95 | K29: =ROUND(H29*I29 %,2) -> 20.65 | L29: =ROUND(E29*J29,2) -> 4792.65 | M29: =ROUND(F29*K29,2) -> 1486.8 | N29: =L29+M29 -> 6279.45 | P29: =N28 -> 6279.45
A30: Septembris | B30: 17 | C30: 6 | D30: ='darba dienas'!J4 -> 22 | E30: 267 | F30: 72 | G30: 29.91 | H30: 34.41 | I30: 60 | J30: =ROUND(G30*I30 %,2) -> 17.95 | K30: =ROUND(H30*I30 %,2) -> 20.65 | L30: =ROUND(E30*J30,2) -> 4792.65 | M30: =ROUND(F30*K30,2) -> 1486.8 | N30: =L30+M30 -> 6279.45 | P30: =N29 -> 6279.45
A31: Oktobris | B31: 17 | C31: 6 | D31: ='darba dienas'!K4 -> 23 | E31: 267 | F31: 72 | G31: 29.91 | H31: 34.41 | I31: 60 | J31: =ROUND(G31*I31 %,2) -> 17.95 | K31: =ROUND(H31*I31 %,2) -> 20.65 | L31: =ROUND(E31*J31,2) -> 4792.65 | M31: =ROUND(F31*K31,2) -> 1486.8 | N31: =L31+M31 -> 6279.45 | P31: =N30 -> 6279.45
A32: Novembris | B32: 17 | C32: 6 | D32: ='darba dienas'!L4 -> 19 | E32: 267 | F32: 72 | G32: 29.91 | H32: 34.41 | I32: 60 | J32: =ROUND(G32*I32 %,2) -> 17.95 | K32: =ROUND(H32*I32 %,2) -> 20.65 | L32: =ROUND(E32*J32,2) -> 4792.65 | M32: =ROUND(F32*K32,2) -> 1486.8 | N32: =L32+M32 -> 6279.45 | P32: =N31 -> 6279.45
A33: Decembris | B33: 17 | C33: 6 | D33: ='darba dienas'!M4 -> 19 | E33: 267 | F33: 72 | G33: 29.91 | H33: 34.41 | I33: 60 | J33: =ROUND(G33*I33 %,2) -> 17.95 | K33: =ROUND(H33*I33 %,2) -> 20.65 | L33: =ROUND(E33*J33,2) -> 4792.65 | M33: =ROUND(F33*K33,2) -> 1486.8 | N33: =L33+M33 -> 6279.45 | P33: =N32 -> 6279.45
A34: kopā | B34: x | C34: x | D34: =SUM(D21:D33) -> 249 | E34: =SUM(E21:E33) -> 3217.1633 | F34: =SUM(F21:F33) -> 867.87755 | G34: x | H34: x | I34: x | J34: x | K34: x | L34: =SUM(L21:L33) -> 58814.23 | M34: =SUM(M21:M33) -> 18253.88 | N34: =SUM(N21:N33) -> 77068.11 | O34: =SUM(O21:O33) -> 0 | P34: =SUM(P21:P33) -> 79160.13
B37: 2026.g.
A38: Biedrība "Cerību spārni", Smiltenes DAC, sāk. 22.01.2024. | B38: Klientu skaits kuriem ir pašaprūpes iemaņas | C38: Klientu skaits kuriem nepieciešamas atbalsts aprūpē | D38: Darba dienu skaits mēnesī | E38: Klientu skaits kuriem ir pašaprūpes iemaņas | F38: Klientu skaits kuriem nepieciešamas atbalsts aprūpē | G38: Kl.dienas cena ar pašaprūpes iemaņām | H38: Kl.dienas cena klientiem, kuriem nepiec.atbalsts | I38: Valsts līdzfinansējuma% 2026.g. | J38: Valsts līdzfinansējuma kl.dienas cena ar pašaprūpes iemaņām | K38: Valsts līdzfinansējuma ll.dienas cena klientiem, kuriem nepiec.atbalsts | L38: Valsts līdzfinansējums klientiem kuriem ir pašaprūpes iemaņas | M38: Valsts līdzfinansējums klientiem kuriem nepiec.atbalsts | N38: Valsts līdzfinansējums kopā | O38: Klientu līdzmaksājuma daļa, par kuru tiek samazināts valsts līdzfinansējuma apmērs* | P38: Naudas plūsma | Q38: Plāns
A39: Janvāris, līdz 21.01. | B39: 17 | C39: 6 | D39: 14 | E39: =E18*D39 -> 178.28571 | F39: =F18*D39 -> 48.285714 | G39: 29.91 | H39: 34.41 | I39: 60 | J39: =ROUND(G39*I39 %,2) -> 17.95 | K39: =ROUND(H39*I39 %,2) -> 20.65 | L39: =ROUND(E39*J39,2) -> 3200.23 | M39: =ROUND(F39*K39,2) -> 997.1 | N39: =L39+M39 -> 4197.33 | P39: =N33 -> 6279.45 | Q39: Plāns
A40: Janvāris, no 22.01. | B40: 17 | C40: 6 | D40: 7 | E40: =E18*D40 -> 89.142857 | F40: =F18*D40 -> 24.142857 | G40: 29.91 | H40: 34.41 | I40: 40 | J40: =ROUND(G40*I40 %,2) -> 11.96 | K40: =ROUND(H40*I40 %,2) -> 13.76 | L40: =ROUND(E40*J40,2) -> 1066.15 | M40: =ROUND(F40*K40,2) -> 332.21 | N40: =L40+M40 -> 1398.36
A41: Februāris | B41: 17 | C41: 6 | D41: ='darba dienas'!C5 -> 20 | E41: 267 | F41: 72 | G41: 29.91 | H41: 34.41 | I41: 40 | J41: =ROUND(G41*I41 %,2) -> 11.96 | K41: =ROUND(H41*I41 %,2) -> 13.76 | L41: =ROUND(E41*J41,2) -> 3193.32 | M41: =ROUND(F41*K41,2) -> 990.72 | N41: =L41+M41 -> 4184.04 | P41: =N39+N40 -> 5595.69
A42: Marts | B42: 17 | C42: 6 | D42: ='darba dienas'!D5 -> 22 | E42: 267 | F42: 72 | G42: 29.91 | H42: 34.41 | I42: 40 | J42: =ROUND(G42*I42 %,2) -> 11.96 | K42: =ROUND(H42*I42 %,2) -> 13.76 | L42: =ROUND(E42*J42,2) -> 3193.32 | M42: =ROUND(F42*K42,2) -> 990.72 | N42: =L42+M42 -> 4184.04 | P42: =N41 -> 4184.04
A43: Aprīlis | B43: 17 | C43: 6 | D43: ='darba dienas'!E5 -> 21 | E43: 267 | F43: 72 | G43: 29.91 | H43: 34.41 | I43: 40 | J43: =ROUND(G43*I43 %,2) -> 11.96 | K43: =ROUND(H43*I43 %,2) -> 13.76 | L43: =ROUND(E43*J43,2) -> 3193.32 | M43: =ROUND(F43*K43,2) -> 990.72 | N43: =L43+M43 -> 4184.04 | P43: =N42 -> 4184.04
A44: Maijs | B44: 17 | C44: 6 | D44: ='darba dienas'!F5 -> 19 | E44: 267 | F44: 72 | G44: 29.91 | H44: 34.41 | I44: 40 | J44: =ROUND(G44*I44 %,2) -> 11.96 | K44: =ROUND(H44*I44 %,2) -> 13.76 | L44: =ROUND(E44*J44,2) -> 3193.32 | M44: =ROUND(F44*K44,2) -> 990.72 | N44: =L44+M44 -> 4184.04 | P44: =N43 -> 4184.04
A45: Jūnijs | B45: 17 | C45: 6 | D45: ='darba dienas'!G5 -> 20 | E45: 267 | F45: 72 | G45: 29.91 | H45: 34.41 | I45: 40 | J45: =ROUND(G45*I45 %,2) -> 11.96 | K45: =ROUND(H45*I45 %,2) -> 13.76 | L45: =ROUND(E45*J45,2) -> 3193.32 | M45: =ROUND(F45*K45,2) -> 990.72 | N45: =L45+M45 -> 4184.04 | P45: =N44 -> 4184.04
A46: Jūlijs | B46: 17 | C46: 6 | D46: ='darba dienas'!H5 -> 23 | E46: 267 | F46: 72 | G46: 29.91 | H46: 34.41 | I46: 40 | J46: =ROUND(G46*I46 %,2) -> 11.96 | K46: =ROUND(H46*I46 %,2) -> 13.76 | L46: =ROUND(E46*J46,2) -> 3193.32 | M46: =ROUND(F46*K46,2) -> 990.72 | N46: =L46+M46 -> 4184.04 | P46: =N45 -> 4184.04
A47: Augusts | B47: 17 | C47: 6 | D47: ='darba dienas'!I5 -> 21 | E47: 267 | F47: 72 | G47: 29.91 | H47: 34.41 | I47: 40 | J47: =ROUND(G47*I47 %,2) -> 11.96 | K47: =ROUND(H47*I47 %,2) -> 13.76 | L47: =ROUND(E47*J47,2) -> 3193.32 | M47: =ROUND(F47*K47,2) -> 990.72 | N47: =L47+M47 -> 4184.04 | P47: =N46 -> 4184.04
A48: Septembris | B48: 17 | C48: 6 | D48: ='darba dienas'!J5 -> 22 | E48: 267 | F48: 72 | G48: 29.91 | H48: 34.41 | I48: 40 | J48: =ROUND(G48*I48 %,2) -> 11.96 | K48: =ROUND(H48*I48 %,2) -> 13.76 | L48: =ROUND(E48*J48,2) -> 3193.32 | M48: =ROUND(F48*K48,2) -> 990.72 | N48: =L48+M48 -> 4184.04 | P48: =N47 -> 4184.04
A49: Oktobris | B49: 17 | C49: 6 | D49: ='darba dienas'!K5 -> 22 | E49: 267 | F49: 72 | G49: 29.91 | H49: 34.41 | I49: 40 | J49: =ROUND(G49*I49 %,2) -> 11.96 | K49: =ROUND(H49*I49 %,2) -> 13.76 | L49: =ROUND(E49*J49,2) -> 3193.32 | M49: =ROUND(F49*K49,2) -> 990.72 | N49: =L49+M49 -> 4184.04 | P49: =N48 -> 4184.04
A50: Novembris | B50: 17 | C50: 6 | D50: ='darba dienas'!L5 -> 20 | E50: 267 | F50: 72 | G50: 29.91 | H50: 34.41 | I50: 40 | J50: =ROUND(G50*I50 %,2) -> 11.96 | K50: =ROUND(H50*I50 %,2) -> 13.76 | L50: =ROUND(E50*J50,2) -> 3193.32 | M50: =ROUND(F50*K50,2) -> 990.72 | N50: =L50+M50 -> 4184.04 | P50: =N49 -> 4184.04
A51: Decembris | B51: 17 | C51: 6 | D51: ='darba dienas'!M5 -> 20 | E51: 267 | F51: 72 | G51: 29.91 | H51: 34.41 | I51: 40 | J51: =ROUND(G51*I51 %,2) -> 11.96 | K51: =ROUND(H51*I51 %,2) -> 13.76 | L51: =ROUND(E51*J51,2) -> 3193.32 | M51: =ROUND(F51*K51,2) -> 990.72 | N51: =L51+M51 -> 4184.04 | P51: =N50 -> 4184.04
A52: kopā | B52: x | C52: x | D52: =SUM(D39:D51) -> 251 | E52: =SUM(E39:E51) -> 3204.4286 | F52: =SUM(F39:F51) -> 864.42857 | G52: x | H52: x | I52: x | J52: x | K52: x | L52: =SUM(L39:L51) -> 39392.9 | M52: =SUM(M39:M51) -> 12227.23 | N52: =SUM(N39:N51) -> 51620.13 | O52: =SUM(O39:O51) -> 0 | P52: =SUM(P39:P51) -> 53715.54
B54: 2027.g.
A55: Biedrība "Cerību spārni", Smiltenes DAC, sāk. 22.01.2024. | B55: Klientu skaits kuriem ir pašaprūpes iemaņas | C55: Klientu skaits kuriem nepieciešamas atbalsts aprūpē | D55: Darba dienu skaits mēnesī | E55: Klientu skaits kuriem ir pašaprūpes iemaņas | F55: Klientu skaits kuriem nepieciešamas atbalsts aprūpē | G55: Kl.dienas cena ar pašaprūpes iemaņām | H55: Kl.dienas cena klientiem, kuriem nepiec.atbalsts | I55: Valsts līdzfinansējuma% 2027.g. | J55: Valsts līdzfinansējuma kl.dienas cena ar pašaprūpes iemaņām | K55: Valsts līdzfinansējuma ll.dienas cena klientiem, kuriem nepiec.atbalsts | L55: Valsts līdzfinansējums klientiem kuriem ir pašaprūpes iemaņas | M55: Valsts līdzfinansējums klientiem kuriem nepiec.atbalsts | N55: Valsts līdzfinansējums kopā | O55: Klientu līdzmaksājuma daļa, par kuru tiek samazināts valsts līdzfinansējuma apmērs* | P55: Naudas plūsma | Q55: Plāns
A56: Janvāris, līdz 21.01. | B56: 17 | C56: 6 | D56: 14 | E56: =$E$18*D56 -> 178.28571 | F56: =$F$18*D56 -> 48.285714 | G56: 29.91 | H56: 34.41 | I56: 40 | J56: =ROUND(G56*I56 %,2) -> 11.96 | K56: =ROUND(H56*I56 %,2) -> 13.76 | L56: =ROUND(E56*J56,2) -> 2132.3 | M56: =ROUND(F56*K56,2) -> 664.41 | N56: =L56+M56 -> 2796.71 | P56: =N51 -> 4184.04 | Q56: Plāns
A57: Janvāris, no 22.01. | B57: 17 | C57: 6 | D57: 6 | E57: =$E$18*D57 -> 76.408163 | F57: =$F$18*D57 -> 20.693878 | G57: 29.91 | H57: 34.41 | I57: 20 | J57: =ROUND(G57*I57 %,2) -> 5.98 | K57: =ROUND(H57*I57 %,2) -> 6.88 | L57: =ROUND(E57*J57,2) -> 456.92 | M57: =ROUND(F57*K57,2) -> 142.37 | N57: =L57+M57 -> 599.29
A58: Februāris | B58: 17 | C58: 6 | D58: ='darba dienas'!C6 -> 20 | E58: 267 | F58: 72 | G58: 29.91 | H58: 34.41 | I58: 20 | J58: =ROUND(G58*I58 %,2) -> 5.98 | K58: =ROUND(H58*I58 %,2) -> 6.88 | L58: =ROUND(E58*J58,2) -> 1596.66 | M58: =ROUND(F58*K58,2) -> 495.36 | N58: =L58+M58 -> 2092.02 | P58: =N56+N57 -> 3396
A59: Marts | B59: 17 | C59: 6 | D59: ='darba dienas'!D6 -> 21 | E59: 267 | F59: 72 | G59: 29.91 | H59: 34.41 | I59: 20 | J59: =ROUND(G59*I59 %,2) -> 5.98 | K59: =ROUND(H59*I59 %,2) -> 6.88 | L59: =ROUND(E59*J59,2) -> 1596.66 | M59: =ROUND(F59*K59,2) -> 495.36 | N59: =L59+M59 -> 2092.02 | P59: =N58 -> 2092.02
A60: Aprīlis | B60: 17 | C60: 6 | D60: ='darba dienas'!E6 -> 22 | E60: 267 | F60: 72 | G60: 29.91 | H60: 34.41 | I60: 20 | J60: =ROUND(G60*I60 %,2) -> 5.98 | K60: =ROUND(H60*I60 %,2) -> 6.88 | L60: =ROUND(E60*J60,2) -> 1596.66 | M60: =ROUND(F60*K60,2) -> 495.36 | N60: =L60+M60 -> 2092.02 | P60: =N59 -> 2092.02
A61: Maijs | B61: 17 | C61: 6 | D61: ='darba dienas'!F6 -> 20 | E61: 267 | F61: 72 | G61: 29.91 | H61: 34.41 | I61: 20 | J61: =ROUND(G61*I61 %,2) -> 5.98 | K61: =ROUND(H61*I61 %,2) -> 6.88 | L61: =ROUND(E61*J61,2) -> 1596.66 | M61: =ROUND(F61*K61,2) -> 495.36 | N61: =L61+M61 -> 2092.02 | P61: =N60 -> 2092.02
A62: Jūnijs | B62: 17 | C62: 6 | D62: ='darba dienas'!G6 -> 20 | E62: 267 | F62: 72 | G62: 29.91 | H62: 34.41 | I62: 20 | J62: =ROUND(G62*I62 %,2) -> 5.98 | K62: =ROUND(H62*I62 %,2) -> 6.88 | L62: =ROUND(E62*J62,2) -> 1596.66 | M62: =ROUND(F62*K62,2) -> 495.36 | N62: =L62+M62 -> 2092.02 | P62: =N61 -> 2092.02
A63: Jūlijs | B63: 17 | C63: 6 | D63: ='darba dienas'!H6 -> 22 | E63: 267 | F63: 72 | G63: 29.91 | H63: 34.41 | I63: 20 | J63: =ROUND(G63*I63 %,2) -> 5.98 | K63: =ROUND(H63*I63 %,2) -> 6.88 | L63: =ROUND(E63*J63,2) -> 1596.66 | M63: =ROUND(F63*K63,2) -> 495.36 | N63: =L63+M63 -> 2092.02 | P63: =N62 -> 2092.02
A64: Augusts | B64: 17 | C64: 6 | D64: ='darba dienas'!I6 -> 22 | E64: 267 | F64: 72 | G64: 29.91 | H64: 34.41 | I64: 20 | J64: =ROUND(G64*I64 %,2) -> 5.98 | K64: =ROUND(H64*I64 %,2) -> 6.88 | L64: =ROUND(E64*J64,2) -> 1596.66 | M64: =ROUND(F64*K64,2) -> 495.36 | N64: =L64+M64 -> 2092.02 | P64: =N63 -> 2092.02
A65: Septembris | B65: 17 | C65: 6 | D65: ='darba dienas'!J6 -> 22 | E65: 267 | F65: 72 | G65: 29.91 | H65: 34.41 | I65: 20 | J65: =ROUND(G65*I65 %,2) -> 5.98 | K65: =ROUND(H65*I65 %,2) -> 6.88 | L65: =ROUND(E65*J65,2) -> 1596.66 | M65: =ROUND(F65*K65,2) -> 495.36 | N65: =L65+M65 -> 2092.02 | P65: =N64 -> 2092.02
A66: Oktobris | B66: 17 | C66: 6 | D66: ='darba dienas'!K6 -> 21 | E66: 267 | F66: 72 | G66: 29.91 | H66: 34.41 | I66: 20 | J66: =ROUND(G66*I66 %,2) -> 5.98 | K66: =ROUND(H66*I66 %,2) -> 6.88 | L66: =ROUND(E66*J66,2) -> 1596.66 | M66: =ROUND(F66*K66,2) -> 495.36 | N66: =L66+M66 -> 2092.02 | P66: =N65 -> 2092.02
A67: Novembris | B67: 17 | C67: 6 | D67: ='darba dienas'!L6 -> 21 | E67: 267 | F67: 72 | G67: 29.91 | H67: 34.41 | I67: 20 | J67: =ROUND(G67*I67 %,2) -> 5.98 | K67: =ROUND(H67*I67 %,2) -> 6.88 | L67: =ROUND(E67*J67,2) -> 1596.66 | M67: =ROUND(F67*K67,2) -> 495.36 | N67: =L67+M67 -> 2092.02 | P67: =N66 -> 2092.02
A68: Decembris | B68: 17 | C68: 6 | D68: ='darba dienas'!M6 -> 21 | E68: 267 | F68: 72 | G68: 29.91 | H68: 34.41 | I68: 20 | J68: =ROUND(G68*I68 %,2) -> 5.98 | K68: =ROUND(H68*I68 %,2) -> 6.88 | L68: =ROUND(E68*J68,2) -> 1596.66 | M68: =ROUND(F68*K68,2) -> 495.36 | N68: =L68+M68 -> 2092.02 | P68: =N67 -> 2092.02
A69: kopā | B69: x | C69: x | D69: =SUM(D56:D68) -> 252 | E69: =SUM(E56:E68) -> 3191.6939 | F69: =SUM(F56:F68) -> 860.97959 | G69: x | H69: x | I69: x | J69: x | K69: x | L69: =SUM(L56:L68) -> 20152.48 | M69: =SUM(M56:M68) -> 6255.74 | N69: =SUM(N56:N68) -> 26408.22 | P69: =SUM(P56:P68) -> 28500.24
B70: 2028.g.
A71: Biedrība "Cerību spārni", Smiltenes DAC, sāk. 22.01.2024. | B71: Klientu skaits kuriem ir pašaprūpes iemaņas | C71: Klientu skaits kuriem nepieciešamas atbalsts aprūpē | D71: Darba dienu skaits mēnesī | E71: Klientu skaits kuriem ir pašaprūpes iemaņas | F71: Klientu skaits kuriem nepieciešamas atbalsts aprūpē | G71: Kl.dienas cena ar pašaprūpes iemaņām | H71: Kl.dienas cena klientiem, kuriem nepiec.atbalsts | I71: Valsts līdzfinansējuma% 2028.g. | J71: Valsts līdzfinansējuma kl.dienas cena ar pašaprūpes iemaņām | K71: Valsts līdzfinansējuma ll.dienas cena klientiem, kuriem nepiec.atbalsts | L71: Valsts līdzfinansējums klientiem kuriem ir pašaprūpes iemaņas | M71: Valsts līdzfinansējums klientiem kuriem nepiec.atbalsts | N71: Valsts līdzfinansējums kopā | O71: Klientu līdzmaksājuma daļa, par kuru tiek samazināts valsts līdzfinansējuma apmērs* | P71: Naudas plūsma | Q71: Plāns
A72: Janvāris, līdz 21.01. | B72: 17 | C72: 6 | D72: 15 | E72: =E18*D72 -> 191.02041 | F72: =F18*D72 -> 51.734694 | G72: 29.91 | H72: 34.41 | I72: 20 | J72: =ROUND(G72*I72 %,2) -> 5.98 | K72: =ROUND(H72*I72 %,2) -> 6.88 | L72: =ROUND(E72*J72,2) -> 1142.3 | M72: =ROUND(F72*K72,2) -> 355.93 | N72: =L72+M72 -> 1498.23 | P72: =N68 -> 2092.02 | Q72: Plāns
A73: Janvāris, no 22.01. | D73: 0 | G73: 29.91 | H73: 34.41 | I73: 0 | J73: =ROUND(G73*I73 %,2) -> 0 | K73: =ROUND(H73*I73 %,2) -> 0
A74: Februāris | D74: ='darba dienas'!C37 -> 0 | G74: 29.91 | H74: 34.41 | I74: 0 | J74: =ROUND(G74*I74 %,2) -> 0 | K74: =ROUND(H74*I74 %,2) -> 0 | L74: =ROUND(E74*J74,2) -> 0 | M74: =ROUND(F74*K74,2) -> 0 | N74: =L74+M74 -> 0 | P74: =N72 -> 1498.23
A75: kopā | B75: x | C75: x | D75: =SUM(D72:D74) -> 15 | E75: =SUM(E72:E74) -> 191.02041 | F75: =SUM(F72:F74) -> 51.734694 | G75: x | H75: x | I75: x | J75: x | K75: x | L75: =SUM(L72:L74) -> 1142.3 | M75: =SUM(M72:M74) -> 355.93 | N75: =SUM(N72:N74) -> 1498.23 | P75: =SUM(P72:P74) -> 3590.25
A77: * Pakalpojuma sniedzējs informā, saskaņā ar pašvaldības noteikumiem, klientiem, kuriem nav maznodrošoinātā statuss jāveic līdzmaksājums par ēdināšanu. Klientu skaits, kas daļāji sedz izdevumus par ēdināšanu, ir mainīgs, jo mainās arī klientu maksātspējas statuss.
A78: Nevar paredzēt vai turpmākajos gados šis noteikums tiks saglabāts.

Sheet 10
B2: 2024.g.
A3: Ludzas novada Sociālā dienesta Daudzfunkcionālais sociālo pakalpojumu centrs Kārsavā, sāk. 01.07.2021. | B3: Klientu skaits kuriem ir pašaprūpes iemaņas | C3: Klientu skaits kuriem nepieciešamas atbalsts aprūpē | D3: Darba dienu skaits mēnesī | E3: Klientu dienu skaits kuriem ir pašaprūpes iemaņas | F3: Klientu dienu skaits kuriem nepieciešamas atbalsts aprūpē | G3: Kl.dienas cena ar pašaprūpes iemaņām | H3: Kl.dienas cena klientiem, kuriem nepiec.atbalsts | I3: Valsts līdzfinansējuma% 2024.g. | J3: Valsts līdzfinansējuma kl.dienas cena ar pašaprūpes iemaņām | K3: Valsts līdzfinansējuma ll.dienas cena klientiem, kuriem nepiec.atbalsts | L3: Valsts līdzfinansējums klientiem kuriem ir pašaprūpes iemaņas | M3: Valsts līdzfinansējums klientiem kuriem nepiec.atbalsts | N3: Valsts līdzfinansējums kopā | O3: Naudas plūsma | P3: Fakts / Plāns
A4: Janvāris | B4: 0 | C4: 0 | D4: 22 | E4: 0 | F4: 0 | G4: 10.55 | H4: 15.29 | I4: 40 | J4: =ROUND(G4*I4 %,2) -> 4.22 | K4: =ROUND(H4*I4 %,2) -> 6.12 | L4: =ROUND(E4*J4,2) -> 0 | M4: =ROUND(F4*K4,2) -> 0 | N4: =L4+M4 -> 0 | O4: 0 | P4: Fakts
A5: Februāris | B5: 11 | C5: 6 | D5: 21 | E5: 78 | F5: 99 | G5: 10.55 | H5: 15.29 | I5: 40 | J5: =ROUND(G5*I5 %,2) -> 4.22 | K5: =ROUND(H5*I5 %,2) -> 6.12 | L5: =ROUND(E5*J5,2) -> 329.16 | M5: =ROUND(F5*K5,2) -> 605.88 | N5: =L5+M5 -> 935.04 | O5: 0
A6: Marts | B6: 9 | C6: 6 | D6: 20 | E6: 78 | F6: 91 | G6: 10.55 | H6: 15.29 | I6: 40 | J6: =ROUND(G6*I6 %,2) -> 4.22 | K6: =ROUND(H6*I6 %,2) -> 6.12 | L6: =ROUND(E6*J6,2) -> 329.16 | M6: =ROUND(F6*K6,2) -> 556.92 | N6: =L6+M6 -> 886.08 | O6: 0
A7: Aprīlis | B7: 9 | C7: 6 | D7: 21 | E7: 92 | F7: 80 | G7: 15.68 | H7: 17.45 | I7: 40 | J7: =ROUND(G7*I7 %,2) -> 6.27 | K7: =ROUND(H7*I7 %,2) -> 6.98 | L7: =ROUND(E7*J7,2) -> 576.84 | M7: =ROUND(F7*K7,2) -> 558.4 | N7: =L7+M7 -> 1135.24 | O7: 0
A8: Maijs | B8: 9 | C8: 6 | D8: 21 | E8: 78 | F8: 79 | G8: 15.68 | H8: 17.45 | I8: 40 | J8: =ROUND(G8*I8 %,2) -> 6.27 | K8: =ROUND(H8*I8 %,2) -> 6.98 | L8: =ROUND(E8*J8,2) -> 489.06 | M8: =ROUND(F8*K8,2) -> 551.42 | N8: =L8+M8 -> 1040.48 | O8: 0
A9: Jūnijs | B9: 8 | C9: 6 | D9: 19 | E9: 79 | F9: 71 | G9: 15.68 | H9: 17.45 | I9: 40 | J9: =ROUND(G9*I9 %,2) -> 6.27 | K9: =ROUND(H9*I9 %,2) -> 6.98 | L9: =ROUND(E9*J9,2) -> 495.33 | M9: =ROUND(F9*K9,2) -> 495.58 | N9: =L9+M9 -> 990.91 | O9: 0
A10: Jūlijs | B10: 8 | C10: 6 | D10: 23 | E10: 77 | F10: 86 | G10: 15.68 | H10: 17.45 | I10: 20 | J10: =ROUND(G10*I10 %,2) -> 3.14 | K10: =ROUND(H10*I10 %,2) -> 3.49 | L10: =ROUND(E10*J10,2) -> 241.78 | M10: =ROUND(F10*K10,2) -> 300.14 | N10: =L10+M10 -> 541.92 | O10: 0
A11: Augusts | B11: 8 | C11: 6 | D11: 22 | E11: 64 | F11: 80 | G11: 15.68 | H11: 17.45 | I11: 20 | J11: =ROUND(G11*I11 %,2) -> 3.14 | K11: =ROUND(H11*I11 %,2) -> 3.49 | L11: =ROUND(E11*J11,2) -> 200.96 | M11: =ROUND(F11*K11,2) -> 279.2 | N11: =L11+M11 -> 480.16 | O11: 0
A12: Septembris | B12: 8 | C12: 6 | D12: 21 | E12: 79 | F12: 83 | G12: 15.68 | H12: 17.45 | I12: 20 | J12: =ROUND(G12*I12 %,2) -> 3.14 | K12: =ROUND(H12*I12 %,2) -> 3.49 | L12: =ROUND(E12*J12,2) -> 248.06 | M12: =ROUND(F12*K12,2) -> 289.67 | N12: =L12+M12 -> 537.73 | O12: =SUM(N4:N11) -> 6009.83 | P12: Plāns
A13: Oktobris | B13: 8 | C13: 6 | D13: 23 | E13: 79 | F13: 83 | G13: 15.68 | H13: 17.45 | I13: 20 | J13: =ROUND(G13*I13 %,2) -> 3.14 | K13: =ROUND(H13*I13 %,2) -> 3.49 | L13: =ROUND(E13*J13,2) -> 248.06 | M13: =ROUND(F13*K13,2) -> 289.67 | N13: =L13+M13 -> 537.73 | O13: =N12 -> 537.73
A14: Novembris | B14: 8 | C14: 6 | D14: 20 | E14: 79 | F14: 83 | G14: 15.68 | H14: 17.45 | I14: 20 | J14: =ROUND(G14*I14 %,2) -> 3.14 | K14: =ROUND(H14*I14 %,2) -> 3.49 | L14: =ROUND(E14*J14,2) -> 248.06 | M14: =ROUND(F14*K14,2) -> 289.67 | N14: =L14+M14 -> 537.73 | O14: =N13 -> 537.73
A15: Decembris | B15: 8 | C15: 6 | D15: 18 | E15: 79 | F15: 83 | G15: 15.68 | H15: 17.45 | I15: 20 | J15: =ROUND(G15*I15 %,2) -> 3.14 | K15: =ROUND(H15*I15 %,2) -> 3.49 | L15: =ROUND(E15*J15,2) -> 248.06 | M15: =ROUND(F15*K15,2) -> 289.67 | N15: =L15+M15 -> 537.73 | O15: =N14 -> 537.73
A16: kopā | B16: x | C16: x | D16: =SUM(D4:D15) -> 251 | E16: =SUM(E4:E15) -> 862 | F16: =SUM(F4:F15) -> 918 | G16: x | H16: x | I16: x | J16: x | K16: x | L16: =SUM(L4:L15) -> 3654.53 | M16: =SUM(M4:M15) -> 4506.22 | N16: =SUM(N4:N15) -> 8160.75 | O16: =SUM(O4:O15) -> 7623.02
B17: 2025.g.
A18: Ludzas novada Sociālā dienesta Daudzfunkcionālais sociālo pakalpojumu centrs Kārsavā, sāk. 01.07.2021. | B18: Klientu skaits kuriem ir pašaprūpes iemaņas | C18: Klientu skaits kuriem nepieciešamas atbalsts aprūpē | D18: Darba dienu skaits mēnesī | E18: Klientu skaits kuriem ir pašaprūpes iemaņas | F18: Klientu skaits kuriem nepieciešamas atbalsts aprūpē | G18: Kl.dienas cena ar pašaprūpes iemaņām | H18: Kl.dienas cena klientiem, kuriem nepiec.atbalsts | I18: Valsts līdzfinansējuma% 2025.g. | J18: Valsts līdzfinansējuma kl.dienas cena ar pašaprūpes iemaņām | K18: Valsts līdzfinansējuma ll.dienas cena klientiem, kuriem nepiec.atbalsts | L18: Valsts līdzfinansējums klientiem kuriem ir pašaprūpes iemaņas | M18: Valsts līdzfinansējums klientiem kuriem nepiec.atbalsts | N18: Valsts līdzfinansējums kopā | O18: Naudas plūsma | P18: Plāns
A19: Janvāris | B19: 17 | C19: 6 | D19: ='darba dienas'!B4 -> 22 | E19: 79 | F19: 83 | G19: 15.68 | H19: 17.45 | I19: 20 | J19: =ROUND(G19*I19 %,2) -> 3.14 | K19: =ROUND(H19*I19 %,2) -> 3.49 | L19: =ROUND(E19*J19,2) -> 248.06 | M19: =ROUND(F19*K19,2) -> 289.67 | N19: =L19+M19 -> 537.73 | O19: =N15 -> 537.73 | P19: Plāns
A20: Februāris | B20: 17 | C20: 6 | D20: ='darba dienas'!C4 -> 20 | E20: 79 | F20: 83 | G20: 15.68 | H20: 17.45 | I20: 20 | J20: =ROUND(G20*I20 %,2) -> 3.14 | K20: =ROUND(H20*I20 %,2) -> 3.49 | L20: =ROUND(E20*J20,2) -> 248.06 | M20: =ROUND(F20*K20,2) -> 289.67 | N20: =L20+M20 -> 537.73 | O20: =N19 -> 537.73
A21: Marts | B21: 17 | C21: 6 | D21: ='darba dienas'!D4 -> 21 | E21: 79 | F21: 83 | G21: 15.68 | H21: 17.45 | I21: 20 | J21: =ROUND(G21*I21 %,2) -> 3.14 | K21: =ROUND(H21*I21 %,2) -> 3.49 | L21: =ROUND(E21*J21,2) -> 248.06 | M21: =ROUND(F21*K21,2) -> 289.67 | N21: =L21+M21 -> 537.73 | O21: =N20 -> 537.73
A22: Aprīlis | B22: 17 | C22: 6 | D22: ='darba dienas'!E4 -> 20 | E22: 79 | F22: 83 | G22: 15.68 | H22: 17.45 | I22: 20 | J22: =ROUND(G22*I22 %,2) -> 3.14 | K22: =ROUND(H22*I22 %,2) -> 3.49 | L22: =ROUND(E22*J22,2) -> 248.06 | M22: =ROUND(F22*K22,2) -> 289.67 | N22: =L22+M22 -> 537.73 | O22: =N21 -> 537.73
A23: Maijs | B23: 17 | C23: 6 | D23: ='darba dienas'!F4 -> 20 | E23: 79 | F23: 83 | G23: 15.68 | H23: 17.45 | I23: 20 | J23: =ROUND(G23*I23 %,2) -> 3.14 | K23: =ROUND(H23*I23 %,2) -> 3.49 | L23: =ROUND(E23*J23,2) -> 248.06 | M23: =ROUND(F23*K23,2) -> 289.67 | N23: =L23+M23 -> 537.73 | O23: =N22 -> 537.73
A24: Jūnijs | B24: 17 | C24: 6 | D24: ='darba dienas'!G4 -> 19 | E24: 79 | F24: 83 | G24: 15.68 | H24: 17.45 | I24: 20 | J24: =ROUND(G24*I24 %,2) -> 3.14 | K24: =ROUND(H24*I24 %,2) -> 3.49 | L24: =ROUND(E24*J24,2) -> 248.06 | M24: =ROUND(F24*K24,2) -> 289.67 | N24: =L24+M24 -> 537.73 | O24: =N23 -> 537.73
A25: Jūlijs | J25: =ROUND(G25*I25 %,2) -> 0 | K25: =ROUND(H25*I25 %,2) -> 0 | L25: =ROUND(E25*J25,2) -> 0 | M25: =ROUND(F25*K25,2) -> 0 | N25: =L25+M25 -> 0 | O25: =N24 -> 537.73
A26: Augusts | J26: =ROUND(G26*I26 %,2) -> 0 | K26: =ROUND(H26*I26 %,2) -> 0 | L26: =ROUND(E26*J26,2) -> 0 | M26: =ROUND(F26*K26,2) -> 0 | N26: =L26+M26 -> 0 | O26: =N25 -> 0
A27: Septembris | J27: =ROUND(G27*I27 %,2) -> 0 | K27: =ROUND(H27*I27 %,2) -> 0 | L27: =ROUND(E27*J27,2) -> 0 | M27: =ROUND(F27*K27,2) -> 0 | N27: =L27+M27 -> 0 | O27: =N26 -> 0
A28: Oktobris | J28: =ROUND(G28*I28 %,2) -> 0 | K28: =ROUND(H28*I28 %,2) -> 0 | L28: =ROUND(E28*J28,2) -> 0 | M28: =ROUND(F28*K28,2) -> 0 | N28: =L28+M28 -> 0 | O28: =N27 -> 0
A29: Novembris | J29: =ROUND(G29*I29 %,2) -> 0 | K29: =ROUND(H29*I29 %,2) -> 0 | L29: =ROUND(E29*J29,2) -> 0 | M29: =ROUND(F29*K29,2) -> 0 | N29: =L29+M29 -> 0 | O29: =N28 -> 0
A30: Decembris | J30: =ROUND(G30*I30 %,2) -> 0 | K30: =ROUND(H30*I30 %,2) -> 0 | L30: =ROUND(E30*J30,2) -> 0 | M30: =ROUND(F30*K30,2) -> 0 | N30: =L30+M30 -> 0 | O30: =N29 -> 0
A31: kopā | B31: x | C31: x | D31: =SUM(D19:D30) -> 122 | E31: =SUM(E19:E30) -> 474 | F31: =SUM(F19:F30) -> 498 | G31: x | H31: x | I31: x | J31: x | K31: x | L31: =SUM(L19:L30) -> 1488.36 | M31: =SUM(M19:M30) -> 1738.02 | N31: =SUM(N19:N30) -> 3226.38 | O31: =SUM(O19:O30) -> 3764.11

Sheet 11
B3: 2024.g.
A4: Ludzas SD DAC Ludza, reģ.dat. 20.07.2020. | B4: Klientu sk. | C4: Darba dienu skaits mēnesī | D4: Klientu dienu sk. | E4: Kl.dienas cena | F4: Valsts līdzfinansējuma% 2024.g. | G4: Valsts līdzifnansējuma klientu dienas cena, euro | H4: Valsts līdzfinansējums | I4: Naudas plūsma | J4: Fakts / plāns
A5: Janvaris | B5: 0 | C5: 22 | D5: 0 | E5: 0 | F5: 0 | G5: 0 | H5: 0 | I5: 0 | J5: Fakts
A6: Februāris | B6: 12 | C6: 21 | D6: 212 | E6: 18.33 | F6: 20 | G6: =ROUND(E6*F6 %,2) -> 3.67 | H6: =D6*G6 -> 778.04 | I6: 0
A7: Marts | B7: 13 | C7: 20 | D7: 216 | E7: 18.33 | F7: 20 | G7: =ROUND(E7*F7 %,2) -> 3.67 | H7: =D7*G7 -> 792.72 | I7: 0
A8: Aprīlis | B8: 13 | C8: 21 | D8: 220 | E8: 18.33 | F8: 20 | G8: =ROUND(E8*F8 %,2) -> 3.67 | H8: =D8*G8 -> 807.4 | I8: 0
A9: Maijs | B9: 13 | C9: 21 | D9: 226 | E9: 18.33 | F9: 20 | G9: =ROUND(E9*F9 %,2) -> 3.67 | H9: =D9*G9 -> 829.42 | I9: 0
A10: Jūnijs | B10: 13 | C10: 19 | D10: 188 | E10: 18.33 | F10: 20 | G10: =ROUND(E10*F10 %,2) -> 3.67 | H10: =D10*G10 -> 689.96 | I10: 0
A11: Jūlijs, līdz 19.07. | B11: 12 | C11: 15 | D11: 137 | E11: 18.33 | F11: 20 | G11: =ROUND(E11*F11 %,2) -> 3.67 | H11: =D11*G11 -> 502.79 | I11: 0
A12: Augusts | G12: =ROUND(E12*F12 %,2) -> 0 | H12: =D12*G12 -> 0 | I12: 0
A13: Septembris | G13: =ROUND(E13*F13 %,2) -> 0 | H13: =D13*G13 -> 0 | I13: =SUM(H5:H12) -> 4400.33
A14: Oktobris | G14: =ROUND(E14*F14 %,2) -> 0 | H14: =D14*G14 -> 0 | I14: =H13 -> 0
A15: Novembris | G15: =ROUND(E15*F15 %,2) -> 0 | H15: =D15*G15 -> 0 | I15: =H14 -> 0
A16: Decembris | G16: =ROUND(E16*F16 %,2) -> 0 | H16: =D16*G16 -> 0 | I16: =H15 -> 0
A17: kopā | B17: x | C17: =SUM(C5:C16) -> 139 | D17: =SUM(D5:D16) -> 1199 | E17: x | F17: x | G17: x | H17: =SUM(H5:H16) -> 4400.33 | I17: =SUM(I5:I16) -> 4400.33

Sheet 12
B3: 2024.g.
A4: Latvijas Samariešu apvienība_DAC "Laiva" Mazsalaca, sāk.dat. 01.03.2022. | B4: Klientu skaits kuriem ir pašaprūpes iemaņas | C4: Klientu skaits kuriem nepieciešamas atbalsts aprūpē | D4: Darba dienu skaits mēnesī | E4: Klientu dienu skaits kuriem ir pašaprūpes iemaņas | F4: Klientu dienu skaits kuriem nepieciešamas atbalsts aprūpē | G4: Kl.dienas cena ar pašaprūpes iemaņām | H4: Kl.dienas cena klientiem, kuriem nepiec.atbalsts | I4: Valsts līdzfinansējuma% 2024.g. | J4: Valsts līdzfinansējuma kl.dienas cena ar pašaprūpes iemaņām | K4: Valsts līdzfinansējuma ll.dienas cena klientiem, kuriem nepiec.atbalsts | L4: Valsts līdzfinansējums klientiem kuriem ir pašaprūpes iemaņas | M4: Valsts līdzfinansējums klientiem kuriem nepiec.atbalsts | N4: Valsts līdzfinansējums kopā | O4: Naudas plūsma | P4: Plāns
A5: Janvaris | D5: 22 | G5: 26.87 | H5: 34.46 | J5: =ROUND(G5*I5 %,2) -> 0 | K5: =ROUND(H5*I5 %,2) -> 0 | L5: =ROUND(E5*J5,2) -> 0 | M5: =ROUND(F5*K5,2) -> 0 | N5: =L5+M5 -> 0 | O5: 0 | P5: Plāns
A6: Februāris | B6: 4 | C6: 1 | D6: 21 | E6: =B6*D6 -> 84 | F6: =C6*D6 -> 21 | G6: 26.87 | H6: 34.46 | I6: 60 | J6: =ROUND(G6*I6 %,2) -> 16.12 | K6: =ROUND(H6*I6 %,2) -> 20.68 | L6: =ROUND(E6*J6,2) -> 1354.08 | M6: =ROUND(F6*K6,2) -> 434.28 | N6: =L6+M6 -> 1788.36 | O6: 0
A7: Marts | B7: 4 | C7: 1 | D7: 20 | E7: =B7*D7 -> 80 | F7: =C7*D7 -> 20 | G7: 26.87 | H7: 34.46 | I7: 40 | J7: =ROUND(G7*I7 %,2) -> 10.75 | K7: =ROUND(H7*I7 %,2) -> 13.78 | L7: =ROUND(E7*J7,2) -> 860 | M7: =ROUND(F7*K7,2) -> 275.6 | N7: =L7+M7 -> 1135.6 | O7: 0
A8: Aprīlis | B8: 4 | C8: 1 | D8: 21 | E8: =B8*D8 -> 84 | F8: =C8*D8 -> 21 | G8: 26.87 | H8: 34.46 | I8: 40 | J8: =ROUND(G8*I8 %,2) -> 10.75 | K8: =ROUND(H8*I8 %,2) -> 13.78 | L8: =ROUND(E8*J8,2) -> 903 | M8: =ROUND(F8*K8,2) -> 289.38 | N8: =L8+M8 -> 1192.38 | O8: 0
A9: Maijs | B9: 4 | C9: 1 | D9: 21 | E9: =B9*D9 -> 84 | F9: =C9*D9 -> 21 | G9: 26.87 | H9: 34.46 | I9: 40 | J9: =ROUND(G9*I9 %,2) -> 10.75 | K9: =ROUND(H9*I9 %,2) -> 13.78 | L9: =ROUND(E9*J9,2) -> 903 | M9: =ROUND(F9*K9,2) -> 289.38 | N9: =L9+M9 -> 1192.38 | O9: 0
A10: Jūnijs | B10: 4 | C10: 1 | D10: 19 | E10: =B10*D10 -> 76 | F10: =C10*D10 -> 19 | G10: 26.87 | H10: 34.46 | I10: 40 | J10: =ROUND(G10*I10 %,2) -> 10.75 | K10: =ROUND(H10*I10 %,2) -> 13.78 | L10: =ROUND(E10*J10,2) -> 817 | M10: =ROUND(F10*K10,2) -> 261.82 | N10: =L10+M10 -> 1078.82 | O10: 0
A11: Jūlijs | B11: 4 | C11: 1 | D11: 23 | E11: =B11*D11 -> 92 | F11: =C11*D11 -> 23 | G11: 26.87 | H11: 34.46 | I11: 40 | J11: =ROUND(G11*I11 %,2) -> 10.75 | K11: =ROUND(H11*I11 %,2) -> 13.78 | L11: =ROUND(E11*J11,2) -> 989 | M11: =ROUND(F11*K11,2) -> 316.94 | N11: =L11+M11 -> 1305.94 | O11: 0
A12: Augusts | B12: 4 | C12: 1 | D12: 22 | E12: =B12*D12 -> 88 | F12: =C12*D12 -> 22 | G12: 26.87 | H12: 34.46 | I12: 40 | J12: =ROUND(G12*I12 %,2) -> 10.75 | K12: =ROUND(H12*I12 %,2) -> 13.78 | L12: =ROUND(E12*J12,2) -> 946 | M12: =ROUND(F12*K12,2) -> 303.16 | N12: =L12+M12 -> 1249.16 | O12: 0
A13: Septembris | B13: 4 | C13: 1 | D13: 21 | E13: =B13*D13 -> 84 | F13: =C13*D13 -> 21 | G13: 26.87 | H13: 34.46 | I13: 40 | J13: =ROUND(G13*I13 %,2) -> 10.75 | K13: =ROUND(H13*I13 %,2) -> 13.78 | L13: =ROUND(E13*J13,2) -> 903 | M13: =ROUND(F13*K13,2) -> 289.38 | N13: =L13+M13 -> 1192.38 | O13: 0
A14: Oktobris | B14: 4 | C14: 1 | D14: 23 | E14: =B14*D14 -> 92 | F14: =C14*D14 -> 23 | G14: 26.87 | H14: 34.46 | I14: 40 | J14: =ROUND(G14*I14 %,2) -> 10.75 | K14: =ROUND(H14*I14 %,2) -> 13.78 | L14: =ROUND(E14*J14,2) -> 989 | M14: =ROUND(F14*K14,2) -> 316.94 | N14: =L14+M14 -> 1305.94 | O14: =SUM(N5:N13) -> 10135.02
A15: Novembris | B15: 4 | C15: 1 | D15: 20 | E15: =B15*D15 -> 80 | F15: =C15*D15 -> 20 | G15: 26.87 | H15: 34.46 | I15: 40 | J15: =ROUND(G15*I15 %,2) -> 10.75 | K15: =ROUND(H15*I15 %,2) -> 13.78 | L15: =ROUND(E15*J15,2) -> 860 | M15: =ROUND(F15*K15,2) -> 275.6 | N15: =L15+M15 -> 1135.6 | O15: =N14 -> 1305.94
A16: Decembris | B16: 4 | C16: 1 | D16: 18 | E16: =B16*D16 -> 72 | F16: =C16*D16 -> 18 | G16: 26.87 | H16: 34.46 | I16: 40 | J16: =ROUND(G16*I16 %,2) -> 10.75 | K16: =ROUND(H16*I16 %,2) -> 13.78 | L16: =ROUND(E16*J16,2) -> 774 | M16: =ROUND(F16*K16,2) -> 248.04 | N16: =L16+M16 -> 1022.04 | O16: =N15 -> 1135.6
A17: kopā | B17: x | C17: x | D17: =SUM(D5:D16) -> 251 | E17: =SUM(E5:E16) -> 916 | F17: =SUM(F5:F16) -> 229 | G17: x | H17: x | I17: x | J17: x | K17: x | L17: =SUM(L5:L16) -> 10298.08 | M17: =SUM(M5:M16) -> 3300.52 | N17: =SUM(N5:N16) -> 13598.6 | O17: =SUM(O5:O16) -> 12576.56
B19: 2025.g.
A20: Latvijas Samariešu apvienība_DAC "Laiva" Mazsalaca, sāk.dat. 01.03.2022. | B20: Klientu skaits kuriem ir pašaprūpes iemaņas | C20: Klientu skaits kuriem nepieciešamas atbalsts aprūpē | D20: Darba dienu skaits mēnesī | E20: Klientu dienu skaits kuriem ir pašaprūpes iemaņas | F20: Klientu dienu skaits kuriem nepieciešamas atbalsts aprūpē | G20: Kl.dienas cena ar pašaprūpes iemaņām | H20: Kl.dienas cena klientiem, kuriem nepiec.atbalsts | I20: Valsts līdzfinansējuma% 2025.g. | J20: Valsts līdzfinansējuma kl.dienas cena ar pašaprūpes iemaņām | K20: Valsts līdzfinansējuma ll.dienas cena klientiem, kuriem nepiec.atbalsts | L20: Valsts līdzfinansējums klientiem kuriem ir pašaprūpes iemaņas | M20: Valsts līdzfinansējums klientiem kuriem nepiec.atbalsts | N20: Valsts līdzfinansējums kopā | O20: Naudas plūsma | P20: Plāns
A21: Janvaris | B21: 4 | C21: 1 | D21: ='darba dienas'!B4 -> 22 | E21: =B21*D21 -> 88 | F21: =C21*D21 -> 22 | G21: 26.87 | H21: 34.46 | I21: 40 | J21: =ROUND(G21*I21 %,2) -> 10.75 | K21: =ROUND(H21*I21 %,2) -> 13.78 | L21: =ROUND(E21*J21,2) -> 946 | M21: =ROUND(F21*K21,2) -> 303.16 | N21: =L21+M21 -> 1249.16 | O21: =N16 -> 1022.04 | P21: Plāns
A22: Februāris | B22: 4 | C22: 1 | D22: ='darba dienas'!C4 -> 20 | E22: =B22*D22 -> 80 | F22: =C22*D22 -> 20 | G22: 26.87 | H22: 34.46 | I22: 40 | J22: =ROUND(G22*I22 %,2) -> 10.75 | K22: =ROUND(H22*I22 %,2) -> 13.78 | L22: =ROUND(E22*J22,2) -> 860 | M22: =ROUND(F22*K22,2) -> 275.6 | N22: =L22+M22 -> 1135.6 | O22: =N21 -> 1249.16
A23: Marts | B23: 4 | C23: 1 | D23: ='darba dienas'!D4 -> 21 | E23: =B23*D23 -> 84 | F23: =C23*D23 -> 21 | G23: 26.87 | H23: 34.46 | I23: 20 | J23: =ROUND(G23*I23 %,2) -> 5.37 | K23: =ROUND(H23*I23 %,2) -> 6.89 | L23: =ROUND(E23*J23,2) -> 451.08 | M23: =ROUND(F23*K23,2) -> 144.69 | N23: =L23+M23 -> 595.77 | O23: =N22 -> 1135.6
A24: Aprīlis | B24: 4 | C24: 1 | D24: ='darba dienas'!E4 -> 20 | E24: =B24*D24 -> 80 | F24: =C24*D24 -> 20 | G24: 26.87 | H24: 34.46 | I24: 20 | J24: =ROUND(G24*I24 %,2) -> 5.37 | K24: =ROUND(H24*I24 %,2) -> 6.89 | L24: =ROUND(E24*J24,2) -> 429.6 | M24: =ROUND(F24*K24,2) -> 137.8 | N24: =L24+M24 -> 567.4 | O24: =N23 -> 595.77
A25: Maijs | B25: 4 | C25: 1 | D25: ='darba dienas'!F4 -> 20 | E25: =B25*D25 -> 80 | F25: =C25*D25 -> 20 | G25: 26.87 | H25: 34.46 | I25: 20 | J25: =ROUND(G25*I25 %,2) -> 5.37 | K25: =ROUND(H25*I25 %,2) -> 6.89 | L25: =ROUND(E25*J25,2) -> 429.6 | M25: =ROUND(F25*K25,2) -> 137.8 | N25: =L25+M25 -> 567.4 | O25: =N24 -> 567.4
A26: Jūnijs | B26: 4 | C26: 1 | D26: ='darba dienas'!G4 -> 19 | E26: =B26*D26 -> 76 | F26: =C26*D26 -> 19 | G26: 26.87 | H26: 34.46 | I26: 20 | J26: =ROUND(G26*I26 %,2) -> 5.37 | K26: =ROUND(H26*I26 %,2) -> 6.89 | L26: =ROUND(E26*J26,2) -> 408.12 | M26: =ROUND(F26*K26,2) -> 130.91 | N26: =L26+M26 -> 539.03 | O26: =N25 -> 567.4
A27: Jūlijs | B27: 4 | C27: 1 | D27: ='darba dienas'!H4 -> 23 | E27: =B27*D27 -> 92 | F27: =C27*D27 -> 23 | G27: 26.87 | H27: 34.46 | I27: 20 | J27: =ROUND(G27*I27 %,2) -> 5.37 | K27: =ROUND(H27*I27 %,2) -> 6.89 | L27: =ROUND(E27*J27,2) -> 494.04 | M27: =ROUND(F27*K27,2) -> 158.47 | N27: =L27+M27 -> 652.51 | O27: =N26 -> 539.03
A28: Augusts | B28: 4 | C28: 1 | D28: ='darba dienas'!I4 -> 21 | E28: =B28*D28 -> 84 | F28: =C28*D28 -> 21 | G28: 26.87 | H28: 34.46 | I28: 20 | J28: =ROUND(G28*I28 %,2) -> 5.37 | K28: =ROUND(H28*I28 %,2) -> 6.89 | L28: =ROUND(E28*J28,2) -> 451.08 | M28: =ROUND(F28*K28,2) -> 144.69 | N28: =L28+M28 -> 595.77 | O28: =N27 -> 652.51
A29: Septembris | B29: 4 | C29: 1 | D29: ='darba dienas'!J4 -> 22 | E29: =B29*D29 -> 88 | F29: =C29*D29 -> 22 | G29: 26.87 | H29: 34.46 | I29: 20 | J29: =ROUND(G29*I29 %,2) -> 5.37 | K29: =ROUND(H29*I29 %,2) -> 6.89 | L29: =ROUND(E29*J29,2) -> 472.56 | M29: =ROUND(F29*K29,2) -> 151.58 | N29: =L29+M29 -> 624.14 | O29: =N28 -> 595.77
A30: Oktobris | B30: 4 | C30: 1 | D30: 23 | E30: =B30*D30 -> 92 | F30: =C30*D30 -> 23 | G30: 26.87 | H30: 34.46 | I30: 20 | J30: =ROUND(G30*I30 %,2) -> 5.37 | K30: =ROUND(H30*I30 %,2) -> 6.89 | L30: =ROUND(E30*J30,2) -> 494.04 | M30: =ROUND(F30*K30,2) -> 158.47 | N30: =L30+M30 -> 652.51 | O30: =N29 -> 624.14
A31: Novembris | B31: 4 | C31: 1 | D31: 20 | E31: =B31*D31 -> 80 | F31: =C31*D31 -> 20 | G31: 26.87 | H31: 34.46 | I31: 20 | J31: =ROUND(G31*I31 %,2) -> 5.37 | K31: =ROUND(H31*I31 %,2) -> 6.89 | L31: =ROUND(E31*J31,2) -> 429.6 | M31: =ROUND(F31*K31,2) -> 137.8 | N31: =L31+M31 -> 567.4 | O31: =N30 -> 652.51
A32: Decembris | B32: 4 | C32: 1 | D32: 18 | E32: =B32*D32 -> 72 | F32: =C32*D32 -> 18 | G32: 26.87 | H32: 34.46 | I32: 20 | J32: =ROUND(G32*I32 %,2) -> 5.37 | K32: =ROUND(H32*I32 %,2) -> 6.89 | L32: =ROUND(E32*J32,2) -> 386.64 | M32: =ROUND(F32*K32,2) -> 124.02 | N32: =L32+M32 -> 510.66 | O32: =N31 -> 567.4
A33: kopā | B33: x | C33: x | D33: =SUM(D21:D32) -> 249 | E33: =SUM(E21:E32) -> 996 | F33: =SUM(F21:F32) -> 249 | G33: x | H33: x | I33: x | J33: x | K33: x | L33: =SUM(L21:L32) -> 6252.36 | M33: =SUM(M21:M32) -> 2004.99 | N33: =SUM(N21:N32) -> 8257.35 | O33: =SUM(O21:O32) -> 8768.73
B35: 2026.g.
A36: Latvijas Samariešu apvienība_DAC "Laiva" Mazsalaca, sāk.dat. 01.03.2022. | B36: Klientu skaits kuriem ir pašaprūpes iemaņas | C36: Klientu skaits kuriem nepieciešamas atbalsts aprūpē | D36: Darba dienu skaits mēnesī | E36: Klientu dienu skaits kuriem ir pašaprūpes iemaņas | F36: Klientu dienu skaits kuriem nepieciešamas atbalsts aprūpē | G36: Kl.dienas cena ar pašaprūpes iemaņām | H36: Kl.dienas cena klientiem, kuriem nepiec.atbalsts | I36: Valsts līdzfinansējuma% 2026.g. | J36: Valsts līdzfinansējuma kl.dienas cena ar pašaprūpes iemaņām | K36: Valsts līdzfinansējuma ll.dienas cena klientiem, kuriem nepiec.atbalsts | L36: Valsts līdzfinansējums klientiem kuriem ir pašaprūpes iemaņas | M36: Valsts līdzfinansējums klientiem kuriem nepiec.atbalsts | N36: Valsts līdzfinansējums kopā | O36: Naudas plūsma | P36: Plāns
A37: Janvaris | B37: 4 | C37: 1 | D37: ='darba dienas'!B5 -> 21 | E37: =B37*D37 -> 84 | F37: =C37*D37 -> 21 | G37: 26.87 | H37: 34.46 | I37: 20 | J37: =ROUND(G37*I37 %,2) -> 5.37 | K37: =ROUND(H37*I37 %,2) -> 6.89 | L37: =ROUND(E37*J37,2) -> 451.08 | M37: =ROUND(F37*K37,2) -> 144.69 | N37: =L37+M37 -> 595.77 | O37: =N32 -> 510.66 | P37: Plāns
A38: Februāris | B38: 4 | C38: 1 | D38: ='darba dienas'!C5 -> 20 | E38: =B38*D38 -> 80 | F38: =C38*D38 -> 20 | G38: 26.87 | H38: 34.46 | I38: 20 | J38: =ROUND(G38*I38 %,2) -> 5.37 | K38: =ROUND(H38*I38 %,2) -> 6.89 | L38: =ROUND(E38*J38,2) -> 429.6 | M38: =ROUND(F38*K38,2) -> 137.8 | N38: =L38+M38 -> 567.4 | O38: =N37 -> 595.77
A39: Marts | D39: ='darba dienas'!D5 -> 22 | E39: =B39*D39 -> 0 | F39: =C39*D39 -> 0 | J39: =ROUND(G39*I39 %,2) -> 0 | K39: =ROUND(H39*I39 %,2) -> 0 | L39: =ROUND(E39*J39,2) -> 0 | M39: =ROUND(F39*K39,2) -> 0 | N39: =L39+M39 -> 0 | O39: =N38 -> 567.4
A40: Aprīlis | D40: ='darba dienas'!E5 -> 21 | E40: =B40*D40 -> 0 | F40: =C40*D40 -> 0 | J40: =ROUND(G40*I40 %,2) -> 0 | K40: =ROUND(H40*I40 %,2) -> 0 | L40: =ROUND(E40*J40,2) -> 0 | M40: =ROUND(F40*K40,2) -> 0 | N40: =L40+M40 -> 0 | O40: 0
A41: Maijs | D41: ='darba dienas'!F5 -> 19 | E41: =B41*D41 -> 0 | F41: =C41*D41 -> 0 | J41: =ROUND(G41*I41 %,2) -> 0 | K41: =ROUND(H41*I41 %,2) -> 0 | L41: =ROUND(E41*J41,2) -> 0 | M41: =ROUND(F41*K41,2) -> 0 | N41: =L41+M41 -> 0 | O41: 0
A42: Jūnijs | D42: ='darba dienas'!G5 -> 20 | E42: =B42*D42 -> 0 | F42: =C42*D42 -> 0 | J42: =ROUND(G42*I42 %,2) -> 0 | K42: =ROUND(H42*I42 %,2) -> 0 | L42: =ROUND(E42*J42,2) -> 0 | M42: =ROUND(F42*K42,2) -> 0 | N42: =L42+M42 -> 0 | O42: 0
A43: Jūlijs | D43: ='darba dienas'!H5 -> 23 | E43: =B43*D43 -> 0 | F43: =C43*D43 -> 0 | J43: =ROUND(G43*I43 %,2) -> 0 | K43: =ROUND(H43*I43 %,2) -> 0 | L43: =ROUND(E43*J43,2) -> 0 | M43: =ROUND(F43*K43,2) -> 0 | N43: =L43+M43 -> 0 | O43: 0
A44: Augusts | D44: ='darba dienas'!I5 -> 21 | E44: =B44*D44 -> 0 | F44: =C44*D44 -> 0 | J44: =ROUND(G44*I44 %,2) -> 0 | K44: =ROUND(H44*I44 %,2) -> 0 | L44: =ROUND(E44*J44,2) -> 0 | M44: =ROUND(F44*K44,2) -> 0 | N44: =L44+M44 -> 0 | O44: 0
A45: Septembris | D45: ='darba dienas'!J5 -> 22 | E45: =B45*D45 -> 0 | F45: =C45*D45 -> 0 | J45: =ROUND(G45*I45 %,2) -> 0 | K45: =ROUND(H45*I45 %,2) -> 0 | L45: =ROUND(E45*J45,2) -> 0 | M45: =ROUND(F45*K45,2) -> 0 | N45: =L45+M45 -> 0 | O45: 0
A46: Oktobris | D46: ='darba dienas'!K5 -> 22 | E46: =B46*D46 -> 0 | F46: =C46*D46 -> 0 | J46: =ROUND(G46*I46 %,2) -> 0 | K46: =ROUND(H46*I46 %,2) -> 0 | L46: =ROUND(E46*J46,2) -> 0 | M46: =ROUND(F46*K46,2) -> 0 | N46: =L46+M46 -> 0 | O46: =N45 -> 0
A47: Novembris | D47: ='darba dienas'!L5 -> 20 | E47: =B47*D47 -> 0 | F47: =C47*D47 -> 0 | J47: =ROUND(G47*I47 %,2) -> 0 | K47: =ROUND(H47*I47 %,2) -> 0 | L47: =ROUND(E47*J47,2) -> 0 | M47: =ROUND(F47*K47,2) -> 0 | N47: =L47+M47 -> 0 | O47: =N46 -> 0
A48: Decembris | D48: ='darba dienas'!M5 -> 20 | E48: =B48*D48 -> 0 | F48: =C48*D48 -> 0 | J48: =ROUND(G48*I48 %,2) -> 0 | K48: =ROUND(H48*I48 %,2) -> 0 | L48: =ROUND(E48*J48,2) -> 0 | M48: =ROUND(F48*K48,2) -> 0 | N48: =L48+M48 -> 0 | O48: =N47 -> 0
A49: kopā | B49: x | C49: x | D49: =SUM(D37:D48) -> 251 | E49: =SUM(E37:E48) -> 164 | F49: =SUM(F37:F48) -> 41 | G49: x | H49: x | I49: x | J49: x | K49: x | L49: =SUM(L37:L48) -> 880.68 | M49: =SUM(M37:M48) -> 282.49 | N49: =SUM(N37:N48) -> 1163.17 | O49: =SUM(O37:O48) -> 1673.83

Sheet 13
B4: 2024.g.
A5: Latvijas Samariešu apvienība_DAC "Laiva" Rūjiena, sāk.dat. 01.11.2022. | B5: Klientu skaits kuriem ir pašaprūpes iemaņas | C5: Klientu skaits kuriem nepieciešamas atbalsts aprūpē | D5: Darba dienu skaits mēnesī | E5: Klientu dienu skaits kuriem ir pašaprūpes iemaņas | F5: Klientu dienu skaits kuriem nepieciešamas atbalsts aprūpē | G5: Kl.dienas cena ar pašaprūpes iemaņām | H5: Kl.dienas cena klientiem, kuriem nepiec.atbalsts | I5: Valsts līdzfinansējuma% 2024.g. | J5: Valsts līdzfinansējuma kl.dienas cena ar pašaprūpes iemaņām | K5: Valsts līdzfinansējuma ll.dienas cena klientiem, kuriem nepiec.atbalsts | L5: Valsts līdzfinansējums klientiem kuriem ir pašaprūpes iemaņas | M5: Valsts līdzfinansējums klientiem kuriem nepiec.atbalsts | N5: Valsts līdzfinansējums kopā | O5: Naudas plūsma | P5: Plāns
A6: Janvaris | D6: 22 | G6: 22.8 | H6: 32.02 | J6: =ROUND(G6*I6 %,2) -> 0 | K6: =ROUND(H6*I6 %,2) -> 0 | L6: =ROUND(E6*J6,2) -> 0 | M6: =ROUND(F6*K6,2) -> 0 | N6: =L6+M6 -> 0 | O6: 0 | P6: Plāns
A7: Februāris | B7: 8 | C7: 3 | D7: 21 | E7: =B7*D7 -> 168 | F7: =C7*D7 -> 63 | G7: 22.8 | H7: 32.02 | I7: 60 | J7: =ROUND(G7*I7 %,2) -> 13.68 | K7: =ROUND(H7*I7 %,2) -> 19.21 | L7: =ROUND(E7*J7,2) -> 2298.24 | M7: =ROUND(F7*K7,2) -> 1210.23 | N7: =L7+M7 -> 3508.47 | O7: 0
A8: Marts | B8: 8 | C8: 3 | D8: 20 | E8: =B8*D8 -> 160 | F8: =C8*D8 -> 60 | G8: 22.8 | H8: 32.02 | I8: 60 | J8: =ROUND(G8*I8 %,2) -> 13.68 | K8: =ROUND(H8*I8 %,2) -> 19.21 | L8: =ROUND(E8*J8,2) -> 2188.8 | M8: =ROUND(F8*K8,2) -> 1152.6 | N8: =L8+M8 -> 3341.4 | O8: 0
A9: Aprīlis | B9: 8 | C9: 3 | D9: 21 | E9: =B9*D9 -> 168 | F9: =C9*D9 -> 63 | G9: 22.8 | H9: 32.02 | I9: 60 | J9: =ROUND(G9*I9 %,2) -> 13.68 | K9: =ROUND(H9*I9 %,2) -> 19.21 | L9: =ROUND(E9*J9,2) -> 2298.24 | M9: =ROUND(F9*K9,2) -> 1210.23 | N9: =L9+M9 -> 3508.47 | O9: 0
A10: Maijs | B10: 8 | C10: 3 | D10: 21 | E10: =B10*D10 -> 168 | F10: =C10*D10 -> 63 | G10: 22.8 | H10: 32.02 | I10: 60 | J10: =ROUND(G10*I10 %,2) -> 13.68 | K10: =ROUND(H10*I10 %,2) -> 19.21 | L10: =ROUND(E10*J10,2) -> 2298.24 | M10: =ROUND(F10*K10,2) -> 1210.23 | N10: =L10+M10 -> 3508.47 | O10: 0
A11: Jūnijs | B11: 8 | C11: 3 | D11: 19 | E11: =B11*D11 -> 152 | F11: =C11*D11 -> 57 | G11: 22.8 | H11: 32.02 | I11: 60 | J11: =ROUND(G11*I11 %,2) -> 13.68 | K11: =ROUND(H11*I11 %,2) -> 19.21 | L11: =ROUND(E11*J11,2) -> 2079.36 | M11: =ROUND(F11*K11,2) -> 1094.97 | N11: =L11+M11 -> 3174.33 | O11: 0
A12: Jūlijs | B12: 8 | C12: 3 | D12: 23 | E12: =B12*D12 -> 184 | F12: =C12*D12 -> 69 | G12: 22.8 | H12: 32.02 | I12: 60 | J12: =ROUND(G12*I12 %,2) -> 13.68 | K12: =ROUND(H12*I12 %,2) -> 19.21 | L12: =ROUND(E12*J12,2) -> 2517.12 | M12: =ROUND(F12*K12,2) -> 1325.49 | N12: =L12+M12 -> 3842.61 | O12: 0
A13: Augusts | B13: 8 | C13: 3 | D13: 22 | E13: =B13*D13 -> 176 | F13: =C13*D13 -> 66 | G13: 22.8 | H13: 32.02 | I13: 60 | J13: =ROUND(G13*I13 %,2) -> 13.68 | K13: =ROUND(H13*I13 %,2) -> 19.21 | L13: =ROUND(E13*J13,2) -> 2407.68 | M13: =ROUND(F13*K13,2) -> 1267.86 | N13: =L13+M13 -> 3675.54 | O13: 0
A14: Septembris | B14: 8 | C14: 3 | D14: 21 | E14: =B14*D14 -> 168 | F14: =C14*D14 -> 63 | G14: 22.8 | H14: 32.02 | I14: 60 | J14: =ROUND(G14*I14 %,2) -> 13.68 | K14: =ROUND(H14*I14 %,2) -> 19.21 | L14: =ROUND(E14*J14,2) -> 2298.24 | M14: =ROUND(F14*K14,2) -> 1210.23 | N14: =L14+M14 -> 3508.47 | O14: 0
A15: Oktobris | B15: 8 | C15: 3 | D15: 23 | E15: =B15*D15 -> 184 | F15: =C15*D15 -> 69 | G15: 22.8 | H15: 32.02 | I15: 60 | J15: =ROUND(G15*I15 %,2) -> 13.68 | K15: =ROUND(H15*I15 %,2) -> 19.21 | L15: =ROUND(E15*J15,2) -> 2517.12 | M15: =ROUND(F15*K15,2) -> 1325.49 | N15: =L15+M15 -> 3842.61 | O15: =SUM(N6:N14) -> 28067.76
A16: Novembris | B16: 8 | C16: 3 | D16: 20 | E16: =B16*D16 -> 160 | F16: =C16*D16 -> 60 | G16: 22.8 | H16: 32.02 | I16: 40 | J16: =ROUND(G16*I16 %,2) -> 9.12 | K16: =ROUND(H16*I16 %,2) -> 12.81 | L16: =ROUND(E16*J16,2) -> 1459.2 | M16: =ROUND(F16*K16,2) -> 768.6 | N16: =L16+M16 -> 2227.8 | O16: =N15 -> 3842.61
A17: Decembris | B17: 8 | C17: 3 | D17: 18 | E17: =B17*D17 -> 144 | F17: =C17*D17 -> 54 | G17: 22.8 | H17: 32.02 | I17: 40 | J17: =ROUND(G17*I17 %,2) -> 9.12 | K17: =ROUND(H17*I17 %,2) -> 12.81 | L17: =ROUND(E17*J17,2) -> 1313.28 | M17: =ROUND(F17*K17,2) -> 691.74 | N17: =L17+M17 -> 2005.02 | O17: =N16 -> 2227.8
A18: kopā | B18: x | C18: x | D18: =SUM(D6:D17) -> 251 | E18: =SUM(E6:E17) -> 1832 | F18: =SUM(F6:F17) -> 687 | G18: x | H18: x | I18: x | J18: x | K18: x | L18: =SUM(L6:L17) -> 23675.52 | M18: =SUM(M6:M17) -> 12467.67 | N18: =SUM(N6:N17) -> 36143.19 | O18: =SUM(O6:O17) -> 34138.17
B20: 2025.g.
A21: Latvijas Samariešu apvienība_DAC "Laiva" Rūjiena, sāk.dat. 01.11.2022. | B21: Klientu skaits kuriem ir pašaprūpes iemaņas | C21: Klientu skaits kuriem nepieciešamas atbalsts aprūpē | D21: Darba dienu skaits mēnesī | E21: Klientu dienu skaits kuriem ir pašaprūpes iemaņas | F21: Klientu dienu skaits kuriem nepieciešamas atbalsts aprūpē | G21: Kl.dienas cena ar pašaprūpes iemaņām | H21: Kl.dienas cena klientiem, kuriem nepiec.atbalsts | I21: Valsts līdzfinansējuma% 2025.g. | J21: Valsts līdzfinansējuma kl.dienas cena ar pašaprūpes iemaņām | K21: Valsts līdzfinansējuma ll.dienas cena klientiem, kuriem nepiec.atbalsts | L21: Valsts līdzfinansējums klientiem kuriem ir pašaprūpes iemaņas | M21: Valsts līdzfinansējums klientiem kuriem nepiec.atbalsts | N21: Valsts līdzfinansējums kopā | O21: Naudas plūsma | P21: Plāns
A22: Janvaris | B22: 9.5 | C22: 3 | D22: ='darba dienas'!B4 -> 22 | E22: =B22*D22 -> 209 | F22: =C22*D22 -> 66 | G22: 22.8 | H22: 32.02 | I22: 40 | J22: =ROUND(G22*I22 %,2) -> 9.12 | K22: =ROUND(H22*I22 %,2) -> 12.81 | L22: =ROUND(E22*J22,2) -> 1906.08 | M22: =ROUND(F22*K22,2) -> 845.46 | N22: =L22+M22 -> 2751.54 | O22: =N17 -> 2005.02 | P22: Plāns
A23: Februāris | B23: 9.5 | C23: 3 | D23: ='darba dienas'!C4 -> 20 | E23: =B23*D23 -> 190 | F23: =C23*D23 -> 60 | G23: 22.8 | H23: 32.02 | I23: 40 | J23: =ROUND(G23*I23 %,2) -> 9.12 | K23: =ROUND(H23*I23 %,2) -> 12.81 | L23: =ROUND(E23*J23,2) -> 1732.8 | M23: =ROUND(F23*K23,2) -> 768.6 | N23: =L23+M23 -> 2501.4 | O23: =N22 -> 2751.54
A24: Marts | B24: 9.5 | C24: 3 | D24: ='darba dienas'!D4 -> 21 | E24: =B24*D24 -> 199.5 | F24: =C24*D24 -> 63 | G24: 22.8 | H24: 32.02 | I24: 40 | J24: =ROUND(G24*I24 %,2) -> 9.12 | K24: =ROUND(H24*I24 %,2) -> 12.81 | L24: =ROUND(E24*J24,2) -> 1819.44 | M24: =ROUND(F24*K24,2) -> 807.03 | N24: =L24+M24 -> 2626.47 | O24: =N23 -> 2501.4
A25: Aprīlis | B25: 9.5 | C25: 3 | D25: ='darba dienas'!E4 -> 20 | E25: =B25*D25 -> 190 | F25: =C25*D25 -> 60 | G25: 22.8 | H25: 32.02 | I25: 40 | J25: =ROUND(G25*I25 %,2) -> 9.12 | K25: =ROUND(H25*I25 %,2) -> 12.81 | L25: =ROUND(E25*J25,2) -> 1732.8 | M25: =ROUND(F25*K25,2) -> 768.6 | N25: =L25+M25 -> 2501.4 | O25: =N24 -> 2626.47
A26: Maijs | B26: 9.5 | C26: 3 | D26: ='darba dienas'!F4 -> 20 | E26: =B26*D26 -> 190 | F26: =C26*D26 -> 60 | G26: 22.8 | H26: 32.02 | I26: 40 | J26: =ROUND(G26*I26 %,2) -> 9.12 | K26: =ROUND(H26*I26 %,2) -> 12.81 | L26: =ROUND(E26*J26,2) -> 1732.8 | M26: =ROUND(F26*K26,2) -> 768.6 | N26: =L26+M26 -> 2501.4 | O26: =N25 -> 2501.4
A27: Jūnijs | B27: 9.5 | C27: 3 | D27: ='darba dienas'!G4 -> 19 | E27: =B27*D27 -> 180.5 | F27: =C27*D27 -> 57 | G27: 22.8 | H27: 32.02 | I27: 40 | J27: =ROUND(G27*I27 %,2) -> 9.12 | K27: =ROUND(H27*I27 %,2) -> 12.81 | L27: =ROUND(E27*J27,2) -> 1646.16 | M27: =ROUND(F27*K27,2) -> 730.17 | N27: =L27+M27 -> 2376.33 | O27: =N26 -> 2501.4
A28: Jūlijs | B28: 9.5 | C28: 3 | D28: ='darba dienas'!H4 -> 23 | E28: =B28*D28 -> 218.5 | F28: =C28*D28 -> 69 | G28: 22.8 | H28: 32.02 | I28: 40 | J28: =ROUND(G28*I28 %,2) -> 9.12 | K28: =ROUND(H28*I28 %,2) -> 12.81 | L28: =ROUND(E28*J28,2) -> 1992.72 | M28: =ROUND(F28*K28,2) -> 883.89 | N28: =L28+M28 -> 2876.61 | O28: =N27 -> 2376.33
A29: Augusts | B29: 9.5 | C29: 3 | D29: ='darba dienas'!I4 -> 21 | E29: =B29*D29 -> 199.5 | F29: =C29*D29 -> 63 | G29: 22.8 | H29: 32.02 | I29: 40 | J29: =ROUND(G29*I29 %,2) -> 9.12 | K29: =ROUND(H29*I29 %,2) -> 12.81 | L29: =ROUND(E29*J29,2) -> 1819.44 | M29: =ROUND(F29*K29,2) -> 807.03 | N29: =L29+M29 -> 2626.47 | O29: =N28 -> 2876.61
A30: Septembris | B30: 9.5 | C30: 3 | D30: ='darba dienas'!J4 -> 22 | E30: =B30*D30 -> 209 | F30: =C30*D30 -> 66 | G30: 22.8 | H30: 32.02 | I30: 40 | J30: =ROUND(G30*I30 %,2) -> 9.12 | K30: =ROUND(H30*I30 %,2) -> 12.81 | L30: =ROUND(E30*J30,2) -> 1906.08 | M30: =ROUND(F30*K30,2) -> 845.46 | N30: =L30+M30 -> 2751.54 | O30: =N29 -> 2626.47
A31: Oktobris | B31: 9.5 | C31: 3 | D31: ='darba dienas'!K4 -> 23 | E31: =B31*D31 -> 218.5 | F31: =C31*D31 -> 69 | G31: 22.8 | H31: 32.02 | I31: 40 | J31: =ROUND(G31*I31 %,2) -> 9.12 | K31: =ROUND(H31*I31 %,2) -> 12.81 | L31: =ROUND(E31*J31,2) -> 1992.72 | M31: =ROUND(F31*K31,2) -> 883.89 | N31: =L31+M31 -> 2876.61 | O31: =N30 -> 2751.54
A32: Novembris | B32: 9.5 | C32: 3 | D32: ='darba dienas'!L4 -> 19 | E32: =B32*D32 -> 180.5 | F32: =C32*D32 -> 57 | G32: 22.8 | H32: 32.02 | I32: 20 | J32: =ROUND(G32*I32 %,2) -> 4.56 | K32: =ROUND(H32*I32 %,2) -> 6.4 | L32: =ROUND(E32*J32,2) -> 823.08 | M32: =ROUND(F32*K32,2) -> 364.8 | N32: =L32+M32 -> 1187.88 | O32: =N31 -> 2876.61
A33: Decembris | B33: 9.5 | C33: 3 | D33: ='darba dienas'!M4 -> 19 | E33: =B33*D33 -> 180.5 | F33: =C33*D33 -> 57 | G33: 22.8 | H33: 32.02 | I33: 20 | J33: =ROUND(G33*I33 %,2) -> 4.56 | K33: =ROUND(H33*I33 %,2) -> 6.4 | L33: =ROUND(E33*J33,2) -> 823.08 | M33: =ROUND(F33*K33,2) -> 364.8 | N33: =L33+M33 -> 1187.88 | O33: =N32 -> 1187.88
A34: kopā | B34: x | C34: x | D34: =SUM(D22:D33) -> 249 | E34: =SUM(E22:E33) -> 2365.5 | F34: =SUM(F22:F33) -> 747 | G34: x | H34: x | I34: x | J34: x | K34: x | L34: =SUM(L22:L33) -> 19927.2 | M34: =SUM(M22:M33) -> 8838.33 | N34: =SUM(N22:N33) -> 28765.53 | O34: =SUM(O22:O33) -> 29582.67
B36: 2026.g.
A37: Latvijas Samariešu apvienība_DAC "Laiva" Rūjiena, sāk.dat. 01.11.2022. | B37: Klientu skaits kuriem ir pašaprūpes iemaņas | C37: Klientu skaits kuriem nepieciešamas atbalsts aprūpē | D37: Darba dienu skaits mēnesī | E37: Klientu dienu skaits kuriem ir pašaprūpes iemaņas | F37: Klientu dienu skaits kuriem nepieciešamas atbalsts aprūpē | G37: Kl.dienas cena ar pašaprūpes iemaņām | H37: Kl.dienas cena klientiem, kuriem nepiec.atbalsts | I37: Valsts līdzfinansējuma% 2026.g. | J37: Valsts līdzfinansējuma kl.dienas cena ar pašaprūpes iemaņām | K37: Valsts līdzfinansējuma ll.dienas cena klientiem, kuriem nepiec.atbalsts | L37: Valsts līdzfinansējums klientiem kuriem ir pašaprūpes iemaņas | M37: Valsts līdzfinansējums klientiem kuriem nepiec.atbalsts | N37: Valsts līdzfinansējums kopā | O37: Naudas plūsma | P37: Plāns
A38: Janvaris | B38: 9.5 | C38: 3 | D38: ='darba dienas'!B5 -> 21 | E38: =B38*D38 -> 199.5 | F38: =C38*D38 -> 63 | G38: 22.8 | H38: 32.02 | I38: 20 | J38: =ROUND(G38*I38 %,2) -> 4.56 | K38: =ROUND(H38*I38 %,2) -> 6.4 | L38: =ROUND(E38*J38,2) -> 909.72 | M38: =ROUND(F38*K38,2) -> 403.2 | N38: =L38+M38 -> 1312.92 | O38: =N33 -> 1187.88 | P38: Plāns
A39: Februāris | B39: 9.5 | C39: 3 | D39: ='darba dienas'!C5 -> 20 | E39: =B39*D39 -> 190 | F39: =C39*D39 -> 60 | G39: 22.8 | H39: 32.02 | I39: 20 | J39: =ROUND(G39*I39 %,2) -> 4.56 | K39: =ROUND(H39*I39 %,2) -> 6.4 | L39: =ROUND(E39*J39,2) -> 866.4 | M39: =ROUND(F39*K39,2) -> 384 | N39: =L39+M39 -> 1250.4 | O39: =N38 -> 1312.92
A40: Marts | B40: 9.5 | C40: 3 | D40: ='darba dienas'!D5 -> 22 | E40: =B40*D40 -> 209 | F40: =C40*D40 -> 66 | G40: 22.8 | H40: 32.02 | I40: 20 | J40: =ROUND(G40*I40 %,2) -> 4.56 | K40: =ROUND(H40*I40 %,2) -> 6.4 | L40: =ROUND(E40*J40,2) -> 953.04 | M40: =ROUND(F40*K40,2) -> 422.4 | N40: =L40+M40 -> 1375.44 | O40: =N39 -> 1250.4
A41: Aprīlis | B41: 9.5 | C41: 3 | D41: ='darba dienas'!E5 -> 21 | E41: =B41*D41 -> 199.5 | F41: =C41*D41 -> 63 | G41: 22.8 | H41: 32.02 | I41: 20 | J41: =ROUND(G41*I41 %,2) -> 4.56 | K41: =ROUND(H41*I41 %,2) -> 6.4 | L41: =ROUND(E41*J41,2) -> 909.72 | M41: =ROUND(F41*K41,2) -> 403.2 | N41: =L41+M41 -> 1312.92 | O41: 0
A42: Maijs | B42: 9.5 | C42: 3 | D42: ='darba dienas'!F5 -> 19 | E42: =B42*D42 -> 180.5 | F42: =C42*D42 -> 57 | G42: 22.8 | H42: 32.02 | I42: 20 | J42: =ROUND(G42*I42 %,2) -> 4.56 | K42: =ROUND(H42*I42 %,2) -> 6.4 | L42: =ROUND(E42*J42,2) -> 823.08 | M42: =ROUND(F42*K42,2) -> 364.8 | N42: =L42+M42 -> 1187.88 | O42: 0
A43: Jūnijs | B43: 9.5 | C43: 3 | D43: ='darba dienas'!G5 -> 20 | E43: =B43*D43 -> 190 | F43: =C43*D43 -> 60 | G43: 22.8 | H43: 32.02 | I43: 20 | J43: =ROUND(G43*I43 %,2) -> 4.56 | K43: =ROUND(H43*I43 %,2) -> 6.4 | L43: =ROUND(E43*J43,2) -> 866.4 | M43: =ROUND(F43*K43,2) -> 384 | N43: =L43+M43 -> 1250.4 | O43: 0
A44: Jūlijs | B44: 9.5 | C44: 3 | D44: ='darba dienas'!H5 -> 23 | E44: =B44*D44 -> 218.5 | F44: =C44*D44 -> 69 | G44: 22.8 | H44: 32.02 | I44: 20 | J44: =ROUND(G44*I44 %,2) -> 4.56 | K44: =ROUND(H44*I44 %,2) -> 6.4 | L44: =ROUND(E44*J44,2) -> 996.36 | M44: =ROUND(F44*K44,2) -> 441.6 | N44: =L44+M44 -> 1437.96 | O44: 0
A45: Augusts | B45: 9.5 | C45: 3 | D45: ='darba dienas'!I5 -> 21 | E45: =B45*D45 -> 199.5 | F45: =C45*D45 -> 63 | G45: 22.8 | H45: 32.02 | I45: 20 | J45: =ROUND(G45*I45 %,2) -> 4.56 | K45: =ROUND(H45*I45 %,2) -> 6.4 | L45: =ROUND(E45*J45,2) -> 909.72 | M45: =ROUND(F45*K45,2) -> 403.2 | N45: =L45+M45 -> 1312.92 | O45: 0
A46: Septembris | B46: 9.5 | C46: 3 | D46: ='darba dienas'!J5 -> 22 | E46: =B46*D46 -> 209 | F46: =C46*D46 -> 66 | G46: 22.8 | H46: 32.02 | I46: 20 | J46: =ROUND(G46*I46 %,2) -> 4.56 | K46: =ROUND(H46*I46 %,2) -> 6.4 | L46: =ROUND(E46*J46,2) -> 953.04 | M46: =ROUND(F46*K46,2) -> 422.4 | N46: =L46+M46 -> 1375.44 | O46: 0
A47: Oktobris | B47: 9.5 | C47: 3 | D47: ='darba dienas'!K5 -> 22 | E47: =B47*D47 -> 209 | F47: =C47*D47 -> 66 | G47: 22.8 | H47: 32.02 | I47: 20 | J47: =ROUND(G47*I47 %,2) -> 4.56 | K47: =ROUND(H47*I47 %,2) -> 6.4 | L47: =ROUND(E47*J47,2) -> 953.04 | M47: =ROUND(F47*K47,2) -> 422.4 | N47: =L47+M47 -> 1375.44 | O47: =N46 -> 1375.44
A48: Novembris | D48: ='darba dienas'!L54 -> 0 | E48: =B48*D48 -> 0 | F48: =C48*D48 -> 0 | J48: =ROUND(G48*I48 %,2) -> 0 | K48: =ROUND(H48*I48 %,2) -> 0 | L48: =ROUND(E48*J48,2) -> 0 | M48: =ROUND(F48*K48,2) -> 0 | N48: =L48+M48 -> 0 | O48: =N47 -> 1375.44
A49: Decembris | D49: ='darba dienas'!M54 -> 0 | E49: =B49*D49 -> 0 | F49: =C49*D49 -> 0 | J49: =ROUND(G49*I49 %,2) -> 0 | K49: =ROUND(H49*I49 %,2) -> 0 | L49: =ROUND(E49*J49,2) -> 0 | M49: =ROUND(F49*K49,2) -> 0 | N49: =L49+M49 -> 0 | O49: =N48 -> 0
A50: kopā | B50: x | C50: x | D50: =SUM(D38:D49) -> 211 | E50: =SUM(E38:E49) -> 2004.5 | F50: =SUM(F38:F49) -> 633 | G50: x | H50: x | I50: x | J50: x | K50: x | L50: =SUM(L38:L49) -> 9140.52 | M50: =SUM(M38:M49) -> 4051.2 | N50: =SUM(N38:N49) -> 13191.72 | O50: =SUM(O38:O49) -> 6502.08

Sheet 14
B3: 2024.g.
A4: LSA_DAC_Valmiera_ SOLIS,sāk.dat. 01.01.2024. | B4: Klientu skaits kuriem ir pašaprūpes iemaņas | C4: Klientu skaits kuriem nepieciešamas atbalsts aprūpē | D4: Darba dienu skaits mēnesī | E4: Klientu dienu skaits kuriem ir pašaprūpes iemaņas | F4: Klientu dienu skaits kuriem nepieciešamas atbalsts aprūpē | G4: Kl.dienas cena ar pašaprūpes iemaņām | H4: Kl.dienas cena klientiem, kuriem nepiec.atbalsts | I4: Valsts līdzfinansējuma% 2024.g. | J4: Valsts līdzfinansējuma kl.dienas cena ar pašaprūpes iemaņām | K4: Valsts līdzfinansējuma ll.dienas cena klientiem, kuriem nepiec.atbalsts | L4: Valsts līdzfinansējums klientiem kuriem ir pašaprūpes iemaņas | M4: Valsts līdzfinansējums klientiem kuriem nepiec.atbalsts | N4: Valsts līdzfinansējums kopā | O4: Naudas plūsma | P4: Plāns
A5: Janvaris | D5: 22 | G5: 19.96 | H5: 24.87 | J5: =ROUND(G5*I5 %,2) -> 0 | K5: =ROUND(H5*I5 %,2) -> 0 | L5: =ROUND(E5*J5,2) -> 0 | M5: =ROUND(F5*K5,2) -> 0 | N5: =L5+M5 -> 0 | O5: 0 | P5: Plāns
A6: Februāris | B6: 8 | C6: 2 | D6: 21 | E6: =B6*D6 -> 168 | F6: =C6*D6 -> 42 | G6: 19.96 | H6: 24.87 | I6: 80 | J6: =ROUND(G6*I6 %,2) -> 15.97 | K6: =ROUND(H6*I6 %,2) -> 19.9 | L6: =ROUND(E6*J6,2) -> 2682.96 | M6: =ROUND(F6*K6,2) -> 835.8 | N6: =L6+M6 -> 3518.76 | O6: 0
A7: Marts | B7: 8 | C7: 2 | D7: 20 | E7: =B7*D7 -> 160 | F7: =C7*D7 -> 40 | G7: 19.96 | H7: 24.87 | I7: 80 | J7: =ROUND(G7*I7 %,2) -> 15.97 | K7: =ROUND(H7*I7 %,2) -> 19.9 | L7: =ROUND(E7*J7,2) -> 2555.2 | M7: =ROUND(F7*K7,2) -> 796 | N7: =L7+M7 -> 3351.2 | O7: 0
A8: Aprīlis | B8: 8 | C8: 2 | D8: 21 | E8: =B8*D8 -> 168 | F8: =C8*D8 -> 42 | G8: 19.96 | H8: 24.87 | I8: 80 | J8: =ROUND(G8*I8 %,2) -> 15.97 | K8: =ROUND(H8*I8 %,2) -> 19.9 | L8: =ROUND(E8*J8,2) -> 2682.96 | M8: =ROUND(F8*K8,2) -> 835.8 | N8: =L8+M8 -> 3518.76 | O8: 0
A9: Maijs | B9: 8 | C9: 2 | D9: 21 | E9: =B9*D9 -> 168 | F9: =C9*D9 -> 42 | G9: 19.96 | H9: 24.87 | I9: 80 | J9: =ROUND(G9*I9 %,2) -> 15.97 | K9: =ROUND(H9*I9 %,2) -> 19.9 | L9: =ROUND(E9*J9,2) -> 2682.96 | M9: =ROUND(F9*K9,2) -> 835.8 | N9: =L9+M9 -> 3518.76 | O9: 0
A10: Jūnijs | B10: 8 | C10: 2 | D10: 19 | E10: =B10*D10 -> 152 | F10: =C10*D10 -> 38 | G10: 19.96 | H10: 24.87 | I10: 80 | J10: =ROUND(G10*I10 %,2) -> 15.97 | K10: =ROUND(H10*I10 %,2) -> 19.9 | L10: =ROUND(E10*J10,2) -> 2427.44 | M10: =ROUND(F10*K10,2) -> 756.2 | N10: =L10+M10 -> 3183.64 | O10: 0
A11: Jūlijs | B11: 8 | C11: 2 | D11: 23 | E11: =B11*D11 -> 184 | F11: =C11*D11 -> 46 | G11: 19.96 | H11: 24.87 | I11: 80 | J11: =ROUND(G11*I11 %,2) -> 15.97 | K11: =ROUND(H11*I11 %,2) -> 19.9 | L11: =ROUND(E11*J11,2) -> 2938.48 | M11: =ROUND(F11*K11,2) -> 915.4 | N11: =L11+M11 -> 3853.88 | O11: 0
A12: Augusts | B12: 8 | C12: 2 | D12: 22 | E12: =B12*D12 -> 176 | F12: =C12*D12 -> 44 | G12: 19.96 | H12: 24.87 | I12: 80 | J12: =ROUND(G12*I12 %,2) -> 15.97 | K12: =ROUND(H12*I12 %,2) -> 19.9 | L12: =ROUND(E12*J12,2) -> 2810.72 | M12: =ROUND(F12*K12,2) -> 875.6 | N12: =L12+M12 -> 3686.32 | O12: 0
A13: Septembris | B13: 8 | C13: 2 | D13: 21 | E13: =B13*D13 -> 168 | F13: =C13*D13 -> 42 | G13: 19.96 | H13: 24.87 | I13: 80 | J13: =ROUND(G13*I13 %,2) -> 15.97 | K13: =ROUND(H13*I13 %,2) -> 19.9 | L13: =ROUND(E13*J13,2) -> 2682.96 | M13: =ROUND(F13*K13,2) -> 835.8 | N13: =L13+M13 -> 3518.76 | O13: 0
A14: Oktobris | B14: 8 | C14: 2 | D14: 23 | E14: =B14*D14 -> 184 | F14: =C14*D14 -> 46 | G14: 19.96 | H14: 24.87 | I14: 80 | J14: =ROUND(G14*I14 %,2) -> 15.97 | K14: =ROUND(H14*I14 %,2) -> 19.9 | L14: =ROUND(E14*J14,2) -> 2938.48 | M14: =ROUND(F14*K14,2) -> 915.4 | N14: =L14+M14 -> 3853.88 | O14: =SUM(N5:N13) -> 28150.08
A15: Novembris | B15: 8 | C15: 2 | D15: 20 | E15: =B15*D15 -> 160 | F15: =C15*D15 -> 40 | G15: 19.96 | H15: 24.87 | I15: 80 | J15: =ROUND(G15*I15 %,2) -> 15.97 | K15: =ROUND(H15*I15 %,2) -> 19.9 | L15: =ROUND(E15*J15,2) -> 2555.2 | M15: =ROUND(F15*K15,2) -> 796 | N15: =L15+M15 -> 3351.2 | O15: =N14 -> 3853.88
A16: Decembris | B16: 8 | C16: 2 | D16: 18 | E16: =B16*D16 -> 144 | F16: =C16*D16 -> 36 | G16: 19.96 | H16: 24.87 | I16: 80 | J16: =ROUND(G16*I16 %,2) -> 15.97 | K16: =ROUND(H16*I16 %,2) -> 19.9 | L16: =ROUND(E16*J16,2) -> 2299.68 | M16: =ROUND(F16*K16,2) -> 716.4 | N16: =L16+M16 -> 3016.08 | O16: =N15 -> 3351.2
A17: kopā | B17: x | C17: x | D17: =SUM(D5:D16) -> 251 | E17: =SUM(E5:E16) -> 1832 | F17: =SUM(F5:F16) -> 458 | G17: x | H17: x | I17: x | J17: x | K17: x | L17: =SUM(L5:L16) -> 29257.04 | M17: =SUM(M5:M16) -> 9114.2 | N17: =SUM(N5:N16) -> 38371.24 | O17: =SUM(O5:O16) -> 35355.16
B19: 2025.g.
A20: LSA_DAC_Valmiera_ SOLIS,sāk.dat. 01.01.2024. | B20: Klientu skaits kuriem ir pašaprūpes iemaņas | C20: Klientu skaits kuriem nepieciešamas atbalsts aprūpē | D20: Darba dienu skaits mēnesī | E20: Klientu dienu skaits kuriem ir pašaprūpes iemaņas | F20: Klientu dienu skaits kuriem nepieciešamas atbalsts aprūpē | G20: Kl.dienas cena ar pašaprūpes iemaņām | H20: Kl.dienas cena klientiem, kuriem nepiec.atbalsts | I20: Valsts līdzfinansējuma% 2025.g. | J20: Valsts līdzfinansējuma kl.dienas cena ar pašaprūpes iemaņām | K20: Valsts līdzfinansējuma ll.dienas cena klientiem, kuriem nepiec.atbalsts | L20: Valsts līdzfinansējums klientiem kuriem ir pašaprūpes iemaņas | M20: Valsts līdzfinansējums klientiem kuriem nepiec.atbalsts | N20: Valsts līdzfinansējums kopā | O20: Naudas plūsma | P20: Plāns
A21: Janvaris | B21: 9 | C21: 3 | D21: ='darba dienas'!B4 -> 22 | E21: =B21*D21 -> 198 | F21: =C21*D21 -> 66 | G21: 19.96 | H21: 24.87 | I21: 60 | J21: =ROUND(G21*I21 %,2) -> 11.98 | K21: =ROUND(H21*I21 %,2) -> 14.92 | L21: =ROUND(E21*J21,2) -> 2372.04 | M21: =ROUND(F21*K21,2) -> 984.72 | N21: =L21+M21 -> 3356.76 | O21: =N16 -> 3016.08 | P21: Plāns
A22: Februāris | B22: 9 | C22: 3 | D22: ='darba dienas'!C4 -> 20 | E22: =B22*D22 -> 180 | F22: =C22*D22 -> 60 | G22: 19.96 | H22: 24.87 | I22: 60 | J22: =ROUND(G22*I22 %,2) -> 11.98 | K22: =ROUND(H22*I22 %,2) -> 14.92 | L22: =ROUND(E22*J22,2) -> 2156.4 | M22: =ROUND(F22*K22,2) -> 895.2 | N22: =L22+M22 -> 3051.6 | O22: =N21 -> 3356.76
A23: Marts | B23: 9 | C23: 3 | D23: ='darba dienas'!D4 -> 21 | E23: =B23*D23 -> 189 | F23: =C23*D23 -> 63 | G23: 19.96 | H23: 24.87 | I23: 60 | J23: =ROUND(G23*I23 %,2) -> 11.98 | K23: =ROUND(H23*I23 %,2) -> 14.92 | L23: =ROUND(E23*J23,2) -> 2264.22 | M23: =ROUND(F23*K23,2) -> 939.96 | N23: =L23+M23 -> 3204.18 | O23: =N22 -> 3051.6
A24: Aprīlis | B24: 9 | C24: 3 | D24: ='darba dienas'!E4 -> 20 | E24: =B24*D24 -> 180 | F24: =C24*D24 -> 60 | G24: 19.96 | H24: 24.87 | I24: 60 | J24: =ROUND(G24*I24 %,2) -> 11.98 | K24: =ROUND(H24*I24 %,2) -> 14.92 | L24: =ROUND(E24*J24,2) -> 2156.4 | M24: =ROUND(F24*K24,2) -> 895.2 | N24: =L24+M24 -> 3051.6 | O24: =N23 -> 3204.18
A25: Maijs | B25: 9 | C25: 3 | D25: ='darba dienas'!F4 -> 20 | E25: =B25*D25 -> 180 | F25: =C25*D25 -> 60 | G25: 19.96 | H25: 24.87 | I25: 60 | J25: =ROUND(G25*I25 %,2) -> 11.98 | K25: =ROUND(H25*I25 %,2) -> 14.92 | L25: =ROUND(E25*J25,2) -> 2156.4 | M25: =ROUND(F25*K25,2) -> 895.2 | N25: =L25+M25 -> 3051.6 | O25: =N24 -> 3051.6
A26: Jūnijs | B26: 9 | C26: 3 | D26: ='darba dienas'!G4 -> 19 | E26: =B26*D26 -> 171 | F26: =C26*D26 -> 57 | G26: 19.96 | H26: 24.87 | I26: 60 | J26: =ROUND(G26*I26 %,2) -> 11.98 | K26: =ROUND(H26*I26 %,2) -> 14.92 | L26: =ROUND(E26*J26,2) -> 2048.58 | M26: =ROUND(F26*K26,2) -> 850.44 | N26: =L26+M26 -> 2899.02 | O26: =N25 -> 3051.6
A27: Jūlijs | B27: 9 | C27: 3 | D27: ='darba dienas'!H4 -> 23 | E27: =B27*D27 -> 207 | F27: =C27*D27 -> 69 | G27: 19.96 | H27: 24.87 | I27: 60 | J27: =ROUND(G27*I27 %,2) -> 11.98 | K27: =ROUND(H27*I27 %,2) -> 14.92 | L27: =ROUND(E27*J27,2) -> 2479.86 | M27: =ROUND(F27*K27,2) -> 1029.48 | N27: =L27+M27 -> 3509.34 | O27: =N26 -> 2899.02
A28: Augusts | B28: 9 | C28: 3 | D28: ='darba dienas'!I4 -> 21 | E28: =B28*D28 -> 189 | F28: =C28*D28 -> 63 | G28: 19.96 | H28: 24.87 | I28: 60 | J28: =ROUND(G28*I28 %,2) -> 11.98 | K28: =ROUND(H28*I28 %,2) -> 14.92 | L28: =ROUND(E28*J28,2) -> 2264.22 | M28: =ROUND(F28*K28,2) -> 939.96 | N28: =L28+M28 -> 3204.18 | O28: =N27 -> 3509.34
A29: Septembris | B29: 9 | C29: 3 | D29: ='darba dienas'!J4 -> 22 | E29: =B29*D29 -> 198 | F29: =C29*D29 -> 66 | G29: 19.96 | H29: 24.87 | I29: 60 | J29: =ROUND(G29*I29 %,2) -> 11.98 | K29: =ROUND(H29*I29 %,2) -> 14.92 | L29: =ROUND(E29*J29,2) -> 2372.04 | M29: =ROUND(F29*K29,2) -> 984.72 | N29: =L29+M29 -> 3356.76 | O29: =N28 -> 3204.18
A30: Oktobris | B30: 9 | C30: 3 | D30: ='darba dienas'!K4 -> 23 | E30: =B30*D30 -> 207 | F30: =C30*D30 -> 69 | G30: 19.96 | H30: 24.87 | I30: 60 | J30: =ROUND(G30*I30 %,2) -> 11.98 | K30: =ROUND(H30*I30 %,2) -> 14.92 | L30: =ROUND(E30*J30,2) -> 2479.86 | M30: =ROUND(F30*K30,2) -> 1029.48 | N30: =L30+M30 -> 3509.34 | O30: =N29 -> 3356.76
A31: Novembris | B31: 9 | C31: 3 | D31: ='darba dienas'!L4 -> 19 | E31: =B31*D31 -> 171 | F31: =C31*D31 -> 57 | G31: 19.96 | H31: 24.87 | I31: 60 | J31: =ROUND(G31*I31 %,2) -> 11.98 | K31: =ROUND(H31*I31 %,2) -> 14.92 | L31: =ROUND(E31*J31,2) -> 2048.58 | M31: =ROUND(F31*K31,2) -> 850.44 | N31: =L31+M31 -> 2899.02 | O31: =N30 -> 3509.34
A32: Decembris | B32: 9 | C32: 3 | D32: ='darba dienas'!M4 -> 19 | E32: =B32*D32 -> 171 | F32: =C32*D32 -> 57 | G32: 19.96 | H32: 24.87 | I32: 60 | J32: =ROUND(G32*I32 %,2) -> 11.98 | K32: =ROUND(H32*I32 %,2) -> 14.92 | L32: =ROUND(E32*J32,2) -> 2048.58 | M32: =ROUND(F32*K32,2) -> 850.44 | N32: =L32+M32 -> 2899.02 | O32: =N31 -> 2899.02
A33: kopā | B33: x | C33: x | D33: =SUM(D21:D32) -> 249 | E33: =SUM(E21:E32) -> 2241 | F33: =SUM(F21:F32) -> 747 | G33: x | H33: x | I33: x | J33: x | K33: x | L33: =SUM(L21:L32) -> 26847.18 | M33: =SUM(M21:M32) -> 11145.24 | N33: =SUM(N21:N32) -> 37992.42 | O33: =SUM(O21:O32) -> 38109.48
B35: 2026.g.
A36: LSA_DAC_Valmiera_ SOLIS,sāk.dat. 01.01.2024. | B36: Klientu skaits kuriem ir pašaprūpes iemaņas | C36: Klientu skaits kuriem nepieciešamas atbalsts aprūpē | D36: Darba dienu skaits mēnesī | E36: Klientu dienu skaits kuriem ir pašaprūpes iemaņas | F36: Klientu dienu skaits kuriem nepieciešamas atbalsts aprūpē | G36: Kl.dienas cena ar pašaprūpes iemaņām | H36: Kl.dienas cena klientiem, kuriem nepiec.atbalsts | I36: Valsts līdzfinansējuma% 2026.g. | J36: Valsts līdzfinansējuma kl.dienas cena ar pašaprūpes iemaņām | K36: Valsts līdzfinansējuma ll.dienas cena klientiem, kuriem nepiec.atbalsts | L36: Valsts līdzfinansējums klientiem kuriem ir pašaprūpes iemaņas | M36: Valsts līdzfinansējums klientiem kuriem nepiec.atbalsts | N36: Valsts līdzfinansējums kopā | O36: Naudas plūsma | P36: Plāns
A37: Janvaris | B37: 9 | C37: 3 | D37: ='darba dienas'!B5 -> 21 | E37: =B37*D37 -> 189 | F37: =C37*D37 -> 63 | G37: 19.96 | H37: 24.87 | I37: 40 | J37: =ROUND(G37*I37 %,2) -> 7.98 | K37: =ROUND(H37*I37 %,2) -> 9.95 | L37: =ROUND(E37*J37,2) -> 1508.22 | M37: =ROUND(F37*K37,2) -> 626.85 | N37: =L37+M37 -> 2135.07 | O37: =N32 -> 2899.02 | P37: Plāns
A38: Februāris | B38: 9 | C38: 3 | D38: ='darba dienas'!C5 -> 20 | E38: =B38*D38 -> 180 | F38: =C38*D38 -> 60 | G38: 19.96 | H38: 24.87 | I38: 40 | J38: =ROUND(G38*I38 %,2) -> 7.98 | K38: =ROUND(H38*I38 %,2) -> 9.95 | L38: =ROUND(E38*J38,2) -> 1436.4 | M38: =ROUND(F38*K38,2) -> 597 | N38: =L38+M38 -> 2033.4 | O38: =N37 -> 2135.07
A39: Marts | B39: 9 | C39: 3 | D39: ='darba dienas'!D5 -> 22 | E39: =B39*D39 -> 198 | F39: =C39*D39 -> 66 | G39: 19.96 | H39: 24.87 | I39: 40 | J39: =ROUND(G39*I39 %,2) -> 7.98 | K39: =ROUND(H39*I39 %,2) -> 9.95 | L39: =ROUND(E39*J39,2) -> 1580.04 | M39: =ROUND(F39*K39,2) -> 656.7 | N39: =L39+M39 -> 2236.74 | O39: =N38 -> 2033.4
A40: Aprīlis | B40: 9 | C40: 3 | D40: ='darba dienas'!E5 -> 21 | E40: =B40*D40 -> 189 | F40: =C40*D40 -> 63 | G40: 19.96 | H40: 24.87 | I40: 40 | J40: =ROUND(G40*I40 %,2) -> 7.98 | K40: =ROUND(H40*I40 %,2) -> 9.95 | L40: =ROUND(E40*J40,2) -> 1508.22 | M40: =ROUND(F40*K40,2) -> 626.85 | N40: =L40+M40 -> 2135.07 | O40: =N39 -> 2236.74
A41: Maijs | B41: 9 | C41: 3 | D41: ='darba dienas'!F5 -> 19 | E41: =B41*D41 -> 171 | F41: =C41*D41 -> 57 | G41: 19.96 | H41: 24.87 | I41: 40 | J41: =ROUND(G41*I41 %,2) -> 7.98 | K41: =ROUND(H41*I41 %,2) -> 9.95 | L41: =ROUND(E41*J41,2) -> 1364.58 | M41: =ROUND(F41*K41,2) -> 567.15 | N41: =L41+M41 -> 1931.73 | O41: =N40 -> 2135.07
A42: Jūnijs | B42: 9 | C42: 3 | D42: ='darba dienas'!G5 -> 20 | E42: =B42*D42 -> 180 | F42: =C42*D42 -> 60 | G42: 19.96 | H42: 24.87 | I42: 40 | J42: =ROUND(G42*I42 %,2) -> 7.98 | K42: =ROUND(H42*I42 %,2) -> 9.95 | L42: =ROUND(E42*J42,2) -> 1436.4 | M42: =ROUND(F42*K42,2) -> 597 | N42: =L42+M42 -> 2033.4 | O42: =N41 -> 1931.73
A43: Jūlijs | B43: 9 | C43: 3 | D43: ='darba dienas'!H5 -> 23 | E43: =B43*D43 -> 207 | F43: =C43*D43 -> 69 | G43: 19.96 | H43: 24.87 | I43: 40 | J43: =ROUND(G43*I43 %,2) -> 7.98 | K43: =ROUND(H43*I43 %,2) -> 9.95 | L43: =ROUND(E43*J43,2) -> 1651.86 | M43: =ROUND(F43*K43,2) -> 686.55 | N43: =L43+M43 -> 2338.41 | O43: =N42 -> 2033.4
A44: Augusts | B44: 9 | C44: 3 | D44: ='darba dienas'!I5 -> 21 | E44: =B44*D44 -> 189 | F44: =C44*D44 -> 63 | G44: 19.96 | H44: 24.87 | I44: 40 | J44: =ROUND(G44*I44 %,2) -> 7.98 | K44: =ROUND(H44*I44 %,2) -> 9.95 | L44: =ROUND(E44*J44,2) -> 1508.22 | M44: =ROUND(F44*K44,2) -> 626.85 | N44: =L44+M44 -> 2135.07 | O44: =N43 -> 2338.41
A45: Septembris | B45: 9 | C45: 3 | D45: ='darba dienas'!J5 -> 22 | E45: =B45*D45 -> 198 | F45: =C45*D45 -> 66 | G45: 19.96 | H45: 24.87 | I45: 40 | J45: =ROUND(G45*I45 %,2) -> 7.98 | K45: =ROUND(H45*I45 %,2) -> 9.95 | L45: =ROUND(E45*J45,2) -> 1580.04 | M45: =ROUND(F45*K45,2) -> 656.7 | N45: =L45+M45 -> 2236.74 | O45: =N44 -> 2135.07
A46: Oktobris | B46: 9 | C46: 3 | D46: ='darba dienas'!K5 -> 22 | E46: =B46*D46 -> 198 | F46: =C46*D46 -> 66 | G46: 19.96 | H46: 24.87 | I46: 40 | J46: =ROUND(G46*I46 %,2) -> 7.98 | K46: =ROUND(H46*I46 %,2) -> 9.95 | L46: =ROUND(E46*J46,2) -> 1580.04 | M46: =ROUND(F46*K46,2) -> 656.7 | N46: =L46+M46 -> 2236.74 | O46: =N45 -> 2236.74
A47: Novembris | B47: 9 | C47: 3 | D47: ='darba dienas'!L5 -> 20 | E47: =B47*D47 -> 180 | F47: =C47*D47 -> 60 | G47: 19.96 | H47: 24.87 | I47: 40 | J47: =ROUND(G47*I47 %,2) -> 7.98 | K47: =ROUND(H47*I47 %,2) -> 9.95 | L47: =ROUND(E47*J47,2) -> 1436.4 | M47: =ROUND(F47*K47,2) -> 597 | N47: =L47+M47 -> 2033.4 | O47: =N46 -> 2236.74
A48: Decembris | B48: 9 | C48: 3 | D48: ='darba dienas'!M5 -> 20 | E48: =B48*D48 -> 180 | F48: =C48*D48 -> 60 | G48: 19.96 | H48: 24.87 | I48: 40 | J48: =ROUND(G48*I48 %,2) -> 7.98 | K48: =ROUND(H48*I48 %,2) -> 9.95 | L48: =ROUND(E48*J48,2) -> 1436.4 | M48: =ROUND(F48*K48,2) -> 597 | N48: =L48+M48 -> 2033.4 | O48: =N47 -> 2033.4
A49: kopā | B49: x | C49: x | D49: =SUM(D37:D48) -> 251 | E49: =SUM(E37:E48) -> 2259 | F49: =SUM(F37:F48) -> 753 | G49: x | H49: x | I49: x | J49: x | K49: x | L49: =SUM(L37:L48) -> 18026.82 | M49: =SUM(M37:M48) -> 7492.35 | N49: =SUM(N37:N48) -> 25519.17 | O49: =SUM(O37:O48) -> 26384.79
B51: 2027.g.
A52: LSA_DAC_Valmiera_ SOLIS,sāk.dat. 01.01.2024. | B52: Klientu skaits kuriem ir pašaprūpes iemaņas | C52: Klientu skaits kuriem nepieciešamas atbalsts aprūpē | D52: Darba dienu skaits mēnesī | E52: Klientu dienu skaits kuriem ir pašaprūpes iemaņas | F52: Klientu dienu skaits kuriem nepieciešamas atbalsts aprūpē | G52: Kl.dienas cena ar pašaprūpes iemaņām | H52: Kl.dienas cena klientiem, kuriem nepiec.atbalsts | I52: Valsts līdzfinansējuma% 2027.g. | J52: Valsts līdzfinansējuma kl.dienas cena ar pašaprūpes iemaņām | K52: Valsts līdzfinansējuma ll.dienas cena klientiem, kuriem nepiec.atbalsts | L52: Valsts līdzfinansējums klientiem kuriem ir pašaprūpes iemaņas | M52: Valsts līdzfinansējums klientiem kuriem nepiec.atbalsts | N52: Valsts līdzfinansējums kopā | O52: Naudas plūsma | P52: Plāns
A53: Janvaris | B53: 9 | C53: 3 | D53: ='darba dienas'!B6 -> 20 | E53: =B53*D53 -> 180 | F53: =C53*D53 -> 60 | G53: 19.96 | H53: 24.87 | I53: 20 | J53: =ROUND(G53*I53 %,2) -> 3.99 | K53: =ROUND(H53*I53 %,2) -> 4.97 | L53: =ROUND(E53*J53,2) -> 718.2 | M53: =ROUND(F53*K53,2) -> 298.2 | N53: =L53+M53 -> 1016.4 | O53: =N48 -> 2033.4 | P53: Plāns
A54: Februāris | B54: 9 | C54: 3 | D54: ='darba dienas'!C6 -> 20 | E54: =B54*D54 -> 180 | F54: =C54*D54 -> 60 | G54: 19.96 | H54: 24.87 | I54: 20 | J54: =ROUND(G54*I54 %,2) -> 3.99 | K54: =ROUND(H54*I54 %,2) -> 4.97 | L54: =ROUND(E54*J54,2) -> 718.2 | M54: =ROUND(F54*K54,2) -> 298.2 | N54: =L54+M54 -> 1016.4 | O54: =N53 -> 1016.4
A55: Marts | B55: 9 | C55: 3 | D55: ='darba dienas'!D6 -> 21 | E55: =B55*D55 -> 189 | F55: =C55*D55 -> 63 | G55: 19.96 | H55: 24.87 | I55: 20 | J55: =ROUND(G55*I55 %,2) -> 3.99 | K55: =ROUND(H55*I55 %,2) -> 4.97 | L55: =ROUND(E55*J55,2) -> 754.11 | M55: =ROUND(F55*K55,2) -> 313.11 | N55: =L55+M55 -> 1067.22 | O55: =N54 -> 1016.4
A56: Aprīlis | B56: 9 | C56: 3 | D56: ='darba dienas'!E6 -> 22 | E56: =B56*D56 -> 198 | F56: =C56*D56 -> 66 | G56: 19.96 | H56: 24.87 | I56: 20 | J56: =ROUND(G56*I56 %,2) -> 3.99 | K56: =ROUND(H56*I56 %,2) -> 4.97 | L56: =ROUND(E56*J56,2) -> 790.02 | M56: =ROUND(F56*K56,2) -> 328.02 | N56: =L56+M56 -> 1118.04 | O56: =N55 -> 1067.22
A57: Maijs | B57: 9 | C57: 3 | D57: ='darba dienas'!F6 -> 20 | E57: =B57*D57 -> 180 | F57: =C57*D57 -> 60 | G57: 19.96 | H57: 24.87 | I57: 20 | J57: =ROUND(G57*I57 %,2) -> 3.99 | K57: =ROUND(H57*I57 %,2) -> 4.97 | L57: =ROUND(E57*J57,2) -> 718.2 | M57: =ROUND(F57*K57,2) -> 298.2 | N57: =L57+M57 -> 1016.4 | O57: =N56 -> 1118.04
A58: Jūnijs | B58: 9 | C58: 3 | D58: ='darba dienas'!G6 -> 20 | E58: =B58*D58 -> 180 | F58: =C58*D58 -> 60 | G58: 19.96 | H58: 24.87 | I58: 20 | J58: =ROUND(G58*I58 %,2) -> 3.99 | K58: =ROUND(H58*I58 %,2) -> 4.97 | L58: =ROUND(E58*J58,2) -> 718.2 | M58: =ROUND(F58*K58,2) -> 298.2 | N58: =L58+M58 -> 1016.4 | O58: =N57 -> 1016.4
A59: Jūlijs | B59: 9 | C59: 3 | D59: ='darba dienas'!H6 -> 22 | E59: =B59*D59 -> 198 | F59: =C59*D59 -> 66 | G59: 19.96 | H59: 24.87 | I59: 20 | J59: =ROUND(G59*I59 %,2) -> 3.99 | K59: =ROUND(H59*I59 %,2) -> 4.97 | L59: =ROUND(E59*J59,2) -> 790.02 | M59: =ROUND(F59*K59,2) -> 328.02 | N59: =L59+M59 -> 1118.04 | O59: =N58 -> 1016.4
A60: Augusts | B60: 9 | C60: 3 | D60: ='darba dienas'!I6 -> 22 | E60: =B60*D60 -> 198 | F60: =C60*D60 -> 66 | G60: 19.96 | H60: 24.87 | I60: 20 | J60: =ROUND(G60*I60 %,2) -> 3.99 | K60: =ROUND(H60*I60 %,2) -> 4.97 | L60: =ROUND(E60*J60,2) -> 790.02 | M60: =ROUND(F60*K60,2) -> 328.02 | N60: =L60+M60 -> 1118.04 | O60: =N59 -> 1118.04
A61: Septembris | B61: 9 | C61: 3 | D61: ='darba dienas'!J6 -> 22 | E61: =B61*D61 -> 198 | F61: =C61*D61 -> 66 | G61: 19.96 | H61: 24.87 | I61: 20 | J61: =ROUND(G61*I61 %,2) -> 3.99 | K61: =ROUND(H61*I61 %,2) -> 4.97 | L61: =ROUND(E61*J61,2) -> 790.02 | M61: =ROUND(F61*K61,2) -> 328.02 | N61: =L61+M61 -> 1118.04 | O61: =N60 -> 1118.04
A62: Oktobris | B62: 9 | C62: 3 | D62: ='darba dienas'!K6 -> 21 | E62: =B62*D62 -> 189 | F62: =C62*D62 -> 63 | G62: 19.96 | H62: 24.87 | I62: 20 | J62: =ROUND(G62*I62 %,2) -> 3.99 | K62: =ROUND(H62*I62 %,2) -> 4.97 | L62: =ROUND(E62*J62,2) -> 754.11 | M62: =ROUND(F62*K62,2) -> 313.11 | N62: =L62+M62 -> 1067.22 | O62: =N61 -> 1118.04
A63: Novembris | B63: 9 | C63: 3 | D63: ='darba dienas'!L6 -> 21 | E63: =B63*D63 -> 189 | F63: =C63*D63 -> 63 | G63: 19.96 | H63: 24.87 | I63: 20 | J63: =ROUND(G63*I63 %,2) -> 3.99 | K63: =ROUND(H63*I63 %,2) -> 4.97 | L63: =ROUND(E63*J63,2) -> 754.11 | M63: =ROUND(F63*K63,2) -> 313.11 | N63: =L63+M63 -> 1067.22 | O63: =N62 -> 1067.22
A64: Decembris | B64: 9 | C64: 3 | D64: ='darba dienas'!M6 -> 21 | E64: =B64*D64 -> 189 | F64: =C64*D64 -> 63 | G64: 19.96 | H64: 24.87 | I64: 20 | J64: =ROUND(G64*I64 %,2) -> 3.99 | K64: =ROUND(H64*I64 %,2) -> 4.97 | L64: =ROUND(E64*J64,2) -> 754.11 | M64: =ROUND(F64*K64,2) -> 313.11 | N64: =L64+M64 -> 1067.22 | O64: =N63 -> 1067.22
A65: kopā | B65: x | C65: x | D65: =SUM(D53:D64) -> 252 | E65: =SUM(E53:E64) -> 2268 | F65: =SUM(F53:F64) -> 756 | G65: x | H65: x | I65: x | J65: x | K65: x | L65: =SUM(L53:L64) -> 9049.32 | M65: =SUM(M53:M64) -> 3757.32 | N65: =SUM(N53:N64) -> 12806.64 | O65: =SUM(O53:O64) -> 13772.82
B67: 2028.g.
A68: LSA_DAC_Valmiera_ SOLIS,sāk.dat. 01.01.2024. | B68: Klientu skaits kuriem ir pašaprūpes iemaņas | C68: Klientu skaits kuriem nepieciešamas atbalsts aprūpē | D68: Darba dienu skaits mēnesī | E68: Klientu dienu skaits kuriem ir pašaprūpes iemaņas | F68: Klientu dienu skaits kuriem nepieciešamas atbalsts aprūpē | G68: Kl.dienas cena ar pašaprūpes iemaņām | H68: Kl.dienas cena klientiem, kuriem nepiec.atbalsts | I68: Valsts līdzfinansējuma% 2028.g. | J68: Valsts līdzfinansējuma kl.dienas cena ar pašaprūpes iemaņām | K68: Valsts līdzfinansējuma ll.dienas cena klientiem, kuriem nepiec.atbalsts | L68: Valsts līdzfinansējums klientiem kuriem ir pašaprūpes iemaņas | M68: Valsts līdzfinansējums klientiem kuriem nepiec.atbalsts | N68: Valsts līdzfinansējums kopā | O68: Naudas plūsma | P68: Plāns
A69: Janvaris | D69: ='darba dienas'!B121 -> 0 | E69: =B69*D69 -> 0 | F69: =C69*D69 -> 0 | G69: 19.96 | H69: 24.87 | I69: 0 | J69: =ROUND(G69*I69 %,2) -> 0 | K69: =ROUND(H69*I69 %,2) -> 0 | L69: =ROUND(E69*J69,2) -> 0 | M69: =ROUND(F69*K69,2) -> 0 | N69: =L69+M69 -> 0 | O69: =N64 -> 1067.22 | P69: Plāns
A70: Februāris | D70: ='darba dienas'!C121 -> 0 | E70: =B70*D70 -> 0 | F70: =C70*D70 -> 0 | G70: 19.96 | H70: 24.87 | I70: 0 | J70: =ROUND(G70*I70 %,2) -> 0 | K70: =ROUND(H70*I70 %,2) -> 0 | L70: =ROUND(E70*J70,2) -> 0 | M70: =ROUND(F70*K70,2) -> 0 | N70: =L70+M70 -> 0 | O70: =N69 -> 0
A71: Marts | D71: ='darba dienas'!D121 -> 0 | E71: =B71*D71 -> 0 | F71: =C71*D71 -> 0 | G71: 19.96 | H71: 24.87 | I71: 0 | J71: =ROUND(G71*I71 %,2) -> 0 | K71: =ROUND(H71*I71 %,2) -> 0 | L71: =ROUND(E71*J71,2) -> 0 | M71: =ROUND(F71*K71,2) -> 0 | N71: =L71+M71 -> 0 | O71: =N70 -> 0
A72: Aprīlis | D72: ='darba dienas'!E121 -> 0 | E72: =B72*D72 -> 0 | F72: =C72*D72 -> 0 | G72: 19.96 | H72: 24.87 | I72: 0 | J72: =ROUND(G72*I72 %,2) -> 0 | K72: =ROUND(H72*I72 %,2) -> 0 | L72: =ROUND(E72*J72,2) -> 0 | M72: =ROUND(F72*K72,2) -> 0 | N72: =L72+M72 -> 0 | O72: 0
A73: Maijs | D73: ='darba dienas'!F121 -> 0 | E73: =B73*D73 -> 0 | F73: =C73*D73 -> 0 | G73: 19.96 | H73: 24.87 | I73: 0 | J73: =ROUND(G73*I73 %,2) -> 0 | K73: =ROUND(H73*I73 %,2) -> 0 | L73: =ROUND(E73*J73,2) -> 0 | M73: =ROUND(F73*K73,2) -> 0 | N73: =L73+M73 -> 0 | O73: 0
A74: Jūnijs | D74: ='darba dienas'!G121 -> 0 | E74: =B74*D74 -> 0 | F74: =C74*D74 -> 0 | G74: 19.96 | H74: 24.87 | I74: 0 | J74: =ROUND(G74*I74 %,2) -> 0 | K74: =ROUND(H74*I74 %,2) -> 0 | L74: =ROUND(E74*J74,2) -> 0 | M74: =ROUND(F74*K74,2) -> 0 | N74: =L74+M74 -> 0 | O74: 0
A75: Jūlijs | D75: ='darba dienas'!H121 -> 0 | E75: =B75*D75 -> 0 | F75: =C75*D75 -> 0 | G75: 19.96 | H75: 24.87 | I75: 0 | J75: =ROUND(G75*I75 %,2) -> 0 | K75: =ROUND(H75*I75 %,2) -> 0 | L75: =ROUND(E75*J75,2) -> 0 | M75: =ROUND(F75*K75,2) -> 0 | N75: =L75+M75 -> 0 | O75: 0
A76: Augusts | D76: ='darba dienas'!I121 -> 0 | E76: =B76*D76 -> 0 | F76: =C76*D76 -> 0 | G76: 19.96 | H76: 24.87 | I76: 0 | J76: =ROUND(G76*I76 %,2) -> 0 | K76: =ROUND(H76*I76 %,2) -> 0 | L76: =ROUND(E76*J76,2) -> 0 | M76: =ROUND(F76*K76,2) -> 0 | N76: =L76+M76 -> 0 | O76: 0
A77: Septembris | D77: ='darba dienas'!J121 -> 0 | E77: =B77*D77 -> 0 | F77: =C77*D77 -> 0 | G77: 19.96 | H77: 24.87 | I77: 0 | J77: =ROUND(G77*I77 %,2) -> 0 | K77: =ROUND(H77*I77 %,2) -> 0 | L77: =ROUND(E77*J77,2) -> 0 | M77: =ROUND(F77*K77,2) -> 0 | N77: =L77+M77 -> 0 | O77: 0
A78: Oktobris | D78: ='darba dienas'!K121 -> 0 | E78: =B78*D78 -> 0 | F78: =C78*D78 -> 0 | G78: 19.96 | H78: 24.87 | I78: 0 | J78: =ROUND(G78*I78 %,2) -> 0 | K78: =ROUND(H78*I78 %,2) -> 0 | L78: =ROUND(E78*J78,2) -> 0 | M78: =ROUND(F78*K78,2) -> 0 | N78: =L78+M78 -> 0 | O78: =N77 -> 0
A79: Novembris | D79: ='darba dienas'!L170 -> 0 | E79: =B79*D79 -> 0 | F79: =C79*D79 -> 0 | G79: 19.96 | H79: 24.87 | I79: 0 | J79: =ROUND(G79*I79 %,2) -> 0 | K79: =ROUND(H79*I79 %,2) -> 0 | L79: =ROUND(E79*J79,2) -> 0 | M79: =ROUND(F79*K79,2) -> 0 | N79: =L79+M79 -> 0 | O79: =N78 -> 0
A80: Decembris | D80: ='darba dienas'!M170 -> 0 | E80: =B80*D80 -> 0 | F80: =C80*D80 -> 0 | G80: 19.96 | H80: 24.87 | I80: 0 | J80: =ROUND(G80*I80 %,2) -> 0 | K80: =ROUND(H80*I80 %,2) -> 0 | L80: =ROUND(E80*J80,2) -> 0 | M80: =ROUND(F80*K80,2) -> 0 | N80: =L80+M80 -> 0 | O80: =N79 -> 0
A81: kopā | B81: x | C81: x | D81: =SUM(D69:D80) -> 0 | E81: =SUM(E69:E80) -> 0 | F81: =SUM(F69:F80) -> 0 | G81: x | H81: x | I81: x | J81: x | K81: x | L81: =SUM(L69:L80) -> 0 | M81: =SUM(M69:M80) -> 0 | N81: =SUM(N69:N80) -> 0 | O81: =SUM(O69:O80) -> 1067.22

Sheet 15
B2: 2024.g.
A3: Cerību spārni DAC Mālpils, reģ.dat. 16.08.2022. | B3: Klientu sk. | C3: Darba dienu skaits mēnesī | D3: Klientu dienu sk. | E3: Kl.dienas cena | F3: Valsts līdzfinansējuma% 2024.g. | G3: Valsts līdzifnansējuma klientu dienas cena, euro | H3: Valsts līdzfinansējums | I3: Naudas plūsma | J3: Fakts / Plāns
A4: Janvaris | C4: 22 | D4: =B4*C4 -> 0 | E4: 20.86 | F4: 60 | H4: =ROUND((E4*F4 %)*D4,2) -> 0 | I4: 0 | J4: Fakts
A5: Februāris | B5: 9 | C5: 21 | D5: 189 | E5: 20.86 | F5: 60 | G5: =ROUND(E5*F5 %,2) -> 12.52 | H5: =D5*G5 -> 2366.28 | I5: 0
A6: Marts | B6: 9 | C6: 20 | D6: 180 | E6: 20.86 | F6: 60 | G6: =ROUND(E6*F6 %,2) -> 12.52 | H6: =D6*G6 -> 2253.6 | I6: 0
A7: Aprīlis | B7: 9 | C7: 21 | D7: 178 | E7: 20.86 | F7: 60 | G7: =ROUND(E7*F7 %,2) -> 12.52 | H7: =D7*G7 -> 2228.56 | I7: 0
A8: Maijs | B8: 9 | C8: 21 | D8: 189 | E8: 20.86 | F8: 60 | G8: =ROUND(E8*F8 %,2) -> 12.52 | H8: =D8*G8 -> 2366.28 | I8: 0
A9: Jūnijs | B9: 9 | C9: 19 | D9: 171 | E9: 20.86 | F9: 60 | G9: =ROUND(E9*F9 %,2) -> 12.52 | H9: =D9*G9 -> 2140.92 | I9: 0
A10: Jūlijs | B10: 9 | C10: 23 | D10: 207 | E10: 20.86 | F10: 60 | G10: =ROUND(E10*F10 %,2) -> 12.52 | H10: =D10*G10 -> 2591.64 | I10: 0
A11: Augusts līdz 15.08. | B11: 9 | C11: 11 | D11: 99 | E11: 20.86 | F11: 60 | G11: =ROUND(E11*F11 %,2) -> 12.52 | H11: =D11*G11 -> 1239.48 | I11: 0
A12: Augusts no 16.08. | B12: 9 | C12: 11 | D12: 99 | E12: 20.86 | F12: 40 | G12: =ROUND(E12*F12 %,2) -> 8.34 | H12: =D12*G12 -> 825.66 | I12: 0
A13: Septembris | B13: 9 | C13: 21 | D13: 187 | E13: 20.86 | F13: 40 | G13: =ROUND(E13*F13 %,2) -> 8.34 | H13: =D13*G13 -> 1559.58 | I13: =SUM(H4:H12) -> 16012.42 | J13: Plāns
A14: Oktobris | B14: 9 | C14: 23 | D14: 187 | E14: 20.86 | F14: 40 | G14: =ROUND(E14*F14 %,2) -> 8.34 | H14: =D14*G14 -> 1559.58 | I14: =H13 -> 1559.58
A15: Novembris | B15: 9 | C15: 20 | D15: 187 | E15: 20.86 | F15: 40 | G15: =ROUND(E15*F15 %,2) -> 8.34 | H15: =D15*G15 -> 1559.58 | I15: =H14 -> 1559.58
A16: Decembris | B16: 9 | C16: 18 | D16: 187 | E16: 20.86 | F16: 40 | G16: =ROUND(E16*F16 %,2) -> 8.34 | H16: =D16*G16 -> 1559.58 | I16: =H15 -> 1559.58
A17: kopā | B17: x | C17: =SUM(C4:C16) -> 251 | D17: =SUM(D4:D16) -> 2060 | E17: x | F17: x | G17: x | H17: =SUM(H4:H16) -> 22250.74 | I17: =SUM(I4:I16) -> 20691.16
A18: vid.mēn.periodā 02-08 | C18: =AVERAGE(C5:C12) -> 18.375 | D18: =AVERAGE(D5:D12) -> 164
A19: vid.1.klientam dienā | D19: =ROUND(D18/C18,2) -> 8.93
B20: 2025.g.
A21: Cerību spārni DAC Mālpils, reģ.dat. 16.08.2022. | B21: Klientu sk. | C21: Darba dienu skaits mēnesī | D21: Klientu dienu sk. | E21: Kl.dienas cena | F21: Valsts līdzfinansējuma% 2025.g. | G21: Valsts līdzifnansējuma klientu dienas cena, euro | H21: Valsts līdzfinansējums | I21: Naudas plūsma | J21: Fakts / Plāns
A22: Janvaris | B22: 9 | C22: 22 | D22: =ROUND(B22*$D$19,0) -> 80 | E22: 20.86 | F22: 40 | G22: =ROUND(E22*F22 %,2) -> 8.34 | H22: =ROUND((E22*F22 %)*D22,2) -> 667.52 | I22: =H16 -> 1559.58 | J22: Plāns
A23: Februāris | B23: 9 | C23: 20 | D23: =ROUND(B23*$D$19,0) -> 80 | E23: 20.86 | F23: 40 | G23: =ROUND(E23*F23 %,2) -> 8.34 | H23: =ROUND((E23*F23 %)*D23,2) -> 667.52 | I23: =H22 -> 667.52
A24: Marts | B24: 9 | C24: 21 | D24: =ROUND(B24*$D$19,0) -> 80 | E24: 20.86 | F24: 40 | G24: =ROUND(E24*F24 %,2) -> 8.34 | H24: =ROUND((E24*F24 %)*D24,2) -> 667.52 | I24: =H23 -> 667.52
A25: Aprīlis | B25: 9 | C25: 20 | D25: =ROUND(B25*$D$19,0) -> 80 | E25: 20.86 | F25: 40 | G25: =ROUND(E25*F25 %,2) -> 8.34 | H25: =ROUND((E25*F25 %)*D25,2) -> 667.52 | I25: =H24 -> 667.52
A26: Maijs | B26: 9 | C26: 20 | D26: =ROUND(B26*$D$19,0) -> 80 | E26: 20.86 | F26: 40 | G26: =ROUND(E26*F26 %,2) -> 8.34 | H26: =ROUND((E26*F26 %)*D26,2) -> 667.52 | I26: =H25 -> 667.52
A27: Jūnijs | B27: 9 | C27: 19 | D27: =ROUND(B27*$D$19,0) -> 80 | E27: 20.86 | F27: 40 | G27: =ROUND(E27*F27 %,2) -> 8.34 | H27: =ROUND((E27*F27 %)*D27,2) -> 667.52 | I27: =H26 -> 667.52
A28: Jūlijs | B28: 9 | C28: 23 | D28: =ROUND(B28*$D$19,0) -> 80 | E28: 20.86 | F28: 40 | G28: =ROUND(E28*F28 %,2) -> 8.34 | H28: =ROUND((E28*F28 %)*D28,2) -> 667.52 | I28: =H27 -> 667.52
A29: Augusts līdz 15.08. | B29: 9 | C29: 11 | D29: =ROUND(B29*$D$19,0) -> 80 | E29: 20.86 | F29: 40 | G29: =ROUND(E29*F29 %,2) -> 8.34 | H29: =ROUND((E29*F29 %)*D29,2) -> 667.52 | I29: =H28 -> 667.52
A30: Augusts no 16.08. | B30: 9 | C30: 10 | D30: =ROUND(B30*$D$19,0) -> 80 | E30: 20.86 | F30: 20 | G30: =ROUND(E30*F30 %,2) -> 4.17 | H30: =ROUND((E30*F30 %)*D30,2) -> 333.76
A31: Septembris | B31: 9 | C31: 22 | D31: =ROUND(B31*$D$19,0) -> 80 | E31: 20.86 | F31: 20 | G31: =ROUND(E31*F31 %,2) -> 4.17 | H31: =ROUND((E31*F31 %)*D31,2) -> 333.76 | I31: =H29+H30 -> 1001.28
A32: Oktobris | B32: 9 | C32: 23 | D32: =ROUND(B32*$D$19,0) -> 80 | E32: 20.86 | F32: 20 | G32: =ROUND(E32*F32 %,2) -> 4.17 | H32: =ROUND((E32*F32 %)*D32,2) -> 333.76 | I32: =H31 -> 333.76
A33: Novembris | B33: 9 | C33: 19 | D33: =ROUND(B33*$D$19,0) -> 80 | E33: 20.86 | F33: 20 | G33: =ROUND(E33*F33 %,2) -> 4.17 | H33: =ROUND((E33*F33 %)*D33,2) -> 333.76 | I33: =H32 -> 333.76
A34: Decembris | B34: 9 | C34: 19 | D34: =ROUND(B34*$D$19,0) -> 80 | E34: 20.86 | F34: 20 | G34: =ROUND(E34*F34 %,2) -> 4.17 | H34: =ROUND((E34*F34 %)*D34,2) -> 333.76 | I34: =H33 -> 333.76
A35: kopā | B35: x | C35: =SUM(C22:C34) -> 249 | D35: =SUM(D22:D34) -> 1040 | E35: x | F35: x | H35: =SUM(H22:H34) -> 7008.96 | I35: =SUM(I22:I34) -> 8234.78
B37: 2026.g.
A38: Cerību spārni DAC Mālpils, reģ.dat. 16.08.2022. | B38: Klientu sk. | C38: Darba dienu skaits mēnesī | D38: Klientu dienu sk. | E38: Kl.dienas cena | F38: Valsts līdzfinansējuma% 2026.g. | G38: Valsts līdzifnansējuma klientu dienas cena, euro | H38: Valsts līdzfinansējums | I38: Naudas plūsma | J38: Fakts / Plāns
A39: Janvaris | B39: 9 | C39: 21 | D39: =ROUND(B39*$D$19,0) -> 80 | E39: 20.86 | F39: 20 | G39: =ROUND(E39*F39 %,2) -> 4.17 | H39: =ROUND((E39*F39 %)*D39,2) -> 333.76 | I39: =H34 -> 333.76 | J39: Plāns
A40: Februāris | B40: 9 | C40: 20 | D40: =ROUND(B40*$D$19,0) -> 80 | E40: 20.86 | F40: 20 | G40: =ROUND(E40*F40 %,2) -> 4.17 | H40: =ROUND((E40*F40 %)*D40,2) -> 333.76 | I40: =H39 -> 333.76
A41: Marts | B41: 9 | C41: 22 | D41: =ROUND(B41*$D$19,0) -> 80 | E41: 20.86 | F41: 20 | G41: =ROUND(E41*F41 %,2) -> 4.17 | H41: =ROUND((E41*F41 %)*D41,2) -> 333.76 | I41: =H40 -> 333.76
A42: Aprīlis | B42: 9 | C42: 21 | D42: =ROUND(B42*$D$19,0) -> 80 | E42: 20.86 | F42: 20 | G42: =ROUND(E42*F42 %,2) -> 4.17 | H42: =ROUND((E42*F42 %)*D42,2) -> 333.76 | I42: =H41 -> 333.76
A43: Maijs | B43: 9 | C43: 19 | D43: =ROUND(B43*$D$19,0) -> 80 | E43: 20.86 | F43: 20 | G43: =ROUND(E43*F43 %,2) -> 4.17 | H43: =ROUND((E43*F43 %)*D43,2) -> 333.76 | I43: =H42 -> 333.76
A44: Jūnijs | B44: 9 | C44: 20 | D44: =ROUND(B44*$D$19,0) -> 80 | E44: 20.86 | F44: 20 | G44: =ROUND(E44*F44 %,2) -> 4.17 | H44: =ROUND((E44*F44 %)*D44,2) -> 333.76 | I44: =H43 -> 333.76
A45: Jūlijs | B45: 9 | C45: 23 | D45: =ROUND(B45*$D$19,0) -> 80 | E45: 20.86 | F45: 20 | G45: =ROUND(E45*F45 %,2) -> 4.17 | H45: =ROUND((E45*F45 %)*D45,2) -> 333.76 | I45: =H44 -> 333.76
A46: Augusts, līdz 15.08. | B46: 9 | C46: 10 | D46: =ROUND(B46*$D$19,0) -> 80 | E46: 20.86 | F46: 20 | G46: =ROUND(E46*F46 %,2) -> 4.17 | H46: =ROUND((E46*F46 %)*D46,2) -> 333.76 | I46: =H45 -> 333.76
A47: Septembris | D47: =B47*C47 -> 0 | H47: =ROUND((E47*F47 %)*D47,2) -> 0 | I47: =H46 -> 333.76
A48: Oktobris | D48: =B48*C48 -> 0 | H48: =ROUND((E48*F48 %)*D48,2) -> 0 | I48: =H47 -> 0
A49: Novembris | D49: =B49*C49 -> 0 | H49: =ROUND((E49*F49 %)*D49,2) -> 0 | I49: =H48 -> 0
A50: Decembris | D50: =B50*C50 -> 0 | H50: =ROUND((E50*F50 %)*D50,2) -> 0 | I50: =H49 -> 0
A51: kopā | B51: x | C51: =SUM(C39:C50) -> 156 | D51: =SUM(D39:D50) -> 640 | E51: x | F51: x | H51: =SUM(H39:H50) -> 2670.08 | I51: =SUM(I39:I50) -> 3003.84

Sheet 16
B2: 2024.g.
A3: Balvu daudzfunkcionālo pakalpojumu centra DAC, reģ.dat. 27.04.2021. | B3: Klientu sk. | C3: Darba dienu skaits mēnesī | D3: Klientu dienu sk. | E3: Kl.dienas cena | F3: Valsts līdzfinansējuma% 2024.g. | G3: Valsts līdzifnansējuma klientu dienas cena, euro | H3: Valsts līdzfinansējums | I3: Naudas plūsma | J3: Fakts/ Plāns
A4: Janvaris | B4: 0 | C4: 0 | D4: =B4*C4 -> 0 | E4: 21.65 | F4: 40 | G4: =ROUND(E4*F4 %,2) -> 8.66 | H4: =D4*G4 -> 0 | I4: 0 | J4: Fakts
A5: Februāris | B5: 13 | C5: 21 | D5: 200 | E5: 21.65 | F5: 40 | G5: =ROUND(E5*F5 %,2) -> 8.66 | H5: =D5*G5 -> 1732 | I5: =H4 -> 0
A6: Marts | B6: 18 | C6: 20 | D6: 188 | E6: 21.65 | F6: 40 | G6: =ROUND(E6*F6 %,2) -> 8.66 | H6: =D6*G6 -> 1628.08 | I6: 0
A7: Aprīlis, līdz 26.04. | B7: 18 | C7: 19 | D7: 165 | E7: 21.65 | F7: 40 | G7: =ROUND(E7*F7 %,2) -> 8.66 | H7: =D7*G7 -> 1428.9 | I7: 0
A8: Aprīlis, no 27.04. | B8: 18 | C8: 2 | D8: 18 | E8: 21.65 | F8: 20 | G8: =ROUND(E8*F8 %,2) -> 4.33 | H8: =D8*G8 -> 77.94 | I8: 0
A9: Maijs | B9: 18 | C9: 21 | D9: 204 | E9: 21.65 | F9: 20 | G9: =ROUND(E9*F9 %,2) -> 4.33 | H9: =D9*G9 -> 883.32 | I9: 0
A10: Jūnijs | B10: 18 | C10: 19 | D10: 212 | E10: 21.65 | F10: 20 | G10: =ROUND(E10*F10 %,2) -> 4.33 | H10: =D10*G10 -> 917.96 | I10: 0
A11: Jūlijs | B11: 18 | C11: 23 | D11: 210 | E11: 21.65 | F11: 20 | G11: =ROUND(E11*F11 %,2) -> 4.33 | H11: =D11*G11 -> 909.3 | I11: 0
A12: Augusts | B12: 18 | C12: 22 | D12: 232 | E12: 21.65 | F12: 20 | G12: =ROUND(E12*F12 %,2) -> 4.33 | H12: =D12*G12 -> 1004.56 | I12: 0
A13: Septembris | B13: 18 | C13: 21 | D13: 178 | E13: 21.65 | F13: 20 | G13: =ROUND(E13*F13 %,2) -> 4.33 | H13: =D13*G13 -> 770.74 | I13: 0 | J13: Plāns
A14: Oktobris | B14: 18 | C14: 23 | D14: 178 | E14: 21.65 | F14: 20 | G14: =ROUND(E14*F14 %,2) -> 4.33 | H14: =D14*G14 -> 770.74 | I14: =SUM(H4:H13) -> 9352.8
A15: Novembris | B15: 18 | C15: 20 | D15: 178 | E15: 21.65 | F15: 20 | G15: =ROUND(E15*F15 %,2) -> 4.33 | H15: =D15*G15 -> 770.74 | I15: =H14 -> 770.74
A16: Decembris | B16: 18 | C16: 18 | D16: 178 | E16: 21.65 | F16: 20 | G16: =ROUND(E16*F16 %,2) -> 4.33 | H16: =D16*G16 -> 770.74 | I16: =H15 -> 770.74
A17: kopā | B17: x | C17: =SUM(C4:C16) -> 229 | D17: =SUM(D4:D16) -> 2141 | E17: x | F17: x | G17: x | H17: =SUM(H4:H16) -> 11665.02 | I17: =SUM(I4:I16) -> 10894.28
A18: vid.8 mēn. | C18: =AVERAGE(C5:C12) -> 18.375 | D18: =AVERAGE(D5:D12) -> 178.625
A19: vid.dienā | D19: =ROUND(D18/C18,1) -> 9.7
B20: 2025.g.
A21: Balvu daudzfunkcionālo pakalpojumu centra DAC, reģ.dat. 27.04.2021. | B21: Klientu sk. | C21: Darba dienu skaits mēnesī | D21: Klientu dienu sk. | E21: Kl.dienas cena | F21: Valsts līdzfinansējuma% 2025.g. | G21: Valsts līdzifnansējuma klientu dienas cena, euro | H21: Valsts līdzfinansējums | I21: Naudas plūsma | J21: Plāns
A22: Janvaris | B22: 20 | C22: 22 | D22: 178 | E22: 21.65 | F22: 20 | G22: =ROUND(E22*F22 %,2) -> 4.33 | H22: =D22*G22 -> 770.74 | I22: =H16 -> 770.74 | J22: Plāns
A23: Februāris | B23: 20 | C23: 20 | D23: 178 | E23: 21.65 | F23: 20 | G23: =ROUND(E23*F23 %,2) -> 4.33 | H23: =D23*G23 -> 770.74 | I23: =H22 -> 770.74
A24: Marts | B24: 20 | C24: 21 | D24: 178 | E24: 21.65 | F24: 20 | G24: =ROUND(E24*F24 %,2) -> 4.33 | H24: =D24*G24 -> 770.74 | I24: =H23 -> 770.74
A25: Aprīlis, līdz 26.04. | B25: 20 | C25: 17 | D25: =ROUND(C25*D19,0) -> 165 | E25: 21.65 | F25: 20 | G25: =ROUND(E25*F25 %,2) -> 4.33 | H25: =D25*G25 -> 714.45 | I25: =H24 -> 770.74
A26: Maijs | D26: =B26*C26 -> 0 | H26: =D26*G26 -> 0 | I26: =H25 -> 714.45
A27: Jūnijs | D27: =B27*C27 -> 0 | H27: =D27*G27 -> 0 | I27: =H26 -> 0
A28: Jūlijs | D28: =B28*C28 -> 0 | H28: =D28*G28 -> 0 | I28: =H27 -> 0
A29: Augusts | D29: =B29*C29 -> 0 | H29: =D29*G29 -> 0 | I29: =H28 -> 0
A30: Septembris | D30: =B30*C30 -> 0 | H30: =D30*G30 -> 0 | I30: =H29 -> 0
A31: Oktobris | D31: =B31*C31 -> 0 | H31: =D31*G31 -> 0 | I31: =H30 -> 0
A32: Novembris | D32: =B32*C32 -> 0 | H32: =D32*G32 -> 0 | I32: =H31 -> 0
A33: Decembris | D33: =B33*C33 -> 0 | H33: =D33*G33 -> 0 | I33: =H32 -> 0
A34: kopā | B34: x | C34: =SUM(C22:C33) -> 80 | D34: =SUM(D22:D33) -> 699 | E34: x | F34: x | H34: =SUM(H22:H33) -> 3026.67 | I34: =SUM(I22:I33) -> 3797.41

Sheet 17
B2: 2024.g.
A3: Augšdaugava, Skrudalienas DAC, reģ.dat. 21.11.2022. | B3: Klientu sk. | C3: Darba dienu skaits mēnesī | D3: Klientu dienu sk. | E3: Kl.dienas cena | F3: Valsts līdzfinansējuma% 2024.g. | G3: Valsts līdzifnansējuma klientu dienas cena, euro | H3: Valsts līdzfinansējums | I3: Naudas plūsma | J3: Fakts/ Plāns
A4: Janvaris | C4: 22 | D4: =B4*C4 -> 0 | E4: 22.25 | F4: 60 | H4: =ROUND((E4*F4 %)*D4,2) -> 0 | I4: 0 | J4: Plāns
A5: Februāris | B5: 13 | C5: 21 | D5: =B5*C5 -> 273 | E5: 22.25 | F5: 60 | G5: =ROUND(E5*F5 %,2) -> 13.35 | H5: =D5*G5 -> 3644.55 | I5: 0
A6: Marts | B6: 13 | C6: 20 | D6: =B6*C6 -> 260 | E6: 22.25 | F6: 60 | G6: =ROUND(E6*F6 %,2) -> 13.35 | H6: =D6*G6 -> 3471 | I6: 0
A7: Aprīlis | B7: 13 | C7: 21 | D7: =B7*C7 -> 273 | E7: 22.25 | F7: 60 | G7: =ROUND(E7*F7 %,2) -> 13.35 | H7: =D7*G7 -> 3644.55 | I7: 0
A8: Maijs | B8: 13 | C8: 21 | D8: =B8*C8 -> 273 | E8: 22.25 | F8: 60 | G8: =ROUND(E8*F8 %,2) -> 13.35 | H8: =D8*G8 -> 3644.55 | I8: 0
A9: Jūnijs | B9: 13 | C9: 19 | D9: =B9*C9 -> 247 | E9: 22.25 | F9: 60 | G9: =ROUND(E9*F9 %,2) -> 13.35 | H9: =D9*G9 -> 3297.45 | I9: 0
A10: Jūlijs | B10: 13 | C10: 23 | D10: =B10*C10 -> 299 | E10: 22.25 | F10: 60 | G10: =ROUND(E10*F10 %,2) -> 13.35 | H10: =D10*G10 -> 3991.65 | I10: 0
A11: Augusts | B11: 14 | C11: 22 | D11: =B11*C11 -> 308 | E11: 22.25 | F11: 60 | G11: =ROUND(E11*F11 %,2) -> 13.35 | H11: =D11*G11 -> 4111.8 | I11: 0
A12: Septembris | B12: 14 | C12: 21 | D12: =B12*C12 -> 294 | E12: 22.25 | F12: 60 | G12: =ROUND(E12*F12 %,2) -> 13.35 | H12: =D12*G12 -> 3924.9 | I12: 0
A13: Oktobris | B13: 14 | C13: 23 | D13: =B13*C13 -> 322 | E13: 22.25 | F13: 60 | G13: =ROUND(E13*F13 %,2) -> 13.35 | H13: =D13*G13 -> 4298.7 | I13: =SUM(H4:H12) -> 29730.45
A14: Novembris, līdz 20.11. | B14: 14 | C14: 13 | D14: =B14*C14 -> 182 | E14: 22.25 | F14: 60 | G14: =ROUND(E14*F14 %,2) -> 13.35 | H14: =D14*G14 -> 2429.7 | I14: =H13 -> 4298.7
A15: Novembris, no 21.11. | B15: 13 | C15: 7 | D15: =B15*C15 -> 91 | E15: 22.25 | F15: 40 | G15: =ROUND(E15*F15 %,2) -> 8.9 | H15: =D15*G15 -> 809.9
A16: Decembris | B16: 14 | C16: 18 | D16: =B16*C16 -> 252 | E16: 22.25 | F16: 40 | G16: =ROUND(E16*F16 %,2) -> 8.9 | H16: =D16*G16 -> 2242.8 | I16: =H14+H15 -> 3239.6
A17: kopā | B17: x | C17: =SUM(C4:C16) -> 251 | D17: =SUM(D4:D16) -> 3074 | E17: x | F17: x | G17: x | H17: =SUM(H4:H16) -> 39511.55 | I17: =SUM(I4:I16) -> 37268.75
B19: 2025.g.
A20: Augšdaugava, Skrudalienas DAC, reģ.dat. 21.11.2022. | B20: Klientu sk. | C20: Darba dienu skaits mēnesī | D20: Klientu dienu sk. | E20: Kl.dienas cena | F20: Valsts līdzfinansējuma% 2025.g. | G20: Valsts līdzifnansējuma klientu dienas cena, euro | H20: Valsts līdzfinansējums | I20: Naudas plūsma | J20: Plāns
A21: Janvaris | B21: 15 | C21: 22 | D21: =B21*C21 -> 330 | E21: 22.25 | F21: 40 | G21: =ROUND(E21*F21 %,2) -> 8.9 | H21: =D21*G21 -> 2937 | I21: =H16 -> 2242.8 | J21: Plāns
A22: Februāris | B22: 15 | C22: 20 | D22: =B22*C22 -> 300 | E22: 22.25 | F22: 40 | G22: =ROUND(E22*F22 %,2) -> 8.9 | H22: =D22*G22 -> 2670 | I22: =H21 -> 2937
A23: Marts | B23: 15 | C23: 21 | D23: =B23*C23 -> 315 | E23: 22.25 | F23: 40 | G23: =ROUND(E23*F23 %,2) -> 8.9 | H23: =D23*G23 -> 2803.5 | I23: =H22 -> 2670
A24: Aprīlis | B24: 15 | C24: 20 | D24: =B24*C24 -> 300 | E24: 22.25 | F24: 40 | G24: =ROUND(E24*F24 %,2) -> 8.9 | H24: =D24*G24 -> 2670 | I24: =H23 -> 2803.5
A25: Maijs | B25: 15 | C25: 20 | D25: =B25*C25 -> 300 | E25: 22.25 | F25: 40 | G25: =ROUND(E25*F25 %,2) -> 8.9 | H25: =D25*G25 -> 2670 | I25: =H24 -> 2670
A26: Jūnijs | B26: 15 | C26: 19 | D26: =B26*C26 -> 285 | E26: 22.25 | F26: 40 | G26: =ROUND(E26*F26 %,2) -> 8.9 | H26: =D26*G26 -> 2536.5 | I26: =H25 -> 2670
A27: Jūlijs | B27: 15 | C27: 23 | D27: =B27*C27 -> 345 | E27: 22.25 | F27: 40 | G27: =ROUND(E27*F27 %,2) -> 8.9 | H27: =D27*G27 -> 3070.5 | I27: =H26 -> 2536.5
A28: Augusts | B28: 15 | C28: 21 | D28: =B28*C28 -> 315 | E28: 22.25 | F28: 40 | G28: =ROUND(E28*F28 %,2) -> 8.9 | H28: =D28*G28 -> 2803.5 | I28: =H27 -> 3070.5
A29: Septembris | B29: 15 | C29: 22 | D29: =B29*C29 -> 330 | E29: 22.25 | F29: 40 | G29: =ROUND(E29*F29 %,2) -> 8.9 | H29: =D29*G29 -> 2937 | I29: =H28 -> 2803.5
A30: Oktobris | B30: 15 | C30: 23 | D30: =B30*C30 -> 345 | E30: 22.25 | F30: 40 | G30: =ROUND(E30*F30 %,2) -> 8.9 | H30: =D30*G30 -> 3070.5 | I30: =H29 -> 2937
A31: Novembris, līdz 20.11. | B31: 15 | C31: 13 | D31: =B31*C31 -> 195 | E31: 22.25 | F31: 40 | G31: =ROUND(E31*F31 %,2) -> 8.9 | H31: =D31*G31 -> 1735.5 | I31: =H30 -> 3070.5
A32: Novembris, no 21.11. | B32: 15 | C32: 6 | D32: =B32*C32 -> 90 | E32: 22.25 | F32: 20 | G32: =ROUND(E32*F32 %,2) -> 4.45 | H32: =D32*G32 -> 400.5
A33: Decembris | B33: 15 | C33: 19 | D33: =B33*C33 -> 285 | E33: 22.25 | F33: 20 | G33: =ROUND(E33*F33 %,2) -> 4.45 | H33: =D33*G33 -> 1268.25 | I33: =H31+H32 -> 2136
A34: kopā | B34: x | C34: =SUM(C21:C33) -> 249 | D34: =SUM(D21:D33) -> 3735 | E34: x | F34: x | G34: x | H34: =SUM(H21:H33) -> 31572.75 | I34: =SUM(I21:I33) -> 32547.3
B36: 2026.g.
A37: Augšdaugava, Skrudalienas DAC, reģ.dat. 21.11.2022. | B37: Klientu sk. | C37: Darba dienu skaits mēnesī | D37: Klientu dienu sk. | E37: Kl.dienas cena | F37: Valsts līdzfinansējuma% 2026.g. | G37: Valsts līdzifnansējuma klientu dienas cena, euro | H37: Valsts līdzfinansējums | I37: Naudas plūsma | J37: Fakts / Plāns
A38: Janvaris | B38: 15 | C38: 21 | D38: =B38*C38 -> 315 | E38: 22.25 | F38: 20 | G38: =ROUND(E38*F38 %,2) -> 4.45 | H38: =D38*G38 -> 1401.75 | I38: =H33 -> 1268.25 | J38: Plāns
A39: Februāris | B39: 15 | C39: 20 | D39: =B39*C39 -> 300 | E39: 22.25 | F39: 20 | G39: =ROUND(E39*F39 %,2) -> 4.45 | H39: =D39*G39 -> 1335 | I39: =H38 -> 1401.75
A40: Marts | B40: 15 | C40: 22 | D40: =B40*C40 -> 330 | E40: 22.25 | F40: 20 | G40: =ROUND(E40*F40 %,2) -> 4.45 | H40: =D40*G40 -> 1468.5 | I40: =H39 -> 1335
A41: Aprīlis | B41: 15 | C41: 21 | D41: =B41*C41 -> 315 | E41: 22.25 | F41: 20 | G41: =ROUND(E41*F41 %,2) -> 4.45 | H41: =D41*G41 -> 1401.75 | I41: =H40 -> 1468.5
A42: Maijs | B42: 15 | C42: 19 | D42: =B42*C42 -> 285 | E42: 22.25 | F42: 20 | G42: =ROUND(E42*F42 %,2) -> 4.45 | H42: =D42*G42 -> 1268.25 | I42: =H41 -> 1401.75
A43: Jūnijs | B43: 15 | C43: 20 | D43: =B43*C43 -> 300 | E43: 22.25 | F43: 20 | G43: =ROUND(E43*F43 %,2) -> 4.45 | H43: =D43*G43 -> 1335 | I43: =H42 -> 1268.25
A44: Jūlijs | B44: 15 | C44: 23 | D44: =B44*C44 -> 345 | E44: 22.25 | F44: 20 | G44: =ROUND(E44*F44 %,2) -> 4.45 | H44: =D44*G44 -> 1535.25 | I44: =H43 -> 1335
A45: Augusts | B45: 15 | C45: 21 | D45: =B45*C45 -> 315 | E45: 22.25 | F45: 20 | G45: =ROUND(E45*F45 %,2) -> 4.45 | H45: =D45*G45 -> 1401.75 | I45: =H44 -> 1535.25
A46: Septembris | B46: 15 | C46: 22 | D46: =B46*C46 -> 330 | E46: 22.25 | F46: 20 | G46: =ROUND(E46*F46 %,2) -> 4.45 | H46: =D46*G46 -> 1468.5 | I46: =H45 -> 1401.75
A47: Oktobris | B47: 15 | C47: 22 | D47: =B47*C47 -> 330 | E47: 22.25 | F47: 20 | G47: =ROUND(E47*F47 %,2) -> 4.45 | H47: =D47*G47 -> 1468.5 | I47: =H46 -> 1468.5
A48: Novembris, līdz 20.11. | B48: 15 | C48: 14 | D48: =B48*C48 -> 210 | E48: 22.25 | F48: 20 | G48: =ROUND(E48*F48 %,2) -> 4.45 | H48: =D48*G48 -> 934.5 | I48: =H47 -> 1468.5
A49: Novembris, no 21.11. | C49: 6
A50: Decembris | C50: ='darba dienas'!M5 -> 20 | D50: =B50*C50 -> 0 | F50: 0 | H50: =ROUND((E50*F50 %)*D50,2) -> 0 | I50: =H48 -> 934.5
A51: kopā | B51: x | C51: =SUM(C38:C50) -> 251 | D51: =SUM(D38:D50) -> 3375 | E51: x | F51: x | G51: x | H51: =SUM(H38:H50) -> 15018.75 | I51: =SUM(I38:I50) -> 16287

Sheet 18
B2: 2024.g.
A3: Cēsu nov.SD DAC Priekuļi, sāk.dat. 2021.01.05. | B3: Klientu sk. | C3: Darba dienu skaits mēnesī | D3: Klientu dienu sk. | E3: Kl.dienas cena | F3: Valsts līdzfinansējuma% 2024.g. | G3: Valsts līdzifnansējuma klientu dienas cena, euro | H3: Valsts līdzfinansējums | I3: Naudas plūsma | J3: Plāns
A4: Janvaris | D4: =B4*C4 -> 0 | E4: 36.15 | H4: =ROUND((E4*F4 %)*D4,2) -> 0 | I4: 0 | J4: Plāns
A5: Februāris | D5: =B5*C5 -> 0 | E5: 36.15 | H5: =ROUND((E5*F5 %)*D5,2) -> 0 | I5: 0
A6: Marts | B6: 9 | C6: 20 | D6: =B6*C6 -> 180 | E6: 36.15 | F6: 40 | G6: =ROUND(E6*F6 %,2) -> 14.46 | H6: =D6*G6 -> 2602.8 | I6: 0
A7: Aprīlis | B7: 9 | C7: 21 | D7: =B7*C7 -> 189 | E7: 36.15 | F7: 40 | G7: =ROUND(E7*F7 %,2) -> 14.46 | H7: =D7*G7 -> 2732.94 | I7: 0
A8: Maijs | B8: 9 | C8: 21 | D8: =B8*C8 -> 189 | E8: 36.15 | F8: 20 | G8: =ROUND(E8*F8 %,2) -> 7.23 | H8: =D8*G8 -> 1366.47 | I8: 0
A9: Jūnijs | B9: 9 | C9: 19 | D9: =B9*C9 -> 171 | E9: 36.15 | F9: 20 | G9: =ROUND(E9*F9 %,2) -> 7.23 | H9: =D9*G9 -> 1236.33 | I9: 0
A10: Jūlijs | B10: 9 | C10: 23 | D10: =B10*C10 -> 207 | E10: 36.15 | F10: 20 | G10: =ROUND(E10*F10 %,2) -> 7.23 | H10: =D10*G10 -> 1496.61 | I10: 0
A11: Augusts | B11: 9 | C11: 22 | D11: =B11*C11 -> 198 | E11: 36.15 | F11: 20 | G11: =ROUND(E11*F11 %,2) -> 7.23 | H11: =D11*G11 -> 1431.54 | I11: 0
A12: Septembris | B12: 9 | C12: 21 | D12: =B12*C12 -> 189 | E12: 36.15 | F12: 20 | G12: =ROUND(E12*F12 %,2) -> 7.23 | H12: =D12*G12 -> 1366.47 | I12: 0
A13: Oktobris | B13: 9 | C13: 23 | D13: =B13*C13 -> 207 | E13: 36.15 | F13: 20 | G13: =ROUND(E13*F13 %,2) -> 7.23 | H13: =D13*G13 -> 1496.61 | I13: =SUM(H4:H12) -> 12233.16
A14: Novembris | B14: 9 | C14: 20 | D14: =B14*C14 -> 180 | E14: 36.15 | F14: 20 | G14: =ROUND(E14*F14 %,2) -> 7.23 | H14: =D14*G14 -> 1301.4 | I14: =H13 -> 1496.61
A15: Decembris | B15: 9 | C15: 18 | D15: =B15*C15 -> 162 | E15: 36.15 | F15: 20 | G15: =ROUND(E15*F15 %,2) -> 7.23 | H15: =D15*G15 -> 1171.26 | I15: =H14 -> 1301.4
A16: kopā | B16: x | C16: =SUM(C4:C15) -> 208 | D16: =SUM(D4:D15) -> 1872 | E16: x | F16: x | H16: =SUM(H4:H15) -> 16202.43 | I16: =SUM(I4:I15) -> 15031.17
B18: 2025.g.
A19: Cēsu nov.SD DAC Priekuļi, sāk.dat. 2021.01.05. | B19: Klientu sk. | C19: Darba dienu skaits mēnesī | D19: Klientu dienu sk. | E19: Kl.dienas cena | F19: Valsts līdzfinansējuma% 2025.g. | G19: Valsts līdzifnansējuma klientu dienas cena, euro | H19: Valsts līdzfinansējums | I19: Naudas plūsma | J19: Plāns
A20: Janvaris | B20: 10 | C20: 22 | D20: =B20*C20 -> 220 | E20: 36.15 | F20: 20 | G20: =ROUND(E20*F20 %,2) -> 7.23 | H20: =D20*G20 -> 1590.6 | I20: =H15 -> 1171.26 | J20: Plāns
A21: Februāris | B21: 10 | C21: 20 | D21: =B21*C21 -> 200 | E21: 36.15 | F21: 20 | G21: =ROUND(E21*F21 %,2) -> 7.23 | H21: =D21*G21 -> 1446 | I21: =H20 -> 1590.6
A22: Marts | B22: 10 | C22: 21 | D22: =B22*C22 -> 210 | E22: 36.15 | F22: 20 | G22: =ROUND(E22*F22 %,2) -> 7.23 | H22: =D22*G22 -> 1518.3 | I22: =H21 -> 1446
A23: Aprīlis | B23: 10 | C23: 20 | D23: =B23*C23 -> 200 | E23: 36.15 | F23: 20 | G23: =ROUND(E23*F23 %,2) -> 7.23 | H23: =D23*G23 -> 1446 | I23: =H22 -> 1518.3
A24: Maijs | B24: 10 | C24: 20 | D24: =B24*C24 -> 200 | E24: 36.15 | F24: 0 | G24: =ROUND(E24*F24 %,2) -> 0 | H24: =ROUND((E24*F24 %)*D24,2) -> 0 | I24: =H23 -> 1446
A25: Jūnijs | B25: 10 | C25: 19 | D25: =B25*C25 -> 190 | E25: 36.15 | F25: 0 | G25: =ROUND(E25*F25 %,2) -> 0 | H25: =ROUND((E25*F25 %)*D25,2) -> 0 | I25: =H24 -> 0
A26: Jūlijs | B26: 10 | C26: 23 | D26: =B26*C26 -> 230 | E26: 36.15 | F26: 0 | G26: =ROUND(E26*F26 %,2) -> 0 | H26: =ROUND((E26*F26 %)*D26,2) -> 0 | I26: =H25 -> 0
A27: Augusts | B27: 10 | C27: 21 | D27: =B27*C27 -> 210 | E27: 36.15 | F27: 0 | G27: =ROUND(E27*F27 %,2) -> 0 | H27: =ROUND((E27*F27 %)*D27,2) -> 0 | I27: =H26 -> 0
A28: Septembris | B28: 10 | C28: 22 | D28: =B28*C28 -> 220 | E28: 36.15 | F28: 0 | G28: =ROUND(E28*F28 %,2) -> 0 | H28: =ROUND((E28*F28 %)*D28,2) -> 0 | I28: =H27 -> 0
A29: Oktobris | B29: 10 | C29: 23 | D29: =B29*C29 -> 230 | E29: 36.15 | F29: 0 | G29: =ROUND(E29*F29 %,2) -> 0 | H29: =ROUND((E29*F29 %)*D29,2) -> 0 | I29: =H28 -> 0
A30: Novembris | B30: 10 | C30: 19 | D30: =B30*C30 -> 190 | E30: 36.15 | F30: 0 | G30: =ROUND(E30*F30 %,2) -> 0 | H30: =ROUND((E30*F30 %)*D30,2) -> 0 | I30: =H29 -> 0
A31: Decembris | B31: 10 | C31: 19 | D31: =B31*C31 -> 190 | E31: 36.15 | F31: 0 | G31: =ROUND(E31*F31 %,2) -> 0 | H31: =ROUND((E31*F31 %)*D31,2) -> 0 | I31: =H30 -> 0
A32: kopā | B32: x | C32: =SUM(C20:C31) -> 249 | D32: =SUM(D20:D31) -> 2490 | E32: x | F32: x | H32: =SUM(H20:H31) -> 6000.9 | I32: =SUM(I20:I31) -> 7172.16

Sheet 19
B2: 2024.g.
A3: Cerību spārni_DAC Spāre_Cēsis, reģ.dat. 17.07.2021. | B3: Klientu sk. | C3: Darba dienu skaits mēnesī | D3: Klientu dienu sk. | E3: Kl.dienas cena | F3: Valsts līdzfinansējuma% 2024.g. | G3: Valsts līdzifnansējuma klientu dienas cena, euro | H3: Valsts līdzfinansējums | I3: Naudas plūsma | J3: Plāns
A4: Janvaris | C4: 22 | E4: 32.5 | F4: 40 | H4: =ROUND((E4*F4 %)*D4,2) -> 0 | I4: 0 | J4: Fakts
A5: Februāris | B5: 6 | C5: 21 | D5: 126 | E5: 32.5 | F5: 40 | G5: =ROUND(E5*F5 %,2) -> 13 | H5: =D5*G5 -> 1638 | I5: 0
A6: Marts | B6: 6 | C6: 20 | D6: 109 | E6: 32.5 | F6: 40 | G6: =ROUND(E6*F6 %,2) -> 13 | H6: =D6*G6 -> 1417 | I6: 0
A7: Aprīlis | B7: 7 | C7: 21 | D7: 117 | E7: 32.5 | F7: 40 | G7: =ROUND(E7*F7 %,2) -> 13 | H7: =D7*G7 -> 1521 | I7: 0
A8: Maijs | B8: 7 | C8: 21 | D8: 147 | E8: 32.5 | F8: 40 | G8: =ROUND(E8*F8 %,2) -> 13 | H8: =D8*G8 -> 1911 | I8: 0
A9: Jūnijs | B9: 7 | C9: 19 | D9: 133 | E9: 32.5 | F9: 40 | G9: =ROUND(E9*F9 %,2) -> 13 | H9: =D9*G9 -> 1729 | I9: 0
A10: Jūlijs, līdz 16.07. | B10: 7 | C10: 12 | D10: 84 | E10: 32.5 | F10: 40 | G10: =ROUND(E10*F10 %,2) -> 13 | H10: =D10*G10 -> 1092 | I10: 0
A11: Jūlijs no 17.07. | B11: 7 | C11: 11 | D11: 77 | E11: 32.5 | F11: 20 | G11: =ROUND(E11*F11 %,2) -> 6.5 | H11: =D11*G11 -> 500.5 | I11: 0
A12: Augusts | B12: 7 | C12: 22 | D12: 149 | E12: 32.5 | F12: 20 | G12: =ROUND(E12*F12 %,2) -> 6.5 | H12: =D12*G12 -> 968.5 | I12: 0
A13: Septembris | B13: 7 | C13: 21 | D13: 118 | E13: 32.5 | F13: 20 | G13: =ROUND(E13*F13 %,2) -> 6.5 | H13: =D13*G13 -> 767 | I13: =SUM(H4:H12) -> 10777 | J13: Plāns
A14: Oktobris | B14: 7 | C14: 23 | D14: 118 | E14: 32.5 | F14: 20 | G14: =ROUND(E14*F14 %,2) -> 6.5 | H14: =D14*G14 -> 767 | I14: =H13 -> 767
A15: Novembris | B15: 7 | C15: 20 | D15: 118 | E15: 32.5 | F15: 20 | G15: =ROUND(E15*F15 %,2) -> 6.5 | H15: =D15*G15 -> 767 | I15: =H14 -> 767
A16: Decembris | B16: 7 | C16: 18 | D16: 118 | E16: 32.5 | F16: 20 | G16: =ROUND(E16*F16 %,2) -> 6.5 | H16: =D16*G16 -> 767 | I16: =H15 -> 767
A17: kopā | B17: x | C17: =SUM(C4:C16) -> 251 | D17: =SUM(D4:D16) -> 1414 | E17: x | F17: x | G17: x | H17: =SUM(H4:H16) -> 13845 | I17: =SUM(I4:I16) -> 13078
B19: 2025.g.
A20: Cerību spārni_DAC Spāre_Cēsis, reģ.dat. 17.07.2021. | B20: Klientu sk. | C20: Darba dienu skaits mēnesī | D20: Klientu dienu sk. | E20: Kl.dienas cena | F20: Valsts līdzfinansējuma% 2024.g. | G20: Valsts līdzifnansējuma klientu dienas cena, euro | H20: Valsts līdzfinansējums | I20: Naudas plūsma | J20: Plāns
A21: Janvaris | B21: 7 | C21: 22 | D21: =B21*C21 -> 154 | E21: 32.5 | F21: 20 | G21: =ROUND(E21*F21 %,2) -> 6.5 | H21: =D21*G21 -> 1001 | I21: =H16 -> 767 | J21: Plāns
A22: Februāris | B22: 7 | C22: 20 | D22: =B22*C22 -> 140 | E22: 32.5 | F22: 20 | G22: =ROUND(E22*F22 %,2) -> 6.5 | H22: =D22*G22 -> 910 | I22: =H21 -> 1001
A23: Marts | B23: 7 | C23: 21 | D23: =B23*C23 -> 147 | E23: 32.5 | F23: 20 | G23: =ROUND(E23*F23 %,2) -> 6.5 | H23: =D23*G23 -> 955.5 | I23: =H22 -> 910
A24: Aprīlis | B24: 7 | C24: 20 | D24: =B24*C24 -> 140 | E24: 32.5 | F24: 20 | G24: =ROUND(E24*F24 %,2) -> 6.5 | H24: =D24*G24 -> 910 | I24: =H23 -> 955.5
A25: Maijs | B25: 7 | C25: 20 | D25: =B25*C25 -> 140 | E25: 32.5 | F25: 20 | G25: =ROUND(E25*F25 %,2) -> 6.5 | H25: =D25*G25 -> 910 | I25: =H24 -> 910
A26: Jūnijs | B26: 7 | C26: 19 | D26: =B26*C26 -> 133 | E26: 32.5 | F26: 20 | G26: =ROUND(E26*F26 %,2) -> 6.5 | H26: =D26*G26 -> 864.5 | I26: =H25 -> 910
A27: Jūlijs, līdz 16.07. | B27: 7 | C27: 12 | D27: =B27*C27 -> 84 | E27: 32.5 | F27: 20 | G27: =ROUND(E27*F27 %,2) -> 6.5 | H27: =D27*G27 -> 546 | I27: =H26 -> 864.5
A28: Augusts | D28: =B28*C28 -> 0 | H28: =ROUND((E28*F28 %)*D28,2) -> 0 | I28: =H27 -> 546
A29: Septembris | D29: =B29*C29 -> 0 | H29: =ROUND((E29*F29 %)*D29,2) -> 0 | I29: =H28 -> 0
A30: Oktobris | D30: =B30*C30 -> 0 | H30: =ROUND((E30*F30 %)*D30,2) -> 0 | I30: =H29 -> 0
A31: Novembris | D31: =B31*C31 -> 0 | H31: =ROUND((E31*F31 %)*D31,2) -> 0 | I31: =H30 -> 0
A32: Decembris | D32: =B32*C32 -> 0 | H32: =ROUND((E32*F32 %)*D32,2) -> 0 | I32: =H31 -> 0
A33: kopā | B33: x | C33: =SUM(C21:C32) -> 134 | D33: =SUM(D21:D32) -> 938 | E33: x | F33: x | H33: =SUM(H21:H32) -> 6097 | I33: =SUM(I21:I32) -> 6864

Sheet 20
B2: 2024.g.
A3: Bauskas Vecumnieku DAC Sarkanā skola, reģ.dat. 05.05.2022. | B3: Klientu sk. | C3: Darba dienu skaits mēnesī | D3: Klientu dienu sk. | E3: Kl.dienas cena, euro | F3: Valsts līdzfinansējuma% 2024.g. | G3: Valsts līdzifnansējuma klientu dienas cena, euro | H3: Valsts līdzfinansējums, euro | I3: Naudas plūsma, euro | J3: Plāns
A4: Janvaris | C4: 22 | D4: =B4*C4 -> 0 | H4: =ROUND((E4*F4 %)*D4,2) -> 0 | I4: 0 | J4: Plāns
A5: Februāris | B5: 12 | C5: 21 | D5: =B5*C5 -> 252 | E5: 44.74 | F5: 60 | G5: =ROUND(E5*F5 %,2) -> 26.84 | H5: =D5*G5 -> 6763.68 | I5: 0
A6: Marts | B6: 12 | C6: 20 | D6: =B6*C6 -> 240 | E6: 44.74 | F6: 60 | G6: =ROUND(E6*F6 %,2) -> 26.84 | H6: =D6*G6 -> 6441.6 | I6: 0
A7: Aprīlis | B7: 12 | C7: ='darba dienas'!E3 -> 21 | D7: =B7*C7 -> 252 | E7: 44.74 | F7: 60 | G7: =ROUND(E7*F7 %,2) -> 26.84 | H7: =D7*G7 -> 6763.68 | I7: 0
A8: Maijs, līdz 04.05. | B8: 12 | C8: 2 | D8: =B8*C8 -> 24 | E8: 44.74 | F8: 60 | G8: =ROUND(E8*F8 %,2) -> 26.84 | H8: =D8*G8 -> 644.16 | I8: 0
A9: Maijs, no 05.05. | B9: 12 | C9: 19 | D9: =B9*C9 -> 228 | E9: 44.74 | F9: 40 | G9: =ROUND(E9*F9 %,2) -> 17.9 | H9: =D9*G9 -> 4081.2 | I9: 0
A10: Jūnijs | B10: 12 | C10: 19 | D10: =B10*C10 -> 228 | E10: 44.74 | F10: 40 | G10: =ROUND(E10*F10 %,2) -> 17.9 | H10: =D10*G10 -> 4081.2 | I10: 0
A11: Jūlijs | B11: 12 | C11: 23 | D11: =B11*C11 -> 276 | E11: 44.74 | F11: 40 | G11: =ROUND(E11*F11 %,2) -> 17.9 | H11: =D11*G11 -> 4940.4 | I11: 0
A12: Augusts | B12: 12 | C12: 22 | D12: =B12*C12 -> 264 | E12: 44.74 | F12: 40 | G12: =ROUND(E12*F12 %,2) -> 17.9 | H12: =D12*G12 -> 4725.6 | I12: 0
A13: Septembris | B13: 12 | C13: 21 | D13: =B13*C13 -> 252 | E13: 44.74 | F13: 40 | G13: =ROUND(E13*F13 %,2) -> 17.9 | H13: =D13*G13 -> 4510.8 | I13: 0
A14: Oktobris | B14: 12 | C14: 23 | D14: =B14*C14 -> 276 | E14: 44.74 | F14: 40 | G14: =ROUND(E14*F14 %,2) -> 17.9 | H14: =D14*G14 -> 4940.4 | I14: =SUM(H4:H13) -> 42952.32
A15: Novembris | B15: 12 | C15: 20 | D15: =B15*C15 -> 240 | E15: 44.74 | F15: 40 | G15: =ROUND(E15*F15 %,2) -> 17.9 | H15: =D15*G15 -> 4296 | I15: =H14 -> 4940.4
A16: Decembris | B16: 12 | C16: 18 | D16: =B16*C16 -> 216 | E16: 44.74 | F16: 40 | G16: =ROUND(E16*F16 %,2) -> 17.9 | H16: =D16*G16 -> 3866.4 | I16: =H15 -> 4296
A17: kopā | B17: x | C17: =SUM(C4:C16) -> 251 | D17: =SUM(D4:D16) -> 2748 | E17: x | F17: x | G17: x | H17: =SUM(H4:H16) -> 56055.12 | I17: =SUM(I4:I16) -> 52188.72
B19: 2025.g.
A20: Bauskas Vecumnieku DAC Sarkanā skola, reģ.dat. 05.05.2022. | B20: Klientu sk. | C20: Darba dienu skaits mēnesī | D20: Klientu dienu sk. | E20: Kl.dienas cena, euro | F20: Valsts līdzfinansējuma% 2025.g. | G20: Valsts līdzifnansējuma klientu dienas cena, euro | H20: Valsts līdzfinansējums, euro | I20: Naudas plūsma, euro | J20: Plāns
A21: Janvaris | B21: 14 | C21: 22 | D21: =B21*C21 -> 308 | E21: 44.74 | F21: 40 | G21: =ROUND(E21*F21 %,2) -> 17.9 | H21: =D21*G21 -> 5513.2 | I21: =H16 -> 3866.4 | J21: Plāns
A22: Februāris | B22: 14 | C22: 20 | D22: =B22*C22 -> 280 | E22: 44.74 | F22: 40 | G22: =ROUND(E22*F22 %,2) -> 17.9 | H22: =D22*G22 -> 5012 | I22: =H21 -> 5513.2
A23: Marts | B23: 14 | C23: 21 | D23: =B23*C23 -> 294 | E23: 44.74 | F23: 40 | G23: =ROUND(E23*F23 %,2) -> 17.9 | H23: =D23*G23 -> 5262.6 | I23: =H22 -> 5012
A24: Aprīlis | B24: 14 | C24: ='darba dienas'!E4 -> 20 | D24: =B24*C24 -> 280 | E24: 44.74 | F24: 40 | G24: =ROUND(E24*F24 %,2) -> 17.9 | H24: =D24*G24 -> 5012 | I24: =H23 -> 5262.6
A25: Maijs, līdz 04.05. | B25: 14 | C25: 0 | D25: =B25*C25 -> 0 | E25: 44.74 | F25: 40 | G25: =ROUND(E25*F25 %,2) -> 17.9 | H25: =D25*G25 -> 0 | I25: 0
A26: Maijs, no 05.05. | B26: 14 | C26: ='darba dienas'!F4 -> 20 | D26: =B26*C26 -> 280 | E26: 44.74 | F26: 20 | G26: =ROUND(E26*F26 %,2) -> 8.95 | H26: =D26*G26 -> 2506 | I26: =H24 -> 5012
A27: Jūnijs | B27: 14 | C27: 19 | D27: =B27*C27 -> 266 | E27: 44.74 | F27: 20 | G27: =ROUND(E27*F27 %,2) -> 8.95 | H27: =D27*G27 -> 2380.7 | I27: =H26 -> 2506
A28: Jūlijs | B28: 14 | C28: 23 | D28: =B28*C28 -> 322 | E28: 44.74 | F28: 20 | G28: =ROUND(E28*F28 %,2) -> 8.95 | H28: =D28*G28 -> 2881.9 | I28: =H27 -> 2380.7
A29: Augusts | B29: 14 | C29: 21 | D29: =B29*C29 -> 294 | E29: 44.74 | F29: 20 | G29: =ROUND(E29*F29 %,2) -> 8.95 | H29: =D29*G29 -> 2631.3 | I29: =H28 -> 2881.9
A30: Septembris | B30: 14 | C30: 22 | D30: =B30*C30 -> 308 | E30: 44.74 | F30: 20 | G30: =ROUND(E30*F30 %,2) -> 8.95 | H30: =D30*G30 -> 2756.6 | I30: =H29 -> 2631.3
A31: Oktobris | B31: 14 | C31: 23 | D31: =B31*C31 -> 322 | E31: 44.74 | F31: 20 | G31: =ROUND(E31*F31 %,2) -> 8.95 | H31: =D31*G31 -> 2881.9 | I31: =H30 -> 2756.6
A32: Novembris | B32: 14 | C32: 19 | D32: =B32*C32 -> 266 | E32: 44.74 | F32: 20 | G32: =ROUND(E32*F32 %,2) -> 8.95 | H32: =D32*G32 -> 2380.7 | I32: =H31 -> 2881.9
A33: Decembris | B33: 14 | C33: 19 | D33: =B33*C33 -> 266 | E33: 44.74 | F33: 20 | G33: =ROUND(E33*F33 %,2) -> 8.95 | H33: =D33*G33 -> 2380.7 | I33: =H32 -> 2380.7
A34: kopā | B34: x | C34: =SUM(C21:C33) -> 249 | D34: =SUM(D21:D33) -> 3486 | E34: x | F34: x | G34: x | H34: =SUM(H21:H33) -> 41599.6 | I34: =SUM(I21:I33) -> 43085.3
B36: 2026.g.
A37: Bauskas Vecumnieku DAC Sarkanā skola, reģ.dat. 05.05.2022. | B37: Klientu sk. | C37: Darba dienu skaits mēnesī | D37: Klientu dienu sk. | E37: Kl.dienas cena, euro | F37: Valsts līdzfinansējuma% 2026.g. | G37: Valsts līdzifnansējuma klientu dienas cena, euro | H37: Valsts līdzfinansējums, euro | I37: Naudas plūsma, euro | J37: Plāns
A38: Janvaris | B38: 14 | C38: 21 | D38: =B38*C38 -> 294 | E38: 44.74 | F38: 20 | G38: =ROUND(E38*F38 %,2) -> 8.95 | H38: =D38*G38 -> 2631.3 | I38: =H33 -> 2380.7 | J38: Plāns
A39: Februāris | B39: 14 | C39: 20 | D39: =B39*C39 -> 280 | E39: 44.74 | F39: 20 | G39: =ROUND(E39*F39 %,2) -> 8.95 | H39: =D39*G39 -> 2506 | I39: =H38 -> 2631.3
A40: Marts | B40: 14 | C40: 22 | D40: =B40*C40 -> 308 | E40: 44.74 | F40: 20 | G40: =ROUND(E40*F40 %,2) -> 8.95 | H40: =D40*G40 -> 2756.6 | I40: =H39 -> 2506
A41: Aprīlis | B41: 14 | C41: ='darba dienas'!E5 -> 21 | D41: =B41*C41 -> 294 | E41: 44.74 | F41: 20 | G41: =ROUND(E41*F41 %,2) -> 8.95 | H41: =D41*G41 -> 2631.3 | I41: =H40 -> 2756.6
A42: Maijs, līdz 04.05. | B42: 14 | C42: 0 | D42: =B42*C42 -> 0 | E42: 44.74 | F42: 20 | G42: =ROUND(E42*F42 %,2) -> 8.95 | H42: =D42*G42 -> 0 | I42: =H41 -> 2631.3
A43: Jūnijs | D43: =B43*C43 -> 0 | H43: =ROUND((E43*F43 %)*D43,2) -> 0 | I43: =H42 -> 0
A44: Jūlijs | D44: =B44*C44 -> 0 | H44: =ROUND((E44*F44 %)*D44,2) -> 0 | I44: =H43 -> 0
A45: Augusts | D45: =B45*C45 -> 0 | H45: =ROUND((E45*F45 %)*D45,2) -> 0 | I45: =H44 -> 0
A46: Septembris | D46: =B46*C46 -> 0 | H46: =ROUND((E46*F46 %)*D46,2) -> 0 | I46: =H45 -> 0
A47: Oktobris | D47: =B47*C47 -> 0 | H47: =ROUND((E47*F47 %)*D47,2) -> 0 | I47: =H46 -> 0
A48: Novembris | D48: =B48*C48 -> 0 | H48: =ROUND((E48*F48 %)*D48,2) -> 0 | I48: =H47 -> 0
A49: Decembris | D49: =B49*C49 -> 0 | H49: =ROUND((E49*F49 %)*D49,2) -> 0 | I49: =H48 -> 0
A50: kopā | B50: x | C50: =SUM(C38:C49) -> 84 | D50: =SUM(D38:D49) -> 1176 | E50: x | F50: x | H50: =SUM(H38:H49) -> 10525.2 | I50: =SUM(I38:I49) -> 12905.9

Sheet 21
B2: 2024.g.
A3: Viļaka DAC Balvu nov. reģ.d.12.10.2021. | B3: Klientu sk. | C3: Darba dienu skaits mēnesī | D3: Klientu dienu sk. | E3: Kl.dienas cena, euro | F3: Valsts līdzfinansējuma% 2024.g. | G3: Valsts līdzifnansējuma klientu dienas cena, euro | H3: Valsts līdzfinansējums, euro | I3: Naudas plūsma, euro | J3: Plāns
A4: Janvaris | C4: 22 | D4: =B4*C4 -> 0 | E4: 33.11 | F4: 40 | H4: =ROUND((E4*F4 %)*D4,2) -> 0 | I4: 0 | J4: Plāns
A5: Februāris | C5: 21 | D5: =B5*C5 -> 0 | E5: 33.11 | F5: 40 | H5: =ROUND((E5*F5 %)*D5,2) -> 0 | I5: 0
A6: Marts | B6: 7 | C6: 20 | D6: =B6*C6 -> 140 | E6: 33.11 | F6: 40 | G6: =ROUND(E6*F6 %,2) -> 13.24 | H6: =D6*G6 -> 1853.6 | I6: 0
A7: Aprīlis | B7: 7 | C7: 21 | D7: =B7*C7 -> 147 | E7: 33.11 | F7: 40 | G7: =ROUND(E7*F7 %,2) -> 13.24 | H7: =D7*G7 -> 1946.28 | I7: 0
A8: Maijs | B8: 7 | C8: 21 | D8: =B8*C8 -> 147 | E8: 33.11 | F8: 40 | G8: =ROUND(E8*F8 %,2) -> 13.24 | H8: =D8*G8 -> 1946.28 | I8: 0
A9: Jūnijs | B9: 7 | C9: 19 | D9: =B9*C9 -> 133 | E9: 33.11 | F9: 40 | G9: =ROUND(E9*F9 %,2) -> 13.24 | H9: =D9*G9 -> 1760.92 | I9: 0
A10: Jūlijs | B10: 7 | C10: 23 | D10: =B10*C10 -> 161 | E10: 33.11 | F10: 40 | G10: =ROUND(E10*F10 %,2) -> 13.24 | H10: =D10*G10 -> 2131.64 | I10: 0
A11: Augusts | B11: 7 | C11: 22 | D11: =B11*C11 -> 154 | E11: 33.11 | F11: 40 | G11: =ROUND(E11*F11 %,2) -> 13.24 | H11: =D11*G11 -> 2038.96 | I11: 0
A12: Septembris | B12: 7 | C12: 21 | D12: =B12*C12 -> 147 | E12: 33.11 | F12: 40 | G12: =ROUND(E12*F12 %,2) -> 13.24 | H12: =D12*G12 -> 1946.28 | I12: 0
A13: Oktobris, līdz 11.10. | B13: 7 | C13: 9 | D13: =B13*C13 -> 63 | E13: 33.11 | F13: 40 | G13: =ROUND(E13*F13 %,2) -> 13.24 | H13: =D13*G13 -> 834.12 | I13: =SUM(H4:H12) -> 13623.96
A14: Oktobris no 12.10. | B14: 7 | C14: 14 | D14: =B14*C14 -> 98 | E14: 33.11 | F14: 20 | G14: =ROUND(E14*F14 %,2) -> 6.62 | H14: =D14*G14 -> 648.76
A15: Novembris | B15: 7 | C15: 20 | D15: =B15*C15 -> 140 | E15: 33.11 | F15: 20 | G15: =ROUND(E15*F15 %,2) -> 6.62 | H15: =D15*G15 -> 926.8 | I15: =H13+H14 -> 1482.88
A16: Decembris | B16: 7 | C16: 18 | D16: =B16*C16 -> 126 | E16: 33.11 | F16: 20 | G16: =ROUND(E16*F16 %,2) -> 6.62 | H16: =D16*G16 -> 834.12 | I16: =H15 -> 926.8
A17: kopā | B17: x | C17: =SUM(C4:C16) -> 251 | D17: =SUM(D4:D16) -> 1456 | E17: x | F17: x | H17: =SUM(H4:H16) -> 16867.76 | I17: =SUM(I4:I16) -> 16033.64
B19: 2025.g.
A20: Viļaka DAC Balvu nov. reģ.d.12.10.2021. | B20: Klientu sk. | C20: Darba dienu skaits mēnesī | D20: Klientu dienu sk. | E20: Kl.dienas cena, euro | F20: Valsts līdzfinansējuma% 2025.g. | G20: Valsts līdzifnansējuma klientu dienas cena, euro | H20: Valsts līdzfinansējums, euro | I20: Naudas plūsma, euro | J20: Plāns
A21: Janvaris | B21: 8 | C21: 22 | D21: =B21*C21 -> 176 | E21: 33.11 | F21: 20 | G21: =ROUND(E21*F21 %,2) -> 6.62 | H21: =D21*G21 -> 1165.12 | I21: =H16 -> 834.12 | J21: Plāns
A22: Februāris | B22: 8 | C22: 20 | D22: =B22*C22 -> 160 | E22: 33.11 | F22: 20 | G22: =ROUND(E22*F22 %,2) -> 6.62 | H22: =D22*G22 -> 1059.2 | I22: =H21 -> 1165.12
A23: Marts | B23: 8 | C23: 21 | D23: =B23*C23 -> 168 | E23: 33.11 | F23: 20 | G23: =ROUND(E23*F23 %,2) -> 6.62 | H23: =D23*G23 -> 1112.16 | I23: =H22 -> 1059.2
A24: Aprīlis | B24: 8 | C24: 20 | D24: =B24*C24 -> 160 | E24: 33.11 | F24: 20 | G24: =ROUND(E24*F24 %,2) -> 6.62 | H24: =D24*G24 -> 1059.2 | I24: =H23 -> 1112.16
A25: Maijs | B25: 8 | C25: 20 | D25: =B25*C25 -> 160 | E25: 33.11 | F25: 20 | G25: =ROUND(E25*F25 %,2) -> 6.62 | H25: =D25*G25 -> 1059.2 | I25: =H24 -> 1059.2
A26: Jūnijs | B26: 8 | C26: 19 | D26: =B26*C26 -> 152 | E26: 33.11 | F26: 20 | G26: =ROUND(E26*F26 %,2) -> 6.62 | H26: =D26*G26 -> 1006.24 | I26: =H25 -> 1059.2
A27: Jūlijs | B27: 8 | C27: 23 | D27: =B27*C27 -> 184 | E27: 33.11 | F27: 20 | G27: =ROUND(E27*F27 %,2) -> 6.62 | H27: =D27*G27 -> 1218.08 | I27: =H26 -> 1006.24
A28: Augusts | B28: 8 | C28: 21 | D28: =B28*C28 -> 168 | E28: 33.11 | F28: 20 | G28: =ROUND(E28*F28 %,2) -> 6.62 | H28: =D28*G28 -> 1112.16 | I28: =H27 -> 1218.08
A29: Septembris | B29: 8 | C29: 22 | D29: =B29*C29 -> 176 | E29: 33.11 | F29: 20 | G29: =ROUND(E29*F29 %,2) -> 6.62 | H29: =D29*G29 -> 1165.12 | I29: =H28 -> 1112.16
A30: Oktobris, līdz 11.10. | B30: 8 | C30: 8 | D30: =B30*C30 -> 64 | E30: 33.11 | F30: 20 | G30: =ROUND(E30*F30 %,2) -> 6.62 | H30: =D30*G30 -> 423.68 | I30: =H29 -> 1165.12
A31: Novembris | D31: =B31*C31 -> 0 | H31: =D31*G31 -> 0 | I31: =H30 -> 423.68
A32: Decembris | D32: =B32*C32 -> 0 | H32: =D32*G32 -> 0 | I32: =H31 -> 0
A33: kopā | B33: x | C33: =SUM(C21:C32) -> 196 | D33: =SUM(D21:D32) -> 1568 | E33: x | F33: x | H33: =SUM(H21:H32) -> 10380.16 | I33: =SUM(I21:I32) -> 11214.28

Sheet 22
B2: 2024.g.
A3: Cerību spārni_Bauska_13.06.2024. | B3: Klientu sk. | C3: Darba dienu skaits mēnesī | D3: Klientu dienu sk. | E3: Kl.dienas cena, euro | F3: Valsts līdzfinansējuma% 2024.g. | G3: Valsts līdzifnansējuma klientu dienas cena, euro | H3: Valsts līdzfinansējums, euro | I3: Naudas plūsma, euro | J3: Plāns
A4: Janvaris | C4: 22 | J4: Plāns
A5: Februāris | C5: 21
A6: Marts | C6: 20
A7: Aprīlis | C7: 21
A8: Maijs | C8: 21
A9: Jūnijs, līdz 12.06. | C9: 8
A10: Jūnijs no (13.06.) | B10: 13 | C10: 11 | D10: =B10*C10 -> 143 | E10: 34.41 | F10: 80 | G10: =ROUND(E10*F10 %,2) -> 27.53 | H10: =D10*G10 -> 3936.79 | I10: =H8 -> 0
A11: Jūlijs | B11: 13 | C11: ='darba dienas'!H3 -> 23 | D11: =B11*C11 -> 299 | E11: 34.41 | F11: 80 | G11: =ROUND(E11*F11 %,2) -> 27.53 | H11: =D11*G11 -> 8231.47 | I11: 0
A12: Augusts | B12: 13 | C12: 22 | D12: =B12*C12 -> 286 | E12: 34.41 | F12: 80 | G12: =ROUND(E12*F12 %,2) -> 27.53 | H12: =D12*G12 -> 7873.58 | I12: 0
A13: Septembris | B13: 13 | C13: 21 | D13: =B13*C13 -> 273 | E13: 34.41 | F13: 80 | G13: =ROUND(E13*F13 %,2) -> 27.53 | H13: =D13*G13 -> 7515.69 | I13: 0
A14: Oktobris | B14: 13 | C14: 23 | D14: =B14*C14 -> 299 | E14: 34.41 | F14: 80 | G14: =ROUND(E14*F14 %,2) -> 27.53 | H14: =D14*G14 -> 8231.47 | I14: =SUM(H10:H13) -> 27557.53
A15: Novembris | B15: 13 | C15: 20 | D15: =B15*C15 -> 260 | E15: 34.41 | F15: 80 | G15: =ROUND(E15*F15 %,2) -> 27.53 | H15: =D15*G15 -> 7157.8 | I15: =H14 -> 8231.47
A16: Decembris | B16: 13 | C16: 18 | D16: =B16*C16 -> 234 | E16: 34.41 | F16: 80 | G16: =ROUND(E16*F16 %,2) -> 27.53 | H16: =D16*G16 -> 6442.02 | I16: =H15 -> 7157.8
A17: kopā | B17: x | C17: =SUM(C4:C16) -> 251 | D17: =SUM(D4:D16) -> 1794 | E17: x | F17: x | G17: x | H17: =SUM(H4:H16) -> 49388.82 | I17: =SUM(I4:I16) -> 42946.8
B19: 2025.g.
A20: Cerību spārni_Bauska_13.06.2024. | B20: Klientu sk. | C20: Darba dienu skaits mēnesī | D20: Klientu dienu sk. | E20: Kl.dienas cena, euro | F20: Valsts līdzfinansējuma% 2025.g. | G20: Valsts līdzifnansējuma klientu dienas cena, euro | H20: Valsts līdzfinansējums, euro | I20: Naudas plūsma, euro | J20: Plāns
A21: Janvaris | B21: 21 | C21: 22 | D21: =B21*C21 -> 462 | E21: 34.41 | F21: 80 | G21: =ROUND(E21*F21 %,2) -> 27.53 | H21: =D21*G21 -> 12718.86 | I21: =H16 -> 6442.02 | J21: Plāns
A22: Februāris | B22: 21 | C22: 20 | D22: =B22*C22 -> 420 | E22: 34.41 | F22: 80 | G22: =ROUND(E22*F22 %,2) -> 27.53 | H22: =D22*G22 -> 11562.6 | I22: =H21 -> 12718.86
A23: Marts | B23: 21 | C23: 21 | D23: =B23*C23 -> 441 | E23: 34.41 | F23: 80 | G23: =ROUND(E23*F23 %,2) -> 27.53 | H23: =D23*G23 -> 12140.73 | I23: =H22 -> 11562.6
A24: Aprīlis | B24: 21 | C24: ='darba dienas'!E4 -> 20 | D24: =B24*C24 -> 420 | E24: 34.41 | F24: 80 | G24: =ROUND(E24*F24 %,2) -> 27.53 | H24: =D24*G24 -> 11562.6 | I24: =H23 -> 12140.73
A25: Maijs | B25: 21 | C25: 20 | D25: =B25*C25 -> 420 | E25: 34.41 | F25: 80 | G25: =ROUND(E25*F25 %,2) -> 27.53 | H25: =D25*G25 -> 11562.6 | I25: =H24 -> 11562.6
