Workbook

Sheet Pielikums_DAC
E1: 9.pielikums
B2: Tiesību akta projekta "Par apropriācijas pārdali neatliekamu un nozīmīgu pasākumu īstenošanai labklājības nozarē" anotācijai
A4: Valsts līdzfinansējums DAC 2024. gadā
A5: N.p.k. | B5: Dienas aprūpes centrs | C5: Darbības uzsākāsanas datums | D5: EKK | E5: Nepieciešamā finansējuma plāns pēc naudas plūsmas
E6: 2024.g. | F6: 2025.g. | G6: 2026.g. | H6: 2027.g. | I6: 2028.g.* | J6: Kopā
A7: 1 | B7: Biedrība "Nepaliec viens" DAC "Atver durvis Betānijā" | C7: 06.11.2023. | D7: 3000 | E7: ='1'!I17 -> 101142 | F7: ='1'!I34 -> 109926 | G7: ='1'!I51 -> 74052 | H7: ='1'!I68 -> 35955 | J7: =SUM(E7:I7) -> 321075 | K7: jau esošie DAC
A8: 2 | B8: Biedrība "Latvijas Samariešu apvienība" DAC Žubītes | C8: 01.08.2021. | D8: 3000 | E8: ='2'!I16 -> 40273.09 | F8: ='2'!I33 -> 23141.14 | J8: =SUM(E8:I8) -> 63414.23
A9: 3 | B9: Svētā Jāņa palīdzība (DAC Duntes Ozoli) | C9: 01.01.2021. | D9: 3000 | E9: ='3'!I16 -> 39213.78 | F9: ='3'!I32 -> 2637 | J9: =SUM(E9:I9) -> 41850.78
A10: 4 | B10: Salaspils Sociālo pakalpojumu centrs | C10: 10.09.2021. | D10: 7000 | E10: ='4'!O17 -> 40396.43 | F10: ='4'!O35 -> 19433.7 | J10: =SUM(E10:I10) -> 59830.13
A11: 5 | B11: Rēzeknes SD pārvaldes daudzfunkcionālais sociālo pakalpojumu centrs | C11: 01.09.2021. | D11: 7000 | E11: ='5'!I16 -> 28303.19 | F11: ='5'!I32 -> 13381.19 | J11: =SUM(E11:I11) -> 41684.38
A12: 6 | B12: Kuldīgas SD DAC | C12: 17.01.2024. | D12: 7000 | E12: ='6'!I16 -> 25260.3 | F12: ='6'!I35 -> 23325.84 | G12: ='6'!I52 -> 17255.79 | H12: ='6'!I69 -> 9867.38 | I12: ='6'!I86 -> 1037.93 | J12: =SUM(E12:I12) -> 76747.24
A13: 7 | B13: "Rūpju Bērns" DAC "Pērle" (Cēsis) | C13: 01.01.2022. | D13: 3000 | E13: ='7'!I16 -> 58770.42 | F13: ='7'!I32 -> 37830.33 | G13: ='7'!I48 -> 2684.13 | J13: =SUM(E13:I13) -> 99284.88
A14: 8 | B14: Ādažu ūdensroze | C14: 01.07.2022. | D14: 7000 | E14: ='8'!O16 -> 48381.3 | F14: ='8'!O31 -> 32830.66 | G14: ='8'!O48 -> 12098.24 | J14: =SUM(E14:I14) -> 93310.2
A15: 9 | B15: Cerību spārni_Smiltenes DAC | C15: 22.01.2024. | D15: 3000 | E15: ='9'!P16 -> 83305.08 | F15: ='9'!P34 -> 79160.13 | G15: ='9'!P52 -> 53715.54 | H15: ='9'!P69 -> 28500.24 | I15: ='9'!P75 -> 3590.25 | J15: =SUM(E15:I15) -> 248271.24
A16: 10 | B16: Ludzas SD_DAC Kārsava | C16: 01.07.2021. | D16: 7000 | E16: ='10'!O16 -> 7623.02 | F16: ='10'!O31 -> 3764.11 | J16: =SUM(E16:I16) -> 11387.13
A17: 11 | B17: Ludzas SD_DAC Ludzā | C17: 20.07.2020. | D17: 7000 | E17: ='11'!I17 -> 4400.33 | J17: =SUM(E17:I17) -> 4400.33
A18: 12 | B18: LSA_Mazsalacas DAC | C18: 01.03.2022. | D18: 3000 | E18: ='12'!O17 -> 12576.56 | F18: ='12'!O33 -> 8768.73 | G18: ='12'!O49 -> 1673.83 | J18: =SUM(E18:I18) -> 23019.12
A19: 13 | B19: LSA_DAC Laiva_Rūjiena | C19: 01.11.2022. | D19: 3000 | E19: ='13'!O18 -> 34138.17 | F19: ='13'!O34 -> 29582.67 | G19: ='13'!O50 -> 6502.08 | J19: =SUM(E19:I19) -> 70222.92
A20: 14 | B20: LSA_DAC_Valmiera_ SOLIS | C20: 01.01.2024. | D20: 3000 | E20: ='14'!O17 -> 35355.16 | F20: ='14'!O33 -> 38109.48 | G20: ='14'!O49 -> 26384.79 | H20: ='14'!O65 -> 13772.82 | I20: ='14'!O81 -> 1067.22 | J20: =SUM(E20:I20) -> 114689.47
A21: 15 | B21: Cerību spārni_Mālpils | C21: 16.08.2022. | D21: 3000 | E21: ='15'!I17 -> 20691.16 | F21: ='15'!I35 -> 8234.78 | G21: ='15'!I51 -> 3003.84 | J21: =SUM(E21:I21) -> 31929.78
A22: 16 | B22: DSPC_Balvi | C22: 27.04.2021. | D22: 7000 | E22: ='16'!I17 -> 10894.28 | F22: ='16'!I34 -> 3797.41 | J22: =SUM(E22:I22) -> 14691.69
A23: 17 | B23: Skrudalienas DAC_Augšdaugava | C23: 21.11.2022. | D23: 7000 | E23: ='17'!I17 -> 37268.75 | F23: ='17'!I34 -> 32547.3 | G23: ='17'!I51 -> 16287 | J23: =SUM(E23:I23) -> 86103.05
A24: 18 | B24: Cēsu SD DAC Priekuļi | C24: 01.05.2021. | D24: 7000 | E24: ='18'!I16 -> 15031.17 | F24: ='18'!I32 -> 7172.16 | J24: =SUM(E24:I24) -> 22203.33
A25: 19 | B25: Cerību spārni_Spāre_Cēsis | C25: 17.07.2021. | D25: 3000 | E25: ='19'!I17 -> 13078 | F25: ='19'!I33 -> 6864 | J25: =SUM(E25:I25) -> 19942
A26: 20 | B26: Bauskas Vecumnieku DAC Sarkanā skola | C26: 05.05.2022. | D26: 7000 | E26: ='20'!I17 -> 52188.72 | F26: ='20'!I34 -> 43085.3 | G26: ='20'!I50 -> 12905.9 | J26: =SUM(E26:I26) -> 108179.92
A27: 21 | B27: Viļakas DAC Balvu nov. | C27: 12.10.2021. | D27: 7000 | E27: ='21'!I17 -> 16033.64 | F27: ='21'!I33 -> 11214.28 | J27: =SUM(E27:I27) -> 27247.92
A28: 22 | B28: Cerību spārni Bauska, fakt.uzsāk darb. 13.06.2024. | C28: 13.06.2024. | D28: 3000 | E28: ='22'!I17 -> 42946.8 | F28: ='22'!I34 -> 122363.28 | G28: ='22'!I51 -> 91339.08 | H28: ='22'!I68 -> 55480.32 | I28: ='22'!I85 -> 19215.84 | J28: =SUM(E28:I28) -> 331345.32
A29: 23 | B29: Brīnumiņš Talsi, fakt.uzsāk.darb.. 01.06.2023. | C29: 09.05.2023. | D29: 3000 | E29: ='23'!I16 -> 30136.32 | F29: ='23'!I33 -> 57800.52 | G29: ='23'!I50 -> 36493.2 | H29: ='23'!I66 -> 10496.7 | J29: =SUM(E29:I29) -> 134926.74 | L29: Budžetā | M29: Starpība
A30: 24 | B30: Atbalsta centrs ģimenēm ar bērniem ar īpašām vajadzībām Cimdiņš. | C30: 15.03.2021. | D30: 3000 | E30: ='24'!I16 -> 7492.32 | F30: ='24'!I32 -> 12790.8 | J30: =SUM(E30:I30) -> 20283.12
A31: 25 | B31: Cerību spārni_Iecava | C31: 02.09.2024. | D31: 3000 | E31: ='25'!O17 -> 24124.8 | F31: ='25'!O33 -> 97697.16 | G31: ='25'!O49 -> 84712.75 | H31: ='25'!O65 -> 54750 | I31: ='25'!O81 -> 23625 | J31: =SUM(E31:I31) -> 284909.71
B32: kopā | E32: =ROUND(SUM(E7:E31),0) -> 829025 | F32: =SUM(F7:F31) -> 825457.97 | G32: =SUM(G7:G31) -> 439108.17 | H32: =SUM(H7:H31) -> 208822.46 | I32: =SUM(I7:I31) -> 48536.24 | J32: =SUM(J7:J31) -> 2350949.6 | L32: =L35+L36 -> 103420 | M32: =M35+M36 -> 725605
A33: * norēķini par iepriekšējā gada decembrī sniegto pakalpojumu un 2028.g.janvāri
D35: 3000 | E35: =ROUND(E7+E8+E9+E13+E15+E18+E19+E20+E21+E25+E28+E29+E30+E31,0) -> 543244 | F35: =F7+F8+F9+F13+F15+F18+F19+F20+F21+F25+F28+F29 -> 524418.06 | G35: =G7+G8+G9+G13+G15+G18+G19+G20+G21+G25+G28+G29 -> 295848.49 | H35: =H7+H8+H9+H13+H15+H18+H19+H20+H21+H25+H28+H29 -> 144205.08 | I35: =I7+I8+I9+I13+I15+I18+I19+I20+I21+I25+I28+I29 -> 23873.31 | J35: =J7+J8+J9+J13+J15+J18+J19+J20+J21+J25+J28+J29 -> 1499971.5 | L35: 103420 | M35: =E35-L35 -> 439824
D36: 7000 | E36: =ROUND(E10+E11+E12+E14+E16+E17+E22+E23+E24+E26+E27,0) -> 285781 | F36: =F10+F11+F12+F14+F16+F17+F22+F23+F24+F26+F27 -> 190551.95 | G36: =G10+G11+G12+G14+G16+G17+G22+G23+G24+G26+G27 -> 58546.93 | H36: =H10+H11+H12+H14+H16+H17+H22+H23+H24+H26+H27 -> 9867.38 | I36: =I10+I11+I12+I14+I16+I17+I22+I23+I24+I26+I27 -> 1037.93 | J36: =J10+J11+J12+J14+J16+J17+J22+J23+J24+J26+J27 -> 545785.32 | L36: 0 | M36: =E36-L36 -> 285781
A44: Marika Baumgarte
A45: Labklājības ministrija
A46: Finanšu vadības departaments
A47: Tālr. 67 021 674
A48: marika.baumgarte@lm.gov.lv
A51: Sandra Strēle
...

Sheet 1
B2: 2024.g.
A3: Biedrība ""Nepaliec viens" DAC "Atver durvis Betānijā" reģ. 06.11.2023. | B3: Klientu sk. | C3: Darba dienu skaits mēnesī | D3: Klientu dienu sk. | E3: Kl.dienas cena, euro | F3: Valsts līdzfinansējuma% 2024.g. | G3: Valsts līdzifnansējuma klientu dienas cena, euro | H3: Valsts līdzfinansējums, euro | I3: Naudas plūsma, euro | J3: Fakts/ Plāns
A4: Janvaris | B4: 11 | C4: 22 | D4: 150 | E4: 45 | F4: 80 | G4: =ROUND(E4*F4%,2) -> 36 | H4: =D4*G4 -> 5400 | I4: 4356 | J4: Fakts
A5: Februāris | B5: 10 | C5: 21 | D5: 157 | E5: 45 | F5: 80 | G5: =ROUND(E5*F5%,2) -> 36 | H5: =D5*G5 -> 5652 | I5: =H4 -> 5400
A6: Marts | B6: 12 | C6: 20 | D6: 178 | E6: 45 | F6: 80 | G6: =ROUND(E6*F6%,2) -> 36 | H6: =D6*G6 -> 6408 | I6: =H5 -> 5652
A7: Aprīlis | B7: 10 | C7: 21 | D7: 177 | E7: 45 | F7: 80 | G7: =ROUND(E7*F7%,2) -> 36 | H7: =D7*G7 -> 6372 | I7: =H6 -> 6408
A8: Maijs | B8: 9 | C8: 21 | D8: 174 | E8: 45 | F8: 80 | G8: =ROUND(E8*F8%,2) -> 36 | H8: =D8*G8 -> 6264 | I8: =H7 -> 6372
A9: Jūnijs | B9: 16 | C9: 19 | D9: 285 | E9: 45 | F9: 80 | G9: =ROUND(E9*F9%,2) -> 36 | H9: =D9*G9 -> 10260 | I9: =H8 -> 6264
A10: Jūlijs | B10: 18 | C10: 23 | D10: 364 | E10: 45 | F10: 80 | G10: =ROUND(E10*F10%,2) -> 36 | H10: =D10*G10 -> 13104 | I10: =H9 -> 10260
A11: Augusts | B11: 18 | C11: 22 | D11: 367 | E11: 45 | F11: 80 | G11: =ROUND(E11*F11%,2) -> 36 | H11: =D11*G11 -> 13212 | I11: =H10 -> 13104
A12: Septembris | B12: 14 | C12: 21 | D12: =B12*C12 -> 294 | E12: 45 | F12: 80 | G12: =ROUND(E12*F12%,2) -> 36 | H12: =D12*G12 -> 10584 | I12: =H11 -> 13212 | J12: Plāns
A13: Oktobris | B13: 14 | C13: 23 | D13: =B13*C13 -> 322 | E13: 45 | F13: 80 | G13: =ROUND(E13*F13%,2) -> 36 | H13: =D13*G13 -> 11592 | I13: =H12 -> 10584
A14: Novembris līdz 05.11. | B14: 14 | C14: 3 | D14: =B14*C14 -> 42 | E14: 45 | F14: 80 | G14: =ROUND(E14*F14%,2) -> 36 | H14: =D14*G14 -> 1512 | I14: =H13 -> 11592
A15: Novembris, no 06.11. | B15: 14 | C15: 17 | D15: =B15*C15 -> 238 | E15: 45 | F15: 60 | G15: =ROUND(E15*F15%,2) -> 27 | H15: =D15*G15 -> 6426
A16: Decembris | B16: 14 | C16: 18 | D16: =B16*C16 -> 252 | E16: 45 | F16: 60 | G16: =ROUND(E16*F16%,2) -> 27 | H16: =D16*G16 -> 6804 | I16: =H14+H15 -> 7938
A17: kopā | B17: x | C17: =SUM(C4:C16) -> 251 | D17: =SUM(D4:D16) -> 3000 | E17: x | F17: x | G17: x | H17: =SUM(H4:H16) -> 103590 | I17: =SUM(I4:I16) -> 101142
B19: 2025.g.
A20: Biedrība ""Nepaliec viens" DAC "Atver durvis Betānijā" reģ. 06.11.2023. | B20: Klientu sk. | C20: Darba dienu skaits mēnesī | D20: Klientu dienu sk. | E20: Kl.dienas cena, euro | F20: Valsts līdzfinansējuma% 2025.g. | G20: Valsts līdzifnansējuma klientu dienas cena, euro | H20: Valsts līdzfinansējums, euro | I20: Naudas plūsma, euro | J20: Fakts/ Plāns
A21: Janvaris | B21: 17 | C21: 22 | D21: =B21*C21 -> 374 | E21: 45 | F21: 60 | G21: =ROUND(E21*F21%,2) -> 27 | H21: =D21*G21 -> 10098 | I21: =H16 -> 6804 | J21: Plāns
A22: Februāris | B22: 17 | C22: 20 | D22: =B22*C22 -> 340 | E22: 45 | F22: 60 | G22: =ROUND(E22*F22%,2) -> 27 | H22: =D22*G22 -> 9180 | I22: =H21 -> 10098
A23: Marts | B23: 17 | C23: 21 | D23: =B23*C23 -> 357 | E23: 45 | F23: 60 | G23: =ROUND(E23*F23%,2) -> 27 | H23: =D23*G23 -> 9639 | I23: =H22 -> 9180
A24: Aprīlis | B24: 17 | C24: 20 | D24: =B24*C24 -> 340 | E24: 45 | F24: 60 | G24: =ROUND(E24*F24%,2) -> 27 | H24: =D24*G24 -> 9180 | I24: =H23 -> 9639
A25: Maijs | B25: 17 | C25: 20 | D25: =B25*C25 -> 340 | E25: 45 | F25: 60 | G25: =ROUND(E25*F25%,2) -> 27 | H25: =D25*G25 -> 9180 | I25: =H24 -> 9180
A26: Jūnijs | B26: 17 | C26: 19 | D26: =B26*C26 -> 323 | E26: 45 | F26: 60 | G26: =ROUND(E26*F26%,2) -> 27 | H26: =D26*G26 -> 8721 | I26: =H25 -> 9180
A27: Jūlijs | B27: 17 | C27: 23 | D27: =B27*C27 -> 391 | E27: 45 | F27: 60 | G27: =ROUND(E27*F27%,2) -> 27 | H27: =D27*G27 -> 10557 | I27: =H26 -> 8721
A28: Augusts | B28: 17 | C28: 21 | D28: =B28*C28 -> 357 | E28: 45 | F28: 60 | G28: =ROUND(E28*F28%,2) -> 27 | H28: =D28*G28 -> 9639 | I28: =H27 -> 10557
A29: Septembris | B29: 17 | C29: 22 | D29: =B29*C29 -> 374 | E29: 45 | F29: 60 | G29: =ROUND(E29*F29%,2) -> 27 | H29: =D29*G29 -> 10098 | I29: =H28 -> 9639
A30: Oktobris | B30: 17 | C30: 23 | D30: =B30*C30 -> 391 | E30: 45 | F30: 60 | G30: =ROUND(E30*F30%,2) -> 27 | H30: =D30*G30 -> 10557 | I30: =H29 -> 10098
A31: Novembris līdz 05.11. | B31: 17 | C31: 3 | D31: =B31*C31 -> 51 | E31: 45 | F31: 60 | G31: =ROUND(E31*F31%,2) -> 27 | H31: =D31*G31 -> 1377 | I31: =H30 -> 10557
A32: Novembris no 06.11. | B32: 17 | C32: 16 | D32: =B32*C32 -> 272 | E32: 45 | F32: 40 | G32: =ROUND(E32*F32%,2) -> 18 | H32: =D32*G32 -> 4896
A33: Decembris | B33: 17 | C33: 19 | D33: =B33*C33 -> 323 | E33: 45 | F33: 40 | G33: =ROUND(E33*F33%,2) -> 18 | H33: =D33*G33 -> 5814 | I33: =H31+H32 -> 6273
A34: kopā | B34: x | C34: =SUM(C21:C33) -> 249 | D34: =SUM(D21:D33) -> 4233 | E34: x | F34: x | G34: x | H34: =SUM(H21:H33) -> 108936 | I34: =SUM(I21:I33) -> 109926
B36: 2026.g.
A37: Biedrība ""Nepaliec viens" DAC "Atver durvis Betānijā" reģ. 06.11.2023. | B37: Klientu sk. | C37: Darba dienu skaits mēnesī | D37: Klientu dienu sk. | E37: Kl.dienas cena, euro | F37: Valsts līdzfinansējuma% 2026.g. | G37: Valsts līdzifnansējuma klientu dienas cena, euro | H37: Valsts līdzfinansējums, euro | I37: Naudas plūsma, euro | J37: Fakts/ Plāns
A38: Janvaris | B38: 17 | C38: 21 | D38: =B38*C38 -> 357 | E38: 45 | F38: 40 | G38: =ROUND(E38*F38%,2) -> 18 | H38: =D38*G38 -> 6426 | I38: =H33 -> 5814 | J38: Plāns
A39: Februāris | B39: 17 | C39: 20 | D39: =B39*C39 -> 340 | E39: 45 | F39: 40 | G39: =ROUND(E39*F39%,2) -> 18 | H39: =D39*G39 -> 6120 | I39: =H38 -> 6426
A40: Marts | B40: 17 | C40: 22 | D40: =B40*C40 -> 374 | E40: 45 | F40: 40 | G40: =ROUND(E40*F40%,2) -> 18 | H40: =D40*G40 -> 6732 | I40: =H39 -> 6120
A41: Aprīlis | B41: 17 | C41: 21 | D41: =B41*C41 -> 357 | E41: 45 | F41: 40 | G41: =ROUND(E41*F41%,2) -> 18 | H41: =D41*G41 -> 6426 | I41: =H40 -> 6732
A42: Maijs | B42: 17 | C42: 19 | D42: =B42*C42 -> 323 | E42: 45 | F42: 40 | G42: =ROUND(E42*F42%,2) -> 18 | H42: =D42*G42 -> 5814 | I42: =H41 -> 6426
A43: Jūnijs | B43: 17 | C43: 20 | D43: =B43*C43 -> 340 | E43: 45 | F43: 40 | G43: =ROUND(E43*F43%,2) -> 18 | H43: =D43*G43 -> 6120 | I43: =H42 -> 5814
...

Sheet 2
B2: 2024.g.
A3: Biedrība "Samarieši" DAC "Žubītes" reģ. 01.08.2021. | B3: Klientu sk. | C3: Darba dienu skaits mēnesī | D3: Klientu dienu sk. | E3: Kl.dienas cena, euro | F3: Valsts līdzfinansējuma% 2024.g. | G3: Valsts līdzifnansējuma klientu dienas cena, euro | H3: Valsts līdzfinansējums, euro | I3: Naudas plūsma, euro | J3: Fakts/ Plāns
A4: Janvaris | B4: 17 | C4: 22 | D4: 320 | E4: 29.32 | F4: 40 | G4: =ROUND(E4*F4 %,2) -> 11.73 | H4: =D4*G4 -> 3753.6 | I4: 3026.34 | J4: Fakts
A5: Februāris | B5: 18 | C5: 21 | D5: 336 | E5: 29.32 | F5: 40 | G5: =ROUND(E5*F5 %,2) -> 11.73 | H5: =D5*G5 -> 3941.28 | I5: =H4 -> 3753.6
A6: Marts | B6: 18 | C6: 20 | D6: 343 | E6: 29.32 | F6: 40 | G6: =ROUND(E6*F6 %,2) -> 11.73 | H6: =D6*G6 -> 4023.39 | I6: =H5 -> 3941.28
A7: Aprīlis | B7: 18 | C7: 21 | D7: 354 | E7: 29.32 | F7: 40 | G7: =ROUND(E7*F7 %,2) -> 11.73 | H7: =D7*G7 -> 4152.42 | I7: =H6 -> 4023.39
A8: Maijs | B8: 19 | C8: 21 | D8: 352 | E8: 29.32 | F8: 40 | G8: =ROUND(E8*F8 %,2) -> 11.73 | H8: =D8*G8 -> 4128.96 | I8: =H7 -> 4152.42
A9: Jūnijs | B9: 17 | C9: 19 | D9: 316 | E9: 29.32 | F9: 40 | G9: =ROUND(E9*F9 %,2) -> 11.73 | H9: =D9*G9 -> 3706.68 | I9: =H8 -> 4128.96
A10: Jūlijs | B10: 17 | C10: 23 | D10: 382 | E10: 29.32 | F10: 40 | G10: =ROUND(E10*F10 %,2) -> 11.73 | H10: =D10*G10 -> 4480.86 | I10: =H9 -> 3706.68
A11: Augusts | B11: 18 | C11: 22 | D11: 394 | E11: 29.32 | F11: 20 | G11: =ROUND(E11*F11 %,2) -> 5.86 | H11: =D11*G11 -> 2308.84 | I11: =H10 -> 4480.86
A12: Septembris | B12: 18 | C12: 21 | D12: =B12*C12 -> 378 | E12: 29.32 | F12: 20 | G12: =ROUND(E12*F12 %,2) -> 5.86 | H12: =D12*G12 -> 2215.08 | I12: =H11 -> 2308.84 | J12: Plāns
A13: Oktobris | B13: 18 | C13: 23 | D13: =B13*C13 -> 414 | E13: 29.32 | F13: 20 | G13: =ROUND(E13*F13 %,2) -> 5.86 | H13: =D13*G13 -> 2426.04 | I13: =H12 -> 2215.08
A14: Novembris | B14: 18 | C14: 20 | D14: =B14*C14 -> 360 | E14: 29.32 | F14: 20 | G14: =ROUND(E14*F14 %,2) -> 5.86 | H14: =D14*G14 -> 2109.6 | I14: =H13 -> 2426.04
A15: Decembris | B15: 18 | C15: 18 | D15: =B15*C15 -> 324 | E15: 29.32 | F15: 20 | G15: =ROUND(E15*F15 %,2) -> 5.86 | H15: =D15*G15 -> 1898.64 | I15: =H14 -> 2109.6
A16: kopā | B16: x | C16: =SUM(C4:C15) -> 251 | D16: =SUM(D4:D15) -> 4273 | E16: x | F16: x | G16: x | H16: =SUM(H4:H15) -> 39145.39 | I16: =SUM(I4:I15) -> 40273.09
B18: 2025.g.
A19: Biedrība "Samarieši" DAC "Žubītes" reģ. 01.08.2021. | B19: Klientu sk. | C19: Darba dienu skaits mēnesī | D19: Klientu dienu sk. | E19: Kl.dienas cena, euro | F19: Valsts līdzfinansējuma% 2025.g. | G19: Valsts līdzifnansējuma klientu dienas cena, euro | H19: Valsts līdzfinansējums, euro | I19: Naudas plūsma, euro | J19: Fakts/ Plāns
A20: Janvaris | B20: 25 | C20: 22 | D20: =B20*C20 -> 550 | E20: 29.32 | F20: 20 | G20: =ROUND(E20*F20 %,2) -> 5.86 | H20: =D20*G20 -> 3223 | I20: =H15 -> 1898.64 | J20: Plāns
A21: Februāris | B21: 25 | C21: 20 | D21: =B21*C21 -> 500 | E21: 29.32 | F21: 20 | G21: =ROUND(E21*F21 %,2) -> 5.86 | H21: =D21*G21 -> 2930 | I21: =H20 -> 3223
A22: Marts | B22: 25 | C22: 21 | D22: =B22*C22 -> 525 | E22: 29.32 | F22: 20 | G22: =ROUND(E22*F22 %,2) -> 5.86 | H22: =D22*G22 -> 3076.5 | I22: =H21 -> 2930
A23: Aprīlis | B23: 25 | C23: 20 | D23: =B23*C23 -> 500 | E23: 29.32 | F23: 20 | G23: =ROUND(E23*F23 %,2) -> 5.86 | H23: =D23*G23 -> 2930 | I23: =H22 -> 3076.5
A24: Maijs | B24: 25 | C24: 20 | D24: =B24*C24 -> 500 | E24: 29.32 | F24: 20 | G24: =ROUND(E24*F24 %,2) -> 5.86 | H24: =D24*G24 -> 2930 | I24: =H23 -> 2930
A25: Jūnijs | B25: 25 | C25: 19 | D25: =B25*C25 -> 475 | E25: 29.32 | F25: 20 | G25: =ROUND(E25*F25 %,2) -> 5.86 | H25: =D25*G25 -> 2783.5 | I25: =H24 -> 2930
A26: Jūlijs | B26: 25 | C26: 23 | D26: =B26*C26 -> 575 | E26: 29.32 | F26: 20 | G26: =ROUND(E26*F26 %,2) -> 5.86 | H26: =D26*G26 -> 3369.5 | I26: =H25 -> 2783.5
A27: Augusts | D27: =B27*C27 -> 0 | H27: =ROUND((E27*F27 %)*D27,2) -> 0 | I27: =H26 -> 3369.5
A28: Septembris | D28: =B28*C28 -> 0 | H28: =ROUND((E28*F28 %)*D28,2) -> 0 | I28: =H27 -> 0
A29: Oktobris | D29: =B29*C29 -> 0 | H29: =ROUND((E29*F29 %)*D29,2) -> 0 | I29: =H28 -> 0
A30: Novembris līdz 05.11. | D30: =B30*C30 -> 0 | H30: =ROUND((E30*F30 %)*D30,2) -> 0 | I30: =H29 -> 0
A31: Novembris no 06.11. | D31: =B31*C31 -> 0 | H31: =ROUND((E31*F31 %)*D31,2) -> 0
A32: Decembris | D32: =B32*C32 -> 0 | H32: =ROUND((E32*F32 %)*D32,2) -> 0 | I32: =H30+H31 -> 0
A33: kopā | B33: x | C33: =SUM(C20:C32) -> 145 | D33: =SUM(D20:D32) -> 3625 | E33: x | F33: x | H33: =SUM(H20:H32) -> 21242.5 | I33: =SUM(I20:I32) -> 23141.14

Sheet 3
B2: 2024.g.
A3: Svētā Jāņa palīdzība DAC Duntes Ozoli, reģ. 01.01.2021. | B3: Klientu sk. | C3: Darba dienu skaits mēnesī | D3: Klientu dienu sk. | E3: Kl.dienas cena, euro | F3: Valsts līdzfinansējuma% 2024.g. | G3: Valsts līdzifnansējuma klientu dienas cena, euro | H3: Valsts līdzfinansējums, euro | I3: Naudas plūsma, euro | J3: Fakts/ Plāns
A4: Janvaris | B4: 26 | C4: 22 | D4: 531 | E4: 29.32 | F4: 20 | G4: =ROUND(E4*F4 %,2) -> 5.86 | H4: =D4*G4 -> 3111.66 | I4: 5301.96 | J4: Fakts
A5: Februāris | B5: 25 | C5: 21 | D5: 525 | E5: 29.32 | F5: 20 | G5: =ROUND(E5*F5 %,2) -> 5.86 | H5: =D5*G5 -> 3076.5 | I5: =H4 -> 3111.66
A6: Marts | B6: 28 | C6: 20 | D6: 500 | E6: 29.32 | F6: 20 | G6: =ROUND(E6*F6 %,2) -> 5.86 | H6: =D6*G6 -> 2930 | I6: =H5 -> 3076.5
A7: Aprīlis | B7: 25 | C7: 21 | D7: 515 | E7: 29.32 | F7: 20 | G7: =ROUND(E7*F7 %,2) -> 5.86 | H7: =D7*G7 -> 3017.9 | I7: =H6 -> 2930
A8: Maijs | B8: 25 | C8: 21 | D8: 519 | E8: 29.32 | F8: 20 | G8: =ROUND(E8*F8 %,2) -> 5.86 | H8: =D8*G8 -> 3041.34 | I8: =H7 -> 3017.9
A9: Jūnijs | B9: 25 | C9: 19 | D9: =B9*C9 -> 475 | E9: 29.32 | F9: 20 | G9: =ROUND(E9*F9 %,2) -> 5.86 | H9: =D9*G9 -> 2783.5 | I9: =H8 -> 3041.34
A10: Jūlijs | B10: 26 | C10: 23 | D10: 572 | E10: 29.32 | F10: 20 | G10: =ROUND(E10*F10 %,2) -> 5.86 | H10: =D10*G10 -> 3351.92 | I10: =H9 -> 2783.5
A11: Augusts | B11: 25 | C11: 22 | D11: =B11*C11 -> 550 | E11: 29.32 | F11: 20 | G11: =ROUND(E11*F11 %,2) -> 5.86 | H11: =D11*G11 -> 3223 | I11: =H10 -> 3351.92
A12: Septembris | B12: 25 | C12: 21 | D12: =B12*C12 -> 525 | E12: 29.32 | F12: 20 | G12: =ROUND(E12*F12 %,2) -> 5.86 | H12: =D12*G12 -> 3076.5 | I12: =H11 -> 3223 | J12: Plāns
A13: Oktobris | B13: 25 | C13: 23 | D13: =B13*C13 -> 575 | E13: 29.32 | F13: 20 | G13: =ROUND(E13*F13 %,2) -> 5.86 | H13: =D13*G13 -> 3369.5 | I13: =H12 -> 3076.5
A14: Novembris | B14: 25 | C14: 20 | D14: =B14*C14 -> 500 | E14: 29.32 | F14: 20 | G14: =ROUND(E14*F14 %,2) -> 5.86 | H14: =D14*G14 -> 2930 | I14: =H13 -> 3369.5
A15: Decembris | B15: 25 | C15: 18 | D15: =B15*C15 -> 450 | E15: 29.32 | F15: 20 | G15: =ROUND(E15*F15 %,2) -> 5.86 | H15: =D15*G15 -> 2637 | I15: =H14 -> 2930
A16: kopā | B16: x | C16: =SUM(C4:C15) -> 251 | D16: =SUM(D4:D15) -> 6237 | E16: x | F16: x | G16: x | H16: =SUM(H4:H15) -> 36548.82 | I16: =SUM(I4:I15) -> 39213.78
B18: 2025.g.
A19: Svētā Jāņa palīdzība DAC Duntes Ozoli, reģ. 01.01.2021. | B19: Klientu sk. | C19: Darba dienu skaits mēnesī | D19: Klientu dienu sk. | E19: Kl.dienas cena, euro | F19: Valsts līdzfinansējuma% 2025.g. | G19: Valsts līdzifnansējuma klientu dienas cena, euro | H19: Valsts līdzfinansējums, euro | I19: Naudas plūsma, euro | J19: Fakts/ Plāns
A20: Janvaris | D20: =B20*C20 -> 0 | H20: =ROUND((E20*F20 %)*D20,2) -> 0 | I20: =H15 -> 2637 | J20: Plāns
A21: Februāris | D21: =B21*C21 -> 0 | H21: =ROUND((E21*F21 %)*D21,2) -> 0 | I21: =H20 -> 0
A22: Marts | D22: =B22*C22 -> 0 | H22: =ROUND((E22*F22 %)*D22,2) -> 0 | I22: =H21 -> 0
A23: Aprīlis | D23: =B23*C23 -> 0 | H23: =ROUND((E23*F23 %)*D23,2) -> 0 | I23: =H22 -> 0
A24: Maijs | D24: =B24*C24 -> 0 | H24: =ROUND((E24*F24 %)*D24,2) -> 0 | I24: =H23 -> 0
A25: Jūnijs | D25: =B25*C25 -> 0 | H25: =ROUND((E25*F25 %)*D25,2) -> 0 | I25: =H24 -> 0
A26: Jūlijs | D26: =B26*C26 -> 0 | H26: =ROUND((E26*F26 %)*D26,2) -> 0 | I26: =H25 -> 0
A27: Augusts | D27: =B27*C27 -> 0 | H27: =ROUND((E27*F27 %)*D27,2) -> 0 | I27: =H26 -> 0
A28: Septembris | D28: =B28*C28 -> 0 | H28: =ROUND((E28*F28 %)*D28,2) -> 0 | I28: =H27 -> 0
A29: Oktobris | D29: =B29*C29 -> 0 | H29: =ROUND((E29*F29 %)*D29,2) -> 0 | I29: =H28 -> 0
A30: Novembris | D30: =B30*C30 -> 0 | H30: =ROUND((E30*F30 %)*D30,2) -> 0 | I30: =H29 -> 0
A31: Decembris | D31: =B31*C31 -> 0 | H31: =ROUND((E31*F31 %)*D31,2) -> 0 | I31: =H30 -> 0
A32: kopā | B32: x | C32: =SUM(C20:C31) -> 0 | D32: =SUM(D20:D31) -> 0 | E32: x | F32: x | H32: =SUM(H20:H31) -> 0 | I32: =SUM(I20:I31) -> 2637

Sheet 4
B2: 2024.g.
A3: Salaspils sociālo pakalpojumu centrs, reģ.dat. 10.09.2021. | B3: Klientu skaits kuriem ir pašaprūpes iemaņas | C3: Klientu skaits kuriem nepieciešamas atbalsts aprūpē | D3: Darba dienu skaits mēnesī | E3: Klientu dienu skaits kuriem ir pašaprūpes iemaņas | F3: Klientu dienu skaits kuriem nepieciešamas atbalsts aprūpē | G3: Kl.dienas cena ar pašaprūpes iemaņām | H3: Kl.dienas cena klientiem, kuriem nepiec.atbalsts | I3: Valsts līdzfinansējuma% 2024.g. | J3: Valsts līdzfinansējuma kl.dienas cena ar pašaprūpes iemaņām | K3: Valsts līdzfinansējuma ll.dienas cena klientiem, kuriem nepiec.atbalsts | L3: Valsts līdzfinansējums klientiem kuriem ir pašaprūpes iemaņas | M3: Valsts līdzfinansējums klientiem kuriem nepiec.atbalsts | N3: Valsts līdzfinansējums kopā | O3: Naudas plūsma | P3: Fakts/ Plāns
A4: Janvaris | B4: 17 | C4: 7 | D4: 22 | E4: 256 | F4: 63 | G4: 34.36 | H4: 40.16 | I4: 40 | J4: =ROUND(G4*I4 %,2) -> 13.74 | K4: =ROUND(H4*I4 %,2) -> 16.06 | L4: =ROUND(E4*J4,2) -> 3517.44 | M4: =ROUND(F4*K4,2) -> 1011.78 | N4: =L4+M4 -> 4529.22 | O4: 0 | P4: Fakts
A5: Februāris | B5: 15 | C5: 7 | D5: 21 | E5: 266 | F5: 74 | G5: 34.36 | H5: 40.16 | I5: 40 | J5: =ROUND(G5*I5 %,2) -> 13.74 | K5: =ROUND(H5*I5 %,2) -> 16.06 | L5: =ROUND(E5*J5,2) -> 3654.84 | M5: =ROUND(F5*K5,2) -> 1188.44 | N5: =L5+M5 -> 4843.28 | O5: 0
A6: Marts | B6: 16 | C6: 6 | D6: 20 | E6: 248 | F6: 70 | G6: 34.36 | H6: 40.16 | I6: 40 | J6: =ROUND(G6*I6 %,2) -> 13.74 | K6: =ROUND(H6*I6 %,2) -> 16.06 | L6: =ROUND(E6*J6,2) -> 3407.52 | M6: =ROUND(F6*K6,2) -> 1124.2 | N6: =L6+M6 -> 4531.72 | O6: 0
A7: Aprīlis | B7: 15 | C7: 6 | D7: 21 | E7: 183 | F7: 62 | G7: 34.36 | H7: 40.16 | I7: 40 | J7: =ROUND(G7*I7 %,2) -> 13.74 | K7: =ROUND(H7*I7 %,2) -> 16.06 | L7: =ROUND(E7*J7,2) -> 2514.42 | M7: =ROUND(F7*K7,2) -> 995.72 | N7: =L7+M7 -> 3510.14 | O7: 0
A8: Maijs | B8: 14 | C8: 7 | D8: 21 | E8: 205 | F8: 72 | G8: 34.36 | H8: 40.16 | I8: 40 | J8: =ROUND(G8*I8 %,2) -> 13.74 | K8: =ROUND(H8*I8 %,2) -> 16.06 | L8: =ROUND(E8*J8,2) -> 2816.7 | M8: =ROUND(F8*K8,2) -> 1156.32 | N8: =L8+M8 -> 3973.02 | O8: 0
A9: Jūnijs | B9: 15 | C9: 7 | D9: 19 | E9: 220 | F9: 62 | G9: 34.36 | H9: 40.16 | I9: 40 | J9: =ROUND(G9*I9 %,2) -> 13.74 | K9: =ROUND(H9*I9 %,2) -> 16.06 | L9: =ROUND(E9*J9,2) -> 3022.8 | M9: =ROUND(F9*K9,2) -> 995.72 | N9: =L9+M9 -> 4018.52 | O9: 0
A10: Jūlijs | B10: 16 | C10: 7 | D10: 23 | E10: 243 | F10: 56 | G10: 34.36 | H10: 40.16 | I10: 40 | J10: =ROUND(G10*I10 %,2) -> 13.74 | K10: =ROUND(H10*I10 %,2) -> 16.06 | L10: =ROUND(E10*J10,2) -> 3338.82 | M10: =ROUND(F10*K10,2) -> 899.36 | N10: =L10+M10 -> 4238.18 | O10: 0
A11: Augusts | B11: 15 | C11: 6 | D11: 22 | E11: 227 | F11: 47 | G11: 34.36 | H11: 40.16 | I11: 40 | J11: =ROUND(G11*I11 %,2) -> 13.74 | K11: =ROUND(H11*I11 %,2) -> 16.06 | L11: =ROUND(E11*J11,2) -> 3118.98 | M11: =ROUND(F11*K11,2) -> 754.82 | N11: =L11+M11 -> 3873.8 | O11: 0
A12: Septembris, līdz 09.09. | B12: 15 | C12: 6 | D12: 6 | E12: =ROUND(E19*D12,0) -> 66 | F12: =ROUND(F19*D12,0) -> 18 | G12: 34.36 | H12: 40.16 | I12: 40 | J12: =ROUND(G12*I12 %,2) -> 13.74 | K12: =ROUND(H12*I12 %,2) -> 16.06 | L12: =ROUND(E12*J12,2) -> 906.84 | M12: =ROUND(F12*K12,2) -> 289.08 | N12: =L12+M12 -> 1195.92 | O12: 0 | P12: Plāns
A13: Septembris, no 10.09. | B13: 15 | C13: 6 | D13: 15 | E13: =E18-E12 -> 165 | F13: =F18-F12 -> 45.25 | G13: 34.36 | H13: 40.16 | I13: 20 | J13: =ROUND(G13*I13 %,2) -> 6.87 | K13: =ROUND(H13*I13 %,2) -> 8.03 | L13: =ROUND(E13*J13,2) -> 1133.55 | M13: =ROUND(F13*K13,2) -> 363.36 | N13: =L13+M13 -> 1496.91 | O13: =SUM(N4:N11) -> 33517.88
A14: Oktobris | B14: 15 | C14: 6 | D14: 23 | E14: 231 | F14: 63 | G14: 34.36 | H14: 40.16 | I14: 20 | J14: =ROUND(G14*I14 %,2) -> 6.87 | K14: =ROUND(H14*I14 %,2) -> 8.03 | L14: =ROUND(E14*J14,2) -> 1586.97 | M14: =ROUND(F14*K14,2) -> 505.89 | N14: =L14+M14 -> 2092.86 | O14: =N12+N13 -> 2692.83
A15: Novembris | B15: 15 | C15: 6 | D15: 20 | E15: 231 | F15: 63 | G15: 34.36 | H15: 40.16 | I15: 20 | J15: =ROUND(G15*I15 %,2) -> 6.87 | K15: =ROUND(H15*I15 %,2) -> 8.03 | L15: =ROUND(E15*J15,2) -> 1586.97 | M15: =ROUND(F15*K15,2) -> 505.89 | N15: =L15+M15 -> 2092.86 | O15: =N14 -> 2092.86
A16: Decembris | B16: 15 | C16: 6 | D16: 18 | E16: 231 | F16: 63 | G16: 34.36 | H16: 40.16 | I16: 20 | J16: =ROUND(G16*I16 %,2) -> 6.87 | K16: =ROUND(H16*I16 %,2) -> 8.03 | L16: =ROUND(E16*J16,2) -> 1586.97 | M16: =ROUND(F16*K16,2) -> 505.89 | N16: =L16+M16 -> 2092.86 | O16: =N15 -> 2092.86
A17: kopā | B17: x | C17: x | D17: =SUM(D4:D16) -> 251 | E17: =SUM(E4:E16) -> 2772 | F17: =SUM(F4:F16) -> 758.25 | G17: x | H17: x | I17: x | J17: x | K17: x | L17: =SUM(L4:L16) -> 32192.82 | M17: =SUM(M4:M16) -> 10296.47 | N17: =SUM(N4:N16) -> 42489.29 | O17: =SUM(O4:O16) -> 40396.43
A18: vid.mēnesī (8 mēnešu vid.) | D18: =SUM(D4:D11)/8 -> 21.125 | E18: =SUM(E4:E11)/8 -> 231 | F18: =SUM(F4:F11)/8 -> 63.25
A19: Vid. 1 dienā | E19: =E18/D18 -> 10.934911 | F19: =F18/D18 -> 2.9940828
B20: 2025.g.
A21: Salaspils sociālo pakalpojumu centrs, reģ.dat. 10.09.2021. | B21: Klientu skaits kuriem ir pašaprūpes iemaņas | C21: Klientu skaits kuriem nepieciešamas atbalsts aprūpē | D21: Darba dienu skaits mēnesī | E21: Klientu dienu skaits kuriem ir pašaprūpes iemaņas | F21: Klientu dienu skaits kuriem nepieciešamas atbalsts aprūpē | G21: Kl.dienas cena ar pašaprūpes iemaņām | H21: Kl.dienas cena klientiem, kuriem nepiec.atbalsts | I21: Valsts līdzfinansējuma% 2025.g. | J21: Valsts līdzfinansējuma kl.dienas cena ar pašaprūpes iemaņām | K21: Valsts līdzfinansējuma ll.dienas cena klientiem, kuriem nepiec.atbalsts | L21: Valsts līdzfinansējums klientiem kuriem ir pašaprūpes iemaņas | M21: Valsts līdzfinansējums klientiem kuriem nepiec.atbalsts | N21: Valsts līdzfinansējums kopā | O21: Naudas plūsma | P21: Fakts/ Plāns
A22: Janvaris | B22: 17 | C22: 7 | D22: ='darba dienas'!B4 -> 22 | E22: 231 | F22: 63 | G22: 34.36 | H22: 40.16 | I22: 20 | J22: =ROUND(G22*I22 %,2) -> 6.87 | K22: =ROUND(H22*I22 %,2) -> 8.03 | L22: =ROUND(E22*J22,2) -> 1586.97 | M22: =ROUND(F22*K22,2) -> 505.89 | N22: =L22+M22 -> 2092.86 | O22: =N16 -> 2092.86 | P22: Plāns
A23: Februāris | B23: 15 | C23: 7 | D23: ='darba dienas'!C4 -> 20 | E23: 231 | F23: 63 | G23: 34.36 | H23: 40.16 | I23: 20 | J23: =ROUND(G23*I23 %,2) -> 6.87 | K23: =ROUND(H23*I23 %,2) -> 8.03 | L23: =ROUND(E23*J23,2) -> 1586.97 | M23: =ROUND(F23*K23,2) -> 505.89 | N23: =L23+M23 -> 2092.86 | O23: =N22 -> 2092.86
A24: Marts | B24: 16 | C24: 6 | D24: ='darba dienas'!D4 -> 21 | E24: 231 | F24: 63 | G24: 34.36 | H24: 40.16 | I24: 20 | J24: =ROUND(G24*I24 %,2) -> 6.87 | K24: =ROUND(H24*I24 %,2) -> 8.03 | L24: =ROUND(E24*J24,2) -> 1586.97 | M24: =ROUND(F24*K24,2) -> 505.89 | N24: =L24+M24 -> 2092.86 | O24: =N23 -> 2092.86
A25: Aprīlis | B25: 15 | C25: 6 | D25: ='darba dienas'!E4 -> 20 | E25: 231 | F25: 63 | G25: 34.36 | H25: 40.16 | I25: 20 | J25: =ROUND(G25*I25 %,2) -> 6.87 | K25: =ROUND(H25*I25 %,2) -> 8.03 | L25: =ROUND(E25*J25,2) -> 1586.97 | M25: =ROUND(F25*K25,2) -> 505.89 | N25: =L25+M25 -> 2092.86 | O25: =N24 -> 2092.86
A26: Maijs | B26: 14 | C26: 7 | D26: ='darba dienas'!F4 -> 20 | E26: 231 | F26: 63 | G26: 34.36 | H26: 40.16 | I26: 20 | J26: =ROUND(G26*I26 %,2) -> 6.87 | K26: =ROUND(H26*I26 %,2) -> 8.03 | L26: =ROUND(E26*J26,2) -> 1586.97 | M26: =ROUND(F26*K26,2) -> 505.89 | N26: =L26+M26 -> 2092.86 | O26: =N25 -> 2092.86
A27: Jūnijs | B27: 15 | C27: 7 | D27: ='darba dienas'!G4 -> 19 | E27: 231 | F27: 63 | G27: 34.36 | H27: 40.16 | I27: 20 | J27: =ROUND(G27*I27 %,2) -> 6.87 | K27: =ROUND(H27*I27 %,2) -> 8.03 | L27: =ROUND(E27*J27,2) -> 1586.97 | M27: =ROUND(F27*K27,2) -> 505.89 | N27: =L27+M27 -> 2092.86 | O27: =N26 -> 2092.86
A28: Jūlijs | B28: 16 | C28: 7 | D28: ='darba dienas'!H4 -> 23 | E28: 231 | F28: 63 | G28: 34.36 | H28: 40.16 | I28: 20 | J28: =ROUND(G28*I28 %,2) -> 6.87 | K28: =ROUND(H28*I28 %,2) -> 8.03 | L28: =ROUND(E28*J28,2) -> 1586.97 | M28: =ROUND(F28*K28,2) -> 505.89 | N28: =L28+M28 -> 2092.86 | O28: =N27 -> 2092.86
A29: Augusts | B29: 15 | C29: 6 | D29: ='darba dienas'!I4 -> 21 | E29: 231 | F29: 63 | G29: 34.36 | H29: 40.16 | I29: 20 | J29: =ROUND(G29*I29 %,2) -> 6.87 | K29: =ROUND(H29*I29 %,2) -> 8.03 | L29: =ROUND(E29*J29,2) -> 1586.97 | M29: =ROUND(F29*K29,2) -> 505.89 | N29: =L29+M29 -> 2092.86 | O29: =N28 -> 2092.86
A30: Septembris, līdz 09.09. | B30: 15 | C30: 6 | D30: 7 | E30: 66 | F30: 18 | G30: 34.36 | H30: 40.16 | I30: 20 | J30: =ROUND(G30*I30 %,2) -> 6.87 | K30: =ROUND(H30*I30 %,2) -> 8.03 | L30: =ROUND(E30*J30,2) -> 453.42 | M30: =ROUND(F30*K30,2) -> 144.54 | N30: =L30+M30 -> 597.96 | O30: =N29 -> 2092.86
A31: Septembris, no 10.09. | J31: =ROUND(G31*I31 %,2) -> 0 | K31: =ROUND(H31*I31 %,2) -> 0 | L31: =ROUND(E31*J31,2) -> 0 | M31: =ROUND(F31*K31,2) -> 0 | N31: =L31+M31 -> 0 | O31: =N30 -> 597.96
A32: Oktobris | J32: =ROUND(G32*I32 %,2) -> 0 | K32: =ROUND(H32*I32 %,2) -> 0 | L32: =ROUND(E32*J32,2) -> 0 | M32: =ROUND(F32*K32,2) -> 0 | N32: =L32+M32 -> 0 | O32: =N31 -> 0
A33: Novembris | J33: =ROUND(G33*I33 %,2) -> 0 | K33: =ROUND(H33*I33 %,2) -> 0 | L33: =ROUND(E33*J33,2) -> 0 | M33: =ROUND(F33*K33,2) -> 0 | N33: =L33+M33 -> 0 | O33: =N32 -> 0
A34: Decembris | J34: =ROUND(G34*I34 %,2) -> 0 | K34: =ROUND(H34*I34 %,2) -> 0 | L34: =ROUND(E34*J34,2) -> 0 | M34: =ROUND(F34*K34,2) -> 0 | N34: =L34+M34 -> 0 | O34: =N33 -> 0
A35: kopā | B35: x | C35: x | D35: =SUM(D22:D34) -> 173 | E35: =SUM(E22:E34) -> 1914 | F35: =SUM(F22:F34) -> 522 | G35: x | H35: x | I35: x | J35: x | K35: x | L35: =SUM(L22:L34) -> 13149.18 | M35: =SUM(M22:M34) -> 4191.66 | N35: =SUM(N22:N34) -> 17340.84 | O35: =SUM(O22:O34) -> 19433.7

Sheet 5
B2: 2024.g.
A3: Rēzeknes SD pārvaldes daudzfunkcionālo soc.pakalp.c. reģ. 01.09.2021. | B3: Klientu sk. | C3: Darba dienu skaits mēnesī | D3: Klientu dienu sk. | E3: Kl.dienas cena | F3: Valsts līdzfinansējuma% 2024.g. | G3: Valsts līdzifnansējuma klientu dienas cena, euro | H3: Valsts līdzfinansējums | I3: Naudas plūsma | J3: Fakts / plāns
A4: Janvaris | B4: 36 | C4: 22 | D4: 345 | E4: 23.16 | F4: 40 | G4: =ROUND(E4*F4 %,2) -> 9.26 | H4: =D4*G4 -> 3194.7 | I4: 0 | J4: Fakts
A5: Februāris | B5: 30 | C5: 21 | D5: 287 | E5: 23.16 | F5: 40 | G5: =ROUND(E5*F5 %,2) -> 9.26 | H5: =D5*G5 -> 2657.62 | I5: 0
A6: Marts | B6: 35 | C6: 20 | D6: 270 | E6: 23.16 | F6: 40 | G6: =ROUND(E6*F6 %,2) -> 9.26 | H6: =D6*G6 -> 2500.2 | I6: 0
A7: Aprīlis | B7: 34 | C7: 21 | D7: 330 | E7: 23.16 | F7: 40 | G7: =ROUND(E7*F7 %,2) -> 9.26 | H7: =D7*G7 -> 3055.8 | I7: 0
A8: Maijs | B8: 32 | C8: 21 | D8: 297 | E8: 23.16 | F8: 40 | G8: =ROUND(E8*F8 %,2) -> 9.26 | H8: =D8*G8 -> 2750.22 | I8: 0
A9: Jūnijs | B9: 33 | C9: 19 | D9: 333 | E9: 23.16 | F9: 40 | G9: =ROUND(E9*F9 %,2) -> 9.26 | H9: =D9*G9 -> 3083.58 | I9: 0
A10: Jūlijs | B10: 34 | C10: 23 | D10: 370 | E10: 23.16 | F10: 40 | G10: =ROUND(E10*F10 %,2) -> 9.26 | H10: =D10*G10 -> 3426.2 | I10: 0
A11: Augusts | B11: 33 | C11: 22 | D11: 343 | E11: 23.16 | F11: 40 | G11: =ROUND(E11*F11 %,2) -> 9.26 | H11: =D11*G11 -> 3176.18 | I11: 0
A12: Septembris | B12: 33 | C12: 21 | D12: 321 | E12: 23.16 | F12: 20 | G12: =ROUND(E12*F12 %,2) -> 4.63 | H12: =D12*G12 -> 1486.23 | I12: =SUM(H4:H11) -> 23844.5 | J12: Plāns
A13: Oktobris | B13: 33 | C13: 23 | D13: 321 | E13: 23.16 | F13: 20 | G13: =ROUND(E13*F13 %,2) -> 4.63 | H13: =D13*G13 -> 1486.23 | I13: =H12 -> 1486.23
A14: Novembris | B14: 33 | C14: 20 | D14: 321 | E14: 23.16 | F14: 20 | G14: =ROUND(E14*F14 %,2) -> 4.63 | H14: =D14*G14 -> 1486.23 | I14: =H13 -> 1486.23
A15: Decembris | B15: 33 | C15: 18 | D15: 321 | E15: 23.16 | F15: 20 | G15: =ROUND(E15*F15 %,2) -> 4.63 | H15: =D15*G15 -> 1486.23 | I15: =H14 -> 1486.23
A16: kopā | B16: x | C16: =SUM(C4:C15) -> 251 | D16: =SUM(D4:D15) -> 3859 | E16: x | F16: x | G16: x | H16: =SUM(H4:H15) -> 29789.42 | I16: =SUM(I4:I15) -> 28303.19
B18: 2025.g.
A19: Rēzeknes SD pārvaldes daudzfunkcionālo soc.pakalp.c. reģ. 01.09.2021. | B19: Klientu sk. | C19: Darba dienu skaits mēnesī | D19: Klientu dienu sk. | E19: Kl.dienas cena | F19: Valsts līdzfinansējuma% 2025.g. | G19: Valsts līdzifnansējuma klientu dienas cena, euro | H19: Valsts līdzfinansējums | I19: Naudas plūsma | J19: Plāns
A20: Janvaris | B20: 33 | C20: 22 | D20: 321 | E20: 23.16 | F20: 20 | G20: =ROUND(E20*F20 %,2) -> 4.63 | H20: =ROUND((E20*F20 %)*D20,2) -> 1486.87 | I20: =H15 -> 1486.23 | J20: Plāns
A21: Februāris | B21: 33 | C21: 20 | D21: 321 | E21: 23.16 | F21: 20 | G21: =ROUND(E21*F21 %,2) -> 4.63 | H21: =ROUND((E21*F21 %)*D21,2) -> 1486.87 | I21: =H20 -> 1486.87
A22: Marts | B22: 33 | C22: 21 | D22: 321 | E22: 23.16 | F22: 20 | G22: =ROUND(E22*F22 %,2) -> 4.63 | H22: =ROUND((E22*F22 %)*D22,2) -> 1486.87 | I22: =H21 -> 1486.87
A23: Aprīlis | B23: 33 | C23: 20 | D23: 321 | E23: 23.16 | F23: 20 | G23: =ROUND(E23*F23 %,2) -> 4.63 | H23: =ROUND((E23*F23 %)*D23,2) -> 1486.87 | I23: =H22 -> 1486.87
A24: Maijs | B24: 33 | C24: 20 | D24: 321 | E24: 23.16 | F24: 20 | G24: =ROUND(E24*F24 %,2) -> 4.63 | H24: =ROUND((E24*F24 %)*D24,2) -> 1486.87 | I24: =H23 -> 1486.87
A25: Jūnijs | B25: 33 | C25: 19 | D25: 321 | E25: 23.16 | F25: 20 | G25: =ROUND(E25*F25 %,2) -> 4.63 | H25: =ROUND((E25*F25 %)*D25,2) -> 1486.87 | I25: =H24 -> 1486.87
A26: Jūlijs | B26: 33 | C26: 23 | D26: 321 | E26: 23.16 | F26: 20 | G26: =ROUND(E26*F26 %,2) -> 4.63 | H26: =ROUND((E26*F26 %)*D26,2) -> 1486.87 | I26: =H25 -> 1486.87
A27: Augusts | B27: 33 | C27: 21 | D27: 321 | E27: 23.16 | F27: 20 | G27: =ROUND(E27*F27 %,2) -> 4.63 | H27: =ROUND((E27*F27 %)*D27,2) -> 1486.87 | I27: =H26 -> 1486.87
A28: Septembris | D28: =B28*C28 -> 0 | H28: =ROUND((E28*F28 %)*D28,2) -> 0 | I28: =H27 -> 1486.87
A29: Oktobris | D29: =B29*C29 -> 0 | H29: =ROUND((E29*F29 %)*D29,2) -> 0 | I29: =H28 -> 0
A30: Novembris | D30: =B30*C30 -> 0 | H30: =ROUND((E30*F30 %)*D30,2) -> 0 | I30: =H29 -> 0
A31: Decembris | D31: =B31*C31 -> 0 | H31: =ROUND((E31*F31 %)*D31,2) -> 0 | I31: =H30 -> 0
A32: kopā | B32: x | C32: =SUM(C20:C31) -> 166 | D32: =SUM(D20:D31) -> 2568 | E32: x | F32: x | H32: =SUM(H20:H31) -> 11894.96 | I32: =SUM(I20:I31) -> 13381.19

Sheet 6
B2: 2024.g.
A3: Kuldīgas SD DAC, reģ.dat. 17.01.2024. | B3: Klientu sk. | C3: Darba dienu skaits mēnesī | D3: Klientu dienu sk. | E3: Kl.dienas cena, euro | F3: Valsts līdzfinansējuma% 2024.g. | G3: Valsts līdzifnansējuma klientu dienas cena, euro | H3: Valsts līdzfinansējums, euro | I3: Naudas plūsma, euro | J3: Fakts / Plāns
A4: Janvaris no 17.01. | B4: 10 | C4: 22 | D4: 58 | E4: 19.13 | F4: 80 | G4: =ROUND(E4*F4 %,2) -> 15.3 | H4: =D4*G4 -> 887.4 | I4: 0 | J4: Fakts
A5: Februāris | B5: 16 | C5: 21 | D5: 203 | E5: 19.13 | F5: 80 | G5: =ROUND(E5*F5 %,2) -> 15.3 | H5: =D5*G5 -> 3105.9 | I5: 0
A6: Marts | B6: 21 | C6: 20 | D6: 206 | E6: 19.13 | F6: 80 | G6: =ROUND(E6*F6 %,2) -> 15.3 | H6: =D6*G6 -> 3151.8 | I6: 0
A7: Aprīlis | B7: 22 | C7: 21 | D7: 174 | E7: 19.13 | F7: 80 | G7: =ROUND(E7*F7 %,2) -> 15.3 | H7: =D7*G7 -> 2662.2 | I7: 0
A8: Maijs | B8: 20 | C8: 21 | D8: 161 | E8: 19.13 | F8: 80 | G8: =ROUND(E8*F8 %,2) -> 15.3 | H8: =D8*G8 -> 2463.3 | I8: 0
A9: Jūnijs | B9: 18 | C9: 19 | D9: 115 | E9: 19.13 | F9: 80 | G9: =ROUND(E9*F9 %,2) -> 15.3 | H9: =D9*G9 -> 1759.5 | I9: 0
A10: Jūlijs | B10: 20 | C10: 23 | D10: 144 | E10: 19.13 | F10: 80 | G10: =ROUND(E10*F10 %,2) -> 15.3 | H10: =D10*G10 -> 2203.2 | I10: 0
A11: Augusts | B11: 21 | C11: 22 | D11: 140 | E11: 19.13 | F11: 80 | G11: =ROUND(E11*F11 %,2) -> 15.3 | H11: =D11*G11 -> 2142 | I11: 0
A12: Septembris | B12: 18 | C12: 21 | D12: 150 | E12: 19.13 | F12: 80 | G12: =ROUND(E12*F12 %,2) -> 15.3 | H12: =D12*G12 -> 2295 | I12: =SUM(H4:H11) -> 18375.3 | J12: Plāns
A13: Oktobris | B13: 18 | C13: 23 | D13: 150 | E13: 19.13 | F13: 80 | G13: =ROUND(E13*F13 %,2) -> 15.3 | H13: =D13*G13 -> 2295 | I13: =H12 -> 2295
A14: Novembris | B14: 18 | C14: 20 | D14: 150 | E14: 19.13 | F14: 80 | G14: =ROUND(E14*F14 %,2) -> 15.3 | H14: =D14*G14 -> 2295 | I14: =H13 -> 2295
A15: Decembris | B15: 18 | C15: 18 | D15: 150 | E15: 19.13 | F15: 80 | G15: =ROUND(E15*F15 %,2) -> 15.3 | H15: =D15*G15 -> 2295 | I15: =H14 -> 2295
A16: kopā | B16: x | C16: =SUM(C4:C15) -> 251 | D16: =SUM(D4:D15) -> 1801 | E16: x | F16: x | G16: x | H16: =SUM(H4:H15) -> 27555.3 | I16: =SUM(I4:I15) -> 25260.3
A17: vid.mēnesī (8 mēnešu vid.) | C17: =AVERAGE(C4:C11) -> 21.125 | D17: =AVERAGE(D4:D11) -> 150.125
A18: Vid. 1 dienā | D18: =D17/C17 -> 7.1065089
A19: 10 % pieaug.turpm.periodam | D19: =ROUND((D17*0.1)+D17,0) -> 165
B20: 2025.g.
A21: Kuldīgas SD DAC, reģ.dat. 17.01.2024. | B21: Klientu sk. | C21: Darba dienu skaits mēnesī | D21: Klientu dienu sk. | E21: Kl.dienas cena, euro | F21: Valsts līdzfinansējuma% 2025.g. | G21: Valsts līdzifnansējuma klientu dienas cena, euro | H21: Valsts līdzfinansējums, euro | I21: Naudas plūsma, euro | J21: Fakts / Plāns
A22: Janvāris līdz 16.01. | B22: 18 | C22: 11 | D22: =ROUND($D$18*C22,0) -> 78 | E22: 19.13 | F22: 80 | G22: =ROUND(E22*F22 %,2) -> 15.3 | H22: =D22*G22 -> 1193.4 | I22: =H15 -> 2295 | J22: Plāns
A23: Janvāris no 17.01. | B23: 18 | C23: 11 | D23: =ROUND($D$18*C23,0) -> 78 | E23: 19.13 | F23: 60 | G23: =ROUND(E23*F23 %,2) -> 11.48 | H23: =D23*G23 -> 895.44
A24: Februāris | B24: 18 | C24: 20 | D24: 165 | E24: 19.13 | F24: 60 | G24: =ROUND(E24*F24 %,2) -> 11.48 | H24: =D24*G24 -> 1894.2 | I24: =H22+H23 -> 2088.84
A25: Marts | B25: 18 | C25: 21 | D25: 165 | E25: 19.13 | F25: 60 | G25: =ROUND(E25*F25 %,2) -> 11.48 | H25: =D25*G25 -> 1894.2 | I25: =H24 -> 1894.2
A26: Aprīlis | B26: 18 | C26: 20 | D26: 165 | E26: 19.13 | F26: 60 | G26: =ROUND(E26*F26 %,2) -> 11.48 | H26: =D26*G26 -> 1894.2 | I26: =H25 -> 1894.2
A27: Maijs | B27: 18 | C27: 20 | D27: 165 | E27: 19.13 | F27: 60 | G27: =ROUND(E27*F27 %,2) -> 11.48 | H27: =D27*G27 -> 1894.2 | I27: =H26 -> 1894.2
A28: Jūnijs | B28: 18 | C28: 19 | D28: 165 | E28: 19.13 | F28: 60 | G28: =ROUND(E28*F28 %,2) -> 11.48 | H28: =D28*G28 -> 1894.2 | I28: =H27 -> 1894.2
A29: Jūlijs | B29: 18 | C29: 23 | D29: 165 | E29: 19.13 | F29: 60 | G29: =ROUND(E29*F29 %,2) -> 11.48 | H29: =D29*G29 -> 1894.2 | I29: =H28 -> 1894.2
A30: Augusts | B30: 18 | C30: 21 | D30: 165 | E30: 19.13 | F30: 60 | G30: =ROUND(E30*F30 %,2) -> 11.48 | H30: =D30*G30 -> 1894.2 | I30: =H29 -> 1894.2
A31: Septembris | B31: 18 | C31: 22 | D31: 165 | E31: 19.13 | F31: 60 | G31: =ROUND(E31*F31 %,2) -> 11.48 | H31: =D31*G31 -> 1894.2 | I31: =H30 -> 1894.2
A32: Oktobris | B32: 18 | C32: 23 | D32: 165 | E32: 19.13 | F32: 60 | G32: =ROUND(E32*F32 %,2) -> 11.48 | H32: =D32*G32 -> 1894.2 | I32: =H31 -> 1894.2
A33: Novembris | B33: 18 | C33: 19 | D33: 165 | E33: 19.13 | F33: 60 | G33: =ROUND(E33*F33 %,2) -> 11.48 | H33: =D33*G33 -> 1894.2 | I33: =H32 -> 1894.2
A34: Decembris | B34: 18 | C34: 19 | D34: 165 | E34: 19.13 | F34: 60 | G34: =ROUND(E34*F34 %,2) -> 11.48 | H34: =D34*G34 -> 1894.2 | I34: =H33 -> 1894.2
A35: kopā | B35: x | C35: =SUM(C22:C34) -> 249 | D35: =SUM(D22:D34) -> 1971 | E35: x | F35: x | G35: x | H35: =SUM(H22:H34) -> 22925.04 | I35: =SUM(I22:I34) -> 23325.84
A36: 10 % pieaug.turpm.periodam | D36: =ROUND((D34*0.1)+D34,0) -> 182
B37: 2026.g.
A38: Kuldīgas SD DAC, reģ.dat. 17.01.2024. | B38: Klientu sk. | C38: Darba dienu skaits mēnesī | D38: Klientu dienu sk. | E38: Kl.dienas cena, euro | F38: Valsts līdzfinansējuma% 2026.g. | G38: Valsts līdzifnansējuma klientu dienas cena, euro | H38: Valsts līdzfinansējums, euro | I38: Naudas plūsma, euro | J38: Fakts / Plāns
A39: Janvāris līdz 16.01. | B39: 18 | C39: 11 | D39: =ROUND($D$18*C39,0) -> 78 | E39: 19.13 | F39: 60 | G39: =ROUND(E39*F39 %,2) -> 11.48 | H39: =D39*G39 -> 895.44 | I39: =H34 -> 1894.2 | J39: Plāns
A40: Janvāris no 17.01. | B40: 18 | C40: 10 | D40: =ROUND($D$18*C40,0) -> 71 | E40: 19.13 | F40: 40 | G40: =ROUND(E40*F40 %,2) -> 7.65 | H40: =D40*G40 -> 543.15
A41: Februāris | B41: 18 | C41: 20 | D41: 182 | E41: 19.13 | F41: 40 | G41: =ROUND(E41*F41 %,2) -> 7.65 | H41: =D41*G41 -> 1392.3 | I41: =H39+H40 -> 1438.59
...

Sheet 7
B2: 2024.g.
A3: Rūpju bērns DAC Pērle Cēsis, reģ.dat. 01.01.2022. | B3: Klientu sk. | C3: Darba dienu skaits mēnesī | D3: Klientu dienu sk. | E3: Kl.dienas cena, euro | F3: Valsts līdzfinansējuma% 2024.g. | G3: Valsts līdzifnansējuma klientu dienas cena, euro | H3: Valsts līdzfinansējums, euro | I3: Naudas plūsma, euro | J3: Fakts / Plāns
A4: Janvaris | B4: 18 | C4: 22 | D4: 343 | E4: 41.57 | F4: 40 | G4: =ROUND(E4*F4 %,2) -> 16.63 | H4: =D4*G4 -> 5704.09 | I4: 0 | J4: Fakts
A5: Februāris | B5: 19 | C5: 21 | D5: 341 | E5: 41.57 | F5: 40 | G5: =ROUND(E5*F5 %,2) -> 16.63 | H5: =D5*G5 -> 5670.83 | I5: 0
A6: Marts | B6: 18 | C6: 20 | D6: 313 | E6: 41.57 | F6: 40 | G6: =ROUND(E6*F6 %,2) -> 16.63 | H6: =D6*G6 -> 5205.19 | I6: 0
A7: Aprīlis | B7: 18 | C7: 21 | D7: 314 | E7: 41.57 | F7: 40 | G7: =ROUND(E7*F7 %,2) -> 16.63 | H7: =D7*G7 -> 5221.82 | I7: 0
A8: Maijs | B8: 17 | C8: 21 | D8: 294 | E8: 41.57 | F8: 40 | G8: =ROUND(E8*F8 %,2) -> 16.63 | H8: =D8*G8 -> 4889.22 | I8: 0
A9: Jūnijs | B9: 19 | C9: 19 | D9: 274 | E9: 41.57 | F9: 40 | G9: =ROUND(E9*F9 %,2) -> 16.63 | H9: =D9*G9 -> 4556.62 | I9: 0
A10: Jūlijs | B10: 20 | C10: 23 | D10: 343 | E10: 41.57 | F10: 40 | G10: =ROUND(E10*F10 %,2) -> 16.63 | H10: =D10*G10 -> 5704.09 | I10: 0
A11: Augusts | B11: 19 | C11: 22 | D11: 349 | E11: 41.57 | F11: 40 | G11: =ROUND(E11*F11 %,2) -> 16.63 | H11: =D11*G11 -> 5803.87 | I11: 0
A12: Septembris | B12: 18 | C12: 21 | D12: 321 | E12: 41.57 | F12: 40 | G12: =ROUND(E12*F12 %,2) -> 16.63 | H12: =D12*G12 -> 5338.23 | I12: =SUM(H4:H11) -> 42755.73 | J12: Plāns
A13: Oktobris | B13: 18 | C13: 23 | D13: 321 | E13: 41.57 | F13: 40 | G13: =ROUND(E13*F13 %,2) -> 16.63 | H13: =D13*G13 -> 5338.23 | I13: =H12 -> 5338.23
A14: Novembris | B14: 18 | C14: 20 | D14: 321 | E14: 41.57 | F14: 40 | G14: =ROUND(E14*F14 %,2) -> 16.63 | H14: =D14*G14 -> 5338.23 | I14: =H13 -> 5338.23
A15: Decembris | B15: 18 | C15: 18 | D15: 321 | E15: 41.57 | F15: 40 | G15: =ROUND(E15*F15 %,2) -> 16.63 | H15: =D15*G15 -> 5338.23 | I15: =H14 -> 5338.23
A16: kopā | B16: x | C16: =SUM(C4:C15) -> 251 | D16: =SUM(D4:D15) -> 3855 | E16: x | F16: x | G16: x | H16: =SUM(H4:H15) -> 64108.65 | I16: =SUM(I4:I15) -> 58770.42
B18: 2025.g.
A19: Rūpju bērns DAC Pērle Cēsis, reģ.dat. 01.01.2022. | B19: Klientu sk. | C19: Darba dienu skaits mēnesī | D19: Klientu dienu sk. | E19: Kl.dienas cena, euro | F19: Valsts līdzfinansējuma% 2025.g. | G19: Valsts līdzifnansējuma klientu dienas cena, euro | H19: Valsts līdzfinansējums, euro | I19: Naudas plūsma, euro | J19: Fakts / Plāns
A20: Janvaris | B20: 17 | C20: 22 | D20: =B20*C20 -> 374 | E20: 41.57 | F20: 20 | G20: =ROUND(E20*F20 %,2) -> 8.31 | H20: =D20*G20 -> 3107.94 | I20: =H15 -> 5338.23 | J20: Plāns
A21: Februāris | B21: 17 | C21: 20 | D21: =B21*C21 -> 340 | E21: 41.57 | F21: 20 | G21: =ROUND(E21*F21 %,2) -> 8.31 | H21: =D21*G21 -> 2825.4 | I21: =H20 -> 3107.94
A22: Marts | B22: 17 | C22: 21 | D22: =B22*C22 -> 357 | E22: 41.57 | F22: 20 | G22: =ROUND(E22*F22 %,2) -> 8.31 | H22: =D22*G22 -> 2966.67 | I22: =H21 -> 2825.4
A23: Aprīlis | B23: 17 | C23: 20 | D23: =B23*C23 -> 340 | E23: 41.57 | F23: 20 | G23: =ROUND(E23*F23 %,2) -> 8.31 | H23: =D23*G23 -> 2825.4 | I23: =H22 -> 2966.67
A24: Maijs | B24: 17 | C24: 20 | D24: =B24*C24 -> 340 | E24: 41.57 | F24: 20 | G24: =ROUND(E24*F24 %,2) -> 8.31 | H24: =D24*G24 -> 2825.4 | I24: =H23 -> 2825.4
A25: Jūnijs | B25: 17 | C25: 19 | D25: =B25*C25 -> 323 | E25: 41.57 | F25: 20 | G25: =ROUND(E25*F25 %,2) -> 8.31 | H25: =D25*G25 -> 2684.13 | I25: =H24 -> 2825.4
A26: Jūlijs | B26: 17 | C26: 23 | D26: =B26*C26 -> 391 | E26: 41.57 | F26: 20 | G26: =ROUND(E26*F26 %,2) -> 8.31 | H26: =D26*G26 -> 3249.21 | I26: =H25 -> 2684.13
A27: Augusts | B27: 17 | C27: 21 | D27: =B27*C27 -> 357 | E27: 41.57 | F27: 20 | G27: =ROUND(E27*F27 %,2) -> 8.31 | H27: =D27*G27 -> 2966.67 | I27: =H26 -> 3249.21
A28: Septembris | B28: 17 | C28: 22 | D28: =B28*C28 -> 374 | E28: 41.57 | F28: 20 | G28: =ROUND(E28*F28 %,2) -> 8.31 | H28: =D28*G28 -> 3107.94 | I28: =H27 -> 2966.67
A29: Oktobris | B29: 17 | C29: 23 | D29: =B29*C29 -> 391 | E29: 41.57 | F29: 20 | G29: =ROUND(E29*F29 %,2) -> 8.31 | H29: =D29*G29 -> 3249.21 | I29: =H28 -> 3107.94
A30: Novembris | B30: 17 | C30: 19 | D30: =B30*C30 -> 323 | E30: 41.57 | F30: 20 | G30: =ROUND(E30*F30 %,2) -> 8.31 | H30: =D30*G30 -> 2684.13 | I30: =H29 -> 3249.21
A31: Decembris | B31: 17 | C31: 19 | D31: =B31*C31 -> 323 | E31: 41.57 | F31: 20 | G31: =ROUND(E31*F31 %,2) -> 8.31 | H31: =D31*G31 -> 2684.13 | I31: =H30 -> 2684.13
A32: kopā | B32: x | C32: =SUM(C20:C31) -> 249 | D32: =SUM(D20:D31) -> 4233 | E32: x | F32: x | G32: x | H32: =SUM(H20:H31) -> 35176.23 | I32: =SUM(I20:I31) -> 37830.33
B34: 2026.g.
A35: Rūpju bērns DAC Pērle Cēsis, reģ.dat. 01.01.2022. | B35: Klientu sk. | C35: Darba dienu skaits mēnesī | D35: Klientu dienu sk. | E35: Kl.dienas cena, euro | F35: Valsts līdzfinansējuma% 2026.g. | G35: Valsts līdzifnansējuma klientu dienas cena, euro | H35: Valsts līdzfinansējums, euro | I35: Naudas plūsma, euro | J35: Fakts / Plāns
A36: Janvaris | D36: =B36*C36 -> 0 | H36: =ROUND((E36*F36 %)*D36,2) -> 0 | I36: =H31 -> 2684.13 | J36: Plāns
A37: Februāris | D37: =B37*C37 -> 0 | H37: =ROUND((E37*F37 %)*D37,2) -> 0 | I37: =H36 -> 0
A38: Marts | D38: =B38*C38 -> 0 | H38: =ROUND((E38*F38 %)*D38,2) -> 0 | I38: =H37 -> 0
A39: Aprīlis | D39: =B39*C39 -> 0 | H39: =ROUND((E39*F39 %)*D39,2) -> 0 | I39: =H38 -> 0
A40: Maijs | D40: =B40*C40 -> 0 | H40: =ROUND((E40*F40 %)*D40,2) -> 0 | I40: =H39 -> 0
A41: Jūnijs | D41: =B41*C41 -> 0 | H41: =ROUND((E41*F41 %)*D41,2) -> 0 | I41: =H40 -> 0
A42: Jūlijs | D42: =B42*C42 -> 0 | H42: =ROUND((E42*F42 %)*D42,2) -> 0 | I42: =H41 -> 0
A43: Augusts | D43: =B43*C43 -> 0 | H43: =ROUND((E43*F43 %)*D43,2) -> 0 | I43: =H42 -> 0
...

Sheet 8
B2: 2024.g.
A3: Dienas aprūpes un rehabilitācijas centrs “Ādažu Ūdensroze” sākuma dat. 01.07.2022. | B3: Klientu skaits kuriem ir pašaprūpes iemaņas | C3: Klientu skaits kuriem nepieciešamas atbalsts aprūpē | D3: Darba dienu skaits mēnesī | E3: Klientu dienu skaits kuriem ir pašaprūpes iemaņas | F3: Klientu dienu skaits kuriem nepieciešamas atbalsts aprūpē | G3: Kl.dienas cena ar pašaprūpes iemaņām | H3: Kl.dienas cena klientiem, kuriem nepiec.atbalsts | I3: Valsts līdzfinansējuma% 2024.g. | J3: Valsts līdzfinansējuma kl.dienas cena ar pašaprūpes iemaņām | K3: Valsts līdzfinansējuma ll.dienas cena klientiem, kuriem nepiec.atbalsts | L3: Valsts līdzfinansējums klientiem kuriem ir pašaprūpes iemaņas | M3: Valsts līdzfinansējums klientiem kuriem nepiec.atbalsts | N3: Valsts līdzfinansējums kopā | O3: Naudas plūsma | P3: Fakts / Plāns
A4: Janvaris | B4: 6 | C4: 7 | D4: 22 | E4: 122 | F4: 106 | G4: 33.95 | H4: 42.43 | I4: 60 | J4: =ROUND(G4*I4 %,2) -> 20.37 | K4: =ROUND(H4*I4 %,2) -> 25.46 | L4: =ROUND(E4*J4,2) -> 2485.14 | M4: =ROUND(F4*K4,2) -> 2698.76 | N4: =L4+M4 -> 5183.9 | O4: 0 | P4: Plāns
A5: Februāris | B5: 6 | C5: 7 | D5: 21 | E5: 122 | F5: 106 | G5: 33.95 | H5: 42.43 | I5: 60 | J5: =ROUND(G5*I5 %,2) -> 20.37 | K5: =ROUND(H5*I5 %,2) -> 25.46 | L5: =ROUND(E5*J5,2) -> 2485.14 | M5: =ROUND(F5*K5,2) -> 2698.76 | N5: =L5+M5 -> 5183.9 | O5: 0
A6: Marts | B6: 6 | C6: 7 | D6: 20 | E6: 122 | F6: 106 | G6: 33.95 | H6: 42.43 | I6: 60 | J6: =ROUND(G6*I6 %,2) -> 20.37 | K6: =ROUND(H6*I6 %,2) -> 25.46 | L6: =ROUND(E6*J6,2) -> 2485.14 | M6: =ROUND(F6*K6,2) -> 2698.76 | N6: =L6+M6 -> 5183.9 | O6: 0
A7: Aprīlis | B7: 6 | C7: 7 | D7: 21 | E7: 122 | F7: 106 | G7: 33.95 | H7: 42.43 | I7: 60 | J7: =ROUND(G7*I7 %,2) -> 20.37 | K7: =ROUND(H7*I7 %,2) -> 25.46 | L7: =ROUND(E7*J7,2) -> 2485.14 | M7: =ROUND(F7*K7,2) -> 2698.76 | N7: =L7+M7 -> 5183.9 | O7: 0
A8: Maijs | B8: 6 | C8: 7 | D8: 21 | E8: 122 | F8: 106 | G8: 33.95 | H8: 42.43 | I8: 60 | J8: =ROUND(G8*I8 %,2) -> 20.37 | K8: =ROUND(H8*I8 %,2) -> 25.46 | L8: =ROUND(E8*J8,2) -> 2485.14 | M8: =ROUND(F8*K8,2) -> 2698.76 | N8: =L8+M8 -> 5183.9 | O8: 0
A9: Jūnijs | B9: 6 | C9: 7 | D9: 19 | E9: 122 | F9: 106 | G9: 33.95 | H9: 42.43 | I9: 60 | J9: =ROUND(G9*I9 %,2) -> 20.37 | K9: =ROUND(H9*I9 %,2) -> 25.46 | L9: =ROUND(E9*J9,2) -> 2485.14 | M9: =ROUND(F9*K9,2) -> 2698.76 | N9: =L9+M9 -> 5183.9 | O9: 0
A10: Jūlijs | B10: 6 | C10: 7 | D10: 23 | E10: 122 | F10: 106 | G10: 33.95 | H10: 42.43 | I10: 40 | J10: =ROUND(G10*I10 %,2) -> 13.58 | K10: =ROUND(H10*I10 %,2) -> 16.97 | L10: =ROUND(E10*J10,2) -> 1656.76 | M10: =ROUND(F10*K10,2) -> 1798.82 | N10: =L10+M10 -> 3455.58 | O10: 0
A11: Augusts | B11: 6 | C11: 7 | D11: 22 | E11: 122 | F11: 106 | G11: 33.95 | H11: 42.43 | I11: 40 | J11: =ROUND(G11*I11 %,2) -> 13.58 | K11: =ROUND(H11*I11 %,2) -> 16.97 | L11: =ROUND(E11*J11,2) -> 1656.76 | M11: =ROUND(F11*K11,2) -> 1798.82 | N11: =L11+M11 -> 3455.58 | O11: 0 | P11: Fakts
A12: Septembris | B12: 6 | C12: 7 | D12: 21 | E12: 122 | F12: 106 | G12: 33.95 | H12: 42.43 | I12: 40 | J12: =ROUND(G12*I12 %,2) -> 13.58 | K12: =ROUND(H12*I12 %,2) -> 16.97 | L12: =ROUND(E12*J12,2) -> 1656.76 | M12: =ROUND(F12*K12,2) -> 1798.82 | N12: =L12+M12 -> 3455.58 | O12: =N11 -> 3455.58 | P12: Plāns
A13: Oktobris | B13: 6 | C13: 7 | D13: 23 | E13: 122 | F13: 106 | G13: 33.95 | H13: 42.43 | I13: 40 | J13: =ROUND(G13*I13 %,2) -> 13.58 | K13: =ROUND(H13*I13 %,2) -> 16.97 | L13: =ROUND(E13*J13,2) -> 1656.76 | M13: =ROUND(F13*K13,2) -> 1798.82 | N13: =L13+M13 -> 3455.58 | O13: =N12+N4+N5+N6+N7+N8+N9+N10 -> 38014.56
A14: Novembris | B14: 6 | C14: 7 | D14: 20 | E14: 122 | F14: 106 | G14: 33.95 | H14: 42.43 | I14: 40 | J14: =ROUND(G14*I14 %,2) -> 13.58 | K14: =ROUND(H14*I14 %,2) -> 16.97 | L14: =ROUND(E14*J14,2) -> 1656.76 | M14: =ROUND(F14*K14,2) -> 1798.82 | N14: =L14+M14 -> 3455.58 | O14: =N13 -> 3455.58
A15: Decembris | B15: 6 | C15: 7 | D15: 18 | E15: 122 | F15: 106 | G15: 33.95 | H15: 42.43 | I15: 40 | J15: =ROUND(G15*I15 %,2) -> 13.58 | K15: =ROUND(H15*I15 %,2) -> 16.97 | L15: =ROUND(E15*J15,2) -> 1656.76 | M15: =ROUND(F15*K15,2) -> 1798.82 | N15: =L15+M15 -> 3455.58 | O15: =N14 -> 3455.58
A16: kopā | B16: x | C16: x | D16: =SUM(D4:D15) -> 251 | E16: =SUM(E4:E15) -> 1464 | F16: =SUM(F4:F15) -> 1272 | G16: x | H16: x | I16: x | J16: x | K16: x | L16: =SUM(L4:L15) -> 24851.4 | M16: =SUM(M4:M15) -> 26985.48 | N16: =SUM(N4:N15) -> 51836.88 | O16: =SUM(O4:O15) -> 48381.3
B17: 2025.g.
A18: Dienas aprūpes un rehabilitācijas centrs “Ādažu Ūdensroze” sākuma dat. 01.07.2022. | B18: Klientu skaits kuriem ir pašaprūpes iemaņas | C18: Klientu skaits kuriem nepieciešamas atbalsts aprūpē | D18: Darba dienu skaits mēnesī | E18: Klientu dienu skaits kuriem ir pašaprūpes iemaņas | F18: Klientu dienu skaits kuriem nepieciešamas atbalsts aprūpē | G18: Kl.dienas cena ar pašaprūpes iemaņām | H18: Kl.dienas cena klientiem, kuriem nepiec.atbalsts | I18: Valsts līdzfinansējuma% 2025.g. | J18: Valsts līdzfinansējuma kl.dienas cena ar pašaprūpes iemaņām | K18: Valsts līdzfinansējuma ll.dienas cena klientiem, kuriem nepiec.atbalsts | L18: Valsts līdzfinansējums klientiem kuriem ir pašaprūpes iemaņas | M18: Valsts līdzfinansējums klientiem kuriem nepiec.atbalsts | N18: Valsts līdzfinansējums kopā | O18: Naudas plūsma | P18: Plāns
A19: Janvaris | B19: 6 | C19: 7 | D19: 22 | E19: 122 | F19: 106 | G19: 33.95 | H19: 42.43 | I19: 40 | J19: =ROUND(G19*I19 %,2) -> 13.58 | K19: =ROUND(H19*I19 %,2) -> 16.97 | L19: =ROUND(E19*J19,2) -> 1656.76 | M19: =ROUND(F19*K19,2) -> 1798.82 | N19: =L19+M19 -> 3455.58 | O19: =N15 -> 3455.58 | P19: Plāns
A20: Februāris | B20: 6 | C20: 7 | D20: ='darba dienas'!C4 -> 20 | E20: 122 | F20: 106 | G20: 33.95 | H20: 42.43 | I20: 40 | J20: =ROUND(G20*I20 %,2) -> 13.58 | K20: =ROUND(H20*I20 %,2) -> 16.97 | L20: =ROUND(E20*J20,2) -> 1656.76 | M20: =ROUND(F20*K20,2) -> 1798.82 | N20: =L20+M20 -> 3455.58 | O20: =N19 -> 3455.58
A21: Marts | B21: 6 | C21: 7 | D21: ='darba dienas'!D4 -> 21 | E21: 122 | F21: 106 | G21: 33.95 | H21: 42.43 | I21: 40 | J21: =ROUND(G21*I21 %,2) -> 13.58 | K21: =ROUND(H21*I21 %,2) -> 16.97 | L21: =ROUND(E21*J21,2) -> 1656.76 | M21: =ROUND(F21*K21,2) -> 1798.82 | N21: =L21+M21 -> 3455.58 | O21: =N20 -> 3455.58
A22: Aprīlis | B22: 6 | C22: 7 | D22: ='darba dienas'!E4 -> 20 | E22: 122 | F22: 106 | G22: 33.95 | H22: 42.43 | I22: 40 | J22: =ROUND(G22*I22 %,2) -> 13.58 | K22: =ROUND(H22*I22 %,2) -> 16.97 | L22: =ROUND(E22*J22,2) -> 1656.76 | M22: =ROUND(F22*K22,2) -> 1798.82 | N22: =L22+M22 -> 3455.58 | O22: =N21 -> 3455.58
A23: Maijs | B23: 6 | C23: 7 | D23: ='darba dienas'!F4 -> 20 | E23: 122 | F23: 106 | G23: 33.95 | H23: 42.43 | I23: 40 | J23: =ROUND(G23*I23 %,2) -> 13.58 | K23: =ROUND(H23*I23 %,2) -> 16.97 | L23: =ROUND(E23*J23,2) -> 1656.76 | M23: =ROUND(F23*K23,2) -> 1798.82 | N23: =L23+M23 -> 3455.58 | O23: =N22 -> 3455.58
A24: Jūnijs | B24: 6 | C24: 7 | D24: ='darba dienas'!G4 -> 19 | E24: 122 | F24: 106 | G24: 33.95 | H24: 42.43 | I24: 40 | J24: =ROUND(G24*I24 %,2) -> 13.58 | K24: =ROUND(H24*I24 %,2) -> 16.97 | L24: =ROUND(E24*J24,2) -> 1656.76 | M24: =ROUND(F24*K24,2) -> 1798.82 | N24: =L24+M24 -> 3455.58 | O24: =N23 -> 3455.58
A25: Jūlijs | B25: 6 | C25: 7 | D25: ='darba dienas'!H4 -> 23 | E25: 122 | F25: 106 | G25: 33.95 | H25: 42.43 | I25: 20 | J25: =ROUND(G25*I25 %,2) -> 6.79 | K25: =ROUND(H25*I25 %,2) -> 8.49 | L25: =ROUND(E25*J25,2) -> 828.38 | M25: =ROUND(F25*K25,2) -> 899.94 | N25: =L25+M25 -> 1728.32 | O25: =N24 -> 3455.58
A26: Augusts | B26: 6 | C26: 7 | D26: ='darba dienas'!I4 -> 21 | E26: 122 | F26: 106 | G26: 33.95 | H26: 42.43 | I26: 20 | J26: =ROUND(G26*I26 %,2) -> 6.79 | K26: =ROUND(H26*I26 %,2) -> 8.49 | L26: =ROUND(E26*J26,2) -> 828.38 | M26: =ROUND(F26*K26,2) -> 899.94 | N26: =L26+M26 -> 1728.32 | O26: =N25 -> 1728.32
A27: Septembris | B27: 6 | C27: 7 | D27: ='darba dienas'!J4 -> 22 | E27: 122 | F27: 106 | G27: 33.95 | H27: 42.43 | I27: 20 | J27: =ROUND(G27*I27 %,2) -> 6.79 | K27: =ROUND(H27*I27 %,2) -> 8.49 | L27: =ROUND(E27*J27,2) -> 828.38 | M27: =ROUND(F27*K27,2) -> 899.94 | N27: =L27+M27 -> 1728.32 | O27: =N26 -> 1728.32
A28: Oktobris | B28: 6 | C28: 7 | D28: ='darba dienas'!K4 -> 23 | E28: 122 | F28: 106 | G28: 33.95 | H28: 42.43 | I28: 20 | J28: =ROUND(G28*I28 %,2) -> 6.79 | K28: =ROUND(H28*I28 %,2) -> 8.49 | L28: =ROUND(E28*J28,2) -> 828.38 | M28: =ROUND(F28*K28,2) -> 899.94 | N28: =L28+M28 -> 1728.32 | O28: =N27 -> 1728.32
A29: Novembris | B29: 6 | C29: 7 | D29: ='darba dienas'!L4 -> 19 | E29: 122 | F29: 106 | G29: 33.95 | H29: 42.43 | I29: 20 | J29: =ROUND(G29*I29 %,2) -> 6.79 | K29: =ROUND(H29*I29 %,2) -> 8.49 | L29: =ROUND(E29*J29,2) -> 828.38 | M29: =ROUND(F29*K29,2) -> 899.94 | N29: =L29+M29 -> 1728.32 | O29: =N28 -> 1728.32
A30: Decembris | B30: 6 | C30: 7 | D30: ='darba dienas'!M4 -> 19 | E30: 122 | F30: 106 | G30: 33.95 | H30: 42.43 | I30: 20 | J30: =ROUND(G30*I30 %,2) -> 6.79 | K30: =ROUND(H30*I30 %,2) -> 8.49 | L30: =ROUND(E30*J30,2) -> 828.38 | M30: =ROUND(F30*K30,2) -> 899.94 | N30: =L30+M30 -> 1728.32 | O30: =N29 -> 1728.32
A31: kopā | B31: x | C31: x | D31: =SUM(D19:D30) -> 249 | E31: =SUM(E19:E30) -> 1464 | F31: =SUM(F19:F30) -> 1272 | G31: x | H31: x | I31: x | J31: x | K31: x | L31: =SUM(L19:L30) -> 14910.84 | M31: =SUM(M19:M30) -> 16192.56 | N31: =SUM(N19:N30) -> 31103.4 | O31: =SUM(O19:O30) -> 32830.66
B34: 2026.g.
A35: Dienas aprūpes un rehabilitācijas centrs “Ādažu Ūdensroze” sākuma dat. 01.07.2022. | B35: Klientu skaits kuriem ir pašaprūpes iemaņas | C35: Klientu skaits kuriem nepieciešamas atbalsts aprūpē | D35: Darba dienu skaits mēnesī | E35: Klientu dienu skaits kuriem ir pašaprūpes iemaņas | F35: Klientu dienu skaits kuriem nepieciešamas atbalsts aprūpē | G35: Kl.dienas cena ar pašaprūpes iemaņām | H35: Kl.dienas cena klientiem, kuriem nepiec.atbalsts | I35: Valsts līdzfinansējuma% 2026.g. | J35: Valsts līdzfinansējuma kl.dienas cena ar pašaprūpes iemaņām | K35: Valsts līdzfinansējuma ll.dienas cena klientiem, kuriem nepiec.atbalsts | L35: Valsts līdzfinansējums klientiem kuriem ir pašaprūpes iemaņas | M35: Valsts līdzfinansējums klientiem kuriem nepiec.atbalsts | N35: Valsts līdzfinansējums kopā | O35: Naudas plūsma | P35: Plāns
A36: Janvaris | B36: 6 | C36: 7 | D36: ='darba dienas'!B5 -> 21 | E36: 122 | F36: 106 | G36: 33.95 | H36: 42.43 | I36: 20 | J36: =ROUND(G36*I36 %,2) -> 6.79 | K36: =ROUND(H36*I36 %,2) -> 8.49 | L36: =ROUND(E36*J36,2) -> 828.38 | M36: =ROUND(F36*K36,2) -> 899.94 | N36: =L36+M36 -> 1728.32 | O36: =N30 -> 1728.32 | P36: Plāns
A37: Februāris | B37: 6 | C37: 7 | D37: ='darba dienas'!C5 -> 20 | E37: 122 | F37: 106 | G37: 33.95 | H37: 42.43 | I37: 20 | J37: =ROUND(G37*I37 %,2) -> 6.79 | K37: =ROUND(H37*I37 %,2) -> 8.49 | L37: =ROUND(E37*J37,2) -> 828.38 | M37: =ROUND(F37*K37,2) -> 899.94 | N37: =L37+M37 -> 1728.32 | O37: =N36 -> 1728.32
A38: Marts | B38: 6 | C38: 7 | D38: ='darba dienas'!D5 -> 22 | E38: 122 | F38: 106 | G38: 33.95 | H38: 42.43 | I38: 20 | J38: =ROUND(G38*I38 %,2) -> 6.79 | K38: =ROUND(H38*I38 %,2) -> 8.49 | L38: =ROUND(E38*J38,2) -> 828.38 | M38: =ROUND(F38*K38,2) -> 899.94 | N38: =L38+M38 -> 1728.32 | O38: =N37 -> 1728.32
A39: Aprīlis | B39: 6 | C39: 7 | D39: ='darba dienas'!E5 -> 21 | E39: 122 | F39: 106 | G39: 33.95 | H39: 42.43 | I39: 20 | J39: =ROUND(G39*I39 %,2) -> 6.79 | K39: =ROUND(H39*I39 %,2) -> 8.49 | L39: =ROUND(E39*J39,2) -> 828.38 | M39: =ROUND(F39*K39,2) -> 899.94 | N39: =L39+M39 -> 1728.32 | O39: =N38 -> 1728.32
A40: Maijs | B40: 6 | C40: 7 | D40: ='darba dienas'!F5 -> 19 | E40: 122 | F40: 106 | G40: 33.95 | H40: 42.43 | I40: 20 | J40: =ROUND(G40*I40 %,2) -> 6.79 | K40: =ROUND(H40*I40 %,2) -> 8.49 | L40: =ROUND(E40*J40,2) -> 828.38 | M40: =ROUND(F40*K40,2) -> 899.94 | N40: =L40+M40 -> 1728.32 | O40: =N39 -> 1728.32
A41: Jūnijs | B41: 6 | C41: 7 | D41: ='darba dienas'!G5 -> 20 | E41: 122 | F41: 106 | G41: 33.95 | H41: 42.43 | I41: 20 | J41: =ROUND(G41*I41 %,2) -> 6.79 | K41: =ROUND(H41*I41 %,2) -> 8.49 | L41: =ROUND(E41*J41,2) -> 828.38 | M41: =ROUND(F41*K41,2) -> 899.94 | N41: =L41+M41 -> 1728.32 | O41: =N40 -> 1728.32
A42: Jūlijs | G42: 33.95 | H42: 42.43 | I42: 0 | J42: =ROUND(G42*I42 %,2) -> 0 | K42: =ROUND(H42*I42 %,2) -> 0 | L42: =ROUND(E42*J42,2) -> 0 | M42: =ROUND(F42*K42,2) -> 0 | N42: =L42+M42 -> 0 | O42: =N41 -> 1728.32
A43: Augusts | G43: 33.95 | H43: 42.43 | I43: 0 | J43: =ROUND(G43*I43 %,2) -> 0 | K43: =ROUND(H43*I43 %,2) -> 0 | L43: =ROUND(E43*J43,2) -> 0 | M43: =ROUND(F43*K43,2) -> 0 | N43: =L43+M43 -> 0 | O43: =N42 -> 0
...

Sheet 9
B2: 2024.g.
