Workbook

Sheet Kopsavilkums (resori)
A1: Resors Nr. | B1: Ministrija | C1: programma/ apakšprogramma | D1: EKK | E1: 2023.g. 4 mēneši | F1: 2024.g. | G1: 2025.g. | H1: 2026.g.
A2: KOPĀ | E2: =+E3+E7+E13+E14+E15+E16+E17+E18 -> 9039833 | F2: =+F3+F7+F13+F14+F15+F16+F17+F18 -> 83461535 | G2: =+G3+G7+G13+G14+G15+G16+G17+G18 -> 138455012 | H2: =+H3+H7+H13+H14+H15+H16+H17+H18 -> 138455012
A3: 62 | B3: MD/IZM | C3: Kopā | E3: =SUM(E4:E6) -> 5326441 | F3: =SUM(F4:F6) -> 53217609 | G3: =SUM(G4:G6) -> 93155484 | H3: =SUM(H4:H6) -> 93155484 | J3: 62. 01.00.00. | K3: 2023.g. 4M | L3: 2024.g. | M3: 2025.g. | N3: 2026.g. | P3: 10. 22.10.00. | Q3: 2023.g. 4M | R3: 2024.g. | S3: 2025.g. | T3: 2026.g.
C4: 01.00.00. | D4: 7460 | E4: =+K9 -> 680169 | F4: =+L9 -> 7393895 | G4: =+M9 -> 11647915 | H4: =+N9 -> 11647915 | K4: =+'2023-2027_bez PI'!K12+'2023-2027_PI'!K12 -> 680169 | L4: =+K4*3 -> 2040507 | M4: =+L4 -> 2040507 | N4: =+M4 -> 2040507 | Q4: =+'2023-2027_bez PI'!K27 -> 3644 | R4: =+Q4*3 -> 10932 | S4: =+R4 -> 10932 | T4: =+S4 -> 10932
C5: 05.00.00. | D5: 7460 | E5: =+K17+Kopsavilkums!N3 -> 1725439 | F5: =+L17+Kopsavilkums!O3 -> 26397420 | G5: =+M17+Kopsavilkums!P3 -> 51252150 | H5: =+N17+Kopsavilkums!Q3 -> 51252150 | L5: =+'2023-2027_bez PI'!N12+'2023-2027_PI'!N12 -> 5353388 | M5: =+L5 -> 5353388 | N5: =+M5 -> 5353388 | R5: =+'2023-2027_bez PI'!N27 -> 31549 | S5: =+R5 -> 31549 | T5: =+S5 -> 31549
C6: 10.00.00. | D6: 7460 | E6: =+K25 -> 2920833 | F6: =+L25 -> 19426294 | G6: =+M25 -> 30255419 | H6: =+N25 -> 30255419 | M6: =+'2023-2027_bez PI'!Q12+'2023-2027_PI'!Q12 -> 4254020 | N6: =+M6 -> 4254020 | S6: =+'2023-2027_bez PI'!Q27 -> 24572 | T6: =+S6 -> 24572
A7: 15 | B7: IZM | C7: Kopā | E7: =SUM(E8:E12) -> 2174479 | F7: =SUM(F8:F12) -> 18740771 | G7: =SUM(G8:G12) -> 28432915 | H7: =SUM(H8:H12) -> 28432915
C8: 01.05.00. | D8: 3000 | E8: =+K33 -> 422753 | F8: =+L33 -> 3892214 | G8: =+M33 -> 6111600 | H8: =+N33 -> 6111600
C9: 01.08.00. | D9: 1000 | E9: =+K41 -> 2384 | F9: =+L41 -> 21937 | G9: =+M41 -> 34444 | H9: =+N41 -> 34444 | K9: =SUM(K4:K8) -> 680169 | L9: =SUM(L4:L8) -> 7393895 | M9: =SUM(M4:M8) -> 11647915 | N9: =SUM(N4:N8) -> 11647915 | Q9: =SUM(Q4:Q8) -> 3644 | R9: =SUM(R4:R8) -> 42481 | S9: =SUM(S4:S8) -> 67053 | T9: =SUM(T4:T8) -> 67053
C10: 02.01.00. | D10: 1000 | E10: =+K49 -> 735635 | F10: =+L49 -> 8525027 | G10: =+M49 -> 13445872 | H10: =+N49 -> 13445872
C11: 09.10.00. | D11: 1000 | E11: =+K57 -> 17746 | F11: =+L57 -> 206310 | G11: =+M57 -> 325530 | H11: =+N57 -> 325530 | J11: 62. 05.00.00. (bez pašv. pamata un visp.vid.) | K11: 2023.g. 4M | L11: 2024.g. | M11: 2025.g. | N11: 2026.g. | P11: 16. 22.01.00. | Q11: 2023.g. 4M | R11: 2024.g. | S11: 2025.g. | T11: 2026.g.
C12: 09.19.00. | D12: 7460 | E12: =+K65 -> 995961 | F12: =+L65 -> 6095283 | G12: =+M65 -> 8515469 | H12: =+N65 -> 8515469 | K12: =+'2023-2027_bez PI'!K14 -> 431819 | L12: =+K12*3 -> 1295457 | M12: =+L12 -> 1295457 | N12: =+M12 -> 1295457 | Q12: =+'2023-2027_bez PI'!K28 -> 12586 | R12: =+Q12*3 -> 37758 | S12: =+R12 -> 37758 | T12: =+S12 -> 37758
A13: 10 | B13: AM | C13: 22.10.00. | D13: 1000 | E13: =+Q9 -> 3644 | F13: =+R9 -> 42481 | G13: =+S9 -> 67053 | H13: =+T9 -> 67053 | L13: =+'2023-2027_bez PI'!N14 -> 3701283 | M13: =+L13 -> 3701283 | N13: =+M13 -> 3701283 | R13: =+'2023-2027_bez PI'!N28 -> 108482 | S13: =+R13 -> 108482 | T13: =+S13 -> 108482
A14: 16 | B14: ZM | C14: 22.01.00. | D14: 1000 | E14: =+Q17 -> 12586 | F14: =+R17 -> 146240 | G14: =+S17 -> 230730 | H14: =+T17 -> 230730 | M14: =+'2023-2027_bez PI'!Q14 -> 2882730 | N14: =+M14 -> 2882730 | S14: =+'2023-2027_bez PI'!Q28 -> 84490 | T14: =+S14 -> 84490
A15: 18 | B15: LM | C15: 05.37.00. | D15: 1000 | E15: =+Q25 -> 6799 | F15: =+R25 -> 78766 | G15: =+S25 -> 124227 | H15: =+T25 -> 124227
A16: 19 | B16: TM | C16: 04.01.00. | D16: 1000 | E16: =+Q33 -> 1968 | F16: =+R33 -> 22679 | G16: =+S33 -> 35744 | H16: =+T33 -> 35744
A17: 22 | B17: KM | C17: 20.00.00. | D17: 1000 un 7460 | E17: =+Q41 -> 1506332 | F17: =+R41 -> 11125133 | G17: =+S41 -> 16270297 | H17: =+T41 -> 16270297 | K17: =SUM(K12:K16) -> 431819 | L17: =SUM(L12:L16) -> 4996740 | M17: =SUM(M12:M16) -> 7879470 | N17: =SUM(N12:N16) -> 7879470 | Q17: =SUM(Q12:Q16) -> 12586 | R17: =SUM(R12:R16) -> 146240 | S17: =SUM(S12:S16) -> 230730 | T17: =SUM(T12:T16) -> 230730
A18: 29 | B18: VM | C18: Kopā | E18: =SUM(E19:E20) -> 7584 | F18: =SUM(F19:F20) -> 87856 | G18: =SUM(G19:G20) -> 138562 | H18: =SUM(H19:H20) -> 138562
C19: 02.03.00. | D19: 1000 | E19: =+Q49 -> 3677 | F19: =+R49 -> 42592 | G19: =+S49 -> 67173 | H19: =+T49 -> 67173 | J19: 62. 10.00.00. | K19: 2023.g. 4M | L19: 2024.g. | M19: 2025.g. | N19: 2026.g. | P19: 18. 05.37.00. | Q19: 2023.g. 4M | R19: 2024.g. | S19: 2025.g. | T19: 2026.g.
C20: 33.09.00. | D20: 1000 | E20: =+Q57 -> 3907 | F20: =+R57 -> 45264 | G20: =+S57 -> 71389 | H20: =+T57 -> 71389 | K20: =+'2023-2027_PI'!K14 -> 2920833 | L20: =+K20*3 -> 8762499 | M20: =+L20 -> 8762499 | N20: =+M20 -> 8762499 | Q20: =+'2023-2027_bez PI'!K29 -> 6799 | R20: =+Q20*3 -> 20397 | S20: =+R20 -> 20397 | T20: =+S20 -> 20397
L21: =+'2023-2027_PI'!N14 -> 10663795 | M21: =+L21 -> 10663795 | N21: =+M21 -> 10663795 | R21: =+'2023-2027_bez PI'!N29 -> 58369 | S21: =+R21 -> 58369 | T21: =+S21 -> 58369
A22: Tikai IZM (62.+15.) | E22: =+E3+E7 -> 7500920 | F22: =+F3+F7 -> 71958380 | G22: =+G3+G7 -> 121588399 | H22: =+H3+H7 -> 121588399 | M22: =+'2023-2027_PI'!Q14 -> 10829125 | N22: =+M22 -> 10829125 | S22: =+'2023-2027_bez PI'!Q29 -> 45461 | T22: =+S22 -> 45461
A23: t. sk. pašvaldību pamata un visp. vid. | E23: =+Kopsavilkums!N3 -> 1293620 | F23: =+Kopsavilkums!O3 -> 21400680 | G23: =+Kopsavilkums!P3 -> 43372680 | H23: =+Kopsavilkums!Q3 -> 43372680
A25: Kopā bez pašv.pamata un visp.vid. | E25: =+E2-E23 -> 7746213 | F25: =+F2-F23 -> 62060855 | G25: =+G2-G23 -> 95082332 | H25: =+H2-H23 -> 95082332 | K25: =SUM(K20:K24) -> 2920833 | L25: =SUM(L20:L24) -> 19426294 | M25: =SUM(M20:M24) -> 30255419 | N25: =SUM(N20:N24) -> 30255419 | Q25: =SUM(Q20:Q24) -> 6799 | R25: =SUM(R20:R24) -> 78766 | S25: =SUM(S20:S24) -> 124227 | T25: =SUM(T20:T24) -> 124227
J27: 15. 01.05.00. | K27: 2023.g. 4M | L27: 2024.g. | M27: 2025.g. | N27: 2026.g. | P27: 19. 04.01.00. | Q27: 2023.g. 4M | R27: 2024.g. | S27: 2025.g. | T27: 2026.g.
K28: =+'2023-2027_bez PI'!K18+'2023-2027_PI'!K15 -> 422753 | L28: =+K28*3 -> 1268259 | M28: =+L28 -> 1268259 | N28: =+M28 -> 1268259 | Q28: =+'2023-2027_bez PI'!K30 -> 1968 | R28: =+Q28*3 -> 5904 | S28: =+R28 -> 5904 | T28: =+S28 -> 5904
L29: =+'2023-2027_bez PI'!N18+'2023-2027_PI'!N15 -> 2623955 | M29: =+L29 -> 2623955 | N29: =+M29 -> 2623955 | R29: =+'2023-2027_bez PI'!N30 -> 16775 | S29: =+R29 -> 16775 | T29: =+S29 -> 16775
M30: =+'2023-2027_bez PI'!Q18+'2023-2027_PI'!Q15 -> 2219386 | N30: =+M30 -> 2219386 | S30: =+'2023-2027_bez PI'!Q30 -> 13065 | T30: =+S30 -> 13065
K33: =SUM(K28:K32) -> 422753 | L33: =SUM(L28:L32) -> 3892214 | M33: =SUM(M28:M32) -> 6111600 | N33: =SUM(N28:N32) -> 6111600 | Q33: =SUM(Q28:Q32) -> 1968 | R33: =SUM(R28:R32) -> 22679 | S33: =SUM(S28:S32) -> 35744 | T33: =SUM(T28:T32) -> 35744
J35: 15. 01.08.00. | K35: 2023.g. 4M | L35: 2024.g. | M35: 2025.g. | N35: 2026.g. | P35: 22. 20.00.00. | Q35: 2023.g. 4M | R35: 2024.g. | S35: 2025.g. | T35: 2026.g.
K36: =+'2023-2027_bez PI'!K22+'2023-2027_PI'!K17 -> 2384 | L36: =+K36*3 -> 7152 | M36: =+L36 -> 7152 | N36: =+M36 -> 7152 | Q36: =+'2023-2027_bez PI'!K31 -> 1506332 | R36: =+Q36*3 -> 4518996 | S36: =+R36 -> 4518996 | T36: =+S36 -> 4518996
L37: =+'2023-2027_bez PI'!N22+'2023-2027_PI'!N17 -> 14785 | M37: =+L37 -> 14785 | N37: =+M37 -> 14785 | R37: =+'2023-2027_bez PI'!N31 -> 6606137 | S37: =+R37 -> 6606137 | T37: =+S37 -> 6606137
M38: =+'2023-2027_bez PI'!Q22+'2023-2027_PI'!Q17 -> 12507 | N38: =+M38 -> 12507 | S38: =+'2023-2027_bez PI'!Q31 -> 5145164 | T38: =+S38 -> 5145164
K41: =SUM(K36:K40) -> 2384 | L41: =SUM(L36:L40) -> 21937 | M41: =SUM(M36:M40) -> 34444 | N41: =SUM(N36:N40) -> 34444 | Q41: =SUM(Q36:Q40) -> 1506332 | R41: =SUM(R36:R40) -> 11125133 | S41: =SUM(S36:S40) -> 16270297 | T41: =SUM(T36:T40) -> 16270297
J43: 15. 02.01.00. | K43: 2023.g. 4M | L43: 2024.g. | M43: 2025.g. | N43: 2026.g. | P43: 29. 02.03.00. | Q43: 2023.g. 4M | R43: 2024.g. | S43: 2025.g. | T43: 2026.g.
K44: =+'2023-2027_bez PI'!K24 -> 735635 | L44: =+K44*3 -> 2206905 | M44: =+L44 -> 2206905 | N44: =+M44 -> 2206905 | Q44: =+'2023-2027_bez PI'!K35 -> 3677 | R44: =+Q44*3 -> 11031 | S44: =+R44 -> 11031 | T44: =+S44 -> 11031
L45: =+'2023-2027_bez PI'!N24 -> 6318122 | M45: =+L45 -> 6318122 | N45: =+M45 -> 6318122 | R45: =+'2023-2027_bez PI'!N35 -> 31561 | S45: =+R45 -> 31561 | T45: =+S45 -> 31561
M46: =+'2023-2027_bez PI'!Q24 -> 4920845 | N46: =+M46 -> 4920845 | S46: =+'2023-2027_bez PI'!Q35 -> 24581 | T46: =+S46 -> 24581
K49: =SUM(K44:K48) -> 735635 | L49: =SUM(L44:L48) -> 8525027 | M49: =SUM(M44:M48) -> 13445872 | N49: =SUM(N44:N48) -> 13445872 | Q49: =SUM(Q44:Q48) -> 3677 | R49: =SUM(R44:R48) -> 42592 | S49: =SUM(S44:S48) -> 67173 | T49: =SUM(T44:T48) -> 67173
J51: 15. 09.10.00. | K51: 2023.g. 4M | L51: 2024.g. | M51: 2025.g. | N51: 2026.g. | P51: 29. 33.09.00. | Q51: 2023.g. 4M | R51: 2024.g. | S51: 2025.g. | T51: 2026.g.
...

Sheet Kopsavilkums
B1: =+B2/A2-100% -> 0.133 | C1: =+C2/B2-100% -> 0.122 | D1: =+D2/C2-100% -> 0.085 | E1: =+E2/D2-100% -> 0.084 | F1: pieaugums | M1: Viss kopā
A2: 7.5 | B2: 8.5 | C2: 9.54 | D2: 10.35 | E2: 11.22 | F2: stundas likme - skolas, ievirze | N2: 2023.g. 4 mēneši | O2: 2024.g. | P2: 2025.g. | Q2: 2026.g.
B3: 2023.g. 4 mēneši | C3: 2024.g. | D3: 2025.g. | E3: 2026.g. | M3: Pašvaldību pamata un vispārējā vidējā | N3: 1293620 | O3: 21400680 | P3: 43372680 | Q3: 43372680 | R3: Aprēķins atsevišķā failā "_20230202_pasvaldibu_skolas"
A4: Pamata un vispārējā vidējā (bez pašv. skolām), speciālā, profesionālā un interešu izglītība | B4: =+B23 -> 2366940 | C4: =+C23 -> 27428354 | D4: =+D23 -> 43260376 | E4: =+E23 -> 43260376 | M4: Pamata un vispārējā vidējā (bez pašv. skolām), speciālā, profesionālā un interešu izglītība | N4: =+B4 -> 2366940 | O4: =+C4 -> 27428354 | P4: =+D4 -> 43260376 | Q4: =+E4 -> 43260376
A5: Profesionālā ievirze - Sports | B5: =+H23 -> 995961 | C5: =+I23 -> 6095283 | D5: =+J23 -> 8515469 | E5: =+K23 -> 8515469 | M5: Profesionālā ievirze - Sports | N5: =+B5 -> 995961 | O5: =+C5 -> 6095283 | P5: =+D5 -> 8515469 | Q5: =+E5 -> 8515469
A6: Profesionālā ievirze - Kultūra | B6: =+H31 -> 1160086 | C6: =+I31 -> 7099725 | D6: =+J31 -> 9918733 | E6: =+K31 -> 9918733 | M6: Profesionālā ievirze - Kultūra | N6: =+B6 -> 1160086 | O6: =+C6 -> 7099725 | P6: =+D6 -> 9918733 | Q6: =+E6 -> 9918733
A7: Pirmsskolas izglītība | B7: =+B31 -> 3223226 | C7: =+C31 -> 21437493 | D7: =+D31 -> 33387754 | E7: =+E31 -> 33387754 | M7: Pirmsskolas izglītība | N7: =+B7 -> 3223226 | O7: =+C7 -> 21437493 | P7: =+D7 -> 33387754 | Q7: =+E7 -> 33387754
A8: KOPĀ | B8: =SUM(B4:B7) -> 7746213 | C8: =SUM(C4:C7) -> 62060855 | D8: =SUM(D4:D7) -> 95082332 | E8: =SUM(E4:E7) -> 95082332 | M8: KOPĀ | N8: =SUM(N3:N7) -> 9039833 | O8: =SUM(O3:O7) -> 83461535 | P8: =SUM(P3:P7) -> 138455012 | Q8: =SUM(Q3:Q7) -> 138455012
A9: 6.69 | B9: 7.75 | C9: 9.04 | D9: 10.1 | E9: 11.22 | F9: stundas likme - pirmsskola
B10: =B9/A9-100% -> 0.158 | C10: =C9/B9-100% -> 0.166 | D10: =D9/C9-100% -> 0.117 | E10: =E9/D9-100% -> 0.111 | F10: pieaugums
A12: Pamata un vispārējā vidējā (bez pašv. skolām), speciālā, profesionālā un interešu izglītība, prof. ievirze | B12: =SUM(B4:B6) -> 4522987 | C12: =SUM(C4:C6) -> 40623362 | D12: =SUM(D4:D6) -> 61694578 | E12: =SUM(E4:E6) -> 61694578
A13: Pirmsskolas izglītība | B13: =+B7 -> 3223226 | C13: =+C7 -> 21437493 | D13: =+D7 -> 33387754 | E13: =+E7 -> 33387754
A14: KOPĀ | B14: =SUM(B12:B13) -> 7746213 | C14: =SUM(C12:C13) -> 62060855 | D14: =SUM(D12:D13) -> 95082332 | E14: =SUM(E12:E13) -> 95082332
A17: Pamata un vispārējā vidējā (bez pašvaldību skolām), speciālā, profesionālā un interešu izglītība | B17: 2023.g. 4 mēneši | C17: 2024.g. | D17: 2025.g. | E17: 2026.g. | G17: Profesionālā ievirze – Sports | H17: 2023.g. 4 mēneši | I17: 2024.g. | J17: 2025.g. | K17: 2026.g.
B18: =+'2023-2027_bez PI'!K39 -> 2366940 | C18: =+B18*3 -> 7100820 | D18: =+C18 -> 7100820 | E18: =+D18 -> 7100820 | H18: =+'2023-2027_bez PI'!K40 -> 995961 | I18: =+H18*3 -> 2987883 | J18: =+I18 -> 2987883 | K18: =+J18 -> 2987883
C19: =+'2023-2027_bez PI'!N39 -> 20327534 | D19: =+C19 -> 20327534 | E19: =+D19 -> 20327534 | I19: =+'2023-2027_bez PI'!N40 -> 3107400 | J19: =+I19 -> 3107400 | K19: =+J19 -> 3107400
D20: =+'2023-2027_bez PI'!Q39 -> 15832022 | E20: =+D20 -> 15832022 | J20: =+'2023-2027_bez PI'!Q40 -> 2420186 | K20: =+J20 -> 2420186
B23: =SUM(B18:B22) -> 2366940 | C23: =SUM(C18:C22) -> 27428354 | D23: =SUM(D18:D22) -> 43260376 | E23: =SUM(E18:E22) -> 43260376 | H23: =SUM(H18:H22) -> 995961 | I23: =SUM(I18:I22) -> 6095283 | J23: =SUM(J18:J22) -> 8515469 | K23: =SUM(K18:K22) -> 8515469
A25: Pirmsskola | B25: 2023.g. 4 mēneši | C25: 2024.g. | D25: 2025.g. | E25: 2026.g. | G25: Profesionālā ievirze – Kultūra | H25: 2023.g. 4 mēneši | I25: 2024.g. | J25: 2025.g. | K25: 2026.g.
B26: =+'2023-2027_PI'!K11 -> 3223226 | C26: =+B26*3 -> 9669678 | D26: =+C26 -> 9669678 | E26: =+D26 -> 9669678 | H26: =+'2023-2027_bez PI'!K41 -> 1160086 | I26: =+H26*3 -> 3480258 | J26: =+I26 -> 3480258 | K26: =+J26 -> 3480258
C27: =+'2023-2027_PI'!N11 -> 11767815 | D27: =+C27 -> 11767815 | E27: =+D27 -> 11767815 | I27: =+'2023-2027_bez PI'!N41 -> 3619467 | J27: =+I27 -> 3619467 | K27: =+J27 -> 3619467
D28: =+'2023-2027_PI'!Q11 -> 11950261 | E28: =+D28 -> 11950261 | J28: =+'2023-2027_bez PI'!Q41 -> 2819008 | K28: =+J28 -> 2819008
B31: =SUM(B26:B30) -> 3223226 | C31: =SUM(C26:C30) -> 21437493 | D31: =SUM(D26:D30) -> 33387754 | E31: =SUM(E26:E30) -> 33387754 | H31: =SUM(H26:H30) -> 1160086 | I31: =SUM(I26:I30) -> 7099725 | J31: =SUM(J26:J30) -> 9918733 | K31: =SUM(K26:K30) -> 9918733
A34: Kopā bez PII | B34: 2023.g. 4 mēneši | C34: 2024.g. | D34: 2025.g. | E34: 2026.g. | G34: Viss kopā | H34: 2023.g. 4 mēneši | I34: 2024.g. | J34: 2025.g. | K34: 2026.g.
B35: =+B18+H18+H26 -> 4522987 | C35: =+B35*3 -> 13568961 | D35: =+C35 -> 13568961 | E35: =+D35 -> 13568961 | H35: =+B26+B35 -> 7746213 | I35: =+H35*3 -> 23238639 | J35: =+I35 -> 23238639 | K35: =+J35 -> 23238639
C36: =+C19+I19+I27 -> 27054401 | D36: =+C36 -> 27054401 | E36: =+D36 -> 27054401 | I36: =+C27+C36 -> 38822216 | J36: =+I36 -> 38822216 | K36: =+J36 -> 38822216
D37: =+D20+J20+J28 -> 21071216 | E37: =+D37 -> 21071216 | J37: =+D28+D37 -> 33021477 | K37: =+J37 -> 33021477
E38: =+E21+K21+K29 -> 0 | K38: =+E29+E38 -> 0
B40: =SUM(B35:B39) -> 4522987 | C40: =SUM(C35:C39) -> 40623362 | D40: =SUM(D35:D39) -> 61694578 | E40: =SUM(E35:E39) -> 61694578 | H40: =SUM(H35:H39) -> 7746213 | I40: =SUM(I35:I39) -> 62060855 | J40: =SUM(J35:J39) -> 95082332 | K40: =SUM(K35:K39) -> 95082332

Sheet 2023-2027_bez PI
A1: Pedagogu darba samaksa un valsts sociālās apdrošināšanas obligātās iemaksas
G2: =+G6/G9-100% -> 0.084 | I2: =+I6/I9-100% -> 0.133 | M2: =+M6/M9-100% -> 0.122 | P2: =+P6/P9-100% -> 0.085
A3: Resors Nr. | B3: Ministrija | C3: programma/ apakšprogramma | D3: Apstiprināts pagaidu budžets 2023. gadam | E3: Piešķirts Streika rezultātā (gadam) | F3: 2023. gads bez Streika rezultātā piešķirtā finansējuma | G3: 01.09.2023. | L3: 01.01.2024. | O3: 01.01.2025. | R3: Papildu finansējums pavisam kopā visiem gadiem
G4: Pamata un visp. vid., spec., prof., ievirze, interešu | L4: Pamata un visp. vid., spec., prof., ievirze, interešu | O4: Pamata un visp. vid., spec., prof., ievirze, interešu
G5: Nepieciešams 4 mēnešiem no 01.09.2023. | H5: papildu nepieciešams 4 mēnešiem (nodrošināts streika ievaros) | I5: Nepieciešams 4 mēnešiem no 01.09.2023. | J5: papildu nepieciešams 4 mēnešiem | K5: papildu nepieciešams 4 mēnešiem virs streikā piešķirtā | L5: Finansējums 2024.gadam, ņemot vērā 2023. gada 4 mēnešu ietekmi | M5: Nepieciešams no 01.01.2024. | N5: papildu nepieciešams gadam | O5: Finansējums 2025.gadam, ņemot vērā 2024. gada ietekmi | P5: Nepieciešams gadam no 01.01.2025. | Q5: papildu nepieciešams gadam
G6: 8.13 | I6: 8.5 | M6: 9.54 | P6: 10.35
G7: =+G6*30*4 -> 976 | I7: =+I6*30*4 -> 1020 | M7: =+M6*30*4 -> 1145 | P7: =+P6*30*4 -> 1242
G8: līdz 31.08.2023. bija | I8: līdz 31.08.2023. bija | M8: līdz 31.12.2023. bija | P8: līdz 31.12.2024. bija
G9: 7.5 | I9: 7.5 | M9: =+I6 -> 8.5 | P9: =+M6 -> 9.54
G10: =+G9*30*4 -> 900 | I10: =+I9*30*4 -> 900 | M10: =+M9*30*4 -> 1020 | P10: =+P9*30*4 -> 1145
A11: KOPĀ | D11: =+D12+D14+D18+D22+D24+D25+D26+D27+D28+D29+D30+D35+D36+D31 -> 207548744 | E11: =+E12+E14+E18+E22+E24+E25+E26+E27+E28+E29+E30+E35+E36+E31 -> 19983637 | F11: =+F12+F14+F18+F22+F24+F25+F26+F27+F28+F29+F30+F35+F36+F31 -> 187565107 | G11: =+G12+G14+G18+G22+G24+G25+G26+G27+G28+G29+G30+G35+G36+G31 -> 52008688 | H11: =+H12+H14+H18+H22+H24+H25+H26+H27+H28+H29+H30+H35+H36+H31 -> 4030192 | I11: =+I12+I14+I18+I22+I24+I25+I26+I27+I28+I29+I30+I35+I36+I31 -> 72702028 | J11: =+J12+J14+J18+J22+J24+J25+J26+J27+J28+J29+J30+J35+J36+J31 -> 8553179 | K11: =+K12+K14+K18+K22+K24+K25+K26+K27+K28+K29+K30+K35+K36+K31 -> 4522987 | ... R11: =+R12+R14+R18+R22+R24+R25+R26+R27+R28+R29+R30+R35+R36+R31 -> 61694578
A12: 62 | B12: MD/IZM | C12: 01.00.00. | D12: =SUM(D13:D13) -> 39086622 | E12: =SUM(E13:E13) -> 3675962 | F12: =SUM(F13:F13) -> 35410660 | G12: =SUM(G13:G13) -> 12795052 | H12: =SUM(H13:H13) -> 991499 | I12: =SUM(I13:I13) -> 13377360 | J12: =SUM(J13:J13) -> 1573807 | K12: =SUM(K13:K13) -> 582308 | ... R12: =SUM(R13:R13) -> 10634225 | S12: Speciālās izgl. iestādes, pirmsskolu grupas
D13: 39086622 | E13: 3675962 | F13: =+D13-E13 -> 35410660 | G13: =+(F13*$G$6/$G$9)/3 -> 12795052 | H13: =+G13-F13/3 -> 991499 | I13: =+(F13*$I$6/$I$9)/3 -> 13377360 | J13: =+I13-F13/3 -> 1573807 | K13: =+J13-H13 -> 582308 | L13: =+D13+K13*3 -> 40833546 | M13: =+L13*$M$6/$M$9 -> 45829650 | N13: =+M13-L13 -> 4996104 | O13: =L13+N13 -> 45829650 | P13: =+O13*$P$6/$P$9 -> 49720847 | Q13: =+P13-O13 -> 3891197 | R13: =Q13+N13+K13*3 -> 10634225 | S13: spec.skolas | T13: Speciālā izglītība
C14: 05.00.00. | D14: =SUM(D15:D17) -> 28955416 | E14: =SUM(E15:E17) -> 2696120 | F14: =SUM(F15:F17) -> 26259296 | G14: =SUM(G15:G17) -> 9488359 | H14: =SUM(H15:H17) -> 735260 | I14: =SUM(I15:I17) -> 9920178 | J14: =SUM(J15:J17) -> 1167079 | K14: =SUM(K15:K17) -> 431819 | ... R14: =SUM(R15:R17) -> 7879470 | S14: Pamata un vispŗējā vidējā izgl., spec. bez internāta, prof., interešu
D15: 3071353 | E15: 287689 | F15: =+D15-E15 -> 2783664 | G15: =+(F15*$G$6/$G$9)/3 -> 1005831 | H15: =+G15-F15/3 -> 77943 | I15: =+(F15*$I$6/$I$9)/3 -> 1051606 | J15: =+I15-F15/3 -> 123718 | K15: =+J15-H15 -> 45775 | L15: =+D15+K15*3 -> 3208678 | M15: =+L15*$M$6/$M$9 -> 3601269 | N15: =+M15-L15 -> 392591 | O15: =L15+N15 -> 3601269 | P15: =+O15*$P$6/$P$9 -> 3907037 | Q15: =+P15-O15 -> 305768 | R15: =Q15+N15+K15*3 -> 835684 | S15: spec.bez internāta | T15: Speciālā izglītība
D16: 2214650 | E16: 196862 | F16: =+D16-E16 -> 2017788 | G16: =+(F16*$G$6/$G$9)/3 -> 729094 | H16: =+G16-F16/3 -> 56498 | I16: =+(F16*$I$6/$I$9)/3 -> 762275 | J16: =+I16-F16/3 -> 89679 | K16: =+J16-H16 -> 33181 | L16: =+D16+K16*3 -> 2314193 | M16: =+L16*$M$6/$M$9 -> 2597341 | N16: =+M16-L16 -> 283148 | O16: =L16+N16 -> 2597341 | P16: =+O16*$P$6/$P$9 -> 2817870 | Q16: =+P16-O16 -> 220529 | R16: =Q16+N16+K16*3 -> 603220 | S16: prof.skolas | T16: Profesionālā izglītība
D17: 23669413 | E17: 2211569 | F17: =+D17-E17 -> 21457844 | G17: =+(F17*$G$6/$G$9)/3 -> 7753434 | H17: =+G17-F17/3 -> 600819 | I17: =+(F17*$I$6/$I$9)/3 -> 8106297 | J17: =+I17-F17/3 -> 953682 | K17: =+J17-H17 -> 352863 | L17: =+D17+K17*3 -> 24728002 | M17: =+L17*$M$6/$M$9 -> 27753546 | N17: =+M17-L17 -> 3025544 | O17: =L17+N17 -> 27753546 | P17: =+O17*$P$6/$P$9 -> 30109979 | Q17: =+P17-O17 -> 2356433 | R17: =Q17+N17+K17*3 -> 6440566 | S17: interešu izglītība | T17: Interešu izglītība
A18: 15 | B18: IZM | C18: 01.05.00. | D18: =SUM(D19:D21) -> 14718805 | E18: =SUM(E19:E21) -> 1378845 | F18: =SUM(F19:F21) -> 13339960 | G18: =SUM(G19:G21) -> 4820172 | H18: =SUM(H19:H21) -> 373519 | I18: =SUM(I19:I21) -> 5039541 | J18: =SUM(J19:J21) -> 592888 | K18: =SUM(K19:K21) -> 219369 | ... R18: =SUM(R19:R21) -> 4004848 | S18: Privātās izglītības iestādes
D19: 13653176 | E19: 1302328 | F19: =+D19-E19 -> 12350848 | G19: =+(F19*$G$6/$G$9)/3 -> 4462773 | H19: =+G19-F19/3 -> 345824 | I19: =+(F19*$I$6/$I$9)/3 -> 4665876 | J19: =+I19-F19/3 -> 548927 | K19: =+J19-H19 -> 203103 | L19: =+D19+K19*3 -> 14262485 | M19: =+L19*$M$6/$M$9 -> 16007542 | N19: =+M19-L19 -> 1745057 | O19: =L19+N19 -> 16007542 | P19: =+O19*$P$6/$P$9 -> 17366673 | Q19: =+P19-O19 -> 1359131 | R19: =Q19+N19+K19*3 -> 3713497 | S19: pamata un visp.vid. | T19: Pamata un vispārējā vidējā izglītība - viena izglīt. Izmaksa
D20: 271788 | E20: 5952 | F20: =+D20-E20 -> 265836 | G20: =+(F20*$G$6/$G$9)/3 -> 96055 | H20: =+G20-F20/3 -> 7443 | I20: =+(F20*$I$6/$I$9)/3 -> 100427 | J20: =+I20-F20/3 -> 11815 | K20: =+J20-H20 -> 4372 | L20: =+D20+K20*3 -> 284904 | M20: =+L20*$M$6/$M$9 -> 319763 | N20: =+M20-L20 -> 34859 | O20: =L20+N20 -> 319763 | P20: =+O20*$P$6/$P$9 -> 346913 | Q20: =+P20-O20 -> 27150 | R20: =Q20+N20+K20*3 -> 75125 | S20: starptautiskās skolas | T20: Pamata un vispārējā vidējā izglītība
D21: 793841 | E21: 70565 | F21: =+D21-E21 -> 723276 | G21: =+(F21*$G$6/$G$9)/3 -> 261344 | H21: =+G21-F21/3 -> 20252 | I21: =+(F21*$I$6/$I$9)/3 -> 273238 | J21: =+I21-F21/3 -> 32146 | K21: =+J21-H21 -> 11894 | L21: =+D21+K21*3 -> 829523 | M21: =+L21*$M$6/$M$9 -> 931018 | N21: =+M21-L21 -> 101495 | O21: =L21+N21 -> 931018 | P21: =+O21*$P$6/$P$9 -> 1010067 | Q21: =+P21-O21 -> 79049 | R21: =Q21+N21+K21*3 -> 216226 | S21: prof.skolas | T21: Profesionālā izglītība
C22: 01.08.00. | D22: =SUM(D23:D23) -> 82871 | E22: =SUM(E23:E23) -> 7722 | F22: =SUM(F23:F23) -> 75149 | G22: =SUM(G23:G23) -> 27154 | H22: =SUM(H23:H23) -> 2104 | I22: =SUM(I23:I23) -> 28390 | J22: =SUM(J23:J23) -> 3340 | K22: =SUM(K23:K23) -> 1236 | ... R22: =SUM(R23:R23) -> 22551 | S22: Eiropas skolas
D23: 82871 | E23: 7722 | F23: =+D23-E23 -> 75149 | G23: =+(F23*$G$6/$G$9)/3 -> 27154 | H23: =+G23-F23/3 -> 2104 | I23: =+(F23*$I$6/$I$9)/3 -> 28390 | J23: =+I23-F23/3 -> 3340 | K23: =+J23-H23 -> 1236 | L23: =+D23+K23*3 -> 86579 | M23: =+L23*$M$6/$M$9 -> 97172 | N23: =+M23-L23 -> 10593 | O23: =L23+N23 -> 97172 | P23: =+O23*$P$6/$P$9 -> 105422 | Q23: =+P23-O23 -> 8250 | R23: =Q23+N23+K23*3 -> 22551 | S23: pamata un visp.vid. | T23: Pamata un vispārējā vidējā izglītība
C24: 02.01.00. | D24: 49431596 | E24: 4697040 | F24: =+D24-E24 -> 44734556 | G24: =+(F24*$G$6/$G$9)/3 -> 16164086 | H24: =+G24-F24/3 -> 1252567 | I24: =+(F24*$I$6/$I$9)/3 -> 16899721 | J24: =+I24-F24/3 -> 1988202 | K24: =+J24-H24 -> 735635 | L24: =+D24+K24*3 -> 51638501 | M24: =+L24*$M$6/$M$9 -> 57956623 | N24: =+M24-L24 -> 6318122 | O24: =L24+N24 -> 57956623 | P24: =+O24*$P$6/$P$9 -> 62877468 | Q24: =+P24-O24 -> 4920845 | R24: =Q24+N24+K24*3 -> 13445872 | S24: Prof.skolas | T24: Profesionālā izglītība
C25: 09.10.00. | D25: 1197835 | E25: 118704 | F25: =+D25-E25 -> 1079131 | G25: =+(F25*$G$6/$G$9)/3 -> 389926 | H25: =+G25-F25/3 -> 30216 | I25: =+(F25*$I$6/$I$9)/3 -> 407672 | J25: =+I25-F25/3 -> 47962 | K25: =+J25-H25 -> 17746 | L25: =+D25+K25*3 -> 1251073 | M25: =+L25*$M$6/$M$9 -> 1404145 | N25: =+M25-L25 -> 153072 | O25: =L25+N25 -> 1404145 | P25: =+O25*$P$6/$P$9 -> 1523365 | Q25: =+P25-O25 -> 119220 | R25: =Q25+N25+K25*3 -> 325530 | S25: Murjāņu sporta ģimnāzija | T25: Pamata un vispārējā vidējā izglītība
C26: 09.19.00. | D26: 22409133 | E26: 2305589 | F26: =+D26-E26 -> 20103544 | I26: =+(D26*$I$6/$I$9)/3 -> 8465672 | J26: =+I26-D26/3 -> 995961 | K26: =+J26-H26 -> 995961 | L26: =+D26+K26*3 -> 25397016 | M26: =+L26*$M$6/$M$9 -> 28504416 | N26: =+M26-L26 -> 3107400 | O26: =L26+N26 -> 28504416 | P26: =+O26*$P$6/$P$9 -> 30924602 | Q26: =+P26-O26 -> 2420186 | R26: =Q26+N26+K26*3 -> 8515469 | S26: Profesionālās ievirzes sporta pedagogu darba samaksa | T26: Profesionālā ievirze – Sports
A27: 10 | B27: AM | C27: 22.10.00. | D27: 246920 | E27: 25348 | F27: =+D27-E27 -> 221572 | G27: =+(F27*$G$6/$G$9)/3 -> 80061 | H27: =+G27-F27/3 -> 6204 | I27: =+(F27*$I$6/$I$9)/3 -> 83705 | J27: =+I27-F27/3 -> 9848 | K27: =+J27-H27 -> 3644 | L27: =+D27+K27*3 -> 257852 | M27: =+L27*$M$6/$M$9 -> 289401 | N27: =+M27-L27 -> 31549 | O27: =L27+N27 -> 289401 | P27: =+O27*$P$6/$P$9 -> 313973 | Q27: =+P27-O27 -> 24572 | R27: =Q27+N27+K27*3 -> 67053 | S27: Pulkveža Oskara Kalpaka profesionālā vidusskola | T27: Profesionālā izglītība
A28: 16 | B28: ZM | C28: 22.01.00. | D28: 848870 | E28: 83556 | F28: =+D28-E28 -> 765314 | G28: =+(F28*$G$6/$G$9)/3 -> 276533 | H28: =+G28-F28/3 -> 21428 | I28: =+(F28*$I$6/$I$9)/3 -> 289119 | J28: =+I28-F28/3 -> 34014 | K28: =+J28-H28 -> 12586 | L28: =+D28+K28*3 -> 886628 | M28: =+L28*$M$6/$M$9 -> 995110 | N28: =+M28-L28 -> 108482 | O28: =L28+N28 -> 995110 | P28: =+O28*$P$6/$P$9 -> 1079600 | Q28: =+P28-O28 -> 84490 | R28: =Q28+N28+K28*3 -> 230730 | S28: Malnavas koledža; Bulduru Dārzkopības vidusskola | T28: Profesionālā izglītība
A29: 18 | B29: LM | C29: 05.37.00. | D29: 456659 | E29: 43215 | F29: =+D29-E29 -> 413444 | G29: =+(F29*$G$6/$G$9)/3 -> 149391 | H29: =+G29-F29/3 -> 11576 | I29: =+(F29*$I$6/$I$9)/3 -> 156190 | J29: =+I29-F29/3 -> 18375 | K29: =+J29-H29 -> 6799 | L29: =+D29+K29*3 -> 477056 | M29: =+L29*$M$6/$M$9 -> 535425 | N29: =+M29-L29 -> 58369 | O29: =L29+N29 -> 535425 | P29: =+O29*$P$6/$P$9 -> 580886 | Q29: =+P29-O29 -> 45461 | R29: =Q29+N29+K29*3 -> 124227 | S29: SIVA Jūrmalas profesionālā vidusskola | T29: Profesionālā izglītība
A30: 19 | B30: TM | C30: 04.01.00. | D30: 131200 | E30: 11510 | F30: =+D30-E30 -> 119690 | G30: =+(F30*$G$6/$G$9)/3 -> 43248 | H30: =+G30-F30/3 -> 3351 | I30: =+(F30*$I$6/$I$9)/3 -> 45216 | J30: =+I30-F30/3 -> 5319 | K30: =+J30-H30 -> 1968 | L30: =+D30+K30*3 -> 137104 | M30: =+L30*$M$6/$M$9 -> 153879 | N30: =+M30-L30 -> 16775 | O30: =L30+N30 -> 153879 | P30: =+O30*$P$6/$P$9 -> 166944 | Q30: =+P30-O30 -> 13065 | R30: =Q30+N30+K30*3 -> 35744 | S30: Ieslpdzījuma vietu pārvalde | T30: Pamata un vispārējā vidējā izglītība
A31: 22 | B31: KM | C31: 20.00.00. | D31: =SUM(D32:D34) -> 49473469 | E31: =SUM(E32:E34) -> 4891905 | F31: =SUM(F32:F34) -> 44581564 | G31: =SUM(G32:G34) -> 7608049 | H31: =SUM(H32:H34) -> 589554 | I31: =SUM(I32:I34) -> 17815023 | J31: =SUM(J32:J34) -> 2095886 | K31: =SUM(K32:K34) -> 1506332 | ... R31: =SUM(R32:R34) -> 16270297
D32: 21461752 | E32: 2126796 | F32: =+D32-E32 -> 19334956 | G32: =+(F32*$G$6/$G$9)/3 -> 6986364 | H32: =+G32-F32/3 -> 541379 | I32: =+(F32*$I$6/$I$9)/3 -> 7304317 | J32: =+I32-F32/3 -> 859332 | K32: =+J32-H32 -> 317953 | L32: =+D32+K32*3 -> 22415611 | M32: =+L32*$M$6/$M$9 -> 25158227 | N32: =+M32-L32 -> 2742616 | O32: =L32+N32 -> 25158227 | P32: =+O32*$P$6/$P$9 -> 27294303 | Q32: =+P32-O32 -> 2136076 | R32: =Q32+N32+K32*3 -> 5832551 | S32: profesionālajām vidusskolām | T32: Profesionālā izglītība
D33: 1909790 | E33: 189259 | F33: =+D33-E33 -> 1720531 | G33: =+(F33*$G$6/$G$9)/3 -> 621685 | H33: =+G33-F33/3 -> 48175 | I33: =+(F33*$I$6/$I$9)/3 -> 649978 | J33: =+I33-F33/3 -> 76468 | K33: =+J33-H33 -> 28293 | L33: =+D33+K33*3 -> 1994669 | M33: =+L33*$M$6/$M$9 -> 2238723 | N33: =+M33-L33 -> 244054 | O33: =L33+N33 -> 2238723 | P33: =+O33*$P$6/$P$9 -> 2428803 | Q33: =+P33-O33 -> 190080 | R33: =Q33+N33+K33*3 -> 519013 | S33: pašvaldību vidusskolām | T33: Profesionālā izglītība
D34: 26101927 | E34: 2575850 | F34: =+D34-E34 -> 23526077 | I34: =+(D34*$I$6/$I$9)/3 -> 9860728 | J34: =+I34-D34/3 -> 1160086 | K34: =+J34-H34 -> 1160086 | L34: =+D34+K34*3 -> 29582185 | M34: =+L34*$M$6/$M$9 -> 33201652 | N34: =+M34-L34 -> 3619467 | O34: =L34+N34 -> 33201652 | P34: =+O34*$P$6/$P$9 -> 36020660 | Q34: =+P34-O34 -> 2819008 | R34: =Q34+N34+K34*3 -> 9918733 | S34: mākslu ievirzes skolām | T34: Profesionālā ievirze – KM
A35: 29 | B35: VM | C35: 02.03.00. | D35: 246922 | E35: 23336 | F35: =+D35-E35 -> 223586 | G35: =+(F35*$G$6/$G$9)/3 -> 80789 | H35: =+G35-F35/3 -> 6260 | I35: =+(F35*$I$6/$I$9)/3 -> 84466 | J35: =+I35-F35/3 -> 9937 | K35: =+J35-H35 -> 3677 | L35: =+D35+K35*3 -> 257953 | M35: =+L35*$M$6/$M$9 -> 289514 | N35: =+M35-L35 -> 31561 | O35: =L35+N35 -> 289514 | P35: =+O35*$P$6/$P$9 -> 314095 | Q35: =+P35-O35 -> 24581 | R35: =Q35+N35+K35*3 -> 67173 | S35: Sarkanā krusta medicīnas koledža | T35: Profesionālā izglītība
C36: 33.09.00. | D36: 262426 | E36: 24785 | F36: =+D36-E36 -> 237641 | G36: =+(F36*$G$6/$G$9)/3 -> 85868 | H36: =+G36-F36/3 -> 6654 | I36: =+(F36*$I$6/$I$9)/3 -> 89775 | J36: =+I36-F36/3 -> 10561 | K36: =+J36-H36 -> 3907 | L36: =+D36+K36*3 -> 274147 | M36: =+L36*$M$6/$M$9 -> 307690 | N36: =+M36-L36 -> 33543 | O36: =L36+N36 -> 307690 | P36: =+O36*$P$6/$P$9 -> 333815 | Q36: =+P36-O36 -> 26125 | R36: =Q36+N36+K36*3 -> 71389 | S36: Interešu izglītība "Bērnu klīniskās universitātes slimnīca" | T36: Interešu izglītība
A39: Pamata un vispārējā vidējā (bez pašv. skolām), speciālā, profesionālā un interešu izglītība | D39: =+D13+D15+D16+D17+D19+D20+D21+D23+D24+D25+D27+D28+D29+D30+D32+D33+D35+D36 -> 159037684 | E39: =+E13+E15+E16+E17+E19+E20+E21+E23+E24+E25+E27+E28+E29+E30+E32+E33+E35+E36 -> 15102198 | F39: =+F13+F15+F16+F17+F19+F20+F21+F23+F24+F25+F27+F28+F29+F30+F32+F33+F35+F36 -> 143935486 | G39: =+G13+G15+G16+G17+G19+G20+G21+G23+G24+G25+G27+G28+G29+G30+G32+G33+G35+G36 -> 52008688 | H39: =+H13+H15+H16+H17+H19+H20+H21+H23+H24+H25+H27+H28+H29+H30+H32+H33+H35+H36 -> 4030192 | I39: =+I13+I15+I16+I17+I19+I20+I21+I23+I24+I25+I27+I28+I29+I30+I32+I33+I35+I36 -> 54375628 | J39: =+J13+J15+J16+J17+J19+J20+J21+J23+J24+J25+J27+J28+J29+J30+J32+J33+J35+J36 -> 6397132 | K39: =+K13+K15+K16+K17+K19+K20+K21+K23+K24+K25+K27+K28+K29+K30+K32+K33+K35+K36 -> 2366940 | ... R39: =+R13+R15+R16+R17+R19+R20+R21+R23+R24+R25+R27+R28+R29+R30+R32+R33+R35+R36 -> 43260376
A40: Profesionālā ievirze Sports | D40: =+D26 -> 22409133 | E40: =+E26 -> 2305589 | F40: =+F26 -> 20103544 | G40: =+G26 -> 0 | H40: =+H26 -> 0 | I40: =+I26 -> 8465672 | J40: =+J26 -> 995961 | K40: =+K26 -> 995961 | ... R40: =+R26 -> 8515469
A41: Profesionālā ievirze Kultūra | D41: =+D34 -> 26101927 | E41: =+E34 -> 2575850 | F41: =+F34 -> 23526077 | G41: =+G34 -> 0 | H41: =+H34 -> 0 | I41: =+I34 -> 9860728 | J41: =+J34 -> 1160086 | K41: =+K34 -> 1160086 | ... R41: =+R34 -> 9918733
A42: KOPĀ | D42: =SUM(D39:D41) -> 207548744 | E42: =SUM(E39:E41) -> 19983637 | F42: =SUM(F39:F41) -> 187565107 | G42: =SUM(G39:G41) -> 52008688 | H42: =SUM(H39:H41) -> 4030192 | I42: =SUM(I39:I41) -> 72702028 | J42: =SUM(J39:J41) -> 8553179 | K42: =SUM(K39:K41) -> 4522987 | ... R42: =SUM(R39:R41) -> 61694578
...

Sheet 2023-2027_PI
A1: Pedagogu darba samaksa un valsts sociālās apdrošināšanas obligātās iemaksas
I2: =+I6/I9-100% -> 0.158 | M2: =+M6/M9-100% -> 0.166 | P2: =+P6/P9-100% -> 0.145
A3: Resors Nr. | B3: Ministrija | C3: programma/ apakšprogramma | D3: Apstiprināts pagaidu budžets 2023. gadam | E3: Piešķirts Streika rezultātā (gadam) | F3: 2023. gads bez Streika rezultātā piešķirtā finansējuma | G3: 01.09.2023. | L3: 01.01.2024. | O3: 01.01.2025. | R3: Papildu finansējums pavisam kopā visiem gadiem
G4: Pirmsskolas izglītība | L4: Pirmsskolas izglītība | O4: Pirmsskolas izglītība
G5: Nepieciešams 4 mēnešiem no 01.01.2023. | H5: papildu nepieciešams 4 mēnešiem (nodrošināts streika ievaros) | I5: Nepieciešams 4 mēnešiem no 01.09.2023. | J5: papildu nepieciešams 4 mēnešiem | K5: papildu nepieciešams 4 mēnešiem virs streikā piešķirtā | L5: Finansējums 2024.gadam, ņemot vērā 2023. gada 4 mēnešu ietekmi | M5: Nepieciešams no 01.01.2024. | N5: papildu nepieciešams gadam | O5: Finansējums 2025.gadam, ņemot vērā 2024. gada ietekmi | P5: Nepieciešams gadam no 01.01.2025. | Q5: papildu nepieciešams gadam
I6: 7.75 | M6: 9.04 | P6: 10.35
I7: =+I6*40*4 -> 1240 | M7: =+M6*40*4 -> 1446 | P7: =+P6*40*4 -> 1656
G8: līdz 31.08.2023. bija | I8: līdz 31.08.2023. bija | M8: līdz 31.12.2023. bija | P8: līdz 31.12.2024. bija
I9: 6.69 | M9: =+I6 -> 7.75 | P9: =+M6 -> 9.04
I10: =+I9*40*4 -> 1070 | M10: =+M9*40*4 -> 1240 | P10: =+P9*40*4 -> 1446
A11: KOPĀ | D11: =+D12+D14+D15+D17 -> 61028435 | E11: =+E12+E14+E15+E17 -> 5940692 | F11: =+F12+F14+F15+F17 -> 55087743 | G11: =+G12+G14+G15+G17 -> 0 | H11: =+H12+H14+H15+H17 -> 0 | I11: =+I12+I14+I15+I17 -> 23566038 | J11: =+J12+J14+J15+J17 -> 3223226 | K11: =+K12+K14+K15+K17 -> 3223226 | ... R11: =+R12+R14+R15+R17 -> 33387754
A12: 62 | B12: MD/IZM | C12: 01.00.00. | D12: =SUM(D13:D13) -> 1852888 | E12: =SUM(E13:E13) -> 179896 | F12: =SUM(F13:F13) -> 1672992 | G12: =SUM(G13:G13) -> 0 | H12: =SUM(H13:H13) -> 0 | I12: =SUM(I13:I13) -> 715490 | J12: =SUM(J13:J13) -> 97861 | K12: =SUM(K13:K13) -> 97861 | ... R12: =SUM(R13:R13) -> 1013690 | S12: Speciālās izgl. iestādes, pirmsskolu grupas
D13: 1852888 | E13: 179896 | F13: =+D13-E13 -> 1672992 | I13: =(D13*$I$6/$I$9)/3 -> 715490 | J13: =+I13-D13/3 -> 97861 | K13: =+J13 -> 97861 | L13: =+D13+K13*3 -> 2146471 | M13: =+L13*$M$6/$M$9 -> 2503755 | N13: =+M13-L13 -> 357284 | O13: =+L13+N13 -> 2503755 | P13: =+O13*$P$6/$P$9 -> 2866578 | Q13: =+P13-O13 -> 362823 | R13: =+Q13+N13+K13*3 -> 1013690 | S13: spec.pirmsskolas grupas | T13: Pirmsskolas izglītība
C14: 10.00.00. | D14: 55302936 | E14: 5370008 | F14: =+D14-E14 -> 49932928 | I14: =(D14*$I$6/$I$9)/3 -> 21355145 | J14: =+I14-D14/3 -> 2920833 | K14: =+J14 -> 2920833 | L14: =+D14+K14*3 -> 64065435 | M14: =+L14*$M$6/$M$9 -> 74729230 | N14: =+M14-L14 -> 10663795 | O14: =+L14+N14 -> 74729230 | P14: =+O14*$P$6/$P$9 -> 85558355 | Q14: =+P14-O14 -> 10829125 | R14: =Q14+N14+K14*3 -> 30255419 | S14: Bērnu no 5 gadu vecuma izglītošana | T14: Pirmsskolas izglītība
A15: 15 | B15: IZM | C15: 01.05.00. | D15: =SUM(D16:D16) -> 3850868 | E15: =SUM(E16:E16) -> 388712 | F15: =SUM(F16:F16) -> 3462156 | G15: =SUM(G16:G16) -> 0 | H15: =SUM(H16:H16) -> 0 | I15: =SUM(I16:I16) -> 1487007 | J15: =SUM(J16:J16) -> 203384 | K15: =SUM(K16:K16) -> 203384 | ... R15: =SUM(R16:R16) -> 2106752 | S15: Privātās izglītības iestādes
D16: 3850868 | E16: 388712 | F16: =+D16-E16 -> 3462156 | I16: =(D16*$I$6/$I$9)/3 -> 1487007 | J16: =+I16-D16/3 -> 203384 | K16: =+J16 -> 203384 | L16: =+D16+K16*3 -> 4461020 | M16: =+L16*$M$6/$M$9 -> 5203564 | N16: =+M16-L16 -> 742544 | O16: =+L16+N16 -> 5203564 | P16: =+O16*$P$6/$P$9 -> 5957620 | Q16: =+P16-O16 -> 754056 | R16: =Q16+N16+K16*3 -> 2106752 | S16: bērnu no 5 gadu vecuma izglītošana | T16: Pirmsskolas izglītība
C17: 01.08.00. | D17: =SUM(D18:D18) -> 21743 | E17: =SUM(E18:E18) -> 2076 | F17: =SUM(F18:F18) -> 19667 | G17: =SUM(G18:G18) -> 0 | H17: =SUM(H18:H18) -> 0 | I17: =SUM(I18:I18) -> 8396 | J17: =SUM(J18:J18) -> 1148 | K17: =SUM(K18:K18) -> 1148 | ... R17: =SUM(R18:R18) -> 11893 | S17: Eiropas skolas
D18: 21743 | E18: 2076 | F18: =+D18-E18 -> 19667 | I18: =(D18*$I$6/$I$9)/3 -> 8396 | J18: =+I18-D18/3 -> 1148 | K18: =+J18 -> 1148 | L18: =+D18+K18*3 -> 25187 | M18: =+L18*$M$6/$M$9 -> 29379 | N18: =+M18-L18 -> 4192 | O18: =+L18+N18 -> 29379 | P18: =+O18*$P$6/$P$9 -> 33636 | Q18: =+P18-O18 -> 4257 | R18: =Q18+N18+K18*3 -> 11893 | S18: pirmsskola | T18: Pirmsskolas izglītība
I22: 23 | J22: 24 | K22: 25 | L22: 26
I23: =+K11 -> 3223226 | J23: =+I23*3 -> 9669678 | K23: =+J23 -> 9669678 | L23: =+K23 -> 9669678
J24: =+N11 -> 11767815 | K24: =+J24 -> 11767815 | L24: =+K24 -> 11767815
K25: =+Q11 -> 11950261 | L25: =+K25 -> 11950261
I26: =SUM(I23:I25) -> 3223226 | J26: =SUM(J23:J25) -> 21437493 | K26: =SUM(K23:K25) -> 33387754 | L26: =SUM(L23:L25) -> 33387754
H29: 01.00.00. | I29: 23 | J29: 24 | K29: 25 | L29: 26 | N29: 10.00.00. | O29: 23 | P29: 24 | Q29: 25 | R29: 26
I30: =+K13 -> 97861 | J30: =+I30*3 -> 293583 | K30: =+J30 -> 293583 | L30: =+K30 -> 293583 | O30: =+K14 -> 2920833 | P30: =+O30*3 -> 8762499 | Q30: =+P30 -> 8762499 | R30: =+Q30 -> 8762499
J31: =+N13 -> 357284 | K31: =+J31 -> 357284 | L31: =+K31 -> 357284 | P31: =+N14 -> 10663795 | Q31: =+P31 -> 10663795 | R31: =+Q31 -> 10663795
K32: =+Q13 -> 362823 | L32: =+K32 -> 362823 | Q32: =+Q14 -> 10829125 | R32: =+Q32 -> 10829125
I33: =SUM(I30:I32) -> 97861 | J33: =SUM(J30:J32) -> 650867 | K33: =SUM(K30:K32) -> 1013690 | L33: =SUM(L30:L32) -> 1013690 | O33: =SUM(O30:O32) -> 2920833 | P33: =SUM(P30:P32) -> 19426294 | Q33: =SUM(Q30:Q32) -> 30255419 | R33: =SUM(R30:R32) -> 30255419
H36: 01.05.00. | I36: 23 | J36: 24 | K36: 25 | L36: 26 | N36: 01.08.00. | O36: 23 | P36: 24 | Q36: 25 | R36: 26
I37: =+K16 -> 203384 | J37: =+I37*3 -> 610152 | K37: =+J37 -> 610152 | L37: =+K37 -> 610152 | O37: =+K18 -> 1148 | P37: =+O37*3 -> 3444 | Q37: =+P37 -> 3444 | R37: =+Q37 -> 3444
J38: =+N16 -> 742544 | K38: =+J38 -> 742544 | L38: =+K38 -> 742544 | P38: =+N18 -> 4192 | Q38: =+P38 -> 4192 | R38: =+Q38 -> 4192
K39: =+Q16 -> 754056 | L39: =+K39 -> 754056 | Q39: =+Q18 -> 4257 | R39: =+Q39 -> 4257
I40: =SUM(I37:I39) -> 203384 | J40: =SUM(J37:J39) -> 1352696 | K40: =SUM(K37:K39) -> 2106752 | L40: =SUM(L37:L39) -> 2106752 | O40: =SUM(O37:O39) -> 1148 | P40: =SUM(P37:P39) -> 7636 | Q40: =SUM(Q37:Q39) -> 11893 | R40: =SUM(R37:R39) -> 11893

Sheet 2023.g.pagaidu budžets, streiks
A1: Pedagogu darba samaksa un valsts sociālās apdrošināšanas obligātās iemaksas
A2: Resors Nr. | B2: Ministrija | C2: programma/ apakšprogramma | D2: Apstiprināts pagaidu budžets 2023. gadam | E2: Piešķirts Streika rezultātā | F2: 2023. gads bez Streika rezultātā piešķirtā finansējuma
A10: KOPĀ | D10: =+D11+D14+D19+D20+D25+D28+D29+D30+D31+D32+D33+D34+D39+D40+D35 -> 636432924 | E10: =+E11+E14+E19+E20+E25+E28+E29+E30+E31+E32+E33+E34+E39+E40+E35 -> 61671021 | F10: =+F11+F14+F19+F20+F25+F28+F29+F30+F31+F32+F33+F34+F39+F40+F35 -> 574761903
A11: 62 | B11: MD/IZM | C11: 01.00.00. | D11: =SUM(D12:D13) -> 40939510 | E11: =SUM(E12:E13) -> 3855858 | F11: =SUM(F12:F13) -> 37083652 | G11: Speciālās izgl. iestādes, pirmsskolu grupas
D12: 39086622 | E12: 3675962 | F12: =+D12-E12 -> 35410660 | G12: spec.skolas | H12: Speciālā izglītība
D13: 1852888 | E13: 179896 | F13: =+D13-E13 -> 1672992 | G13: spec.pirmsskolas grupas | H13: Pirmsskolas izglītība
C14: 05.00.00. | D14: =SUM(D15:D18) -> 396831740 | E14: =SUM(E15:E18) -> 38442812 | F14: =SUM(F15:F18) -> 358388928 | G14: Pamata un vispŗējā vidējā izgl., spec. bez internāta, prof., interešu
D15: 367876324 | E15: 35746692 | F15: =+D15-E15 -> 332129632 | G15: pamata un visp.vid. | H15: Pamata un vispārējā vidējā izglītība - viena izglīt. Izmaksa
D16: 3071353 | E16: 287689 | F16: =+D16-E16 -> 2783664 | G16: spec.bez internāta | H16: Speciālā izglītība
D17: 2214650 | E17: 196862 | F17: =+D17-E17 -> 2017788 | G17: prof.skolas | H17: Profesionālā izglītība
D18: 23669413 | E18: 2211569 | F18: =+D18-E18 -> 21457844 | G18: interešu izglītība | H18: Interešu izglītība
C19: 10.00.00. | D19: 55302936 | E19: 5370008 | F19: =+D19-E19 -> 49932928 | G19: Bērnu no 5 gadu vecuma izglītošana | H19: Pirmsskolas izglītība
A20: 15 | B20: IZM | C20: 01.05.00. | D20: =SUM(D21:D24) -> 18569673 | E20: =SUM(E21:E24) -> 1767557 | F20: =SUM(F21:F24) -> 16802116 | G20: Privātās izglītības iestādes
D21: 13653176 | E21: 1302328 | F21: =+D21-E21 -> 12350848 | G21: pamata un visp.vid. | H21: Pamata un vispārējā vidējā izglītība - viena izglīt. Izmaksa
D22: 271788 | E22: 5952 | F22: =+D22-E22 -> 265836 | G22: starptautiskās skolas | H22: Pamata un vispārējā vidējā izglītība
D23: 3850868 | E23: 388712 | F23: =+D23-E23 -> 3462156 | G23: bērnu no 5 gadu vecuma izglītošana | H23: Pirmsskolas izglītība
D24: 793841 | E24: 70565 | F24: =+D24-E24 -> 723276 | G24: prof.skolas | H24: Profesionālā izglītība
C25: 01.08.00. | D25: =SUM(D26:D27) -> 104614 | E25: =SUM(E26:E27) -> 9798 | F25: =SUM(F26:F27) -> 94816 | G25: Eiropas skolas
D26: 21743 | E26: 2076 | F26: =+D26-E26 -> 19667 | G26: pirmsskola | H26: Pirmsskolas izglītība
D27: 82871 | E27: 7722 | F27: =+D27-E27 -> 75149 | G27: pamata un visp.vid. | H27: Pamata un vispārējā vidējā izglītība
C28: 02.01.00. | D28: 49431596 | E28: 4697040 | F28: =+D28-E28 -> 44734556 | G28: Prof.skolas | H28: Profesionālā izglītība
C29: 09.10.00. | D29: 1197835 | E29: 118704 | F29: =+D29-E29 -> 1079131 | G29: Murjāņu sporta ģimnāzija | H29: Pamata un vispārējā vidējā izglītība
C30: 09.19.00. | D30: 22409133 | E30: 2305589 | F30: =+D30-E30 -> 20103544 | G30: Profesionālās ievirzes sporta pedagogu darba samaksa | H30: Profesionālā ievirze – Sports
A31: 10 | B31: AM | C31: 22.10.00. | D31: 246920 | E31: 25348 | F31: =+D31-E31 -> 221572 | G31: Pulkveža Oskara Kalpaka profesionālā vidusskola | H31: Profesionālā izglītība
A32: 16 | B32: ZM | C32: 22.01.00. | D32: 848870 | E32: 83556 | F32: =+D32-E32 -> 765314 | G32: Malnavas koledža; Bulduru Dārzkopības vidusskola | H32: Profesionālā izglītība
A33: 18 | B33: LM | C33: 05.37.00. | D33: 436080 | E33: 43215 | F33: =+D33-E33 -> 392865 | G33: SIVA Jūrmalas profesionālā vidusskola | H33: Profesionālā izglītība
A34: 19 | B34: TM | C34: 04.01.00. | D34: 131200 | E34: 11510 | F34: =+D34-E34 -> 119690 | G34: Ieslpdzījuma vietu pārvalde | H34: Pamata un vispārējā vidējā izglītība
A35: 22 | B35: KM | C35: 20.00.00. | D35: =SUM(D36:D38) -> 49473469 | E35: =SUM(E36:E38) -> 4891905 | F35: =SUM(F36:F38) -> 44581564
D36: 21461752 | E36: 2126796 | F36: =+D36-E36 -> 19334956 | G36: profesionālajām vidusskolām | H36: Profesionālā izglītība
D37: 1909790 | E37: 189259 | F37: =+D37-E37 -> 1720531 | G37: pašvaldību vidusskolām | H37: Profesionālā izglītība
D38: 26101927 | E38: 2575850 | F38: =+D38-E38 -> 23526077 | G38: mākslu ievirzes skolām | H38: Profesionālā ievirze – KM
A39: 29 | B39: VM | C39: 02.03.00. | D39: 246922 | E39: 23336 | F39: =+D39-E39 -> 223586 | G39: Sarkanā krusta medicīnas koledža | H39: Profesionālā izglītība
C40: 33.09.00. | D40: 262426 | E40: 24785 | F40: =+D40-E40 -> 237641 | G40: Interešu izglītība "Bērnu klīniskās universitātes slimnīca" | H40: Interešu izglītība
A43: KOPĀ | D43: =SUM(D44:D52) -> 636432924 | E43: =SUM(E44:E52) -> 61671021 | F43: =SUM(F44:F52) -> 574761903
A44: Pamata un vispārējā vidējā izglītība - viena izglīt. izmaksa (PAŠVALDĪBAS) | D44: =+D15 -> 367876324 | E44: =+E15 -> 35746692 | F44: =+F15 -> 332129632 | G44: Pašvaldību pamata un vispārējā vidējā izglītības iestādes
A45: Pamata un vispārējā vidējā izglītība - viena izglīt. izmaksa (PRIVĀTĀS) | D45: =+D21 -> 13653176 | E45: =+E21 -> 1302328 | F45: =+F21 -> 12350848 | G45: Privātās pamata un vispārējā vidējā izglītības iestādes
A46: Pamata un vispārējā vidējā izglītība | D46: =+D22+D27+D29+D34 -> 1683694 | E46: =+E22+E27+E29+E34 -> 143888 | F46: =+F22+F27+F29+F34 -> 1539806 | G46: Starpt. sk., Europas sk., Murjāņu sporta ģimn., Ieslpdzījuma vietu pārvalde
A47: Speciālā izglītība | D47: =+D12+D16 -> 42157975 | E47: =+E12+E16 -> 3963651 | F47: =+F12+F16 -> 38194324 | G47: Speciālās izglītības iestāses ar un bez internāta
A48: Profesionālā izglītība | D48: =+D17+D24+D28+D31+D32+D33+D36+D37+D39 -> 77590421 | E48: =+E17+E24+E28+E31+E32+E33+E36+E37+E39 -> 7455977 | F48: =+F17+F24+F28+F31+F32+F33+F36+F37+F39 -> 70134444 | G48: Prof. izglītība pašv., priv., IZM, AM, ZM, LM, KM, VM iestādēs
A49: Profesionālā ievirze – Sports | D49: =+D30 -> 22409133 | E49: =+E30 -> 2305589 | F49: =+F30 -> 20103544 | G49: Profesionālās ievirzes sporta pedagogu darba samaksa
...

Sheet Streiks
A1: Pedagogu darba samaksa un valsts sociālās apdrošināšanas obligātās iemaksas
A2: Resors Nr. | B2: Ministrija | C2: programma/ apakšprogramma | D2: Piešķirts finansējums Streika rezultātā
D3: 2023. gadam | F3: 2024. gadam
D4: Gads | E4: 4 mēneši | F4: Gads | G4: 4 mēneši
A6: KOPĀ | D6: =+D7+D10+D15+D16+D21+D24+D25+D26+D27+D28+D29+D30+D35+D36+D31 -> 61671021 | E6: =+E7+E10+E15+E16+E21+E24+E25+E26+E27+E28+E29+E30+E35+E36+E31 -> 20557009 | F6: =+F7+F10+F15+F16+F21+F24+F25+F26+F27+F28+F29+F30+F35+F36+F31 -> 62383053 | G6: =+G7+G10+G15+G16+G21+G24+G25+G26+G27+G28+G29+G30+G35+G36+G31 -> 20794353
A7: 62 | B7: MD/IZM | C7: 01.00.00. | D7: =SUM(D8:D9) -> 3855858 | E7: =SUM(E8:E9) -> 1285286 | F7: =SUM(F8:F9) -> 3889898 | G7: =SUM(G8:G9) -> 1296633 | H7: Speciālās izgl. iestādes, pirmsskolu grupas
D8: 3675962 | E8: =+D8/3 -> 1225321 | F8: 3675962 | G8: =+F8/3 -> 1225321 | H8: spec.skolas | I8: Speciālā izglītība
D9: 179896 | E9: =+D9/3 -> 59965 | F9: 213936 | G9: =+F9/3 -> 71312 | H9: spec.pirmsskolas grupas | I9: Pirmsskolas izglītība
C10: 05.00.00. | D10: =SUM(D11:D14) -> 38442812 | E10: =SUM(E11:E14) -> 12814271 | F10: =SUM(F11:F14) -> 38086316 | G10: =SUM(G11:G14) -> 12695439 | H10: Pamata un vispŗējā vidējā izgl., spec. bez internāta, prof., interešu
D11: 35746692 | E11: =+D11/3 -> 11915564 | F11: 35390196 | G11: =+F11/3 -> 11796732 | H11: pamata un visp.vid. | I11: Pamata un vispārējā vidējā izglītība - viena izglīt. Izmaksa
D12: 287689 | E12: =+D12/3 -> 95896 | F12: 287689 | G12: =+F12/3 -> 95896 | H12: spec.bez internāta | I12: Speciālā izglītība
D13: 196862 | E13: =+D13/3 -> 65621 | F13: 196862 | G13: =+F13/3 -> 65621 | H13: prof.skolas | I13: Profesionālā izglītība
D14: 2211569 | E14: =+D14/3 -> 737190 | F14: 2211569 | G14: =+F14/3 -> 737190 | H14: interešu izglītība | I14: Interešu izglītība
C15: 10.00.00. | D15: 5370008 | E15: =+D15/3 -> 1790003 | F15: 6339096 | G15: =+F15/3 -> 2113032 | H15: Bērnu no 5 gadu vecuma izglītošana | I15: Pirmsskolas izglītība
A16: 15 | B16: IZM | C16: 01.05.00. | D16: =SUM(D17:D20) -> 1767557 | E16: =SUM(E17:E20) -> 589186 | F16: =SUM(F17:F20) -> 1832957 | G16: =SUM(G17:G20) -> 610986 | H16: Privātās izglītības iestādes
D17: 1302328 | E17: =+D17/3 -> 434109 | F17: 1299096 | G17: =+F17/3 -> 433032 | H17: pamata un visp.vid. | I17: Pamata un vispārējā vidējā izglītība - viena izglīt. Izmaksa
D18: 5952 | E18: =+D18/3 -> 1984 | F18: 5952 | G18: =+F18/3 -> 1984 | H18: starptautiskās skolas | I18: Pamata un vispārējā vidējā izglītība
D19: 388712 | E19: =+D19/3 -> 129571 | F19: 457344 | G19: =+F19/3 -> 152448 | H19: bērnu no 5 gadu vecuma izglītošana | I19: Pirmsskolas izglītība
D20: 70565 | E20: =+D20/3 -> 23522 | F20: 70565 | G20: =+F20/3 -> 23522 | H20: prof.skolas | I20: Profesionālā izglītība
C21: 01.08.00. | D21: =SUM(D22:D23) -> 9798 | E21: =SUM(E22:E23) -> 3266 | F21: =SUM(F22:F23) -> 9798 | G21: =SUM(G22:G23) -> 3266 | H21: Eiropas skolas
D22: 2076 | E22: =+D22/3 -> 692 | F22: 2076 | G22: =+F22/3 -> 692 | H22: pirmsskola | I22: Pirmsskolas izglītība
D23: 7722 | E23: =+D23/3 -> 2574 | F23: 7722 | G23: =+F23/3 -> 2574 | H23: pamata un visp.vid. | I23: Pamata un vispārējā vidējā izglītība
C24: 02.01.00. | D24: 4697040 | E24: =+D24/3 -> 1565680 | F24: 4697040 | G24: =+F24/3 -> 1565680 | H24: Prof.skolas | I24: Profesionālā izglītība
C25: 09.10.00. | D25: 118704 | E25: =+D25/3 -> 39568 | F25: 118704 | G25: =+F25/3 -> 39568 | H25: Murjāņu sporta ģimnāzija | I25: Pamata un vispārējā vidējā izglītība
C26: 09.19.00. | D26: 2305589 | E26: =+D26/3 -> 768530 | F26: 2305589 | G26: =+F26/3 -> 768530 | H26: Profesionālās ievirzes sporta pedagogu darba samaksa | I26: Profesionālās ievirze – Sports
A27: 10 | B27: AM | C27: 22.10.00. | D27: 25348 | E27: =+D27/3 -> 8449 | F27: 25348 | G27: =+F27/3 -> 8449 | H27: Pulkveža Oskara Kalpaka profesionālā vidusskola | I27: Profesionālā izglītība
A28: 16 | B28: ZM | C28: 22.01.00. | D28: 83556 | E28: =+D28/3 -> 27852 | F28: 83556 | G28: =+F28/3 -> 27852 | H28: Malnavas koledža; Bulduru Dārzkopības vidusskola | I28: Profesionālā izglītība
A29: 18 | B29: LM | C29: 05.37.00. | D29: 43215 | E29: =+D29/3 -> 14405 | F29: 43215 | G29: =+F29/3 -> 14405 | H29: SIVA Jūrmalas profesionālā vidusskola | I29: Profesionālā izglītība
A30: 19 | B30: TM | C30: 04.01.00. | D30: 11510 | E30: =+D30/3 -> 3837 | F30: 11510 | G30: =+F30/3 -> 3837 | H30: Ieslpdzījuma vietu pārvalde | I30: Pamata un vispārējā vidējā izglītība
A31: 22 | B31: KM | C31: 20.00.00. | D31: =SUM(D32:D34) -> 4891905 | E31: =SUM(E32:E34) -> 1630635 | F31: =SUM(F32:F34) -> 4891905 | G31: =SUM(G32:G34) -> 1630635
D32: 2126796 | E32: =+D32/3 -> 708932 | F32: 2126796 | G32: =+F32/3 -> 708932 | H32: profesionālajām vidusskolām | I32: Profesionālā izglītība
D33: 189259 | E33: =+D33/3 -> 63086 | F33: 189259 | G33: =+F33/3 -> 63086 | H33: pašvaldību vidusskolām | I33: Profesionālā izglītība
D34: 2575850 | E34: =+D34/3 -> 858617 | F34: 2575850 | G34: =+F34/3 -> 858617 | H34: mākslu ievirzes skolām | I34: Profesionālā izglītība un ievirze - KM
A35: 29 | B35: VM | C35: 02.03.00. | D35: 23336 | E35: =+D35/3 -> 7779 | F35: 23336 | G35: =+F35/3 -> 7779 | H35: Sarkanā krusta medicīnas koledža | I35: Profesionālā izglītība
C36: 33.09.00. | D36: 24785 | E36: =+D36/3 -> 8262 | F36: 24785 | G36: =+F36/3 -> 8262 | H36: Interešu izglītība "Bērnu klīniskās universitātes slimnīca" | I36: Interešu izglītība

Sheet papildu fin._pilns
A1: Kopā papildu nepieciešms minimālās algas palielināšanai
B2: 2023.g. 4 mēneši | C2: 2024.g. | D2: 2025.g. | E2: 2026.g.
A3: Pašvaldību pamata un vispārējā vidējā | B3: 5461687 | C3: 63400572 | D3: 100018422 | E3: 100018422
A4: Pamata un vispārējā vidējā (bez pašv. skolām), speciālā, profesionālā un interešu izglītība | B4: 2366940 | C4: 27428354 | D4: 43260376 | E4: 43260376
A5: Profesionālā ievirze - Sports | B5: 995961 | C5: 6095283 | D5: 8515469 | E5: 8515469
A6: Profesionālā ievirze - Kultūra | B6: 1160086 | C6: 7099725 | D6: 9918733 | E6: 9918733
A7: Pirmsskolas izglītība | B7: 3223226 | C7: 21437493 | D7: 33387754 | E7: 33387754
A8: KOPĀ | B8: =SUM(B3:B7) -> 13207900 | C8: =SUM(C3:C7) -> 125461427 | D8: =SUM(D3:D7) -> 195100754 | E8: =SUM(E3:E7) -> 195100754
A10: Grafikā piedāvātais papildu nepieciešanā finansējuma apmērs
B11: 2023.g. 4 mēneši | C11: 2024.g. | D11: 2025.g. | E11: 2026.g.
A12: Pašvaldību pamata un vispārējā vidējā | B12: 1293620 | C12: 21400680 | D12: 43372680 | E12: 43372680
A13: Pamata un vispārējā vidējā (bez pašv. skolām), speciālā, profesionālā un interešu izglītība | B13: 2366940 | C13: 27428354 | D13: 43260376 | E13: 43260376
A14: Profesionālā ievirze - Sports | B14: 995961 | C14: 6095283 | D14: 8515469 | E14: 8515469
A15: Profesionālā ievirze - Kultūra | B15: 1160086 | C15: 7099725 | D15: 9918733 | E15: 9918733
A16: Pirmsskolas izglītība | B16: 3223226 | C16: 21437493 | D16: 33387754 | E16: 33387754
A17: KOPĀ | B17: =SUM(B12:B16) -> 9039833 | C17: =SUM(C12:C16) -> 83461535 | D17: =SUM(D12:D16) -> 138455012 | E17: =SUM(E12:E16) -> 138455012
A19: Starpība - finanšu resursi, kas iegūstami sakārtojot izglītības iestāžu tīklu
B20: 2023.g. 4 mēneši | C20: 2024.g. | D20: 2025.g. | E20: 2026.g.
A21: Pašvaldību pamata un vispārējā vidējā | B21: =+B3-B12 -> 4168067 | C21: =+C3-C12 -> 41999892 | D21: =+D3-D12 -> 56645742 | E21: =+E3-E12 -> 56645742
A22: Pamata un vispārējā vidējā (bez pašv. skolām), speciālā, profesionālā un interešu izglītība | B22: =+B4-B13 -> 0 | C22: =+C4-C13 -> 0 | D22: =+D4-D13 -> 0 | E22: =+E4-E13 -> 0
A23: Profesionālā ievirze - Sports | B23: =+B5-B14 -> 0 | C23: =+C5-C14 -> 0 | D23: =+D5-D14 -> 0 | E23: =+E5-E14 -> 0
A24: Profesionālā ievirze - Kultūra | B24: =+B6-B15 -> 0 | C24: =+C6-C15 -> 0 | D24: =+D6-D15 -> 0 | E24: =+E6-E15 -> 0
A25: Pirmsskolas izglītība | B25: =+B7-B16 -> 0 | C25: =+C7-C16 -> 0 | D25: =+D7-D16 -> 0 | E25: =+E7-E16 -> 0
A26: KOPĀ | B26: =SUM(B21:B25) -> 4168067 | C26: =SUM(C21:C25) -> 41999892 | D26: =SUM(D21:D25) -> 56645742 | E26: =SUM(E21:E25) -> 56645742
A29: Tikai pašvaldību pamata un vispārējā vidējā
B30: 2023.g. 4 mēneši | C30: 2024.g. | D30: 2025.g. | E30: 2026.g.
A31: Kopā papildu nepieciešms minimālās algas palielināšanai | B31: =+B3 -> 5461687 | C31: =+C3 -> 63400572 | D31: =+D3 -> 100018422 | E31: =+E3 -> 100018422
A32: Grafikā piedāvātais papildu nepieciešanā finansējuma apmērs | B32: =+B12 -> 1293620 | C32: =+C12 -> 21400680 | D32: =+D12 -> 43372680 | E32: =+E12 -> 43372680
A33: Starpība - finanšu resursi, kas iegūstami sakārtojot izglītības iestāžu tīklu | B33: =+B21 -> 4168067 | C33: =+C21 -> 41999892 | D33: =+D21 -> 56645742 | E33: =+E21 -> 56645742
