Workbook

Sheet result
C4: Grafika fiskālā ietekme
C5: =TODAY() -> 45030
C7: =db!B5 -> 8.5 | F7: =db!B6 -> 9.54 | I7: =db!B7 -> 10.35
C8: 2023.g. 4 mēn. | F8: sākot ar 01.01.2024. (12 mēn.) | I8: sākot ar 01.01.2025. (12 mēn.)
C9: slodze | D9: tikai likme | E9: likme + slodze | F9: slodze | G9: tikai likme | H9: likme + slodze | I9: slodze | J9: tikai likme | K9: likme + slodze
C10: =db!V12 -> 65%, 35% | D10: =db!Y14*4 -> -97648 | E10: =db!AA14*4 -> -1293620 | F10: =db!AF12 -> 65%, 35% | G10: =db!AI14*12 -> -5500668 | H10: =db!AK14*12 -> -21400680 | I10: =db!AP12 -> 65%, 35% | J10: =db!AS14*12 -> -18415752 | K10: =db!AU14*12 -> -43372680
C11: pārējie | D11: -4522987 | E11: x | F11: x | G11: -40623362 | H11: x | I11: x | J11: -61694578 | K11: x
C12: pirmsskola, 6.69€ | D12: -3223226 | E12: x | F12: x | G12: -21437493 | H12: x | I12: x | J12: -33387754 | K12: x
C13: 7.75 | F13: 9.04 | I13: 10.35
C14: kopā | D14: =D10+D11+D12 -> -7843861 | E14: =E10+D11+D12 -> -9039833 | F14: x | G14: =G10+G11+G12 -> -67561523 | H14: =H10+G11+G12 -> -83461535 | I14: x | J14: =J10+J11+J12 -> -113498084 | K14: =K10+J11+J12 -> -138455012

Sheet db
A1: Grafika modelēšana
A2: =TODAY() -> 45030
A4: Aprēķiniem: | B4: 1.st. likme, € | C4: Slodzes sastāvs | D4: Slodze, stundas mēnesī | E4: VSAOI
A5: 2023.g. 4 mēn. | B5: 8.5 | C5: 65%, 35% | D5: =36*4 -> 144 | E5: 0.2359
A6: sākot ar 01.01.2024. (12 mēn.) | B6: 9.54
A7: sākot ar 01.01.2025. (12 mēn.) | B7: 10.35
A11: Pašvaldības, atgrupējot ÷
S12: =B5 -> 8.5 | U12: Slodzes līdzsvarošana | V12: 65%, 35% | W12: =65%*36 -> 23.4 | X12: =B5 -> 8.5 | AC12: =B6 -> 9.54 | AE12: Slodzes līdzsvarošana | AF12: 65%, 35% | AG12: =65%*36 -> 23.4 | AH12: =B6 -> 9.54 | AM12: =B7 -> 10.35 | AO12: Slodzes līdzsvarošana | AP12: 65%, 35% | AQ12: =65%*36 -> 23.4 | AR12: =B7 -> 10.35 | AV12: Papildu finansējums (vienam mēnesim) | AY12: Kopā finansējums (vienam mēnesim)
A13: Pašvaldība | B13: Kopējais finansējums 1 mēnesim, no 01.01.23. | C13: Skolotājiem, fonds pēc na, eiro | D13: 0.15 | E13: 0.07 | F13: Darba samaksa citiem amatiem (fakts) | G13: Darba samaksa citiem amatiem, % no kopējā | H13: Darba samaksa citiem amatiem (teor.) | I13: Papildu samaksa par ≠ parastām progr., izņemot spec.pr., eiro | J13: Kopējais finansējums 1 mēnesim, 01.09.2022., 7.50€ | K13: 0.15 | L13: 0.07 | M13: Darba samaksa citiem amatiem (fakts) | N13: Darba samaksa citiem amatiem, % no kopējā | O13: Darba samaksa citiem amatiem (teor.) | P13: Papildu samaksa par ≠ parastām progr., izņemot spec.pr., eiro | Q13: Skolotājiem, fonds pēc na, eiro | R13: Skolotāju stundas mēnesī kopā | S13: Skolotājiem, pie nesabalansētas esošās slodzes (pie izvēlētās 1 st. likmes) | T13: Papildus nepieciešamais finansējums mēnesim, € (pirms streika naudas) | U13: Skolotāju skaits, kam 2022./2023. m.g. tarificēts vairāk par 23,4 (65%) mācību stundām | V13: Skolotājiem tarificēto stundu skaits | W13: Maksimālais skolotāju likmju skaits, kas būtu vakants | X13: Papildus nepieciešamais finansējums mēnesim, € | Y13: Starpība: streiks - tikai ceļam 1 st. likmi | Z13: Starpība: streiks - tikai līdzsvarojam slodzi | AA13: Starpība: streiks - gan 1 st. likme, gan slodzes līdzsvarošana | AC13: Skolotājiem, pie nesabalansētas esošās slodzes (pie izvēlētās 1 st. likmes) | AD13: Papildus nepieciešamais finansējums mēnesim, € (pirms streika naudas) | AE13: Skolotāju skaits, kam 2022./2023. m.g. tarificēts vairāk par 23,4 (65%) mācību stundām | AF13: Skolotājiem tarificēto stundu skaits | AG13: Maksimālais skolotāju likmju skaits, kas būtu vakants | AH13: Papildus nepieciešamais finansējums mēnesim, € | AI13: Starpība: streiks - tikai ceļam 1 st. likmi | AJ13: Starpība: streiks - tikai līdzsvarojam slodzi | AK13: Starpība: streiks - gan 1 st. likme, gan slodzes līdzsvarošana | AM13: Skolotājiem, pie nesabalansētas esošās slodzes (pie izvēlētās 1 st. likmes) | AN13: Papildus nepieciešamais finansējums mēnesim, € (pirms streika naudas) | AO13: Skolotāju skaits, kam 2022./2023. m.g. tarificēts vairāk par 23,4 (65%) mācību stundām | AP13: Skolotājiem tarificēto stundu skaits | AQ13: Maksimālais skolotāju likmju skaits, kas būtu vakants | AR13: Papildus nepieciešamais finansējums mēnesim, € | AS13: Starpība: streiks - tikai ceļam 1 st. likmi | AT13: Starpība: streiks - tikai līdzsvarojam slodzi | AU13: Starpība: streiks - gan 1 st. likme, gan slodzes līdzsvarošana | AV13: Sākot ar 01.09.2023. | AW13: Sākot ar 01.01.2024. | AX13: Sākot ar 01.01.2025. | AY13: Sākot ar 01.09.2023. | AZ13: Sākot ar 01.01.2024. | BA13: Sākot ar 01.01.2025.
A14: Kopā/vidējais/tml. | B14: =SUM(B15:B57) -> 30809260 | C14: =SUM(C15:C57) -> 22768857 | D14: =SUM(D15:D57) -> 4621390 | E14: =SUM(E15:E57) -> 2156652 | F14: =SUM(F15:F57) -> 6449118 | G14: =AVERAGE(G15:G57) -> 0.01 | H14: =SUM(H15:H57) -> 286506 | I14: =SUM(I15:I57) -> 975855 | J14: =SUM(J15:J57) -> 27815515 | K14: =SUM(K15:K57) -> 4172327 | L14: =SUM(L15:L57) -> 1947086 | M14: =SUM(M15:M57) -> 6449118 | N14: =AVERAGE(N15:N57) -> 0.03 | O14: =SUM(O15:O57) -> 526737 | P14: =SUM(P15:P57) -> 975855 | Q14: =SUM(Q15:Q57) -> 20193510 | R14: =SUM(R15:R57) -> 1877040 | S14: =SUM(S15:S57) -> 19718586 | T14: =SUMIF(T15:T57,"<0") -> -543229 | U14: =SUM(U15:U57) -> 6636 | V14: =SUM(V15:V57) -> 184725 | W14: =SUM(W15:W57) -> 1259 | X14: =SUM(X15:X57) -> 1904542 | Y14: =SUMIF(Y15:Y57,"<0") -> -24412 | Z14: =SUMIF(Z15:Z57,"<0") -> 0 | AA14: =SUMIF(AA15:AA57,"<0") -> -323405 | AC14: =SUM(AC15:AC57) -> 22131212 | AD14: =SUMIF(AD15:AD57,"<0") -> -2104190 | AE14: =SUM(AE15:AE57) -> 6636 | AF14: =SUM(AF15:AF57) -> 184725 | AG14: =SUM(AG15:AG57) -> 1259 | AH14: =SUM(AH15:AH57) -> 2137567 | AI14: =SUMIF(AI15:AI57,"<0") -> -458389 | AJ14: =SUMIF(AJ15:AJ57,"<0") -> 0 | AK14: =SUMIF(AK15:AK57,"<0") -> -1783390 | AM14: =SUM(AM15:AM57) -> 24010278 | AN14: =SUMIF(AN15:AN57,"<0") -> -3850407 | AO14: =SUM(AO15:AO57) -> 6636 | AP14: =SUM(AP15:AP57) -> 184725 | AQ14: =SUM(AQ15:AQ57) -> 1259 | AR14: =SUM(AR15:AR57) -> 2319069 | AS14: =SUMIF(AS15:AS57,"<0") -> -1534646 | AT14: =SUMIF(AT15:AT57,"<0") -> 0 | AU14: =SUMIF(AU15:AU57,"<0") -> -3614390 | AV14: =SUM(AV15:AV57) -> 323405 | AW14: =SUM(AW15:AW57) -> 1783390 | AX14: =SUM(AX15:AX57) -> 3614390 | AY14: =SUM(AY15:AY57) -> 31132665 | AZ14: =SUM(AZ15:AZ57) -> 32592650 | BA14: =SUM(BA15:BA57) -> 34423650
A15: Ādažu novads | B15: 356619 | C15: =B15-D15-E15-H15-I15 -> 278163 | D15: =B15*$D$13 -> 53493 | E15: =B15*$E$13 -> 24963 | F15: 74707 | G15: =IF(F15/B15>=0.22,(F15-E15-D15)/B15,0) -> 0 | H15: =B15*G15 -> 0 | I15: 0 | J15: 321406 | K15: =J15*$K$13 -> 48211 | L15: =J15*$L$13 -> 22498 | M15: 74707 | N15: =IF(M15/J15>=0.22,(M15-L15-K15)/J15,0) -> 0.01 | O15: =J15*N15 -> 3214 | P15: 0 | Q15: =J15-K15-L15-O15-P15 -> 247483 | R15: 17640 | S15: =R15*$S$12+R15*$S$12*$E$5 -> 185311 | T15: =Q15-S15 -> 62172 | U15: 75 | V15: 2095 | W15: =(V15-(U15*$W$12))/$W$12 -> 15 | X15: =W15*$D$5*$X$12+W15*$D$5*$X$12*$E$5 -> 22691 | Y15: =C15-S15 -> 92852 | Z15: =C15-X15 -> 255472 | AA15: =C15-S15-X15 -> 70161 | AC15: =R15*$AC$12+R15*$AC$12*$E$5 -> 207984 | AD15: =Q15-AC15 -> 39499 | AE15: 75 | AF15: 2095 | AG15: =(AF15-(AE15*$AG$12))/$AG$12 -> 15 | AH15: =AG15*$D$5*$AH$12+AG15*$D$5*$AH$12*$E$5 -> 25467 | AI15: =C15-AC15 -> 70179 | AJ15: =C15-AH15 -> 252696 | AK15: =C15-AC15-AH15 -> 44712 | AM15: =R15*$AM$12+R15*$AM$12*$E$5 -> 225643 | AN15: =Q15-AM15 -> 21840 | AO15: 75 | AP15: 2095 | AQ15: =(AP15-(AO15*$AQ$12))/$AQ$12 -> 15 | AR15: =AQ15*$D$5*$AR$12+AQ15*$D$5*$AR$12*$E$5 -> 27630 | AS15: =C15-AM15 -> 52520 | AT15: =C15-AR15 -> 250533 | AU15: =C15-AM15-AR15 -> 24890 | AV15: =IF(AA15>=0,0,ABS(AA15)) -> 0 | AW15: =IF(AK15>=0,0,ABS(AK15)) -> 0 | AX15: =IF(AU15>=0,0,ABS(AU15)) -> 0 | AY15: =IF(AA15<=0,B15-AA15,B15) -> 356619 | AZ15: =IF(AK15<=0,B15-AK15,B15) -> 356619 | BA15: =IF(AU15<=0,B15-AU15,B15) -> 356619
A16: Aizkraukles novads | B16: 525987 | C16: =B16-D16-E16-H16-I16 -> 383971 | D16: =B16*$D$13 -> 78898 | E16: =B16*$E$13 -> 36819 | F16: 141053 | G16: =IF(F16/B16>=0.22,(F16-E16-D16)/B16,0) -> 0.05 | H16: =B16*G16 -> 26299 | I16: 0 | J16: 474030 | K16: =J16*$K$13 -> 71105 | L16: =J16*$L$13 -> 33182 | M16: 141053 | N16: =IF(M16/J16>=0.22,(M16-L16-K16)/J16,0) -> 0.08 | O16: =J16*N16 -> 37922 | P16: 0 | Q16: =J16-K16-L16-O16-P16 -> 331821 | R16: 30960 | S16: =R16*$S$12+R16*$S$12*$E$5 -> 325239 | T16: =Q16-S16 -> 6582 | U16: 102 | V16: 2844 | W16: =(V16-(U16*$W$12))/$W$12 -> 20 | X16: =W16*$D$5*$X$12+W16*$D$5*$X$12*$E$5 -> 30255 | Y16: =C16-S16 -> 58732 | Z16: =C16-X16 -> 353716 | AA16: =C16-S16-X16 -> 28477 | AC16: =R16*$AC$12+R16*$AC$12*$E$5 -> 365033 | AD16: =Q16-AC16 -> -33212 | AE16: 102 | AF16: 2844 | AG16: =(AF16-(AE16*$AG$12))/$AG$12 -> 20 | AH16: =AG16*$D$5*$AH$12+AG16*$D$5*$AH$12*$E$5 -> 33957 | AI16: =C16-AC16 -> 18938 | AJ16: =C16-AH16 -> 350014 | AK16: =C16-AC16-AH16 -> -15019 | AM16: =R16*$AM$12+R16*$AM$12*$E$5 -> 396027 | AN16: =Q16-AM16 -> -64206 | AO16: 102 | AP16: 2844 | AQ16: =(AP16-(AO16*$AQ$12))/$AQ$12 -> 20 | AR16: =AQ16*$D$5*$AR$12+AQ16*$D$5*$AR$12*$E$5 -> 36840 | AS16: =C16-AM16 -> -12056 | AT16: =C16-AR16 -> 347131 | AU16: =C16-AM16-AR16 -> -48896 | AV16: =IF(AA16>=0,0,ABS(AA16)) -> 0 | AW16: =IF(AK16>=0,0,ABS(AK16)) -> 15019 | AX16: =IF(AU16>=0,0,ABS(AU16)) -> 48896 | AY16: =IF(AA16<=0,B16-AA16,B16) -> 525987 | AZ16: =IF(AK16<=0,B16-AK16,B16) -> 541006 | BA16: =IF(AU16<=0,B16-AU16,B16) -> 574883
A17: Alūksnes novads | B17: 249034 | C17: =B17-D17-E17-H17-I17 -> 189913 | D17: =B17*$D$13 -> 37355 | E17: =B17*$E$13 -> 17432 | F17: 42268 | G17: =IF(F17/B17>=0.22,(F17-E17-D17)/B17,0) -> 0 | H17: =B17*G17 -> 0 | I17: 4334 | J17: 224392 | K17: =J17*$K$13 -> 33659 | L17: =J17*$L$13 -> 15707 | M17: 42268 | N17: =IF(M17/J17>=0.22,(M17-L17-K17)/J17,0) -> 0 | O17: =J17*N17 -> 0 | P17: 4334 | Q17: =J17-K17-L17-O17-P17 -> 170692 | R17: 16920 | S17: =R17*$S$12+R17*$S$12*$E$5 -> 177747 | T17: =Q17-S17 -> -7055 | U17: 52 | V17: 1450 | W17: =(V17-(U17*$W$12))/$W$12 -> 10 | X17: =W17*$D$5*$X$12+W17*$D$5*$X$12*$E$5 -> 15127 | Y17: =C17-S17 -> 12166 | Z17: =C17-X17 -> 174786 | AA17: =C17-S17-X17 -> -2961 | AC17: =R17*$AC$12+R17*$AC$12*$E$5 -> 199495 | AD17: =Q17-AC17 -> -28803 | AE17: 52 | AF17: 1450 | AG17: =(AF17-(AE17*$AG$12))/$AG$12 -> 10 | AH17: =AG17*$D$5*$AH$12+AG17*$D$5*$AH$12*$E$5 -> 16978 | AI17: =C17-AC17 -> -9582 | AJ17: =C17-AH17 -> 172935 | AK17: =C17-AC17-AH17 -> -26560 | AM17: =R17*$AM$12+R17*$AM$12*$E$5 -> 216433 | AN17: =Q17-AM17 -> -45741 | AO17: 52 | AP17: 1450 | AQ17: =(AP17-(AO17*$AQ$12))/$AQ$12 -> 10 | AR17: =AQ17*$D$5*$AR$12+AQ17*$D$5*$AR$12*$E$5 -> 18420 | AS17: =C17-AM17 -> -26520 | AT17: =C17-AR17 -> 171493 | AU17: =C17-AM17-AR17 -> -44940 | AV17: =IF(AA17>=0,0,ABS(AA17)) -> 2961 | AW17: =IF(AK17>=0,0,ABS(AK17)) -> 26560 | AX17: =IF(AU17>=0,0,ABS(AU17)) -> 44940 | AY17: =IF(AA17<=0,B17-AA17,B17) -> 251995 | AZ17: =IF(AK17<=0,B17-AK17,B17) -> 275594 | BA17: =IF(AU17<=0,B17-AU17,B17) -> 293974
A18: Augšdaugavas novads | B18: 318050 | C18: =B18-D18-E18-H18-I18 -> 234741 | D18: =B18*$D$13 -> 47708 | E18: =B18*$E$13 -> 22264 | F18: 75325 | G18: =IF(F18/B18>=0.22,(F18-E18-D18)/B18,0) -> 0.02 | H18: =B18*G18 -> 6361 | I18: 6976 | J18: 287983 | K18: =J18*$K$13 -> 43197 | L18: =J18*$L$13 -> 20159 | M18: 75325 | N18: =IF(M18/J18>=0.22,(M18-L18-K18)/J18,0) -> 0.04 | O18: =J18*N18 -> 11519 | P18: 6976 | Q18: =J18-K18-L18-O18-P18 -> 206132 | R18: 22680 | S18: =R18*$S$12+R18*$S$12*$E$5 -> 238257 | T18: =Q18-S18 -> -32125 | U18: 74 | V18: 2121 | W18: =(V18-(U18*$W$12))/$W$12 -> 17 | X18: =W18*$D$5*$X$12+W18*$D$5*$X$12*$E$5 -> 25717 | Y18: =C18-S18 -> -3516 | Z18: =C18-X18 -> 209024 | AA18: =C18-S18-X18 -> -29233 | AC18: =R18*$AC$12+R18*$AC$12*$E$5 -> 267408 | AD18: =Q18-AC18 -> -61276 | AE18: 74 | AF18: 2121 | AG18: =(AF18-(AE18*$AG$12))/$AG$12 -> 17 | AH18: =AG18*$D$5*$AH$12+AG18*$D$5*$AH$12*$E$5 -> 28863 | AI18: =C18-AC18 -> -32667 | AJ18: =C18-AH18 -> 205878 | AK18: =C18-AC18-AH18 -> -61530 | AM18: =R18*$AM$12+R18*$AM$12*$E$5 -> 290113 | AN18: =Q18-AM18 -> -83981 | AO18: 74 | AP18: 2121 | AQ18: =(AP18-(AO18*$AQ$12))/$AQ$12 -> 17 | AR18: =AQ18*$D$5*$AR$12+AQ18*$D$5*$AR$12*$E$5 -> 31314 | AS18: =C18-AM18 -> -55372 | AT18: =C18-AR18 -> 203427 | AU18: =C18-AM18-AR18 -> -86686 | AV18: =IF(AA18>=0,0,ABS(AA18)) -> 29233 | AW18: =IF(AK18>=0,0,ABS(AK18)) -> 61530 | AX18: =IF(AU18>=0,0,ABS(AU18)) -> 86686 | AY18: =IF(AA18<=0,B18-AA18,B18) -> 347283 | AZ18: =IF(AK18<=0,B18-AK18,B18) -> 379580 | BA18: =IF(AU18<=0,B18-AU18,B18) -> 404736
A19: Balvu novads | B19: 350442 | C19: =B19-D19-E19-H19-I19 -> 261971 | D19: =B19*$D$13 -> 52566 | E19: =B19*$E$13 -> 24531 | F19: 58986 | G19: =IF(F19/B19>=0.22,(F19-E19-D19)/B19,0) -> 0 | H19: =B19*G19 -> 0 | I19: 11374 | J19: 317308 | K19: =J19*$K$13 -> 47596 | L19: =J19*$L$13 -> 22212 | M19: 58986 | N19: =IF(M19/J19>=0.22,(M19-L19-K19)/J19,0) -> 0 | O19: =J19*N19 -> 0 | P19: 11374 | Q19: =J19-K19-L19-O19-P19 -> 236126 | R19: 22320 | S19: =R19*$S$12+R19*$S$12*$E$5 -> 234475 | T19: =Q19-S19 -> 1651 | U19: 76 | V19: 2169 | W19: =(V19-(U19*$W$12))/$W$12 -> 17 | X19: =W19*$D$5*$X$12+W19*$D$5*$X$12*$E$5 -> 25717 | Y19: =C19-S19 -> 27496 | Z19: =C19-X19 -> 236254 | AA19: =C19-S19-X19 -> 1779 | AC19: =R19*$AC$12+R19*$AC$12*$E$5 -> 263164 | AD19: =Q19-AC19 -> -27038 | AE19: 76 | AF19: 2169 | AG19: =(AF19-(AE19*$AG$12))/$AG$12 -> 17 | AH19: =AG19*$D$5*$AH$12+AG19*$D$5*$AH$12*$E$5 -> 28863 | AI19: =C19-AC19 -> -1193 | AJ19: =C19-AH19 -> 233108 | AK19: =C19-AC19-AH19 -> -30056 | AM19: =R19*$AM$12+R19*$AM$12*$E$5 -> 285508 | AN19: =Q19-AM19 -> -49382 | AO19: 76 | AP19: 2169 | AQ19: =(AP19-(AO19*$AQ$12))/$AQ$12 -> 17 | AR19: =AQ19*$D$5*$AR$12+AQ19*$D$5*$AR$12*$E$5 -> 31314 | AS19: =C19-AM19 -> -23537 | AT19: =C19-AR19 -> 230657 | AU19: =C19-AM19-AR19 -> -54851 | AV19: =IF(AA19>=0,0,ABS(AA19)) -> 0 | AW19: =IF(AK19>=0,0,ABS(AK19)) -> 30056 | AX19: =IF(AU19>=0,0,ABS(AU19)) -> 54851 | AY19: =IF(AA19<=0,B19-AA19,B19) -> 350442 | AZ19: =IF(AK19<=0,B19-AK19,B19) -> 380498 | BA19: =IF(AU19<=0,B19-AU19,B19) -> 405293
A20: Bauskas novads | B20: 791980 | C20: =B20-D20-E20-H20-I20 -> 611254 | D20: =B20*$D$13 -> 118797 | E20: =B20*$E$13 -> 55439 | F20: 165652 | G20: =IF(F20/B20>=0.22,(F20-E20-D20)/B20,0) -> 0 | H20: =B20*G20 -> 0 | I20: 6490 | J20: 718472 | K20: =J20*$K$13 -> 107771 | L20: =J20*$L$13 -> 50293 | M20: 165652 | N20: =IF(M20/J20>=0.22,(M20-L20-K20)/J20,0) -> 0.01 | O20: =J20*N20 -> 7185 | P20: 6490 | Q20: =J20-K20-L20-O20-P20 -> 546733 | R20: 48480 | S20: =R20*$S$12+R20*$S$12*$E$5 -> 509290 | T20: =Q20-S20 -> 37443 | U20: 175 | V20: 4702 | W20: =(V20-(U20*$W$12))/$W$12 -> 26 | X20: =W20*$D$5*$X$12+W20*$D$5*$X$12*$E$5 -> 39331 | Y20: =C20-S20 -> 101964 | Z20: =C20-X20 -> 571923 | AA20: =C20-S20-X20 -> 62633 | AC20: =R20*$AC$12+R20*$AC$12*$E$5 -> 571603 | AD20: =Q20-AC20 -> -24870 | AE20: 175 | AF20: 4702 | AG20: =(AF20-(AE20*$AG$12))/$AG$12 -> 26 | AH20: =AG20*$D$5*$AH$12+AG20*$D$5*$AH$12*$E$5 -> 44144 | AI20: =C20-AC20 -> 39651 | AJ20: =C20-AH20 -> 567110 | AK20: =C20-AC20-AH20 -> -4493 | AM20: =R20*$AM$12+R20*$AM$12*$E$5 -> 620135 | AN20: =Q20-AM20 -> -73402 | AO20: 175 | AP20: 4702 | AQ20: =(AP20-(AO20*$AQ$12))/$AQ$12 -> 26 | AR20: =AQ20*$D$5*$AR$12+AQ20*$D$5*$AR$12*$E$5 -> 47892 | AS20: =C20-AM20 -> -8881 | AT20: =C20-AR20 -> 563362 | AU20: =C20-AM20-AR20 -> -56773 | AV20: =IF(AA20>=0,0,ABS(AA20)) -> 0 | AW20: =IF(AK20>=0,0,ABS(AK20)) -> 4493 | AX20: =IF(AU20>=0,0,ABS(AU20)) -> 56773 | AY20: =IF(AA20<=0,B20-AA20,B20) -> 791980 | AZ20: =IF(AK20<=0,B20-AK20,B20) -> 796473 | BA20: =IF(AU20<=0,B20-AU20,B20) -> 848753
A21: Cēsu novads | B21: 747674 | C21: =B21-D21-E21-H21-I21 -> 531358 | D21: =B21*$D$13 -> 112151 | E21: =B21*$E$13 -> 52337 | F21: 179607 | G21: =IF(F21/B21>=0.22,(F21-E21-D21)/B21,0) -> 0.02 | H21: =B21*G21 -> 14953 | I21: 36875 | J21: 677037 | K21: =J21*$K$13 -> 101556 | L21: =J21*$L$13 -> 47393 | M21: 179607 | N21: =IF(M21/J21>=0.22,(M21-L21-K21)/J21,0) -> 0.05 | O21: =J21*N21 -> 33852 | P21: 36875 | Q21: =J21-K21-L21-O21-P21 -> 457361 | R21: 47280 | S21: =R21*$S$12+R21*$S$12*$E$5 -> 496683 | T21: =Q21-S21 -> -39322 | U21: 154 | V21: 4286 | W21: =(V21-(U21*$W$12))/$W$12 -> 29 | X21: =W21*$D$5*$X$12+W21*$D$5*$X$12*$E$5 -> 43870 | Y21: =C21-S21 -> 34675 | Z21: =C21-X21 -> 487488 | AA21: =C21-S21-X21 -> -9195 | AC21: =R21*$AC$12+R21*$AC$12*$E$5 -> 557454 | AD21: =Q21-AC21 -> -100093 | AE21: 154 | AF21: 4286 | AG21: =(AF21-(AE21*$AG$12))/$AG$12 -> 29 | AH21: =AG21*$D$5*$AH$12+AG21*$D$5*$AH$12*$E$5 -> 49237 | AI21: =C21-AC21 -> -26096 | AJ21: =C21-AH21 -> 482121 | AK21: =C21-AC21-AH21 -> -75333 | AM21: =R21*$AM$12+R21*$AM$12*$E$5 -> 604785 | AN21: =Q21-AM21 -> -147424 | AO21: 154 | AP21: 4286 | AQ21: =(AP21-(AO21*$AQ$12))/$AQ$12 -> 29 | AR21: =AQ21*$D$5*$AR$12+AQ21*$D$5*$AR$12*$E$5 -> 53418 | AS21: =C21-AM21 -> -73427 | AT21: =C21-AR21 -> 477940 | AU21: =C21-AM21-AR21 -> -126845 | AV21: =IF(AA21>=0,0,ABS(AA21)) -> 9195 | AW21: =IF(AK21>=0,0,ABS(AK21)) -> 75333 | AX21: =IF(AU21>=0,0,ABS(AU21)) -> 126845 | AY21: =IF(AA21<=0,B21-AA21,B21) -> 756869 | AZ21: =IF(AK21<=0,B21-AK21,B21) -> 823007 | BA21: =IF(AU21<=0,B21-AU21,B21) -> 874519
A22: Daugavpils | B22: 1259377 | C22: =B22-D22-E22-H22-I22 -> 892977 | D22: =B22*$D$13 -> 188907 | E22: =B22*$E$13 -> 88156 | F22: 288469 | G22: =IF(F22/B22>=0.22,(F22-E22-D22)/B22,0) -> 0.01 | H22: =B22*G22 -> 12594 | I22: 76743 | J22: 1138730 | K22: =J22*$K$13 -> 170810 | L22: =J22*$L$13 -> 79711 | M22: 288469 | N22: =IF(M22/J22>=0.22,(M22-L22-K22)/J22,0) -> 0.03 | O22: =J22*N22 -> 34162 | P22: 76743 | Q22: =J22-K22-L22-O22-P22 -> 777304 | R22: 79800 | S22: =R22*$S$12+R22*$S$12*$E$5 -> 838311 | T22: =Q22-S22 -> -61007 | U22: 343 | V22: 9457 | W22: =(V22-(U22*$W$12))/$W$12 -> 61 | X22: =W22*$D$5*$X$12+W22*$D$5*$X$12*$E$5 -> 92277 | Y22: =C22-S22 -> 54666 | Z22: =C22-X22 -> 800700 | AA22: =C22-S22-X22 -> -37611 | AC22: =R22*$AC$12+R22*$AC$12*$E$5 -> 940881 | AD22: =Q22-AC22 -> -163577 | AE22: 343 | AF22: 9457 | AG22: =(AF22-(AE22*$AG$12))/$AG$12 -> 61 | AH22: =AG22*$D$5*$AH$12+AG22*$D$5*$AH$12*$E$5 -> 103568 | AI22: =C22-AC22 -> -47904 | AJ22: =C22-AH22 -> 789409 | AK22: =C22-AC22-AH22 -> -151472 | AM22: =R22*$AM$12+R22*$AM$12*$E$5 -> 1020767 | AN22: =Q22-AM22 -> -243463 | AO22: 343 | AP22: 9457 | AQ22: =(AP22-(AO22*$AQ$12))/$AQ$12 -> 61 | AR22: =AQ22*$D$5*$AR$12+AQ22*$D$5*$AR$12*$E$5 -> 112361 | AS22: =C22-AM22 -> -127790 | AT22: =C22-AR22 -> 780616 | AU22: =C22-AM22-AR22 -> -240151 | AV22: =IF(AA22>=0,0,ABS(AA22)) -> 37611 | AW22: =IF(AK22>=0,0,ABS(AK22)) -> 151472 | AX22: =IF(AU22>=0,0,ABS(AU22)) -> 240151 | AY22: =IF(AA22<=0,B22-AA22,B22) -> 1296988 | AZ22: =IF(AK22<=0,B22-AK22,B22) -> 1410849 | BA22: =IF(AU22<=0,B22-AU22,B22) -> 1499528
A23: Dienvidkurzemes novads | B23: 610475 | C23: =B23-D23-E23-H23-I23 -> 437539 | D23: =B23*$D$13 -> 91571 | E23: =B23*$E$13 -> 42733 | F23: 141717 | G23: =IF(F23/B23>=0.22,(F23-E23-D23)/B23,0) -> 0.01 | H23: =B23*G23 -> 6105 | I23: 32527 | J23: 551736 | K23: =J23*$K$13 -> 82760 | L23: =J23*$L$13 -> 38622 | M23: 141717 | N23: =IF(M23/J23>=0.22,(M23-L23-K23)/J23,0) -> 0.04 | O23: =J23*N23 -> 22069 | P23: 32527 | Q23: =J23-K23-L23-O23-P23 -> 375758 | R23: 39600 | S23: =R23*$S$12+R23*$S$12*$E$5 -> 416004 | T23: =Q23-S23 -> -40246 | U23: 121 | V23: 3433 | W23: =(V23-(U23*$W$12))/$W$12 -> 26 | X23: =W23*$D$5*$X$12+W23*$D$5*$X$12*$E$5 -> 39331 | Y23: =C23-S23 -> 21535 | Z23: =C23-X23 -> 398208 | AA23: =C23-S23-X23 -> -17796 | AC23: =R23*$AC$12+R23*$AC$12*$E$5 -> 466903 | AD23: =Q23-AC23 -> -91145 | AE23: 121 | AF23: 3433 | AG23: =(AF23-(AE23*$AG$12))/$AG$12 -> 26 | AH23: =AG23*$D$5*$AH$12+AG23*$D$5*$AH$12*$E$5 -> 44144 | AI23: =C23-AC23 -> -29364 | AJ23: =C23-AH23 -> 393395 | AK23: =C23-AC23-AH23 -> -73508 | AM23: =R23*$AM$12+R23*$AM$12*$E$5 -> 506546 | AN23: =Q23-AM23 -> -130788 | AO23: 121 | AP23: 3433 | AQ23: =(AP23-(AO23*$AQ$12))/$AQ$12 -> 26 | AR23: =AQ23*$D$5*$AR$12+AQ23*$D$5*$AR$12*$E$5 -> 47892 | AS23: =C23-AM23 -> -69007 | AT23: =C23-AR23 -> 389647 | AU23: =C23-AM23-AR23 -> -116899 | AV23: =IF(AA23>=0,0,ABS(AA23)) -> 17796 | AW23: =IF(AK23>=0,0,ABS(AK23)) -> 73508 | AX23: =IF(AU23>=0,0,ABS(AU23)) -> 116899 | AY23: =IF(AA23<=0,B23-AA23,B23) -> 628271 | AZ23: =IF(AK23<=0,B23-AK23,B23) -> 683983 | BA23: =IF(AU23<=0,B23-AU23,B23) -> 727374
A24: Dobeles novads | B24: 510115 | C24: =B24-D24-E24-H24-I24 -> 377375 | D24: =B24*$D$13 -> 76517 | E24: =B24*$E$13 -> 35708 | F24: 105794 | G24: =IF(F24/B24>=0.22,(F24-E24-D24)/B24,0) -> 0 | H24: =B24*G24 -> 0 | I24: 20515 | J24: 461474 | K24: =J24*$K$13 -> 69221 | L24: =J24*$L$13 -> 32303 | M24: 105794 | N24: =IF(M24/J24>=0.22,(M24-L24-K24)/J24,0) -> 0.01 | O24: =J24*N24 -> 4615 | P24: 20515 | Q24: =J24-K24-L24-O24-P24 -> 334820 | R24: 30000 | S24: =R24*$S$12+R24*$S$12*$E$5 -> 315155 | T24: =Q24-S24 -> 19665 | U24: 133 | V24: 3722 | W24: =(V24-(U24*$W$12))/$W$12 -> 26 | X24: =W24*$D$5*$X$12+W24*$D$5*$X$12*$E$5 -> 39331 | Y24: =C24-S24 -> 62220 | Z24: =C24-X24 -> 338044 | AA24: =C24-S24-X24 -> 22889 | AC24: =R24*$AC$12+R24*$AC$12*$E$5 -> 353715 | AD24: =Q24-AC24 -> -18895 | AE24: 133 | AF24: 3722 | AG24: =(AF24-(AE24*$AG$12))/$AG$12 -> 26 | AH24: =AG24*$D$5*$AH$12+AG24*$D$5*$AH$12*$E$5 -> 44144 | AI24: =C24-AC24 -> 23660 | AJ24: =C24-AH24 -> 333231 | AK24: =C24-AC24-AH24 -> -20484 | AM24: =R24*$AM$12+R24*$AM$12*$E$5 -> 383747 | AN24: =Q24-AM24 -> -48927 | AO24: 133 | AP24: 3722 | AQ24: =(AP24-(AO24*$AQ$12))/$AQ$12 -> 26 | AR24: =AQ24*$D$5*$AR$12+AQ24*$D$5*$AR$12*$E$5 -> 47892 | AS24: =C24-AM24 -> -6372 | AT24: =C24-AR24 -> 329483 | AU24: =C24-AM24-AR24 -> -54264 | AV24: =IF(AA24>=0,0,ABS(AA24)) -> 0 | AW24: =IF(AK24>=0,0,ABS(AK24)) -> 20484 | AX24: =IF(AU24>=0,0,ABS(AU24)) -> 54264 | AY24: =IF(AA24<=0,B24-AA24,B24) -> 510115 | AZ24: =IF(AK24<=0,B24-AK24,B24) -> 530599 | BA24: =IF(AU24<=0,B24-AU24,B24) -> 564379
A25: Gulbenes novads | B25: 306981 | C25: =B25-D25-E25-H25-I25 -> 205015 | D25: =B25*$D$13 -> 46047 | E25: =B25*$E$13 -> 21489 | F25: 100254 | G25: =IF(F25/B25>=0.22,(F25-E25-D25)/B25,0) -> 0.11 | H25: =B25*G25 -> 33768 | I25: 662 | J25: 277978 | K25: =J25*$K$13 -> 41697 | L25: =J25*$L$13 -> 19458 | M25: 100254 | N25: =IF(M25/J25>=0.22,(M25-L25-K25)/J25,0) -> 0.14 | O25: =J25*N25 -> 38917 | P25: 662 | Q25: =J25-K25-L25-O25-P25 -> 177244 | R25: 19080 | S25: =R25*$S$12+R25*$S$12*$E$5 -> 200438 | T25: =Q25-S25 -> -23194 | U25: 61 | V25: 1635 | W25: =(V25-(U25*$W$12))/$W$12 -> 9 | X25: =W25*$D$5*$X$12+W25*$D$5*$X$12*$E$5 -> 13615 | Y25: =C25-S25 -> 4577 | Z25: =C25-X25 -> 191400 | AA25: =C25-S25-X25 -> -9038 | AC25: =R25*$AC$12+R25*$AC$12*$E$5 -> 224962 | AD25: =Q25-AC25 -> -47718 | AE25: 61 | AF25: 1635 | AG25: =(AF25-(AE25*$AG$12))/$AG$12 -> 9 | AH25: =AG25*$D$5*$AH$12+AG25*$D$5*$AH$12*$E$5 -> 15280 | AI25: =C25-AC25 -> -19947 | AJ25: =C25-AH25 -> 189735 | AK25: =C25-AC25-AH25 -> -35227 | AM25: =R25*$AM$12+R25*$AM$12*$E$5 -> 244063 | AN25: =Q25-AM25 -> -66819 | AO25: 61 | AP25: 1635 | AQ25: =(AP25-(AO25*$AQ$12))/$AQ$12 -> 9 | AR25: =AQ25*$D$5*$AR$12+AQ25*$D$5*$AR$12*$E$5 -> 16578 | AS25: =C25-AM25 -> -39048 | AT25: =C25-AR25 -> 188437 | AU25: =C25-AM25-AR25 -> -55626 | AV25: =IF(AA25>=0,0,ABS(AA25)) -> 9038 | AW25: =IF(AK25>=0,0,ABS(AK25)) -> 35227 | AX25: =IF(AU25>=0,0,ABS(AU25)) -> 55626 | AY25: =IF(AA25<=0,B25-AA25,B25) -> 316019 | AZ25: =IF(AK25<=0,B25-AK25,B25) -> 342208 | BA25: =IF(AU25<=0,B25-AU25,B25) -> 362607
A26: Jēkabpils novads | B26: 718693 | C26: =B26-D26-E26-H26-I26 -> 540141 | D26: =B26*$D$13 -> 107804 | E26: =B26*$E$13 -> 50309 | F26: 145597 | G26: =IF(F26/B26>=0.22,(F26-E26-D26)/B26,0) -> 0 | H26: =B26*G26 -> 0 | I26: 20439 | J26: 647412 | K26: =J26*$K$13 -> 97112 | L26: =J26*$L$13 -> 45319 | M26: 145597 | N26: =IF(M26/J26>=0.22,(M26-L26-K26)/J26,0) -> 0 | O26: =J26*N26 -> 0 | P26: 20439 | Q26: =J26-K26-L26-O26-P26 -> 484542 | R26: 45840 | S26: =R26*$S$12+R26*$S$12*$E$5 -> 481556 | T26: =Q26-S26 -> 2986 | U26: 146 | V26: 3916 | W26: =(V26-(U26*$W$12))/$W$12 -> 21 | X26: =W26*$D$5*$X$12+W26*$D$5*$X$12*$E$5 -> 31768 | Y26: =C26-S26 -> 58585 | Z26: =C26-X26 -> 508373 | AA26: =C26-S26-X26 -> 26817 | AC26: =R26*$AC$12+R26*$AC$12*$E$5 -> 540476 | AD26: =Q26-AC26 -> -55934 | AE26: 146 | AF26: 3916 | AG26: =(AF26-(AE26*$AG$12))/$AG$12 -> 21 | AH26: =AG26*$D$5*$AH$12+AG26*$D$5*$AH$12*$E$5 -> 35654 | AI26: =C26-AC26 -> -335 | AJ26: =C26-AH26 -> 504487 | AK26: =C26-AC26-AH26 -> -35989 | AM26: =R26*$AM$12+R26*$AM$12*$E$5 -> 586365 | AN26: =Q26-AM26 -> -101823 | AO26: 146 | AP26: 3916 | AQ26: =(AP26-(AO26*$AQ$12))/$AQ$12 -> 21 | AR26: =AQ26*$D$5*$AR$12+AQ26*$D$5*$AR$12*$E$5 -> 38682 | AS26: =C26-AM26 -> -46224 | AT26: =C26-AR26 -> 501459 | AU26: =C26-AM26-AR26 -> -84906 | AV26: =IF(AA26>=0,0,ABS(AA26)) -> 0 | AW26: =IF(AK26>=0,0,ABS(AK26)) -> 35989 | AX26: =IF(AU26>=0,0,ABS(AU26)) -> 84906 | AY26: =IF(AA26<=0,B26-AA26,B26) -> 718693 | AZ26: =IF(AK26<=0,B26-AK26,B26) -> 754682 | BA26: =IF(AU26<=0,B26-AU26,B26) -> 803599
... A57: Ventspils novads | B57: 177729 | C57: =B57-D57-E57-H57-I57 -> 138629 | D57: =B57*$D$13 -> 26659 | E57: =B57*$E$13 -> 12441 | F57: 31721 | G57: =IF(F57/B57>=0.22,(F57-E57-D57)/B57,0) -> 0 | H57: =B57*G57 -> 0 | I57: 0 | J57: 160699 | K57: =J57*$K$13 -> 24105 | L57: =J57*$L$13 -> 11249 | M57: 31721 | N57: =IF(M57/J57>=0.22,(M57-L57-K57)/J57,0) -> 0 | O57: =J57*N57 -> 0 | P57: 0 | Q57: =J57-K57-L57-O57-P57 -> 125345 | R57: 12480 | S57: =R57*$S$12+R57*$S$12*$E$5 -> 131104 | T57: =Q57-S57 -> -5759 | U57: 49 | V57: 1377 | W57: =(V57-(U57*$W$12))/$W$12 -> 10 | X57: =W57*$D$5*$X$12+W57*$D$5*$X$12*$E$5 -> 15127 | Y57: =C57-S57 -> 7525 | Z57: =C57-X57 -> 123502 | AA57: =C57-S57-X57 -> -7602 | AC57: =R57*$AC$12+R57*$AC$12*$E$5 -> 147145 | AD57: =Q57-AC57 -> -21800 | AE57: 49 | AF57: 1377 | AG57: =(AF57-(AE57*$AG$12))/$AG$12 -> 10 | AH57: =AG57*$D$5*$AH$12+AG57*$D$5*$AH$12*$E$5 -> 16978 | AI57: =C57-AC57 -> -8516 | AJ57: =C57-AH57 -> 121651 | AK57: =C57-AC57-AH57 -> -25494 | AM57: =R57*$AM$12+R57*$AM$12*$E$5 -> 159639 | AN57: =Q57-AM57 -> -34294 | AO57: 49 | AP57: 1377 | AQ57: =(AP57-(AO57*$AQ$12))/$AQ$12 -> 10 | AR57: =AQ57*$D$5*$AR$12+AQ57*$D$5*$AR$12*$E$5 -> 18420 | AS57: =C57-AM57 -> -21010 | AT57: =C57-AR57 -> 120209 | AU57: =C57-AM57-AR57 -> -39430 | AV57: =IF(AA57>=0,0,ABS(AA57)) -> 7602 | AW57: =IF(AK57>=0,0,ABS(AK57)) -> 25494 | AX57: =IF(AU57>=0,0,ABS(AU57)) -> 39430 | AY57: =IF(AA57<=0,B57-AA57,B57) -> 185331 | AZ57: =IF(AK57<=0,B57-AK57,B57) -> 203223 | BA57: =IF(AU57<=0,B57-AU57,B57) -> 217159
