Workbook

Sheet 2_pielikums
J1: 2.pielikums Ministru kabineta noteikumu projektam "Grozījumi 10.07.2018. MK noteikumos Nr.410 "Latvijas Antidopinga biroja maksas pakalpojumu cenrādis"" sākotnējās ietekmes novērtējuma ziņojumam (anotācijai)
A3: Ieņēmumu no maksas pakalpojumiem izmaiņas salīdzinot 10.07.2018. MK noteikumos Nr.410 "Latvijas Antidopinga biroja maksas pakalpojumu cenrādis" apstiprinātās izmaksas ar noteikumu projektā "Grozījumi 10.07.2018. MK noteikumos Nr.410 "Latvijas Antidopinga biroja maksas pakalpojumu cenrādis"" iekļautajām izmaksām
A5: Nr. p.k. | B5: Pakalpojuma veids | C5: Mērvienība | D5: Daudzums | E5: Atbilstoši 10.07.2018. MK noteikumiem Nr.410 | G5: Daudzums | H5: Jaunais cenrādis | J5: Izmaksu pieaugums/ samazinājums | K5: Provizoriskais maksas pakalpojumu apjoms 2025 un turpmākajos gados | L5: 2021 | M5: 2020 | N5: 2019 | O5: 2018
E6: Cena bez PVN (euro) | F6: Summa gadā (euro) bez PVN | H6: Cena bez PVN (euro) | I6: Summa gadā (euro) bez PVN
A7: 1 | B7: Dopinga kontroles analīzes
A8: 1.1. | B8: viena urīna parauga analīze dopinga vielu noteikšanai sacensību laikā bez papildu izmeklējumiem un atbildes sniegšana 14 dienu laikā | C8: 1 analīze | D8: 170 | E8: 468.46 | F8: =SUM(D8)*E8 -> 79638.2 | G8: =[1]Pozīcijas!C3 -> 53 | H8: ='[1]1.1.'!C64 -> 507.90853 | I8: =SUM(G8)*H8 -> 26919.152 | J8: =SUM(I8)-F8 -> -52719.048 | K8: 53 | L8: 59 | M8: 33 | N8: 56 | O8: 91
A9: 1.2. | B9: viena urīna parauga analīze dopinga vielu noteikšanai ārpus sacensībām bez papildu izmeklējumiem un atbildes sniegšana 14 dienu laikā | C9: 1 analīze | D9: 80 | E9: 380.12 | F9: =SUM(D9)*E9 -> 30409.6 | G9: =[1]Pozīcijas!C4 -> 8 | H9: ='[1]1.2.'!C60 -> 415.44176 | I9: =SUM(G9)*H9 -> 3323.5341 | J9: =SUM(I9)-F9 -> -27086.066 | K9: 8 | L9: 5 | M9: 10 | N9: 1 | O9: 16
A10: 1.3. | B10: viena urīna parauga analīze dopinga vielu noteikšanai sacensību laikā bez papildu izmeklējumiem un atbildes sniegšana 72 stundu laikā | C10: 1 analīze | D10: 2 | E10: 607.48 | F10: =SUM(D10)*E10 -> 1214.96 | G10: =[1]Pozīcijas!C5 -> 1 | H10: ='[1]1.3.'!C63 -> 616.20058 | I10: =SUM(G10)*H10 -> 616.20058 | J10: =SUM(I10)-F10 -> -598.75942 | K10: 1 | L10: 0 | M10: 0 | N10: 0 | O10: 0
A11: 1.4. | B11: viena urīna parauga analīze dopinga vielu noteikšanai ārpus sacensībām bez papildu izmeklējumiem un atbildes sniegšana 72 stundu laikā | C11: 1 analīze | D11: 2 | E11: 519.15 | F11: =SUM(D11)*E11 -> 1038.3 | G11: =[1]Pozīcijas!C6 -> 2 | H11: ='[1]1.4.'!C60 -> 515.63102 | I11: =SUM(G11)*H11 -> 1031.262 | J11: =SUM(I11)-F11 -> -7.037954 | K11: 2 | L11: 0 | M11: 0 | N11: 0 | O11: 5
A12: 1.5. | B12: viena urīna parauga savākšana (bez paraugu transportēšanas uz laboratoriju, laboratorijas pakalpojumu un komandējuma izdevumu apmaksas) | C12: 1 analīze | D12: 2 | E12: 257.58 | F12: =SUM(D12)*E12 -> 515.16 | G12: =[1]Pozīcijas!C7 -> 8 | H12: ='[1]1.5.'!C59 -> 329.28859 | I12: =SUM(G12)*H12 -> 2634.3087 | J12: =SUM(I12)-F12 -> 2119.1487 | K12: 8 | L12: 0 | M12: 0 | N12: 0 | O12: 0
A13: 1.6. | B13: viens papildu izmeklējums eritropoetīna noteikšanai urīnā | C13: 1 analīze | D13: 20 | E13: 243.32 | F13: =SUM(D13)*E13 -> 4866.4 | G13: =[1]Pozīcijas!C8 -> 6 | H13: ='[1]1.6.'!C43 -> 343.08285 | I13: =SUM(G13)*H13 -> 2058.4971 | J13: =SUM(I13)-F13 -> -2807.9029 | K13: 6 | L13: 9 | M13: 4 | N13: 6 | O13: 6
A14: 1.7. | B14: viens papildu izmeklējums augšanas hormona atbrīvotājfaktoru noteikšanai urīnā | C14: 1 analīze | D14: 30 | E14: 108.86 | F14: =SUM(D14)*E14 -> 3265.8 | G14: =[1]Pozīcijas!C9 -> 12 | H14: ='[1]1.7.'!C43 -> 199.09274 | I14: =SUM(G14)*H14 -> 2389.1129 | J14: =SUM(I14)-F14 -> -876.68714 | K14: 12 | L14: 9 | M14: 1 | N14: 16 | O14: 39
A15: 1.8. | B15: viens papildu izmeklējums gonadotropīna atbrīvotājhormona noteikšanai urīnā | C15: 1 analīze | D15: 20 | E15: 108.85 | F15: =SUM(D15)*E15 -> 2177 | G15: =[1]Pozīcijas!C10 -> 1 | H15: ='[1]1.8.'!C43 -> 199.09333 | I15: =SUM(G15)*H15 -> 199.09333 | J15: =SUM(I15)-F15 -> -1977.9067 | K15: 1 | L15: 0 | M15: 0 | N15: 0 | O15: 0
A16: 1.9. | B16: viens papildu izmeklējums endogēno steroīdu noteikšanai urīnā ar IRMS metodi | C16: 1 analīze | D16: 3 | E16: 463.47 | F16: =SUM(D16)*E16 -> 1390.41 | G16: =[1]Pozīcijas!C11 -> 1 | H16: ='[1]1.9.'!C42 -> 545.1045 | I16: =SUM(G16)*H16 -> 545.1045 | J16: =SUM(I16)-F16 -> -845.3055 | K16: 1 | L16: 0 | M16: 0 | N16: 0 | O16: 0
A17: 1.10. | B17: viens papildu izmeklējums insulīna noteikšanai urīnā | C17: 1 analīze | D17: 3 | E17: 223.09 | F17: =SUM(D17)*E17 -> 669.27 | G17: =[1]Pozīcijas!C12 -> 1 | H17: ='[1]1.10.'!C43 -> 293.64333 | I17: =SUM(G17)*H17 -> 293.64333 | J17: =SUM(I17)-F17 -> -375.62667 | K17: 1 | L17: 0 | M17: 0 | N17: 0 | O17: 0
A18: 1.11. | B18: viens izmeklējums endogēno steroīdu apstiprināšanai urīnā, tai skaitā ar IRMS metodi | C18: 1 analīze | D18: 2 | E18: 522.98 | F18: =SUM(D18)*E18 -> 1045.96 | G18: =[1]Pozīcijas!C13 -> 1 | H18: ='[1]1.11.'!C43 -> 533.64333 | I18: =SUM(G18)*H18 -> 533.64333 | J18: =SUM(I18)-F18 -> -512.31667 | K18: 1 | L18: 0 | M18: 0 | N18: 0 | O18: 0
A19: 1.12. | B19: viena asins parauga analīze eritropoetīna noteikšanai asins serumā | C19: 1 analīze | D19: 10 | E19: 448.39 | F19: =SUM(D19)*E19 -> 4483.9 | G19: =[1]Pozīcijas!C14 -> 1 | H19: ='[1]1.12.'!C59 -> 545.38167 | I19: =SUM(G19)*H19 -> 545.38167 | J19: =SUM(I19)-F19 -> -3938.5183 | K19: 1 | L19: 0 | M19: 0 | N19: 0 | O19: 0
A20: 1.13. | B20: viena asins parauga analīze augšanas hormona noteikšanai asins serumā | C20: 1 analīze | D20: 30 | E20: 359.14 | F20: =SUM(D20)*E20 -> 10774.2 | G20: =[1]Pozīcijas!C15 -> 4 | H20: 485.59 | I20: =SUM(G20)*H20 -> 1942.36 | J20: =SUM(I20)-F20 -> -8831.84 | K20: 4 | L20: 2 | M20: 4 | N20: 1 | O20: 0
A21: 1.14. | B21: viena asins parauga analīze mākslīgu skābekļa pārnesēju uz hemoglobīna bāzes noteikšanai asins plazmā | C21: 1 analīze | D21: 2 | E21: 281 | F21: =SUM(D21)*E21 -> 562 | G21: =[1]Pozīcijas!C16 -> 1 | H21: ='[1]1.14.'!C59 -> 411.38167 | I21: =SUM(G21)*H21 -> 411.38167 | J21: =SUM(I21)-F21 -> -150.61833 | K21: 1 | L21: 0 | M21: 0 | N21: 0 | O21: 0
B22: viena asins parauga analīze eritropoetīna noteikšanai asins plazmā | C22: 1 analīze | D22: 2 | E22: 442.84 | F22: =SUM(D22)*E22 -> 885.68 | J22: =SUM(I22)-F22 -> -885.68
A23: 1.15. | B23: viena asins parauga analīze sportista bioloģiskajai asins pasei asins plazmā | C23: 1 analīze | D23: 2 | E23: 285.72 | F23: =SUM(D23)*E23 -> 571.44 | G23: =[1]Pozīcijas!C17 -> 2 | H23: ='[1]1.15.'!C59 -> 419.36 | I23: =SUM(G23)*H23 -> 838.72 | J23: =SUM(I23)-F23 -> 267.28 | K23: 2 | L23: 3 | M23: 2 | N23: 0 | O23: 0
A24: 1.16. | B24: viena asins parauga savākšana (bez paraugu transportēšanas uz laboratoriju, laboratorijas pakalpojumu un komandējuma izdevumu apmaksas) | C24: 1 analīze | D24: 2 | E24: 245.7 | F24: =SUM(D24)*E24 -> 491.4 | G24: =[1]Pozīcijas!C18 -> 1 | H24: ='[1]1.16.'!C55 -> 352.72167 | I24: =SUM(G24)*H24 -> 352.72167 | J24: =SUM(I24)-F24 -> -138.67833 | K24: 1 | L24: 0 | M24: 0 | N24: 0 | O24: 0
A25: 1.17. | B25: viena parauga B daļas kvalitatīvā analīze A paraugā noteiktās dopinga vielas apstiprināšanai | C25: 1 analīze | D25: 2 | E25: 684.86 | F25: =SUM(D25)*E25 -> 1369.72 | G25: =[1]Pozīcijas!C19 -> 1 | H25: ='[1]1.17.'!C43 -> 1058.6021 | I25: =SUM(G25)*H25 -> 1058.6021 | J25: =SUM(I25)-F25 -> -311.11791 | K25: 1 | L25: 0 | M25: 0 | N25: 0 | O25: 0
A26: 1.18. | B26: viena parauga B daļas kvantitatīvā analīze A paraugā noteiktās dopinga vielas apstiprināšanai | C26: 1 analīze | D26: 2 | E26: 1101.36 | F26: =SUM(D26)*E26 -> 2202.72 | G26: =[1]Pozīcijas!C20 -> 1 | H26: ='[1]1.18.'!C43 -> 1358.6021 | I26: =SUM(G26)*H26 -> 1358.6021 | J26: =SUM(I26)-F26 -> -844.11791 | K26: 1 | L26: 0 | M26: 0 | N26: 0 | O26: 0
A27: 1.19. | B27: viena parauga B daļas izmeklējums ar IRMS metodi | C27: 1 analīze | D27: 2 | E27: 684.86 | F27: =SUM(D27)*E27 -> 1369.72 | G27: =[1]Pozīcijas!C21 -> 1 | H27: ='[1]1.19.'!C43 -> 1958.6021 | I27: =SUM(G27)*H27 -> 1958.6021 | J27: =SUM(I27)-F27 -> 588.88209 | K27: 1 | L27: 0 | M27: 0 | N27: 0 | O27: 0
B28: viena parauga B daļas izmeklējums eritropoetīna un tā analogu apstiprināšanai | C28: 1 analīze | D28: 2 | E28: 684.86 | F28: =SUM(D28)*E28 -> 1369.72 | J28: =SUM(I28)-F28 -> -1369.72
B29: viena parauga B daļas izmeklējums augšanas hormona apstiprināšanai | C29: 1 analīze | D29: 2 | E29: 684.86 | F29: =SUM(D29)*E29 -> 1369.72 | J29: =SUM(I29)-F29 -> -1369.72
A30: 1.20. | B30: Laboratorijas sagatavots analītisko rezultātu pilns dokumentārs pārskats A vai B paraugam | C30: 1 dokuments | D30: 4 | E30: 803.85 | F30: =SUM(D30)*E30 -> 3215.4 | G30: =[1]Pozīcijas!C22 -> 1 | H30: ='[1]1.20.'!C43 -> 1288.7521 | I30: =SUM(G30)*H30 -> 1288.7521 | J30: =SUM(I30)-F30 -> -1926.6479 | K30: 1 | L30: 0 | M30: 0 | N30: 0 | O30: 0
A31: 1.21. | B31: Laboratorijas sagatavots analītisko rezultātu pilns dokumentārs pārskats A un B paraugam | C31: 1 dokuments | D31: 4 | E31: 387.35 | F31: =SUM(D31)*E31 -> 1549.4 | G31: =[1]Pozīcijas!C23 -> 1 | H31: ='[1]1.21.'!C43 -> 1508.6021 | I31: =SUM(G31)*H31 -> 1508.6021 | J31: =SUM(I31)-F31 -> -40.797912 | K31: 1 | L31: 0 | M31: 0 | N31: 0 | O31: 0
B32: lekcija antidopinga jomā (bez komandējuma izdevumu apmaksas) | C32: 1 akadēmiskā stunda | D32: 15 | E32: 20.02 | F32: =SUM(D32)*E32 -> 300.3 | J32: =SUM(I32)-F32 -> -300.3
B33: antidopinga stenda prezentācija (divi informatori un izdales materiāli 100 personām, bez komandējuma izdevumu apmaksas) | C33: 1 stunda | D33: 60 | E33: 18.36 | F33: =SUM(D33)*E33 -> 1101.6 | J33: =SUM(I33)-F33 -> -1101.6
A34: KOPĀ: | F34: =ROUND(SUM(F8:F33),2) -> 157847.98 | G34: =SUM(G8:G33) -> 108 | I34: =SUM(I8:I31) -> 51807.277 | J34: =SUM(J8:J33) -> -106040.7 | K34: =SUM(K8:K33) -> 108 | L34: =SUM(L8:L33) -> 87 | M34: =SUM(M8:M33) -> 54 | N34: =SUM(N8:N33) -> 80 | O34: =SUM(O8:O33) -> 157
