Workbook

Sheet 3_pielikums
P1: 3.pielikums Ministru kabineta noteikumu projektam "Latvijas Antidopinga biroja maksas pakalpojumu cenrādis" sākotnējās ietekmes novērtējuma ziņojumam (anotācijai)
A3: Ieņēmumu no maksas pakalpojumiem izmaiņas sadalījumā pa izdevumu ekonomiskās klasifikācijas kodiem (EKK) salīdzinot 10.07.2018. MK noteikumos Nr.410 "Latvijas Antidopinga biroja maksas pakalpojumu cenrādis" apstiprinātās izmaksas ar noteikumu projektā "Grozījumi 10.07.2018. MK noteikumos Nr.410 "Latvijas Antidopinga biroja maksas pakalpojumu cenrādis"" (jaunā cenrāža projektā) iekļautajām izmaksām
A5: Nr. p.k. | B5: Pakalpojuma veids | C5: Mērvienība | D5: Atbilstoši 10.07.2018. MK noteikumiem Nr.410 | J5: Jaunais cenrādis | P5: Izmaksu pieaugums/ samazinājums | Q5: no tā, izdevumi sadalījumā pa EKK
D6: Daudzums | E6: Cena bez PVN (euro) | F6: Summa gadā (euro) bez PVN | G6: no tā, izdevumi sadalījumā pa EKK | J6: Daudzums | K6: Cena bez PVN (euro) | L6: Summa gadā (euro) bez PVN | M6: no tā, izdevumi sadalījumā pa EKK | Q6: 1000 | R6: 2000 | S6: 5000
G7: 1000 | H7: 2000 | I7: 5000 | M7: 1000 | N7: 2000 | O7: 5000
A8: 1 | B8: Dopinga kontroles analīzes
A9: 1.1. | B9: viena urīna parauga analīze dopinga vielu noteikšanai sacensību laikā bez papildu izmeklējumiem un atbildes sniegšana 14 dienu laikā | C9: 1 analīze | D9: 170 | E9: 468.46 | F9: =SUM(D9)*E9 -> 79638.2 | G9: =30097.36-752.23 -> 29345.13 | H9: =49490.09+752.29 -> 50242.38 | I9: 50.5 | J9: =[1]Pozīcijas!C3 -> 53 | K9: ='[1]1.1.'!C64 -> 507.90853 | L9: =SUM(J9)*K9 -> 26919.152 | M9: ='[1]1.1.'!C10+'[1]1.1.'!C12+'[1]1.1.'!C14+'[1]1.1.'!C16+'[1]1.1.'!C38+'[1]1.1.'!C40+'[1]1.1.'!C43+'[1]1.1.'!C45 -> 14041.245 | N9: ='[1]1.1.'!C18+'[1]1.1.'!C20+'[1]1.1.'!C22+'[1]1.1.'!C24+'[1]1.1.'!C26+'[1]1.1.'!C28+'[1]1.1.'!C30+'[1]1.1.'!C32+'[1]1.1.'!C34+'[1]1.1.'!C41+'[1]1.1.'!C47+'[1]1.1.'!C49+'[1]1.1.'!C51+'[1]1.1.'!C53+'[1]1.1.'!C55+'[1]1.1.'!C57 -> 12877.907 | O9: 0 | P9: =SUM(L9)-F9 -> -52719.048 | Q9: =SUM(M9)-G9 -> -15303.885 | R9: =SUM(N9)-H9 -> -37364.473 | S9: =SUM(O9)-I9 -> -50.5
A10: 1.2. | B10: viena urīna parauga analīze dopinga vielu noteikšanai ārpus sacensībām bez papildu izmeklējumiem un atbildes sniegšana 14 dienu laikā | C10: 1 analīze | D10: 80 | E10: 380.12 | F10: =SUM(D10)*E10 -> 30409.6 | G10: 11095.06 | H10: 19291.05 | I10: 23.77 | J10: =[1]Pozīcijas!C4 -> 8 | K10: ='[1]1.2.'!C60 -> 415.44176 | L10: =SUM(J10)*K10 -> 3323.5341 | M10: ='[1]1.2.'!C8+'[1]1.2.'!C10+'[1]1.2.'!C12+'[1]1.2.'!C14+'[1]1.2.'!C34+'[1]1.2.'!C36+'[1]1.2.'!C40+'[1]1.2.'!C42 -> 1722.019 | N10: ='[1]1.2.'!C16+'[1]1.2.'!C18+'[1]1.2.'!C20+'[1]1.2.'!C22+'[1]1.2.'!C24+'[1]1.2.'!C26+'[1]1.2.'!C28+'[1]1.2.'!C30+'[1]1.2.'!C38+'[1]1.2.'!C43+'[1]1.2.'!C45+'[1]1.2.'!C47+'[1]1.2.'!C49+'[1]1.2.'!C51+'[1]1.2.'!C53 -> 1601.515 | O10: 0 | P10: =SUM(L10)-F10 -> -27086.066 | Q10: =SUM(M10)-G10 -> -9373.041 | R10: =SUM(N10)-H10 -> -17689.535 | S10: =SUM(O10)-I10 -> -23.77
A11: 1.3. | B11: viena urīna parauga analīze dopinga vielu noteikšanai sacensību laikā bez papildu izmeklējumiem un atbildes sniegšana 72 stundu laikā | C11: 1 analīze | D11: 2 | E11: 607.48 | F11: =SUM(D11)*E11 -> 1214.96 | G11: 354.09 | H11: 860.28 | I11: 0.59 | J11: =[1]Pozīcijas!C5 -> 1 | K11: ='[1]1.3.'!C63 -> 616.20058 | L11: =SUM(J11)*K11 -> 616.20058 | M11: ='[1]1.3.'!C8+'[1]1.3.'!C10+'[1]1.3.'!C12+'[1]1.3.'!C14+'[1]1.3.'!C36+'[1]1.3.'!C38+'[1]1.3.'!C42+'[1]1.3.'!C44 -> 264.9312 | N11: ='[1]1.3.'!C16+'[1]1.3.'!C18+'[1]1.3.'!C20+'[1]1.3.'!C22+'[1]1.3.'!C24+'[1]1.3.'!C26+'[1]1.3.'!C28+'[1]1.3.'!C30+'[1]1.3.'!C32+'[1]1.3.'!C40+'[1]1.3.'!C46+'[1]1.3.'!C48+'[1]1.3.'!C50+'[1]1.3.'!C52+'[1]1.3.'!C54+'[1]1.3.'!C56 -> 351.26938 | O11: 0 | P11: =SUM(L11)-F11 -> -598.75942 | Q11: =SUM(M11)-G11 -> -89.158802 | R11: =SUM(N11)-H11 -> -509.01062 | S11: =SUM(O11)-I11 -> -0.59
A12: 1.4. | B12: viena urīna parauga analīze dopinga vielu noteikšanai ārpus sacensībām bez papildu izmeklējumiem un atbildes sniegšana 72 stundu laikā | C12: 1 analīze | D12: 2 | E12: 519.15 | F12: =SUM(D12)*E12 -> 1038.3 | G12: 277.38 | H12: 760.32 | I12: 0.59 | J12: =[1]Pozīcijas!C6 -> 2 | K12: ='[1]1.4.'!C60 -> 515.63102 | L12: =SUM(J12)*K12 -> 1031.262 | M12: ='[1]1.4.'!C8+'[1]1.4.'!C10+'[1]1.4.'!C12+'[1]1.4.'!C14+'[1]1.4.'!C34+'[1]1.4.'!C36+'[1]1.4.'!C39+'[1]1.4.'!C41 -> 430.96329 | N12: ='[1]1.4.'!C16+'[1]1.4.'!C18+'[1]1.4.'!C20+'[1]1.4.'!C22+'[1]1.4.'!C24+'[1]1.4.'!C26+'[1]1.4.'!C28+'[1]1.4.'!C30+'[1]1.4.'!C37+'[1]1.4.'!C43+'[1]1.4.'!C45+'[1]1.4.'!C47+'[1]1.4.'!C49+'[1]1.4.'!C51+'[1]1.4.'!C53 -> 600.29876 | O12: 0 | P12: =SUM(L12)-F12 -> -7.037954 | Q12: =SUM(M12)-G12 -> 153.58329 | R12: =SUM(N12)-H12 -> -160.02124 | S12: =SUM(O12)-I12 -> -0.59
A13: 1.5. | B13: viena urīna parauga savākšana (bez paraugu transportēšanas uz laboratoriju, laboratorijas pakalpojumu un komandējuma izdevumu apmaksas) | C13: 1 analīze | D13: 2 | E13: 257.58 | F13: =SUM(D13)*E13 -> 515.16 | G13: 354.09 | H13: 160.48 | I13: 0.59 | J13: =[1]Pozīcijas!C7 -> 8 | K13: ='[1]1.5.'!C59 -> 329.28859 | L13: =SUM(J13)*K13 -> 2634.3087 | M13: ='[1]1.5.'!C8+'[1]1.5.'!C10+'[1]1.5.'!C12+'[1]1.5.'!C14+'[1]1.5.'!C32+'[1]1.5.'!C34+'[1]1.5.'!C38+'[1]1.5.'!C40 -> 2119.4337 | N13: ='[1]1.5.'!C16+'[1]1.5.'!C18+'[1]1.5.'!C20+'[1]1.5.'!C22+'[1]1.5.'!C24+'[1]1.5.'!C26+'[1]1.5.'!C28+'[1]1.5.'!C36+'[1]1.5.'!C42+'[1]1.5.'!C44+'[1]1.5.'!C46+'[1]1.5.'!C48+'[1]1.5.'!C50+'[1]1.5.'!C52 -> 514.87504 | O13: 0 | P13: =SUM(L13)-F13 -> 2119.1487 | Q13: =SUM(M13)-G13 -> 1765.3437 | R13: =SUM(N13)-H13 -> 354.39504 | S13: =SUM(O13)-I13 -> -0.59
A14: 1.6. | B14: viens papildu izmeklējums eritropoetīna noteikšanai urīnā | C14: 1 analīze | D14: 20 | E14: 243.32 | F14: =SUM(D14)*E14 -> 4866.4 | G14: 168.1 | H14: 4698.39 | J14: =[1]Pozīcijas!C8 -> 6 | K14: ='[1]1.6.'!C43 -> 343.08285 | L14: =SUM(J14)*K14 -> 2058.4971 | M14: ='[1]1.6.'!C8+'[1]1.6.'!C10+'[1]1.6.'!C16+'[1]1.6.'!C18+'[1]1.6.'!C22+'[1]1.6.'!C24 -> 545.6416 | N14: ='[1]1.6.'!C12+'[1]1.6.'!C20+'[1]1.6.'!C26+'[1]1.6.'!C28+'[1]1.6.'!C30+'[1]1.6.'!C32+'[1]1.6.'!C34+'[1]1.6.'!C36 -> 1512.8555 | O14: 0 | P14: =SUM(L14)-F14 -> -2807.9029 | Q14: =SUM(M14)-G14 -> 377.5416 | R14: =SUM(N14)-H14 -> -3185.5345 | S14: =SUM(O14)-I14 -> 0
A15: 1.7. | B15: viens papildu izmeklējums augšanas hormona atbrīvotājfaktoru noteikšanai urīnā | C15: 1 analīze | D15: 30 | E15: 108.86 | F15: =SUM(D15)*E15 -> 3265.8 | G15: 252.16 | H15: 3013.49 | J15: =[1]Pozīcijas!C9 -> 12 | K15: ='[1]1.7.'!C43 -> 199.09274 | L15: =SUM(J15)*K15 -> 2389.1129 | M15: ='[1]1.7.'!C8+'[1]1.7.'!C10+'[1]1.7.'!C16+'[1]1.7.'!C18+'[1]1.7.'!C22+'[1]1.7.'!C24 -> 1091.2819 | N15: ='[1]1.7.'!C12+'[1]1.7.'!C20+'[1]1.7.'!C26+'[1]1.7.'!C28+'[1]1.7.'!C30+'[1]1.7.'!C32+'[1]1.7.'!C34+'[1]1.7.'!C36 -> 1297.8309 | O15: 0 | P15: =SUM(L15)-F15 -> -876.68714 | Q15: =SUM(M15)-G15 -> 839.12192 | R15: =SUM(N15)-H15 -> -1715.6591 | S15: =SUM(O15)-I15 -> 0
A16: 1.8. | B16: viens papildu izmeklējums gonadotropīna atbrīvotājhormona noteikšanai urīnā | C16: 1 analīze | D16: 20 | E16: 108.85 | F16: =SUM(D16)*E16 -> 2177 | G16: 168.1 | H16: 2008.99 | J16: =[1]Pozīcijas!C10 -> 1 | K16: ='[1]1.8.'!C43 -> 199.09333 | L16: =SUM(J16)*K16 -> 199.09333 | M16: ='[1]1.8.'!C8+'[1]1.8.'!C10+'[1]1.8.'!C16+'[1]1.8.'!C18+'[1]1.8.'!C22+'[1]1.8.'!C24 -> 90.94075 | N16: ='[1]1.8.'!C12++'[1]1.8.'!C20+'[1]1.8.'!C26+'[1]1.8.'!C28+'[1]1.8.'!C30+'[1]1.8.'!C32+'[1]1.8.'!C34+'[1]1.8.'!C36 -> 108.15258 | O16: 0 | P16: =SUM(L16)-F16 -> -1977.9067 | Q16: =SUM(M16)-G16 -> -77.15925 | R16: =SUM(N16)-H16 -> -1900.8374 | S16: =SUM(O16)-I16 -> 0
A17: 1.9. | B17: viens papildu izmeklējums endogēno steroīdu noteikšanai urīnā ar IRMS metodi | C17: 1 analīze | D17: 3 | E17: 463.47 | F17: =SUM(D17)*E17 -> 1390.41 | G17: 25.21 | H17: 1365.21 | J17: =[1]Pozīcijas!C11 -> 1 | K17: ='[1]1.9.'!C42 -> 545.1045 | L17: =SUM(J17)*K17 -> 545.1045 | M17: ='[1]1.9.'!C8+'[1]1.9.'!C10+'[1]1.9.'!C16+'[1]1.9.'!C18+'[1]1.9.'!C21+'[1]1.9.'!C23 -> 85.901926 | N17: ='[1]1.9.'!C12+'[1]1.9.'!C19+'[1]1.9.'!C25+'[1]1.9.'!C27+'[1]1.9.'!C29+'[1]1.9.'!C31+'[1]1.9.'!C33+'[1]1.9.'!C35 -> 459.20258 | O17: 0 | P17: =SUM(L17)-F17 -> -845.3055 | Q17: =SUM(M17)-G17 -> 60.691926 | R17: =SUM(N17)-H17 -> -906.00742 | S17: =SUM(O17)-I17 -> 0
A18: 1.10. | B18: viens papildu izmeklējums insulīna noteikšanai urīnā | C18: 1 analīze | D18: 3 | E18: 223.09 | F18: =SUM(D18)*E18 -> 669.27 | G18: 25.21 | H18: 644.07 | J18: =[1]Pozīcijas!C12 -> 1 | K18: ='[1]1.10.'!C43 -> 293.64333 | L18: =SUM(J18)*K18 -> 293.64333 | M18: ='[1]1.10.'!C8+'[1]1.10.'!C10+'[1]1.10.'!C16+'[1]1.10.'!C18+'[1]1.10.'!C22+'[1]1.10.'!C24 -> 90.94075 | N18: ='[1]1.10.'!C12+'[1]1.10.'!C20+'[1]1.10.'!C26+'[1]1.10.'!C28+'[1]1.10.'!C30+'[1]1.10.'!C32+'[1]1.10.'!C34+'[1]1.10.'!C36 -> 202.70258 | O18: 0 | P18: =SUM(L18)-F18 -> -375.62667 | Q18: =SUM(M18)-G18 -> 65.73075 | R18: =SUM(N18)-H18 -> -441.36742 | S18: =SUM(O18)-I18 -> 0
A19: 1.11. | B19: viens izmeklējums endogēno steroīdu apstiprināšanai urīnā, tai skaitā ar IRMS metodi | C19: 1 analīze | D19: 2 | E19: 522.98 | F19: =SUM(D19)*E19 -> 1045.96 | G19: 16.81 | H19: 1029.14 | J19: =[1]Pozīcijas!C13 -> 1 | K19: ='[1]1.11.'!C43 -> 533.64333 | L19: =SUM(J19)*K19 -> 533.64333 | M19: ='[1]1.11.'!C8+'[1]1.11.'!C10+'[1]1.11.'!C16+'[1]1.11.'!C18+'[1]1.11.'!C22+'[1]1.11.'!C24 -> 90.94075 | N19: ='[1]1.11.'!C12+'[1]1.11.'!C20+'[1]1.11.'!C26+'[1]1.11.'!C28+'[1]1.11.'!C30+'[1]1.11.'!C32+'[1]1.11.'!C34+'[1]1.11.'!C36 -> 442.70258 | O19: 0 | P19: =SUM(L19)-F19 -> -512.31667 | Q19: =SUM(M19)-G19 -> 74.13075 | R19: =SUM(N19)-H19 -> -586.43742 | S19: =SUM(O19)-I19 -> 0
A20: 1.12. | B20: viena asins parauga analīze eritropoetīna noteikšanai asins serumā | C20: 1 analīze | D20: 10 | E20: 448.39 | F20: =SUM(D20)*E20 -> 4483.9 | G20: 594.23 | H20: 3889.65 | J20: =[1]Pozīcijas!C14 -> 1 | K20: ='[1]1.12.'!C59 -> 545.38167 | L20: =SUM(J20)*K20 -> 545.38167 | M20: ='[1]1.12.'!C8+'[1]1.12.'!C10+'[1]1.12.'!C12+'[1]1.12.'!C14+'[1]1.12.'!C32+'[1]1.12.'!C34+'[1]1.12.'!C38+'[1]1.12.'!C40 -> 239.73159 | N20: ='[1]1.12.'!C16+'[1]1.12.'!C18+'[1]1.12.'!C20+'[1]1.12.'!C22+'[1]1.12.'!C24+'[1]1.12.'!C26+'[1]1.12.'!C28+'[1]1.12.'!C36+'[1]1.12.'!C42+'[1]1.12.'!C44+'[1]1.12.'!C46+'[1]1.12.'!C48+'[1]1.12.'!C50+'[1]1.12.'!C52 -> 305.65008 | O20: 0 | P20: =SUM(L20)-F20 -> -3938.5183 | Q20: =SUM(M20)-G20 -> -354.49841 | R20: =SUM(N20)-H20 -> -3583.9999 | S20: =SUM(O20)-I20 -> 0
A21: 1.13. | B21: viena asins parauga analīze augšanas hormona noteikšanai asins serumā | C21: 1 analīze | D21: 30 | E21: 359.14 | F21: =SUM(D21)*E21 -> 10774.2 | G21: 1782.69 | H21: 8991.43 | J21: =[1]Pozīcijas!C15 -> 4 | K21: ='[1]1.13.'!C59 -> 485.5852 | L21: =SUM(J21)*K21 -> 1942.3408 | M21: ='[1]1.13.'!C8+'[1]1.13.'!C10+'[1]1.13.'!C12+'[1]1.13.'!C14+'[1]1.13.'!C32+'[1]1.13.'!C34+'[1]1.13.'!C38+'[1]1.13.'!C40 -> 928.70048 | N21: ='[1]1.13.'!C16+'[1]1.13.'!C18+'[1]1.13.'!C20+'[1]1.13.'!C22+'[1]1.13.'!C24+'[1]1.13.'!C26+'[1]1.13.'!C28+'[1]1.13.'!C36+'[1]1.13.'!C42+'[1]1.13.'!C44+'[1]1.13.'!C46+'[1]1.13.'!C48+'[1]1.13.'!C50+'[1]1.13.'!C52 -> 1013.6403 | O21: 0 | P21: =SUM(L21)-F21 -> -8831.8592 | Q21: =SUM(M21)-G21 -> -853.98952 | R21: =SUM(N21)-H21 -> -7977.7897 | S21: =SUM(O21)-I21 -> 0
A22: 1.14. | B22: viena asins parauga analīze mākslīgu skābekļa pārnesēju uz hemoglobīna bāzes noteikšanai asins plazmā | C22: 1 analīze | D22: 2 | E22: 281 | F22: =SUM(D22)*E22 -> 562 | G22: 118.84 | H22: 443.15 | J22: =[1]Pozīcijas!C16 -> 1 | K22: ='[1]1.14.'!C59 -> 411.38167 | L22: =SUM(J22)*K22 -> 411.38167 | M22: ='[1]1.14.'!C8+'[1]1.14.'!C10+'[1]1.14.'!C12+'[1]1.14.'!C14+'[1]1.14.'!C32+'[1]1.14.'!C34+'[1]1.14.'!C38+'[1]1.14.'!C40 -> 239.73159 | N22: ='[1]1.14.'!C16+'[1]1.14.'!C18+'[1]1.14.'!C20+'[1]1.14.'!C22+'[1]1.14.'!C24+'[1]1.14.'!C26+'[1]1.14.'!C28+'[1]1.14.'!C36+'[1]1.14.'!C42+'[1]1.14.'!C44+'[1]1.14.'!C46+'[1]1.14.'!C48+'[1]1.14.'!C50+'[1]1.14.'!C52 -> 171.65008 | O22: 0 | P22: =SUM(L22)-F22 -> -150.61833 | Q22: =SUM(M22)-G22 -> 120.89159 | R22: =SUM(N22)-H22 -> -271.49992 | S22: =SUM(O22)-I22 -> 0
B23: viena asins parauga analīze eritropoetīna noteikšanai asins plazmā | C23: 1 analīze | D23: 2 | E23: 442.84 | F23: 885.68 | G23: 118.84 | H23: 766.84 | P23: =SUM(L23)-F23 -> -885.68 | Q23: =SUM(M23)-G23 -> -118.84 | R23: =SUM(N23)-H23 -> -766.84 | S23: =SUM(O23)-I23 -> 0
A24: 1.15. | B24: viena asins parauga analīze sportista bioloģiskajai asins pasei asins plazmā | C24: 1 analīze | D24: 2 | E24: 285.72 | F24: =SUM(D24)*E24 -> 571.44 | G24: 118.84 | H24: 452.6 | J24: =[1]Pozīcijas!C17 -> 2 | K24: ='[1]1.15.'!C59 -> 419.36 | L24: =SUM(J24)*K24 -> 838.72 | M24: ='[1]1.15.'!C8+'[1]1.15.'!C10+'[1]1.15.'!C12+'[1]1.15.'!C14+'[1]1.15.'!C32+'[1]1.15.'!C34+'[1]1.15.'!C38+'[1]1.15.'!C40 -> 479.45845 | N24: ='[1]1.15.'!C16+'[1]1.15.'!C18+'[1]1.15.'!C20+'[1]1.15.'!C22+'[1]1.15.'!C24+'[1]1.15.'!C26+'[1]1.15.'!C28+'[1]1.15.'!C36+'[1]1.15.'!C42+'[1]1.15.'!C44+'[1]1.15.'!C46+'[1]1.15.'!C48+'[1]1.15.'!C50+'[1]1.15.'!C52 -> 359.26016 | O24: 0 | P24: =SUM(L24)-F24 -> 267.28 | Q24: =SUM(M24)-G24 -> 360.61845 | R24: =SUM(N24)-H24 -> -93.339842 | S24: =SUM(O24)-I24 -> 0
A25: 1.16. | B25: viena asins parauga savākšana (bez paraugu transportēšanas uz laboratoriju, laboratorijas pakalpojumu un komandējuma izdevumu apmaksas) | C25: 1 analīze | D25: 2 | E25: 245.7 | F25: =SUM(D25)*E25 -> 491.4 | G25: 118.84 | H25: 372.55 | J25: =[1]Pozīcijas!C18 -> 1 | K25: ='[1]1.16.'!C55 -> 352.72167 | L25: =SUM(J25)*K25 -> 352.72167 | M25: ='[1]1.16.'!C8+'[1]1.16.'!C10+'[1]1.16.'!C12+'[1]1.16.'!C14+'[1]1.16.'!C28+'[1]1.16.'!C30+'[1]1.16.'!C34+'[1]1.16.'!C36 -> 239.73159 | N25: ='[1]1.16.'!C16+'[1]1.16.'!C18+'[1]1.16.'!C20+'[1]1.16.'!C22+'[1]1.16.'!C24+'[1]1.16.'!C32+'[1]1.16.'!C38+'[1]1.16.'!C40+'[1]1.16.'!C42+'[1]1.16.'!C44+'[1]1.16.'!C46+'[1]1.16.'!C48 -> 112.99008 | O25: 0 | P25: =SUM(L25)-F25 -> -138.67833 | Q25: =SUM(M25)-G25 -> 120.89159 | R25: =SUM(N25)-H25 -> -259.55992 | S25: =SUM(O25)-I25 -> 0
A26: 1.17. | B26: viena parauga B daļas kvalitatīvā analīze A paraugā noteiktās dopinga vielas apstiprināšanai | C26: 1 analīze | D26: 2 | E26: 684.86 | F26: =SUM(D26)*E26 -> 1369.72 | G26: 109.71 | H26: 1260 | J26: =[1]Pozīcijas!C19 -> 1 | K26: ='[1]1.17.'!C43 -> 1058.6021 | L26: =SUM(J26)*K26 -> 1058.6021 | M26: ='[1]1.17.'!C8+'[1]1.17.'!C10+'[1]1.17.'!C16+'[1]1.17.'!C18+'[1]1.17.'!C22+'[1]1.17.'!C24 -> 115.89951 | N26: ='[1]1.17.'!C12+'[1]1.17.'!C20+'[1]1.17.'!C26+'[1]1.17.'!C28+'[1]1.17.'!C30+'[1]1.17.'!C32+'[1]1.17.'!C34+'[1]1.17.'!C36 -> 942.70258 | O26: 0 | P26: =SUM(L26)-F26 -> -311.11791 | Q26: =SUM(M26)-G26 -> 6.1895094 | R26: =SUM(N26)-H26 -> -317.29742 | S26: =SUM(O26)-I26 -> 0
A27: 1.18. | B27: viena parauga B daļas kvantitatīvā analīze A paraugā noteiktās dopinga vielas apstiprināšanai | C27: 1 analīze | D27: 2 | E27: 1101.36 | F27: =SUM(D27)*E27 -> 2202.72 | G27: 109.71 | H27: 2093 | J27: =[1]Pozīcijas!C20 -> 1 | K27: ='[1]1.18.'!C43 -> 1358.6021 | L27: =SUM(J27)*K27 -> 1358.6021 | M27: ='[1]1.18.'!C8+'[1]1.18.'!C10+'[1]1.18.'!C16+'[1]1.18.'!C18+'[1]1.18.'!C22+'[1]1.18.'!C24 -> 115.89951 | N27: ='[1]1.18.'!C12+'[1]1.18.'!C20+'[1]1.18.'!C26+'[1]1.18.'!C28+'[1]1.18.'!C30+'[1]1.18.'!C32+'[1]1.18.'!C34+'[1]1.18.'!C36 -> 1242.7026 | O27: 0 | P27: =SUM(L27)-F27 -> -844.11791 | Q27: =SUM(M27)-G27 -> 6.1895094 | R27: =SUM(N27)-H27 -> -850.29742 | S27: =SUM(O27)-I27 -> 0
A28: 1.19. | B28: viena parauga B daļas izmeklējums ar IRMS metodi | C28: 1 analīze | D28: 2 | E28: 684.86 | F28: =SUM(D28)*E28 -> 1369.72 | G28: 109.71 | H28: 1260 | J28: =[1]Pozīcijas!C21 -> 1 | K28: ='[1]1.19.'!C43 -> 1958.6021 | L28: =SUM(J28)*K28 -> 1958.6021 | M28: ='[1]1.19.'!C8+'[1]1.19.'!C10+'[1]1.19.'!C16+'[1]1.19.'!C18+'[1]1.19.'!C22+'[1]1.19.'!C24 -> 115.89951 | N28: ='[1]1.19.'!C12+'[1]1.19.'!C20+'[1]1.19.'!C26+'[1]1.19.'!C28+'[1]1.19.'!C30+'[1]1.19.'!C32+'[1]1.19.'!C34+'[1]1.19.'!C36 -> 1842.7026 | O28: 0 | P28: =SUM(L28)-F28 -> 588.88209 | Q28: =SUM(M28)-G28 -> 6.1895094 | R28: =SUM(N28)-H28 -> 582.70258 | S28: =SUM(O28)-I28 -> 0
B29: viena parauga B daļas izmeklējums eritropoetīna un tā analogu apstiprināšanai | C29: 1 analīze | D29: 2 | E29: 684.86 | F29: =SUM(D29)*E29 -> 1369.72 | G29: 109.71 | H29: 1260 | P29: =SUM(L29)-F29 -> -1369.72 | Q29: =SUM(M29)-G29 -> -109.71 | R29: =SUM(N29)-H29 -> -1260 | S29: =SUM(O29)-I29 -> 0
B30: viena parauga B daļas izmeklējums augšanas hormona apstiprināšanai | C30: 1 analīze | D30: 2 | E30: 684.86 | F30: =SUM(D30)*E30 -> 1369.72 | G30: 109.71 | H30: 1260 | P30: =SUM(L30)-F30 -> -1369.72 | Q30: =SUM(M30)-G30 -> -109.71 | R30: =SUM(N30)-H30 -> -1260 | S30: =SUM(O30)-I30 -> 0
A31: 1.20. | B31: Laboratorijas sagatavots analītisko rezultātu pilns dokumentārs pārskats A vai B paraugam | C31: 1 dokuments | D31: 4 | E31: 803.85 | F31: =SUM(D31)*E31 -> 3215.4 | G31: 219.41 | H31: 2996 | J31: =[1]Pozīcijas!C22 -> 1 | K31: ='[1]1.20.'!C43 -> 1288.7521 | L31: =SUM(J31)*K31 -> 1288.7521 | M31: ='[1]1.20.'!C8+'[1]1.20.'!C10+'[1]1.20.'!C16+'[1]1.20.'!C18+'[1]1.20.'!C22+'[1]1.20.'!C24 -> 115.89951 | N31: ='[1]1.20.'!C12+'[1]1.20.'!C20+'[1]1.20.'!C26+'[1]1.20.'!C28+'[1]1.20.'!C30+'[1]1.20.'!C32+'[1]1.20.'!C34+'[1]1.20.'!C36 -> 1172.8526 | O31: 0 | P31: =SUM(L31)-F31 -> -1926.6479 | Q31: =SUM(M31)-G31 -> -103.51049 | R31: =SUM(N31)-H31 -> -1823.1474 | S31: =SUM(O31)-I31 -> 0
A32: 1.21. | B32: Laboratorijas sagatavots analītisko rezultātu pilns dokumentārs pārskats A un B paraugam | C32: 1 dokuments | D32: 4 | E32: 387.35 | F32: =SUM(D32)*E32 -> 1549.4 | G32: 219.41 | H32: 1330 | J32: =[1]Pozīcijas!C23 -> 1 | K32: ='[1]1.21.'!C43 -> 1508.6021 | L32: =SUM(J32)*K32 -> 1508.6021 | M32: ='[1]1.21.'!C8+'[1]1.21.'!C10+'[1]1.21.'!C16+'[1]1.21.'!C18+'[1]1.21.'!C22+'[1]1.21.'!C24 -> 115.89951 | N32: ='[1]1.21.'!C12+'[1]1.21.'!C20+'[1]1.21.'!C26+'[1]1.21.'!C28+'[1]1.21.'!C30+'[1]1.21.'!C32+'[1]1.21.'!C34+'[1]1.21.'!C36 -> 1392.7026 | O32: 0 | P32: =SUM(L32)-F32 -> -40.797912 | Q32: =SUM(M32)-G32 -> -103.51049 | R32: =SUM(N32)-H32 -> 62.702579 | S32: =SUM(O32)-I32 -> 0
B33: lekcija antidopinga jomā (bez komandējuma izdevumu apmaksas) | C33: 1 akadēmiskā stunda | D33: 15 | E33: 20.02 | F33: =SUM(D33)*E33 -> 300.3 | G33: 300.3 | P33: =SUM(L33)-F33 -> -300.3 | Q33: =SUM(M33)-G33 -> -300.3 | R33: =SUM(N33)-H33 -> 0 | S33: =SUM(O33)-I33 -> 0
B34: antidopinga stenda prezentācija (divi informatori un izdales materiāli 100 personām, bez komandējuma izdevumu apmaksas) | C34: 1 stunda | D34: 60 | E34: 18.36 | F34: =D34*E34 -> 1101.6 | G34: 1101.6 | P34: =SUM(L34)-F34 -> -1101.6 | Q34: =SUM(M34)-G34 -> -1101.6 | R34: =SUM(N34)-H34 -> 0 | S34: =SUM(O34)-I34 -> 0
A35: KOPĀ: | F35: =ROUND(SUM(F9:F34),0) -> 157848 | G35: =ROUND(SUM(G9:G34),0) -> 47323 | H35: =ROUND(SUM(H9:H34),0) -> 110449 | I35: =ROUND(SUM(I9:I34),0) -> 76 | J35: =SUM(J9:J34) -> 108 | L35: =ROUND(SUM(L9:L34),0) -> 51807 | M35: =ROUND(SUM(M9:M34),0) -> 23281 | N35: =ROUND(SUM(N9:N34),0) -> 28526 | O35: =ROUND(SUM(O9:O34),0) -> 0 | P35: =ROUND(SUM(P9:P34),0) -> -106041 | Q35: =ROUND(SUM(Q9:Q34),0) -> -24042 | R35: =ROUND(SUM(R9:R34),0) -> -81923 | S35: =ROUND(SUM(S9:S34),0) -> -76

Sheet 3.1_pielikums
V1: 3.1.pielikums Ministru kabineta noteikumu projektam "Latvijas Antidopinga biroja maksas pakalpojumu cenrādis" sākotnējās ietekmes novērtējuma ziņojumam (anotācijai)
A3: Ieņēmumu no maksas pakalpojumiem izmaiņas sadalījumā pa izdevumu ekonomiskās klasifikācijas kodiem (EKK) salīdzinot 10.07.2018. MK noteikumos Nr.410 "Latvijas Antidopinga biroja maksas pakalpojumu cenrādis" apstiprinātās izmaksas ar noteikumu projektā "Grozījumi 10.07.2018. MK noteikumos Nr.410 "Latvijas Antidopinga biroja maksas pakalpojumu cenrādis"" (jaunā cenrāža projektā) iekļautajām izmaksām
A5: Nr. p.k. | B5: Pakalpojuma veids | C5: Mērvienība | D5: Atbilstoši 10.07.2018. MK noteikumiem Nr.410 | J5: cenrādis ar šī brīža spēkā esošajām cenām (2024. gada (janvāris-septembris) prognoze) | P5: Jaunais cenrādis ar jaunajām cenām (2024. gada (oktobris-decembris) prognoze) | V5: Izmaksu pieaugums/ samazinājums | W5: no tā, izdevumi sadalījumā pa EKK | AF5: Starpība | AL5: starpība
D6: Daudzums | E6: Cena bez PVN (euro) | F6: Summa gadā (euro) bez PVN | G6: no tā, izdevumi sadalījumā pa EKK | J6: Daudzums | K6: Cena bez PVN (euro) | L6: Summa gadā (euro) bez PVN | M6: no tā, izdevumi sadalījumā pa EKK | P6: Daudzums | Q6: Cena bez PVN (euro) | R6: Summa gadā (euro) bez PVN | S6: no tā, izdevumi sadalījumā pa EKK | W6: 1000 | X6: 2000 | Y6: 5000 | Z6: 1000 | AA6: 2000 | AB6: 5000 | AC6: 1000 | AD6: 2000 | AE6: 5000 | AF6: 1000 | AG6: 2000 | AH6: 5000 | AI6: 1000 | AJ6: 2000 | AK6: 5000 | AL6: 1000 | AM6: 2000 | AN6: 5000
G7: 1000 | H7: 2000 | I7: 5000 | M7: 1000 | N7: 2000 | O7: 5000 | S7: 1000 | T7: 2000 | U7: 5000
A8: 1 | B8: Dopinga kontroles analīzes
A9: 1.1. | B9: viena urīna parauga analīze dopinga vielu noteikšanai sacensību laikā bez papildu izmeklējumiem un atbildes sniegšana 14 dienu laikā | C9: 1 analīze | D9: 170 | E9: 468.46 | F9: =SUM(D9)*E9 -> 79638.2 | G9: =30097.36-752.23 -> 29345.13 | H9: =49490.09+752.29 -> 50242.38 | I9: 50.5 | J9: 50 | K9: =E9 -> 468.46 | L9: =SUM(J9)*K9 -> 23423 | M9: =G9/D9*J9 -> 8630.9206 | N9: =H9/D9*J9 -> 14777.171 | O9: =I9/D9*J9 -> 14.852941 | P9: 10 | Q9: ='[1]1.1.'!C64 -> 507.90853 | R9: =SUM(P9)*Q9 -> 5079.0853 | S9: =('[1]1.1.'!C10+'[1]1.1.'!C12+'[1]1.1.'!C14+'[1]1.1.'!C16+'[1]1.1.'!C38+'[1]1.1.'!C40+'[1]1.1.'!C43+'[1]1.1.'!C45)/53*P9 -> 2649.2915 | T9: =('[1]1.1.'!C18+'[1]1.1.'!C20+'[1]1.1.'!C22+'[1]1.1.'!C24+'[1]1.1.'!C26+'[1]1.1.'!C28+'[1]1.1.'!C30+'[1]1.1.'!C32+'[1]1.1.'!C34+'[1]1.1.'!C41+'[1]1.1.'!C47+'[1]1.1.'!C49+'[1]1.1.'!C51+'[1]1.1.'!C53+'[1]1.1.'!C55+'[1]1.1.'!C57)/53*P9 -> 2429.7938 | U9: 0 | V9: =SUM(R9+L9)-F9 -> -51136.115 | W9: =SUM(S9+M9)-G9 -> -18064.918 | X9: =SUM(T9+N9)-H9 -> -33035.416 | Y9: =SUM(U9+O9)-I9 -> -35.647059 | Z9: =G9/12 -> 2445.4275 | AA9: =H9/12 -> 4186.865 | AB9: =I9/12 -> 4.2083333 | AC9: =M9/7 -> 1232.9887 | AD9: =N9/7 -> 2111.0244 | AE9: =O9/7 -> 2.1218487 | AF9: =Z9-AC9 -> 1212.4388 | AG9: =AA9-AD9 -> 2075.8406 | AH9: =AB9-AE9 -> 2.0864846 | AI9: =S9/5 -> 529.8583 | AJ9: =T9/5 -> 485.95876 | AK9: =U9/5 -> 0 | AL9: =Z9-AI9 -> 1915.5692 | AM9: =AA9-AJ9 -> 3700.9062 | AN9: =AB9-AK9 -> 4.2083333
A10: 1.2. | B10: viena urīna parauga analīze dopinga vielu noteikšanai ārpus sacensībām bez papildu izmeklējumiem un atbildes sniegšana 14 dienu laikā | C10: 1 analīze | D10: 80 | E10: 380.12 | F10: =SUM(D10)*E10 -> 30409.6 | G10: 11095.06 | H10: 19291.05 | I10: 23.77 | J10: 6 | K10: =E10 -> 380.12 | L10: =SUM(J10)*K10 -> 2280.72 | M10: =G10/D10*J10 -> 832.1295 | N10: =H10/D10*J10 -> 1446.8288 | O10: =I10/D10*J10 -> 1.78275 | P10: 2 | Q10: ='[1]1.2.'!C60 -> 415.44176 | R10: =SUM(P10)*Q10 -> 830.88352 | S10: =('[1]1.2.'!C8+'[1]1.2.'!C10+'[1]1.2.'!C12+'[1]1.2.'!C14+'[1]1.2.'!C34+'[1]1.2.'!C36+'[1]1.2.'!C40+'[1]1.2.'!C42)/8*P10 -> 430.50476 | T10: =('[1]1.2.'!C16+'[1]1.2.'!C18+'[1]1.2.'!C20+'[1]1.2.'!C22+'[1]1.2.'!C24+'[1]1.2.'!C26+'[1]1.2.'!C28+'[1]1.2.'!C30+'[1]1.2.'!C38+'[1]1.2.'!C43+'[1]1.2.'!C45+'[1]1.2.'!C47+'[1]1.2.'!C49+'[1]1.2.'!C51+'[1]1.2.'!C53)/8*P10 -> 400.37876 | U10: 0 | V10: =SUM(R10+L10)-F10 -> -27297.996 | W10: =SUM(S10+M10)-G10 -> -9832.4257 | X10: =SUM(T10+N10)-H10 -> -17443.842 | Y10: =SUM(U10+O10)-I10 -> -21.98725 | Z10: =G10/12 -> 924.58833 | AA10: =H10/12 -> 1607.5875 | AB10: =I10/12 -> 1.9808333 | AC10: =M10/7 -> 118.87564 | AD10: =N10/7 -> 206.68982 | AE10: =O10/7 -> 0.25467857 | AF10: =Z10-AC10 -> 805.71269 | AG10: =AA10-AD10 -> 1400.8977 | AH10: =AB10-AE10 -> 1.7261548 | AI10: =S10/5 -> 86.100952 | AJ10: =T10/5 -> 80.075752 | AK10: =U10/5 -> 0 | AL10: =Z10-AI10 -> 838.48738 | AM10: =AA10-AJ10 -> 1527.5117 | AN10: =AB10-AK10 -> 1.9808333
A11: 1.3. | B11: viena urīna parauga analīze dopinga vielu noteikšanai sacensību laikā bez papildu izmeklējumiem un atbildes sniegšana 72 stundu laikā | C11: 1 analīze | D11: 2 | E11: 607.48 | F11: =SUM(D11)*E11 -> 1214.96 | G11: 354.09 | H11: 860.28 | I11: 0.59 | J11: 0 | K11: =E11 -> 607.48 | L11: =SUM(J11)*K11 -> 0 | M11: =G11/D11*J11 -> 0 | N11: =H11/D11*J11 -> 0 | O11: =I11/D11*J11 -> 0 | P11: 0 | Q11: ='[1]1.3.'!C63 -> 616.20058 | R11: =SUM(P11)*Q11 -> 0 | V11: =SUM(R11+L11)-F11 -> -1214.96 | W11: =SUM(S11+M11)-G11 -> -354.09 | X11: =SUM(T11+N11)-H11 -> -860.28 | Y11: =SUM(U11+O11)-I11 -> -0.59 | Z11: =G11/12 -> 29.5075 | AA11: =H11/12 -> 71.69 | AB11: =I11/12 -> 0.049166667 | AC11: =M11/7 -> 0 | AD11: =N11/7 -> 0 | AE11: =O11/7 -> 0 | AF11: =Z11-AC11 -> 29.5075 | AG11: =AA11-AD11 -> 71.69 | AH11: =AB11-AE11 -> 0.049166667 | AI11: =S11/5 -> 0 | AJ11: =T11/5 -> 0 | AK11: =U11/5 -> 0 | AL11: =Z11-AI11 -> 29.5075 | AM11: =AA11-AJ11 -> 71.69 | AN11: =AB11-AK11 -> 0.049166667
A12: 1.4. | B12: viena urīna parauga analīze dopinga vielu noteikšanai ārpus sacensībām bez papildu izmeklējumiem un atbildes sniegšana 72 stundu laikā | C12: 1 analīze | D12: 2 | E12: 519.15 | F12: =SUM(D12)*E12 -> 1038.3 | G12: 277.38 | H12: 760.32 | I12: 0.59 | J12: 0 | K12: =E12 -> 519.15 | L12: =SUM(J12)*K12 -> 0 | M12: =G12/D12*J12 -> 0 | N12: =H12/D12*J12 -> 0 | O12: =I12/D12*J12 -> 0 | P12: 1 | Q12: ='[1]1.4.'!C60 -> 515.63102 | R12: =SUM(P12)*Q12 -> 515.63102 | S12: =('[1]1.4.'!C8+'[1]1.4.'!C10+'[1]1.4.'!C12+'[1]1.4.'!C14+'[1]1.4.'!C34+'[1]1.4.'!C36+'[1]1.4.'!C39+'[1]1.4.'!C41)/2*P12 -> 215.48164 | T12: =('[1]1.4.'!C16+'[1]1.4.'!C18+'[1]1.4.'!C20+'[1]1.4.'!C22+'[1]1.4.'!C24+'[1]1.4.'!C26+'[1]1.4.'!C28+'[1]1.4.'!C30+'[1]1.4.'!C37+'[1]1.4.'!C43+'[1]1.4.'!C45+'[1]1.4.'!C47+'[1]1.4.'!C49+'[1]1.4.'!C51+'[1]1.4.'!C53)/2*P12 -> 300.14938 | U12: 0 | V12: =SUM(R12+L12)-F12 -> -522.66898 | W12: =SUM(S12+M12)-G12 -> -61.898357 | X12: =SUM(T12+N12)-H12 -> -460.17062 | Y12: =SUM(U12+O12)-I12 -> -0.59 | Z12: =G12/12 -> 23.115 | AA12: =H12/12 -> 63.36 | AB12: =I12/12 -> 0.049166667 | AC12: =M12/7 -> 0 | AD12: =N12/7 -> 0 | AE12: =O12/7 -> 0 | AF12: =Z12-AC12 -> 23.115 | AG12: =AA12-AD12 -> 63.36 | AH12: =AB12-AE12 -> 0.049166667 | AI12: =S12/5 -> 43.096329 | AJ12: =T12/5 -> 60.029876 | AK12: =U12/5 -> 0 | AL12: =Z12-AI12 -> -19.981329 | AM12: =AA12-AJ12 -> 3.3301241 | AN12: =AB12-AK12 -> 0.049166667
A13: 1.5. | B13: viena urīna parauga savākšana (bez paraugu transportēšanas uz laboratoriju, laboratorijas pakalpojumu un komandējuma izdevumu apmaksas) | C13: 1 analīze | D13: 2 | E13: 257.58 | F13: =SUM(D13)*E13 -> 515.16 | G13: 354.09 | H13: 160.48 | I13: 0.59 | J13: 0 | K13: =E13 -> 257.58 | L13: =SUM(J13)*K13 -> 0 | M13: =G13/D13*J13 -> 0 | N13: =H13/D13*J13 -> 0 | O13: =I13/D13*J13 -> 0 | P13: 4 | Q13: ='[1]1.5.'!C59 -> 329.28859 | R13: =SUM(P13)*Q13 -> 1317.1544 | S13: =('[1]1.5.'!C8+'[1]1.5.'!C10+'[1]1.5.'!C12+'[1]1.5.'!C14+'[1]1.5.'!C32+'[1]1.5.'!C34+'[1]1.5.'!C38+'[1]1.5.'!C40)/8*P13 -> 1059.7168 | T13: =('[1]1.5.'!C16+'[1]1.5.'!C18+'[1]1.5.'!C20+'[1]1.5.'!C22+'[1]1.5.'!C24+'[1]1.5.'!C26+'[1]1.5.'!C28+'[1]1.5.'!C36+'[1]1.5.'!C42+'[1]1.5.'!C44+'[1]1.5.'!C46+'[1]1.5.'!C48+'[1]1.5.'!C50+'[1]1.5.'!C52)/8*P13 -> 257.43752 | U13: 0 | V13: =SUM(R13+L13)-F13 -> 801.99435 | W13: =SUM(S13+M13)-G13 -> 705.62683 | X13: =SUM(T13+N13)-H13 -> 96.957519 | Y13: =SUM(U13+O13)-I13 -> -0.59 | Z13: =G13/12 -> 29.5075 | AA13: =H13/12 -> 13.373333 | AB13: =I13/12 -> 0.049166667 | AC13: =M13/7 -> 0 | AD13: =N13/7 -> 0 | AE13: =O13/7 -> 0 | AF13: =Z13-AC13 -> 29.5075 | AG13: =AA13-AD13 -> 13.373333 | AH13: =AB13-AE13 -> 0.049166667 | AI13: =S13/5 -> 211.94337 | AJ13: =T13/5 -> 51.487504 | AK13: =U13/5 -> 0 | AL13: =Z13-AI13 -> -182.43587 | AM13: =AA13-AJ13 -> -38.11417 | AN13: =AB13-AK13 -> 0.049166667
A14: 1.6. | B14: viens papildu izmeklējums eritropoetīna noteikšanai urīnā | C14: 1 analīze | D14: 20 | E14: 243.32 | F14: =SUM(D14)*E14 -> 4866.4 | G14: 168.1 | H14: 4698.39 | J14: 2 | K14: =E14 -> 243.32 | L14: =SUM(J14)*K14 -> 486.64 | M14: =G14/D14*J14 -> 16.81 | N14: =H14/D14*J14 -> 469.839 | O14: =I14/D14*J14 -> 0 | P14: 1 | Q14: ='[1]1.6.'!C43 -> 343.08285 | R14: =SUM(P14)*Q14 -> 343.08285 | S14: =('[1]1.6.'!C8+'[1]1.6.'!C10+'[1]1.6.'!C16+'[1]1.6.'!C18+'[1]1.6.'!C22+'[1]1.6.'!C24)/6*P14 -> 90.940267 | T14: =('[1]1.6.'!C12+'[1]1.6.'!C20+'[1]1.6.'!C26+'[1]1.6.'!C28+'[1]1.6.'!C30+'[1]1.6.'!C32+'[1]1.6.'!C34+'[1]1.6.'!C36)/6*P14 -> 252.14258 | U14: 0 | V14: =SUM(R14+L14)-F14 -> -4036.6772 | W14: =SUM(S14+M14)-G14 -> -60.349733 | X14: =SUM(T14+N14)-H14 -> -3976.4084 | Y14: =SUM(U14+O14)-I14 -> 0 | Z14: =G14/12 -> 14.008333 | AA14: =H14/12 -> 391.5325 | AB14: =I14/12 -> 0 | AC14: =M14/7 -> 2.4014286 | AD14: =N14/7 -> 67.119857 | AE14: =O14/7 -> 0 | AF14: =Z14-AC14 -> 11.606905 | AG14: =AA14-AD14 -> 324.41264 | AH14: =AB14-AE14 -> 0 | AI14: =S14/5 -> 18.188053 | AJ14: =T14/5 -> 50.428516 | AK14: =U14/5 -> 0 | AL14: =Z14-AI14 -> -4.1797201 | AM14: =AA14-AJ14 -> 341.10398 | AN14: =AB14-AK14 -> 0
A15: 1.7. | B15: viens papildu izmeklējums augšanas hormona atbrīvotājfaktoru noteikšanai urīnā | C15: 1 analīze | D15: 30 | E15: 108.86 | F15: =SUM(D15)*E15 -> 3265.8 | G15: 252.16 | H15: 3013.49 | J15: 0 | K15: =E15 -> 108.86 | L15: =SUM(J15)*K15 -> 0 | M15: =G15/D15*J15 -> 0 | N15: =H15/D15*J15 -> 0 | O15: =I15/D15*J15 -> 0 | P15: 6 | Q15: ='[1]1.7.'!C43 -> 199.09274 | R15: =SUM(P15)*Q15 -> 1194.5564 | S15: =('[1]1.7.'!C8+'[1]1.7.'!C10+'[1]1.7.'!C16+'[1]1.7.'!C18+'[1]1.7.'!C22+'[1]1.7.'!C24)/12*P15 -> 545.64096 | T15: =('[1]1.7.'!C12+'[1]1.7.'!C20+'[1]1.7.'!C26+'[1]1.7.'!C28+'[1]1.7.'!C30+'[1]1.7.'!C32+'[1]1.7.'!C34+'[1]1.7.'!C36)/12*P15 -> 648.91547 | U15: 0 | V15: =SUM(R15+L15)-F15 -> -2071.2436 | W15: =SUM(S15+M15)-G15 -> 293.48096 | X15: =SUM(T15+N15)-H15 -> -2364.5745 | Y15: =SUM(U15+O15)-I15 -> 0 | Z15: =G15/12 -> 21.013333 | AA15: =H15/12 -> 251.12417 | AB15: =I15/12 -> 0 | AC15: =M15/7 -> 0 | AD15: =N15/7 -> 0 | AE15: =O15/7 -> 0 | AF15: =Z15-AC15 -> 21.013333 | AG15: =AA15-AD15 -> 251.12417 | AH15: =AB15-AE15 -> 0 | AI15: =S15/5 -> 109.12819 | AJ15: =T15/5 -> 129.78309 | AK15: =U15/5 -> 0 | AL15: =Z15-AI15 -> -88.114859 | AM15: =AA15-AJ15 -> 121.34107 | AN15: =AB15-AK15 -> 0
A16: 1.8. | B16: viens papildu izmeklējums gonadotropīna atbrīvotājhormona noteikšanai urīnā | C16: 1 analīze | D16: 20 | E16: 108.85 | F16: =SUM(D16)*E16 -> 2177 | G16: 168.1 | H16: 2008.99 | J16: 0 | K16: =E16 -> 108.85 | L16: =SUM(J16)*K16 -> 0 | M16: =G16/D16*J16 -> 0 | N16: =H16/D16*J16 -> 0 | O16: =I16/D16*J16 -> 0 | P16: 0 | Q16: ='[1]1.8.'!C43 -> 199.09333 | R16: =SUM(P16)*Q16 -> 0 | V16: =SUM(R16+L16)-F16 -> -2177 | W16: =SUM(S16+M16)-G16 -> -168.1 | X16: =SUM(T16+N16)-H16 -> -2008.99 | Y16: =SUM(U16+O16)-I16 -> 0 | Z16: =G16/12 -> 14.008333 | AA16: =H16/12 -> 167.41583 | AB16: =I16/12 -> 0 | AC16: =M16/7 -> 0 | AD16: =N16/7 -> 0 | AE16: =O16/7 -> 0 | AF16: =Z16-AC16 -> 14.008333 | AG16: =AA16-AD16 -> 167.41583 | AH16: =AB16-AE16 -> 0 | AI16: =S16/5 -> 0 | AJ16: =T16/5 -> 0 | AK16: =U16/5 -> 0 | AL16: =Z16-AI16 -> 14.008333 | AM16: =AA16-AJ16 -> 167.41583 | AN16: =AB16-AK16 -> 0
A17: 1.9. | B17: viens papildu izmeklējums endogēno steroīdu noteikšanai urīnā ar IRMS metodi | C17: 1 analīze | D17: 3 | E17: 463.47 | F17: =SUM(D17)*E17 -> 1390.41 | G17: 25.21 | H17: 1365.21 | J17: 0 | K17: =E17 -> 463.47 | L17: =SUM(J17)*K17 -> 0 | M17: =G17/D17*J17 -> 0 | N17: =H17/D17*J17 -> 0 | O17: =I17/D17*J17 -> 0 | P17: 0 | Q17: ='[1]1.9.'!C42 -> 545.1045 | R17: =SUM(P17)*Q17 -> 0 | V17: =SUM(R17+L17)-F17 -> -1390.41 | W17: =SUM(S17+M17)-G17 -> -25.21 | X17: =SUM(T17+N17)-H17 -> -1365.21 | Y17: =SUM(U17+O17)-I17 -> 0 | Z17: =G17/12 -> 2.1008333 | AA17: =H17/12 -> 113.7675 | AB17: =I17/12 -> 0 | AC17: =M17/7 -> 0 | AD17: =N17/7 -> 0 | AE17: =O17/7 -> 0 | AF17: =Z17-AC17 -> 2.1008333 | AG17: =AA17-AD17 -> 113.7675 | AH17: =AB17-AE17 -> 0 | AI17: =S17/5 -> 0 | AJ17: =T17/5 -> 0 | AK17: =U17/5 -> 0 | AL17: =Z17-AI17 -> 2.1008333 | AM17: =AA17-AJ17 -> 113.7675 | AN17: =AB17-AK17 -> 0
A18: 1.10. | B18: viens papildu izmeklējums insulīna noteikšanai urīnā | C18: 1 analīze | D18: 3 | E18: 223.09 | F18: =SUM(D18)*E18 -> 669.27 | G18: 25.21 | H18: 644.07 | J18: 0 | K18: =E18 -> 223.09 | L18: =SUM(J18)*K18 -> 0 | M18: =G18/D18*J18 -> 0 | N18: =H18/D18*J18 -> 0 | O18: =I18/D18*J18 -> 0 | P18: 0 | Q18: ='[1]1.10.'!C43 -> 293.64333 | R18: =SUM(P18)*Q18 -> 0 | V18: =SUM(R18+L18)-F18 -> -669.27 | W18: =SUM(S18+M18)-G18 -> -25.21 | X18: =SUM(T18+N18)-H18 -> -644.07 | Y18: =SUM(U18+O18)-I18 -> 0 | Z18: =G18/12 -> 2.1008333 | AA18: =H18/12 -> 53.6725 | AB18: =I18/12 -> 0 | AC18: =M18/7 -> 0 | AD18: =N18/7 -> 0 | AE18: =O18/7 -> 0 | AF18: =Z18-AC18 -> 2.1008333 | AG18: =AA18-AD18 -> 53.6725 | AH18: =AB18-AE18 -> 0 | AI18: =S18/5 -> 0 | AJ18: =T18/5 -> 0 | AK18: =U18/5 -> 0 | AL18: =Z18-AI18 -> 2.1008333 | AM18: =AA18-AJ18 -> 53.6725 | AN18: =AB18-AK18 -> 0
A19: 1.11. | B19: viens izmeklējums endogēno steroīdu apstiprināšanai urīnā, tai skaitā ar IRMS metodi | C19: 1 analīze | D19: 2 | E19: 522.98 | F19: =SUM(D19)*E19 -> 1045.96 | G19: 16.81 | H19: 1029.14 | J19: 0 | K19: =E19 -> 522.98 | L19: =SUM(J19)*K19 -> 0 | M19: =G19/D19*J19 -> 0 | N19: =H19/D19*J19 -> 0 | O19: =I19/D19*J19 -> 0 | P19: 0 | Q19: ='[1]1.11.'!C43 -> 533.64333 | R19: 0 | V19: =SUM(R19+L19)-F19 -> -1045.96 | W19: =SUM(S19+M19)-G19 -> -16.81 | X19: =SUM(T19+N19)-H19 -> -1029.14 | Y19: =SUM(U19+O19)-I19 -> 0 | Z19: =G19/12 -> 1.4008333 | AA19: =H19/12 -> 85.761667 | AB19: =I19/12 -> 0 | AC19: =M19/7 -> 0 | AD19: =N19/7 -> 0 | AE19: =O19/7 -> 0 | AF19: =Z19-AC19 -> 1.4008333 | AG19: =AA19-AD19 -> 85.761667 | AH19: =AB19-AE19 -> 0 | AI19: =S19/5 -> 0 | AJ19: =T19/5 -> 0 | AK19: =U19/5 -> 0 | AL19: =Z19-AI19 -> 1.4008333 | AM19: =AA19-AJ19 -> 85.761667 | AN19: =AB19-AK19 -> 0
A20: 1.12. | B20: viena asins parauga analīze eritropoetīna noteikšanai asins serumā | C20: 1 analīze | D20: 10 | E20: 448.39 | F20: =SUM(D20)*E20 -> 4483.9 | G20: 594.23 | H20: 3889.65 | J20: 0 | K20: =E20 -> 448.39 | L20: =SUM(J20)*K20 -> 0 | M20: =G20/D20*J20 -> 0 | N20: =H20/D20*J20 -> 0 | O20: =I20/D20*J20 -> 0 | P20: 0 | Q20: ='[1]1.12.'!C59 -> 545.38167 | R20: =SUM(P20)*Q20 -> 0 | V20: =SUM(R20+L20)-F20 -> -4483.9 | W20: =SUM(S20+M20)-G20 -> -594.23 | X20: =SUM(T20+N20)-H20 -> -3889.65 | Y20: =SUM(U20+O20)-I20 -> 0 | Z20: =G20/12 -> 49.519167 | AA20: =H20/12 -> 324.1375 | AB20: =I20/12 -> 0 | AC20: =M20/7 -> 0 | AD20: =N20/7 -> 0 | AE20: =O20/7 -> 0 | AF20: =Z20-AC20 -> 49.519167 | AG20: =AA20-AD20 -> 324.1375 | AH20: =AB20-AE20 -> 0 | AI20: =S20/5 -> 0 | AJ20: =T20/5 -> 0 | AK20: =U20/5 -> 0 | AL20: =Z20-AI20 -> 49.519167 | AM20: =AA20-AJ20 -> 324.1375 | AN20: =AB20-AK20 -> 0
A21: 1.13. | B21: viena asins parauga analīze augšanas hormona noteikšanai asins serumā | C21: 1 analīze | D21: 30 | E21: 359.14 | F21: =SUM(D21)*E21 -> 10774.2 | G21: 1782.69 | H21: 8991.43 | J21: 0 | K21: =E21 -> 359.14 | L21: =SUM(J21)*K21 -> 0 | M21: =G21/D21*J21 -> 0 | N21: =H21/D21*J21 -> 0 | O21: =I21/D21*J21 -> 0 | P21: 2 | Q21: 485.59 | R21: =SUM(P21)*Q21 -> 971.18 | S21: =('[1]1.13.'!C8+'[1]1.13.'!C10+'[1]1.13.'!C12+'[1]1.13.'!C14+'[1]1.13.'!C32+'[1]1.13.'!C34+'[1]1.13.'!C38+'[1]1.13.'!C40)/4*P21 -> 464.35024 | T21: =('[1]1.13.'!C16+'[1]1.13.'!C18+'[1]1.13.'!C20+'[1]1.13.'!C22+'[1]1.13.'!C24+'[1]1.13.'!C26+'[1]1.13.'!C28+'[1]1.13.'!C36+'[1]1.13.'!C42+'[1]1.13.'!C44+'[1]1.13.'!C46+'[1]1.13.'!C48+'[1]1.13.'!C50+'[1]1.13.'!C52)/4*P21 -> 506.82016 | U21: 0 | V21: =SUM(R21+L21)-F21 -> -9803.02 | W21: =SUM(S21+M21)-G21 -> -1318.3398 | X21: =SUM(T21+N21)-H21 -> -8484.6098 | Y21: =SUM(U21+O21)-I21 -> 0 | Z21: =G21/12 -> 148.5575 | AA21: =H21/12 -> 749.28583 | AB21: =I21/12 -> 0 | AC21: =M21/7 -> 0 | AD21: =N21/7 -> 0 | AE21: =O21/7 -> 0 | AF21: =Z21-AC21 -> 148.5575 | AG21: =AA21-AD21 -> 749.28583 | AH21: =AB21-AE21 -> 0 | AI21: =S21/5 -> 92.870048 | AJ21: =T21/5 -> 101.36403 | AK21: =U21/5 -> 0 | AL21: =Z21-AI21 -> 55.687452 | AM21: =AA21-AJ21 -> 647.9218 | AN21: =AB21-AK21 -> 0
A22: 1.14. | B22: viena asins parauga analīze mākslīgu skābekļa pārnesēju uz hemoglobīna bāzes noteikšanai asins plazmā | C22: 1 analīze | D22: 2 | E22: 281 | F22: =SUM(D22)*E22 -> 562 | G22: 118.84 | H22: 443.15 | J22: 0 | K22: =E22 -> 281 | L22: =SUM(J22)*K22 -> 0 | M22: =G22/D22*J22 -> 0 | N22: =H22/D22*J22 -> 0 | O22: =I22/D22*J22 -> 0 | P22: 0 | Q22: ='[1]1.14.'!C59 -> 411.38167 | R22: =SUM(P22)*Q22 -> 0 | V22: =SUM(R22+L22)-F22 -> -562 | W22: =SUM(S22+M22)-G22 -> -118.84 | X22: =SUM(T22+N22)-H22 -> -443.15 | Y22: =SUM(U22+O22)-I22 -> 0 | Z22: =G22/12 -> 9.9033333 | AA22: =H22/12 -> 36.929167 | AB22: =I22/12 -> 0 | AC22: =M22/7 -> 0 | AD22: =N22/7 -> 0 | AE22: =O22/7 -> 0 | AF22: =Z22-AC22 -> 9.9033333 | AG22: =AA22-AD22 -> 36.929167 | AH22: =AB22-AE22 -> 0 | AI22: =S22/5 -> 0 | AJ22: =T22/5 -> 0 | AK22: =U22/5 -> 0 | AL22: =Z22-AI22 -> 9.9033333 | AM22: =AA22-AJ22 -> 36.929167 | AN22: =AB22-AK22 -> 0
B23: viena asins parauga analīze eritropoetīna noteikšanai asins plazmā | C23: 1 analīze | D23: 2 | E23: 442.84 | F23: 885.68 | G23: 118.84 | H23: 766.84 | V23: =SUM(R23+L23)-F23 -> -885.68 | W23: =SUM(S23+M23)-G23 -> -118.84 | X23: =SUM(T23+N23)-H23 -> -766.84 | Y23: =SUM(U23+O23)-I23 -> 0 | Z23: =G23/12 -> 9.9033333 | AA23: =H23/12 -> 63.903333 | AB23: =I23/12 -> 0 | AC23: =M23/7 -> 0 | AD23: =N23/7 -> 0 | AE23: =O23/7 -> 0 | AF23: =Z23-AC23 -> 9.9033333 | AG23: =AA23-AD23 -> 63.903333 | AH23: =AB23-AE23 -> 0 | AI23: =S23/5 -> 0 | AJ23: =T23/5 -> 0 | AK23: =U23/5 -> 0 | AL23: =Z23-AI23 -> 9.9033333 | AM23: =AA23-AJ23 -> 63.903333 | AN23: =AB23-AK23 -> 0
A24: 1.15. | B24: viena asins parauga analīze sportista bioloģiskajai asins pasei asins plazmā | C24: 1 analīze | D24: 2 | E24: 285.72 | F24: =SUM(D24)*E24 -> 571.44 | G24: 118.84 | H24: 452.6 | J24: 1 | K24: =E24 -> 285.72 | L24: =SUM(J24)*K24 -> 285.72 | M24: =G24/D24*J24 -> 59.42 | N24: =H24/D24*J24 -> 226.3 | O24: =I24/D24*J24 -> 0 | P24: 1 | Q24: ='[1]1.15.'!C59 -> 419.36 | R24: =SUM(P24)*Q24 -> 419.36 | S24: =('[1]1.15.'!C8+'[1]1.15.'!C10+'[1]1.15.'!C12+'[1]1.15.'!C14+'[1]1.15.'!C32+'[1]1.15.'!C34+'[1]1.15.'!C38+'[1]1.15.'!C40)/2*P24 -> 239.72923 | T24: =('[1]1.15.'!C16+'[1]1.15.'!C18+'[1]1.15.'!C20+'[1]1.15.'!C22+'[1]1.15.'!C24+'[1]1.15.'!C26+'[1]1.15.'!C28+'[1]1.15.'!C36+'[1]1.15.'!C42+'[1]1.15.'!C44+'[1]1.15.'!C46+'[1]1.15.'!C48+'[1]1.15.'!C50+'[1]1.15.'!C52)/2*P24 -> 179.63008 | U24: 0 | V24: =SUM(R24+L24)-F24 -> 133.64 | W24: =SUM(S24+M24)-G24 -> 180.30923 | X24: =SUM(T24+N24)-H24 -> -46.669921 | Y24: =SUM(U24+O24)-I24 -> 0 | Z24: =G24/12 -> 9.9033333 | AA24: =H24/12 -> 37.716667 | AB24: =I24/12 -> 0 | AC24: =M24/7 -> 8.4885714 | AD24: =N24/7 -> 32.328571 | AE24: =O24/7 -> 0 | AF24: =Z24-AC24 -> 1.4147619 | AG24: =AA24-AD24 -> 5.3880952 | AH24: =AB24-AE24 -> 0 | AI24: =S24/5 -> 47.945845 | AJ24: =T24/5 -> 35.926016 | AK24: =U24/5 -> 0 | AL24: =Z24-AI24 -> -38.042512 | AM24: =AA24-AJ24 -> 1.7906509 | AN24: =AB24-AK24 -> 0
A25: 1.16. | B25: viena asins parauga savākšana (bez paraugu transportēšanas uz laboratoriju, laboratorijas pakalpojumu un komandējuma izdevumu apmaksas) | C25: 1 analīze | D25: 2 | E25: 245.7 | F25: =SUM(D25)*E25 -> 491.4 | G25: 118.84 | H25: 372.55 | J25: 0 | K25: =E25 -> 245.7 | L25: =SUM(J25)*K25 -> 0 | M25: =G25/D25*J25 -> 0 | N25: =H25/D25*J25 -> 0 | O25: =I25/D25*J25 -> 0 | P25: 0 | Q25: ='[1]1.16.'!C55 -> 352.72167 | R25: =SUM(P25)*Q25 -> 0 | V25: =SUM(R25+L25)-F25 -> -491.4 | W25: =SUM(S25+M25)-G25 -> -118.84 | X25: =SUM(T25+N25)-H25 -> -372.55 | Y25: =SUM(U25+O25)-I25 -> 0 | Z25: =G25/12 -> 9.9033333 | AA25: =H25/12 -> 31.045833 | AB25: =I25/12 -> 0 | AC25: =M25/7 -> 0 | AD25: =N25/7 -> 0 | AE25: =O25/7 -> 0 | AF25: =Z25-AC25 -> 9.9033333 | AG25: =AA25-AD25 -> 31.045833 | AH25: =AB25-AE25 -> 0 | AI25: =S25/5 -> 0 | AJ25: =T25/5 -> 0 | AK25: =U25/5 -> 0 | AL25: =Z25-AI25 -> 9.9033333 | AM25: =AA25-AJ25 -> 31.045833 | AN25: =AB25-AK25 -> 0
A26: 1.17. | B26: viena parauga B daļas kvalitatīvā analīze A paraugā noteiktās dopinga vielas apstiprināšanai | C26: 1 analīze | D26: 2 | E26: 684.86 | F26: =SUM(D26)*E26 -> 1369.72 | G26: 109.71 | H26: 1260 | J26: 0 | K26: =E26 -> 684.86 | L26: =SUM(J26)*K26 -> 0 | M26: =G26/D26*J26 -> 0 | N26: =H26/D26*J26 -> 0 | O26: =I26/D26*J26 -> 0 | P26: 0 | Q26: ='[1]1.17.'!C43 -> 1058.6021 | R26: =SUM(P26)*Q26 -> 0 | V26: =SUM(R26+L26)-F26 -> -1369.72 | W26: =SUM(S26+M26)-G26 -> -109.71 | X26: =SUM(T26+N26)-H26 -> -1260 | Y26: =SUM(U26+O26)-I26 -> 0 | Z26: =G26/12 -> 9.1425 | AA26: =H26/12 -> 105 | AB26: =I26/12 -> 0 | AC26: =M26/7 -> 0 | AD26: =N26/7 -> 0 | AE26: =O26/7 -> 0 | AF26: =Z26-AC26 -> 9.1425 | AG26: =AA26-AD26 -> 105 | AH26: =AB26-AE26 -> 0 | AI26: =S26/5 -> 0 | AJ26: =T26/5 -> 0 | AK26: =U26/5 -> 0 | AL26: =Z26-AI26 -> 9.1425 | AM26: =AA26-AJ26 -> 105 | AN26: =AB26-AK26 -> 0
A27: 1.18. | B27: viena parauga B daļas kvantitatīvā analīze A paraugā noteiktās dopinga vielas apstiprināšanai | C27: 1 analīze | D27: 2 | E27: 1101.36 | F27: =SUM(D27)*E27 -> 2202.72 | G27: 109.71 | H27: 2093 | J27: 0 | K27: =E27 -> 1101.36 | L27: =SUM(J27)*K27 -> 0 | M27: =G27/D27*J27 -> 0 | N27: =H27/D27*J27 -> 0 | O27: =I27/D27*J27 -> 0 | P27: 0 | Q27: ='[1]1.18.'!C43 -> 1358.6021 | R27: =SUM(P27)*Q27 -> 0 | V27: =SUM(R27+L27)-F27 -> -2202.72 | W27: =SUM(S27+M27)-G27 -> -109.71 | X27: =SUM(T27+N27)-H27 -> -2093 | Y27: =SUM(U27+O27)-I27 -> 0 | Z27: =G27/12 -> 9.1425 | AA27: =H27/12 -> 174.41667 | AB27: =I27/12 -> 0 | AC27: =M27/7 -> 0 | AD27: =N27/7 -> 0 | AE27: =O27/7 -> 0 | AF27: =Z27-AC27 -> 9.1425 | AG27: =AA27-AD27 -> 174.41667 | AH27: =AB27-AE27 -> 0 | AI27: =S27/5 -> 0 | AJ27: =T27/5 -> 0 | AK27: =U27/5 -> 0 | AL27: =Z27-AI27 -> 9.1425 | AM27: =AA27-AJ27 -> 174.41667 | AN27: =AB27-AK27 -> 0
A28: 1.19. | B28: viena parauga B daļas izmeklējums ar IRMS metodi | C28: 1 analīze | D28: 2 | E28: 684.86 | F28: =SUM(D28)*E28 -> 1369.72 | G28: 109.71 | H28: 1260 | J28: 0 | K28: =E28 -> 684.86 | L28: =SUM(J28)*K28 -> 0 | M28: =G28/D28*J28 -> 0 | N28: =H28/D28*J28 -> 0 | O28: =I28/D28*J28 -> 0 | P28: 0 | Q28: ='[1]1.19.'!C43 -> 1958.6021 | R28: =SUM(P28)*Q28 -> 0 | V28: =SUM(R28+L28)-F28 -> -1369.72 | W28: =SUM(S28+M28)-G28 -> -109.71 | X28: =SUM(T28+N28)-H28 -> -1260 | Y28: =SUM(U28+O28)-I28 -> 0 | Z28: =G28/12 -> 9.1425 | AA28: =H28/12 -> 105 | AB28: =I28/12 -> 0 | AC28: =M28/7 -> 0 | AD28: =N28/7 -> 0 | AE28: =O28/7 -> 0 | AF28: =Z28-AC28 -> 9.1425 | AG28: =AA28-AD28 -> 105 | AH28: =AB28-AE28 -> 0 | AI28: =S28/5 -> 0 | AJ28: =T28/5 -> 0 | AK28: =U28/5 -> 0 | AL28: =Z28-AI28 -> 9.1425 | AM28: =AA28-AJ28 -> 105 | AN28: =AB28-AK28 -> 0
B29: viena parauga B daļas izmeklējums eritropoetīna un tā analogu apstiprināšanai | C29: 1 analīze | D29: 2 | E29: 684.86 | F29: =SUM(D29)*E29 -> 1369.72 | G29: 109.71 | H29: 1260 | V29: =SUM(R29+L29)-F29 -> -1369.72 | W29: =SUM(S29+M29)-G29 -> -109.71 | X29: =SUM(T29+N29)-H29 -> -1260 | Y29: =SUM(U29+O29)-I29 -> 0 | Z29: =G29/12 -> 9.1425 | AA29: =H29/12 -> 105 | AB29: =I29/12 -> 0 | AC29: =M29/7 -> 0 | AD29: =N29/7 -> 0 | AE29: =O29/7 -> 0 | AF29: =Z29-AC29 -> 9.1425 | AG29: =AA29-AD29 -> 105 | AH29: =AB29-AE29 -> 0 | AI29: =S29/5 -> 0 | AJ29: =T29/5 -> 0 | AK29: =U29/5 -> 0 | AL29: =Z29-AI29 -> 9.1425 | AM29: =AA29-AJ29 -> 105 | AN29: =AB29-AK29 -> 0
B30: viena parauga B daļas izmeklējums augšanas hormona apstiprināšanai | C30: 1 analīze | D30: 2 | E30: 684.86 | F30: =SUM(D30)*E30 -> 1369.72 | G30: 109.71 | H30: 1260 | V30: =SUM(R30+L30)-F30 -> -1369.72 | W30: =SUM(S30+M30)-G30 -> -109.71 | X30: =SUM(T30+N30)-H30 -> -1260 | Y30: =SUM(U30+O30)-I30 -> 0 | Z30: =G30/12 -> 9.1425 | AA30: =H30/12 -> 105 | AB30: =I30/12 -> 0 | AC30: =M30/7 -> 0 | AD30: =N30/7 -> 0 | AE30: =O30/7 -> 0 | AF30: =Z30-AC30 -> 9.1425 | AG30: =AA30-AD30 -> 105 | AH30: =AB30-AE30 -> 0 | AI30: =S30/5 -> 0 | AJ30: =T30/5 -> 0 | AK30: =U30/5 -> 0 | AL30: =Z30-AI30 -> 9.1425 | AM30: =AA30-AJ30 -> 105 | AN30: =AB30-AK30 -> 0
A31: 1.20. | B31: dopinga kontroles laboratorijas sagatavots analītisko rezultātu pilns dokumentārs pārskats | C31: 1 dokuments | D31: 4 | E31: 803.85 | F31: =SUM(D31)*E31 -> 3215.4 | G31: 219.41 | H31: 2996 | J31: 0 | K31: =E31 -> 803.85 | L31: =SUM(J31)*K31 -> 0 | M31: =G31/D31*J31 -> 0 | N31: =H31/D31*J31 -> 0 | O31: =I31/D31*J31 -> 0 | P31: 0 | Q31: ='[1]1.20.'!C43 -> 1288.7521 | R31: =SUM(P31)*Q31 -> 0 | V31: =SUM(R31+L31)-F31 -> -3215.4 | W31: =SUM(S31+M31)-G31 -> -219.41 | X31: =SUM(T31+N31)-H31 -> -2996 | Y31: =SUM(U31+O31)-I31 -> 0 | Z31: =G31/12 -> 18.284167 | AA31: =H31/12 -> 249.66667 | AB31: =I31/12 -> 0 | AC31: =M31/7 -> 0 | AD31: =N31/7 -> 0 | AE31: =O31/7 -> 0 | AF31: =Z31-AC31 -> 18.284167 | AG31: =AA31-AD31 -> 249.66667 | AH31: =AB31-AE31 -> 0 | AI31: =S31/5 -> 0 | AJ31: =T31/5 -> 0 | AK31: =U31/5 -> 0 | AL31: =Z31-AI31 -> 18.284167 | AM31: =AA31-AJ31 -> 249.66667 | AN31: =AB31-AK31 -> 0
A32: 1.21. | B32: dopinga kontroles laboratorijas sagatavots analītisko rezultātu pilns dokumentārs pārskats sportista bioloģiskajai asins pasei | C32: 1 dokuments | D32: 4 | E32: 387.35 | F32: =SUM(D32)*E32 -> 1549.4 | G32: 219.41 | H32: 1330 | J32: 0 | K32: =E32 -> 387.35 | L32: =SUM(J32)*K32 -> 0 | M32: =G32/D32*J32 -> 0 | N32: =H32/D32*J32 -> 0 | O32: =I32/D32*J32 -> 0 | P32: 0 | Q32: ='[1]1.21.'!C43 -> 1508.6021 | R32: =SUM(P32)*Q32 -> 0 | V32: =SUM(R32+L32)-F32 -> -1549.4 | W32: =SUM(S32+M32)-G32 -> -219.41 | X32: =SUM(T32+N32)-H32 -> -1330 | Y32: =SUM(U32+O32)-I32 -> 0 | Z32: =G32/12 -> 18.284167 | AA32: =H32/12 -> 110.83333 | AB32: =I32/12 -> 0 | AC32: =M32/7 -> 0 | AD32: =N32/7 -> 0 | AE32: =O32/7 -> 0 | AF32: =Z32-AC32 -> 18.284167 | AG32: =AA32-AD32 -> 110.83333 | AH32: =AB32-AE32 -> 0 | AI32: =S32/5 -> 0 | AJ32: =T32/5 -> 0 | AK32: =U32/5 -> 0 | AL32: =Z32-AI32 -> 18.284167 | AM32: =AA32-AJ32 -> 110.83333 | AN32: =AB32-AK32 -> 0
B33: lekcija antidopinga jomā (bez komandējuma izdevumu apmaksas) | C33: 1 akadēmiskā stunda | D33: 15 | E33: 20.02 | F33: =SUM(D33)*E33 -> 300.3 | G33: 300.3 | V33: =SUM(R33+L33)-F33 -> -300.3 | W33: =SUM(S33+M33)-G33 -> -300.3 | X33: =SUM(T33+N33)-H33 -> 0 | Y33: =SUM(U33+O33)-I33 -> 0 | Z33: =G33/12 -> 25.025 | AA33: =H33/12 -> 0 | AB33: =I33/12 -> 0 | AC33: =M33/7 -> 0 | AD33: =N33/7 -> 0 | AE33: =O33/7 -> 0 | AF33: =Z33-AC33 -> 25.025 | AG33: =AA33-AD33 -> 0 | AH33: =AB33-AE33 -> 0 | AI33: =S33/5 -> 0 | AJ33: =T33/5 -> 0 | AK33: =U33/5 -> 0 | AL33: =Z33-AI33 -> 25.025 | AM33: =AA33-AJ33 -> 0 | AN33: =AB33-AK33 -> 0
B34: antidopinga stenda prezentācija (divi informatori un izdales materiāli 100 personām, bez komandējuma izdevumu apmaksas) | C34: 1 stunda | D34: 60 | E34: 18.36 | F34: =D34*E34 -> 1101.6 | G34: 1101.6 | V34: =SUM(R34+L34)-F34 -> -1101.6 | W34: =SUM(S34+M34)-G34 -> -1101.6 | X34: =SUM(T34+N34)-H34 -> 0 | Y34: =SUM(U34+O34)-I34 -> 0 | Z34: =G34/12 -> 91.8 | AA34: =H34/12 -> 0 | AB34: =I34/12 -> 0 | AC34: =M34/7 -> 0 | AD34: =N34/7 -> 0 | AE34: =O34/7 -> 0 | AF34: =Z34-AC34 -> 91.8 | AG34: =AA34-AD34 -> 0 | AH34: =AB34-AE34 -> 0 | AI34: =S34/5 -> 0 | AJ34: =T34/5 -> 0 | AK34: =U34/5 -> 0 | AL34: =Z34-AI34 -> 91.8 | AM34: =AA34-AJ34 -> 0 | AN34: =AB34-AK34 -> 0
A35: KOPĀ: | F35: =ROUND(SUM(F9:F34),0) -> 157848 | G35: =ROUND(SUM(G9:G34),0) -> 47323 | H35: =ROUND(SUM(H9:H34),0) -> 110449 | I35: =ROUND(SUM(I9:I34),0) -> 76 | J35: =SUM(J9:J34) -> 59 | L35: =ROUND(SUM(L9:L32),0) -> 26476 | M35: =ROUND(SUM(M9:M32),0) -> 9539 | N35: =ROUND(SUM(N9:N32),0) -> 16920 | O35: =ROUND(SUM(O9:O32),0) -> 17 | P35: =SUM(P9:P34) -> 27 | R35: =ROUND(SUM(R9:R32),0) -> 10671 | S35: =ROUND(SUM(S9:S32),0) -> 5696 | T35: =ROUND(SUM(T9:T32),0) -> 4975 | U35: =SUM(U9:U32) -> 0 | V35: =ROUND(SUM(V9:V34),0) -> -120701 | W35: =ROUND(SUM(W9:W34),0) -> -32088 | X35: =ROUND(SUM(X9:X34),0) -> -88554 | Y35: =ROUND(SUM(Y9:Y34),0) -> -59 | Z35: =ROUND(SUM(Z9:Z34),2) -> 3943.57 | AA35: =ROUND(SUM(AA9:AA34),2) -> 9204.09 | AB35: =ROUND(SUM(AB9:AB34),2) -> 6.34 | AC35: =ROUND(SUM(AC9:AC34),2) -> 1362.75 | AD35: =ROUND(SUM(AD9:AD34),2) -> 2417.16 | AE35: =ROUND(SUM(AE9:AE34),2) -> 2.38 | AF35: =ROUND(SUM(AF9:AF34),2) -> 2580.82 | AG35: =ROUND(SUM(AG9:AG34),2) -> 6786.92 | ... AN35: =ROUND(SUM(AN9:AN34),2) -> 6.34
Q38: =L35+R35 -> 37147 | R38: =M35+S35 -> 15235 | S38: =N35+T35 -> 21895 | T38: =O35+U35 -> 17 | Z38: =Z35*12 -> 47322.84 | AA38: =AA35*12 -> 110449.08 | AB38: =AB35*12 -> 76.08 | AC38: =AC35*7 -> 9539.25 | AD38: =AD35*7 -> 16920.12 | AE38: =AE35*7 -> 16.66 | AF38: =Z38-AC38 -> 37783.59 | AG38: =AA38-AD38 -> 93528.96 | AH38: =AB38-AE38 -> 59.42 | AI38: =AI35*5 -> 5695.65 | AJ38: =AJ35*5 -> 4975.25 | AK38: =AK35*5 -> 0 | AL38: =AF38-AI38 -> 32087.94 | AM38: =AG38-AJ38 -> 88553.71 | AN38: =AH38-AK38 -> 59.42
AA40: =Z38+AA38+AB38 -> 157848 | AD40: =AC38+AD38+AE38 -> 26476.03 | AG40: =AF38+AG38+AH38 -> 131371.97 | AJ40: =AI38+AJ38+AK38 -> 10670.9 | AM40: =AL38+AM38+AN38 -> 120701.07
