Workbook

Sheet KOPĀ
A1: Kopā papildus nepieciešamais
A2: iestāde | B2: kopā | C2: kopā bez nomas | D2: elektroenerģija | E2: siltums | F2: gāze | G2: cita apkure | H2: nomas palielinājums
A3: Kopā | B3: =B4+B22+B33+B34 -> 2544201.6 | C3: =C4+C22+C33+C34 -> 2543911.8 | D3: =D4+D22+D33+D34 -> 1318986.7 | E3: =E4+E22+E33+E34 -> 737284.4 | F3: =F4+F22+F33+F34 -> 441193.12 | G3: =G4+G22+G33+G34 -> 46447.58 | H3: =H4+H22+H33+H34 -> 289.82
A4: 21.00.00. "Kultūras mantojums"kopā: | B4: =B5+B14+B17 -> 2092031.2 | C4: =C5+C14+C17 -> 2091741.4 | D4: =D5+D14+D17 -> 1210408.6 | E4: =E5+E14+E17 -> 453386.12 | F4: =F5+F14+F17 -> 381499.14 | G4: =G5+G14+G17 -> 46447.58 | H4: =H5+H14+H17 -> 289.82
A5: Muzeji | B5: =SUM(B6:B13) -> 594204.79 | C5: =SUM(C6:C13) -> 594204.79 | D5: =SUM(D6:D13) -> 336906.19 | E5: =SUM(E6:E13) -> 139133.17 | F5: =SUM(F6:F13) -> 101961.09 | G5: =SUM(G6:G13) -> 16204.34 | H5: =SUM(H6:H13) -> 0
A6: ='21.00.00'!A39 -> Memoriālo muzeju apvienība | B6: =D6+E6+F6+G6+H6 -> 11102.41 | C6: =E6+F6+G6+D6 -> 11102.41 | D6: ='21.00.00'!F42 -> -474.69 | E6: ='21.00.00'!F43 -> -0.06 | F6: ='21.00.00'!F44 -> 9884.95 | G6: ='21.00.00'!F45 -> 1692.21
A7: ='21.00.00'!A90 -> Rundāles pils muzejs | B7: =D7+E7+F7+G7+H7 -> 94714.62 | C7: =E7+F7+G7+D7 -> 94714.62 | D7: ='21.00.00'!F93 -> 2638.48 | E7: ='21.00.00'!F94 -> 0 | F7: ='21.00.00'!F95 -> 92076.14
A8: ='21.00.00'!A124 -> Īpaši aizsargājamais kultūras piemineklis - Turaidas muzejrezervāts | B8: =D8+E8+F8+G8+H8 -> 23678.74 | C8: =E8+F8+G8+D8 -> 23678.74 | D8: ='21.00.00'!F127 -> 23678.74
A9: ='21.00.00'!A150 -> Latvijas Etnogrāfiskais brīvdabas muzejs | B9: =D9+E9+F9+G9+H9 -> 31520.9 | C9: =E9+F9+G9+D9 -> 31520.9 | D9: ='21.00.00'!F153 -> 17008.77 | G9: ='21.00.00'!F156 -> 14512.13
A10: ='21.00.00'!A191 -> Rīgas vēstures un kuģniecības muzejs | B10: =D10+E10+F10+G10+H10 -> 94858.03 | C10: =E10+F10+G10+D10 -> 94858.03 | D10: ='21.00.00'!F194 -> 41152.49 | E10: ='21.00.00'!F195 -> 53705.54
A11: ='21.00.00'!A280 -> Rakstniecības un mūzikas muzejs | B11: =D11+E11+F11+G11+H11 -> 0 | C11: =E11+F11+G11+D11 -> 0
A12: ='21.00.00'!A307 -> Latvijas Nacionālais mākslas muzejs | B12: =D12+E12+F12+G12+H12 -> 262213.33 | C12: =E12+F12+G12+D12 -> 262213.33 | D12: ='21.00.00'!F310 -> 234213.33 | E12: ='21.00.00'!F311 -> 28000
A13: ='21.00.00'!A343 -> Latvijas Nacionālais vēstures muzejs | B13: =D13+E13+F13+G13+H13 -> 76116.76 | C13: =E13+F13+G13+D13 -> 76116.76 | D13: ='21.00.00'!I346 -> 18689.07 | E13: ='21.00.00'!I347 -> 57427.69
A14: Bibliotēkas | B14: =SUM(B15:B16) -> 882622.59 | C14: =E14+F14+G14+D14 -> 882332.77 | D14: =SUM(D15:D16) -> 821728.92 | E14: =SUM(E15:E16) -> 60603.85 | F14: =SUM(F15:F16) -> 0 | G14: =SUM(G15:G16) -> 0 | H14: =SUM(H15:H16) -> 289.82
A15: ='21.00.00'!A397 -> Latvijas Nacionālā bibliotēka | B15: =D15+E15+F15+G15+H15 -> 877856.11 | C15: =E15+F15+G15+D15 -> 877856.11 | D15: ='21.00.00'!F400 -> 817476.01 | E15: ='21.00.00'!F401 -> 60380.1
A16: ='21.00.00'!A435 -> Latvijas Neredzīgo bibliotēka | B16: =D16+E16+F16+G16+H16 -> 4766.48 | C16: =E16+F16+G16+D16 -> 4476.66 | D16: ='21.00.00'!F438 -> 4252.91 | E16: ='21.00.00'!F439 -> 223.75 | H16: ='21.00.00'!F442 -> 289.82
A17: Mantojuma iestādes | B17: =SUM(B18:B21) -> 615203.85 | C17: =E17+F17+G17+D17 -> 615203.85 | D17: =SUM(D18:D21) -> 51773.46 | E17: =SUM(E18:E21) -> 253649.1 | F17: =SUM(F18:F21) -> 279538.05 | G17: =SUM(G18:G21) -> 30243.24 | H17: =SUM(H18:H21) -> 0
A18: ='21.00.00'!A491 -> Nacionālā kultūras mantojuma pārvalde | B18: =D18+E18+F18+G18+H18 -> 8401.74 | C18: =E18+F18+G18+D18 -> 8401.74 | D18: ='21.00.00'!F494 -> -0.53 | E18: ='21.00.00'!F495 -> 8402.27
A19: ='21.00.00'!A543 -> Kultūras informācijas sistēmu centrs | B19: =D19+E19+F19+G19+H19 -> 14765.17 | C19: =E19+F19+G19+D19 -> 14765.17 | D19: ='21.00.00'!F547 -> 6465 | E19: ='21.00.00'!F548 -> 8300.17
A20: ='21.00.00'!A578 -> Latvijas Nacionālais kultūras centrs | B20: =D20+E20+F20+G20+H20 -> -0.11 | C20: =E20+F20+G20+D20 -> -0.11 | D20: ='21.00.00'!F581 -> 0.22 | E20: ='21.00.00'!F582 -> -0.33
A21: ='21.00.00'!A612 -> Latvijas Nacionālais arhīvs | B21: =D21+E21+F21+G21+H21 -> 592037.05 | C21: =E21+F21+G21+D21 -> 592037.05 | D21: ='21.00.00'!F615 -> 45308.77 | E21: ='21.00.00'!F616 -> 236946.99 | F21: ='21.00.00'!F617 -> 279538.05 | G21: ='21.00.00'!F618 -> 30243.24
A22: 20.00.00. "Kultūrizglītība" KM vidusskolas | B22: =SUM(B23:B32) -> 446686.93 | C22: =E22+F22+G22+D22 -> 446686.93 | D22: =SUM(D23:D32) -> 103265.46 | E22: =SUM(E23:E32) -> 283727.49 | F22: =SUM(F23:F32) -> 59693.98 | G22: =SUM(G23:G32) -> 0 | H22: =SUM(H23:H32) -> 0
A23: Rēzeknes mākslas un dizaina vidusskola | B23: =D23+E23+F23+G23+H23 -> 73276.63 | C23: =E23+F23+G23+D23 -> 73276.63 | D23: ='20.00.00'!F167 -> 2868.73 | E23: ='20.00.00'!F168 -> 70407.9
A24: Alfrēda Kalniņa Cēsu Mūzikas vidusskola | B24: =D24+E24+F24+G24+H24 -> 13690.08 | C24: =E24+F24+G24+D24 -> 13690.08 | D24: ='20.00.00'!F46 -> -369.77 | E24: ='20.00.00'!F47 -> 849.87 | F24: ='20.00.00'!F48 -> 13209.98
A25: Ivanova Rēzeknes mūzikas vidusskola | B25: =D25+E25+F25+G25+H25 -> 34841 | C25: =E25+F25+G25+D25 -> 34841 | D25: ='20.00.00'!F121 -> 690 | E25: ='20.00.00'!F122 -> 34151
A26: Jelgavas mūzikas vidusskola | B26: =D26+E26+F26+G26+H26 -> 4250.51 | C26: =E26+F26+G26+D26 -> 4250.51 | D26: ='20.00.00'!F98 -> 0 | E26: ='20.00.00'!F99 -> 4250.51
A27: Staņislava Broka Daugavpils Mūzikas vidusskola | B27: =D27+E27+F27+G27+H27 -> 28949.69 | C27: =E27+F27+G27+D27 -> 28949.69 | D27: ='20.00.00'!F75 -> 1043.67 | E27: ='20.00.00'!F76 -> 27906.02
A28: Profesionālās izglītības kompetences centrs "Ventspils Mūzikas vidusskola" | B28: =D28+E28+F28+G28+H28 -> 0 | C28: =E28+F28+G28+D28 -> 0 | D28: ='20.00.00'!F144 -> 0 | E28: ='20.00.00'!F145 -> 0
A29: PIKC Nacionālā Mākslu vidusskola | B29: =D29+E29+F29+G29+H29 -> 147799 | C29: =E29+F29+G29+D29 -> 147799 | D29: ='20.00.00'!F262 -> 11655 | E29: ='20.00.00'!F263 -> 89660 | F29: ='20.00.00'!F264 -> 46484
A30: PIKC Rīgas Dizaina un mākslas vidusskola | B30: =D30+E30+F30+G30+H30 -> 60000 | C30: =E30+F30+G30+D30 -> 60000 | D30: ='20.00.00'!F194 -> 20000 | E30: ='20.00.00'!F195 -> 40000
A31: Jāzepa Mediņa Rīgas Mūzikas vidusskola | B31: =D31+E31+F31+G31+H31 -> 8724.38 | C31: =E31+F31+G31+D31 -> 8724.38 | D31: ='20.00.00'!F222 -> 4106.55 | E31: ='20.00.00'!F223 -> 4617.83
A32: Profesionālās izglītības kompetences centrs Liepājas Mūzikas, mākslas un dizaina vidusskola" | B32: =D32+E32+F32+G32+H32 -> 75155.64 | C32: =E32+F32+G32+D32 -> 75155.64 | D32: ='20.00.00'!F293 -> 63271.28 | E32: ='20.00.00'!F294 -> 11884.36
A33: 25.01.00. "Valsts kultūrkapitāla fonda darbības nodrošināšana" | B33: =SUM(D33:H33) -> 2800 | C33: =E33+F33+G33+D33 -> 2800 | D33: 0 | E33: ='25.01.00VKKF '!F7 -> 2800
A34: 97.00.00 "Nozaru vadība un politikas plānošana" KM | B34: =SUM(D34:H34) -> 2683.4227 | C34: =E34+F34+G34+D34 -> 2683.4227 | D34: ='KM CA'!F6 -> 5312.6313 | E34: ='KM CA'!F7 -> -2629.2086
D36: kopā ar nomu | E36: bez nomas
A37: Programmas | B37: 20.00.00. | D37: =ROUNDUP(B22,0) -> 446687 | E37: =C22 -> 446686.93
B38: 21.00.00. | D38: =ROUNDUP((B5+B14+B17),0) -> 2092032 | E38: =C5+C14+C17 -> 2091741.4
B39: 25.01.00. | D39: =C33 -> 2800 | E39: =C33 -> 2800
B40: 97.00.00 | D40: =B34 -> 2683.4227 | E40: =C34 -> 2683.4227
B41: kopā: | D41: =SUM(D37:D40) -> 2544202.4 | E41: =SUM(E37:E40) -> 2543911.8
...

Sheet 20.00.00
A2: 20.00.00 Kultūrizglītība
A3: iestāde
A4: 2022.gada prognoze
C5: prognozētais patēriņa apjoms | D5: prognozētā gada summa (euro) | E5: 2022.gada budžetā plānotā summa (euro) | F5: 2022.gadam papildu nepieciešams (euro)
A6: 1. | B6: Elektroenerģija (kWh) | C6: =C46+C75+C98+C121+C144+C167+C194+C222+C262+C293 -> 1407073.6 | D6: =D46+D75+D98+D121+D144+D167+D194+D222+D262+D293 -> 384362.28 | E6: =E46+E75+E98+E121+E144+E167+E194+E222+E262+E293 -> 281096.82 | F6: =D6-E6 -> 103265.46
A7: 2. | B7: Siltumenerģija (mWh) | C7: =C47+C76+C99+C122+C145+C168+C195+C223+C263+C294 -> 5112.5 | D7: =D47+D76+D99+D122+D145+D168+D195+D223+D263+D294 -> 616951.67 | E7: =E47+E76+E99+E122+E145+E168+E195+E223+E263+E294 -> 333224.18 | F7: =D7-E7 -> 283727.49
A8: 3. | B8: Dabas gāze (m3) | C8: =C48+C77+C100+C123+C146+C169+C196+C224+C264+C295 -> 46049.08 | D8: =D48+D77+D100+D123+D146+D169+D196+D224+D264+D295 -> 79693.98 | E8: =E48+E77+E100+E123+E146+E169+E196+E224+E264+E295 -> 20000 | F8: =D8-E8 -> 59693.98
A9: 4. | B9: Citi siltumenerģijas veidi | C9: =C49+C78+C101+C124+C147+C170+C197+C225+C296 -> 45 | D9: =D49+D78+D101+D124+D147+D170+D197+D225+D296 -> 4520 | E9: =E49+E78+E101+E124+E147+E170+E197+E225+E296 -> 4520 | F9: =D9-E9 -> 0
A10: 5. | B10: Nomas maksā iekalkulētais (iekļautais) apmērs | C10: =C226 -> 0 | D10: =D226 -> 0 | E10: =E226 -> 0 | F10: =D10-E10 -> 0
B14: Faktiskās izmaksas | C14: janvāris | D14: februāris | E14: marts | F14: aprīlis | G14: maijs | H14: jūnijs | I14: jūlijs | J14: augusts | K14: septembris | L14: oktobris | M14: novembris | N14: decembris | O14: gada vidējais
B15: 2022.gads
A16: 1. | B16: mēneša maksa par elektronerģiju ar PVN | C16: =C56+C85+C108+C131+C154+C177+C204+C272+C303+C232 -> 26544.07 | D16: =D56+D85+D108+D131+D154+D177+D204+D272+D303+D232 -> 18682.52 | E16: =E56+E85+E108+E131+E154+E177+E204+E272+E303+E232 -> 18677.7 | F16: =F56+F85+F108+F131+F154+F177+F204+F272+F303+F232 -> 15731.94 | G16: =G56+G85+G108+G131+G154+G177+G204+G272+G303+G232 -> 21179.71 | H16: =H56+H85+H108+H131+H154+H177+H204+H272+H303+H232 -> 28648.44 | I16: =I56+I85+I108+I131+I154+I177+I204+I272+I303+I232 -> 21556.18 | J16: =J56+J85+J108+J131+J154+J177+J204+J272+J303+J232 -> 20452.3 | ... N16: =N56+N85+N108+N131+N154+N177+N204+N272+N303+N232 -> 64277.39 | O16: =SUM(C16:N16)/12 -> 32030.181 | P16: =SUM(C16:N16) -> 384362.17 | Q16: =P16-D6 -> -0.11
B17: patērētais elektroenerģijas apjoms (kWh) | C17: =C57+C86+C109+C132+C155+C178+C205+C251+C275+C304 -> 157739.22 | D17: =D57+D86+D109+D132+D155+D178+D205+D251+D275+D304 -> 142422.14 | E17: =E57+E86+E109+E132+E155+E178+E205+E251+E275+E304 -> 134354.27 | F17: =F57+F86+F109+F132+F155+F178+F205+F251+F275+F304 -> 127236.13 | G17: =G57+G86+G109+G132+G155+G178+G205+G251+G275+G304 -> 120875.62 | H17: =H57+H86+H109+H132+H155+H178+H205+H251+H275+H304 -> 103149.18 | I17: =I57+I86+I109+I132+I155+I178+I205+I251+I275+I304 -> 69896.42 | J17: =J57+J86+J109+J132+J155+J178+J205+J251+J275+J304 -> 58019.53 | ... N17: =N57+N86+N109+N132+N155+N178+N205+N251+N275+N304 -> 144020.07 | O17: =SUM(C17:N17)/12 -> 117851.63 | P17: =SUM(C17:N17) -> 1414219.6 | Q17: =P17-C6 -> 7145.93
B18: ja nepieciešams variet izdalīt pa ēkām/struktūrvienībām | O18: =SUM(C18:N18)/12 -> 0
A19: 2. | B19: mēneša maksa par siltumenerģiju ar PVN | C19: =C62+C88+C111+C134+C157+C182+C207+C277+C306+C235 -> 64616.71 | D19: =D62+D88+D111+D134+D157+D182+D207+D277+D306+D235 -> 59283.72 | E19: =E62+E88+E111+E134+E157+E182+E207+E277+E306+E235 -> 54208.61 | F19: =F62+F88+F111+F134+F157+F182+F207+F277+F306+F235 -> 45052.83 | G19: =G62+G88+G111+G134+G157+G182+G207+G277+G306+G235 -> 24512.52 | H19: =H62+H88+H111+H134+H157+H182+H207+H277+H306+H235 -> 8940.41 | I19: =I62+I88+I111+I134+I157+I182+I207+I277+I306+I235 -> 2277.08 | J19: =J62+J88+J111+J134+J157+J182+J207+J277+J306+J235 -> 965.56 | ... N19: =N62+N88+N111+N134+N157+N182+N207+N277+N306+N235 -> 162260.19 | O19: =SUM(C19:N19)/12 -> 51412.643 | P19: =SUM(C19:N19) -> 616951.72 | Q19: =P19-D7 -> 0.05
B20: patērētās siltumenerģijas apjoms (mWh) | C20: =C63+C89+C112+C135+C158+C183+C208+C278+C307 -> 852.73 | D20: =D63+D89+D112+D135+D158+D183+D208+D278+D307 -> 761.4 | E20: =E63+E89+E112+E135+E158+E183+E208+E278+E307 -> 693.74 | F20: =F63+F89+F112+F135+F158+F183+F208+F278+F307 -> 544.58 | G20: =G63+G89+G112+G135+G158+G183+G208+G278+G307 -> 279.02 | H20: =H63+H89+H112+H135+H158+H183+H208+H278+H307 -> 101.33 | I20: =I63+I89+I112+I135+I158+I183+I208+I278+I307 -> 25.3 | J20: =J63+J89+J112+J135+J158+J183+J208+J278+J307 -> 9.81 | ... N20: =N63+N89+N112+N135+N158+N183+N208+N278+N307 -> 848.04 | O20: =SUM(C20:N20)/12 -> 426.92333 | P20: =SUM(C20:N20) -> 5123.08 | Q20: =P20-C7 -> 10.58
B21: ja nepieciešams variet izdalīt pa ēkām/struktūrvienībām | O21: =SUM(C21:N21)/12 -> 0
A22: 3. | B22: mēneša maksa par dabas gāzi (apkurei) ar PVN | C22: =C65+C281 -> 5469.33 | D22: =D65+D281 -> 15660.84 | E22: =E65+E281 -> 10109.2 | F22: =F65+F281 -> 7449.56 | G22: =G65+G281 -> 4874.84 | H22: =H65+H281 -> 1454.42 | I22: =I65+I281 -> 248.95 | J22: =J65+J281 -> 41.54 | ... N22: =N65+N281 -> 20202.09 | O22: =SUM(C22:N22)/12 -> 6641.16 | P22: =SUM(C22:N22) -> 79693.92 | Q22: =P22-D8 -> -0.06
B23: patērētais apjoms (m3). | C23: =C66+C284 -> 9133.77 | D23: =D66+D284 -> 9659.72 | E23: =E66+E284 -> 7878.98 | F23: =F66+F284 -> 5606.06 | G23: =G66+G284 -> 2689.33 | H23: =H66+H284 -> 927.25 | I23: =I66+I284 -> 146.33 | J23: =J66+J284 -> 0 | ... N23: =N66+N284 -> 5887.1 | O23: =SUM(C23:N23)/12 -> 3837.41 | P23: =SUM(C23:N23) -> 46048.92 | Q23: =P23-C8 -> -0.16
B24: ja nepieciešams variet izdalīt pa ēkām/struktūrvienībām | O24: =SUM(C24:N24)/12 -> 0
A25: 4. | B25: Citi siltumenerģijas resursi | C25: =C210 | D25: =D210 | E25: =E210 | F25: =F210 | G25: =G210 | H25: =H210 | I25: =I210 | J25: =J210 -> 4520 | ... N25: =N210 | O25: =SUM(C25:N25)/12 -> 376.66667 | P25: =SUM(C25:N25) -> 4520 | Q25: =P25-D9 -> 0
A26: 4.1. | B26: veids | C26: - | D26: - | E26: - | F26: - | G26: - | H26: - | I26: - | J26: - | K26: - | L26: - | M26: - | N26: - | O26: =SUM(C26:N26)/12 -> 0
B27: patērētais apjoms | C27: - | D27: - | E27: - | F27: - | G27: - | H27: - | I27: - | J27: - | K27: - | L27: - | M27: - | N27: - | O27: =SUM(C27:N27)/12 -> 0
A28: 4.2. | B28: veids | C28: - | D28: - | E28: - | F28: - | G28: - | H28: - | I28: - | J28: - | K28: - | L28: - | M28: - | N28: - | O28: =SUM(C28:N28)/12 -> 0
B29: patērētais apjoms | C29: - | D29: - | E29: - | F29: - | G29: - | H29: - | I29: - | J29: - | K29: - | L29: - | M29: - | N29: - | O29: =SUM(C29:N29)/12 -> 0
A30: 5. | B30: Ja elektronerģijas un citu energo resursu izdevumi iekļauti nomas maksā | C30: - | D30: - | E30: - | F30: - | G30: - | H30: - | I30: - | J30: - | K30: - | L30: - | M30: - | N30: - | O30: =SUM(C30:N30)/12 -> 0
A31: 5.1. | B31: Nomas maksas palielinājums pret iepriekšējā gada tekošo mēnesi | C31: =C247 -> 840.88 | D31: =D247 -> 563 | E31: =E247 -> 1216.12 | F31: =F247 -> 1000.08 | G31: =G247 -> 629.67 | H31: =H247 -> 294.69 | I31: =I247 -> 26.29 | J31: =J247 -> 73.26 | ... N31: =N247 -> 4935.95 | O31: =SUM(C31:N31)/12 -> 1738.5408
B32: nomas maksa (euro) | C32: =C248 -> 3230.95 | D32: =D248 -> 2799.05 | E32: =E248 -> 3150.34 | F32: =F248 -> 2438.29 | G32: =G248 -> 1167.33 | H32: =H248 -> 562.21 | I32: =I248 -> 278.3 | J32: =J248 -> 391.99 | ... N32: =N248 -> 9000 | O32: =SUM(C32:N32)/12 -> 3336.5383
B33: nomātā platība (m2) | C33: =C249 -> 2100 | D33: =D249 -> 2100 | E33: =E249 -> 2100 | F33: =F249 -> 2100 | G33: =G249 -> 2100 | H33: =H249 -> 2100 | I33: =I249 -> 2100 | J33: =J249 -> 2100 | ... N33: =N249 -> 2100 | O33: =SUM(C33:N33)/12 -> 2100
A34: 5.2. | B34: Katra energo resursu patērētie apjomi, konkrēti | C34: =C250 | D34: =D250 | E34: =E250 | F34: =F250 | G34: =G250 | H34: =H250 | I34: =I250 | J34: =J250 -> 0 | ... N34: =N250 -> 0 | O34: =SUM(C34:N34)/12 -> 0
B35: Elektroenerģija (kWh) | C35: =C251 -> 5194.79 | D35: =D251 -> 5750.26 | E35: =E251 -> 7034.78 | F35: =F251 -> 5102.05 | G35: =G251 -> 4337.02 | H35: =H251 -> 3100.91 | I35: =I251 -> 1381.33 | J35: =J251 -> 2005.64 | ... N35: =N251 -> 7000 | O35: =SUM(C35:N35)/12 -> 4650.565
B36: Siltumenerģija (mWh) | C36: - | D36: - | E36: - | F36: - | G36: - | H36: - | I36: - | J36: - | K36: - | L36: - | M36: - | N36: - | O36: =SUM(C36:N36)/12 -> 0
B37: Dabas gāze (m3) | C37: - | D37: - | E37: - | F37: - | G37: - | H37: - | I37: - | J37: - | K37: - | L37: - | M37: - | N37: - | O37: =SUM(C37:N37)/12 -> 0
B38: Citi siltumenerģijas veidi | C38: - | D38: - | E38: - | F38: - | G38: - | H38: - | I38: - | J38: - | K38: - | L38: - | M38: - | N38: - | O38: =SUM(C38:N38)/12 -> 0
A42: 1.A.Kalniņa Cēsu Mūzikas vidusskola
A43: iestāde
A44: 2022.gada prognoze
C45: prognozētais patēriņa apjoms | D45: prognozētā gada summa (euro) | E45: 2022.gada budžetā plānotā summa (euro) | F45: 2022.gadam papildu nepieciešams (euro)
A46: 1. | B46: Elektroenerģija (kWh) | C46: 64907.06 | D46: 14630.23 | E46: 15000 | F46: =D46-E46 -> -369.77
A47: 2. | B47: Siltumenerģija (mWh) | C47: 128.35 | D47: 11849.87 | E47: 11000 | F47: =D47-E47 -> 849.87
...

Sheet 21.00.00
A1: 21.00.00 programmas "Kultūras mantojums" padotības iestādes kopā
A2: iestāde
A3: 2022.gada prognoze
C4: prognozētais patēriņa apjoms | D4: prognozētā gada summa (euro) | E4: prognozētā gada summa (euro) bez Pulka 8 | F4: 2022.gada budžetā plānotā summa (euro) | G4: 2022.gada budžetā plānotā summa (euro) bez Pulka 8 | H4: 2022.gadam papildu nepieciešams (euro) | I4: 2022.gadam papildu nepieciešams (euro) bez Pulka 8 | J4: kontrole
A5: 1. | B5: Elektroenerģija (kWh) | C5: =C42+C93+C127+C153+C194+C283+C310+C346+C400+C438+C494+C547+C581+C615 -> 10133054 | D5: =D42+D93+D127+D153+D194+F283+D310+D346+D400+D438+D494+D547+D581+D615 -> 3164207.9 | E5: =D42+D93+D127+D153+D194+E283+D310+E346+D400+D438+D494+D547+D581+D615 -> 3025593.6 | F5: =E42+E93+E127+E153+E194+F283+E310+F346+E400+E438+E494+E547+E581+E615 -> 1882598 | G5: =E42+E93+E127+E153+E194+G283+E310+G346+E400+E438+E494+E547+E581+E615 -> 1815185 | H5: =F42+F93+F127+F153+F194+H283+F310+H346+F400+F438+F494+F547+F581+F615 -> 1281609.9 | I5: =F42+F93+F127+F153+F194+I283+F310+I346+F400+F438+F494+F547+F581+F615 -> 1210408.6 | J5: =E5-G5 -> 1210408.6 | K5: =I5-J5 -> 0
A6: 2. | B6: Siltumenerģija (mWh) | C6: =C43+C94+C128+C154+C195+C284+C311+C347+C401+C439+C495+C548+C582+C616 -> 17910.437 | D6: =D43+D94+D128+D154+D195+F284+D311+D347+D401+D439+D495+D548+D582+D616 -> 1305119.8 | E6: =D43+D94+D128+D154+D195+E284+D311+E347+D401+D439+D495+D548+D582+D616 -> 1251908.1 | F6: =E43+E94+E128+E154+E195+F284+E311+F347+E401+E439+E495+E548+E582+E616 -> 826007 | G6: =E43+E94+E128+E154+E195+G284+E311+G347+E401+E439+E495+E548+E582+E616 -> 798522 | H6: =F43+F94+F128+F154+F195+H284+F311+H347+F401+F439+F495+F548+F582+F616 -> 479112.81 | I6: =F43+F94+F128+F154+F195+I284+F311+I347+F401+F439+F495+F548+F582+F616 -> 453386.12 | J6: =E6-G6 -> 453386.12 | K6: =I6-J6 -> 0
A7: 3. | B7: Dabas gāze (m3) | C7: =C44+C95+C129+C155+C196+C285+C312+C348+C402+C440+C496+C549+C583+C617 -> 280277.33 | D7: =D44+D95+D129+D155+D196+F285+D312+D348+D402+D440+D496+D549+D583+D617 -> 545958.14 | E7: =D44+D95+D129+D155+D196+E285+D312+E348+D402+D440+D496+D549+D583+D617 -> 545958.14 | F7: =E44+E95+E129+E155+E196+F285+E312+F348+E402+E440+E496+E549+E583+E617 -> 164459 | G7: =E44+E95+E129+E155+E196+G285+E312+G348+E402+E440+E496+E549+E583+E617 -> 164459 | H7: =F44+F95+F129+F155+F196+H285+F312+H348+F402+F440+F496+F549+F583+F617 -> 381499.14 | I7: =F44+F95+F129+F155+F196+I285+F312+I348+F402+F440+F496+F549+F583+F617 -> 381499.14 | J7: =E7-G7 -> 381499.14 | K7: =I7-J7 -> 0
A8: 4. | B8: Citi siltumenerģijas veidi | C8: =C45+C96+C130+C156+C197+C286+C313+C349+C403+C441+C497+C550+C584+C618 -> 193.32 | D8: =D45+D96+D130+D156+D197+F286+D313+D349+D403+D441+D497+D550+D584+D618 -> 88416.58 | E8: =D45+D96+D130+D156+D197+E286+D313+E349+D403+D441+D497+D550+D584+D618 -> 88416.58 | F8: =E45+E96+E130+E156+E197+F286+E313+F349+E403+E441+E497+E550+E584+E618 -> 41969 | G8: =E45+E96+E130+E156+E197+G286+E313+G349+E403+E441+E497+E550+E584+E618 -> 41969 | H8: =F45+F96+F130+F156+F197+H286+F313+H349+F403+F441+F497+F550+F584+F618 -> 46447.58 | I8: =F45+F96+F130+F156+F197+I286+F313+I349+F403+F441+F497+F550+F584+F618 -> 46447.58 | J8: =E8-G8 -> 46447.58 | K8: =I8-J8 -> 0
A9: 5. | B9: Nomas maksā iekalkulētais (iekļautais) apmērs | C9: =C46+C97+C131+C160+C198+C287+C314+C350+C404+C442+C498+C551+C585+C619 -> 5392.8 | D9: =D46+D97+D131+D160+D198+E287+D314+E350+D404+D442+D498+D551+D585+D619 -> 10633.82 | E9: =D46+D97+D131+D160+D198+E287+D314+E350+D404+D442+D498+D551+D585+D619 -> 10633.82 | F9: =E46+E97+E131+E160+E198+F287+E314+F350+E404+E442+E498+E551+E585+E619 -> 10344 | G9: =E46+E97+E131+E160+E198+G287+E314+G350+E404+E442+E498+E551+E585+E619 -> 10344 | H9: =F46+F97+F131+F160+F198+H287+F314+H350+F404+F442+F498+F551+F585+F619 -> 289.82 | I9: =F46+F97+F131+F160+F198+I287+F314+I350+F404+F442+F498+F551+F585+F619 -> 289.82 | J9: =E9-G9 -> 289.82 | K9: =I9-J9 -> 4.5474735e-13
B11: Faktiskās izmaksas | C11: janvāris | D11: februāris | E11: marts | F11: aprīlis | G11: maijs | H11: jūnijs | I11: jūlijs | J11: augusts | K11: septembris | L11: oktobris | M11: novembris | N11: decembris | O11: gada vidējais
B12: 2022.gads
A13: 1. | B13: mēneša maksa par elektronerģiju ar PVN | C13: =C50+C101+C135+C164+C202+C291+C318+C354+C408+C502+C555+C589+C624 -> 193392.98 | D13: =D50+D101+D135+D164+D202+D291+D318+D354+D408+D502+D555+D589+D624 -> 133665.08 | E13: =E50+E101+E135+E164+E202+E291+E318+E354+E408+E502+E555+E589+E624 -> 132814.01 | F13: =F50+F101+F135+F164+F202+F291+F318+F354+F408+F502+F555+F589+F624 -> 151863.78 | G13: =G50+G101+G135+G164+G202+G291+G318+G354+G408+G502+G555+G589+G624 -> 172940.98 | H13: =H50+H101+H135+H164+H202+H291+H318+H354+H408+H502+H555+H589+H624 -> 212157.5 | I13: =I50+I101+I135+I164+I202+I291+I318+I354+I408+I502+I555+I589+I624 -> 263160.65 | J13: =J50+J101+J135+J164+J202+J291+J318+J354+J408+J502+J555+J589+J624 -> 361151.8 | ... N13: =N50+N101+N135+N164+N202+N291+N318+N354+N408+N502+N555+N589+N624 -> 289746.6 | O13: =SUM(C13:N13)/12 -> 231127.7
B14: mēneša maksa par elektronerģiju ar PVN bez Pulka 8 | C14: =C50+C101+C135+C164+C202+C292+C319+C355+C408+C446+C502+C555+C589+C624 -> 193934.51 | D14: =D50+D101+D135+D164+D202+D292+D319+D355+D408+D446+D502+D555+D589+D624 -> 134547.37 | E14: =E50+E101+E135+E164+E202+E292+E319+E355+E408+E446+E502+E555+E589+E624 -> 133130.94 | F14: =F50+F101+F135+F164+F202+F292+F319+F355+F408+F446+F502+F555+F589+F624 -> 151453.48 | G14: =G50+G101+G135+G164+G202+G292+G319+G355+G408+G446+G502+G555+G589+G624 -> 153481.18 | H14: =H50+H101+H135+H164+H202+H292+H319+H355+H408+H446+H502+H555+H589+H624 -> 189896.48 | I14: =I50+I101+I135+I164+I202+I292+I319+I355+I408+I446+I502+I555+I589+I624 -> 240674.63 | J14: =J50+J101+J135+J164+J202+J292+J319+J355+J408+J446+J502+J555+J589+J624 -> 334870.64 | ... N14: =N50+N101+N135+N164+N202+N292+N319+N355+N408+N446+N502+N555+N589+N624 -> 407040.5 | O14: =SUM(C14:N14)/12 -> 252132.8 | Q14: =SUM(C14:N14) -> 3025593.6 | R14: =E5-Q14 -> 0 | S14: vairāk
B15: patērētais elektroenerģijas apjoms (kWh) | C15: =C51+C102+C136+C165+C203+C295+C320+C356+C409+C452+C509+C556+C590+C625 -> 992982.76 | D15: =D51+D102+D136+D165+D203+D295+D320+D356+D409+D452+D509+D556+D590+D625 -> 955777.46 | E15: =E51+E102+E136+E165+E203+E295+E320+E356+E409+E452+E509+E556+E590+E625 -> 982718.02 | F15: =F51+F102+F136+F165+F203+F295+F320+F356+F409+F452+F509+F556+F590+F625 -> 934090.53 | G15: =G51+G102+G136+G165+G203+G295+G320+G356+G409+G452+G509+G556+G590+G625 -> 823230.1 | H15: =H51+H102+H136+H165+H203+H295+H320+H356+H409+H452+H509+H556+H590+H625 -> 740864.29 | I15: =I51+I102+I136+I165+I203+I295+I320+I356+I409+I452+I509+I556+I590+I625 -> 767044.01 | J15: =J51+J102+J136+J165+J203+J295+J320+J356+J409+J452+J509+J556+J590+J625 -> 839121.04 | ... N15: =N51+N102+N136+N165+N203+N295+N320+N356+N409+N452+N509+N556+N590+N625 -> 599471.5 | O15: =SUM(C15:N15)/12 -> 822691.8 | Q15: =SUM(C15:N15) -> 9872301.6 | R15: =C5-Q15 -> 260752.03 | T15: mazāk
A16: 2. | B16: mēneša maksa par siltumenerģiju ar PVN | C16: =C63+C104+C167+C205+C299+C323+C366+C415+C458+C516+C558+C592+C627 -> 127019.39 | D16: =D63+D104+D167+D205+D299+D323+D366+D415+D458+D516+D558+D592+D627 -> 138104.04 | E16: =E63+E104+E167+E205+E299+E323+E366+E415+E458+E516+E558+E592+E627 -> 142707 | F16: =F63+F104+F167+F205+F299+F323+F366+F415+F458+F516+F558+F592+F627 -> 105336.85 | G16: =G63+G104+G167+G205+G299+G323+G366+G415+G458+G516+G558+G592+G627 -> 49968.84 | H16: =H63+H104+H167+H205+H299+H323+H366+H415+H458+H516+H558+H592+H627 -> 30459.38 | I16: =I63+I104+I167+I205+I299+I323+I366+I415+I458+I516+I558+I592+I627 -> 13194.72 | J16: =J63+J104+J167+J205+J299+J323+J366+J415+J458+J516+J558+J592+J627 -> 12371.48 | ... N16: =N63+N104+N167+N205+N299+N323+N366+N415+N458+N516+N558+N592+N627 -> 277743.33 | O16: =SUM(C16:N16)/12 -> 108419.7 | Q16: =SUM(C16:N16) -> 1301036.4 | R16: =D6-Q16 -> 4083.37 | S16: vairāk
B17: mēneša maksa par siltumenerģiju ar PVN bez Pulka 8 | C17: =C63+C104+C167+C205+C300+C323+C367+C415+C458+C516+C558+C592+C627 -> 120331.65 | D17: =D63+D104+D167+D205+D300+D323+D367+D415+D458+D516+D558+D592+D627 -> 133424.47 | E17: =E63+E104+E167+E205+E300+E323+E367+E415+E458+E516+E558+E592+E627 -> 139031.89 | F17: =F63+F104+F167+F205+F300+F323+F367+F415+F458+F516+F558+F592+F627 -> 102699.74 | G17: =G63+G104+G167+G205+G300+G323+G367+G415+G458+G516+G558+G592+G627 -> 48090.05 | H17: =H63+H104+H167+H205+H300+H323+H367+H415+H458+H516+H558+H592+H627 -> 29774.56 | I17: =I63+I104+I167+I205+I300+I323+I367+I415+I458+I516+I558+I592+I627 -> 12953.59 | J17: =J63+J104+J167+J205+J300+J323+J367+J415+J458+J516+J558+J592+J627 -> 12100.69 | ... N17: =N63+N104+N167+N205+N300+N323+N367+N415+N458+N516+N558+N592+N627 -> 265431.98 | O17: =SUM(C17:N17)/12 -> 104325.68 | Q17: =SUM(C17:N17) -> 1251908.1 | R17: =E6-Q17 -> 0 | S17: vairāk
B18: patērētās siltumenerģijas apjoms (mWh) | C18: =C64+C168+C206+C303+C325+C368+C416+C459+C522+C559+C593+C628 -> 2120.18 | D18: =D64+D168+D206+D303+D325+D368+D416+D459+D522+D559+D593+D628 -> 2266.055 | E18: =E64+E168+E206+E303+E325+E368+E416+E459+E522+E559+E593+E628 -> 2091.034 | F18: =F64+F168+F206+F303+F325+F368+F416+F459+F522+F559+F593+F628 -> 1736.596 | G18: =G64+G168+G206+G303+G325+G368+G416+G459+G522+G559+G593+G628 -> 1122.1359 | H18: =H64+H168+H206+H303+H325+H368+H416+H459+H522+H559+H593+H628 -> 761.15323 | I18: =I64+I168+I206+I303+I325+I368+I416+I459+I522+I559+I593+I628 -> 660.98757 | J18: =J64+J168+J206+J303+J325+J368+J416+J459+J522+J559+J593+J628 -> 647.3493 | ... N18: =N64+N168+N206+N303+N325+N368+N416+N459+N522+N559+N593+N628 -> 2216.67 | O18: =SUM(C18:N18)/12 -> 1489.303 | Q18: =SUM(C18:N18) -> 17871.637 | R18: =C6-Q18 -> 38.8 | S18: vairāk
B19: ja nepieciešams variet izdalīt pa ēkām/struktūrvienībām
A20: 3. | B20: mēneša maksa par dabas gāzi (apkurei) ar PVN | C20: =C66+C107+C170+C461+C526+C595+C630 -> 61162.27 | D20: =D66+D107+D170+D461+D526+D595+D630 -> 43918.9 | E20: =E66+E107+E170+E461+E526+E595+E630 -> 39498.81 | F20: =F66+F107+F170+F461+F526+F595+F630 -> 42250.02 | G20: =G66+G107+G170+G461+G526+G595+G630 -> 16271.42 | H20: =H66+H107+H170+H461+H526+H595+H630 -> 4785.81 | I20: =I66+I107+I170+I461+I526+I595+I630 -> 540.52 | J20: =J66+J107+J170+J461+J526+J595+J630 -> 378.01 | ... N20: =N66+N107+N170+N461+N526+N595+N630 -> 139199 | O20: =SUM(C20:N20)/12 -> 45496.512 | Q20: =SUM(C20:N20) -> 545958.14 | R20: =D7-Q20 -> 0 | S20: vairāk
B21: patērētais apjoms (m3). | C21: =C67+C108+C171+C462+C527+C596+C631 -> 54306 | D21: =D67+D108+D171+D462+D527+D596+D631 -> 45982 | E21: =E67+E108+E171+E462+E527+E596+E631 -> 39889 | F21: =F67+F108+F171+F462+F527+F596+F631 -> 41992 | G21: =G67+G108+G171+G462+G527+G596+G631 -> 19827 | H21: =H67+H108+H171+H462+H527+H596+H631 -> 5671 | I21: =I67+I108+I171+I462+I527+I596+I631 -> 241 | J21: =J67+J108+J171+J462+J527+J596+J631 -> 48 | ... N21: =N67+N108+N171+N462+N527+N596+N631 -> 35188.67 | O21: =SUM(C21:N21)/12 -> 23356.444 | Q21: =SUM(C21:N21) -> 280277.33 | R21: =C7-Q21 -> 0 | S21: vairāk
B22: ja nepieciešams variet izdalīt pa ēkām/struktūrvienībām
A23: 4. | B23: Citi siltumenerģijas resursi | C23: =C70+C173+C634 -> 7035.08 | D23: =D70+D173+D634 -> 7395.05 | E23: =E70+E173+E634 -> 5098.15 | F23: =F70+F173+F634 -> 7744.79 | G23: =G70+G173+G634 -> 6335.76 | H23: =H70+H173+H634 -> 0 | I23: =I70+I173+I634 -> 0 | J23: =J70+J173+J634 -> 0 | ... N23: =N70+N173+N634 -> 19271.18 | O23: =SUM(C23:N23)/12 -> 7368.0483 | Q23: =SUM(C23:N23) -> 88416.58 | R23: =D8-Q23 -> 0 | T23: mazāk
A24: 4.1. | B24: veids | C24: =C71+C174+C465+C530+C599+C634 -> 3197.43 | D24: =D71+D174+D465+D530+D599+D634 -> 5363.59 | E24: =E71+E174+E465+E530+E599+E634 -> 3889.66 | F24: =F71+F174+F465+F530+F599+F634 -> 4646.47 | G24: =G71+G174+G465+G530+G599+G634 -> 1331 | H24: =H71+H174+H465+H530+H599+H634 -> 0 | I24: =I71+I174+I465+I530+I599+I634 -> 0 | J24: =J174+J635 -> 0 | K24: =K71+K174+K465+K530+K599+K634 -> 3161.73 | L24: =L71+L174+L465+L530+L599+L634 -> 13174.09 | M24: =M71+M174+M465+M530+M599+M634 -> 13500.79 | N24: =N71+N174+N465+N530+N599+N634 -> 14480.89 | O24: =SUM(C24:N24)/12 -> 5228.8042 | Q24: =SUM(C24:N24) -> 62745.65
B25: patērētais apjoms | C25: =C72+C175+C466+C531+C600+C635 -> 15.85 | D25: =D72+D175+D466+D531+D600+D635 -> 28.277 | E25: =E72+E175+E466+E531+E600+E635 -> 20.721 | F25: =F72+F175+F466+F531+F600+F635 -> 16.235 | G25: =G72+G175+G466+G531+G600+G635 -> 4 | H25: =H72+H175+H466+H531+H600+H635 -> 0 | I25: =I72+I175+I466+I531+I600+I635 -> 0 | J25: =J175+J636 -> 0 | K25: =K72+K175+K466+K531+K600+K635 -> 5.33 | L25: =L72+L175+L466+L531+L600+L635 -> 22.03 | M25: =M72+M175+M466+M531+M600+M635 -> 23.03 | N25: =N72+N175+N466+N531+N600+N635 -> 26.03 | O25: =SUM(C25:N25)/12 -> 13.458583 | Q25: =SUM(C25:N25) -> 161.503
A26: 4.2. | B26: veids | C26: =C73+C176+C467+C532+C601+C636 -> 2020.54 | D26: =D73+D176+D467+D532+D601+D636 -> 1965.83 | E26: =E73+E176+E467+E532+E601+E636 -> 1142.86 | F26: =F73+F176+F467+F532+F601+F636 -> 3032.69 | G26: =G73+G176+G467+G532+G601+G636 -> 2236.89 | H26: =H73+H176+H467+H532+H601+H636 -> 0 | I26: =I73+I176+I467+I532+I601+I636 -> 0 | J26: =J176+J637 -> 0 | K26: =K73+K176+K467+K532+K601+K636 -> 801.56 | L26: =L73+L176+L467+L532+L601+L636 -> 1800 | M26: =M73+M176+M467+M532+M601+M636 -> 1800 | N26: =N73+N176+N467+N532+N601+N636 -> 3600 | O26: =SUM(C26:N26)/12 -> 1533.3642 | Q26: =SUM(C26:N26) -> 18400.37
B27: patērētais apjoms | C27: =C74+C177+C468+C533+C602+C637 -> 1200.2 | D27: =D74+D177+D468+D533+D602+D637 -> 2215 | E27: =E74+E177+E468+E533+E602+E637 -> 1200 | F27: =F74+F177+F468+F533+F602+F637 -> 2113 | G27: =G74+G177+G468+G533+G602+G637 -> 1002.1 | H27: =H74+H177+H468+H533+H602+H637 -> 0 | I27: =I74+I177+I468+I533+I602+I637 -> 0 | J27: =J177+J638 -> 0 | K27: =K74+K177+K468+K533+K602+K637 -> 687 | L27: =L74+L177+L468+L533+L602+L637 -> 1200 | M27: =M74+M177+M468+M533+M602+M637 -> 1200 | N27: =N74+N177+N468+N533+N602+N637 -> 2400 | O27: =SUM(C27:N27)/12 -> 1101.4417 | Q27: =SUM(C27:N27) -> 13217.3
A28: 4.3. | B28: veids | C28: =C75+C178+C469+C534+C603+C638 -> 1751.48 | D28: =D75+D178+D469+D534+D603+D638 -> 0 | E28: =E75+E178+E469+E534+E603+E638 -> 0 | F28: =F75+F178+F469+F534+F603+F638 -> 0 | G28: =G75+G178+G469+G534+G603+G638 -> 2767.87 | H28: =H75+H178+H469+H534+H603+H638 -> 0 | I28: =I75+I178+I469+I534+I603+I638 -> 0 | J28: =J178+J639 -> 0 | K28: =K75+K178+K469+K534+K603+K638 -> 0 | L28: =L75+L178+L469+L534+L603+L638 -> 0 | M28: =M75+M178+M469+M534+M603+M638 -> 0 | N28: =N75+N178+N469+N534+N603+N638 -> 0 | O28: =SUM(C28:N28)/12 -> 376.6125 | Q28: =SUM(C28:N28) -> 4519.35
B29: patērētais apjoms | C29: =C76+C179+C470+C535+C604+C639 -> 31.5 | D29: =D76+D179+D470+D535+D604+D639 -> 0 | E29: =E76+E179+E470+E535+E604+E639 -> 0 | F29: =F76+F179+F470+F535+F604+F639 -> 0 | G29: =G76+G179+G470+G535+G604+G639 -> 49.5 | H29: =H76+H179+H470+H535+H604+H639 -> 0 | I29: =I76+I179+I470+I535+I604+I639 -> 0 | J29: =J179+J640 -> 0 | K29: =K76+K179+K470+K535+K604+K639 -> 0 | L29: =L76+L179+L470+L535+L604+L639 -> 0 | M29: =M76+M179+M470+M535+M604+M639 -> 0 | N29: =N76+N179+N470+N535+N604+N639 -> 0 | O29: =SUM(C29:N29)/12 -> 6.75 | Q29: =SUM(C29:N29) -> 81
A30: 5. | B30: Ja elektronerģijas un citu energo resursu izdevumi iekļauti nomas maksā | C30: =C77+C115+C182+C471 -> 2076.46 | D30: =D77+D115+D182+D471 -> 1862.37 | E30: =E77+E115+E182+E471 -> 1840.8 | F30: =F77+F115+F182+F471 -> 1313.76 | G30: =G77+G115+G182+G471 -> 343.96 | H30: =H77+H115+H182+H471 -> 139.15 | I30: =I77+I115+I182+I471 -> 48.28 | J30: =J77+J115+J182+J471 -> 66.99 | ... N30: =N77+N115+N182+N471 -> 2995.97 | O30: =SUM(C30:N30)/12 -> 905.66 | Q30: =SUM(C30:N30) -> 10867.92 | R30: =D9-Q30 -> -234.1 | S30: vairāk
A31: 5.1. | B31: Nomas maksas palielinājums pret iepriekšējā gada tekošo mēnesi | C31: =C78+C116+C470 -> 0 | D31: =D78+D116+D470 -> 0 | E31: =E78+E116+E470 -> 0 | F31: =F78+F116+F470 -> 0 | G31: =G78+G116+G470 -> 0 | H31: =H78+H116+H470 -> 0 | I31: =I78+I116+I470 -> 0 | J31: =J471 -> 31.25 | K31: =K78+K1016+K470 -> 0 | L31: =L78+L116+L470 -> 0 | M31: =M78+M116+M470 -> 0 | N31: =N78+N116+N470 -> 0 | O31: =SUM(C31:N31)/12 -> 2.6041667 | Q31: =SUM(C31:N31) -> 31.25
B32: nomas maksa (euro) | C32: =C79+C117+C471 -> 2201.81 | D32: =D79+D117+D471 -> 2009.69 | E32: =E79+E117+E471 -> 1964.62 | F32: =F79+F117+F471 -> 1381.95 | G32: =G79+G117+G471 -> 453.46 | H32: =H79+H117+H471 -> 248.65 | I32: =I79+I117+I471 -> 129.27 | J32: =J79+J117+J471 -> 143.56 | ... N32: =N79+N117+N471 -> 2995.97 | O32: =SUM(C32:N32)/12 -> 985.1225 | Q32: =SUM(C32:N32) -> 11821.47
B33: nomātā platība (m2) | C33: =C80+C118+C472 -> 1021.6 | D33: =D80+D118+D472 -> 991.6 | E33: =E80+E118+E472 -> 991.6 | F33: =F80+F118+F472 -> 991.6 | G33: =G80+G118+G472 -> 873.7 | H33: =H80+H118+H472 -> 873.7 | I33: =I80+I118+I472 -> 65.1 | J33: =J472 -> 39.6 | K33: =K472 -> 39.6 | L33: =L472 -> 39.6 | M33: =M472 -> 39.6 | N33: =N472 -> 39.6 | O33: =SUM(C33:N33)/12 -> 500.575 | Q33: =SUM(C33:N33) -> 6006.9
A34: 5.2. | B34: Katra energo resursu patērētie apjomi, konkrēti | Q34: =SUM(C34:N34) -> 0
B35: Elektroenerģija (kWh) | C35: =C82 | D35: =D82 | E35: =E82 | F35: =F82 | Q35: =SUM(C35:N35) -> 0
B36: Siltumenerģija (mWh) | C36: =C83 -> 1895.1372 | D36: =D83 -> 1613.9119 | E36: =E83 -> 1664.3424 | F36: =F83 -> 1135.2401 | G36: =G83 -> 201.19 | H36: =H83 -> 83.25 | I36: =I83 -> 16.96 | J36: =J83 -> 0 | ... N36: =N83 -> 0 | O36: =SUM(C36:N36)/12 -> 550.83597 | Q36: =SUM(C36:N36) -> 6610.0316
B37: Dabas gāze (m3) | C37: =C84 -> 374.65 | D37: =D84 -> 318.77 | E37: =E84 -> 322.16 | F37: =F84 -> 243.05 | G37: =G84 -> 111.53 | H37: =H84 -> 27.25 | I37: =I84 -> 0 | J37: =J84 -> 0 | ... N37: =N84 -> 0 | O37: =SUM(C37:N37)/12 -> 116.45083 | Q37: =SUM(C37:N37) -> 1397.41
B38: Citi siltumenerģijas veidi | C38: =C85+C123+C477 -> 451.37 | D38: =D85+D123+D477 -> 362.68 | E38: =E85+E123+E477 -> 374.98 | F38: =F85+F123+F477 -> 220.9 | G38: =G85+G123+G477 -> 7.7 | H38: =H85+H123+H477 -> 0.58 | I38: =I85+I123+I477 -> 0.06 | J38: =J85+J123+J477 -> 0.12 | ... N38: =N85+N123+N477 -> 0 | O38: =SUM(C38:N38)/12 -> 118.19917 | Q38: =SUM(C38:N38) -> 1418.39
A39: Memoriālo muzeju apvienība
A40: 2022.gada prognoze
C41: prognozētais patēriņa apjoms | D41: prognozētā gada summa (euro) | E41: 2022.gada budžetā plānotā summa (euro) | F41: 2022.gadam papildu nepieciešams (euro)
...

Sheet 25.01.00VKKF 
A3: VKKF
A4: 2022.gada prognoze
C5: prognozētais patēriņa apjoms | D5: prognozētā gada summa (euro) | E5: 2022.gada budžetā plānotā summa (euro) | F5: 2022.gadam papildu nepieciešams (euro)
A6: 1. | B6: Elektroenerģija (kWh) | D6: 3746.67 | E6: 3747 | F6: =D6-E6 -> -0.33
A7: 2. | B7: Siltumenerģija (mWh) | D7: 7300 | E7: 4500 | F7: =D7-E7 -> 2800
A8: 3. | B8: Dabas gāze (m3) | F8: -
A9: 4. | B9: Citi siltumenerģijas veidi | F9: -
A10: 5. | B10: Nomas maksā iekalkulētais (iekļautais) apmērs | F10: -
O11: 12
B12: Faktiskās izmaksas | C12: janvāris | D12: februāris | E12: marts | F12: aprīlis | G12: maijs | H12: jūnijs | I12: jūlijs | J12: augusts | K12: septembris | L12: oktobris | M12: novembris | N12: decembris | O12: gada vidējais
B13: 2022.gads
A14: 1. | B14: mēneša maksa par elektronerģiju ar PVN | C14: 144.4 | D14: 0 | E14: 285.96 | F14: 183.02 | G14: 383.73 | H14: 0 | I14: 20.74 | J14: 428.82 | K14: 500 | L14: 600 | M14: 600 | N14: 600 | O14: =SUM(C14:N14)/12 -> 312.2225 | P14: =SUM(C14:N14) -> 3746.67 | Q14: =D6-P14 -> 0
B15: patērētais elektroenerģijas apjoms (kWh) | J15: 606 | K15: 700 | L15: 800 | M15: 800 | N15: 800 | O15: =SUM(C15:N15)/12 -> 308.83333 | P15: =SUM(C15:N15) -> 3706
B16: ja nepieciešams variet izdalīt pa ēkām/struktūrvienībām | O16: =SUM(C16:N16)/12 -> 0 | P16: =SUM(C16:N16) -> 0
A17: 2. | B17: mēneša maksa par siltumenerģiju ar PVN | C17: 946.2 | D17: 714.31 | E17: 1105.07 | F17: 964.72 | G17: 280.34 | H17: 122.4 | I17: 4.32 | J17: 4.32 | K17: 4.32 | L17: 600 | M17: 900 | N17: 1654 | O17: =SUM(C17:N17)/12 -> 608.33333 | P17: =SUM(C17:N17) -> 7300 | Q17: =D7-P17 -> 0
B18: patērētās siltumenerģijas apjoms (mWh) | O18: -
B19: ja nepieciešams variet izdalīt pa ēkām/struktūrvienībām
A20: 3. | B20: mēneša maksa par dabas gāzi (apkurei) ar PVN | O20: -
B21: patērētais apjoms (m3). | O21: -
B22: ja nepieciešams variet izdalīt pa ēkām/struktūrvienībām
A23: 4. | B23: Citi siltumenerģijas resursi
A24: 4.1. | B24: veids | O24: -
B25: patērētais apjoms | O25: -
A26: 4.2. | B26: veids | O26: -
B27: patērētais apjoms | O27: -
A28: 5. | B28: Ja elektronerģijas un citu energo resursu izdevumi iekļauti nomas maksā
A29: 5.1. | B29: Nomas maksas palielinājums pret iepriekšējā gada tekošo mēnesi | C29: - | D29: - | E29: - | F29: - | G29: - | H29: - | I29: - | J29: - | K29: - | L29: - | M29: - | N29: - | O29: -
B30: nomas maksa (euro)
B31: nomātā platība (m2)
A32: 5.2. | B32: Katra energo resursu patērētie apjomi, konkrēti
B33: Elektroenerģija (kWh)
B34: Siltumenerģija (mWh)
B35: Dabas gāze (m3)
B36: Citi siltumenerģijas veidi

Sheet KM CA
A3: Kultūras ministrija - Nozares vadība
A4: 2022.gada prognoze
C5: prognozētais patēriņa apjoms | D5: prognozētā gada summa (euro) | E5: 2022.gada budžetā plānotā summa (euro) | F5: 2022.gadam papildu nepieciešams (euro)
A6: 1. | B6: Elektroenerģija (kWh) | C6: 104574 | D6: =SUM(C14:N14) -> 21712.631 | E6: 16400 | F6: =D6-E6 -> 5312.6313
A7: 2. | B7: Siltumenerģija (mWh) | C7: 200 | D7: =SUM(C25:N25) -> 19370.791 | E7: 22000 | F7: =D7-E7 -> -2629.2086
A8: 3. | B8: Dabas gāze (m3) | F8: =D8-E8 -> 0
A9: 4. | B9: Citi siltumenerģijas veidi | F9: =D9-E9 -> 0
A10: 5. | B10: Nomas maksā iekalkulētais (iekļautais) apmērs | F10: =D10-E10 -> 0
B12: Faktiskās izmaksas | C12: janvāris | D12: februāris | E12: marts | F12: aprīlis | G12: maijs | H12: jūnijs | I12: jūlijs | J12: augusts | K12: septembris | L12: oktobris | M12: novembris | N12: decembris | O12: gada vidējais
B13: 2022.gads
A14: 1. | B14: mēneša maksa par elektronerģiju ar PVN | C14: 563.85 | D14: 480.52 | E14: 393.42 | F14: 397.22 | G14: 2492 | H14: 2312.37 | I14: 2435.9115 | J14: 2670.6361 | K14: 2461.0109 | L14: 4268.85 | M14: 3236.8427 | O14: 1977.2026 | P14: =SUM(C14:N14) -> 21712.631 | Q14: =D6-P14 -> 0
B15: patērētais elektroenerģijas apjoms (kWh) | C15: 11526.34 | D15: 9810.91 | E15: 8097.32 | F15: 8118.9 | G15: 7637.47 | H15: 7277.25 | I15: 7438.15 | J15: 8137.016 | K15: 7512.368 | L15: 8027.944 | M15: 9861.8 | O15: 8714.4867 | P15: =SUM(C15:N15) -> 93445.468
B16: ja nepieciešams variet izdalīt pa ēkām/struktūrvienībām
B17: Kr.Valdemāra 11a summa | C17: 509.83 | D17: 385.94 | E17: 345.61 | F17: 323.17 | G17: 2102.23 | H17: 2029.83 | I17: 2128.0754 | J17: 2121.271 | K17: 2121.271 | L17: 2333.3981 | M17: 2566.7379 | N17: 2823.4117
B18: Kr.Valdemāra 11a | C18: 10481.34 | D18: 7934.33 | E18: 7105.22 | F18: 6643.78 | G18: 6431.31 | H18: 6431.31 | I18: 6520.85 | J18: 6500 | K18: 6500 | L18: 7150 | M18: 7865 | N18: 8651.5
B19: Kr.Valdemāra 17a summa
B20: Kr.Valdemāra 17a
B21: Meirovica bulvāris 4.stāvs summa | C21: 13.87 | D21: 60.86 | E21: 47.81 | F21: 43.69 | G21: 299 | H21: 282.54 | I21: 307.8361 | J21: 303.71372 | K21: 335.31013 | L21: 241.874 | M21: 478.81887 | N21: 561.80071
B22: Meirovica bulvāris 4.stāvs | C22: 271 | D22: 1226.58 | E22: 992.1 | F22: 883.12 | G22: 932.16 | H22: 845.94 | I22: 917.3 | J22: 905.016 | K22: 999.168 | L22: 720.744 | M22: 1426.8 | N22: 1674.072
B23: Meirovica bulvāris 3.stāvs summa | C23: 40.15 | D23: 33.72 | F23: 30.36 | G23: 90.77 | J23: 245.6514 | K23: 4.4297793 | L23: 52.754644 | M23: 191.28592 | N23: 269.41112
B24: Meirovica bulvāris 3.stāvs | C24: 774 | D24: 650 | F24: 592 | G24: 274 | J24: 732 | K24: 13.2 | L24: 157.2 | M24: 570 | N24: 802.8
A25: 2. | B25: mēneša maksa par siltumenerģiju ar PVN | C25: =C28+C32 -> 1189.25 | D25: =D28+D32 -> 3738.51 | E25: =E28+E32 -> 2483.5 | F25: =F28+F32 -> 3085.86 | G25: =G28+G32 -> 1830.74 | H25: =H28+H32 -> 549.47 | I25: =I28+I32 -> 56 | J25: =J28+J32 -> 63.225806 | K25: =K28+K32 -> 204.78061 | L25: 150.95 | M25: =M28+M32 -> 6018.505 | O25: 2167.885 | P25: =SUM(C25:N25) -> 19370.791 | Q25: =D7-P25 -> 0
B26: patērētās siltumenerģijas apjoms (mWh) | C26: 34.35 | D26: 17.26 | E26: 27.68 | F26: 16.44 | G26: 6.13 | H26: 0.77 | I26: 0.62 | J26: 0.7 | K26: 0.78 | L26: 20 | M26: 25 | O26: 15.394167
B27: ja nepieciešams variet izdalīt pa ēkām/struktūrvienībām
B28: Kr.Valdemāra 11a summa | D28: 2774.78 | E28: 1394.26 | F28: 2235.98 | G28: 1473.63 | H28: 549.47 | I28: 56 | J28: 63.225806 | K28: 70.451613 | L28: =L29*(170*1.21) -> 4114 | M28: =M29*(170*1.21) -> 5142.5 | N28: =N29*(170*1.21) -> 7199.5
B29: Kr.Valdemāra 11a | C29: 34.35 | D29: 17.26 | E29: 27.68 | F29: 16.44 | G29: 6.13 | H29: 0.77 | I29: 0.62 | J29: 0.7 | K29: 0.78 | L29: 20 | M29: 25 | N29: 35
B30: Meirovica bulvāris 4.stāvs summa
B31: Meirovica bulvāris 4.stāvs
B32: Meirovica bulvāris 3.stāvs summa | C32: 1189.25 | D32: 963.73 | E32: 1089.24 | F32: 849.88 | G32: 357.11 | K32: 134.329 | L32: 599.378 | M32: 876.005 | N32: 1743.963
B33: Meirovica bulvāris 3.stāvs
B34: Faktiskās izmaksas | C34: 201.55 | D34: 163.33 | E34: 184.6 | F34: 144.03 | G34: 60.52 | K34: 22.763 | L34: 101.569 | M34: 148.46 | N34: 295.555
