Workbook

Sheet VRS_okt
D1: 3.pielikums
D2: Ministru kabineta rīkojuma projekta
D3: “Par apropriācijas pārdali"
D4: sākotnējās ietekmes novērtējuma ziņojumam (anotācijai)
A6: Valsts robežsardzes izdevumi
A7: Kopsavilkums
A9: Kods | B9: Koda nosaukums | C9: Detalizēts izdevumu aprēķins | D9: Izdevumi, euro
A10: Izdevumi kopā ar vidējās izpeļņas pieauguma kompensēšanu | D10: =D11+D14 -> 160426
A11: 1000 | B11: Atlīdzība | D11: =ROUNDUP(D12+D13,0) -> 96855
A12: 1100 | B12: Atalgojums | C12: × | D12: =D18+D31 -> 78367.32
A13: 1210 | B13: Darba devēja valsts sociālās apdrošināšanas obligātās iemaksas | C13: × | D13: =D23+D32 -> 18486.87
A14: 2000 | B14: Preces un pakalpojumi | C14: × | D14: =D24 -> 63571
A16: 1) Izdevumi saistībā ar rīkojuma Nr. 518 izpildei nepieciešamo pasākumu īstenošanu | D16: =D17+D24 -> 152978
A17: 1000 | B17: Atlīdzība | D17: =ROUNDUP(D18+D23,0) -> 89407
A18: 1100 | B18: Atalgojums | D18: =SUM(D19:D22) -> 72341.29
A19: 1145 | B19: Piemaksa par darbu īpašos apstākļos, speciālās piemaksas | C19: Detalizēts aprēķins par laika periodu no 2023.gada 1. oktobra līdz 31. oktobrim 1.tabulā. Iesaistītas 519 amatpersonas, iesaistes laiks - 33 291,60 stundas. | D19: ='1.tabula'!J7 -> 51082.09
C20: Precizējums*_Detalizēts aprēķins par laika periodu no 2023.gada 1. septembra līdz 30. septembrim 2.tabulā. Iesaistīta 1 amatpersona, iesaistes laiks - 146,50 stundas. *Nav iekļauts pie 2023. gada septembta izdevumiem, jo aprēķini tika iesniegti vēlāk. | D20: ='2.tabula '!J7 -> 169.12
A21: 1149 | B21: Citas normatīvajos aktos noteiktās piemaksas, kas nav iepriekš klasificētas | C21: Detalizēts aprēķins piemaksām par nozīmīgu ieguldījumu attiecīgās institūcijas stratēģisko mērķu sasniegšanā par laika periodu no 2023.gada 1. oktobra līdz 31. oktobrim 3.tabulā. Iesaistītas 112 amatpersonas, iesaistes laiks -12 408 stundas. | D21: ='3.tabula'!J7 -> 20477.79
C22: Precizējums*_Detalizēts aprēķins par laika periodu no 2023.gada 1. septembra līdz 30. septembrim 4.tabulā. Iesaistītas 3 amatpersonas, iesaistes laiks - 312 stundas. *Nav iekļauts pie 2023. gada septembta izdevumiem, jo aprēķini tika iesniegti vēlāk. | D22: ='4.tabula '!J7 -> 612.29
A23: 1210 | B23: Darba devēja valsts sociālās apdrošināšanas obligātās iemaksas | C23: 23,59% no aprēķinātā atalgojuma | D23: ='1.tabula'!K7+'2.tabula '!K7+'3.tabula'!K7+'4.tabula '!K7 -> 17065.33
A24: 2000 | B24: Preces un pakalpojumi | D24: =D25 -> 63571
A25: 2230 | B25: Dažādi pakalpojumi | D25: =D26 -> 63571
A26: 2231 | B26: Izdevumi iestādes sabiedrisko aktivitāšu īstenošanai | C26: Faktiskie izdevumi, kas saistīti ar Lietuvas Republikas un Igaunijas Republikas robežsargu iesaisti Latvijas Republikas–Baltkrievijas Republikas valsts robežas nelikumīgās šķērsošanas un tās mēģinājumu novēršanā 1) Izmitināšanas izdevumi: Lietuvas amatpersonu grupām: 13.09.-27.09.2023. (17 amatpersonas, cena no 23.00 līdz 36.00 euro/dienā 1 amatpersonai) – 5 252.00 euro; 26.09.-11.10.2023. (18 amatpersonas, cena 29.50 euro/dienā 1 amatpersonai) – 7 758.50 euro; 10.10.-24.10.2023. (12 amatpersonas, cena 42.00 euro/dienā 1 amatpersonai) – 6 888.00 euro; 24.10.-08.11.2023. (12 amatpersonas, cena 42.00 euro/dienā 1 amatpersonai) – 7 182.00 euro. Igaunijas amatpersonu grupām: 20.09.-04.10.2023. (6 amatpersonas, cena 46.00 euro/dienā 1 amatpersonai) – 3 864.00 euro; 04.10.-18.10.2023. (12 amatpersonas, cena no 36.00 līdz 42.00 euro/dienā 1 amatpersonai) – 6 972.00 euro; 18.10.-01.11.2023. (12 amatpersonas, cena no 36.00 līdz 42.00 euro/dienā 1 amatpersonai) – 6 888.00 euro; 01.11.-15.11.2023. (12 amatpersonas, cena no 36.00 līdz 46.14 euro/dienā 1 amatpersonai) – 7 088.00 euro. Izmitināšanas izdevumi kopā: 51 892,50 euro | D26: 63571
C27: 2) Ēdināšanas izdevumi (vakariņas): Lietuvas amatpersonu grupām: 13.09.-27.09.2023. (17 amatpersonas, cena 8.00 euro/1 porcija) – 1 768.00 euro; 26.09.-11.10.2023. (18 amatpersonas, cena 8.00 euro/1 porcija) – 2 104.00 euro; 10.10.-24.10.2023. (12 amatpersonas, cena 8.00 euro/1 porcija) – 1 328.00 euro; 24.10.-08.11.2023. (12 amatpersonas, cena 8.00 euro/1 porcija) – 1 376.00 euro. Igaunijas amatpersonu grupām: 20.09.-04.10.2023. (12 amatpersonas, cena 8.00 euro/1 porcija) – 1 344.00 euro; 04.10.-18.10.2023. (12 amatpersonas, cena 8.00 euro/1 porcija) – 1 248 euro; 18.10.-01.11.2023. (12 amatpersonas, cena 8.00 euro/1 porcija) – 1 248.00 euro; 01.11.-15.11.2023. (12 amatpersonas, cena līdz 8.00 euro/1 porcija) – 1 262.48 euro. Ēdināšanas izdevumi kopā: 11 678,48 euro
A29: 2) Vidējās izpeļņas pieauguma kompensēšanai | D29: =D30 -> 7448
A30: 1000 | B30: Atlīdzība | D30: =ROUND(D31+D32,0) -> 7448
A31: 1100 | B31: Atalgojums | C31: 72 341,29 euro * 8,33% = 6026,03 euro | D31: =ROUND(D18*0.0833,2) -> 6026.03
A32: 1210 | B32: Darba devēja valsts sociālās apdrošināšanas obligātās iemaksas | C32: 23,59% no aprēķinātā atalgojuma | D32: =ROUND(D31*0.2359,2) -> 1421.54

Sheet 1.tabula
L1: 1.tabula
B2: Valsts robežsardze
A4: Piemaksa par darbu paaugstināta riska un slodzes apstākļos amatpersonām ar speciālajām dienesta pakāpēm laika periodā no 2023.gada 1.oktobra līdz 31.oktobrim
A6: Nr. | B6: Pārvalde | C6: Struktūrvienība | D6: Amats | E6: Tabeles Nr. | F6: Piemaksas apmērs | G6: Mēneš-alga | H6: Iesaistes stundas | I6: Stundas likme | J6: Piemaksas apmērs 50%, 20% vai 10% no stundas likmes (EKK1145) | K6: VSAOI 23,59% (EKK1210) | L6: Atlīdzība (EKK1000)
H7: =SUM(H8:H526) -> 33291.6 | J7: =SUM(J8:J526) -> 51082.09 | K7: =SUM(K8:K526) -> 12050.29 | L7: =SUM(L8:L526) -> 63132.38
A8: 1 | B8: VRS VIĻAKAS PĀRVALDE | C8: VRS VIĻAKAS PĀRVALDES PUNDURU ROBEŽAPSARDZĪBAS NODAĻA | D8: inspektors (kinologs) | E8: 28382 | F8: 0.2 | G8: 1175 | H8: 37.4 | I8: =ROUND(G8/166.33,3) -> 7.064 | J8: =ROUND(I8*H8*F8,2) -> 52.84 | K8: =ROUND(J8*0.2359,2) -> 12.46 | L8: =J8+K8 -> 65.3
A9: 2 | B9: VRS VIĻAKAS PĀRVALDE | C9: VRS VIĻAKAS PĀRVALDES PUNDURU ROBEŽAPSARDZĪBAS NODAĻA | D9: inspektors (kinologs) | E9: 28382 | F9: 0.5 | G9: 1175 | H9: 10.6 | I9: =ROUND(G9/166.33,3) -> 7.064 | J9: =ROUND(I9*H9*F9,2) -> 37.44 | K9: =ROUND(J9*0.2359,2) -> 8.83 | L9: =J9+K9 -> 46.27
A10: 3 | B10: VRS LUDZAS PĀRVALDE | C10: VRS LUDZAS PĀRVALDES PASIENES ROBEŽAPSARDZĪBAS NODAĻA | D10: jaunākais inspektors | E10: 37890 | F10: 20% | G10: 960 | H10: 109.37 | I10: =ROUND(G10/166.33,3) -> 5.772 | J10: =ROUND(I10*H10*F10,2) -> 126.26 | K10: =ROUND(J10*0.2359,2) -> 29.78 | L10: =J10+K10 -> 156.04
A11: 4 | B11: VRS LUDZAS PĀRVALDE | C11: VRS LUDZAS PĀRVALDES PASIENES ROBEŽAPSARDZĪBAS NODAĻA | D11: jaunākais inspektors | E11: 37890 | F11: 50% | G11: 960 | H11: 4.63 | I11: =ROUND(G11/166.33,3) -> 5.772 | J11: =ROUND(I11*H11*F11,2) -> 13.36 | K11: =ROUND(J11*0.2359,2) -> 3.15 | L11: =J11+K11 -> 16.51
A12: 5 | B12: VRS LUDZAS PĀRVALDE | C12: VRS LUDZAS PĀRVALDES PASIENES ROBEŽAPSARDZĪBAS NODAĻA | D12: vecākais inspektors | E12: 17555 | F12: 20% | G12: 1205 | H12: 173.32 | I12: =ROUND(G12/166.33,3) -> 7.245 | J12: =ROUND(I12*H12*F12,2) -> 251.14 | K12: =ROUND(J12*0.2359,2) -> 59.24 | L12: =J12+K12 -> 310.38
A13: 6 | B13: VRS LUDZAS PĀRVALDE | C13: VRS LUDZAS PĀRVALDES PASIENES ROBEŽAPSARDZĪBAS NODAĻA | D13: vecākais inspektors | E13: 17555 | F13: 0.5 | G13: 1205 | H13: 2.68 | I13: =ROUND(G13/166.33,3) -> 7.245 | J13: =ROUND(I13*H13*F13,2) -> 9.71 | K13: =ROUND(J13*0.2359,2) -> 2.29 | L13: =J13+K13 -> 12
A14: 7 | B14: VRS VIĻAKAS PĀRVALDE | C14: VRS VIĻAKAS PĀRVALDES RIKD ROBEŽKONTROLES TEHNISKO LĪDZEKĻU NODAĻA | D14: galvenais inspektors | E14: 18968 | F14: 10% | G14: 1510 | H14: 32.88 | I14: =ROUND(G14/166.33,3) -> 9.078 | J14: =ROUND(I14*H14*F14,2) -> 29.85 | K14: =ROUND(J14*0.2359,2) -> 7.04 | L14: =J14+K14 -> 36.89
A15: 8 | B15: VRS DAUGAVPILS PĀRVALDE | C15: VRS DAUGAVPILS PĀRVALDES PIEDRUJAS ROBEŽAPSARDZĪBAS NODAĻA | D15: inspektors | E15: 29603 | F15: 10% | G15: 1060 | H15: 154 | I15: =ROUND(G15/166.33,3) -> 6.373 | J15: =ROUND(I15*H15*F15,2) -> 98.14 | K15: =ROUND(J15*0.2359,2) -> 23.15 | L15: =J15+K15 -> 121.29
A16: 9 | B16: VRS DAUGAVPILS PĀRVALDE | C16: VRS DAUGAVPILS PĀRVALDES SILENES ROBEŽAPSARDZĪBAS NODAĻA | D16: inspektors | E16: 20157 | F16: 0.2 | G16: 1080 | H16: 175.05 | I16: =ROUND(G16/166.33,3) -> 6.493 | J16: =ROUND(I16*H16*F16,2) -> 227.32 | K16: =ROUND(J16*0.2359,2) -> 53.62 | L16: =J16+K16 -> 280.94
A17: 10 | B17: VRS DAUGAVPILS PĀRVALDE | C17: VRS DAUGAVPILS PĀRVALDES SILENES ROBEŽAPSARDZĪBAS NODAĻA | D17: inspektors | E17: 20157 | F17: 0.5 | G17: 1080 | H17: 3.2 | I17: =ROUND(G17/166.33,3) -> 6.493 | J17: =ROUND(I17*H17*F17,2) -> 10.39 | K17: =ROUND(J17*0.2359,2) -> 2.45 | L17: =J17+K17 -> 12.84
A18: 11 | B18: VRS DAUGAVPILS PĀRVALDE | C18: VRS DAUGAVPILS PĀRVALDES SILENES ROBEŽAPSARDZĪBAS NODAĻA | D18: jaunākais inspektors | E18: 36320 | F18: 0.2 | G18: 960 | H18: 170.28 | I18: =ROUND(G18/166.33,3) -> 5.772 | J18: =ROUND(I18*H18*F18,2) -> 196.57 | K18: =ROUND(J18*0.2359,2) -> 46.37 | L18: =J18+K18 -> 242.94
A19: 12 | B19: VRS DAUGAVPILS PĀRVALDE | C19: VRS DAUGAVPILS PĀRVALDES SILENES ROBEŽAPSARDZĪBAS NODAĻA | D19: jaunākais inspektors | E19: 36320 | F19: 0.5 | G19: 960 | H19: 4.22 | I19: =ROUND(G19/166.33,3) -> 5.772 | J19: =ROUND(I19*H19*F19,2) -> 12.18 | K19: =ROUND(J19*0.2359,2) -> 2.87 | L19: =J19+K19 -> 15.05
A20: 13 | B20: VRS DAUGAVPILS PĀRVALDE | C20: VRS DAUGAVPILS PĀRVALDES KAPLAVAS ROBEŽAPSARDZĪBAS NODAĻA | D20: vecākais inspektors | E20: 27722 | F20: 20% | G20: 1225 | H20: 156.83 | I20: =ROUND(G20/166.33,3) -> 7.365 | J20: =ROUND(I20*H20*F20,2) -> 231.01 | K20: =ROUND(J20*0.2359,2) -> 54.5 | L20: =J20+K20 -> 285.51
A21: 14 | B21: VRS DAUGAVPILS PĀRVALDE | C21: VRS DAUGAVPILS PĀRVALDES KAPLAVAS ROBEŽAPSARDZĪBAS NODAĻA | D21: vecākais inspektors | E21: 27722 | F21: 0.5 | G21: 1225 | H21: 8.17 | I21: =ROUND(G21/166.33,3) -> 7.365 | J21: =ROUND(I21*H21*F21,2) -> 30.09 | K21: =ROUND(J21*0.2359,2) -> 7.1 | L21: =J21+K21 -> 37.19
A22: 15 | B22: VRS DAUGAVPILS PĀRVALDE | C22: VRS DAUGAVPILS PĀRVALDES ROBEŽNIEKU ROBEŽAPSARDZĪBAS NODAĻA | D22: jaunākais inspektors | E22: 37214 | F22: 50% | G22: 960 | H22: 18.5 | I22: =ROUND(G22/166.33,3) -> 5.772 | J22: =ROUND(I22*H22*F22,2) -> 53.39 | K22: =ROUND(J22*0.2359,2) -> 12.59 | L22: =J22+K22 -> 65.98
A23: 16 | B23: VRS DAUGAVPILS PĀRVALDE | C23: VRS DAUGAVPILS PĀRVALDES ROBEŽNIEKU ROBEŽAPSARDZĪBAS NODAĻA | D23: jaunākais inspektors | E23: 37214 | F23: 20% | G23: 960 | H23: 53.5 | I23: =ROUND(G23/166.33,3) -> 5.772 | J23: =ROUND(I23*H23*F23,2) -> 61.76 | K23: =ROUND(J23*0.2359,2) -> 14.57 | L23: =J23+K23 -> 76.33
A24: 17 | B24: VRS DAUGAVPILS PĀRVALDE | C24: VRS DAUGAVPILS PĀRVALDES ŠĶAUNES ROBEŽAPSARDZĪBAS NODAĻA | D24: inspektors | E24: 17289 | F24: 0.2 | G24: 1120 | H24: 31.75 | I24: =ROUND(G24/166.33,3) -> 6.734 | J24: =ROUND(I24*H24*F24,2) -> 42.76 | K24: =ROUND(J24*0.2359,2) -> 10.09 | L24: =J24+K24 -> 52.85
A25: 18 | B25: VRS DAUGAVPILS PĀRVALDE | C25: VRS DAUGAVPILS PĀRVALDES ŠĶAUNES ROBEŽAPSARDZĪBAS NODAĻA | D25: inspektors | E25: 17289 | F25: 0.5 | G25: 1120 | H25: 1.25 | I25: =ROUND(G25/166.33,3) -> 6.734 | J25: =ROUND(I25*H25*F25,2) -> 4.21 | K25: =ROUND(J25*0.2359,2) -> 0.99 | L25: =J25+K25 -> 5.2
A26: 19 | B26: VRS DAUGAVPILS PĀRVALDE | C26: VRS DAUGAVPILS PĀRVALDES ŠĶAUNES ROBEŽAPSARDZĪBAS NODAĻA | D26: inspektors (kinologs) | E26: 36338 | F26: 0.2 | G26: 1135 | H26: 29.6 | I26: =ROUND(G26/166.33,3) -> 6.824 | J26: =ROUND(I26*H26*F26,2) -> 40.4 | K26: =ROUND(J26*0.2359,2) -> 9.53 | L26: =J26+K26 -> 49.93
A27: 20 | B27: VRS DAUGAVPILS PĀRVALDE | C27: VRS DAUGAVPILS PĀRVALDES ŠĶAUNES ROBEŽAPSARDZĪBAS NODAĻA | D27: inspektors (kinologs) | E27: 36338 | F27: 0.5 | G27: 1135 | H27: 9.98 | I27: =ROUND(G27/166.33,3) -> 6.824 | J27: =ROUND(I27*H27*F27,2) -> 34.05 | K27: =ROUND(J27*0.2359,2) -> 8.03 | L27: =J27+K27 -> 42.08
A28: 21 | B28: VRS RĪGAS PĀRVALDE | C28: VRS RĪGAS PĀRVALDES ZEMGALES II KATEGORIJAS DIENESTS | D28: inspektors | E28: 17578 | F28: 20% | G28: 1120 | H28: 93.5 | I28: =ROUND(G28/166.33,3) -> 6.734 | J28: =ROUND(I28*H28*F28,2) -> 125.93 | K28: =ROUND(J28*0.2359,2) -> 29.71 | L28: =J28+K28 -> 155.64
A29: 22 | B29: VRS RĪGAS PĀRVALDE | C29: VRS RĪGAS PĀRVALDES ZEMGALES II KATEGORIJAS DIENESTS | D29: inspektors | E29: 17578 | F29: 50% | G29: 1120 | H29: 2.5 | I29: =ROUND(G29/166.33,3) -> 6.734 | J29: =ROUND(I29*H29*F29,2) -> 8.42 | K29: =ROUND(J29*0.2359,2) -> 1.99 | L29: =J29+K29 -> 10.41
A30: 23 | B30: VRS LUDZAS PĀRVALDE | C30: VRS LUDZAS PĀRVALDES AIZGĀRŠAS ROBEŽAPSARDZĪBAS NODAĻA | D30: inspektors | E30: 27199 | F30: 0.2 | G30: 1080 | H30: 44 | I30: =ROUND(G30/166.33,3) -> 6.493 | J30: =ROUND(I30*H30*F30,2) -> 57.14 | K30: =ROUND(J30*0.2359,2) -> 13.48 | L30: =J30+K30 -> 70.62
A31: 24 | B31: VRS DAUGAVPILS PĀRVALDE | C31: VRS DAUGAVPILS PĀRVALDES SILENES ROBEŽAPSARDZĪBAS NODAĻA | D31: inspektors (kinologs) | E31: 16896 | F31: 0.2 | G31: 1215 | H31: 125.33 | I31: =ROUND(G31/166.33,3) -> 7.305 | J31: =ROUND(I31*H31*F31,2) -> 183.11 | K31: =ROUND(J31*0.2359,2) -> 43.2 | L31: =J31+K31 -> 226.31
A32: 25 | B32: VRS DAUGAVPILS PĀRVALDE | C32: VRS DAUGAVPILS PĀRVALDES SILENES ROBEŽAPSARDZĪBAS NODAĻA | D32: inspektors (kinologs) | E32: 16896 | F32: 0.5 | G32: 1215 | H32: 11.67 | I32: =ROUND(G32/166.33,3) -> 7.305 | J32: =ROUND(I32*H32*F32,2) -> 42.62 | K32: =ROUND(J32*0.2359,2) -> 10.05 | L32: =J32+K32 -> 52.67
A33: 26 | B33: VRS AVIĀCIJAS UN SPECIĀLO OPERĀCIJU PĀRVALDE | C33: VRS AVIĀCIJAS UN SPECIĀLO OPERĀCIJU PĀRVALDES AD SPECIĀLĀ APRIKOJUMA OPERATORU UN GLĀBĒJU POSMS | D33: inspektors (glābējs) | E33: 32593 | F33: 20% | G33: 1529 | H33: 3 | I33: =ROUND(G33/166.33,3) -> 9.193 | J33: =ROUND(I33*H33*F33,2) -> 5.52 | K33: =ROUND(J33*0.2359,2) -> 1.3 | L33: =J33+K33 -> 6.82
A34: 27 | B34: VRS RĪGAS PĀRVALDE | C34: VRS RĪGAS PĀRVALDES RĪGAS OSTAS II KATEGORIJAS RKP | D34: inspektors | E34: 20627 | F34: 20% | G34: 1120 | H34: 48 | I34: =ROUND(G34/166.33,3) -> 6.734 | J34: =ROUND(I34*H34*F34,2) -> 64.65 | K34: =ROUND(J34*0.2359,2) -> 15.25 | L34: =J34+K34 -> 79.9
A35: 28 | B35: VRS RĪGAS PĀRVALDE | C35: VRS RĪGAS PĀRVALDES ZEMGALES II KATEGORIJAS DIENESTS | D35: inspektors | E35: 37194 | F35: 20% | G35: 1040 | H35: 40.58 | I35: =ROUND(G35/166.33,3) -> 6.253 | J35: =ROUND(I35*H35*F35,2) -> 50.75 | K35: =ROUND(J35*0.2359,2) -> 11.97 | L35: =J35+K35 -> 62.72
A36: 29 | B36: VRS RĪGAS PĀRVALDE | C36: VRS RĪGAS PĀRVALDES ZEMGALES II KATEGORIJAS DIENESTS | D36: inspektors | E36: 37194 | F36: 50% | G36: 1040 | H36: 7.42 | I36: =ROUND(G36/166.33,3) -> 6.253 | J36: =ROUND(I36*H36*F36,2) -> 23.2 | K36: =ROUND(J36*0.2359,2) -> 5.47 | L36: =J36+K36 -> 28.67
A37: 30 | B37: VRS DAUGAVPILS PĀRVALDE | C37: VRS DAUGAVPILS PĀRVALDES KAPLAVAS ROBEŽAPSARDZĪBAS NODAĻA | D37: robežapsardzības nodaļas priekšnieks | E37: 17517 | F37: 20% | G37: 1840 | H37: 180.25 | I37: =ROUND(G37/166.33,3) -> 11.062 | J37: =ROUND(I37*H37*F37,2) -> 398.79 | K37: =ROUND(J37*0.2359,2) -> 94.07 | L37: =J37+K37 -> 492.86
A38: 31 | B38: VRS DAUGAVPILS PĀRVALDE | C38: VRS DAUGAVPILS PĀRVALDES KAPLAVAS ROBEŽAPSARDZĪBAS NODAĻA | D38: robežapsardzības nodaļas priekšnieks | E38: 17517 | F38: 0.5 | G38: 1840 | H38: 5.75 | I38: =ROUND(G38/166.33,3) -> 11.062 | J38: =ROUND(I38*H38*F38,2) -> 31.8 | K38: =ROUND(J38*0.2359,2) -> 7.5 | L38: =J38+K38 -> 39.3
A39: 32 | B39: VRS DAUGAVPILS PĀRVALDE | C39: VRS DAUGAVPILS PĀRVALDES SILENES ROBEŽAPSARDZĪBAS NODAĻA | D39: vecākais inspektors (robežuzraudzības tehnisko līdzekļu jomā) | E39: 16768 | F39: 0.2 | G39: 1265 | H39: 33.13 | I39: =ROUND(G39/166.33,3) -> 7.605 | J39: =ROUND(I39*H39*F39,2) -> 50.39 | K39: =ROUND(J39*0.2359,2) -> 11.89 | L39: =J39+K39 -> 62.28
A40: 33 | B40: VRS LUDZAS PĀRVALDE | C40: VRS LUDZAS PĀRVALDES PASIENES ROBEŽAPSARDZĪBAS NODAĻA | D40: inspektors (kinologs) | E40: 31854 | F40: 20% | G40: 1155 | H40: 31.08 | I40: =ROUND(G40/166.33,3) -> 6.944 | J40: =ROUND(I40*H40*F40,2) -> 43.16 | K40: =ROUND(J40*0.2359,2) -> 10.18 | L40: =J40+K40 -> 53.34
A41: 34 | B41: VRS LUDZAS PĀRVALDE | C41: VRS LUDZAS PĀRVALDES PASIENES ROBEŽAPSARDZĪBAS NODAĻA | D41: inspektors (kinologs) | E41: 31854 | F41: 50% | G41: 1155 | H41: 4.92 | I41: =ROUND(G41/166.33,3) -> 6.944 | J41: =ROUND(I41*H41*F41,2) -> 17.08 | K41: =ROUND(J41*0.2359,2) -> 4.03 | L41: =J41+K41 -> 21.11
A42: 35 | B42: VRS AVIĀCIJAS UN SPECIĀLO OPERĀCIJU PĀRVALDE | C42: VRS AVIĀCIJAS UN SPECIĀLO OPERĀCIJU PĀRVALDES SOD "SIGMA" OTRĀ TAKTISKĀ NODAĻA | D42: nodaļas priekšnieks | E42: 31649 | F42: 50% | G42: 1900 | H42: 35.5 | I42: =ROUND(G42/166.33,3) -> 11.423 | J42: =ROUND(I42*H42*F42,2) -> 202.76 | K42: =ROUND(J42*0.2359,2) -> 47.83 | L42: =J42+K42 -> 250.59
A43: 36 | B43: VRS AVIĀCIJAS UN SPECIĀLO OPERĀCIJU PĀRVALDE | C43: VRS AVIĀCIJAS UN SPECIĀLO OPERĀCIJU PĀRVALDES SOD "SIGMA" OTRĀ TAKTISKĀ NODAĻA | D43: nodaļas priekšnieks | E43: 31649 | F43: 20% | G43: 1900 | H43: 81 | I43: =ROUND(G43/166.33,3) -> 11.423 | J43: =ROUND(I43*H43*F43,2) -> 185.05 | K43: =ROUND(J43*0.2359,2) -> 43.65 | L43: =J43+K43 -> 228.7
A44: 37 | B44: VRS DAUGAVPILS PĀRVALDE | C44: VRS DAUGAVPILS PĀRVALDES RIKD KINOLOĢIJAS NODAĻA | D44: inspektors (kinologs) | E44: 16766 | F44: 50% | G44: 1215 | H44: 7.25 | I44: =ROUND(G44/166.33,3) -> 7.305 | J44: =ROUND(I44*H44*F44,2) -> 26.48 | K44: =ROUND(J44*0.2359,2) -> 6.25 | L44: =J44+K44 -> 32.73
A45: 38 | B45: VRS DAUGAVPILS PĀRVALDE | C45: VRS DAUGAVPILS PĀRVALDES RIKD KINOLOĢIJAS NODAĻA | D45: inspektors (kinologs) | E45: 16766 | F45: 20% | G45: 1215 | H45: 26.75 | I45: =ROUND(G45/166.33,3) -> 7.305 | J45: =ROUND(I45*H45*F45,2) -> 39.08 | K45: =ROUND(J45*0.2359,2) -> 9.22 | L45: =J45+K45 -> 48.3
A46: 39 | B46: VRS LUDZAS PĀRVALDE | C46: VRS LUDZAS PĀRVALDES PASIENES ROBEŽAPSARDZĪBAS NODAĻA | D46: inspektors | E46: 31917 | F46: 20% | G46: 1060 | H46: 162.05 | I46: =ROUND(G46/166.33,3) -> 6.373 | J46: =ROUND(I46*H46*F46,2) -> 206.55 | K46: =ROUND(J46*0.2359,2) -> 48.73 | L46: =J46+K46 -> 255.28
A47: 40 | B47: VRS LUDZAS PĀRVALDE | C47: VRS LUDZAS PĀRVALDES PASIENES ROBEŽAPSARDZĪBAS NODAĻA | D47: inspektors | E47: 31917 | F47: 50% | G47: 1060 | H47: 11.95 | I47: =ROUND(G47/166.33,3) -> 6.373 | J47: =ROUND(I47*H47*F47,2) -> 38.08 | K47: =ROUND(J47*0.2359,2) -> 8.98 | L47: =J47+K47 -> 47.06
A48: 41 | B48: VRS DAUGAVPILS PĀRVALDE | C48: VRS DAUGAVPILS PĀRVALDES SILENES ROBEŽAPSARDZĪBAS NODAĻA | D48: inspektors (kinologs) | E48: 30418 | F48: 0.2 | G48: 1155 | H48: 10.85 | I48: =ROUND(G48/166.33,3) -> 6.944 | J48: =ROUND(I48*H48*F48,2) -> 15.07 | K48: =ROUND(J48*0.2359,2) -> 3.56 | L48: =J48+K48 -> 18.63
A49: 42 | B49: VRS DAUGAVPILS PĀRVALDE | C49: VRS DAUGAVPILS PĀRVALDES SILENES ROBEŽAPSARDZĪBAS NODAĻA | D49: inspektors (kinologs) | E49: 30418 | F49: 0.5 | G49: 1155 | H49: 3.65 | I49: =ROUND(G49/166.33,3) -> 6.944 | J49: =ROUND(I49*H49*F49,2) -> 12.67 | K49: =ROUND(J49*0.2359,2) -> 2.99 | L49: =J49+K49 -> 15.66
A50: 43 | B50: VRS DAUGAVPILS PĀRVALDE | C50: VRS DAUGAVPILS PĀRVALDES KAPLAVAS ROBEŽAPSARDZĪBAS NODAĻA | D50: vecākais inspektors | E50: 26477 | F50: 20% | G50: 1225 | H50: 42.5 | I50: =ROUND(G50/166.33,3) -> 7.365 | J50: =ROUND(I50*H50*F50,2) -> 62.6 | K50: =ROUND(J50*0.2359,2) -> 14.77 | L50: =J50+K50 -> 77.37
A51: 44 | B51: VRS DAUGAVPILS PĀRVALDE | C51: VRS DAUGAVPILS PĀRVALDES KAPLAVAS ROBEŽAPSARDZĪBAS NODAĻA | D51: vecākais inspektors | E51: 26477 | F51: 0.5 | G51: 1225 | H51: 1.5 | I51: =ROUND(G51/166.33,3) -> 7.365 | J51: =ROUND(I51*H51*F51,2) -> 5.52 | K51: =ROUND(J51*0.2359,2) -> 1.3 | L51: =J51+K51 -> 6.82
A52: 45 | B52: VRS DAUGAVPILS PĀRVALDE | C52: VRS DAUGAVPILS PĀRVALDES ŠĶAUNES ROBEŽAPSARDZĪBAS NODAĻA | D52: inspektors | E52: 35367 | F52: 0.2 | G52: 1060 | H52: 162.42 | I52: =ROUND(G52/166.33,3) -> 6.373 | J52: =ROUND(I52*H52*F52,2) -> 207.02 | K52: =ROUND(J52*0.2359,2) -> 48.84 | L52: =J52+K52 -> 255.86
A53: 46 | B53: VRS DAUGAVPILS PĀRVALDE | C53: VRS DAUGAVPILS PĀRVALDES ŠĶAUNES ROBEŽAPSARDZĪBAS NODAĻA | D53: inspektors | E53: 35367 | F53: 0.5 | G53: 1060 | H53: 2.58 | I53: =ROUND(G53/166.33,3) -> 6.373 | J53: =ROUND(I53*H53*F53,2) -> 8.22 | K53: =ROUND(J53*0.2359,2) -> 1.94 | L53: =J53+K53 -> 10.16
A54: 47 | B54: VRS AVIĀCIJAS UN SPECIĀLO OPERĀCIJU PĀRVALDE | C54: VRS AVIĀCIJAS UN SPECIĀLO OPERĀCIJU PĀRVALDES SOD "SIGMA" TAKTISKĀ ATBALSTA NODAĻA | D54: inspektors | E54: 32610 | F54: 50% | G54: 1464.48 | H54: 65.5 | I54: =ROUND(G54/166.33,3) -> 8.805 | J54: =ROUND(I54*H54*F54,2) -> 288.36 | K54: =ROUND(J54*0.2359,2) -> 68.02 | L54: =J54+K54 -> 356.38
A55: 48 | B55: VRS AVIĀCIJAS UN SPECIĀLO OPERĀCIJU PĀRVALDE | C55: VRS AVIĀCIJAS UN SPECIĀLO OPERĀCIJU PĀRVALDES SOD "SIGMA" TAKTISKĀ ATBALSTA NODAĻA | D55: inspektors | E55: 32610 | F55: 20% | G55: 1464.48 | H55: 151.5 | I55: =ROUND(G55/166.33,3) -> 8.805 | J55: =ROUND(I55*H55*F55,2) -> 266.79 | K55: =ROUND(J55*0.2359,2) -> 62.94 | L55: =J55+K55 -> 329.73
A56: 49 | B56: VRS LUDZAS PĀRVALDE | C56: VRS LUDZAS PĀRVALDES PASIENES ROBEŽAPSARDZĪBAS NODAĻA | D56: inspektors | E56: 28918 | F56: 20% | G56: 1080 | H56: 146.08 | I56: =ROUND(G56/166.33,3) -> 6.493 | J56: =ROUND(I56*H56*F56,2) -> 189.7 | K56: =ROUND(J56*0.2359,2) -> 44.75 | L56: =J56+K56 -> 234.45
A57: 50 | B57: VRS LUDZAS PĀRVALDE | C57: VRS LUDZAS PĀRVALDES PASIENES ROBEŽAPSARDZĪBAS NODAĻA | D57: inspektors | E57: 28918 | F57: 50% | G57: 1080 | H57: 1.92 | I57: =ROUND(G57/166.33,3) -> 6.493 | J57: =ROUND(I57*H57*F57,2) -> 6.23 | K57: =ROUND(J57*0.2359,2) -> 1.47 | L57: =J57+K57 -> 7.7
A58: 51 | B58: VRS DAUGAVPILS PĀRVALDE | C58: VRS DAUGAVPILS PĀRVALDES ŠĶAUNES ROBEŽAPSARDZĪBAS NODAĻA | D58: jaunākais inspektors | E58: 38842 | F58: 0.2 | G58: 960 | H58: 6.67 | I58: =ROUND(G58/166.33,3) -> 5.772 | J58: =ROUND(I58*H58*F58,2) -> 7.7 | K58: =ROUND(J58*0.2359,2) -> 1.82 | L58: =J58+K58 -> 9.52
A59: 52 | B59: VRS DAUGAVPILS PĀRVALDE | C59: VRS DAUGAVPILS PĀRVALDES ŠĶAUNES ROBEŽAPSARDZĪBAS NODAĻA | D59: jaunākais inspektors | E59: 38842 | F59: 0.5 | G59: 960 | H59: 1.83 | I59: =ROUND(G59/166.33,3) -> 5.772 | J59: =ROUND(I59*H59*F59,2) -> 5.28 | K59: =ROUND(J59*0.2359,2) -> 1.25 | L59: =J59+K59 -> 6.53
A60: 53 | B60: VRS DAUGAVPILS PĀRVALDE | C60: VRS DAUGAVPILS PĀRVALDES SILENES I KATEGORIJAS RKP | D60: jaunākais inspektors | E60: 37223 | F60: 20% | G60: 1040 | H60: 77 | I60: =ROUND(G60/166.33,3) -> 6.253 | J60: =ROUND(I60*H60*F60,2) -> 96.3 | K60: =ROUND(J60*0.2359,2) -> 22.72 | L60: =J60+K60 -> 119.02
A61: 54 | B61: VRS LUDZAS PĀRVALDE | C61: VRS LUDZAS PĀRVALDES PASIENES ROBEŽAPSARDZĪBAS NODAĻA | D61: jaunākais inspektors | E61: 33253 | F61: 20% | G61: 980 | H61: 166.18 | I61: =ROUND(G61/166.33,3) -> 5.892 | J61: =ROUND(I61*H61*F61,2) -> 195.83 | K61: =ROUND(J61*0.2359,2) -> 46.2 | L61: =J61+K61 -> 242.03
A62: 55 | B62: VRS LUDZAS PĀRVALDE | C62: VRS LUDZAS PĀRVALDES PASIENES ROBEŽAPSARDZĪBAS NODAĻA | D62: jaunākais inspektors | E62: 33253 | F62: 50% | G62: 980 | H62: 1.82 | I62: =ROUND(G62/166.33,3) -> 5.892 | J62: =ROUND(I62*H62*F62,2) -> 5.36 | K62: =ROUND(J62*0.2359,2) -> 1.26 | L62: =J62+K62 -> 6.62
A63: 56 | B63: VRS DAUGAVPILS PĀRVALDE | C63: VRS DAUGAVPILS PĀRVALDES KAPLAVAS ROBEŽAPSARDZĪBAS NODAĻA | D63: vecākais inspektors | E63: 16800 | F63: 20% | G63: 1225 | H63: 7 | I63: =ROUND(G63/166.33,3) -> 7.365 | J63: =ROUND(I63*H63*F63,2) -> 10.31 | K63: =ROUND(J63*0.2359,2) -> 2.43 | L63: =J63+K63 -> 12.74
A64: 57 | B64: VRS LUDZAS PĀRVALDE | C64: VRS LUDZAS PĀRVALDES AIZGĀRŠAS ROBEŽAPSARDZĪBAS NODAĻA | D64: inspektors | E64: 20354 | F64: 20% | G64: 1120 | H64: 44 | I64: =ROUND(G64/166.33,3) -> 6.734 | J64: =ROUND(I64*H64*F64,2) -> 59.26 | K64: =ROUND(J64*0.2359,2) -> 13.98 | L64: =J64+K64 -> 73.24
A65: 58 | B65: VRS LUDZAS PĀRVALDE | C65: VRS LUDZAS PĀRVALDES AIZGĀRŠAS ROBEŽAPSARDZĪBAS NODAĻA | D65: inspektors | E65: 19002 | F65: 0.2 | G65: 1100 | H65: 11 | I65: =ROUND(G65/166.33,3) -> 6.613 | J65: =ROUND(I65*H65*F65,2) -> 14.55 | K65: =ROUND(J65*0.2359,2) -> 3.43 | L65: =J65+K65 -> 17.98
A66: 59 | B66: VRS DAUGAVPILS PĀRVALDE | C66: VRS DAUGAVPILS PĀRVALDES KAPLAVAS ROBEŽAPSARDZĪBAS NODAĻA | D66: inspektors | E66: 18434 | F66: 20% | G66: 1100 | H66: 188.17 | I66: =ROUND(G66/166.33,3) -> 6.613 | J66: =ROUND(I66*H66*F66,2) -> 248.87 | K66: =ROUND(J66*0.2359,2) -> 58.71 | L66: =J66+K66 -> 307.58
A67: 60 | B67: VRS DAUGAVPILS PĀRVALDE | C67: VRS DAUGAVPILS PĀRVALDES KAPLAVAS ROBEŽAPSARDZĪBAS NODAĻA | D67: inspektors | E67: 18434 | F67: 0.5 | G67: 1100 | H67: 9.83 | I67: =ROUND(G67/166.33,3) -> 6.613 | J67: =ROUND(I67*H67*F67,2) -> 32.5 | K67: =ROUND(J67*0.2359,2) -> 7.67 | L67: =J67+K67 -> 40.17
A68: 61 | B68: VRS LUDZAS PĀRVALDE | C68: VRS LUDZAS PĀRVALDES PASIENES ROBEŽAPSARDZĪBAS NODAĻA | D68: jaunākais inspektors | E68: 31921 | F68: 20% | G68: 980 | H68: 185.26 | I68: =ROUND(G68/166.33,3) -> 5.892 | J68: =ROUND(I68*H68*F68,2) -> 218.31 | K68: =ROUND(J68*0.2359,2) -> 51.5 | L68: =J68+K68 -> 269.81
A69: 62 | B69: VRS LUDZAS PĀRVALDE | C69: VRS LUDZAS PĀRVALDES PASIENES ROBEŽAPSARDZĪBAS NODAĻA | D69: jaunākais inspektors | E69: 31921 | F69: 50% | G69: 980 | H69: 6.73 | I69: =ROUND(G69/166.33,3) -> 5.892 | J69: =ROUND(I69*H69*F69,2) -> 19.83 | K69: =ROUND(J69*0.2359,2) -> 4.68 | L69: =J69+K69 -> 24.51
A70: 63 | B70: VRS DAUGAVPILS PĀRVALDE | C70: VRS DAUGAVPILS PĀRVALDES ŠĶAUNES ROBEŽAPSARDZĪBAS NODAĻA | D70: inspektors | E70: 18437 | F70: 0.2 | G70: 1100 | H70: 106.5 | I70: =ROUND(G70/166.33,3) -> 6.613 | J70: =ROUND(I70*H70*F70,2) -> 140.86 | K70: =ROUND(J70*0.2359,2) -> 33.23 | L70: =J70+K70 -> 174.09
A71: 64 | B71: VRS DAUGAVPILS PĀRVALDE | C71: VRS DAUGAVPILS PĀRVALDES ŠĶAUNES ROBEŽAPSARDZĪBAS NODAĻA | D71: inspektors | E71: 18437 | F71: 0.5 | G71: 1100 | H71: 3.5 | I71: =ROUND(G71/166.33,3) -> 6.613 | J71: =ROUND(I71*H71*F71,2) -> 11.57 | K71: =ROUND(J71*0.2359,2) -> 2.73 | L71: =J71+K71 -> 14.3
A72: 65 | B72: VRS RĪGAS PĀRVALDE | C72: VRS RĪGAS PĀRVALDES RĪGAS OSTAS II KATEGORIJAS RKP | D72: inspektors | E72: 19041 | F72: 20% | G72: 1080 | H72: 45.62 | I72: =ROUND(G72/166.33,3) -> 6.493 | J72: =ROUND(I72*H72*F72,2) -> 59.24 | K72: =ROUND(J72*0.2359,2) -> 13.97 | L72: =J72+K72 -> 73.21
A73: 66 | B73: VRS RĪGAS PĀRVALDE | C73: VRS RĪGAS PĀRVALDES RĪGAS OSTAS II KATEGORIJAS RKP | D73: inspektors | E73: 19041 | F73: 50% | G73: 1080 | H73: 2.58 | I73: =ROUND(G73/166.33,3) -> 6.493 | J73: =ROUND(I73*H73*F73,2) -> 8.38 | K73: =ROUND(J73*0.2359,2) -> 1.98 | L73: =J73+K73 -> 10.36
A74: 67 | B74: VRS DAUGAVPILS PĀRVALDE | C74: VRS DAUGAVPILS PĀRVALDES SILENES ROBEŽAPSARDZĪBAS NODAĻA | D74: inspektors | E74: 18438 | F74: 0.2 | G74: 1120 | H74: 53 | I74: =ROUND(G74/166.33,3) -> 6.734 | J74: =ROUND(I74*H74*F74,2) -> 71.38 | K74: =ROUND(J74*0.2359,2) -> 16.84 | L74: =J74+K74 -> 88.22
A75: 68 | B75: VRS LUDZAS PĀRVALDE | C75: VRS LUDZAS PĀRVALDES RIKD KINOLOĢIJAS NODAĻA | D75: inspektors (kinologs) | E75: 17313 | F75: 0.2 | G75: 1215 | H75: 44.75 | I75: =ROUND(G75/166.33,3) -> 7.305 | J75: =ROUND(I75*H75*F75,2) -> 65.38 | K75: =ROUND(J75*0.2359,2) -> 15.42 | L75: =J75+K75 -> 80.8
A76: 69 | B76: VRS LUDZAS PĀRVALDE | C76: VRS LUDZAS PĀRVALDES RIKD KINOLOĢIJAS NODAĻA | D76: inspektors (kinologs) | E76: 17313 | F76: 50% | G76: 1215 | H76: 19.08 | I76: =ROUND(G76/166.33,3) -> 7.305 | J76: =ROUND(I76*H76*F76,2) -> 69.69 | K76: =ROUND(J76*0.2359,2) -> 16.44 | L76: =J76+K76 -> 86.13
A77: 70 | B77: VRS LUDZAS PĀRVALDE | C77: VRS LUDZAS PĀRVALDES AIZGĀRŠAS ROBEŽAPSARDZĪBAS NODAĻA | D77: inspektors (kinologs) | E77: 36687 | F77: 0.2 | G77: 1135 | H77: 8 | I77: =ROUND(G77/166.33,3) -> 6.824 | J77: =ROUND(I77*H77*F77,2) -> 10.92 | K77: =ROUND(J77*0.2359,2) -> 2.58 | L77: =J77+K77 -> 13.5
A78: 71 | B78: VRS DAUGAVPILS PĀRVALDE | C78: VRS DAUGAVPILS PĀRVALDES KAPLAVAS ROBEŽAPSARDZĪBAS NODAĻA | D78: jaunākais inspektors | E78: 37219 | F78: 20% | G78: 960 | H78: 108.33 | I78: =ROUND(G78/166.33,3) -> 5.772 | J78: =ROUND(I78*H78*F78,2) -> 125.06 | K78: =ROUND(J78*0.2359,2) -> 29.5 | L78: =J78+K78 -> 154.56
A79: 72 | B79: VRS DAUGAVPILS PĀRVALDE | C79: VRS DAUGAVPILS PĀRVALDES KAPLAVAS ROBEŽAPSARDZĪBAS NODAĻA | D79: jaunākais inspektors | E79: 37219 | F79: 0.5 | G79: 960 | H79: 1.67 | I79: =ROUND(G79/166.33,3) -> 5.772 | J79: =ROUND(I79*H79*F79,2) -> 4.82 | K79: =ROUND(J79*0.2359,2) -> 1.14 | L79: =J79+K79 -> 5.96
A80: 73 | B80: VRS AVIĀCIJAS UN SPECIĀLO OPERĀCIJU PĀRVALDE | C80: VRS AVIĀCIJAS UN SPECIĀLO OPERĀCIJU PĀRVALDES AVIĀCIJAS DIENESTA PIRMAIS HELIKOPTERU POSMS | D80: helikoptera jaunākais pilots | E80: 32609 | F80: 20% | G80: 2050 | H80: 6 | I80: =ROUND(G80/166.33,3) -> 12.325 | J80: =ROUND(I80*H80*F80,2) -> 14.79 | K80: =ROUND(J80*0.2359,2) -> 3.49 | L80: =J80+K80 -> 18.28
A81: 74 | B81: VRS DAUGAVPILS PĀRVALDE | C81: VRS DAUGAVPILS PĀRVALDES SILENES I KATEGORIJAS RKP | D81: vecākais inspektors | E81: 16853 | F81: 0.2 | G81: 1275 | H81: 44 | I81: =ROUND(G81/166.33,3) -> 7.665 | J81: =ROUND(I81*H81*F81,2) -> 67.45 | K81: =ROUND(J81*0.2359,2) -> 15.91 | L81: =J81+K81 -> 83.36
A82: 75 | B82: VRS LUDZAS PĀRVALDE | C82: VRS LUDZAS PĀRVALDES PASIENES ROBEŽAPSARDZĪBAS NODAĻA | D82: inspektors | E82: 16724 | F82: 20% | G82: 1100 | H82: 8 | I82: =ROUND(G82/166.33,3) -> 6.613 | J82: =ROUND(I82*H82*F82,2) -> 10.58 | K82: =ROUND(J82*0.2359,2) -> 2.5 | L82: =J82+K82 -> 13.08
A83: 76 | B83: VRS LUDZAS PĀRVALDE | C83: VRS LUDZAS PĀRVALDES PASIENES ROBEŽAPSARDZĪBAS NODAĻA | D83: inspektors | E83: 16726 | F83: 20% | G83: 1120 | H83: 185.45 | I83: =ROUND(G83/166.33,3) -> 6.734 | J83: =ROUND(I83*H83*F83,2) -> 249.76 | K83: =ROUND(J83*0.2359,2) -> 58.92 | L83: =J83+K83 -> 308.68
A84: 77 | B84: VRS LUDZAS PĀRVALDE | C84: VRS LUDZAS PĀRVALDES PASIENES ROBEŽAPSARDZĪBAS NODAĻA | D84: inspektors | E84: 16726 | F84: 50% | G84: 1120 | H84: 14.55 | I84: =ROUND(G84/166.33,3) -> 6.734 | J84: =ROUND(I84*H84*F84,2) -> 48.99 | K84: =ROUND(J84*0.2359,2) -> 11.56 | L84: =J84+K84 -> 60.55
A85: 78 | B85: VRS VIĻAKAS PĀRVALDE | C85: VRS VIĻAKAS PĀRVALDES VIĻAKAS II KATEGORIJAS DIENESTS | D85: II kategorijas dienesta priekšnieka vietnieks | E85: 19199 | F85: 50% | G85: 1510 | H85: 35 | I85: =ROUND(G85/166.33,3) -> 9.078 | J85: =ROUND(I85*H85*F85,2) -> 158.87 | K85: =ROUND(J85*0.2359,2) -> 37.48 | L85: =J85+K85 -> 196.35
A86: 79 | B86: VRS VIĻAKAS PĀRVALDE | C86: VRS VIĻAKAS PĀRVALDES VIĻAKAS II KATEGORIJAS DIENESTS | D86: II kategorijas dienesta priekšnieka vietnieks | E86: 19199 | F86: 20% | G86: 1510 | H86: 83 | I86: =ROUND(G86/166.33,3) -> 9.078 | J86: =ROUND(I86*H86*F86,2) -> 150.69 | K86: =ROUND(J86*0.2359,2) -> 35.55 | L86: =J86+K86 -> 186.24
A87: 80 | B87: VRS DAUGAVPILS PĀRVALDE | C87: VRS DAUGAVPILS PĀRVALDES PIEDRUJAS ROBEŽAPSARDZĪBAS NODAĻA | D87: jaunākais inspektors | E87: 30412 | F87: 10% | G87: 980 | H87: 155.64 | I87: =ROUND(G87/166.33,3) -> 5.892 | J87: =ROUND(I87*H87*F87,2) -> 91.7 | K87: =ROUND(J87*0.2359,2) -> 21.63 | L87: =J87+K87 -> 113.33
A88: 81 | B88: VRS DAUGAVPILS PĀRVALDE | C88: VRS DAUGAVPILS PĀRVALDES ŠĶAUNES ROBEŽAPSARDZĪBAS NODAĻA | D88: inspektors | E88: 17634 | F88: 0.2 | G88: 1120 | H88: 107.03 | I88: =ROUND(G88/166.33,3) -> 6.734 | J88: =ROUND(I88*H88*F88,2) -> 144.15 | K88: =ROUND(J88*0.2359,2) -> 34 | L88: =J88+K88 -> 178.15
A89: 82 | B89: VRS DAUGAVPILS PĀRVALDE | C89: VRS DAUGAVPILS PĀRVALDES ŠĶAUNES ROBEŽAPSARDZĪBAS NODAĻA | D89: inspektors | E89: 17634 | F89: 0.5 | G89: 1120 | H89: 2.97 | I89: =ROUND(G89/166.33,3) -> 6.734 | J89: =ROUND(I89*H89*F89,2) -> 10 | K89: =ROUND(J89*0.2359,2) -> 2.36 | L89: =J89+K89 -> 12.36
A90: 83 | B90: VRS AVIĀCIJAS UN SPECIĀLO OPERĀCIJU PĀRVALDE | C90: VRS AVIĀCIJAS UN SPECIĀLO OPERĀCIJU PĀRVALDES AVIĀCIJAS DIENESTA BEZPILOTA GAISA KUĢU POSMS | D90: inspektors (bezpilota gaisa kuģu pilots-operators) | E90: 28931 | F90: 20% | G90: 1270 | H90: 5 | I90: =ROUND(G90/166.33,3) -> 7.635 | J90: =ROUND(I90*H90*F90,2) -> 7.64 | K90: =ROUND(J90*0.2359,2) -> 1.8 | L90: =J90+K90 -> 9.44
A91: 84 | B91: VRS DAUGAVPILS PĀRVALDE | C91: VRS DAUGAVPILS PĀRVALDES PIEDRUJAS ROBEŽAPSARDZĪBAS NODAĻA | D91: inspektors | E91: 16865 | F91: 10% | G91: 1120 | H91: 132.56 | I91: =ROUND(G91/166.33,3) -> 6.734 | J91: =ROUND(I91*H91*F91,2) -> 89.27 | K91: =ROUND(J91*0.2359,2) -> 21.06 | L91: =J91+K91 -> 110.33
A92: 85 | B92: VRS DAUGAVPILS PĀRVALDE | C92: VRS DAUGAVPILS PĀRVALDES KAPLAVAS ROBEŽAPSARDZĪBAS NODAĻA | D92: jaunākais inspektors | E92: 17733 | F92: 20% | G92: 1020 | H92: 176 | I92: =ROUND(G92/166.33,3) -> 6.132 | J92: =ROUND(I92*H92*F92,2) -> 215.85 | K92: =ROUND(J92*0.2359,2) -> 50.92 | L92: =J92+K92 -> 266.77
A93: 86 | B93: VRS DAUGAVPILS PĀRVALDE | C93: VRS DAUGAVPILS PĀRVALDES SILENES ROBEŽAPSARDZĪBAS NODAĻA | D93: jaunākais inspektors | E93: 27168 | F93: 0.2 | G93: 1000 | H93: 178.5 | I93: =ROUND(G93/166.33,3) -> 6.012 | J93: =ROUND(I93*H93*F93,2) -> 214.63 | K93: =ROUND(J93*0.2359,2) -> 50.63 | L93: =J93+K93 -> 265.26
A94: 87 | B94: VRS LUDZAS PĀRVALDE | C94: VRS LUDZAS PĀRVALDES GREBŅEVAS I KATEGORIJAS RKP | D94: jaunākais inspektors | E94: 35357 | F94: 50% | G94: 1060 | H94: 24 | I94: =ROUND(G94/166.33,3) -> 6.373 | J94: =ROUND(I94*H94*F94,2) -> 76.48 | K94: =ROUND(J94*0.2359,2) -> 18.04 | L94: =J94+K94 -> 94.52
A95: 88 | B95: VRS LUDZAS PĀRVALDE | C95: VRS LUDZAS PĀRVALDES GREBŅEVAS I KATEGORIJAS RKP | D95: jaunākais inspektors | E95: 35357 | F95: 20% | G95: 1060 | H95: 53 | I95: =ROUND(G95/166.33,3) -> 6.373 | J95: =ROUND(I95*H95*F95,2) -> 67.55 | K95: =ROUND(J95*0.2359,2) -> 15.94 | L95: =J95+K95 -> 83.49
A96: 89 | B96: VRS DAUGAVPILS PĀRVALDE | C96: VRS DAUGAVPILS PĀRVALDES KAPLAVAS ROBEŽAPSARDZĪBAS NODAĻA | D96: jaunākais inspektors | E96: 37881 | F96: 20% | G96: 960 | H96: 110 | I96: =ROUND(G96/166.33,3) -> 5.772 | J96: =ROUND(I96*H96*F96,2) -> 126.98 | K96: =ROUND(J96*0.2359,2) -> 29.95 | L96: =J96+K96 -> 156.93
A97: 90 | B97: VRS DAUGAVPILS PĀRVALDE | C97: VRS DAUGAVPILS PĀRVALDES ŠĶAUNES ROBEŽAPSARDZĪBAS NODAĻA | D97: inspektors | E97: 18444 | F97: 0.2 | G97: 1100 | H97: 70.75 | I97: =ROUND(G97/166.33,3) -> 6.613 | J97: =ROUND(I97*H97*F97,2) -> 93.57 | K97: =ROUND(J97*0.2359,2) -> 22.07 | L97: =J97+K97 -> 115.64
A98: 91 | B98: VRS DAUGAVPILS PĀRVALDE | C98: VRS DAUGAVPILS PĀRVALDES ŠĶAUNES ROBEŽAPSARDZĪBAS NODAĻA | D98: inspektors | E98: 18444 | F98: 0.5 | G98: 1100 | H98: 6.25 | I98: =ROUND(G98/166.33,3) -> 6.613 | J98: =ROUND(I98*H98*F98,2) -> 20.67 | K98: =ROUND(J98*0.2359,2) -> 4.88 | L98: =J98+K98 -> 25.55
A99: 92 | B99: VRS DAUGAVPILS PĀRVALDE | C99: VRS DAUGAVPILS PĀRVALDES PIEDRUJAS ROBEŽAPSARDZĪBAS NODAĻA | D99: jaunākais inspektors | E99: 37882 | F99: 10% | G99: 960 | H99: 125 | I99: =ROUND(G99/166.33,3) -> 5.772 | J99: =ROUND(I99*H99*F99,2) -> 72.15 | K99: =ROUND(J99*0.2359,2) -> 17.02 | L99: =J99+K99 -> 89.17
A100: 93 | B100: VRS LUDZAS PĀRVALDE | C100: VRS LUDZAS PĀRVALDES PASIENES ROBEŽAPSARDZĪBAS NODAĻA | D100: jaunākais inspektors | E100: 34346 | F100: 20% | G100: 980 | H100: 146.87 | I100: =ROUND(G100/166.33,3) -> 5.892 | J100: =ROUND(I100*H100*F100,2) -> 173.07 | K100: =ROUND(J100*0.2359,2) -> 40.83 | L100: =J100+K100 -> 213.9
A101: 94 | B101: VRS LUDZAS PĀRVALDE | C101: VRS LUDZAS PĀRVALDES PASIENES ROBEŽAPSARDZĪBAS NODAĻA | D101: jaunākais inspektors | E101: 34346 | F101: 50% | G101: 980 | H101: 2.13 | I101: =ROUND(G101/166.33,3) -> 5.892 | J101: =ROUND(I101*H101*F101,2) -> 6.27 | K101: =ROUND(J101*0.2359,2) -> 1.48 | L101: =J101+K101 -> 7.75
A102: 95 | B102: VRS AVIĀCIJAS UN SPECIĀLO OPERĀCIJU PĀRVALDE | C102: VRS AVIĀCIJAS UN SPECIĀLO OPERĀCIJU PĀRVALDES SOD "SIGMA" PIRMĀ TAKTISKĀ NODAĻA | D102: inspektors | E102: 34357 | F102: 50% | G102: 1396.68 | H102: 50 | I102: =ROUND(G102/166.33,3) -> 8.397 | J102: =ROUND(I102*H102*F102,2) -> 209.93 | K102: =ROUND(J102*0.2359,2) -> 49.52 | L102: =J102+K102 -> 259.45
...

Sheet 2.tabula 
L1: 2.tabula
B2: Valsts robežsardze
A4: Precizējums*_Piemaksa par darbu paaugstināta riska un slodzes apstākļos amatpersonām laika periodā no 2023.gada 1.septembra līdz 30.septembrim
A6: Nr. | B6: Pārvalde | C6: Struktūrvienība | D6: Amats | E6: Tabeles Nr. | F6: Piemaksas apmērs | G6: Mēneš-alga | H6: Iesaistes stundas | I6: Stundas likme | J6: Piemaksas apmērs 50%, 20% vai 10% no stundas likmes (EKK1145) | K6: VSAOI 23,59% (EKK1210) | L6: Atlīdzība (EKK1000)
H7: =SUM(H8:H8) -> 146.5 | J7: =SUM(J8:J8) -> 169.12 | K7: =SUM(K8:K8) -> 39.9 | L7: =SUM(L8:L8) -> 209.02
A8: 1 | B8: VRS DAUGAVPILS PĀRVALDE | C8: VRS DAUGAVPILS PĀRVALDES PIEDRUJAS ROBEŽAPSARDZĪBAS NODAĻA | D8: jaunākais inspektors | E8: 37594 | F8: 0.2 | G8: 960 | H8: 146.5 | I8: =ROUND(G8/166.33,3) -> 5.772 | J8: =ROUND(I8*H8*F8,2) -> 169.12 | K8: =ROUND(J8*0.2359,2) -> 39.9 | L8: =J8+K8 -> 209.02
B10: *Nav iekļauts pie 2023. gada septembra izdevumiem, jo aprēķini tika iesniegti vēlāk.

Sheet 3.tabula
L1: 3.tabula
B2: Valsts robežsardze
A4: Piemaksas par nozīmīgu ieguldījumu attiecīgās institūcijas stratēģisko mērķu sasniegšanā amatpersonām ar speciālajām dienesta pakāpēm laika periodā no 2023.gada 1.oktobra līdz 31.oktobrim
A6: Nr. p.k. | B6: Pārvalde | C6: Struktūrvienība | D6: Amats | E6: Tabeles Nr. | F6: Piemaksas apmērs | G6: Mēneš-alga | H6: Iesaistes stundas | I6: Stundas likme | J6: Mērķa piemaksa (EKK1149) | K6: VSAOI 23,59% | L6: Atlīdzība (EKK1000)
H7: =SUM(H8:H119) -> 12408 | J7: =SUM(J8:J119) -> 20477.79 | K7: =SUM(K8:K119) -> 4830.7 | L7: =SUM(L8:L119) -> 25308.49
A8: 1 | B8: VRS DAUGAVPILS PĀRVALDE | C8: VRS DAP DAUGAVPILS I KAT.DIEN. AIZTURĒTO ĀRZEMNIEKU IZMITINĀŠANAS CENTRS "DAUGAVPILS" | D8: inspektors | E8: 17036 | F8: 0.2 | G8: 1200 | H8: 176 | I8: =ROUND(G8/176,3) -> 6.818 | J8: =ROUND(I8*H8*F8,2) -> 239.99 | K8: =ROUND(J8*0.2359,2) -> 56.61 | L8: =J8+K8 -> 296.6
A9: 2 | B9: VRS RĪGAS PĀRVALDE | C9: VRS RĪGAS PĀRVALDES ATGRIEŠANAS UN PATVĒRUMA MEKLĒTĀJU DIENESTS | D9: vecākais inspektors | E9: 34340 | F9: 0.25 | G9: 1250 | H9: 176 | I9: =ROUND(G9/176,3) -> 7.102 | J9: =ROUND(I9*H9*F9,2) -> 312.49 | K9: =ROUND(J9*0.2359,2) -> 73.72 | L9: =J9+K9 -> 386.21
A10: 3 | B10: VRS VENTSPILS PĀRVALDE | C10: VRS VENTSPILS PĀRVALDES VENTSPILS I KATEGORIJAS NODAĻA | D10: inspektors | E10: 17322 | F10: 0.2 | G10: 1100 | H10: 40 | I10: =ROUND(G10/176,3) -> 6.25 | J10: =ROUND(I10*H10*F10,2) -> 50 | K10: =ROUND(J10*0.2359,2) -> 11.8 | L10: =J10+K10 -> 61.8
A11: 4 | B11: VRS DAUGAVPILS PĀRVALDE | C11: VRS DAP DAUGAVPILS I KAT.DIEN. AIZTURĒTO ĀRZEMNIEKU IZMITINĀŠANAS CENTRS "DAUGAVPILS" | D11: inspektors | E11: 17632 | F11: 0.2 | G11: 1200 | H11: 176 | I11: =ROUND(G11/176,3) -> 6.818 | J11: =ROUND(I11*H11*F11,2) -> 239.99 | K11: =ROUND(J11*0.2359,2) -> 56.61 | L11: =J11+K11 -> 296.6
A12: 5 | B12: VRS RĪGAS PĀRVALDE | C12: VRS RĪGAS PĀRVALDES ATGRIEŠANAS UN PATVĒRUMA MEKLĒTĀJU DIENESTS | D12: galvenais inspektors | E12: 17743 | F12: 0.19 | G12: 1385 | H12: 120 | I12: =ROUND(G12/176,3) -> 7.869 | J12: =ROUND(I12*H12*F12,2) -> 179.41 | K12: =ROUND(J12*0.2359,2) -> 42.32 | L12: =J12+K12 -> 221.73
A13: 6 | B13: VRS DAUGAVPILS PĀRVALDE | C13: VRS DAP DAUGAVPILS I KAT.DIEN. AIZTURĒTO ĀRZEMNIEKU IZMITINĀŠANAS CENTRS "DAUGAVPILS" | D13: inspektors | E13: 17098 | F13: 0.2 | G13: 1180 | H13: 176 | I13: =ROUND(G13/176,3) -> 6.705 | J13: =ROUND(I13*H13*F13,2) -> 236.02 | K13: =ROUND(J13*0.2359,2) -> 55.68 | L13: =J13+K13 -> 291.7
A14: 7 | B14: VRS DAUGAVPILS PĀRVALDE | C14: VRS DAP DAUGAVPILS I KAT.DIEN. AIZTURĒTO ĀRZEMNIEKU IZMITINĀŠANAS CENTRS "DAUGAVPILS" | D14: inspektors | E14: 16769 | F14: 0.2 | G14: 1180 | H14: 176 | I14: =ROUND(G14/176,3) -> 6.705 | J14: =ROUND(I14*H14*F14,2) -> 236.02 | K14: =ROUND(J14*0.2359,2) -> 55.68 | L14: =J14+K14 -> 291.7
A15: 8 | B15: VRS DAUGAVPILS PĀRVALDE | C15: VRS DAP DAUGAVPILS I KAT.DIEN. AIZTURĒTO ĀRZEMNIEKU IZMITINĀŠANAS CENTRS "DAUGAVPILS" | D15: inspektors | E15: 27155 | F15: 0.25 | G15: 1160 | H15: 176 | I15: =ROUND(G15/176,3) -> 6.591 | J15: =ROUND(I15*H15*F15,2) -> 290 | K15: =ROUND(J15*0.2359,2) -> 68.41 | L15: =J15+K15 -> 358.41
A16: 9 | B16: VRS DAUGAVPILS PĀRVALDE | C16: VRS DAUGAVPILS PĀRVALDES KAPLAVAS ROBEŽAPSARDZĪBAS NODAĻA | D16: vecākais inspektors | E16: 16800 | F16: 0.15 | G16: 1370 | H16: 176 | I16: =ROUND(G16/176,3) -> 7.784 | J16: =ROUND(I16*H16*F16,2) -> 205.5 | K16: =ROUND(J16*0.2359,2) -> 48.48 | L16: =J16+K16 -> 253.98
A17: 10 | B17: VRS DAUGAVPILS PĀRVALDE | C17: VRS DAP DAUGAVPILS I KAT.DIEN. AIZTURĒTO ĀRZEMNIEKU IZMITINĀŠANAS CENTRS "DAUGAVPILS" | D17: galvenais inspektors | E17: 19775 | F17: 0.3 | G17: 1390 | H17: 176 | I17: =ROUND(G17/176,3) -> 7.898 | J17: =ROUND(I17*H17*F17,2) -> 417.01 | K17: =ROUND(J17*0.2359,2) -> 98.37 | L17: =J17+K17 -> 515.38
A18: 11 | B18: VRS VENTSPILS PĀRVALDE | C18: VRS VENTSPILS PĀRVALDES JRUD KUĢIS RK-12 "VALPAS" | D18: kuģa kapteinis | E18: 19552 | F18: 0.2 | G18: 1880 | H18: 40 | I18: =ROUND(G18/176,3) -> 10.682 | J18: =ROUND(I18*H18*F18,2) -> 85.46 | K18: =ROUND(J18*0.2359,2) -> 20.16 | L18: =J18+K18 -> 105.62
A19: 12 | B19: VRS DAUGAVPILS PĀRVALDE | C19: VRS DAP DAUGAVPILS I KAT.DIEN. AIZTURĒTO ĀRZEMNIEKU IZMITINĀŠANAS CENTRS "DAUGAVPILS" | D19: inspektors | E19: 28437 | F19: 0.2 | G19: 1140 | H19: 176 | I19: =ROUND(G19/176,3) -> 6.477 | J19: =ROUND(I19*H19*F19,2) -> 227.99 | K19: =ROUND(J19*0.2359,2) -> 53.78 | L19: =J19+K19 -> 281.77
... A119: 112 | B119: VRS DAUGAVPILS PĀRVALDE | C119: VRS DAUGAVPILS PĀRVALDES DAUGAVPILS I KATEGORIJAS DIENESTS | D119: vecākais inspektors | E119: 27173 | F119: 0.18 | G119: 1250 | H119: 176 | I119: =ROUND(G119/176,3) -> 7.102 | J119: =ROUND(I119*H119*F119,2) -> 224.99 | K119: =ROUND(J119*0.2359,2) -> 53.08 | L119: =J119+K119 -> 278.07

Sheet 4.tabula 
L1: 4.tabula
B2: Valsts robežsardze
A4: Precizējums_Piemaksas par nozīmīgu ieguldījumu attiecīgās institūcijas stratēģisko mērķu sasniegšanā amatpersonām ar speciālajām dienesta pakāpēm laika periodā no 2023.gada 1.septembra līdz 30.septembrim
A6: Nr. p.k. | B6: Pārvalde | C6: Struktūrvienība | D6: Amats | E6: Tabeles Nr. | F6: Piemaksas apmērs | G6: Mēneš-alga | H6: Iesaistes stundas | I6: Stundas likme | J6: Mērķa piemaksa (EKK1149) | K6: VSAOI 23,59% | L6: Atlīdzība (EKK1000)
H7: =SUM(H8:H119) -> 312 | J7: =SUM(J8:J119) -> 612.29 | K7: =SUM(K8:K119) -> 144.44 | L7: =SUM(L8:L119) -> 756.73
A8: 1 | B8: VRS DAUGAVPILS PĀRVALDE | C8: VRS DAP DAUGAVPILS I KAT.DIEN. AIZTURĒTO ĀRZEMNIEKU IZMITINĀŠANAS CENTRS "DAUGAVPILS" | D8: inspektors | E8: 30405 | F8: 0.25 | G8: 1140 | H8: 168 | I8: =ROUND(G8/168,3) -> 6.786 | J8: =ROUND(I8*H8*F8,2) -> 285.01 | K8: =ROUND(J8*0.2359,2) -> 67.23 | L8: =J8+K8 -> 352.24
A9: 2 | B9: VRS DAUGAVPILS PĀRVALDE | C9: VRS DAP DAUGAVPILS I KAT.DIEN. AIZTURĒTO ĀRZEMNIEKU IZMITINĀŠANAS CENTRS "DAUGAVPILS" | D9: vecākais inspektors | E9: 17414 | F9: 0.3 | G9: 1255 | H9: 16 | I9: =ROUND(G9/168,3) -> 7.47 | J9: =ROUND(I9*H9*F9,2) -> 35.86 | K9: =ROUND(J9*0.2359,2) -> 8.46 | L9: =J9+K9 -> 44.32
A10: 3 | B10: VRS DAUGAVPILS PĀRVALDE | C10: VRS DAP DAUGAVPILS I KAT.DIEN. AIZTURĒTO ĀRZEMNIEKU IZMITINĀŠANAS CENTRS "DAUGAVPILS" | D10: vecākais inspektors | E10: 17296 | F10: 0.3 | G10: 1275 | H10: 128 | I10: =ROUND(G10/168,3) -> 7.589 | J10: =ROUND(I10*H10*F10,2) -> 291.42 | K10: =ROUND(J10*0.2359,2) -> 68.75 | L10: =J10+K10 -> 360.17
