Workbook

Sheet VRS_okt
D1: 3.pielikums
D2: Ministru kabineta rīkojuma projekta
D3: “Par apropriācijas pārdali"
D4: sākotnējās ietekmes novērtējuma ziņojumam (anotācijai)
A6: Valsts robežsardzes izdevumi
A7: Kopsavilkums
A9: Kods | B9: Koda nosaukums | C9: Detalizēts izdevumu aprēķins | D9: Izdevumi, euro
A10: Izdevumi kopā ar vidējās izpeļņas pieauguma kompensēšanu | D10: =D11+D14 -> 160426
A11: 1000 | B11: Atlīdzība | D11: =ROUNDUP(D12+D13,0) -> 96855
A12: 1100 | B12: Atalgojums | C12: × | D12: =D18+D31 -> 78367.32
A13: 1210 | B13: Darba devēja valsts sociālās apdrošināšanas obligātās iemaksas | C13: × | D13: =D23+D32 -> 18486.87
A14: 2000 | B14: Preces un pakalpojumi | C14: × | D14: =D24 -> 63571
A16: 1) Izdevumi saistībā ar rīkojuma Nr. 518 izpildei nepieciešamo pasākumu īstenošanu | D16: =D17+D24 -> 152978
A17: 1000 | B17: Atlīdzība | D17: =ROUNDUP(D18+D23,0) -> 89407
A18: 1100 | B18: Atalgojums | D18: =SUM(D19:D22) -> 72341.29
A19: 1145 | B19: Piemaksa par darbu īpašos apstākļos, speciālās piemaksas | C19: Detalizēts aprēķins par laika periodu no 2023.gada 1. oktobra līdz 31. oktobrim 1.tabulā. Iesaistītas 519 amatpersonas, iesaistes laiks - 33 291,60 stundas. | D19: ='1.tabula'!J7 -> 51082.09
C20: Precizējums*_Detalizēts aprēķins par laika periodu no 2023.gada 1. septembra līdz 30. septembrim 2.tabulā. Iesaistīta 1 amatpersona, iesaistes laiks - 146,50 stundas. *Nav iekļauts pie 2023. gada septembta izdevumiem, jo aprēķini tika iesniegti vēlāk. | D20: ='2.tabula '!J7 -> 169.12
A21: 1149 | B21: Citas normatīvajos aktos noteiktās piemaksas, kas nav iepriekš klasificētas | C21: Detalizēts aprēķins piemaksām par nozīmīgu ieguldījumu attiecīgās institūcijas stratēģisko mērķu sasniegšanā par laika periodu no 2023.gada 1. oktobra līdz 31. oktobrim 3.tabulā. Iesaistītas 112 amatpersonas, iesaistes laiks -12 408 stundas. | D21: ='3.tabula'!J7 -> 20477.79
C22: Precizējums*_Detalizēts aprēķins par laika periodu no 2023.gada 1. septembra līdz 30. septembrim 4.tabulā. Iesaistītas 3 amatpersonas, iesaistes laiks - 312 stundas. *Nav iekļauts pie 2023. gada septembta izdevumiem, jo aprēķini tika iesniegti vēlāk. | D22: ='4.tabula '!J7 -> 612.29
A23: 1210 | B23: Darba devēja valsts sociālās apdrošināšanas obligātās iemaksas | C23: 23,59% no aprēķinātā atalgojuma | D23: ='1.tabula'!K7+'2.tabula '!K7+'3.tabula'!K7+'4.tabula '!K7 -> 17065.33
A24: 2000 | B24: Preces un pakalpojumi | D24: =D25 -> 63571
A25: 2230 | B25: Dažādi pakalpojumi | D25: =D26 -> 63571
A26: 2231 | B26: Izdevumi iestādes sabiedrisko aktivitāšu īstenošanai | C26: Faktiskie izdevumi, kas saistīti ar Lietuvas Republikas un Igaunijas Republikas robežsargu iesaisti Latvijas Republikas–Baltkrievijas Republikas valsts robežas nelikumīgās šķērsošanas un tās mēģinājumu novēršanā 1) Izmitināšanas izdevumi: Lietuvas amatpersonu grupām: 13.09.-27.09.2023. (17 amatpersonas, cena no 23.00 līdz 36.00 euro/dienā 1 amatpersonai) – 5 252.00 euro; 26.09.-11.10.2023. (18 amatpersonas, cena 29.50 euro/dienā 1 amatpersonai) – 7 758.50 euro; 10.10.-24.10.2023. (12 amatpersonas, cena 42.00 euro/dienā 1 amatpersonai) – 6 888.00 euro; 24.10.-08.11.2023. (12 amatpersonas, cena 42.00 euro/dienā 1 amatpersonai) – 7 182.00 euro. Igaunijas amatpersonu grupām: 20.09.-04.10.2023. (6 amatpersonas, cena 46.00 euro/dienā 1 amatpersonai) – 3 864.00 euro; 04.10.-18.10.2023. (12 amatpersonas, cena no 36.00 līdz 42.00 euro/dienā 1 amatpersonai) – 6 972.00 euro; 18.10.-01.11.2023. (12 amatpersonas, cena no 36.00 līdz 42.00 euro/dienā 1 amatpersonai) – 6 888.00 euro; 01.11.-15.11.2023. (12 amatpersonas, cena no 36.00 līdz 46.14 euro/dienā 1 amatpersonai) – 7 088.00 euro. Izmitināšanas izdevumi kopā: 51 892,50 euro | D26: 63571
C27: 2) Ēdināšanas izdevumi (vakariņas): Lietuvas amatpersonu grupām: 13.09.-27.09.2023. (17 amatpersonas, cena 8.00 euro/1 porcija) – 1 768.00 euro; 26.09.-11.10.2023. (18 amatpersonas, cena 8.00 euro/1 porcija) – 2 104.00 euro; 10.10.-24.10.2023. (12 amatpersonas, cena 8.00 euro/1 porcija) – 1 328.00 euro; 24.10.-08.11.2023. (12 amatpersonas, cena 8.00 euro/1 porcija) – 1 376.00 euro. Igaunijas amatpersonu grupām: 20.09.-04.10.2023. (12 amatpersonas, cena 8.00 euro/1 porcija) – 1 344.00 euro; 04.10.-18.10.2023. (12 amatpersonas, cena 8.00 euro/1 porcija) – 1 248 euro; 18.10.-01.11.2023. (12 amatpersonas, cena 8.00 euro/1 porcija) – 1 248.00 euro; 01.11.-15.11.2023. (12 amatpersonas, cena līdz 8.00 euro/1 porcija) – 1 262.48 euro. Ēdināšanas izdevumi kopā: 11 678,48 euro
A29: 2) Vidējās izpeļņas pieauguma kompensēšanai | D29: =D30 -> 7448
A30: 1000 | B30: Atlīdzība | D30: =ROUND(D31+D32,0) -> 7448
A31: 1100 | B31: Atalgojums | C31: 72 341,29 euro * 8,33% = 6026,03 euro | D31: =ROUND(D18*0.0833,2) -> 6026.03
A32: 1210 | B32: Darba devēja valsts sociālās apdrošināšanas obligātās iemaksas | C32: 23,59% no aprēķinātā atalgojuma | D32: =ROUND(D31*0.2359,2) -> 1421.54

Sheet 1.tabula
L1: 1.tabula
B2: Valsts robežsardze
A4: Piemaksa par darbu paaugstināta riska un slodzes apstākļos amatpersonām ar speciālajām dienesta pakāpēm laika periodā no 2023.gada 1.oktobra līdz 31.oktobrim
A6: Nr. | B6: Pārvalde | C6: Struktūrvienība | D6: Amats | E6: Tabeles Nr. | F6: Piemaksas apmērs | G6: Mēneš-alga | H6: Iesaistes stundas | I6: Stundas likme | J6: Piemaksas apmērs 50%, 20% vai 10% no stundas likmes (EKK1145) | K6: VSAOI 23,59% (EKK1210) | L6: Atlīdzība (EKK1000)
H7: =SUM(H8:H526) -> 33291.6 | J7: =SUM(J8:J526) -> 51082.09 | K7: =SUM(K8:K526) -> 12050.29 | L7: =SUM(L8:L526) -> 63132.38
A8: 1 | B8: VRS VIĻAKAS PĀRVALDE | C8: VRS VIĻAKAS PĀRVALDES PUNDURU ROBEŽAPSARDZĪBAS NODAĻA | D8: inspektors (kinologs) | E8: 28382 | F8: 0.2 | G8: 1175 | H8: 37.4 | I8: =ROUND(G8/166.33,3) -> 7.064 | J8: =ROUND(I8*H8*F8,2) -> 52.84 | K8: =ROUND(J8*0.2359,2) -> 12.46 | L8: =J8+K8 -> 65.3
A9: 2 | B9: VRS VIĻAKAS PĀRVALDE | C9: VRS VIĻAKAS PĀRVALDES PUNDURU ROBEŽAPSARDZĪBAS NODAĻA | D9: inspektors (kinologs) | E9: 28382 | F9: 0.5 | G9: 1175 | H9: 10.6 | I9: =ROUND(G9/166.33,3) -> 7.064 | J9: =ROUND(I9*H9*F9,2) -> 37.44 | K9: =ROUND(J9*0.2359,2) -> 8.83 | L9: =J9+K9 -> 46.27
A10: 3 | B10: VRS LUDZAS PĀRVALDE | C10: VRS LUDZAS PĀRVALDES PASIENES ROBEŽAPSARDZĪBAS NODAĻA | D10: jaunākais inspektors | E10: 37890 | F10: 20% | G10: 960 | H10: 109.37 | I10: =ROUND(G10/166.33,3) -> 5.772 | J10: =ROUND(I10*H10*F10,2) -> 126.26 | K10: =ROUND(J10*0.2359,2) -> 29.78 | L10: =J10+K10 -> 156.04
A11: 4 | B11: VRS LUDZAS PĀRVALDE | C11: VRS LUDZAS PĀRVALDES PASIENES ROBEŽAPSARDZĪBAS NODAĻA | D11: jaunākais inspektors | E11: 37890 | F11: 50% | G11: 960 | H11: 4.63 | I11: =ROUND(G11/166.33,3) -> 5.772 | J11: =ROUND(I11*H11*F11,2) -> 13.36 | K11: =ROUND(J11*0.2359,2) -> 3.15 | L11: =J11+K11 -> 16.51
A12: 5 | B12: VRS LUDZAS PĀRVALDE | C12: VRS LUDZAS PĀRVALDES PASIENES ROBEŽAPSARDZĪBAS NODAĻA | D12: vecākais inspektors | E12: 17555 | F12: 20% | G12: 1205 | H12: 173.32 | I12: =ROUND(G12/166.33,3) -> 7.245 | J12: =ROUND(I12*H12*F12,2) -> 251.14 | K12: =ROUND(J12*0.2359,2) -> 59.24 | L12: =J12+K12 -> 310.38
A13: 6 | B13: VRS LUDZAS PĀRVALDE | C13: VRS LUDZAS PĀRVALDES PASIENES ROBEŽAPSARDZĪBAS NODAĻA | D13: vecākais inspektors | E13: 17555 | F13: 0.5 | G13: 1205 | H13: 2.68 | I13: =ROUND(G13/166.33,3) -> 7.245 | J13: =ROUND(I13*H13*F13,2) -> 9.71 | K13: =ROUND(J13*0.2359,2) -> 2.29 | L13: =J13+K13 -> 12
A14: 7 | B14: VRS VIĻAKAS PĀRVALDE | C14: VRS VIĻAKAS PĀRVALDES RIKD ROBEŽKONTROLES TEHNISKO LĪDZEKĻU NODAĻA | D14: galvenais inspektors | E14: 18968 | F14: 10% | G14: 1510 | H14: 32.88 | I14: =ROUND(G14/166.33,3) -> 9.078 | J14: =ROUND(I14*H14*F14,2) -> 29.85 | K14: =ROUND(J14*0.2359,2) -> 7.04 | L14: =J14+K14 -> 36.89
A15: 8 | B15: VRS DAUGAVPILS PĀRVALDE | C15: VRS DAUGAVPILS PĀRVALDES PIEDRUJAS ROBEŽAPSARDZĪBAS NODAĻA | D15: inspektors | E15: 29603 | F15: 10% | G15: 1060 | H15: 154 | I15: =ROUND(G15/166.33,3) -> 6.373 | J15: =ROUND(I15*H15*F15,2) -> 98.14 | K15: =ROUND(J15*0.2359,2) -> 23.15 | L15: =J15+K15 -> 121.29
A16: 9 | B16: VRS DAUGAVPILS PĀRVALDE | C16: VRS DAUGAVPILS PĀRVALDES SILENES ROBEŽAPSARDZĪBAS NODAĻA | D16: inspektors | E16: 20157 | F16: 0.2 | G16: 1080 | H16: 175.05 | I16: =ROUND(G16/166.33,3) -> 6.493 | J16: =ROUND(I16*H16*F16,2) -> 227.32 | K16: =ROUND(J16*0.2359,2) -> 53.62 | L16: =J16+K16 -> 280.94
A17: 10 | B17: VRS DAUGAVPILS PĀRVALDE | C17: VRS DAUGAVPILS PĀRVALDES SILENES ROBEŽAPSARDZĪBAS NODAĻA | D17: inspektors | E17: 20157 | F17: 0.5 | G17: 1080 | H17: 3.2 | I17: =ROUND(G17/166.33,3) -> 6.493 | J17: =ROUND(I17*H17*F17,2) -> 10.39 | K17: =ROUND(J17*0.2359,2) -> 2.45 | L17: =J17+K17 -> 12.84
A18: 11 | B18: VRS DAUGAVPILS PĀRVALDE | C18: VRS DAUGAVPILS PĀRVALDES SILENES ROBEŽAPSARDZĪBAS NODAĻA | D18: jaunākais inspektors | E18: 36320 | F18: 0.2 | G18: 960 | H18: 170.28 | I18: =ROUND(G18/166.33,3) -> 5.772 | J18: =ROUND(I18*H18*F18,2) -> 196.57 | K18: =ROUND(J18*0.2359,2) -> 46.37 | L18: =J18+K18 -> 242.94
A19: 12 | B19: VRS DAUGAVPILS PĀRVALDE | C19: VRS DAUGAVPILS PĀRVALDES SILENES ROBEŽAPSARDZĪBAS NODAĻA | D19: jaunākais inspektors | E19: 36320 | F19: 0.5 | G19: 960 | H19: 4.22 | I19: =ROUND(G19/166.33,3) -> 5.772 | J19: =ROUND(I19*H19*F19,2) -> 12.18 | K19: =ROUND(J19*0.2359,2) -> 2.87 | L19: =J19+K19 -> 15.05
A20: 13 | B20: VRS DAUGAVPILS PĀRVALDE | C20: VRS DAUGAVPILS PĀRVALDES KAPLAVAS ROBEŽAPSARDZĪBAS NODAĻA | D20: vecākais inspektors | E20: 27722 | F20: 20% | G20: 1225 | H20: 156.83 | I20: =ROUND(G20/166.33,3) -> 7.365 | J20: =ROUND(I20*H20*F20,2) -> 231.01 | K20: =ROUND(J20*0.2359,2) -> 54.5 | L20: =J20+K20 -> 285.51
A21: 14 | B21: VRS DAUGAVPILS PĀRVALDE | C21: VRS DAUGAVPILS PĀRVALDES KAPLAVAS ROBEŽAPSARDZĪBAS NODAĻA | D21: vecākais inspektors | E21: 27722 | F21: 0.5 | G21: 1225 | H21: 8.17 | I21: =ROUND(G21/166.33,3) -> 7.365 | J21: =ROUND(I21*H21*F21,2) -> 30.09 | K21: =ROUND(J21*0.2359,2) -> 7.1 | L21: =J21+K21 -> 37.19
A22: 15 | B22: VRS DAUGAVPILS PĀRVALDE | C22: VRS DAUGAVPILS PĀRVALDES ROBEŽNIEKU ROBEŽAPSARDZĪBAS NODAĻA | D22: jaunākais inspektors | E22: 37214 | F22: 50% | G22: 960 | H22: 18.5 | I22: =ROUND(G22/166.33,3) -> 5.772 | J22: =ROUND(I22*H22*F22,2) -> 53.39 | K22: =ROUND(J22*0.2359,2) -> 12.59 | L22: =J22+K22 -> 65.98
A23: 16 | B23: VRS DAUGAVPILS PĀRVALDE | C23: VRS DAUGAVPILS PĀRVALDES ROBEŽNIEKU ROBEŽAPSARDZĪBAS NODAĻA | D23: jaunākais inspektors | E23: 37214 | F23: 20% | G23: 960 | H23: 53.5 | I23: =ROUND(G23/166.33,3) -> 5.772 | J23: =ROUND(I23*H23*F23,2) -> 61.76 | K23: =ROUND(J23*0.2359,2) -> 14.57 | L23: =J23+K23 -> 76.33
A24: 17 | B24: VRS DAUGAVPILS PĀRVALDE | C24: VRS DAUGAVPILS PĀRVALDES ŠĶAUNES ROBEŽAPSARDZĪBAS NODAĻA | D24: inspektors | E24: 17289 | F24: 0.2 | G24: 1120 | H24: 31.75 | I24: =ROUND(G24/166.33,3) -> 6.734 | J24: =ROUND(I24*H24*F24,2) -> 42.76 | K24: =ROUND(J24*0.2359,2) -> 10.09 | L24: =J24+K24 -> 52.85
A25: 18 | B25: VRS DAUGAVPILS PĀRVALDE | C25: VRS DAUGAVPILS PĀRVALDES ŠĶAUNES ROBEŽAPSARDZĪBAS NODAĻA | D25: inspektors | E25: 17289 | F25: 0.5 | G25: 1120 | H25: 1.25 | I25: =ROUND(G25/166.33,3) -> 6.734 | J25: =ROUND(I25*H25*F25,2) -> 4.21 | K25: =ROUND(J25*0.2359,2) -> 0.99 | L25: =J25+K25 -> 5.2
A26: 19 | B26: VRS DAUGAVPILS PĀRVALDE | C26: VRS DAUGAVPILS PĀRVALDES ŠĶAUNES ROBEŽAPSARDZĪBAS NODAĻA | D26: inspektors (kinologs) | E26: 36338 | F26: 0.2 | G26: 1135 | H26: 29.6 | I26: =ROUND(G26/166.33,3) -> 6.824 | J26: =ROUND(I26*H26*F26,2) -> 40.4 | K26: =ROUND(J26*0.2359,2) -> 9.53 | L26: =J26+K26 -> 49.93
A27: 20 | B27: VRS DAUGAVPILS PĀRVALDE | C27: VRS DAUGAVPILS PĀRVALDES ŠĶAUNES ROBEŽAPSARDZĪBAS NODAĻA | D27: inspektors (kinologs) | E27: 36338 | F27: 0.5 | G27: 1135 | H27: 9.98 | I27: =ROUND(G27/166.33,3) -> 6.824 | J27: =ROUND(I27*H27*F27,2) -> 34.05 | K27: =ROUND(J27*0.2359,2) -> 8.03 | L27: =J27+K27 -> 42.08
A28: 21 | B28: VRS RĪGAS PĀRVALDE | C28: VRS RĪGAS PĀRVALDES ZEMGALES II KATEGORIJAS DIENESTS | D28: inspektors | E28: 17578 | F28: 20% | G28: 1120 | H28: 93.5 | I28: =ROUND(G28/166.33,3) -> 6.734 | J28: =ROUND(I28*H28*F28,2) -> 125.93 | K28: =ROUND(J28*0.2359,2) -> 29.71 | L28: =J28+K28 -> 155.64
A29: 22 | B29: VRS RĪGAS PĀRVALDE | C29: VRS RĪGAS PĀRVALDES ZEMGALES II KATEGORIJAS DIENESTS | D29: inspektors | E29: 17578 | F29: 50% | G29: 1120 | H29: 2.5 | I29: =ROUND(G29/166.33,3) -> 6.734 | J29: =ROUND(I29*H29*F29,2) -> 8.42 | K29: =ROUND(J29*0.2359,2) -> 1.99 | L29: =J29+K29 -> 10.41
A30: 23 | B30: VRS LUDZAS PĀRVALDE | C30: VRS LUDZAS PĀRVALDES AIZGĀRŠAS ROBEŽAPSARDZĪBAS NODAĻA | D30: inspektors | E30: 27199 | F30: 0.2 | G30: 1080 | H30: 44 | I30: =ROUND(G30/166.33,3) -> 6.493 | J30: =ROUND(I30*H30*F30,2) -> 57.14 | K30: =ROUND(J30*0.2359,2) -> 13.48 | L30: =J30+K30 -> 70.62
A31: 24 | B31: VRS DAUGAVPILS PĀRVALDE | C31: VRS DAUGAVPILS PĀRVALDES SILENES ROBEŽAPSARDZĪBAS NODAĻA | D31: inspektors (kinologs) | E31: 16896 | F31: 0.2 | G31: 1215 | H31: 125.33 | I31: =ROUND(G31/166.33,3) -> 7.305 | J31: =ROUND(I31*H31*F31,2) -> 183.11 | K31: =ROUND(J31*0.2359,2) -> 43.2 | L31: =J31+K31 -> 226.31
A32: 25 | B32: VRS DAUGAVPILS PĀRVALDE | C32: VRS DAUGAVPILS PĀRVALDES SILENES ROBEŽAPSARDZĪBAS NODAĻA | D32: inspektors (kinologs) | E32: 16896 | F32: 0.5 | G32: 1215 | H32: 11.67 | I32: =ROUND(G32/166.33,3) -> 7.305 | J32: =ROUND(I32*H32*F32,2) -> 42.62 | K32: =ROUND(J32*0.2359,2) -> 10.05 | L32: =J32+K32 -> 52.67
A33: 26 | B33: VRS AVIĀCIJAS UN SPECIĀLO OPERĀCIJU PĀRVALDE | C33: VRS AVIĀCIJAS UN SPECIĀLO OPERĀCIJU PĀRVALDES AD SPECIĀLĀ APRIKOJUMA OPERATORU UN GLĀBĒJU POSMS | D33: inspektors (glābējs) | E33: 32593 | F33: 20% | G33: 1529 | H33: 3 | I33: =ROUND(G33/166.33,3) -> 9.193 | J33: =ROUND(I33*H33*F33,2) -> 5.52 | K33: =ROUND(J33*0.2359,2) -> 1.3 | L33: =J33+K33 -> 6.82
A34: 27 | B34: VRS RĪGAS PĀRVALDE | C34: VRS RĪGAS PĀRVALDES RĪGAS OSTAS II KATEGORIJAS RKP | D34: inspektors | E34: 20627 | F34: 20% | G34: 1120 | H34: 48 | I34: =ROUND(G34/166.33,3) -> 6.734 | J34: =ROUND(I34*H34*F34,2) -> 64.65 | K34: =ROUND(J34*0.2359,2) -> 15.25 | L34: =J34+K34 -> 79.9
A35: 28 | B35: VRS RĪGAS PĀRVALDE | C35: VRS RĪGAS PĀRVALDES ZEMGALES II KATEGORIJAS DIENESTS | D35: inspektors | E35: 37194 | F35: 20% | G35: 1040 | H35: 40.58 | I35: =ROUND(G35/166.33,3) -> 6.253 | J35: =ROUND(I35*H35*F35,2) -> 50.75 | K35: =ROUND(J35*0.2359,2) -> 11.97 | L35: =J35+K35 -> 62.72
A36: 29 | B36: VRS RĪGAS PĀRVALDE | C36: VRS RĪGAS PĀRVALDES ZEMGALES II KATEGORIJAS DIENESTS | D36: inspektors | E36: 37194 | F36: 50% | G36: 1040 | H36: 7.42 | I36: =ROUND(G36/166.33,3) -> 6.253 | J36: =ROUND(I36*H36*F36,2) -> 23.2 | K36: =ROUND(J36*0.2359,2) -> 5.47 | L36: =J36+K36 -> 28.67
A37: 30 | B37: VRS DAUGAVPILS PĀRVALDE | C37: VRS DAUGAVPILS PĀRVALDES KAPLAVAS ROBEŽAPSARDZĪBAS NODAĻA | D37: robežapsardzības nodaļas priekšnieks | E37: 17517 | F37: 20% | G37: 1840 | H37: 180.25 | I37: =ROUND(G37/166.33,3) -> 11.062 | J37: =ROUND(I37*H37*F37,2) -> 398.79 | K37: =ROUND(J37*0.2359,2) -> 94.07 | L37: =J37+K37 -> 492.86
A38: 31 | B38: VRS DAUGAVPILS PĀRVALDE | C38: VRS DAUGAVPILS PĀRVALDES KAPLAVAS ROBEŽAPSARDZĪBAS NODAĻA | D38: robežapsardzības nodaļas priekšnieks | E38: 17517 | F38: 0.5 | G38: 1840 | H38: 5.75 | I38: =ROUND(G38/166.33,3) -> 11.062 | J38: =ROUND(I38*H38*F38,2) -> 31.8 | K38: =ROUND(J38*0.2359,2) -> 7.5 | L38: =J38+K38 -> 39.3
A39: 32 | B39: VRS DAUGAVPILS PĀRVALDE | C39: VRS DAUGAVPILS PĀRVALDES SILENES ROBEŽAPSARDZĪBAS NODAĻA | D39: vecākais inspektors (robežuzraudzības tehnisko līdzekļu jomā) | E39: 16768 | F39: 0.2 | G39: 1265 | H39: 33.13 | I39: =ROUND(G39/166.33,3) -> 7.605 | J39: =ROUND(I39*H39*F39,2) -> 50.39 | K39: =ROUND(J39*0.2359,2) -> 11.89 | L39: =J39+K39 -> 62.28
A40: 33 | B40: VRS LUDZAS PĀRVALDE | C40: VRS LUDZAS PĀRVALDES PASIENES ROBEŽAPSARDZĪBAS NODAĻA | D40: inspektors (kinologs) | E40: 31854 | F40: 20% | G40: 1155 | H40: 31.08 | I40: =ROUND(G40/166.33,3) -> 6.944 | J40: =ROUND(I40*H40*F40,2) -> 43.16 | K40: =ROUND(J40*0.2359,2) -> 10.18 | L40: =J40+K40 -> 53.34
A41: 34 | B41: VRS LUDZAS PĀRVALDE | C41: VRS LUDZAS PĀRVALDES PASIENES ROBEŽAPSARDZĪBAS NODAĻA | D41: inspektors (kinologs) | E41: 31854 | F41: 50% | G41: 1155 | H41: 4.92 | I41: =ROUND(G41/166.33,3) -> 6.944 | J41: =ROUND(I41*H41*F41,2) -> 17.08 | K41: =ROUND(J41*0.2359,2) -> 4.03 | L41: =J41+K41 -> 21.11
A42: 35 | B42: VRS AVIĀCIJAS UN SPECIĀLO OPERĀCIJU PĀRVALDE | C42: VRS AVIĀCIJAS UN SPECIĀLO OPERĀCIJU PĀRVALDES SOD "SIGMA" OTRĀ TAKTISKĀ NODAĻA | D42: nodaļas priekšnieks | E42: 31649 | F42: 50% | G42: 1900 | H42: 35.5 | I42: =ROUND(G42/166.33,3) -> 11.423 | J42: =ROUND(I42*H42*F42,2) -> 202.76 | K42: =ROUND(J42*0.2359,2) -> 47.83 | L42: =J42+K42 -> 250.59
...

Sheet 2.tabula 
L1: 2.tabula
B2: Valsts robežsardze
A4: Precizējums*_Piemaksa par darbu paaugstināta riska un slodzes apstākļos amatpersonām laika periodā no 2023.gada 1.septembra līdz 30.septembrim
A6: Nr. | B6: Pārvalde | C6: Struktūrvienība | D6: Amats | E6: Tabeles Nr. | F6: Piemaksas apmērs | G6: Mēneš-alga | H6: Iesaistes stundas | I6: Stundas likme | J6: Piemaksas apmērs 50%, 20% vai 10% no stundas likmes (EKK1145) | K6: VSAOI 23,59% (EKK1210) | L6: Atlīdzība (EKK1000)
H7: =SUM(H8:H8) -> 146.5 | J7: =SUM(J8:J8) -> 169.12 | K7: =SUM(K8:K8) -> 39.9 | L7: =SUM(L8:L8) -> 209.02
A8: 1 | B8: VRS DAUGAVPILS PĀRVALDE | C8: VRS DAUGAVPILS PĀRVALDES PIEDRUJAS ROBEŽAPSARDZĪBAS NODAĻA | D8: jaunākais inspektors | E8: 37594 | F8: 0.2 | G8: 960 | H8: 146.5 | I8: =ROUND(G8/166.33,3) -> 5.772 | J8: =ROUND(I8*H8*F8,2) -> 169.12 | K8: =ROUND(J8*0.2359,2) -> 39.9 | L8: =J8+K8 -> 209.02
B10: *Nav iekļauts pie 2023. gada septembra izdevumiem, jo aprēķini tika iesniegti vēlāk.

Sheet 3.tabula
L1: 3.tabula
B2: Valsts robežsardze
A4: Piemaksas par nozīmīgu ieguldījumu attiecīgās institūcijas stratēģisko mērķu sasniegšanā amatpersonām ar speciālajām dienesta pakāpēm laika periodā no 2023.gada 1.oktobra līdz 31.oktobrim
A6: Nr. p.k. | B6: Pārvalde | C6: Struktūrvienība | D6: Amats | E6: Tabeles Nr. | F6: Piemaksas apmērs | G6: Mēneš-alga | H6: Iesaistes stundas | I6: Stundas likme | J6: Mērķa piemaksa (EKK1149) | K6: VSAOI 23,59% | L6: Atlīdzība (EKK1000)
H7: =SUM(H8:H119) -> 12408 | J7: =SUM(J8:J119) -> 20477.79 | K7: =SUM(K8:K119) -> 4830.7 | L7: =SUM(L8:L119) -> 25308.49
A8: 1 | B8: VRS DAUGAVPILS PĀRVALDE | C8: VRS DAP DAUGAVPILS I KAT.DIEN. AIZTURĒTO ĀRZEMNIEKU IZMITINĀŠANAS CENTRS "DAUGAVPILS" | D8: inspektors | E8: 17036 | F8: 0.2 | G8: 1200 | H8: 176 | I8: =ROUND(G8/176,3) -> 6.818 | J8: =ROUND(I8*H8*F8,2) -> 239.99 | K8: =ROUND(J8*0.2359,2) -> 56.61 | L8: =J8+K8 -> 296.6
A9: 2 | B9: VRS RĪGAS PĀRVALDE | C9: VRS RĪGAS PĀRVALDES ATGRIEŠANAS UN PATVĒRUMA MEKLĒTĀJU DIENESTS | D9: vecākais inspektors | E9: 34340 | F9: 0.25 | G9: 1250 | H9: 176 | I9: =ROUND(G9/176,3) -> 7.102 | J9: =ROUND(I9*H9*F9,2) -> 312.49 | K9: =ROUND(J9*0.2359,2) -> 73.72 | L9: =J9+K9 -> 386.21
A10: 3 | B10: VRS VENTSPILS PĀRVALDE | C10: VRS VENTSPILS PĀRVALDES VENTSPILS I KATEGORIJAS NODAĻA | D10: inspektors | E10: 17322 | F10: 0.2 | G10: 1100 | H10: 40 | I10: =ROUND(G10/176,3) -> 6.25 | J10: =ROUND(I10*H10*F10,2) -> 50 | K10: =ROUND(J10*0.2359,2) -> 11.8 | L10: =J10+K10 -> 61.8
A11: 4 | B11: VRS DAUGAVPILS PĀRVALDE | C11: VRS DAP DAUGAVPILS I KAT.DIEN. AIZTURĒTO ĀRZEMNIEKU IZMITINĀŠANAS CENTRS "DAUGAVPILS" | D11: inspektors | E11: 17632 | F11: 0.2 | G11: 1200 | H11: 176 | I11: =ROUND(G11/176,3) -> 6.818 | J11: =ROUND(I11*H11*F11,2) -> 239.99 | K11: =ROUND(J11*0.2359,2) -> 56.61 | L11: =J11+K11 -> 296.6
A12: 5 | B12: VRS RĪGAS PĀRVALDE | C12: VRS RĪGAS PĀRVALDES ATGRIEŠANAS UN PATVĒRUMA MEKLĒTĀJU DIENESTS | D12: galvenais inspektors | E12: 17743 | F12: 0.19 | G12: 1385 | H12: 120 | I12: =ROUND(G12/176,3) -> 7.869 | J12: =ROUND(I12*H12*F12,2) -> 179.41 | K12: =ROUND(J12*0.2359,2) -> 42.32 | L12: =J12+K12 -> 221.73
A13: 6 | B13: VRS DAUGAVPILS PĀRVALDE | C13: VRS DAP DAUGAVPILS I KAT.DIEN. AIZTURĒTO ĀRZEMNIEKU IZMITINĀŠANAS CENTRS "DAUGAVPILS" | D13: inspektors | E13: 17098 | F13: 0.2 | G13: 1180 | H13: 176 | I13: =ROUND(G13/176,3) -> 6.705 | J13: =ROUND(I13*H13*F13,2) -> 236.02 | K13: =ROUND(J13*0.2359,2) -> 55.68 | L13: =J13+K13 -> 291.7
A14: 7 | B14: VRS DAUGAVPILS PĀRVALDE | C14: VRS DAP DAUGAVPILS I KAT.DIEN. AIZTURĒTO ĀRZEMNIEKU IZMITINĀŠANAS CENTRS "DAUGAVPILS" | D14: inspektors | E14: 16769 | F14: 0.2 | G14: 1180 | H14: 176 | I14: =ROUND(G14/176,3) -> 6.705 | J14: =ROUND(I14*H14*F14,2) -> 236.02 | K14: =ROUND(J14*0.2359,2) -> 55.68 | L14: =J14+K14 -> 291.7
A15: 8 | B15: VRS DAUGAVPILS PĀRVALDE | C15: VRS DAP DAUGAVPILS I KAT.DIEN. AIZTURĒTO ĀRZEMNIEKU IZMITINĀŠANAS CENTRS "DAUGAVPILS" | D15: inspektors | E15: 27155 | F15: 0.25 | G15: 1160 | H15: 176 | I15: =ROUND(G15/176,3) -> 6.591 | J15: =ROUND(I15*H15*F15,2) -> 290 | K15: =ROUND(J15*0.2359,2) -> 68.41 | L15: =J15+K15 -> 358.41
A16: 9 | B16: VRS DAUGAVPILS PĀRVALDE | C16: VRS DAUGAVPILS PĀRVALDES KAPLAVAS ROBEŽAPSARDZĪBAS NODAĻA | D16: vecākais inspektors | E16: 16800 | F16: 0.15 | G16: 1370 | H16: 176 | I16: =ROUND(G16/176,3) -> 7.784 | J16: =ROUND(I16*H16*F16,2) -> 205.5 | K16: =ROUND(J16*0.2359,2) -> 48.48 | L16: =J16+K16 -> 253.98
A17: 10 | B17: VRS DAUGAVPILS PĀRVALDE | C17: VRS DAP DAUGAVPILS I KAT.DIEN. AIZTURĒTO ĀRZEMNIEKU IZMITINĀŠANAS CENTRS "DAUGAVPILS" | D17: galvenais inspektors | E17: 19775 | F17: 0.3 | G17: 1390 | H17: 176 | I17: =ROUND(G17/176,3) -> 7.898 | J17: =ROUND(I17*H17*F17,2) -> 417.01 | K17: =ROUND(J17*0.2359,2) -> 98.37 | L17: =J17+K17 -> 515.38
A18: 11 | B18: VRS VENTSPILS PĀRVALDE | C18: VRS VENTSPILS PĀRVALDES JRUD KUĢIS RK-12 "VALPAS" | D18: kuģa kapteinis | E18: 19552 | F18: 0.2 | G18: 1880 | H18: 40 | I18: =ROUND(G18/176,3) -> 10.682 | J18: =ROUND(I18*H18*F18,2) -> 85.46 | K18: =ROUND(J18*0.2359,2) -> 20.16 | L18: =J18+K18 -> 105.62
A19: 12 | B19: VRS DAUGAVPILS PĀRVALDE | C19: VRS DAP DAUGAVPILS I KAT.DIEN. AIZTURĒTO ĀRZEMNIEKU IZMITINĀŠANAS CENTRS "DAUGAVPILS" | D19: inspektors | E19: 28437 | F19: 0.2 | G19: 1140 | H19: 176 | I19: =ROUND(G19/176,3) -> 6.477 | J19: =ROUND(I19*H19*F19,2) -> 227.99 | K19: =ROUND(J19*0.2359,2) -> 53.78 | L19: =J19+K19 -> 281.77
... A119: 112 | B119: VRS DAUGAVPILS PĀRVALDE | C119: VRS DAUGAVPILS PĀRVALDES DAUGAVPILS I KATEGORIJAS DIENESTS | D119: vecākais inspektors | E119: 27173 | F119: 0.18 | G119: 1250 | H119: 176 | I119: =ROUND(G119/176,3) -> 7.102 | J119: =ROUND(I119*H119*F119,2) -> 224.99 | K119: =ROUND(J119*0.2359,2) -> 53.08 | L119: =J119+K119 -> 278.07

Sheet 4.tabula 
L1: 4.tabula
B2: Valsts robežsardze
A4: Precizējums_Piemaksas par nozīmīgu ieguldījumu attiecīgās institūcijas stratēģisko mērķu sasniegšanā amatpersonām ar speciālajām dienesta pakāpēm laika periodā no 2023.gada 1.septembra līdz 30.septembrim
A6: Nr. p.k. | B6: Pārvalde | C6: Struktūrvienība | D6: Amats | E6: Tabeles Nr. | F6: Piemaksas apmērs | G6: Mēneš-alga | H6: Iesaistes stundas | I6: Stundas likme | J6: Mērķa piemaksa (EKK1149) | K6: VSAOI 23,59% | L6: Atlīdzība (EKK1000)
H7: =SUM(H8:H119) -> 312 | J7: =SUM(J8:J119) -> 612.29 | K7: =SUM(K8:K119) -> 144.44 | L7: =SUM(L8:L119) -> 756.73
A8: 1 | B8: VRS DAUGAVPILS PĀRVALDE | C8: VRS DAP DAUGAVPILS I KAT.DIEN. AIZTURĒTO ĀRZEMNIEKU IZMITINĀŠANAS CENTRS "DAUGAVPILS" | D8: inspektors | E8: 30405 | F8: 0.25 | G8: 1140 | H8: 168 | I8: =ROUND(G8/168,3) -> 6.786 | J8: =ROUND(I8*H8*F8,2) -> 285.01 | K8: =ROUND(J8*0.2359,2) -> 67.23 | L8: =J8+K8 -> 352.24
A9: 2 | B9: VRS DAUGAVPILS PĀRVALDE | C9: VRS DAP DAUGAVPILS I KAT.DIEN. AIZTURĒTO ĀRZEMNIEKU IZMITINĀŠANAS CENTRS "DAUGAVPILS" | D9: vecākais inspektors | E9: 17414 | F9: 0.3 | G9: 1255 | H9: 16 | I9: =ROUND(G9/168,3) -> 7.47 | J9: =ROUND(I9*H9*F9,2) -> 35.86 | K9: =ROUND(J9*0.2359,2) -> 8.46 | L9: =J9+K9 -> 44.32
A10: 3 | B10: VRS DAUGAVPILS PĀRVALDE | C10: VRS DAP DAUGAVPILS I KAT.DIEN. AIZTURĒTO ĀRZEMNIEKU IZMITINĀŠANAS CENTRS "DAUGAVPILS" | D10: vecākais inspektors | E10: 17296 | F10: 0.3 | G10: 1275 | H10: 128 | I10: =ROUND(G10/168,3) -> 7.589 | J10: =ROUND(I10*H10*F10,2) -> 291.42 | K10: =ROUND(J10*0.2359,2) -> 68.75 | L10: =J10+K10 -> 360.17
