Workbook

Sheet VP okt
D1: 2.pielikums
D2: Ministru kabineta rīkojuma projekta
D3: “Par apropriācijas pārdali"
D4: sākotnējās ietekmes novērtējuma ziņojumam (anotācijai)
A6: Valsts policijas izdevumi
A7: Kopasavilkums
A9: Kods | B9: Koda nosaukums | C9: Detalizēts izdevumu aprēķins | D9: Izdevumi, euro
A10: Izdevumi kopā ar vidējās izpeļņas pieauguma kompensēšanu | D10: =D11+D14 -> 149125
A11: 1000 | B11: Atlīdzība | C11: × | D11: =D17+D43 -> 97998
A12: 1100 | B12: Atalgojums | C12: × | D12: =D44+D20 -> 79295.6
A13: 1210 | B13: Darba devēja valsts sociālās apdrošināšanas obligātās iemaksas | C13: × | D13: =D46+D28 -> 18702.2
A14: 2000 | B14: Preces un pakalpojumi | C14: × | D14: =D47+D29 -> 51127
A16: 1) Izdevumi saistībā ar rīkojuma Nr. 514 izpildei nepieciešamo pasākumu īstenošanu | D16: =D17+D29 -> 141309
A17: 1000 | B17: Atlīdzība | C17: × | D17: =ROUNDUP(D19+D18,0) -> 90462
C18: Korekcija*
C19: × | D19: =D20+D28 -> 90461.43
A20: 1100 | B20: Atalgojums | C20: × | D20: =SUM(D21:D27) -> 73197.6
A21: 1116 | B21: Mēnešalga amatpersonām ar speciālajām dienesta pakāpēm
A22: 1141
A23: 1141 | B23: Piemaksa par nakts darbu | C23: Detalizēts aprēķins par laika periodu no 2023.gada 1. oktobra līdz 31. oktobrim 1.tabulā. Iesaistītas 384 personas, kopējais iesaistes laiks 7 915 stundas. | D23: ='1.tabula'!G6 -> 32438.34
A24: 1142 | B24: Samaksa par virsstundu darbu
C25: Detalizēts aprēķins par laika periodu no 1. oktobra līdz 31. oktobrim 2.tabulā. Iesaistītas ___ personas, kopējais iesaistes laiks ___ stundas.
A26: 1145 | B26: Piemaksa par darbu īpašos apstākļos, speciālās piemaksas | C26: Detalizēts aprēķins par laika periodu no 1. oktobra līdz 31. oktobrim 2.tabulā. Iesaistītas 589 personas, kopējais iesaistes laiks 22 728 stundas. | D26: ='2.tabula'!H7 -> 40759.26
A27: 1146 | B27: Piemaksa par personisko darba ieguldījumu un darba kvalitāti
A28: 1210 | B28: Darba devēja valsts sociālās apdrošināšanas obligātās iemaksas | C28: 23,59% no aprēķinātā atalgojuma * izņemot 3 personas, kurām tiek piemērota nodokļu likme 21,94% (izdienas pensionārs) | D28: ='1.tabula'!H6+'2.tabula'!I7 -> 17263.83
A29: 2000 | B29: Preces un pakalpojumi | C29: × | D29: =ROUNDUP((D30+D31),0) -> 50847
C30: Korekcija*
C31: × | D31: =SUM(D32:D40) -> 50846.26
A32: 2111 | B32: Dienas nauda | C32: Detalizēts aprēķins 4.tabulā. Dienas nauda par periodu no 2023.gada 3. septembra līdz 17. oktorim izmaksāta 39 personām. Valsts policijas pavēles: no 30.08.2023. Nr.4507; no 21.09.2023. Nr.4936; no 27.09.2023. Nr.5041; no 21.09.2023. Nr.4935; no 23.10.2023. Nr.5539 "Par komandējumiem uz Daugavpili un Dagdu (Latvijā)" dienas nauda: 100% (8,00 euro) pirmā un pēdējā diena, 30% (2,40 euro) pārējās dienas *Valsts policija iekšzemes komandējumiem nemaksā dienas naudu avansā, bet gan izmaksā tad, kad no komandējuma amatpersonas ir atgriezušās. Komandējuma laika ietvars saskaņā ar Valsts policijas pavēli par komandējumu, ir tāds, ka uz mēnesi tiek sūtīta komandējumā viena amatpersonu grupa, pēc tam – uz mēnesi tika nosūtīta cita amatpersonu grupa. | D32: ='4.tabula'!G6 -> 2527.2
A33: 2112 | B33: Pārējie komandējumu un darba braucienu izdevumi | C33: Dienesta viesnīcas pakalpojumi Naktsmītnes izdevumi Daugavpilī: 1 nakts x 12 gultasvietas x 15,00 euro = 180,00 euro; 2 nakts x 8 gultasvietas × 15,00 euro = 240,00 euro; 27 nakts x 13 gultasvietas × 15,00 euro = 5 265,00 euro; Naktsmītnes izdevumi Dagdā: 1 nakts x 13 gultasvietas x 7,00 euro = 91,00 euro; 4 nakts x 12 gultasvietas x 7,00 euro = 336,00 euro; Veļas mašīnas izmantošana = 7 reizes x 1,00 euro = 7,00 euro Aprēķins veikts par dienesta viesnīcas pakalpojumiem (naktsmītni), kas tika nodrošināti no 2023.gada 1. septembra līdz 30. septembrim, izdevumi pakalpojuma sniedzējam tika apmaksāti 2023.gada oktobrī. | D33: =(1*12*15)+(2*8*15)+(27*13*15)+(1*13*7)+(4*12*7)+(7*1) -> 6119
A34: 2271 | B34: Izdevumi, kas saistīti ar operatīvo darbību | C34: Izdevumi, kas saistīti ar operatīvo darbību 2023.gada oktobrī | D34: 5378
A35: 2312 | B35: Inventārs | C35: LED lukturi 30 gab. x 12,10 euro = 363,00 euro | D35: =12.1*30 -> 363
A36: 2322 | B36: Degviela | C36: Detalizēts aprēķins par laika periodu no 2023.gada 1. oktobra līdz 31. oktobrim 3.tabulā. Pasākuma nodrošināšanai tika iesaistīti 162 transportlīdzekļi; Vidēji viena transportlīdzekļa nobraukums 1231,43 km; Vidējā degvielas cena 1,5687 euro/l; Vidējais degvielas patēriņš 8,1816 l/km uz 100 km. 162 t-ldz. x 1231,43 km x 1,5687 euro/l x 8,1816 l/km ÷ 100 km = 25 603,68 euro | D36: ='3.tabula'!F6 -> 25603.68
A37: 2350 | B37: Kārtējā remonta un iestāžu uzturēšanas materiāli | C37: Veļas mazgāšanas līdzeklis 5L / 6 gab. x 10,29 euro = 61,74 euro; Tualetes papīrs 104 ruļļi x 0,3843 euro = 39,97 euro; Papīra dvieļi 50 gab. x 1,6336 euro = 81,68 euro | D37: =ROUND((6*10.29)+(104*0.3843)+(50*1.6336),2) -> 183.39
A38: 2363 | B38: Ēdināšanas izdevumi | C38: Aprēķins veikts par ēdināšanas pakalpojumiem, kas tika nodrošināti no 2023.gada 1.septembra līdz 30.septembrim, izdevumi pakalpojuma sniedzējam tika apmaksāti 2023.gada oktobrī. Ēdināšanas pakalpojumi Daugavpilī un Dagdā: brokastis 257 porcijas × 6,00 euro = 1 542,00 euro; pusdienas 268 porcijas × 8,00 euro = 2 144,00 euro; vakariņas 269 porcijas × 8,00 euro = 2 152,00 euro; launags (sausā uztura paka) 183 pakas × 22,00 euro = 4 026 euro. Saskaņā ar līgumu par izmitināšanu un ēdināšanu Daugavpilī ir noteikts, ka ēdināšana 3 reizes dienā nedrīkst pārsniegt 22 euro: Ēdināšanas izmaksas sastāda: Brokastis 6 euro /1 pers Pusdienas un vakariņas 8 euro /1 pers Par 14 euro tiek ēdinātas amatpersonas, kuras atrodas viesnīcā, jo amatpersonas strādā maiņās. Savukārt tām amatpersonām, kuras ir maiņā uz robežas un tām nav iespējams atgriezties uz pusdienām un vakariņām, tad, lai nodrošinātu ēdināšanu amatpersonām dod līdzi pārtikas paku un kopā tas sastāda 22 euro (brokastis ir 6 euro - tās paēd izmitināšanas vietā). Pārtikas pakas tiek dotas arī Latgales reģiona pārvaldes amatpersonām, kuras arī tiek norīkotas uz robežu, augstākminēto iemeslu dēļ, komandējama izdevumi un dienas nauda viņām nav. Papildus jāatzīmē, ka dienas nauda dienās, kad nodrošināta 3 reižu ēdināšana sastāda 30% no Ministru kabineta noteikumos par komandējumu paredzētā limita. | D38: =(257*6)+(268*8)+(269*8)+(183*22) -> 9864
A39: 2389 | B39: Pārējie specifiskas lietošanas materiāli un inventārs
A40: 2390 | B40: Pārējās preces | C40: Negazēts dzeramais ūdens 5 L / 408 gab. x 0,6869 euro = 280,26 euro Lietusmētelis 49 gab. x 10,77 euro = 527,73 euro | D40: =ROUND((408*0.6869)+(49*10.77),2) -> 807.99
A42: 2) Vidējās izpeļņas pieauguma kompensēšanai | D42: =D43+D47 -> 7816
A43: 1000 | B43: Atlīdzība | C43: × | D43: =ROUND(D44+D46,0) -> 7536
A44: 1100 | B44: Atalgojums | C44: × | D44: =ROUNDUP(D45,0) -> 6098
...

Sheet 1.tabula
I1: 1.tabula
A2: Valsts policija
A3: Piemaksa par nakts darbu amatpersonām ar speciālajām dienesta pakāpēm, kuras laika periodā no 2023.gada 1.oktobra līdz 31.oktobrim tika iesaistītas atbalsta sniegšanā Valsts robežsardzei Latvijas Republikas-Baltkrievijas Republikas valsts robežas robežuzraudzības nodrošināšanā
E4: 166.33
A5: Nr. p.k. | B5: Struktūrvienība | C5: Amats | D5: Mēnešalga amatpersonām ar speciālajām pakāpēm | E5: Stundas likme | F5: Stundu skaits | G5: Piemaksa par nakts darbu | H5: DD VSAOI | I5: Atlīdzība
A6: kopā | F6: =SUM(F7:F390) -> 7915 | G6: =SUM(G7:G390) -> 32438.34 | H6: =SUM(H7:H390) -> 7650.45 | I6: =SUM(I7:I390) -> 40088.79
A7: 1 | B7: VP LATGALES RP ZIEMEĻLATGALES IECIRKNIS | C7: iecirkņa priekšnieka vietnieks, Reaģēšanas nodaļas priekšnieks | D7: 2040 | E7: =ROUND(D7/$E$4,3) -> 12.265 | F7: 18 | G7: 110.39 | H7: =ROUND(G7*0.2359,2) -> 26.04 | I7: =G7+H7 -> 136.43
A8: =A7+1 -> 2 | B8: VP LATGALES RP ZIEMEĻLATGALES IECIRKŅA IZMEKLĒŠANAS NODAĻAS 2.GRUPA | C8: inspektors | D8: 1437 | E8: =ROUND(D8/$E$4,3) -> 8.639 | F8: 8 | G8: 34.56 | H8: =ROUND(G8*0.2359,2) -> 8.15 | I8: =G8+H8 -> 42.71
A9: =A8+1 -> 3 | B9: VP LATGALES RP DIENVIDLATGALES IECIRKŅA REAĢĒŠANAS NODAĻAS 3.GRUPA | C9: vecākais inspektors | D9: 1463 | E9: =ROUND(D9/$E$4,3) -> 8.796 | F9: 8 | G9: 35.18 | H9: =ROUND(G9*0.2359,2) -> 8.3 | I9: =G9+H9 -> 43.48
A10: =A9+1 -> 4 | B10: VP LATGALES RP ZIEMEĻLATGALES IECIRKŅA IZMEKLĒŠANAS NODAĻAS 5.GRUPA | C10: galvenais inspektors | D10: 1794 | E10: =ROUND(D10/$E$4,3) -> 10.786 | F10: 16 | G10: 86.29 | H10: =ROUND(G10*0.2359,2) -> 20.36 | I10: =G10+H10 -> 106.65
A11: =A10+1 -> 5 | B11: VP LATGALES RP DIENVIDLATGALES IECIRKŅA REAĢĒŠANAS NODAĻAS 7.GRUPA | C11: inspektors | D11: 1317 | E11: =ROUND(D11/$E$4,3) -> 7.918 | F11: 24 | G11: 95.02 | H11: =ROUND(G11*0.2359,2) -> 22.42 | I11: =G11+H11 -> 117.44
A12: =A11+1 -> 6 | B12: VP LATGALES RP DIENVIDLATGALES IECIRKŅA REAĢĒŠANAS NODAĻAS 7.GRUPA | C12: jaunākais inspektors | D12: 1140 | E12: =ROUND(D12/$E$4,3) -> 6.854 | F12: 16 | G12: 54.83 | H12: =ROUND(G12*0.2359,2) -> 12.93 | I12: =G12+H12 -> 67.76
A13: =A12+1 -> 7 | B13: VP LATGALES RP DIENVIDLATGALES IECIRKŅA IZMEKLĒŠANAS NODAĻAS 5.GRUPA | C13: inspektors | D13: 1437 | E13: =ROUND(D13/$E$4,3) -> 8.639 | F13: 8 | G13: 34.56 | H13: =ROUND(G13*0.2359,2) -> 8.15 | I13: =G13+H13 -> 42.71
A14: =A13+1 -> 8 | B14: VP LATGALES RP DIENVIDLATGALES IECIRKŅA REAĢĒŠANAS NODAĻAS 1.GRUPA | C14: inspektors | D14: 1317 | E14: =ROUND(D14/$E$4,3) -> 7.918 | F14: 24 | G14: 95.02 | H14: =ROUND(G14*0.2359,2) -> 22.42 | I14: =G14+H14 -> 117.44
A15: =A14+1 -> 9 | B15: VP ZEMGALES RP AUSTRUMZEMGALES IECIRKŅA REAĢĒŠANAS NODAĻAS 3.GRUPA | C15: vecākais inspektors | D15: 1490 | E15: =ROUND(D15/$E$4,3) -> 8.958 | F15: 16 | G15: 71.66 | H15: =ROUND(G15*0.2359,2) -> 16.9 | I15: =G15+H15 -> 88.56
A16: =A15+1 -> 10 | B16: VP LATGALES RP DIENVIDLATGALES IECIRKŅA REAĢĒŠANAS NODAĻAS 6.GRUPA | C16: jaunākais inspektors | D16: 1120 | E16: =ROUND(D16/$E$4,3) -> 6.734 | F16: 24 | G16: 80.81 | H16: =ROUND(G16*0.2359,2) -> 19.06 | I16: =G16+H16 -> 99.87
A17: =A16+1 -> 11 | B17: VP LATGALES RP ZIEMEĻLATGALES IECIRKŅA PREVENCIJAS GRUPA | C17: vecākais inspektors | D17: 1381 | E17: =ROUND(D17/$E$4,3) -> 8.303 | F17: 32 | G17: 132.85 | H17: =ROUND(G17*0.2359,2) -> 31.34 | I17: =G17+H17 -> 164.19
A18: =A17+1 -> 12 | B18: VP ZEMGALES RP AUSTRUMZEMGALES IECIRKŅA REAĢĒŠANAS NODAĻAS 3.GRUPA | C18: inspektors | D18: 1317 | E18: =ROUND(D18/$E$4,3) -> 7.918 | F18: 16 | G18: 63.34 | H18: =ROUND(G18*0.2359,2) -> 14.94 | I18: =G18+H18 -> 78.28
A19: =A18+1 -> 13 | B19: VP LATGALES RP DIENVIDLATGALES IECIRKŅA REAĢĒŠANAS NODAĻAS 4.GRUPA | C19: vecākais inspektors | D19: 1381 | E19: =ROUND(D19/$E$4,3) -> 8.303 | F19: 16 | G19: 66.42 | H19: =ROUND(G19*0.2359,2) -> 15.67 | I19: =G19+H19 -> 82.09
... A39: =A38+1 -> 33 | B39: VP LATGALES RP KĀRTPB RESURSU UN KRĪZES VADĪBAS NODAĻA | C39: nodaļas priekšnieks | D39: 1474 | E39: =ROUND(D39/$E$4,3) -> 8.862 | F39: 16 | G39: 70.9 | H39: =ROUND(G39*0.2359,2) -> 16.73 | I39: =G39+H39 -> 87.63
A40: =A39+1 -> 34 | B40: VP LATGALES RP KĀRTPB ATĻAUJU SISTĒMAS GRUPA | C40: inspektors | D40: 1176 | E40: =ROUND(D40/$E$4,3) -> 7.07 | F40: 32 | G40: 113.12 | H40: =ROUND(G40*0.2359,2)-0.01 -> 26.68 | I40: =G40+H40 -> 139.8
A41: =A40+1 -> 35 | B41: VP LATGALES RP DIENVIDLATGALES IECIRKŅA REAĢĒŠANAS NODAĻAS 4.GRUPA | C41: jaunākais inspektors | D41: 1140 | E41: =ROUND(D41/$E$4,3) -> 6.854 | F41: 32 | G41: 109.66 | H41: =ROUND(G41*0.2359,2) -> 25.87 | I41: =G41+H41 -> 135.53
A42: =A41+1 -> 36 | B42: VP LATGALES RP ZIEMEĻLATGALES IECIRKŅA IZMEKLĒŠANAS NODAĻAS 5.GRUPA | C42: vecākais inspektors | D42: 1517 | E42: =ROUND(D42/$E$4,3) -> 9.12 | F42: 16 | G42: 72.96 | H42: =ROUND(G42*0.2359,2) -> 17.21 | I42: =G42+H42 -> 90.17
A43: =A42+1 -> 37 | B43: VP LATGALES RP ZIEMEĻLATGALES IECIRKŅA REAĢĒŠANAS NODAĻAS 9.GRUPA | C43: inspektors | D43: 1337 | E43: =ROUND(D43/$E$4,3) -> 8.038 | F43: 9 | G43: 36.17 | H43: =ROUND(G43*0.2359,2) -> 8.53 | I43: =G43+H43 -> 44.7
A44: =A43+1 -> 38 | B44: VP LATGALES RP DIENVIDLATGALES IECIRKŅA IZMEKLĒŠANAS NODAĻAS 8.GRUPA | C44: inspektors | D44: 1337 | E44: =ROUND(D44/$E$4,3) -> 8.038 | F44: 16 | G44: 64.3 | H44: =ROUND(G44*0.2359,2) -> 15.17 | I44: =G44+H44 -> 79.47
A45: =A44+1 -> 39 | B45: VP LATGALES RP KRIMPB ORGANIZĒTĀS NOZIEDZĪBAS SMAGO UN SĒRIJVEIDA NOZIEGUMU APKAROŠANAS NODAĻA | C45: vecākais inspektors | D45: 1545 | E45: =ROUND(D45/$E$4,3) -> 9.289 | F45: 8 | G45: 37.16 | H45: =ROUND(G45*0.2359,2) -> 8.77 | I45: =G45+H45 -> 45.93
A46: =A45+1 -> 40 | B46: VP LATGALES RP ZIEMEĻLATGALES IECIRKŅA REAĢĒŠANAS NODAĻAS 6.GRUPA | C46: vecākais inspektors | D46: 1431 | E46: =ROUND(D46/$E$4,3) -> 8.603 | F46: 8 | G46: 34.41 | H46: =ROUND(G46*0.2359,2) -> 8.12 | I46: =G46+H46 -> 42.53
A47: =A46+1 -> 41 | B47: VP GKĀRTPP RKVP SPECIĀLO UZDEVUMU BATALJONA 6.ROTA (ZEMGALES REĢIONA) | C47: rotas komandiera vietnieks | D47: 1449 | E47: =ROUND(D47/$E$4,3) -> 8.712 | F47: 27 | G47: 117.61 | H47: =ROUND(G47*0.2359,2) -> 27.74 | I47: =G47+H47 -> 145.35
A48: =A47+1 -> 42 | B48: VP LATGALES RP ZIEMEĻLATGALES IECIRKŅA IZMEKLĒŠANAS NODAĻAS 8.GRUPA | C48: vecākais inspektors | D48: 1355 | E48: =ROUND(D48/$E$4,3) -> 8.146 | F48: 8 | G48: 32.58 | H48: =ROUND(G48*0.2359,2) -> 7.69 | I48: =G48+H48 -> 40.27
A49: =A48+1 -> 43 | B49: VP LATGALES RP ZIEMEĻLATGALES IECIRKŅA REAĢĒŠANAS NODAĻAS 5.GRUPA | C49: inspektors | D49: 1337 | E49: =ROUND(D49/$E$4,3) -> 8.038 | F49: 16 | G49: 64.3 | H49: =ROUND(G49*0.2359,2) -> 15.17 | I49: =G49+H49 -> 79.47
A50: =A49+1 -> 44 | B50: VP LATGALES RP ZIEMEĻLATGALES IECIRKŅA REAĢĒŠANAS NODAĻAS 6.GRUPA | C50: galvenais inspektors | D50: 1474 | E50: =ROUND(D50/$E$4,3) -> 8.862 | F50: 24 | G50: 106.34 | H50: =ROUND(G50*0.2359,2) -> 25.09 | I50: =G50+H50 -> 131.43
A51: =A50+1 -> 45 | B51: VP LATGALES RP ZIEMEĻLATGALES IECIRKŅA IZMEKLĒŠANAS NODAĻAS 6.GRUPA | C51: inspektors | D51: 1463 | E51: =ROUND(D51/$E$4,3) -> 8.796 | F51: 8 | G51: 35.18 | H51: =ROUND(G51*0.2359,2) -> 8.3 | I51: =G51+H51 -> 43.48
A52: =A51+1 -> 46 | B52: VP LATGALES RP ZIEMEĻLATGALES IECIRKŅA IZMEKLĒŠANAS NODAĻAS 4.GRUPA | C52: vecākais inspektors | D52: 1637 | E52: =ROUND(D52/$E$4,3) -> 9.842 | F52: 16 | G52: 78.74 | H52: =ROUND(G52*0.2359,2) -> 18.57 | I52: =G52+H52 -> 97.31
A53: =A52+1 -> 47 | B53: VP LATGALES RP DIENVIDLATGALES IECIRKŅA PREVENCIJAS GRUPA | C53: vecākais inspektors | D53: 1381 | E53: =ROUND(D53/$E$4,3) -> 8.303 | F53: 32 | G53: 132.85 | H53: =ROUND(G53*0.2359,2) -> 31.34 | I53: =G53+H53 -> 164.19
A54: =A53+1 -> 48 | B54: VP LATGALES RP KĀRTPB RESURSU UN KRĪZES VADĪBAS NODAĻA | C54: nodaļas priekšnieka vietnieks | D54: 1386 | E54: =ROUND(D54/$E$4,3) -> 8.333 | F54: 16 | G54: 66.66 | H54: =ROUND(G54*0.2359,2)-0.01 -> 15.72 | I54: =G54+H54 -> 82.38
A55: =A54+1 -> 49 | B55: VP LATGALES RP KĀRTPB PREVENCIJAS GRUPA | C55: galvenais inspektors | D55: 1614 | E55: =ROUND(D55/$E$4,3) -> 9.704 | F55: 32 | G55: 155.26 | H55: =ROUND(G55*0.2359,2) -> 36.63 | I55: =G55+H55 -> 191.89
A56: =A55+1 -> 50 | B56: VP LATGALES RP DIENVIDLATGALES IECIRKŅA PREVENCIJAS GRUPA | C56: vecākais inspektors | D56: 1355 | E56: =ROUND(D56/$E$4,3) -> 8.146 | F56: 24 | G56: 97.75 | H56: =ROUND(G56*0.2359,2) -> 23.06 | I56: =G56+H56 -> 120.81
A57: =A56+1 -> 51 | B57: VP LATGALES RP DIENVIDLATGALES IECIRKŅA IZMEKLĒŠANAS NODAĻAS 1.GRUPA | C57: inspektors | D57: 1443 | E57: =ROUND(D57/$E$4,3) -> 8.676 | F57: 25 | G57: 108.45 | H57: =ROUND(G57*0.2359,2) -> 25.58 | I57: =G57+H57 -> 134.03
A58: =A57+1 -> 52 | B58: VP LATGALES RP DIENVIDLATGALES IECIRKŅA REAĢĒŠANAS NODAĻAS 10.GRUPA | C58: vecākais inspektors | D58: 1335 | E58: =ROUND(D58/$E$4,3) -> 8.026 | F58: 32 | G58: 128.42 | H58: =ROUND(G58*0.2359,2) -> 30.29 | I58: =G58+H58 -> 158.71
A59: =A58+1 -> 53 | B59: VP LATGALES RP DIENVIDLATGALES IECIRKŅA IZMEKLĒŠANAS NODAĻAS 9.GRUPA | C59: vecākais inspektors | D59: 1381 | E59: =ROUND(D59/$E$4,3) -> 8.303 | F59: 32 | G59: 132.85 | H59: =ROUND(G59*0.2359,2) -> 31.34 | I59: =G59+H59 -> 164.19
...

Sheet 2.tabula
J1: 2.tabula
A2: Valsts policija
A3: Piemaksa par darbu īpašos apstākļos amatpersonām ar speciālajām dienesta pakāpēm, kuras laika periodā no 2023.gada 1.oktobra līdz 31.oktobrim tika iesaistītas atbalsta sniegšanā Valsts robežsardzei Latvijas Republikas-Baltkrievijas Republikas valsts robežas robežuzraudzības nodrošināšanā
F4: 166.33
A5: Nr. p.k. | B5: Struktūrvienība | C5: Amats | D5: Mēnešalga amatpersonām ar speciālajām pakāpēm | E5: Piemaksas apmērs % | F5: Stundas likme | G5: Stundu skaits | H5: Piemaksa par darbu īpašos apstākļos | I5: DD VSAOI | J5: Atlīdzība
A7: kopā | G7: =SUM(G8:G596) -> 22728 | H7: =SUM(H8:H596) -> 40759.26 | I7: =SUM(I8:I596) -> 9613.38 | J7: =SUM(J8:J596) -> 50372.64
A8: 1 | B8: VP LATGALES RP ZIEMEĻLATGALES IECIRKNIS | C8: iecirkņa priekšnieka vietnieks, Reaģēšanas nodaļas priekšnieks | D8: 2040 | E8: 20% | F8: =ROUND(D8/$F$4,3) -> 12.265 | G8: 33 | H8: 80.95 | I8: =ROUND(H8*23.59%,2) -> 19.1 | J8: =H8+I8 -> 100.05
A9: 2 | B9: VP LATGALES RP ZIEMEĻLATGALES IECIRKŅA IZMEKLĒŠANAS NODAĻAS 2.GRUPA | C9: inspektors | D9: 1437 | E9: 20% | F9: =ROUND(D9/$F$4,3) -> 8.639 | G9: 24 | H9: 41.47 | I9: =ROUND(H9*23.59%,2) -> 9.78 | J9: =H9+I9 -> 51.25
A10: 3 | B10: VP LATGALES RP DIENVIDLATGALES IECIRKŅA REAĢĒŠANAS NODAĻAS 3.GRUPA | C10: vecākais inspektors | D10: 1463 | E10: 20% | F10: =ROUND(D10/$F$4,3) -> 8.796 | G10: 39.5 | H10: 69.49 | I10: =ROUND(H10*23.59%,2) -> 16.39 | J10: =H10+I10 -> 85.88
A11: 4 | B11: VP LATGALES RP ZIEMEĻLATGALES IECIRKŅA IZMEKLĒŠANAS NODAĻAS 5.GRUPA | C11: galvenais inspektors | D11: 1794 | E11: 20% | F11: =ROUND(D11/$F$4,3) -> 10.786 | G11: 48 | H11: 103.55 | I11: =ROUND(H11*23.59%,2) -> 24.43 | J11: =H11+I11 -> 127.98
A12: 5 | B12: VP LATGALES RP DIENVIDLATGALES IECIRKŅA REAĢĒŠANAS NODAĻAS 7.GRUPA | C12: inspektors | D12: 1317 | E12: 10% | F12: =ROUND(D12/$F$4,3) -> 7.918 | G12: 65 | H12: 51.47 | I12: =ROUND(H12*23.59%,2) -> 12.14 | J12: =H12+I12 -> 63.61
A13: 6 | B13: VP LATGALES RP DIENVIDLATGALES IECIRKŅA REAĢĒŠANAS NODAĻAS 7.GRUPA | C13: inspektors | D13: 1317 | E13: 20% | F13: =ROUND(D13/$F$4,3) -> 7.918 | G13: 12 | H13: 19 | I13: =ROUND(H13*23.59%,2) -> 4.48 | J13: =H13+I13 -> 23.48
A14: 7 | B14: VP LATGALES RP DIENVIDLATGALES IECIRKŅA REAĢĒŠANAS NODAĻAS 7.GRUPA | C14: jaunākais inspektors | D14: 1140 | E14: 10% | F14: =ROUND(D14/$F$4,3) -> 6.854 | G14: 39 | H14: 26.73 | I14: =ROUND(H14*23.59%,2) -> 6.31 | J14: =H14+I14 -> 33.04
A15: 8 | B15: VP LATGALES RP DIENVIDLATGALES IECIRKŅA IZMEKLĒŠANAS NODAĻAS 5.GRUPA | C15: inspektors | D15: 1437 | E15: 20% | F15: =ROUND(D15/$F$4,3) -> 8.639 | G15: 11 | H15: 19.01 | I15: =ROUND(H15*23.59%,2) -> 4.48 | J15: =H15+I15 -> 23.49
A16: 9 | B16: VP LATGALES RP DIENVIDLATGALES IECIRKŅA REAĢĒŠANAS NODAĻAS 1.GRUPA | C16: inspektors | D16: 1317 | E16: 20% | F16: =ROUND(D16/$F$4,3) -> 7.918 | G16: 38 | H16: 60.18 | I16: =ROUND(H16*23.59%,2) -> 14.2 | J16: =H16+I16 -> 74.38
A17: 10 | B17: VP LATGALES RP DIENVIDLATGALES IECIRKŅA REAĢĒŠANAS NODAĻAS 6.GRUPA | C17: jaunākais inspektors | D17: 1120 | E17: 10% | F17: =ROUND(D17/$F$4,3) -> 6.734 | G17: 39 | H17: 26.26 | I17: =ROUND(H17*23.59%,2) -> 6.19 | J17: =H17+I17 -> 32.45
A18: 11 | B18: VP LATGALES RP ZIEMEĻLATGALES IECIRKŅA PREVENCIJAS GRUPA | C18: vecākais inspektors | D18: 1381 | E18: 20% | F18: =ROUND(D18/$F$4,3) -> 8.303 | G18: 70 | H18: 116.24 | I18: =ROUND(H18*23.59%,2) -> 27.42 | J18: =H18+I18 -> 143.66
A19: 12 | B19: VP LATGALES RP DIENVIDLATGALES IECIRKŅA REAĢĒŠANAS NODAĻAS 4.GRUPA | C19: vecākais inspektors | D19: 1381 | E19: 20% | F19: =ROUND(D19/$F$4,3) -> 8.303 | G19: 37 | H19: 61.44 | I19: =ROUND(H19*23.59%,2) -> 14.49 | J19: =H19+I19 -> 75.93
... A23: 16 | B23: VP LATGALES RP DIENVIDLATGALES IECIRKŅA IZMEKLĒŠANAS NODAĻAS 7.GRUPA | C23: vecākais inspektors | D23: 1355 | E23: 20% | F23: =ROUND(D23/$F$4,3) -> 8.146 | G23: 45 | H23: 73.31 | I23: =ROUND(H23*23.59%,2) -> 17.29 | J23: =H23+I23 -> 90.6
A24: 17 | B24: VP LATGALES RP ZIEMEĻLATGALES IECIRKŅA IZMEKLĒŠANAS NODAĻAS 3.GRUPA | C24: vecākais inspektors | D24: 1610 | E24: 20% | F24: =ROUND(D24/$F$4,3) -> 9.68 | G24: 51 | H24: 98.74 | I24: =ROUND(H24*23.59%,2)+0.01 -> 23.3 | J24: =H24+I24 -> 122.04
A25: 18 | B25: VP LATGALES RP ZIEMEĻLATGALES IECIRKŅA REAĢĒŠANAS NODAĻAS 10.GRUPA | C25: galvenais inspektors | D25: 1542 | E25: 20% | F25: =ROUND(D25/$F$4,3) -> 9.271 | G25: 12 | H25: 22.25 | I25: =ROUND(H25*23.59%,2) -> 5.25 | J25: =H25+I25 -> 27.5
A26: 19 | B26: VP LATGALES RP DIENVIDLATGALES IECIRKŅA REAĢĒŠANAS NODAĻAS 10.GRUPA | C26: vecākais inspektors | D26: 1355 | E26: 20% | F26: =ROUND(D26/$F$4,3) -> 8.146 | G26: 12 | H26: 19.55 | I26: =ROUND(H26*23.59%,2) -> 4.61 | J26: =H26+I26 -> 24.16
A27: 20 | B27: VP LATGALES RP DIENVIDLATGALES IECIRKŅA REAĢĒŠANAS NODAĻAS 6.GRUPA | C27: jaunākais inspektors | D27: 1140 | E27: 10% | F27: =ROUND(D27/$F$4,3) -> 6.854 | G27: 52 | H27: 35.64 | I27: =ROUND(H27*23.59%,2) -> 8.41 | J27: =H27+I27 -> 44.05
A28: 21 | B28: VP LATGALES RP DIENVIDLATGALES IECIRKŅA REAĢĒŠANAS NODAĻAS 6.GRUPA | C28: jaunākais inspektors | D28: 1140 | E28: 20% | F28: =ROUND(D28/$F$4,3) -> 6.854 | G28: 53 | H28: 72.65 | I28: =ROUND(H28*23.59%,2) -> 17.14 | J28: =H28+I28 -> 89.79
A29: 22 | B29: VP LATGALES RP ZIEMEĻLATGALES IECIRKŅA IZMEKLĒŠANAS NODAĻAS 2.GRUPA | C29: galvenais inspektors | D29: 2040 | E29: 20% | F29: =ROUND(D29/$F$4,3) -> 12.265 | G29: 48 | H29: 117.74 | I29: =ROUND(H29*23.59%,2) -> 27.77 | J29: =H29+I29 -> 145.51
A30: 23 | B30: VP LATGALES RP DIENVIDLATGALES IECIRKŅA IZMEKLĒŠANAS NODAĻAS 2.GRUPA | C30: galvenais inspektors | D30: 1525 | E30: 20% | F30: =ROUND(D30/$F$4,3) -> 9.169 | G30: 24 | H30: 44.01 | I30: =ROUND(H30*23.59%,2) -> 10.38 | J30: =H30+I30 -> 54.39
A31: 24 | B31: VP LATGALES RP ZIEMEĻLATGALES IECIRKŅA REAĢĒŠANAS NODAĻAS 10.GRUPA | C31: inspektors | D31: 1337 | E31: 20% | F31: =ROUND(D31/$F$4,3) -> 8.038 | G31: 80.5 | H31: 129.41 | I31: =ROUND(H31*23.59%,2) -> 30.53 | J31: =H31+I31 -> 159.94
A32: 25 | B32: VP LATGALES RP ZIEMEĻLATGALES IECIRKŅA REAĢĒŠANAS NODAĻAS 10.GRUPA | C32: inspektors | D32: 1337 | E32: 50% | F32: =ROUND(D32/$F$4,3) -> 8.038 | G32: 0.5 | H32: 2.01 | I32: =ROUND(H32*23.59%,2) -> 0.47 | J32: =H32+I32 -> 2.48
A33: 26 | B33: VP GKĀRTPP RKVP SPECIĀLO UZDEVUMU BATALJONA 3.ROTA | C33: jaunākais inspektors | D33: 1303 | E33: 50% | F33: =ROUND(D33/$F$4,3) -> 7.834 | G33: 54 | H33: 211.52 | I33: =ROUND(H33*23.59%,2) -> 49.9 | J33: =H33+I33 -> 261.42
A34: 27 | B34: VP GKĀRTPP RKVP SPECIĀLO UZDEVUMU BATALJONA 3.ROTA | C34: jaunākais inspektors | D34: 1303 | E34: 20% | F34: =ROUND(D34/$F$4,3) -> 7.834 | G34: 77 | H34: 120.64 | I34: =ROUND(H34*23.59%,2) -> 28.46 | J34: =H34+I34 -> 149.1
A35: 28 | B35: VP LATGALES RP DIENVIDLATGALES IECIRKŅA REAĢĒŠANAS NODAĻAS 2.GRUPA | C35: vecākais inspektors | D35: 1381 | E35: 20% | F35: =ROUND(D35/$F$4,3) -> 8.303 | G35: 75 | H35: 124.55 | I35: =ROUND(H35*23.59%,2) -> 29.38 | J35: =H35+I35 -> 153.93
A36: 29 | B36: VP LATGALES RP DIENVIDLATGALES IECIRKŅA IZMEKLĒŠANAS NODAĻAS 1.GRUPA | C36: galvenais inspektors | D36: 1872 | E36: 10% | F36: =ROUND(D36/$F$4,3) -> 11.255 | G36: 26 | H36: 29.26 | I36: =ROUND(H36*23.59%,2) -> 6.9 | J36: =H36+I36 -> 36.16
... A40: 33 | B40: VP LATGALES RP ZIEMEĻLATGALES IECIRKŅA IZMEKLĒŠANAS NODAĻAS 4.GRUPA | C40: inspektors | D40: 1583 | E40: 20% | F40: =ROUND(D40/$F$4,3) -> 9.517 | G40: 46 | H40: 87.56 | I40: =ROUND(H40*23.59%,2) -> 20.66 | J40: =H40+I40 -> 108.22
A41: 34 | B41: VP LATGALES RP ZIEMEĻLATGALES IECIRKŅA REAĢĒŠANAS NODAĻAS 3.GRUPA | C41: inspektors | D41: 1401 | E41: 20% | F41: =ROUND(D41/$F$4,3) -> 8.423 | G41: 48.5 | H41: 81.7 | I41: =ROUND(H41*23.59%,2)+0.01 -> 19.28 | J41: =H41+I41 -> 100.98
A42: 35 | B42: VP LATGALES RP DIENVIDLATGALES IECIRKŅA IZMEKLĒŠANAS NODAĻAS 8.GRUPA | C42: inspektors | D42: 1362 | E42: 10% | F42: =ROUND(D42/$F$4,3) -> 8.189 | G42: 24 | H42: 19.65 | I42: =ROUND(H42*23.59%,2) -> 4.64 | J42: =H42+I42 -> 24.29
A43: 36 | B43: VP LATGALES RP KĀRTPB ATĻAUJU SISTĒMAS GRUPA | C43: vecākais inspektors | D43: 1240 | E43: 20% | F43: =ROUND(D43/$F$4,3) -> 7.455 | G43: 40 | H43: 59.64 | I43: =ROUND(H43*23.59%,2) -> 14.07 | J43: =H43+I43 -> 73.71
A44: 37 | B44: VP LATGALES RP DIENVIDLATGALES IECIRKŅA REAĢĒŠANAS NODAĻAS 1.GRUPA | C44: inspektors | D44: 1337 | E44: 20% | F44: =ROUND(D44/$F$4,3) -> 8.038 | G44: 50 | H44: 80.38 | I44: =ROUND(H44*23.59%,2) -> 18.96 | J44: =H44+I44 -> 99.34
A45: 38 | B45: VP LATGALES RP ZIEMEĻLATGALES IECIRKŅA IZMEKLĒŠANAS NODAĻAS 3.GRUPA | C45: inspektors | D45: 1443 | E45: 20% | F45: =ROUND(D45/$F$4,3) -> 8.676 | G45: 24 | H45: 41.64 | I45: =ROUND(H45*23.59%,2) -> 9.82 | J45: =H45+I45 -> 51.46
A46: 39 | B46: VP LATGALES REĢIONA PĀRVALDES DISCIPLINĀRĀS UZRAUDZĪBAS GRUPA | C46: galvenais inspektors | D46: 1565 | E46: 20% | F46: =ROUND(D46/$F$4,3) -> 9.409 | G46: 25 | H46: 47.05 | I46: =ROUND(H46*23.59%,2) -> 11.1 | J46: =H46+I46 -> 58.15
A47: 40 | B47: VP LATGALES RP KĀRTPB RESURSU UN KRĪZES VADĪBAS NODAĻA | C47: nodaļas priekšnieks | D47: 1474 | E47: 20% | F47: =ROUND(D47/$F$4,3) -> 8.862 | G47: 25 | H47: 44.31 | I47: =ROUND(H47*23.59%,2) -> 10.45 | J47: =H47+I47 -> 54.76
...

Sheet 3.tabula
F1: 3.tabula
A2: Valsts policija
A3: Degvielas izmaksu aprēķins degvielas izdevumiem sniedzot atbalstu Valsts robežsardzei Latvijas Republikas-Baltkrievijas Republikas valsts robežas nelikumīgas šķērsošanas nodrošināšanā par laika periodu no 2023.gada 1. oktobra līdz 31. oktobrim
A5: Nr.p.k. | B5: Transportlīdzekļa marka | C5: Iesaistīto transportlīdzekļu skaits | D5: Faktiskais nobraukums pasākumā (km) | E5: Pasākuma laikā patērētā degviela (l) | F5: Summa euro
A6: Kopā: | C6: =ROUNDUP(SUM(C8:C52),2) -> 162 | D6: =ROUNDUP(SUM(D8:D52),2) -> 199491 | E6: =ROUNDUP(SUM(E8:E52),2) -> 16321.98 | F6: =ROUNDUP(SUM(F8:F52),2) -> 25603.68
A7: Vidzemes reģiona pārvalde
A8: 1 | B8: VW Transporter | C8: 26 | D8: 15843 | E8: 1491.52 | F8: 2348.08
A9: 2 | B9: Peugeot Boxer | C9: 2 | D9: 1607 | E9: 164.05 | F9: 259.7
A10: 3 | B10: VW Crafter | C10: 1 | D10: 1035 | E10: 104.33 | F10: 162.44
A11: 4 | B11: VW Tiguan | C11: 1 | D11: 1466 | E11: 86.94 | F11: 134.48
A15: Latgales reģiona pārvalde
A16: 5 | B16: Citroen Jumper | C16: 1 | D16: 719 | E16: 75.5 | F16: 117.78
A17: =A16+1 -> 6 | B17: Fiat 500xCross | C17: 1 | D17: 618 | E17: 42.02 | F17: 67.66
A18: =A17+1 -> 7 | B18: Ford Transit Custom | C18: 2 | D18: 1055 | E18: 88.43 | F18: 139.11
A19: =A18+1 -> 8 | B19: Hyundai Santa Fe | C19: 1 | D19: 256 | E19: 27.9 | F19: 43.53
A20: =A19+1 -> 9 | B20: KIA Cee'D | C20: 10 | D20: 4024 | E20: 278.26 | F20: 436.36
A21: =A20+1 -> 10 | B21: Opel Combo | C21: 1 | D21: 570 | E21: 41.61 | F21: 64.92
A22: =A21+1 -> 11 | B22: Opel Mokka | C22: 47 | D22: 92263 | E22: =6599.42 -> 6599.42 | F22: =10354.22-0.44-1.85-3.51 -> 10348.42
A23: =A22+1 -> 12 | B23: Opel Insignia | C23: 1 | D23: 533 | E23: 64.49 | F23: 99.96
A24: =A23+1 -> 13 | B24: Opel Insignia Limousine NB | C24: 7 | D24: 1645 | E24: 108.61 | F24: 170.48
A25: =A24+1 -> 14 | B25: Opel Insignia Sports Tourer SW | C25: 1 | D25: 237 | E25: 15.41 | F25: 24.04
A26: =A25+1 -> 15 | B26: Renault Kangoo | C26: 6 | D26: 16475 | E26: 1287.04 | F26: 2008.06
A27: =A26+1 -> 16 | B27: Renault Laguna | C27: 3 | D27: 6022 | E27: 546.72 | F27: =852.89-3.51 -> 849.38
A28: =A27+1 -> 17 | B28: Renault Master | C28: 2 | D28: 293 | E28: 32.52 | F28: 50.73
A29: =A28+1 -> 18 | B29: Renault Trafic | C29: 6 | D29: 9165 | E29: 798.66 | F29: 1263.19
A30: =A29+1 -> 19 | B30: Škoda Octavia | C30: 3 | D30: 1010 | E30: 66.39 | F30: 105.29
A31: =A30+1 -> 20 | B31: Škoda Superb | C31: 2 | D31: 504 | E31: 55.07 | F31: 85.36
A32: =A31+1 -> 21 | B32: Toyota Camry | C32: 1 | D32: 281 | E32: 16.02 | F32: 24.83
A33: =A32+1 -> 22 | B33: Toyota RAV4 | C33: 3 | D33: 2465 | E33: 169.29 | F33: 262.42
A34: =A33+1 -> 23 | B34: Volvo S60 | C34: 1 | D34: 201 | E34: 21.51 | F34: 33.34
A35: =A34+1 -> 24 | B35: VW Transporter | C35: 16 | D35: 13823 | E35: 1391.91 | F35: 2180.37
A36: =A35+1 -> 25 | B36: VW Transporter 4x4 | C36: 1 | D36: 3110 | E36: 283.01 | F36: 441.5
A37: Zemgales reģiona pārvalde
A38: 26 | B38: VW Transporter | C38: 2 | D38: 9946 | E38: 908.72 | F38: 1430.29
A39: 27 | B39: Renault Trafic | C39: 1 | D39: 2152 | E39: 295.22 | F39: 457.62
A40: 28 | B40: Peugeot Boxer | C40: 1 | D40: 184 | E40: 51 | F40: 78.46
A41: 29 | B41: VW Crafter | C41: 1 | D41: 1950 | E41: 214 | F41: 331.65
A42: 30 | B42: Toyota RAV4 | C42: 1 | D42: 2071 | E42: 174.74 | F42: 269.03
A43: Kurzemes reģiona pārvalde
A44: 31 | B44: Peugeot Boxer | C44: 2 | D44: 1540 | E44: 154.25 | F44: 241.19
...

Sheet 4.tabula
G1: 4.tabula
A2: Valsts policija
A3: Detalizēts aprēķins dienas naudas samaksai amatpersonām ar speciālajām dienesta pakāpēm, sniedzot atbalstu Valsts robežsardzei Latvijas Republikas-Baltkrievijas Republikas valsts robežas robežuzraudzības nodrošināšanā par laika periodu no 2023.gada 3. septembra līdz 17. oktobrim
A5: Nr. p.k. | B5: Struktūrvienība | C5: Amats | D5: Laika periods | E5: Dienu skaits | F5: Likme | G5: Dienas nauda (kopsumma)
A6: kopā: | G6: =SUM(G7:G84) -> 2527.2
A7: 1 | B7: VP GKĀRTPP RKVP SPECIĀLO UZDEVUMU BATALJONA 1.ROTA | C7: jaunākais inspektors | D7: 03.09.2023.-26.09.2023/ | E7: 2 | F7: 8 | G7: =ROUND(E7*F7,2) -> 16
E8: 22 | F8: 2.4 | G8: =ROUND(E8*F8,2) -> 52.8
A9: 2 | B9: VP GKĀRTPP RKVP SPECIĀLO UZDEVUMU BATALJONA 1.ROTA | C9: jaunākais inspektors | D9: 03.09.2023.-26.09.2023/ | E9: 2 | F9: 8 | G9: =ROUND(E9*F9,2) -> 16
E10: 22 | F10: 2.4 | G10: =ROUND(E10*F10,2) -> 52.8
A11: 3 | B11: VP GKĀRTPP RKVP SPECIĀLO UZDEVUMU BATALJONA 1.ROTA | C11: jaunākais inspektors | D11: 03.09.2023.-26.09.2023/ | E11: 2 | F11: 8 | G11: =ROUND(E11*F11,2) -> 16
E12: 22 | F12: 2.4 | G12: =ROUND(E12*F12,2) -> 52.8
A13: 4 | B13: VP GKĀRTPP RKVP SPECIĀLO UZDEVUMU BATALJONA 1.ROTA | C13: jaunākais inspektors | D13: 03.09.2023.-26.09.2023/ | E13: 2 | F13: 8 | G13: =ROUND(E13*F13,2) -> 16
E14: 22 | F14: 2.4 | G14: =ROUND(E14*F14,2) -> 52.8
A15: 5 | B15: VP GKĀRTPP RKVP SPECIĀLO UZDEVUMU BATALJONA 1.ROTA | C15: jaunākais inspektors | D15: 03.09.2023.-26.09.2023/ | E15: 2 | F15: 8 | G15: =ROUND(E15*F15,2) -> 16
E16: 22 | F16: 2.4 | G16: =ROUND(E16*F16,2) -> 52.8
A17: 6 | B17: VP GKĀRTPP RKVP SPECIĀLO UZDEVUMU BATALJONA 1.ROTA | C17: jaunākais inspektors | D17: 03.09.2023.-26.09.2023/ | E17: 2 | F17: 8 | G17: =ROUND(E17*F17,2) -> 16
E18: 22 | F18: 2.4 | G18: =ROUND(E18*F18,2) -> 52.8
A19: 7 | B19: VP GKĀRTPP RKVP SPECIĀLO UZDEVUMU BATALJONA 1.ROTA | C19: jaunākais inspektors | D19: 03.09.2023.-26.09.2023/ | E19: 2 | F19: 8 | G19: =ROUND(E19*F19,2) -> 16
E20: 22 | F20: 2.4 | G20: =ROUND(E20*F20,2) -> 52.8
A21: 8 | B21: VP GKĀRTPP RKVP SPECIĀLO UZDEVUMU BATALJONA 1.ROTA | C21: vada komandiera vietnieks | D21: 03.09.2023.-26.09.2023/ | E21: 2 | F21: 8 | G21: =ROUND(E21*F21,2) -> 16
E22: 22 | F22: 2.4 | G22: =ROUND(E22*F22,2) -> 52.8
A23: 9 | B23: VP GKĀRTPP RKVP SPECIĀLO UZDEVUMU BATALJONA 1.ROTA | C23: vada komandiera vietnieks | D23: 03.09.2023.-26.09.2023/ | E23: 2 | F23: 8 | G23: =ROUND(E23*F23,2) -> 16
E24: 22 | F24: 2.4 | G24: =ROUND(E24*F24,2) -> 52.8
A25: 10 | B25: VP GKĀRTPP RKVP SPECIĀLO UZDEVUMU BATALJONA 1.ROTA | C25: jaunākais inspektors | D25: 03.09.2023.-26.09.2023/ | E25: 2 | F25: 8 | G25: =ROUND(E25*F25,2) -> 16
E26: 22 | F26: 2.4 | G26: =ROUND(E26*F26,2) -> 52.8
A27: 11 | B27: VP GKĀRTPP RKVP SPECIĀLO UZDEVUMU BATALJONA 1.ROTA | C27: vada komandieris | D27: 03.09.2023.-26.09.2023/ | E27: 2 | F27: 8 | G27: =ROUND(E27*F27,2) -> 16
E28: 22 | F28: 2.4 | G28: =ROUND(E28*F28,2) -> 52.8
A29: 12 | B29: VP GKĀRTPP RKVP SPECIĀLO UZDEVUMU BATALJONA 1.ROTA | C29: jaunākais inspektors | D29: 03.09.2023.-26.09.2023/ | E29: 2 | F29: 8 | G29: =ROUND(E29*F29,2) -> 16
E30: 22 | F30: 2.4 | G30: =ROUND(E30*F30,2) -> 52.8
A31: 13 | B31: VP GKĀRTPP RKVP SPECIĀLO UZDEVUMU BATALJONA 1.ROTA | C31: jaunākais inspektors | D31: 03.09.2023.-26.09.2023/ | E31: 2 | F31: 8 | G31: =ROUND(E31*F31,2) -> 16
E32: 22 | F32: 2.4 | G32: =ROUND(E32*F32,2) -> 52.8
A33: 14 | B33: VP GKĀRTPP RKVP SUB DIENESTA ORGANIZĀCIJAS, KOORDINĀCIJAS UN KONTROLES GRUPA | C33: galvenais inspektors | D33: 26.09.2023.-17.10.2023/ | E33: 2 | F33: 8 | G33: =ROUND(E33*F33,2) -> 16
E34: 20 | F34: 2.4 | G34: =ROUND(E34*F34,2) -> 48
A35: 15 | B35: VP GKĀRTPP RKVP SPECIĀLO UZDEVUMU BATALJONA 7.ROTA (KURZEMES REĢIONA) | C35: rotas komandieris | D35: 26.09.2023.-17.10.2023/ | E35: 2 | F35: 8 | G35: =ROUND(E35*F35,2) -> 16
E36: 20 | F36: 2.4 | G36: =ROUND(E36*F36,2) -> 48
A37: 16 | B37: VP GKĀRTPP RKVP SPECIĀLO UZDEVUMU BATALJONA 7.ROTA (KURZEMES REĢIONA) | C37: jaunākais inspektors | D37: 26.09.2023.-17.10.2023/ | E37: 2 | F37: 8 | G37: =ROUND(E37*F37,2) -> 16
E38: 20 | F38: 2.4 | G38: =ROUND(E38*F38,2) -> 48
A39: 17 | B39: VP GKĀRTPP RKVP SPECIĀLO UZDEVUMU BATALJONA 7.ROTA (KURZEMES REĢIONA) | C39: jaunākais inspektors | D39: 26.09.2023.-17.10.2023/ | E39: 2 | F39: 8 | G39: =ROUND(E39*F39,2) -> 16
E40: 20 | F40: 2.4 | G40: =ROUND(E40*F40,2) -> 48
A41: 18 | B41: VP GKĀRTPP RKVP SPECIĀLO UZDEVUMU BATALJONA 7.ROTA (KURZEMES REĢIONA) | C41: jaunākais inspektors | D41: 26.09.2023.-17.10.2023/ | E41: 2 | F41: 8 | G41: =ROUND(E41*F41,2) -> 16
...
