Workbook

Sheet VP okt
D1: 2.pielikums
D2: Ministru kabineta rīkojuma projekta
D3: “Par apropriācijas pārdali"
D4: sākotnējās ietekmes novērtējuma ziņojumam (anotācijai)
A6: Valsts policijas izdevumi
A7: Kopasavilkums
A9: Kods | B9: Koda nosaukums | C9: Detalizēts izdevumu aprēķins | D9: Izdevumi, euro
A10: Izdevumi kopā ar vidējās izpeļņas pieauguma kompensēšanu | D10: =D11+D14 -> 149125
A11: 1000 | B11: Atlīdzība | C11: × | D11: =D17+D43 -> 97998
A12: 1100 | B12: Atalgojums | C12: × | D12: =D44+D20 -> 79295.6
A13: 1210 | B13: Darba devēja valsts sociālās apdrošināšanas obligātās iemaksas | C13: × | D13: =D46+D28 -> 18702.2
A14: 2000 | B14: Preces un pakalpojumi | C14: × | D14: =D47+D29 -> 51127
A16: 1) Izdevumi saistībā ar rīkojuma Nr. 514 izpildei nepieciešamo pasākumu īstenošanu | D16: =D17+D29 -> 141309
A17: 1000 | B17: Atlīdzība | C17: × | D17: =ROUNDUP(D19+D18,0) -> 90462
C18: Korekcija*
C19: × | D19: =D20+D28 -> 90461.43
A20: 1100 | B20: Atalgojums | C20: × | D20: =SUM(D21:D27) -> 73197.6
A21: 1116 | B21: Mēnešalga amatpersonām ar speciālajām dienesta pakāpēm
A22: 1141
A23: 1141 | B23: Piemaksa par nakts darbu | C23: Detalizēts aprēķins par laika periodu no 2023.gada 1. oktobra līdz 31. oktobrim 1.tabulā. Iesaistītas 384 personas, kopējais iesaistes laiks 7 915 stundas. | D23: ='1.tabula'!G6 -> 32438.34
A24: 1142 | B24: Samaksa par virsstundu darbu
C25: Detalizēts aprēķins par laika periodu no 1. oktobra līdz 31. oktobrim 2.tabulā. Iesaistītas ___ personas, kopējais iesaistes laiks ___ stundas.
A26: 1145 | B26: Piemaksa par darbu īpašos apstākļos, speciālās piemaksas | C26: Detalizēts aprēķins par laika periodu no 1. oktobra līdz 31. oktobrim 2.tabulā. Iesaistītas 589 personas, kopējais iesaistes laiks 22 728 stundas. | D26: ='2.tabula'!H7 -> 40759.26
A27: 1146 | B27: Piemaksa par personisko darba ieguldījumu un darba kvalitāti
A28: 1210 | B28: Darba devēja valsts sociālās apdrošināšanas obligātās iemaksas | C28: 23,59% no aprēķinātā atalgojuma * izņemot 3 personas, kurām tiek piemērota nodokļu likme 21,94% (izdienas pensionārs) | D28: ='1.tabula'!H6+'2.tabula'!I7 -> 17263.83
A29: 2000 | B29: Preces un pakalpojumi | C29: × | D29: =ROUNDUP((D30+D31),0) -> 50847
C30: Korekcija*
C31: × | D31: =SUM(D32:D40) -> 50846.26
A32: 2111 | B32: Dienas nauda | C32: Detalizēts aprēķins 4.tabulā. Dienas nauda par periodu no 2023.gada 3. septembra līdz 17. oktorim izmaksāta 39 personām. Valsts policijas pavēles: no 30.08.2023. Nr.4507; no 21.09.2023. Nr.4936; no 27.09.2023. Nr.5041; no 21.09.2023. Nr.4935; no 23.10.2023. Nr.5539 "Par komandējumiem uz Daugavpili un Dagdu (Latvijā)" dienas nauda: 100% (8,00 euro) pirmā un pēdējā diena, 30% (2,40 euro) pārējās dienas *Valsts policija iekšzemes komandējumiem nemaksā dienas naudu avansā, bet gan izmaksā tad, kad no komandējuma amatpersonas ir atgriezušās. Komandējuma laika ietvars saskaņā ar Valsts policijas pavēli par komandējumu, ir tāds, ka uz mēnesi tiek sūtīta komandējumā viena amatpersonu grupa, pēc tam – uz mēnesi tika nosūtīta cita amatpersonu grupa. | D32: ='4.tabula'!G6 -> 2527.2
A33: 2112 | B33: Pārējie komandējumu un darba braucienu izdevumi | C33: Dienesta viesnīcas pakalpojumi Naktsmītnes izdevumi Daugavpilī: 1 nakts x 12 gultasvietas x 15,00 euro = 180,00 euro; 2 nakts x 8 gultasvietas × 15,00 euro = 240,00 euro; 27 nakts x 13 gultasvietas × 15,00 euro = 5 265,00 euro; Naktsmītnes izdevumi Dagdā: 1 nakts x 13 gultasvietas x 7,00 euro = 91,00 euro; 4 nakts x 12 gultasvietas x 7,00 euro = 336,00 euro; Veļas mašīnas izmantošana = 7 reizes x 1,00 euro = 7,00 euro Aprēķins veikts par dienesta viesnīcas pakalpojumiem (naktsmītni), kas tika nodrošināti no 2023.gada 1. septembra līdz 30. septembrim, izdevumi pakalpojuma sniedzējam tika apmaksāti 2023.gada oktobrī. | D33: =(1*12*15)+(2*8*15)+(27*13*15)+(1*13*7)+(4*12*7)+(7*1) -> 6119
A34: 2271 | B34: Izdevumi, kas saistīti ar operatīvo darbību | C34: Izdevumi, kas saistīti ar operatīvo darbību 2023.gada oktobrī | D34: 5378
A35: 2312 | B35: Inventārs | C35: LED lukturi 30 gab. x 12,10 euro = 363,00 euro | D35: =12.1*30 -> 363
A36: 2322 | B36: Degviela | C36: Detalizēts aprēķins par laika periodu no 2023.gada 1. oktobra līdz 31. oktobrim 3.tabulā. Pasākuma nodrošināšanai tika iesaistīti 162 transportlīdzekļi; Vidēji viena transportlīdzekļa nobraukums 1231,43 km; Vidējā degvielas cena 1,5687 euro/l; Vidējais degvielas patēriņš 8,1816 l/km uz 100 km. 162 t-ldz. x 1231,43 km x 1,5687 euro/l x 8,1816 l/km ÷ 100 km = 25 603,68 euro | D36: ='3.tabula'!F6 -> 25603.68
A37: 2350 | B37: Kārtējā remonta un iestāžu uzturēšanas materiāli | C37: Veļas mazgāšanas līdzeklis 5L / 6 gab. x 10,29 euro = 61,74 euro; Tualetes papīrs 104 ruļļi x 0,3843 euro = 39,97 euro; Papīra dvieļi 50 gab. x 1,6336 euro = 81,68 euro | D37: =ROUND((6*10.29)+(104*0.3843)+(50*1.6336),2) -> 183.39
A38: 2363 | B38: Ēdināšanas izdevumi | C38: Aprēķins veikts par ēdināšanas pakalpojumiem, kas tika nodrošināti no 2023.gada 1.septembra līdz 30.septembrim, izdevumi pakalpojuma sniedzējam tika apmaksāti 2023.gada oktobrī. Ēdināšanas pakalpojumi Daugavpilī un Dagdā: brokastis 257 porcijas × 6,00 euro = 1 542,00 euro; pusdienas 268 porcijas × 8,00 euro = 2 144,00 euro; vakariņas 269 porcijas × 8,00 euro = 2 152,00 euro; launags (sausā uztura paka) 183 pakas × 22,00 euro = 4 026 euro. Saskaņā ar līgumu par izmitināšanu un ēdināšanu Daugavpilī ir noteikts, ka ēdināšana 3 reizes dienā nedrīkst pārsniegt 22 euro: Ēdināšanas izmaksas sastāda: Brokastis 6 euro /1 pers Pusdienas un vakariņas 8 euro /1 pers Par 14 euro tiek ēdinātas amatpersonas, kuras atrodas viesnīcā, jo amatpersonas strādā maiņās. Savukārt tām amatpersonām, kuras ir maiņā uz robežas un tām nav iespējams atgriezties uz pusdienām un vakariņām, tad, lai nodrošinātu ēdināšanu amatpersonām dod līdzi pārtikas paku un kopā tas sastāda 22 euro (brokastis ir 6 euro - tās paēd izmitināšanas vietā). Pārtikas pakas tiek dotas arī Latgales reģiona pārvaldes amatpersonām, kuras arī tiek norīkotas uz robežu, augstākminēto iemeslu dēļ, komandējama izdevumi un dienas nauda viņām nav. Papildus jāatzīmē, ka dienas nauda dienās, kad nodrošināta 3 reižu ēdināšana sastāda 30% no Ministru kabineta noteikumos par komandējumu paredzētā limita. | D38: =(257*6)+(268*8)+(269*8)+(183*22) -> 9864
A39: 2389 | B39: Pārējie specifiskas lietošanas materiāli un inventārs
A40: 2390 | B40: Pārējās preces | C40: Negazēts dzeramais ūdens 5 L / 408 gab. x 0,6869 euro = 280,26 euro Lietusmētelis 49 gab. x 10,77 euro = 527,73 euro | D40: =ROUND((408*0.6869)+(49*10.77),2) -> 807.99
A42: 2) Vidējās izpeļņas pieauguma kompensēšanai | D42: =D43+D47 -> 7816
A43: 1000 | B43: Atlīdzība | C43: × | D43: =ROUND(D44+D46,0) -> 7536
A44: 1100 | B44: Atalgojums | C44: × | D44: =ROUNDUP(D45,0) -> 6098
A45: 1116 | B45: Mēnešalga amatpersonām ar speciālajām dienesta pakāpēm | C45: 73 197,60 euro × 8,33% = 6 097,36 euro. | D45: =ROUND(D20*8.33%,2) -> 6097.36
A46: 1210 | B46: Darba devēja valsts sociālās apdrošināšanas obligātās iemaksas | C46: 23,59% no aprēķinātā atalgojuma | D46: =ROUNDUP(D45*0.2359,2) -> 1438.37
A47: 2000 | B47: Preces un pakalpojumi | D47: =ROUNDUP(SUM(D48:D48),2) -> 280
A48: 2271 | B48: Izdevumi, kas saistīti ar operatīvo darbību | C48: Informācija klasificēta | D48: 280

Sheet 1.tabula
I1: 1.tabula
A2: Valsts policija
A3: Piemaksa par nakts darbu amatpersonām ar speciālajām dienesta pakāpēm, kuras laika periodā no 2023.gada 1.oktobra līdz 31.oktobrim tika iesaistītas atbalsta sniegšanā Valsts robežsardzei Latvijas Republikas-Baltkrievijas Republikas valsts robežas robežuzraudzības nodrošināšanā
E4: 166.33
A5: Nr. p.k. | B5: Struktūrvienība | C5: Amats | D5: Mēnešalga amatpersonām ar speciālajām pakāpēm | E5: Stundas likme | F5: Stundu skaits | G5: Piemaksa par nakts darbu | H5: DD VSAOI | I5: Atlīdzība
A6: kopā | F6: =SUM(F7:F390) -> 7915 | G6: =SUM(G7:G390) -> 32438.34 | H6: =SUM(H7:H390) -> 7650.45 | I6: =SUM(I7:I390) -> 40088.79
A7: 1 | B7: VP LATGALES RP ZIEMEĻLATGALES IECIRKNIS | C7: iecirkņa priekšnieka vietnieks, Reaģēšanas nodaļas priekšnieks | D7: 2040 | E7: =ROUND(D7/$E$4,3) -> 12.265 | F7: 18 | G7: 110.39 | H7: =ROUND(G7*0.2359,2) -> 26.04 | I7: =G7+H7 -> 136.43
A8: =A7+1 -> 2 | B8: VP LATGALES RP ZIEMEĻLATGALES IECIRKŅA IZMEKLĒŠANAS NODAĻAS 2.GRUPA | C8: inspektors | D8: 1437 | E8: =ROUND(D8/$E$4,3) -> 8.639 | F8: 8 | G8: 34.56 | H8: =ROUND(G8*0.2359,2) -> 8.15 | I8: =G8+H8 -> 42.71
A9: =A8+1 -> 3 | B9: VP LATGALES RP DIENVIDLATGALES IECIRKŅA REAĢĒŠANAS NODAĻAS 3.GRUPA | C9: vecākais inspektors | D9: 1463 | E9: =ROUND(D9/$E$4,3) -> 8.796 | F9: 8 | G9: 35.18 | H9: =ROUND(G9*0.2359,2) -> 8.3 | I9: =G9+H9 -> 43.48
A10: =A9+1 -> 4 | B10: VP LATGALES RP ZIEMEĻLATGALES IECIRKŅA IZMEKLĒŠANAS NODAĻAS 5.GRUPA | C10: galvenais inspektors | D10: 1794 | E10: =ROUND(D10/$E$4,3) -> 10.786 | F10: 16 | G10: 86.29 | H10: =ROUND(G10*0.2359,2) -> 20.36 | I10: =G10+H10 -> 106.65
A11: =A10+1 -> 5 | B11: VP LATGALES RP DIENVIDLATGALES IECIRKŅA REAĢĒŠANAS NODAĻAS 7.GRUPA | C11: inspektors | D11: 1317 | E11: =ROUND(D11/$E$4,3) -> 7.918 | F11: 24 | G11: 95.02 | H11: =ROUND(G11*0.2359,2) -> 22.42 | I11: =G11+H11 -> 117.44
A12: =A11+1 -> 6 | B12: VP LATGALES RP DIENVIDLATGALES IECIRKŅA REAĢĒŠANAS NODAĻAS 7.GRUPA | C12: jaunākais inspektors | D12: 1140 | E12: =ROUND(D12/$E$4,3) -> 6.854 | F12: 16 | G12: 54.83 | H12: =ROUND(G12*0.2359,2) -> 12.93 | I12: =G12+H12 -> 67.76
A13: =A12+1 -> 7 | B13: VP LATGALES RP DIENVIDLATGALES IECIRKŅA IZMEKLĒŠANAS NODAĻAS 5.GRUPA | C13: inspektors | D13: 1437 | E13: =ROUND(D13/$E$4,3) -> 8.639 | F13: 8 | G13: 34.56 | H13: =ROUND(G13*0.2359,2) -> 8.15 | I13: =G13+H13 -> 42.71
A14: =A13+1 -> 8 | B14: VP LATGALES RP DIENVIDLATGALES IECIRKŅA REAĢĒŠANAS NODAĻAS 1.GRUPA | C14: inspektors | D14: 1317 | E14: =ROUND(D14/$E$4,3) -> 7.918 | F14: 24 | G14: 95.02 | H14: =ROUND(G14*0.2359,2) -> 22.42 | I14: =G14+H14 -> 117.44
A15: =A14+1 -> 9 | B15: VP ZEMGALES RP AUSTRUMZEMGALES IECIRKŅA REAĢĒŠANAS NODAĻAS 3.GRUPA | C15: vecākais inspektors | D15: 1490 | E15: =ROUND(D15/$E$4,3) -> 8.958 | F15: 16 | G15: 71.66 | H15: =ROUND(G15*0.2359,2) -> 16.9 | I15: =G15+H15 -> 88.56
A16: =A15+1 -> 10 | B16: VP LATGALES RP DIENVIDLATGALES IECIRKŅA REAĢĒŠANAS NODAĻAS 6.GRUPA | C16: jaunākais inspektors | D16: 1120 | E16: =ROUND(D16/$E$4,3) -> 6.734 | F16: 24 | G16: 80.81 | H16: =ROUND(G16*0.2359,2) -> 19.06 | I16: =G16+H16 -> 99.87
A17: =A16+1 -> 11 | B17: VP LATGALES RP ZIEMEĻLATGALES IECIRKŅA PREVENCIJAS GRUPA | C17: vecākais inspektors | D17: 1381 | E17: =ROUND(D17/$E$4,3) -> 8.303 | F17: 32 | G17: 132.85 | H17: =ROUND(G17*0.2359,2) -> 31.34 | I17: =G17+H17 -> 164.19
A18: =A17+1 -> 12 | B18: VP ZEMGALES RP AUSTRUMZEMGALES IECIRKŅA REAĢĒŠANAS NODAĻAS 3.GRUPA | C18: inspektors | D18: 1317 | E18: =ROUND(D18/$E$4,3) -> 7.918 | F18: 16 | G18: 63.34 | H18: =ROUND(G18*0.2359,2) -> 14.94 | I18: =G18+H18 -> 78.28
A19: =A18+1 -> 13 | B19: VP LATGALES RP DIENVIDLATGALES IECIRKŅA REAĢĒŠANAS NODAĻAS 4.GRUPA | C19: vecākais inspektors | D19: 1381 | E19: =ROUND(D19/$E$4,3) -> 8.303 | F19: 16 | G19: 66.42 | H19: =ROUND(G19*0.2359,2) -> 15.67 | I19: =G19+H19 -> 82.09
... A39: =A38+1 -> 33 | B39: VP LATGALES RP KĀRTPB RESURSU UN KRĪZES VADĪBAS NODAĻA | C39: nodaļas priekšnieks | D39: 1474 | E39: =ROUND(D39/$E$4,3) -> 8.862 | F39: 16 | G39: 70.9 | H39: =ROUND(G39*0.2359,2) -> 16.73 | I39: =G39+H39 -> 87.63
A40: =A39+1 -> 34 | B40: VP LATGALES RP KĀRTPB ATĻAUJU SISTĒMAS GRUPA | C40: inspektors | D40: 1176 | E40: =ROUND(D40/$E$4,3) -> 7.07 | F40: 32 | G40: 113.12 | H40: =ROUND(G40*0.2359,2)-0.01 -> 26.68 | I40: =G40+H40 -> 139.8
A41: =A40+1 -> 35 | B41: VP LATGALES RP DIENVIDLATGALES IECIRKŅA REAĢĒŠANAS NODAĻAS 4.GRUPA | C41: jaunākais inspektors | D41: 1140 | E41: =ROUND(D41/$E$4,3) -> 6.854 | F41: 32 | G41: 109.66 | H41: =ROUND(G41*0.2359,2) -> 25.87 | I41: =G41+H41 -> 135.53
A42: =A41+1 -> 36 | B42: VP LATGALES RP ZIEMEĻLATGALES IECIRKŅA IZMEKLĒŠANAS NODAĻAS 5.GRUPA | C42: vecākais inspektors | D42: 1517 | E42: =ROUND(D42/$E$4,3) -> 9.12 | F42: 16 | G42: 72.96 | H42: =ROUND(G42*0.2359,2) -> 17.21 | I42: =G42+H42 -> 90.17
A43: =A42+1 -> 37 | B43: VP LATGALES RP ZIEMEĻLATGALES IECIRKŅA REAĢĒŠANAS NODAĻAS 9.GRUPA | C43: inspektors | D43: 1337 | E43: =ROUND(D43/$E$4,3) -> 8.038 | F43: 9 | G43: 36.17 | H43: =ROUND(G43*0.2359,2) -> 8.53 | I43: =G43+H43 -> 44.7
A44: =A43+1 -> 38 | B44: VP LATGALES RP DIENVIDLATGALES IECIRKŅA IZMEKLĒŠANAS NODAĻAS 8.GRUPA | C44: inspektors | D44: 1337 | E44: =ROUND(D44/$E$4,3) -> 8.038 | F44: 16 | G44: 64.3 | H44: =ROUND(G44*0.2359,2) -> 15.17 | I44: =G44+H44 -> 79.47
A45: =A44+1 -> 39 | B45: VP LATGALES RP KRIMPB ORGANIZĒTĀS NOZIEDZĪBAS SMAGO UN SĒRIJVEIDA NOZIEGUMU APKAROŠANAS NODAĻA | C45: vecākais inspektors | D45: 1545 | E45: =ROUND(D45/$E$4,3) -> 9.289 | F45: 8 | G45: 37.16 | H45: =ROUND(G45*0.2359,2) -> 8.77 | I45: =G45+H45 -> 45.93
A46: =A45+1 -> 40 | B46: VP LATGALES RP ZIEMEĻLATGALES IECIRKŅA REAĢĒŠANAS NODAĻAS 6.GRUPA | C46: vecākais inspektors | D46: 1431 | E46: =ROUND(D46/$E$4,3) -> 8.603 | F46: 8 | G46: 34.41 | H46: =ROUND(G46*0.2359,2) -> 8.12 | I46: =G46+H46 -> 42.53
A47: =A46+1 -> 41 | B47: VP GKĀRTPP RKVP SPECIĀLO UZDEVUMU BATALJONA 6.ROTA (ZEMGALES REĢIONA) | C47: rotas komandiera vietnieks | D47: 1449 | E47: =ROUND(D47/$E$4,3) -> 8.712 | F47: 27 | G47: 117.61 | H47: =ROUND(G47*0.2359,2) -> 27.74 | I47: =G47+H47 -> 145.35
A48: =A47+1 -> 42 | B48: VP LATGALES RP ZIEMEĻLATGALES IECIRKŅA IZMEKLĒŠANAS NODAĻAS 8.GRUPA | C48: vecākais inspektors | D48: 1355 | E48: =ROUND(D48/$E$4,3) -> 8.146 | F48: 8 | G48: 32.58 | H48: =ROUND(G48*0.2359,2) -> 7.69 | I48: =G48+H48 -> 40.27
A49: =A48+1 -> 43 | B49: VP LATGALES RP ZIEMEĻLATGALES IECIRKŅA REAĢĒŠANAS NODAĻAS 5.GRUPA | C49: inspektors | D49: 1337 | E49: =ROUND(D49/$E$4,3) -> 8.038 | F49: 16 | G49: 64.3 | H49: =ROUND(G49*0.2359,2) -> 15.17 | I49: =G49+H49 -> 79.47
A50: =A49+1 -> 44 | B50: VP LATGALES RP ZIEMEĻLATGALES IECIRKŅA REAĢĒŠANAS NODAĻAS 6.GRUPA | C50: galvenais inspektors | D50: 1474 | E50: =ROUND(D50/$E$4,3) -> 8.862 | F50: 24 | G50: 106.34 | H50: =ROUND(G50*0.2359,2) -> 25.09 | I50: =G50+H50 -> 131.43
A51: =A50+1 -> 45 | B51: VP LATGALES RP ZIEMEĻLATGALES IECIRKŅA IZMEKLĒŠANAS NODAĻAS 6.GRUPA | C51: inspektors | D51: 1463 | E51: =ROUND(D51/$E$4,3) -> 8.796 | F51: 8 | G51: 35.18 | H51: =ROUND(G51*0.2359,2) -> 8.3 | I51: =G51+H51 -> 43.48
A52: =A51+1 -> 46 | B52: VP LATGALES RP ZIEMEĻLATGALES IECIRKŅA IZMEKLĒŠANAS NODAĻAS 4.GRUPA | C52: vecākais inspektors | D52: 1637 | E52: =ROUND(D52/$E$4,3) -> 9.842 | F52: 16 | G52: 78.74 | H52: =ROUND(G52*0.2359,2) -> 18.57 | I52: =G52+H52 -> 97.31
A53: =A52+1 -> 47 | B53: VP LATGALES RP DIENVIDLATGALES IECIRKŅA PREVENCIJAS GRUPA | C53: vecākais inspektors | D53: 1381 | E53: =ROUND(D53/$E$4,3) -> 8.303 | F53: 32 | G53: 132.85 | H53: =ROUND(G53*0.2359,2) -> 31.34 | I53: =G53+H53 -> 164.19
A54: =A53+1 -> 48 | B54: VP LATGALES RP KĀRTPB RESURSU UN KRĪZES VADĪBAS NODAĻA | C54: nodaļas priekšnieka vietnieks | D54: 1386 | E54: =ROUND(D54/$E$4,3) -> 8.333 | F54: 16 | G54: 66.66 | H54: =ROUND(G54*0.2359,2)-0.01 -> 15.72 | I54: =G54+H54 -> 82.38
A55: =A54+1 -> 49 | B55: VP LATGALES RP KĀRTPB PREVENCIJAS GRUPA | C55: galvenais inspektors | D55: 1614 | E55: =ROUND(D55/$E$4,3) -> 9.704 | F55: 32 | G55: 155.26 | H55: =ROUND(G55*0.2359,2) -> 36.63 | I55: =G55+H55 -> 191.89
A56: =A55+1 -> 50 | B56: VP LATGALES RP DIENVIDLATGALES IECIRKŅA PREVENCIJAS GRUPA | C56: vecākais inspektors | D56: 1355 | E56: =ROUND(D56/$E$4,3) -> 8.146 | F56: 24 | G56: 97.75 | H56: =ROUND(G56*0.2359,2) -> 23.06 | I56: =G56+H56 -> 120.81
A57: =A56+1 -> 51 | B57: VP LATGALES RP DIENVIDLATGALES IECIRKŅA IZMEKLĒŠANAS NODAĻAS 1.GRUPA | C57: inspektors | D57: 1443 | E57: =ROUND(D57/$E$4,3) -> 8.676 | F57: 25 | G57: 108.45 | H57: =ROUND(G57*0.2359,2) -> 25.58 | I57: =G57+H57 -> 134.03
A58: =A57+1 -> 52 | B58: VP LATGALES RP DIENVIDLATGALES IECIRKŅA REAĢĒŠANAS NODAĻAS 10.GRUPA | C58: vecākais inspektors | D58: 1335 | E58: =ROUND(D58/$E$4,3) -> 8.026 | F58: 32 | G58: 128.42 | H58: =ROUND(G58*0.2359,2) -> 30.29 | I58: =G58+H58 -> 158.71
A59: =A58+1 -> 53 | B59: VP LATGALES RP DIENVIDLATGALES IECIRKŅA IZMEKLĒŠANAS NODAĻAS 9.GRUPA | C59: vecākais inspektors | D59: 1381 | E59: =ROUND(D59/$E$4,3) -> 8.303 | F59: 32 | G59: 132.85 | H59: =ROUND(G59*0.2359,2) -> 31.34 | I59: =G59+H59 -> 164.19
A60: =A59+1 -> 54 | B60: VP GKĀRTPP RKVP SPECIĀLO UZDEVUMU BATALJONA 1.ROTA | C60: rotas komandiera vietnieks | D60: 1541 | E60: =ROUND(D60/$E$4,3) -> 9.265 | F60: 46 | G60: 213.1 | H60: =ROUND(G60*0.2359,2) -> 50.27 | I60: =G60+H60 -> 263.37
A61: =A60+1 -> 55 | B61: VP LATGALES RP DIENVIDLATGALES IECIRKŅA IZMEKLĒŠANAS NODAĻAS 8.GRUPA | C61: vecākais inspektors | D61: 1335 | E61: =ROUND(D61/$E$4,3) -> 8.026 | F61: 8 | G61: 32.1 | H61: =ROUND(G61*0.2359,2) -> 7.57 | I61: =G61+H61 -> 39.67
A62: =A61+1 -> 56 | B62: VP LATGALES RP ZIEMEĻLATGALES IECIRKŅA REAĢĒŠANAS NODAĻAS 1.GRUPA | C62: vecākais inspektors | D62: 1355 | E62: =ROUND(D62/$E$4,3) -> 8.146 | F62: 6 | G62: 24.44 | H62: =ROUND(G62*0.2359,2) -> 5.77 | I62: =G62+H62 -> 30.21
A63: =A62+1 -> 57 | B63: VP ZEMGALES RP AUSTRUMZEMGALES IECIRKŅA REAĢĒŠANAS NODAĻAS 3.GRUPA | C63: vecākais inspektors | D63: 1335 | E63: =ROUND(D63/$E$4,3) -> 8.026 | F63: 16 | G63: 64.21 | H63: =ROUND(G63*0.2359,2) -> 15.15 | I63: =G63+H63 -> 79.36
A64: =A63+1 -> 58 | B64: VP ZEMGALES RP AUSTRUMZEMGALES IECIRKŅA REAĢĒŠANAS NODAĻAS 2.GRUPA | C64: vecākais inspektors | D64: 1355 | E64: =ROUND(D64/$E$4,3) -> 8.146 | F64: 14 | G64: 57.02 | H64: =ROUND(G64*0.2359,2) -> 13.45 | I64: =G64+H64 -> 70.47
A65: =A64+1 -> 59 | B65: VP LATGALES RP KRIMPB ORGANIZĒTĀS NOZIEDZĪBAS SMAGO UN SĒRIJVEIDA NOZIEGUMU APKAROŠANAS NODAĻA | C65: vecākais inspektors | D65: 1565 | E65: =ROUND(D65/$E$4,3) -> 9.409 | F65: 8 | G65: 37.64 | H65: =ROUND(G65*0.2359,2) -> 8.88 | I65: =G65+H65 -> 46.52
A66: =A65+1 -> 60 | B66: VP LATGALES RP ZIEMEĻLATGALES IECIRKNIS | C66: iecirkņa priekšnieka vietnieks, Izmeklēšanas nodaļas priekšnieks | D66: 2004 | E66: =ROUND(D66/$E$4,3) -> 12.048 | F66: 16 | G66: 96.38 | H66: =ROUND(G66*0.2359,2) -> 22.74 | I66: =G66+H66 -> 119.12
... A88: =A87+1 -> 82 | B88: VP LATGALES RP ZIEMEĻLATGALES IECIRKŅA REAĢĒŠANAS NODAĻAS 9.GRUPA | C88: inspektors | D88: 1482 | E88: =ROUND(D88/$E$4,3) -> 8.91 | F88: 8 | G88: 35.64 | H88: =ROUND(G88*0.2359,2) -> 8.41 | I88: =G88+H88 -> 44.05
A89: =A88+1 -> 83 | B89: VP LATGALES RP DIENVIDLATGALES IECIRKŅA REAĢĒŠANAS NODAĻAS 4.GRUPA | C89: vecākais inspektors | D89: 1475 | E89: =ROUND(D89/$E$4,3) -> 8.868 | F89: 24 | G89: 106.42 | H89: 23.35 | I89: =G89+H89 -> 129.77 | J89: ***
A90: =A89+1 -> 84 | B90: VP LATGALES RP DIENVIDLATGALES IECIRKŅA PREVENCIJAS GRUPA | C90: vecākais inspektors | D90: 1361 | E90: =ROUND(D90/$E$4,3) -> 8.183 | F90: 8 | G90: 32.73 | H90: =ROUND(G90*0.2359,2) -> 7.72 | I90: =G90+H90 -> 40.45
A91: =A90+1 -> 85 | B91: VP LATGALES RP DIENVIDLATGALES IECIRKŅA IZMEKLĒŠANAS NODAĻAS 9.GRUPA | C91: galvenais inspektors | D91: 1422 | E91: =ROUND(D91/$E$4,3) -> 8.549 | F91: 16 | G91: 68.39 | H91: =ROUND(G91*0.2359,2) -> 16.13 | I91: =G91+H91 -> 84.52
A92: =A91+1 -> 86 | B92: VP LATGALES RP KĀRTPB ATĻAUJU SISTĒMAS GRUPA | C92: inspektors | D92: 1296 | E92: =ROUND(D92/$E$4,3) -> 7.792 | F92: 16 | G92: 62.34 | H92: =ROUND(G92*0.2359,2) -> 14.71 | I92: =G92+H92 -> 77.05
A93: =A92+1 -> 87 | B93: VP GKĀRTPP RKVP SPECIĀLO UZDEVUMU BATALJONA 6.ROTA (ZEMGALES REĢIONA) | C93: jaunākais inspektors | D93: 1323 | E93: =ROUND(D93/$E$4,3) -> 7.954 | F93: 35 | G93: 139.2 | H93: =ROUND(G93*0.2359,2) -> 32.84 | I93: =G93+H93 -> 172.04
A94: =A93+1 -> 88 | B94: VP LATGALES RP DIENVIDLATGALES IECIRKŅA REAĢĒŠANAS NODAĻAS 10.GRUPA | C94: inspektors | D94: 1362 | E94: =ROUND(D94/$E$4,3) -> 8.189 | F94: 26 | G94: 106.46 | H94: =ROUND(G94*0.2359,2) -> 25.11 | I94: =G94+H94 -> 131.57
A95: =A94+1 -> 89 | B95: VP LATGALES RP ZIEMEĻLATGALES IECIRKŅA IZMEKLĒŠANAS NODAĻAS 3.GRUPA | C95: galvenais inspektors | D95: 1713 | E95: =ROUND(D95/$E$4,3) -> 10.299 | F95: 16 | G95: 82.39 | H95: =ROUND(G95*0.2359,2) -> 19.44 | I95: =G95+H95 -> 101.83
A96: =A95+1 -> 90 | B96: VP ZEMGALES RP AUSTRUMZEMGALES IECIRKŅA REAĢĒŠANAS NODAĻAS 2.GRUPA | C96: jaunākais inspektors | D96: 1218 | E96: =ROUND(D96/$E$4,3) -> 7.323 | F96: 8 | G96: 29.29 | H96: =ROUND(G96*0.2359,2) -> 6.91 | I96: =G96+H96 -> 36.2
A97: =A96+1 -> 91 | B97: VP LATGALES RP ZIEMEĻLATGALES IECIRKŅA PREVENCIJAS GRUPA | C97: inspektors | D97: 1463 | E97: =ROUND(D97/$E$4,3) -> 8.796 | F97: 8 | G97: 35.18 | H97: =ROUND(G97*0.2359,2) -> 8.3 | I97: =G97+H97 -> 43.48
A98: =A97+1 -> 92 | B98: VP LATGALES RP KRIMPB RĒZEKNES REĢIONĀLĀ NODAĻA | C98: vecākais inspektors | D98: 1593 | E98: =ROUND(D98/$E$4,3) -> 9.577 | F98: 23 | G98: 110.14 | H98: =ROUND(G98*0.2359,2) -> 25.98 | I98: =G98+H98 -> 136.12
A99: =A98+1 -> 93 | B99: VP LATGALES RP DIENVIDLATGALES IECIRKŅA IZMEKLĒŠANAS NODAĻAS 1.GRUPA | C99: inspektors | D99: 1417 | E99: =ROUND(D99/$E$4,3) -> 8.519 | F99: 8 | G99: 34.08 | H99: =ROUND(G99*0.2359,2) -> 8.04 | I99: =G99+H99 -> 42.12
A100: =A99+1 -> 94 | B100: VP LATGALES RP ZIEMEĻLATGALES IECIRKŅA IZMEKLĒŠANAS NODAĻAS 5.GRUPA | C100: vecākais inspektors | D100: 1470 | E100: =ROUND(D100/$E$4,3) -> 8.838 | F100: 8 | G100: 35.35 | H100: =ROUND(G100*0.2359,2) -> 8.34 | I100: =G100+H100 -> 43.69
A101: =A100+1 -> 95 | B101: VP LATGALES RP DIENVIDLATGALES IECIRKŅA IZMEKLĒŠANAS NODAĻAS 6.GRUPA | C101: inspektors | D101: 1362 | E101: =ROUND(D101/$E$4,3) -> 8.189 | F101: 8 | G101: 32.76 | H101: =ROUND(G101*0.2359,2) -> 7.73 | I101: =G101+H101 -> 40.49
... A118: =A117+1 -> 112 | B118: VP LATGALES RP DIENVIDLATGALES IECIRKŅA IZMEKLĒŠANAS NODAĻAS 5.GRUPA | C118: inspektors | D118: 1443 | E118: =ROUND(D118/$E$4,3) -> 8.676 | F118: 16 | G118: 69.41 | H118: =ROUND(G118*0.2359,2) -> 16.37 | I118: =G118+H118 -> 85.78
A119: =A118+1 -> 113 | B119: VP LATGALES RP DIENVIDLATGALES IECIRKŅA PREVENCIJAS GRUPA | C119: inspektors | D119: 1361 | E119: =ROUND(D119/$E$4,3) -> 8.183 | F119: 24 | G119: 98.2 | H119: =ROUND(G119*0.2359,2)-0.01 -> 23.16 | I119: =G119+H119 -> 121.36
A120: =A119+1 -> 114 | B120: VP LATGALES RP DIENVIDLATGALES IECIRKŅA IZMEKLĒŠANAS NODAĻAS 5.GRUPA | C120: galvenais inspektors | D120: 1762 | E120: =ROUND(D120/$E$4,3) -> 10.593 | F120: 48 | G120: 254.23 | H120: =ROUND(G120*0.2359,2) -> 59.97 | I120: =G120+H120 -> 314.2
A121: =A120+1 -> 115 | B121: VP LATGALES RP ZIEMEĻLATGALES IECIRKŅA IZMEKLĒŠANAS NODAĻAS 1.GRUPA | C121: vecākais inspektors | D121: 1610 | E121: =ROUND(D121/$E$4,3) -> 9.68 | F121: 2 | G121: 9.68 | H121: =ROUND(G121*0.2359,2) -> 2.28 | I121: =G121+H121 -> 11.96
A122: =A121+1 -> 116 | B122: VP LATGALES RP DIENVIDLATGALES IECIRKŅA REAĢĒŠANAS NODAĻAS 10.GRUPA | C122: vecākais inspektors | D122: 1335 | E122: =ROUND(D122/$E$4,3) -> 8.026 | F122: 24 | G122: 96.31 | H122: =ROUND(G122*0.2359,2) -> 22.72 | I122: =G122+H122 -> 119.03
A123: =A122+1 -> 117 | B123: VP GKĀRTPP RKVP SPECIĀLO UZDEVUMU BATALJONA 3.ROTA | C123: jaunākais inspektors | D123: 1303 | E123: =ROUND(D123/$E$4,3) -> 7.834 | F123: 35 | G123: 137.1 | H123: =ROUND(G123*0.2359,2) -> 32.34 | I123: =G123+H123 -> 169.44
A124: =A123+1 -> 118 | B124: VP LATGALES RP ZIEMEĻLATGALES IECIRKŅA IZMEKLĒŠANAS NODAĻAS 7.GRUPA | C124: vecākais inspektors | D124: 1335 | E124: =ROUND(D124/$E$4,3) -> 8.026 | F124: 40 | G124: 160.52 | H124: =ROUND(G124*0.2359,2) -> 37.87 | I124: =G124+H124 -> 198.39
A125: =A124+1 -> 119 | B125: VP LATGALES RP DIENVIDLATGALES IECIRKŅA IZMEKLĒŠANAS NODAĻAS 6.GRUPA | C125: vecākais inspektors | D125: 1355 | E125: =ROUND(D125/$E$4,3) -> 8.146 | F125: 24 | G125: 97.75 | H125: =ROUND(G125*0.2359,2) -> 23.06 | I125: =G125+H125 -> 120.81
A126: =A125+1 -> 120 | B126: VP LATGALES RP DIENVIDLATGALES IECIRKŅA IZMEKLĒŠANAS NODAĻAS 9.GRUPA | C126: inspektors | D126: 1342 | E126: =ROUND(D126/$E$4,3) -> 8.068 | F126: 8 | G126: 32.27 | H126: =ROUND(G126*0.2359,2) -> 7.61 | I126: =G126+H126 -> 39.88
A127: =A126+1 -> 121 | B127: VP LATGALES RP ZIEMEĻLATGALES IECIRKŅA IZMEKLĒŠANAS NODAĻAS 1.GRUPA | C127: inspektors | D127: 1463 | E127: =ROUND(D127/$E$4,3) -> 8.796 | F127: 42 | G127: 184.72 | H127: =ROUND(G127*0.2359,2) -> 43.58 | I127: =G127+H127 -> 228.3
A128: =A127+1 -> 122 | B128: VP LATGALES RP DIENVIDLATGALES IECIRKŅA REAĢĒŠANAS NODAĻAS 8.GRUPA | C128: inspektors | D128: 1317 | E128: =ROUND(D128/$E$4,3) -> 7.918 | F128: 23 | G128: 91.06 | H128: =ROUND(G128*0.2359,2) -> 21.48 | I128: =G128+H128 -> 112.54
A129: =A128+1 -> 123 | B129: VP LATGALES RP DIENVIDLATGALES IECIRKŅA IZMEKLĒŠANAS NODAĻAS 5.GRUPA | C129: vecākais inspektors | D129: 1497 | E129: =ROUND(D129/$E$4,3) -> 9 | F129: 8 | G129: 36 | H129: =ROUND(G129*0.2359,2) -> 8.49 | I129: =G129+H129 -> 44.49
A130: =A129+1 -> 124 | B130: VP LATGALES RP KRIMPB ORGANIZĒTĀS NOZIEDZĪBAS SMAGO UN SĒRIJVEIDA NOZIEGUMU APKAROŠANAS NODAĻA | C130: inspektors | D130: 1437 | E130: =ROUND(D130/$E$4,3) -> 8.639 | F130: 8 | G130: 34.56 | H130: =ROUND(G130*0.2359,2) -> 8.15 | I130: =G130+H130 -> 42.71
A131: =A130+1 -> 125 | B131: VP LATGALES RP ZIEMEĻLATGALES IECIRKŅA REAĢĒŠANAS NODAĻAS 8.GRUPA | C131: inspektors | D131: 1337 | E131: =ROUND(D131/$E$4,3) -> 8.038 | F131: 8 | G131: 32.15 | H131: =ROUND(G131*0.2359,2) -> 7.58 | I131: =G131+H131 -> 39.73
... A149: =A148+1 -> 143 | B149: VP LATGALES RP DIENVIDLATGALES IECIRKŅA REAĢĒŠANAS NODAĻAS 7.GRUPA | C149: jaunākais inspektors | D149: 1140 | E149: =ROUND(D149/$E$4,3) -> 6.854 | F149: 8 | G149: 27.42 | H149: =ROUND(G149*0.2359,2) -> 6.47 | I149: =G149+H149 -> 33.89
A150: =A149+1 -> 144 | B150: VP ZEMGALES RP AUSTRUMZEMGALES IECIRKŅA REAĢĒŠANAS NODAĻAS 4.GRUPA | C150: galvenais inspektors | D150: 1401 | E150: =ROUND(D150/$E$4,3) -> 8.423 | F150: 16 | G150: 67.38 | H150: =ROUND(G150*0.2359,2)+0.01 -> 15.9 | I150: =G150+H150 -> 83.28
A151: =A150+1 -> 145 | B151: VP GKĀRTPP RKVP SPECIĀLO UZDEVUMU BATALJONA 7.ROTA (KURZEMES REĢIONA) | C151: jaunākais inspektors | D151: 1225 | E151: =ROUND(D151/$E$4,3) -> 7.365 | F151: 48 | G151: 176.76 | H151: =ROUND(G151*0.2359,2) -> 41.7 | I151: =G151+H151 -> 218.46
A152: =A151+1 -> 146 | B152: VP LATGALES RP DIENVIDLATGALES IECIRKŅA IZMEKLĒŠANAS NODAĻAS 7.GRUPA | C152: galvenais inspektors | D152: 1355 | E152: =ROUND(D152/$E$4,3) -> 8.146 | F152: 32 | G152: 130.34 | H152: =ROUND(G152*0.2359,2) -> 30.75 | I152: =G152+H152 -> 161.09
A153: =A152+1 -> 147 | B153: VP LATGALES RP DIENVIDLATGALES IECIRKŅA IZMEKLĒŠANAS NODAĻAS 5.GRUPA | C153: inspektors | D153: 1443 | E153: =ROUND(D153/$E$4,3) -> 8.676 | F153: 32 | G153: 138.82 | H153: =ROUND(G153*0.2359,2) -> 32.75 | I153: =G153+H153 -> 171.57
A154: =A153+1 -> 148 | B154: VP LATGALES RP DIENVIDLATGALES IECIRKŅA REAĢĒŠANAS NODAĻAS 8.GRUPA | C154: vecākais inspektors | D154: 1475 | E154: =ROUND(D154/$E$4,3) -> 8.868 | F154: 24 | G154: 106.42 | H154: =ROUND(G154*0.2359,2) -> 25.1 | I154: =G154+H154 -> 131.52
A155: =A154+1 -> 149 | B155: VP ZEMGALES RP AUSTRUMZEMGALES IECIRKŅA REAĢĒŠANAS NODAĻAS 2.GRUPA | C155: inspektors | D155: 1337 | E155: =ROUND(D155/$E$4,3) -> 8.038 | F155: 24 | G155: 96.46 | H155: =ROUND(G155*0.2359,2) -> 22.75 | I155: =G155+H155 -> 119.21
A156: =A155+1 -> 150 | B156: VP LATGALES RP DIENVIDLATGALES IECIRKŅA REAĢĒŠANAS NODAĻAS 4.GRUPA | C156: inspektors | D156: 1337 | E156: =ROUND(D156/$E$4,3) -> 8.038 | F156: 24 | G156: 96.46 | H156: =ROUND(G156*0.2359,2)+0.01 -> 22.76 | I156: =G156+H156 -> 119.22
A157: =A156+1 -> 151 | B157: VP GKĀRTPP RKVP SPECIĀLO UZDEVUMU BATALJONA 3.ROTA | C157: jaunākais inspektors | D157: 1283 | E157: =ROUND(D157/$E$4,3) -> 7.714 | F157: 35 | G157: 135 | H157: =ROUND(G157*0.2359,2) -> 31.85 | I157: =G157+H157 -> 166.85
A158: =A157+1 -> 152 | B158: VP LATGALES RP DIENVIDLATGALES IECIRKŅA PREVENCIJAS GRUPA | C158: vecākais inspektors | D158: 1335 | E158: =ROUND(D158/$E$4,3) -> 8.026 | F158: 24 | G158: 96.31 | H158: =ROUND(G158*0.2359,2) -> 22.72 | I158: =G158+H158 -> 119.03
A159: =A158+1 -> 153 | B159: VP LATGALES RP DIENVIDLATGALES IECIRKŅA REAĢĒŠANAS NODAĻAS 7.GRUPA | C159: jaunākais inspektors | D159: 1449 | E159: =ROUND(D159/$E$4,3) -> 8.712 | F159: 8 | G159: 34.85 | H159: =ROUND(G159*0.2359,2) -> 8.22 | I159: =G159+H159 -> 43.07
A160: =A159+1 -> 154 | B160: VP LATGALES RP KĀRTPB ATĻAUJU SISTĒMAS GRUPA | C160: galvenais inspektors | D160: 1279 | E160: =ROUND(D160/$E$4,3) -> 7.69 | F160: 8 | G160: 30.76 | H160: =ROUND(G160*0.2359,2) -> 7.26 | I160: =G160+H160 -> 38.02
A161: =A160+1 -> 155 | B161: VP LATGALES RP ZIEMEĻLATGALES IECIRKŅA REAĢĒŠANAS NODAĻAS 9.GRUPA | C161: inspektors | D161: 1337 | E161: =ROUND(D161/$E$4,3) -> 8.038 | F161: 8 | G161: 32.15 | H161: =ROUND(G161*0.2359,2) -> 7.58 | I161: =G161+H161 -> 39.73
A162: =A161+1 -> 156 | B162: VP LATGALES RP DIENVIDLATGALES IECIRKŅA IZMEKLĒŠANAS NODAĻAS 9.GRUPA | C162: inspektors | D162: 1337 | E162: =ROUND(D162/$E$4,3) -> 8.038 | F162: 32 | G162: 128.61 | H162: =ROUND(G162*0.2359,2) -> 30.34 | I162: =G162+H162 -> 158.95
A163: =A162+1 -> 157 | B163: VP LATGALES RP ZIEMEĻLATGALES IECIRKŅA REAĢĒŠANAS NODAĻAS 1.GRUPA | C163: inspektors | D163: 1337 | E163: =ROUND(D163/$E$4,3) -> 8.038 | F163: 8 | G163: 32.15 | H163: =ROUND(G163*0.2359,2) -> 7.58 | I163: =G163+H163 -> 39.73
A164: =A163+1 -> 158 | B164: VP LATGALES RP ZIEMEĻLATGALES IECIRKŅA REAĢĒŠANAS NODAĻAS 4.GRUPA | C164: vecākais inspektors | D164: 1386 | E164: =ROUND(D164/$E$4,3) -> 8.333 | F164: 2 | G164: 8.33 | H164: =ROUND(G164*0.2359,2) -> 1.97 | I164: =G164+H164 -> 10.3
A165: =A164+1 -> 159 | B165: VP LATGALES RP ZIEMEĻLATGALES IECIRKŅA IZMEKLĒŠANAS NODAĻAS 8.GRUPA | C165: vecākais inspektors | D165: 1443 | E165: =ROUND(D165/$E$4,3) -> 8.676 | F165: 32 | G165: 138.82 | H165: =ROUND(G165*0.2359,2) -> 32.75 | I165: =G165+H165 -> 171.57
A166: =A165+1 -> 160 | B166: VP LATGALES RP ZIEMEĻLATGALES IECIRKŅA REAĢĒŠANAS NODAĻAS 8.GRUPA | C166: vecākais inspektors | D166: 1470 | E166: =ROUND(D166/$E$4,3) -> 8.838 | F166: 24 | G166: 106.06 | H166: =ROUND(G166*0.2359,2) -> 25.02 | I166: =G166+H166 -> 131.08
A167: =A166+1 -> 161 | B167: VP LATGALES RP DIENVIDLATGALES IECIRKŅA IZMEKLĒŠANAS NODAĻAS 6.GRUPA | C167: inspektors | D167: 1342 | E167: =ROUND(D167/$E$4,3) -> 8.068 | F167: 8 | G167: 32.27 | H167: =ROUND(G167*0.2359,2) -> 7.61 | I167: =G167+H167 -> 39.88
A168: =A167+1 -> 162 | B168: VP LATGALES RP ZIEMEĻLATGALES IECIRKŅA IZMEKLĒŠANAS NODAĻAS 1.GRUPA | C168: galvenais inspektors | D168: 1858 | E168: =ROUND(D168/$E$4,3) -> 11.171 | F168: 24 | G168: 134.05 | H168: =ROUND(G168*0.2359,2) -> 31.62 | I168: =G168+H168 -> 165.67
... A256: =A255+1 -> 250 | B256: VP LATGALES RP DIENVIDLATGALES IECIRKŅA IZMEKLĒŠANAS NODAĻAS 1.GRUPA | C256: inspektors | D256: 1403 | E256: =ROUND(D256/$E$4,3) -> 8.435 | F256: 23 | G256: 97 | H256: =ROUND(G256*0.2359,2) -> 22.88 | I256: =G256+H256 -> 119.88
A257: =A256+1 -> 251 | B257: VP LATGALES RP DIENVIDLATGALES IECIRKŅA REAĢĒŠANAS NODAĻAS 2.GRUPA | C257: inspektors | D257: 1317 | E257: =ROUND(D257/$E$4,3) -> 7.918 | F257: 24 | G257: 95.02 | H257: =ROUND(G257*0.2359,2)-0.01 -> 22.41 | I257: =G257+H257 -> 117.43
A258: =A257+1 -> 252 | B258: VP LATGALES RP DIENVIDLATGALES IECIRKŅA REAĢĒŠANAS NODAĻAS 2.GRUPA | C258: inspektors | D258: 1297 | E258: =ROUND(D258/$E$4,3) -> 7.798 | F258: 2 | G258: 7.8 | H258: =ROUND(G258*0.2359,2) -> 1.84 | I258: =G258+H258 -> 9.64
A259: =A258+1 -> 253 | B259: VP LATGALES RP DIENVIDLATGALES IECIRKŅA IZMEKLĒŠANAS NODAĻAS 7.GRUPA | C259: vecākais inspektors | D259: 1315 | E259: =ROUND(D259/$E$4,3) -> 7.906 | F259: 8 | G259: 31.62 | H259: =ROUND(G259*0.2359,2) -> 7.46 | I259: =G259+H259 -> 39.08
A260: =A259+1 -> 254 | B260: VP ZEMGALES RP AUSTRUMZEMGALES IECIRKŅA REAĢĒŠANAS NODAĻAS 4.GRUPA | C260: vecākais inspektors | D260: 1315 | E260: =ROUND(D260/$E$4,3) -> 7.906 | F260: 24 | G260: 94.87 | H260: =ROUND(G260*0.2359,2) -> 22.38 | I260: =G260+H260 -> 117.25
...

Sheet 2.tabula
J1: 2.tabula
A2: Valsts policija
A3: Piemaksa par darbu īpašos apstākļos amatpersonām ar speciālajām dienesta pakāpēm, kuras laika periodā no 2023.gada 1.oktobra līdz 31.oktobrim tika iesaistītas atbalsta sniegšanā Valsts robežsardzei Latvijas Republikas-Baltkrievijas Republikas valsts robežas robežuzraudzības nodrošināšanā
F4: 166.33
A5: Nr. p.k. | B5: Struktūrvienība | C5: Amats | D5: Mēnešalga amatpersonām ar speciālajām pakāpēm | E5: Piemaksas apmērs % | F5: Stundas likme | G5: Stundu skaits | H5: Piemaksa par darbu īpašos apstākļos | I5: DD VSAOI | J5: Atlīdzība
A7: kopā | G7: =SUM(G8:G596) -> 22728 | H7: =SUM(H8:H596) -> 40759.26 | I7: =SUM(I8:I596) -> 9613.38 | J7: =SUM(J8:J596) -> 50372.64
A8: 1 | B8: VP LATGALES RP ZIEMEĻLATGALES IECIRKNIS | C8: iecirkņa priekšnieka vietnieks, Reaģēšanas nodaļas priekšnieks | D8: 2040 | E8: 20% | F8: =ROUND(D8/$F$4,3) -> 12.265 | G8: 33 | H8: 80.95 | I8: =ROUND(H8*23.59%,2) -> 19.1 | J8: =H8+I8 -> 100.05
A9: 2 | B9: VP LATGALES RP ZIEMEĻLATGALES IECIRKŅA IZMEKLĒŠANAS NODAĻAS 2.GRUPA | C9: inspektors | D9: 1437 | E9: 20% | F9: =ROUND(D9/$F$4,3) -> 8.639 | G9: 24 | H9: 41.47 | I9: =ROUND(H9*23.59%,2) -> 9.78 | J9: =H9+I9 -> 51.25
A10: 3 | B10: VP LATGALES RP DIENVIDLATGALES IECIRKŅA REAĢĒŠANAS NODAĻAS 3.GRUPA | C10: vecākais inspektors | D10: 1463 | E10: 20% | F10: =ROUND(D10/$F$4,3) -> 8.796 | G10: 39.5 | H10: 69.49 | I10: =ROUND(H10*23.59%,2) -> 16.39 | J10: =H10+I10 -> 85.88
A11: 4 | B11: VP LATGALES RP ZIEMEĻLATGALES IECIRKŅA IZMEKLĒŠANAS NODAĻAS 5.GRUPA | C11: galvenais inspektors | D11: 1794 | E11: 20% | F11: =ROUND(D11/$F$4,3) -> 10.786 | G11: 48 | H11: 103.55 | I11: =ROUND(H11*23.59%,2) -> 24.43 | J11: =H11+I11 -> 127.98
A12: 5 | B12: VP LATGALES RP DIENVIDLATGALES IECIRKŅA REAĢĒŠANAS NODAĻAS 7.GRUPA | C12: inspektors | D12: 1317 | E12: 10% | F12: =ROUND(D12/$F$4,3) -> 7.918 | G12: 65 | H12: 51.47 | I12: =ROUND(H12*23.59%,2) -> 12.14 | J12: =H12+I12 -> 63.61
A13: 6 | B13: VP LATGALES RP DIENVIDLATGALES IECIRKŅA REAĢĒŠANAS NODAĻAS 7.GRUPA | C13: inspektors | D13: 1317 | E13: 20% | F13: =ROUND(D13/$F$4,3) -> 7.918 | G13: 12 | H13: 19 | I13: =ROUND(H13*23.59%,2) -> 4.48 | J13: =H13+I13 -> 23.48
A14: 7 | B14: VP LATGALES RP DIENVIDLATGALES IECIRKŅA REAĢĒŠANAS NODAĻAS 7.GRUPA | C14: jaunākais inspektors | D14: 1140 | E14: 10% | F14: =ROUND(D14/$F$4,3) -> 6.854 | G14: 39 | H14: 26.73 | I14: =ROUND(H14*23.59%,2) -> 6.31 | J14: =H14+I14 -> 33.04
A15: 8 | B15: VP LATGALES RP DIENVIDLATGALES IECIRKŅA IZMEKLĒŠANAS NODAĻAS 5.GRUPA | C15: inspektors | D15: 1437 | E15: 20% | F15: =ROUND(D15/$F$4,3) -> 8.639 | G15: 11 | H15: 19.01 | I15: =ROUND(H15*23.59%,2) -> 4.48 | J15: =H15+I15 -> 23.49
A16: 9 | B16: VP LATGALES RP DIENVIDLATGALES IECIRKŅA REAĢĒŠANAS NODAĻAS 1.GRUPA | C16: inspektors | D16: 1317 | E16: 20% | F16: =ROUND(D16/$F$4,3) -> 7.918 | G16: 38 | H16: 60.18 | I16: =ROUND(H16*23.59%,2) -> 14.2 | J16: =H16+I16 -> 74.38
A17: 10 | B17: VP LATGALES RP DIENVIDLATGALES IECIRKŅA REAĢĒŠANAS NODAĻAS 6.GRUPA | C17: jaunākais inspektors | D17: 1120 | E17: 10% | F17: =ROUND(D17/$F$4,3) -> 6.734 | G17: 39 | H17: 26.26 | I17: =ROUND(H17*23.59%,2) -> 6.19 | J17: =H17+I17 -> 32.45
A18: 11 | B18: VP LATGALES RP ZIEMEĻLATGALES IECIRKŅA PREVENCIJAS GRUPA | C18: vecākais inspektors | D18: 1381 | E18: 20% | F18: =ROUND(D18/$F$4,3) -> 8.303 | G18: 70 | H18: 116.24 | I18: =ROUND(H18*23.59%,2) -> 27.42 | J18: =H18+I18 -> 143.66
A19: 12 | B19: VP LATGALES RP DIENVIDLATGALES IECIRKŅA REAĢĒŠANAS NODAĻAS 4.GRUPA | C19: vecākais inspektors | D19: 1381 | E19: 20% | F19: =ROUND(D19/$F$4,3) -> 8.303 | G19: 37 | H19: 61.44 | I19: =ROUND(H19*23.59%,2) -> 14.49 | J19: =H19+I19 -> 75.93
... A23: 16 | B23: VP LATGALES RP DIENVIDLATGALES IECIRKŅA IZMEKLĒŠANAS NODAĻAS 7.GRUPA | C23: vecākais inspektors | D23: 1355 | E23: 20% | F23: =ROUND(D23/$F$4,3) -> 8.146 | G23: 45 | H23: 73.31 | I23: =ROUND(H23*23.59%,2) -> 17.29 | J23: =H23+I23 -> 90.6
A24: 17 | B24: VP LATGALES RP ZIEMEĻLATGALES IECIRKŅA IZMEKLĒŠANAS NODAĻAS 3.GRUPA | C24: vecākais inspektors | D24: 1610 | E24: 20% | F24: =ROUND(D24/$F$4,3) -> 9.68 | G24: 51 | H24: 98.74 | I24: =ROUND(H24*23.59%,2)+0.01 -> 23.3 | J24: =H24+I24 -> 122.04
A25: 18 | B25: VP LATGALES RP ZIEMEĻLATGALES IECIRKŅA REAĢĒŠANAS NODAĻAS 10.GRUPA | C25: galvenais inspektors | D25: 1542 | E25: 20% | F25: =ROUND(D25/$F$4,3) -> 9.271 | G25: 12 | H25: 22.25 | I25: =ROUND(H25*23.59%,2) -> 5.25 | J25: =H25+I25 -> 27.5
A26: 19 | B26: VP LATGALES RP DIENVIDLATGALES IECIRKŅA REAĢĒŠANAS NODAĻAS 10.GRUPA | C26: vecākais inspektors | D26: 1355 | E26: 20% | F26: =ROUND(D26/$F$4,3) -> 8.146 | G26: 12 | H26: 19.55 | I26: =ROUND(H26*23.59%,2) -> 4.61 | J26: =H26+I26 -> 24.16
A27: 20 | B27: VP LATGALES RP DIENVIDLATGALES IECIRKŅA REAĢĒŠANAS NODAĻAS 6.GRUPA | C27: jaunākais inspektors | D27: 1140 | E27: 10% | F27: =ROUND(D27/$F$4,3) -> 6.854 | G27: 52 | H27: 35.64 | I27: =ROUND(H27*23.59%,2) -> 8.41 | J27: =H27+I27 -> 44.05
A28: 21 | B28: VP LATGALES RP DIENVIDLATGALES IECIRKŅA REAĢĒŠANAS NODAĻAS 6.GRUPA | C28: jaunākais inspektors | D28: 1140 | E28: 20% | F28: =ROUND(D28/$F$4,3) -> 6.854 | G28: 53 | H28: 72.65 | I28: =ROUND(H28*23.59%,2) -> 17.14 | J28: =H28+I28 -> 89.79
A29: 22 | B29: VP LATGALES RP ZIEMEĻLATGALES IECIRKŅA IZMEKLĒŠANAS NODAĻAS 2.GRUPA | C29: galvenais inspektors | D29: 2040 | E29: 20% | F29: =ROUND(D29/$F$4,3) -> 12.265 | G29: 48 | H29: 117.74 | I29: =ROUND(H29*23.59%,2) -> 27.77 | J29: =H29+I29 -> 145.51
A30: 23 | B30: VP LATGALES RP DIENVIDLATGALES IECIRKŅA IZMEKLĒŠANAS NODAĻAS 2.GRUPA | C30: galvenais inspektors | D30: 1525 | E30: 20% | F30: =ROUND(D30/$F$4,3) -> 9.169 | G30: 24 | H30: 44.01 | I30: =ROUND(H30*23.59%,2) -> 10.38 | J30: =H30+I30 -> 54.39
A31: 24 | B31: VP LATGALES RP ZIEMEĻLATGALES IECIRKŅA REAĢĒŠANAS NODAĻAS 10.GRUPA | C31: inspektors | D31: 1337 | E31: 20% | F31: =ROUND(D31/$F$4,3) -> 8.038 | G31: 80.5 | H31: 129.41 | I31: =ROUND(H31*23.59%,2) -> 30.53 | J31: =H31+I31 -> 159.94
A32: 25 | B32: VP LATGALES RP ZIEMEĻLATGALES IECIRKŅA REAĢĒŠANAS NODAĻAS 10.GRUPA | C32: inspektors | D32: 1337 | E32: 50% | F32: =ROUND(D32/$F$4,3) -> 8.038 | G32: 0.5 | H32: 2.01 | I32: =ROUND(H32*23.59%,2) -> 0.47 | J32: =H32+I32 -> 2.48
A33: 26 | B33: VP GKĀRTPP RKVP SPECIĀLO UZDEVUMU BATALJONA 3.ROTA | C33: jaunākais inspektors | D33: 1303 | E33: 50% | F33: =ROUND(D33/$F$4,3) -> 7.834 | G33: 54 | H33: 211.52 | I33: =ROUND(H33*23.59%,2) -> 49.9 | J33: =H33+I33 -> 261.42
A34: 27 | B34: VP GKĀRTPP RKVP SPECIĀLO UZDEVUMU BATALJONA 3.ROTA | C34: jaunākais inspektors | D34: 1303 | E34: 20% | F34: =ROUND(D34/$F$4,3) -> 7.834 | G34: 77 | H34: 120.64 | I34: =ROUND(H34*23.59%,2) -> 28.46 | J34: =H34+I34 -> 149.1
A35: 28 | B35: VP LATGALES RP DIENVIDLATGALES IECIRKŅA REAĢĒŠANAS NODAĻAS 2.GRUPA | C35: vecākais inspektors | D35: 1381 | E35: 20% | F35: =ROUND(D35/$F$4,3) -> 8.303 | G35: 75 | H35: 124.55 | I35: =ROUND(H35*23.59%,2) -> 29.38 | J35: =H35+I35 -> 153.93
A36: 29 | B36: VP LATGALES RP DIENVIDLATGALES IECIRKŅA IZMEKLĒŠANAS NODAĻAS 1.GRUPA | C36: galvenais inspektors | D36: 1872 | E36: 10% | F36: =ROUND(D36/$F$4,3) -> 11.255 | G36: 26 | H36: 29.26 | I36: =ROUND(H36*23.59%,2) -> 6.9 | J36: =H36+I36 -> 36.16
... A40: 33 | B40: VP LATGALES RP ZIEMEĻLATGALES IECIRKŅA IZMEKLĒŠANAS NODAĻAS 4.GRUPA | C40: inspektors | D40: 1583 | E40: 20% | F40: =ROUND(D40/$F$4,3) -> 9.517 | G40: 46 | H40: 87.56 | I40: =ROUND(H40*23.59%,2) -> 20.66 | J40: =H40+I40 -> 108.22
A41: 34 | B41: VP LATGALES RP ZIEMEĻLATGALES IECIRKŅA REAĢĒŠANAS NODAĻAS 3.GRUPA | C41: inspektors | D41: 1401 | E41: 20% | F41: =ROUND(D41/$F$4,3) -> 8.423 | G41: 48.5 | H41: 81.7 | I41: =ROUND(H41*23.59%,2)+0.01 -> 19.28 | J41: =H41+I41 -> 100.98
A42: 35 | B42: VP LATGALES RP DIENVIDLATGALES IECIRKŅA IZMEKLĒŠANAS NODAĻAS 8.GRUPA | C42: inspektors | D42: 1362 | E42: 10% | F42: =ROUND(D42/$F$4,3) -> 8.189 | G42: 24 | H42: 19.65 | I42: =ROUND(H42*23.59%,2) -> 4.64 | J42: =H42+I42 -> 24.29
A43: 36 | B43: VP LATGALES RP KĀRTPB ATĻAUJU SISTĒMAS GRUPA | C43: vecākais inspektors | D43: 1240 | E43: 20% | F43: =ROUND(D43/$F$4,3) -> 7.455 | G43: 40 | H43: 59.64 | I43: =ROUND(H43*23.59%,2) -> 14.07 | J43: =H43+I43 -> 73.71
A44: 37 | B44: VP LATGALES RP DIENVIDLATGALES IECIRKŅA REAĢĒŠANAS NODAĻAS 1.GRUPA | C44: inspektors | D44: 1337 | E44: 20% | F44: =ROUND(D44/$F$4,3) -> 8.038 | G44: 50 | H44: 80.38 | I44: =ROUND(H44*23.59%,2) -> 18.96 | J44: =H44+I44 -> 99.34
A45: 38 | B45: VP LATGALES RP ZIEMEĻLATGALES IECIRKŅA IZMEKLĒŠANAS NODAĻAS 3.GRUPA | C45: inspektors | D45: 1443 | E45: 20% | F45: =ROUND(D45/$F$4,3) -> 8.676 | G45: 24 | H45: 41.64 | I45: =ROUND(H45*23.59%,2) -> 9.82 | J45: =H45+I45 -> 51.46
A46: 39 | B46: VP LATGALES REĢIONA PĀRVALDES DISCIPLINĀRĀS UZRAUDZĪBAS GRUPA | C46: galvenais inspektors | D46: 1565 | E46: 20% | F46: =ROUND(D46/$F$4,3) -> 9.409 | G46: 25 | H46: 47.05 | I46: =ROUND(H46*23.59%,2) -> 11.1 | J46: =H46+I46 -> 58.15
A47: 40 | B47: VP LATGALES RP KĀRTPB RESURSU UN KRĪZES VADĪBAS NODAĻA | C47: nodaļas priekšnieks | D47: 1474 | E47: 20% | F47: =ROUND(D47/$F$4,3) -> 8.862 | G47: 25 | H47: 44.31 | I47: =ROUND(H47*23.59%,2) -> 10.45 | J47: =H47+I47 -> 54.76
A48: 41 | B48: VP LATGALES RP KĀRTPB ATĻAUJU SISTĒMAS GRUPA | C48: inspektors | D48: 1176 | E48: 20% | F48: =ROUND(D48/$F$4,3) -> 7.07 | G48: 47 | H48: 66.46 | I48: =ROUND(H48*23.59%,2) -> 15.68 | J48: =H48+I48 -> 82.14
A49: 42 | B49: VP LATGALES RP DIENVIDLATGALES IECIRKŅA REAĢĒŠANAS NODAĻAS 4.GRUPA | C49: jaunākais inspektors | D49: 1140 | E49: 20% | F49: =ROUND(D49/$F$4,3) -> 6.854 | G49: 50 | H49: 68.54 | I49: =ROUND(H49*23.59%,2) -> 16.17 | J49: =H49+I49 -> 84.71
A50: 43 | B50: VP LATGALES RP ZIEMEĻLATGALES IECIRKŅA IZMEKLĒŠANAS NODAĻAS 5.GRUPA | C50: vecākais inspektors | D50: 1517 | E50: 20% | F50: =ROUND(D50/$F$4,3) -> 9.12 | G50: 48 | H50: 87.55 | I50: =ROUND(H50*23.59%,2)+0.01 -> 20.66 | J50: =H50+I50 -> 108.21
A51: 44 | B51: VP LATGALES RP ZIEMEĻLATGALES IECIRKŅA REAĢĒŠANAS NODAĻAS 9.GRUPA | C51: inspektors | D51: 1337 | E51: 20% | F51: =ROUND(D51/$F$4,3) -> 8.038 | G51: 43 | H51: 69.13 | I51: =ROUND(H51*23.59%,2) -> 16.31 | J51: =H51+I51 -> 85.44
A52: 45 | B52: VP LATGALES RP DIENVIDLATGALES IECIRKŅA IZMEKLĒŠANAS NODAĻAS 8.GRUPA | C52: inspektors | D52: 1337 | E52: 20% | F52: =ROUND(D52/$F$4,3) -> 8.038 | G52: 12 | H52: 19.29 | I52: =ROUND(H52*23.59%,2) -> 4.55 | J52: =H52+I52 -> 23.84
A53: 46 | B53: VP LATGALES RP DIENVIDLATGALES IECIRKŅA IZMEKLĒŠANAS NODAĻAS 8.GRUPA | C53: inspektors | D53: 1337 | E53: 10% | F53: =ROUND(D53/$F$4,3) -> 8.038 | G53: 12 | H53: 9.65 | I53: =ROUND(H53*23.59%,2) -> 2.28 | J53: =H53+I53 -> 11.93
A54: 47 | B54: VP LATGALES RP DIENVIDLATGALES IECIRKŅA REAĢĒŠANAS NODAĻAS 10.GRUPA | C54: inspektors | D54: 1337 | E54: 20% | F54: =ROUND(D54/$F$4,3) -> 8.038 | G54: 24 | H54: 38.58 | I54: =ROUND(H54*23.59%,2) -> 9.1 | J54: =H54+I54 -> 47.68
A55: 48 | B55: VP LATGALES RP DIENVIDLATGALES IECIRKŅA REAĢĒŠANAS NODAĻAS 10.GRUPA | C55: inspektors | D55: 1337 | E55: 10% | F55: =ROUND(D55/$F$4,3) -> 8.038 | G55: 4 | H55: 3.22 | I55: =ROUND(H55*23.59%,2) -> 0.76 | J55: =H55+I55 -> 3.98
A56: 49 | B56: VP LATGALES RP KRIMPB ORGANIZĒTĀS NOZIEDZĪBAS SMAGO UN SĒRIJVEIDA NOZIEGUMU APKAROŠANAS NODAĻA | C56: vecākais inspektors | D56: 1545 | E56: 20% | F56: =ROUND(D56/$F$4,3) -> 9.289 | G56: 12 | H56: 22.29 | I56: =ROUND(H56*23.59%,2) -> 5.26 | J56: =H56+I56 -> 27.55
A57: 50 | B57: VP LATGALES RP ZIEMEĻLATGALES IECIRKŅA REAĢĒŠANAS NODAĻAS 6.GRUPA | C57: vecākais inspektors | D57: 1431 | E57: 20% | F57: =ROUND(D57/$F$4,3) -> 8.603 | G57: 61 | H57: 104.96 | I57: =ROUND(H57*23.59%,2) -> 24.76 | J57: =H57+I57 -> 129.72
A58: 51 | B58: VP GKĀRTPP RKVP SPECIĀLO UZDEVUMU BATALJONA 6.ROTA (ZEMGALES REĢIONA) | C58: rotas komandiera vietnieks | D58: 1449 | E58: 50% | F58: =ROUND(D58/$F$4,3) -> 8.712 | G58: 30.5 | H58: 132.86 | I58: =ROUND(H58*23.59%,2) -> 31.34 | J58: =H58+I58 -> 164.2
A59: 52 | B59: VP GKĀRTPP RKVP SPECIĀLO UZDEVUMU BATALJONA 6.ROTA (ZEMGALES REĢIONA) | C59: rotas komandiera vietnieks | D59: 1449 | E59: 20% | F59: =ROUND(D59/$F$4,3) -> 8.712 | G59: 65.5 | H59: 114.13 | I59: =ROUND(H59*23.59%,2) -> 26.92 | J59: =H59+I59 -> 141.05
A60: 53 | B60: VP LATGALES RP ZIEMEĻLATGALES IECIRKŅA IZMEKLĒŠANAS NODAĻAS 8.GRUPA | C60: vecākais inspektors | D60: 1355 | E60: 20% | F60: =ROUND(D60/$F$4,3) -> 8.146 | G60: 12 | H60: 19.55 | I60: =ROUND(H60*23.59%,2) -> 4.61 | J60: =H60+I60 -> 24.16
A61: 54 | B61: VP LATGALES RP ZIEMEĻLATGALES IECIRKŅA REAĢĒŠANAS NODAĻAS 5.GRUPA | C61: inspektors | D61: 1337 | E61: 20% | F61: =ROUND(D61/$F$4,3) -> 8.038 | G61: 38 | H61: 61.09 | I61: =ROUND(H61*23.59%,2) -> 14.41 | J61: =H61+I61 -> 75.5
A62: 55 | B62: VP LATGALES RP ZIEMEĻLATGALES IECIRKŅA REAĢĒŠANAS NODAĻAS 6.GRUPA | C62: galvenais inspektors | D62: 1474 | E62: 20% | F62: =ROUND(D62/$F$4,3) -> 8.862 | G62: 49.5 | H62: 87.73 | I62: =ROUND(H62*23.59%,2) -> 20.7 | J62: =H62+I62 -> 108.43
A63: 56 | B63: VP LATGALES RP ZIEMEĻLATGALES IECIRKŅA REAĢĒŠANAS NODAĻAS 4.GRUPA | C63: jaunākais inspektors | D63: 1302 | E63: 20% | F63: =ROUND(D63/$F$4,3) -> 7.828 | G63: 54 | H63: 84.54 | I63: =ROUND(H63*23.59%,2)+0.01 -> 19.95 | J63: =H63+I63 -> 104.49
A64: 57 | B64: VP LATGALES RP ZIEMEĻLATGALES IECIRKŅA REAĢĒŠANAS NODAĻAS 6.GRUPA | C64: jaunākais inspektors | D64: 1140 | E64: 20% | F64: =ROUND(D64/$F$4,3) -> 6.854 | G64: 48.5 | H64: 66.48 | I64: =ROUND(H64*23.59%,2) -> 15.68 | J64: =H64+I64 -> 82.16
A65: 58 | B65: VP LATGALES RP ZIEMEĻLATGALES IECIRKŅA IZMEKLĒŠANAS NODAĻAS 6.GRUPA | C65: inspektors | D65: 1463 | E65: 50% | F65: =ROUND(D65/$F$4,3) -> 8.796 | G65: 0.5 | H65: 2.2 | I65: =ROUND(H65*23.59%,2) -> 0.52 | J65: =H65+I65 -> 2.72
A66: 59 | B66: VP LATGALES RP ZIEMEĻLATGALES IECIRKŅA IZMEKLĒŠANAS NODAĻAS 6.GRUPA | C66: inspektors | D66: 1463 | E66: 20% | F66: =ROUND(D66/$F$4,3) -> 8.796 | G66: 34.5 | H66: 60.69 | I66: =ROUND(H66*23.59%,2) -> 14.32 | J66: =H66+I66 -> 75.01
A67: 60 | B67: VP LATGALES RP DIENVIDLATGALES IECIRKŅA IZMEKLĒŠANAS NODAĻAS 4.GRUPA | C67: inspektors | D67: 1423 | E67: 20% | F67: =ROUND(D67/$F$4,3) -> 8.555 | G67: 51 | H67: 87.26 | I67: =ROUND(H67*23.59%,2) -> 20.58 | J67: =H67+I67 -> 107.84
A68: 61 | B68: VP LATGALES RP ZIEMEĻLATGALES IECIRKŅA IZMEKLĒŠANAS NODAĻAS 4.GRUPA | C68: vecākais inspektors | D68: 1637 | E68: 20% | F68: =ROUND(D68/$F$4,3) -> 9.842 | G68: 34 | H68: 66.93 | I68: =ROUND(H68*23.59%,2) -> 15.79 | J68: =H68+I68 -> 82.72
A69: 62 | B69: VP LATGALES RP DIENVIDLATGALES IECIRKŅA PREVENCIJAS GRUPA | C69: vecākais inspektors | D69: 1381 | E69: 20% | F69: =ROUND(D69/$F$4,3) -> 8.303 | G69: 81.5 | H69: 135.34 | I69: =ROUND(H69*23.59%,2) -> 31.93 | J69: =H69+I69 -> 167.27
A70: 63 | B70: VP LATGALES RP KĀRTPB RESURSU UN KRĪZES VADĪBAS NODAĻA | C70: nodaļas priekšnieka vietnieks | D70: 1386 | E70: 20% | F70: =ROUND(D70/$F$4,3) -> 8.333 | G70: 25 | H70: 41.67 | I70: =ROUND(H70*23.59%,2) -> 9.83 | J70: =H70+I70 -> 51.5
A71: 64 | B71: VP LATGALES RP KĀRTPB PREVENCIJAS GRUPA | C71: galvenais inspektors | D71: 1614 | E71: 20% | F71: =ROUND(D71/$F$4,3) -> 9.704 | G71: 52 | H71: 100.92 | I71: =ROUND(H71*23.59%,2) -> 23.81 | J71: =H71+I71 -> 124.73
A72: 65 | B72: VP LATGALES RP DIENVIDLATGALES IECIRKŅA PREVENCIJAS GRUPA | C72: vecākais inspektors | D72: 1355 | E72: 20% | F72: =ROUND(D72/$F$4,3) -> 8.146 | G72: 82.5 | H72: 134.41 | I72: =ROUND(H72*23.59%,2) -> 31.71 | J72: =H72+I72 -> 166.12
A73: 66 | B73: VP LATGALES RP DIENVIDLATGALES IECIRKŅA IZMEKLĒŠANAS NODAĻAS 1.GRUPA | C73: inspektors | D73: 1443 | E73: 20% | F73: =ROUND(D73/$F$4,3) -> 8.676 | G73: 57 | H73: 98.91 | I73: =ROUND(H73*23.59%,2) -> 23.33 | J73: =H73+I73 -> 122.24
A74: 67 | B74: VP LATGALES RP DIENVIDLATGALES IECIRKŅA IZMEKLĒŠANAS NODAĻAS 1.GRUPA | C74: inspektors | D74: 1443 | E74: 50% | F74: =ROUND(D74/$F$4,3) -> 8.676 | G74: 5 | H74: 21.69 | I74: =ROUND(H74*23.59%,2) -> 5.12 | J74: =H74+I74 -> 26.81
A75: 68 | B75: VP LATGALES RP DIENVIDLATGALES IECIRKŅA REAĢĒŠANAS NODAĻAS 10.GRUPA | C75: vecākais inspektors | D75: 1335 | E75: 10% | F75: =ROUND(D75/$F$4,3) -> 8.026 | G75: 12 | H75: 9.63 | I75: =ROUND(H75*23.59%,2) -> 2.27 | J75: =H75+I75 -> 11.9
... A79: 72 | B79: VP LATGALES RP DIENVIDLATGALES IECIRKŅA IZMEKLĒŠANAS NODAĻAS 8.GRUPA | C79: vecākais inspektors | D79: 1335 | E79: 20% | F79: =ROUND(D79/$F$4,3) -> 8.026 | G79: 36 | H79: 57.79 | I79: =ROUND(H79*23.59%,2) -> 13.63 | J79: =H79+I79 -> 71.42
A80: 73 | B80: VP LATGALES RP DIENVIDLATGALES IECIRKŅA IZMEKLĒŠANAS NODAĻAS 8.GRUPA | C80: vecākais inspektors | D80: 1335 | E80: 10% | F80: =ROUND(D80/$F$4,3) -> 8.026 | G80: 12 | H80: 9.63 | I80: =ROUND(H80*23.59%,2)+0.01 -> 2.28 | J80: =H80+I80 -> 11.91
A81: 74 | B81: VP LATGALES RP ZIEMEĻLATGALES IECIRKŅA REAĢĒŠANAS NODAĻAS 1.GRUPA | C81: vecākais inspektors | D81: 1355 | E81: 20% | F81: =ROUND(D81/$F$4,3) -> 8.146 | G81: 49.5 | H81: 80.65 | I81: =ROUND(H81*23.59%,2) -> 19.03 | J81: =H81+I81 -> 99.68
A82: 75 | B82: VP LATGALES RP KRIMPB ORGANIZĒTĀS NOZIEDZĪBAS SMAGO UN SĒRIJVEIDA NOZIEGUMU APKAROŠANAS NODAĻA | C82: vecākais inspektors | D82: 1565 | E82: 20% | F82: =ROUND(D82/$F$4,3) -> 9.409 | G82: 24 | H82: 45.16 | I82: =ROUND(H82*23.59%,2) -> 10.65 | J82: =H82+I82 -> 55.81
A83: 76 | B83: VP LATGALES RP ZIEMEĻLATGALES IECIRKNIS | C83: iecirkņa priekšnieka vietnieks, Izmeklēšanas nodaļas priekšnieks | D83: 2004 | E83: 20% | F83: =ROUND(D83/$F$4,3) -> 12.048 | G83: 35.5 | H83: 85.54 | I83: =ROUND(H83*23.59%,2) -> 20.18 | J83: =H83+I83 -> 105.72
A84: 77 | B84: VP LATGALES RP ZIEMEĻLATGALES IECIRKNIS | C84: iecirkņa priekšnieka vietnieks, Izmeklēšanas nodaļas priekšnieks | D84: 2004 | E84: 50% | F84: =ROUND(D84/$F$4,3) -> 12.048 | G84: 0.5 | H84: 3.01 | I84: =ROUND(H84*23.59%,2) -> 0.71 | J84: =H84+I84 -> 3.72
A85: 78 | B85: VP LATGALES RP ZIEMEĻLATGALES IECIRKŅA REAĢĒŠANAS NODAĻAS 8.GRUPA | C85: vecākais inspektors | D85: 1381 | E85: 20% | F85: =ROUND(D85/$F$4,3) -> 8.303 | G85: 48 | H85: 79.71 | I85: =ROUND(H85*23.59%,2) -> 18.8 | J85: =H85+I85 -> 98.51
A86: 79 | B86: VP LATGALES RP ZIEMEĻLATGALES IECIRKŅA REAĢĒŠANAS NODAĻAS 1.GRUPA | C86: galvenais inspektors | D86: 1474 | E86: 20% | F86: =ROUND(D86/$F$4,3) -> 8.862 | G86: 25.5 | H86: 45.2 | I86: =ROUND(H86*23.59%,2) -> 10.66 | J86: =H86+I86 -> 55.86
A87: 80 | B87: VP LATGALES RP DIENVIDLATGALES IECIRKŅA REAĢĒŠANAS NODAĻAS 1.GRUPA | C87: vecākais inspektors | D87: 1355 | E87: 20% | F87: =ROUND(D87/$F$4,3) -> 8.146 | G87: 52 | H87: 84.72 | I87: =ROUND(H87*23.59%,2) -> 19.99 | J87: =H87+I87 -> 104.71
A88: 81 | B88: VP LATGALES RP ZIEMEĻLATGALES IECIRKŅA REAĢĒŠANAS NODAĻAS 5.GRUPA | C88: vecākais inspektors | D88: 1517 | E88: 20% | F88: =ROUND(D88/$F$4,3) -> 9.12 | G88: 87 | H88: 158.69 | I88: =ROUND(H88*23.59%,2) -> 37.43 | J88: =H88+I88 -> 196.12
A89: 82 | B89: VP LATGALES RP ZIEMEĻLATGALES IECIRKŅA REAĢĒŠANAS NODAĻAS 1.GRUPA | C89: vecākais inspektors | D89: 1335 | E89: 20% | F89: =ROUND(D89/$F$4,3) -> 8.026 | G89: 64.5 | H89: 103.54 | I89: =ROUND(H89*23.59%,2) -> 24.43 | J89: =H89+I89 -> 127.97
A90: 83 | B90: VP LATGALES RP ZIEMEĻLATGALES IECIRKŅA REAĢĒŠANAS NODAĻAS 1.GRUPA | C90: vecākais inspektors | D90: 1335 | E90: 50% | F90: =ROUND(D90/$F$4,3) -> 8.026 | G90: 0.5 | H90: 2.01 | I90: =ROUND(H90*23.59%,2) -> 0.47 | J90: =H90+I90 -> 2.48
A91: 84 | B91: VP LATGALES RP DIENVIDLATGALES IECIRKŅA REAĢĒŠANAS NODAĻAS 3.GRUPA | C91: vecākais inspektors | D91: 1355 | E91: 20% | F91: =ROUND(D91/$F$4,3) -> 8.146 | G91: 37.5 | H91: 61.1 | I91: =ROUND(H91*23.59%,2) -> 14.41 | J91: =H91+I91 -> 75.51
A92: 85 | B92: VP LATGALES RP ZIEMEĻLATGALES IECIRKŅA IZMEKLĒŠANAS NODAĻAS 9.GRUPA | C92: galvenais inspektors | D92: 1463 | E92: 20% | F92: =ROUND(D92/$F$4,3) -> 8.796 | G92: 24 | H92: 42.22 | I92: =ROUND(H92*23.59%,2) -> 9.96 | J92: =H92+I92 -> 52.18
... A100: 93 | B100: VP LATGALES RP ZIEMEĻLATGALES IECIRKŅA REAĢĒŠANAS NODAĻAS 4.GRUPA | C100: vecākais inspektors | D100: 1335 | E100: 20% | F100: =ROUND(D100/$F$4,3) -> 8.026 | G100: 38 | H100: 61 | I100: =ROUND(H100*23.59%,2) -> 14.39 | J100: =H100+I100 -> 75.39
A101: 94 | B101: VP LATGALES RP ZIEMEĻLATGALES IECIRKŅA REAĢĒŠANAS NODAĻAS 7.GRUPA | C101: vecākais inspektors | D101: 1355 | E101: 20% | F101: =ROUND(D101/$F$4,3) -> 8.146 | G101: 74 | H101: 120.56 | I101: =ROUND(H101*23.59%,2)+0.01 -> 28.45 | J101: =H101+I101 -> 149.01
A102: 95 | B102: VP LATGALES RP DIENVIDLATGALES IECIRKŅA IZMEKLĒŠANAS NODAĻAS 8.GRUPA | C102: vecākais inspektors | D102: 1355 | E102: 20% | F102: =ROUND(D102/$F$4,3) -> 8.146 | G102: 61 | H102: 99.38 | I102: =ROUND(H102*23.59%,2) -> 23.44 | J102: =H102+I102 -> 122.82
A103: 96 | B103: VP GKĀRTPP RKVP SPECIĀLO UZDEVUMU BATALJONA 5.ROTA (VIDZEMES REĢIONA) | C103: jaunākais inspektors | D103: 1225 | E103: 20% | F103: =ROUND(D103/$F$4,3) -> 7.365 | G103: 77.5 | H103: 114.16 | I103: =ROUND(H103*23.59%,2) -> 26.93 | J103: =H103+I103 -> 141.09
A104: 97 | B104: VP GKĀRTPP RKVP SPECIĀLO UZDEVUMU BATALJONA 5.ROTA (VIDZEMES REĢIONA) | C104: jaunākais inspektors | D104: 1225 | E104: 50% | F104: =ROUND(D104/$F$4,3) -> 7.365 | G104: 42.5 | H104: 156.51 | I104: =ROUND(H104*23.59%,2) -> 36.92 | J104: =H104+I104 -> 193.43
A105: 98 | B105: VP GKĀRTPP RKVP SPECIĀLO UZDEVUMU BATALJONA 7.ROTA (KURZEMES REĢIONA) | C105: jaunākais inspektors | D105: 1225 | E105: 50% | F105: =ROUND(D105/$F$4,3) -> 7.365 | G105: 53.5 | H105: 197.01 | I105: =ROUND(H105*23.59%,2) -> 46.47 | J105: =H105+I105 -> 243.48
A106: 99 | B106: VP GKĀRTPP RKVP SPECIĀLO UZDEVUMU BATALJONA 7.ROTA (KURZEMES REĢIONA) | C106: jaunākais inspektors | D106: 1225 | E106: 20% | F106: =ROUND(D106/$F$4,3) -> 7.365 | G106: 90.5 | H106: 133.31 | I106: =ROUND(H106*23.59%,2) -> 31.45 | J106: =H106+I106 -> 164.76
A107: 100 | B107: VP LATGALES RP ZIEMEĻLATGALES IECIRKŅA IZMEKLĒŠANAS NODAĻAS 6.GRUPA | C107: galvenais inspektors | D107: 1565 | E107: 50% | F107: =ROUND(D107/$F$4,3) -> 9.409 | G107: 0.5 | H107: 2.35 | I107: =ROUND(H107*23.59%,2) -> 0.55 | J107: =H107+I107 -> 2.9
A108: 101 | B108: VP LATGALES RP ZIEMEĻLATGALES IECIRKŅA IZMEKLĒŠANAS NODAĻAS 6.GRUPA | C108: galvenais inspektors | D108: 1565 | E108: 20% | F108: =ROUND(D108/$F$4,3) -> 9.409 | G108: 24.5 | H108: 46.1 | I108: =ROUND(H108*23.59%,2) -> 10.87 | J108: =H108+I108 -> 56.97
A109: 102 | B109: VP LATGALES RP KĀRTPB RESURSU UN KRĪZES VADĪBAS NODAĻA | C109: jaunākais inspektors | D109: 1123 | E109: 20% | F109: =ROUND(D109/$F$4,3) -> 6.752 | G109: 51 | H109: 68.87 | I109: =ROUND(H109*23.59%,2) -> 16.25 | J109: =H109+I109 -> 85.12
A110: 103 | B110: VP LATGALES RP DIENVIDLATGALES IECIRKŅA REAĢĒŠANAS NODAĻAS 9.GRUPA | C110: vecākais inspektors | D110: 1381 | E110: 20% | F110: =ROUND(D110/$F$4,3) -> 8.303 | G110: 72 | H110: 119.56 | I110: =ROUND(H110*23.59%,2) -> 28.2 | J110: =H110+I110 -> 147.76
A111: 104 | B111: VP LATGALES RP DIENVIDLATGALES IECIRKŅA REAĢĒŠANAS NODAĻAS 5.GRUPA | C111: vecākais inspektors | D111: 1355 | E111: 20% | F111: =ROUND(D111/$F$4,3) -> 8.146 | G111: 12 | H111: 19.55 | I111: =ROUND(H111*23.59%,2) -> 4.61 | J111: =H111+I111 -> 24.16
A112: 105 | B112: VP LATGALES RP KRIMPB EKONOMISKO NOZIEGUMU APKAROŠANAS NODAĻA | C112: vecākais inspektors | D112: 1545 | E112: 20% | F112: =ROUND(D112/$F$4,3) -> 9.289 | G112: 24 | H112: 44.59 | I112: =ROUND(H112*23.59%,2) -> 10.52 | J112: =H112+I112 -> 55.11
A113: 106 | B113: VP LATGALES RP ZIEMEĻLATGALES IECIRKŅA REAĢĒŠANAS NODAĻAS 9.GRUPA | C113: inspektors | D113: 1482 | E113: 20% | F113: =ROUND(D113/$F$4,3) -> 8.91 | G113: 60 | H113: 106.92 | I113: =ROUND(H113*23.59%,2) -> 25.22 | J113: =H113+I113 -> 132.14
A114: 107 | B114: VP LATGALES RP DIENVIDLATGALES IECIRKŅA REAĢĒŠANAS NODAĻAS 4.GRUPA | C114: vecākais inspektors | D114: 1475 | E114: 20% | F114: =ROUND(D114/$F$4,3) -> 8.868 | G114: 38 | H114: 67.4 | I114: 14.79 | J114: =H114+I114 -> 82.19
A115: 108 | B115: VP LATGALES RP DIENVIDLATGALES IECIRKŅA PREVENCIJAS GRUPA | C115: vecākais inspektors | D115: 1361 | E115: 20% | F115: =ROUND(D115/$F$4,3) -> 8.183 | G115: 27.5 | H115: 45.01 | I115: =ROUND(H115*23.59%,2) -> 10.62 | J115: =H115+I115 -> 55.63
A116: 109 | B116: VP LATGALES RP DIENVIDLATGALES IECIRKŅA IZMEKLĒŠANAS NODAĻAS 9.GRUPA | C116: galvenais inspektors | D116: 1422 | E116: 20% | F116: =ROUND(D116/$F$4,3) -> 8.549 | G116: 24 | H116: 41.04 | I116: =ROUND(H116*23.59%,2) -> 9.68 | J116: =H116+I116 -> 50.72
A117: 110 | B117: VP LATGALES RP ZIEMEĻLATGALES IECIRKŅA REAĢĒŠANAS NODAĻAS 4.GRUPA | C117: jaunākais inspektors | D117: 1120 | E117: 50% | F117: =ROUND(D117/$F$4,3) -> 6.734 | G117: 0.5 | H117: 1.68 | I117: =ROUND(H117*23.59%,2) -> 0.4 | J117: =H117+I117 -> 2.08
...

Sheet 3.tabula
F1: 3.tabula
A2: Valsts policija
A3: Degvielas izmaksu aprēķins degvielas izdevumiem sniedzot atbalstu Valsts robežsardzei Latvijas Republikas-Baltkrievijas Republikas valsts robežas nelikumīgas šķērsošanas nodrošināšanā par laika periodu no 2023.gada 1. oktobra līdz 31. oktobrim
A5: Nr.p.k. | B5: Transportlīdzekļa marka | C5: Iesaistīto transportlīdzekļu skaits | D5: Faktiskais nobraukums pasākumā (km) | E5: Pasākuma laikā patērētā degviela (l) | F5: Summa euro
A6: Kopā: | C6: =ROUNDUP(SUM(C8:C52),2) -> 162 | D6: =ROUNDUP(SUM(D8:D52),2) -> 199491 | E6: =ROUNDUP(SUM(E8:E52),2) -> 16321.98 | F6: =ROUNDUP(SUM(F8:F52),2) -> 25603.68
A7: Vidzemes reģiona pārvalde
A8: 1 | B8: VW Transporter | C8: 26 | D8: 15843 | E8: 1491.52 | F8: 2348.08
A9: 2 | B9: Peugeot Boxer | C9: 2 | D9: 1607 | E9: 164.05 | F9: 259.7
A10: 3 | B10: VW Crafter | C10: 1 | D10: 1035 | E10: 104.33 | F10: 162.44
A11: 4 | B11: VW Tiguan | C11: 1 | D11: 1466 | E11: 86.94 | F11: 134.48
A15: Latgales reģiona pārvalde
A16: 5 | B16: Citroen Jumper | C16: 1 | D16: 719 | E16: 75.5 | F16: 117.78
A17: =A16+1 -> 6 | B17: Fiat 500xCross | C17: 1 | D17: 618 | E17: 42.02 | F17: 67.66
A18: =A17+1 -> 7 | B18: Ford Transit Custom | C18: 2 | D18: 1055 | E18: 88.43 | F18: 139.11
A19: =A18+1 -> 8 | B19: Hyundai Santa Fe | C19: 1 | D19: 256 | E19: 27.9 | F19: 43.53
A20: =A19+1 -> 9 | B20: KIA Cee'D | C20: 10 | D20: 4024 | E20: 278.26 | F20: 436.36
A21: =A20+1 -> 10 | B21: Opel Combo | C21: 1 | D21: 570 | E21: 41.61 | F21: 64.92
A22: =A21+1 -> 11 | B22: Opel Mokka | C22: 47 | D22: 92263 | E22: =6599.42 -> 6599.42 | F22: =10354.22-0.44-1.85-3.51 -> 10348.42
A23: =A22+1 -> 12 | B23: Opel Insignia | C23: 1 | D23: 533 | E23: 64.49 | F23: 99.96
A24: =A23+1 -> 13 | B24: Opel Insignia Limousine NB | C24: 7 | D24: 1645 | E24: 108.61 | F24: 170.48
A25: =A24+1 -> 14 | B25: Opel Insignia Sports Tourer SW | C25: 1 | D25: 237 | E25: 15.41 | F25: 24.04
A26: =A25+1 -> 15 | B26: Renault Kangoo | C26: 6 | D26: 16475 | E26: 1287.04 | F26: 2008.06
A27: =A26+1 -> 16 | B27: Renault Laguna | C27: 3 | D27: 6022 | E27: 546.72 | F27: =852.89-3.51 -> 849.38
A28: =A27+1 -> 17 | B28: Renault Master | C28: 2 | D28: 293 | E28: 32.52 | F28: 50.73
A29: =A28+1 -> 18 | B29: Renault Trafic | C29: 6 | D29: 9165 | E29: 798.66 | F29: 1263.19
A30: =A29+1 -> 19 | B30: Škoda Octavia | C30: 3 | D30: 1010 | E30: 66.39 | F30: 105.29
A31: =A30+1 -> 20 | B31: Škoda Superb | C31: 2 | D31: 504 | E31: 55.07 | F31: 85.36
A32: =A31+1 -> 21 | B32: Toyota Camry | C32: 1 | D32: 281 | E32: 16.02 | F32: 24.83
A33: =A32+1 -> 22 | B33: Toyota RAV4 | C33: 3 | D33: 2465 | E33: 169.29 | F33: 262.42
A34: =A33+1 -> 23 | B34: Volvo S60 | C34: 1 | D34: 201 | E34: 21.51 | F34: 33.34
A35: =A34+1 -> 24 | B35: VW Transporter | C35: 16 | D35: 13823 | E35: 1391.91 | F35: 2180.37
A36: =A35+1 -> 25 | B36: VW Transporter 4x4 | C36: 1 | D36: 3110 | E36: 283.01 | F36: 441.5
A37: Zemgales reģiona pārvalde
A38: 26 | B38: VW Transporter | C38: 2 | D38: 9946 | E38: 908.72 | F38: 1430.29
A39: 27 | B39: Renault Trafic | C39: 1 | D39: 2152 | E39: 295.22 | F39: 457.62
A40: 28 | B40: Peugeot Boxer | C40: 1 | D40: 184 | E40: 51 | F40: 78.46
A41: 29 | B41: VW Crafter | C41: 1 | D41: 1950 | E41: 214 | F41: 331.65
A42: 30 | B42: Toyota RAV4 | C42: 1 | D42: 2071 | E42: 174.74 | F42: 269.03
A43: Kurzemes reģiona pārvalde
A44: 31 | B44: Peugeot Boxer | C44: 2 | D44: 1540 | E44: 154.25 | F44: 241.19
A45: 32 | B45: VW Crafter | C45: 1 | D45: 1021 | E45: 120.27 | F45: 187.62
A46: Rīgas reģiona pārvalde
A47: 33 | B47: Mitsubishi L200 | C47: 1 | D47: 401 | E47: 60.58 | F47: 100.5
A48: 34 | B48: BMW 520i | C48: 1 | D48: 211 | E48: 18.69 | F48: 29.28
A49: 35 | B49: Nissan Navara | C49: 1 | D49: 1466 | E49: 139.56 | F49: 224.56
A50: 36 | B50: Ford Mondeo | C50: 1 | D50: 645 | E50: 47.47 | F50: 74.75
A51: 37 | B51: Peugeot Boxer | C51: 2 | D51: 1617 | E51: 164.01 | F51: 269.82
A52: 38 | B52: VW Multivan | C52: 1 | D52: 1067 | E52: 116.84 | F52: 187.48

Sheet 4.tabula
G1: 4.tabula
A2: Valsts policija
A3: Detalizēts aprēķins dienas naudas samaksai amatpersonām ar speciālajām dienesta pakāpēm, sniedzot atbalstu Valsts robežsardzei Latvijas Republikas-Baltkrievijas Republikas valsts robežas robežuzraudzības nodrošināšanā par laika periodu no 2023.gada 3. septembra līdz 17. oktobrim
A5: Nr. p.k. | B5: Struktūrvienība | C5: Amats | D5: Laika periods | E5: Dienu skaits | F5: Likme | G5: Dienas nauda (kopsumma)
A6: kopā: | G6: =SUM(G7:G84) -> 2527.2
A7: 1 | B7: VP GKĀRTPP RKVP SPECIĀLO UZDEVUMU BATALJONA 1.ROTA | C7: jaunākais inspektors | D7: 03.09.2023.-26.09.2023/ | E7: 2 | F7: 8 | G7: =ROUND(E7*F7,2) -> 16
E8: 22 | F8: 2.4 | G8: =ROUND(E8*F8,2) -> 52.8
A9: 2 | B9: VP GKĀRTPP RKVP SPECIĀLO UZDEVUMU BATALJONA 1.ROTA | C9: jaunākais inspektors | D9: 03.09.2023.-26.09.2023/ | E9: 2 | F9: 8 | G9: =ROUND(E9*F9,2) -> 16
E10: 22 | F10: 2.4 | G10: =ROUND(E10*F10,2) -> 52.8
A11: 3 | B11: VP GKĀRTPP RKVP SPECIĀLO UZDEVUMU BATALJONA 1.ROTA | C11: jaunākais inspektors | D11: 03.09.2023.-26.09.2023/ | E11: 2 | F11: 8 | G11: =ROUND(E11*F11,2) -> 16
E12: 22 | F12: 2.4 | G12: =ROUND(E12*F12,2) -> 52.8
A13: 4 | B13: VP GKĀRTPP RKVP SPECIĀLO UZDEVUMU BATALJONA 1.ROTA | C13: jaunākais inspektors | D13: 03.09.2023.-26.09.2023/ | E13: 2 | F13: 8 | G13: =ROUND(E13*F13,2) -> 16
E14: 22 | F14: 2.4 | G14: =ROUND(E14*F14,2) -> 52.8
A15: 5 | B15: VP GKĀRTPP RKVP SPECIĀLO UZDEVUMU BATALJONA 1.ROTA | C15: jaunākais inspektors | D15: 03.09.2023.-26.09.2023/ | E15: 2 | F15: 8 | G15: =ROUND(E15*F15,2) -> 16
E16: 22 | F16: 2.4 | G16: =ROUND(E16*F16,2) -> 52.8
A17: 6 | B17: VP GKĀRTPP RKVP SPECIĀLO UZDEVUMU BATALJONA 1.ROTA | C17: jaunākais inspektors | D17: 03.09.2023.-26.09.2023/ | E17: 2 | F17: 8 | G17: =ROUND(E17*F17,2) -> 16
E18: 22 | F18: 2.4 | G18: =ROUND(E18*F18,2) -> 52.8
A19: 7 | B19: VP GKĀRTPP RKVP SPECIĀLO UZDEVUMU BATALJONA 1.ROTA | C19: jaunākais inspektors | D19: 03.09.2023.-26.09.2023/ | E19: 2 | F19: 8 | G19: =ROUND(E19*F19,2) -> 16
E20: 22 | F20: 2.4 | G20: =ROUND(E20*F20,2) -> 52.8
A21: 8 | B21: VP GKĀRTPP RKVP SPECIĀLO UZDEVUMU BATALJONA 1.ROTA | C21: vada komandiera vietnieks | D21: 03.09.2023.-26.09.2023/ | E21: 2 | F21: 8 | G21: =ROUND(E21*F21,2) -> 16
E22: 22 | F22: 2.4 | G22: =ROUND(E22*F22,2) -> 52.8
A23: 9 | B23: VP GKĀRTPP RKVP SPECIĀLO UZDEVUMU BATALJONA 1.ROTA | C23: vada komandiera vietnieks | D23: 03.09.2023.-26.09.2023/ | E23: 2 | F23: 8 | G23: =ROUND(E23*F23,2) -> 16
E24: 22 | F24: 2.4 | G24: =ROUND(E24*F24,2) -> 52.8
A25: 10 | B25: VP GKĀRTPP RKVP SPECIĀLO UZDEVUMU BATALJONA 1.ROTA | C25: jaunākais inspektors | D25: 03.09.2023.-26.09.2023/ | E25: 2 | F25: 8 | G25: =ROUND(E25*F25,2) -> 16
E26: 22 | F26: 2.4 | G26: =ROUND(E26*F26,2) -> 52.8
A27: 11 | B27: VP GKĀRTPP RKVP SPECIĀLO UZDEVUMU BATALJONA 1.ROTA | C27: vada komandieris | D27: 03.09.2023.-26.09.2023/ | E27: 2 | F27: 8 | G27: =ROUND(E27*F27,2) -> 16
E28: 22 | F28: 2.4 | G28: =ROUND(E28*F28,2) -> 52.8
A29: 12 | B29: VP GKĀRTPP RKVP SPECIĀLO UZDEVUMU BATALJONA 1.ROTA | C29: jaunākais inspektors | D29: 03.09.2023.-26.09.2023/ | E29: 2 | F29: 8 | G29: =ROUND(E29*F29,2) -> 16
E30: 22 | F30: 2.4 | G30: =ROUND(E30*F30,2) -> 52.8
A31: 13 | B31: VP GKĀRTPP RKVP SPECIĀLO UZDEVUMU BATALJONA 1.ROTA | C31: jaunākais inspektors | D31: 03.09.2023.-26.09.2023/ | E31: 2 | F31: 8 | G31: =ROUND(E31*F31,2) -> 16
E32: 22 | F32: 2.4 | G32: =ROUND(E32*F32,2) -> 52.8
A33: 14 | B33: VP GKĀRTPP RKVP SUB DIENESTA ORGANIZĀCIJAS, KOORDINĀCIJAS UN KONTROLES GRUPA | C33: galvenais inspektors | D33: 26.09.2023.-17.10.2023/ | E33: 2 | F33: 8 | G33: =ROUND(E33*F33,2) -> 16
E34: 20 | F34: 2.4 | G34: =ROUND(E34*F34,2) -> 48
A35: 15 | B35: VP GKĀRTPP RKVP SPECIĀLO UZDEVUMU BATALJONA 7.ROTA (KURZEMES REĢIONA) | C35: rotas komandieris | D35: 26.09.2023.-17.10.2023/ | E35: 2 | F35: 8 | G35: =ROUND(E35*F35,2) -> 16
E36: 20 | F36: 2.4 | G36: =ROUND(E36*F36,2) -> 48
A37: 16 | B37: VP GKĀRTPP RKVP SPECIĀLO UZDEVUMU BATALJONA 7.ROTA (KURZEMES REĢIONA) | C37: jaunākais inspektors | D37: 26.09.2023.-17.10.2023/ | E37: 2 | F37: 8 | G37: =ROUND(E37*F37,2) -> 16
E38: 20 | F38: 2.4 | G38: =ROUND(E38*F38,2) -> 48
A39: 17 | B39: VP GKĀRTPP RKVP SPECIĀLO UZDEVUMU BATALJONA 7.ROTA (KURZEMES REĢIONA) | C39: jaunākais inspektors | D39: 26.09.2023.-17.10.2023/ | E39: 2 | F39: 8 | G39: =ROUND(E39*F39,2) -> 16
E40: 20 | F40: 2.4 | G40: =ROUND(E40*F40,2) -> 48
A41: 18 | B41: VP GKĀRTPP RKVP SPECIĀLO UZDEVUMU BATALJONA 7.ROTA (KURZEMES REĢIONA) | C41: jaunākais inspektors | D41: 26.09.2023.-17.10.2023/ | E41: 2 | F41: 8 | G41: =ROUND(E41*F41,2) -> 16
E42: 20 | F42: 2.4 | G42: =ROUND(E42*F42,2) -> 48
A43: 19 | B43: VP GKĀRTPP RKVP SPECIĀLO UZDEVUMU BATALJONA 7.ROTA (KURZEMES REĢIONA) | C43: jaunākais inspektors | D43: 26.09.2023.-17.10.2023/ | E43: 2 | F43: 8 | G43: =ROUND(E43*F43,2) -> 16
E44: 20 | F44: 2.4 | G44: =ROUND(E44*F44,2) -> 48
A45: 20 | B45: VP GKĀRTPP RKVP SPECIĀLO UZDEVUMU BATALJONA 7.ROTA (KURZEMES REĢIONA) | C45: jaunākais inspektors | D45: 26.09.2023.-17.10.2023/ | E45: 2 | F45: 8 | G45: =ROUND(E45*F45,2) -> 16
E46: 20 | F46: 2.4 | G46: =ROUND(E46*F46,2) -> 48
A47: 21 | B47: VP GKĀRTPP RKVP SPECIĀLO UZDEVUMU BATALJONA 7.ROTA (KURZEMES REĢIONA) | C47: jaunākais inspektors | D47: 26.09.2023.-17.10.2023/ | E47: 2 | F47: 8 | G47: =ROUND(E47*F47,2) -> 16
E48: 20 | F48: 2.4 | G48: =ROUND(E48*F48,2) -> 48
A49: 22 | B49: VP GKĀRTPP RKVP SPECIĀLO UZDEVUMU BATALJONA 1.ROTA | C49: rotas komandiera vietnieks | D49: 26.09.2023.-17.10.2023/ | E49: 2 | F49: 8 | G49: =ROUND(E49*F49,2) -> 16
E50: 20 | F50: 2.4 | G50: =ROUND(E50*F50,2) -> 48
A51: 23 | B51: VP GKĀRTPP RKVP SPECIĀLO UZDEVUMU BATALJONA 3.ROTA | C51: jaunākais inspektors | D51: 26.09.2023.-17.10.2023/ | E51: 2 | F51: 8 | G51: =ROUND(E51*F51,2) -> 16
E52: 20 | F52: 2.4 | G52: =ROUND(E52*F52,2) -> 48
A53: 24 | B53: VP GKĀRTPP RKVP SPECIĀLO UZDEVUMU BATALJONA 3.ROTA | C53: jaunākais inspektors | D53: 26.09.2023.-17.10.2023/ | E53: 2 | F53: 8 | G53: =ROUND(E53*F53,2) -> 16
E54: 20 | F54: 2.4 | G54: =ROUND(E54*F54,2) -> 48
A55: 25 | B55: VP GKĀRTPP RKVP SPECIĀLO UZDEVUMU BATALJONA 3.ROTA | C55: jaunākais inspektors | D55: 26.09.2023.-17.10.2023/ | E55: 2 | F55: 8 | G55: =ROUND(E55*F55,2) -> 16
E56: 20 | F56: 2.4 | G56: =ROUND(E56*F56,2) -> 48
A57: 26 | B57: VP GKĀRTPP RKVP SPECIĀLO UZDEVUMU BATALJONA 7.ROTA (KURZEMES REĢIONA) | C57: jaunākais inspektors | D57: 26.09.2023.-17.10.2023/ | E57: 2 | F57: 8 | G57: =ROUND(E57*F57,2) -> 16
E58: 20 | F58: 2.4 | G58: =ROUND(E58*F58,2) -> 48
A59: 27 | B59: VP GKĀRTPP RKVP SPECIĀLO UZDEVUMU BATALJONA 5.ROTA (VIDZEMES REĢIONA) | C59: rotas komandieris | D59: 26.09.2023.-17.10.2023/ | E59: 2 | F59: 8 | G59: =ROUND(E59*F59,2) -> 16
E60: 20 | F60: 2.4 | G60: =ROUND(E60*F60,2) -> 48
A61: 28 | B61: VP GKĀRTPP RKVP SPECIĀLO UZDEVUMU BATALJONA 5.ROTA (VIDZEMES REĢIONA) | C61: jaunākais inspektors | D61: 26.09.2023.-17.10.2023/ | E61: 2 | F61: 8 | G61: =ROUND(E61*F61,2) -> 16
E62: 20 | F62: 2.4 | G62: =ROUND(E62*F62,2) -> 48
A63: 29 | B63: VP GKĀRTPP RKVP SPECIĀLO UZDEVUMU BATALJONA 5.ROTA (VIDZEMES REĢIONA) | C63: jaunākais inspektors | D63: 26.09.2023.-17.10.2023/ | E63: 2 | F63: 8 | G63: =ROUND(E63*F63,2) -> 16
E64: 20 | F64: 2.4 | G64: =ROUND(E64*F64,2) -> 48
A65: 30 | B65: VP GKĀRTPP RKVP SPECIĀLO UZDEVUMU BATALJONA 5.ROTA (VIDZEMES REĢIONA) | C65: jaunākais inspektors | D65: 26.09.2023.-17.10.2023/ | E65: 2 | F65: 8 | G65: =ROUND(E65*F65,2) -> 16
E66: 20 | F66: 2.4 | G66: =ROUND(E66*F66,2) -> 48
A67: 31 | B67: VP GKĀRTPP RKVP SPECIĀLO UZDEVUMU BATALJONA 5.ROTA (VIDZEMES REĢIONA) | C67: jaunākais inspektors | D67: 26.09.2023.-17.10.2023/ | E67: 2 | F67: 8 | G67: =ROUND(E67*F67,2) -> 16
E68: 20 | F68: 2.4 | G68: =ROUND(E68*F68,2) -> 48
A69: 32 | B69: VP GKĀRTPP RKVP SPECIĀLO UZDEVUMU BATALJONA 5.ROTA (VIDZEMES REĢIONA) | C69: jaunākais inspektors | D69: 26.09.2023.-17.10.2023/ | E69: 2 | F69: 8 | G69: =ROUND(E69*F69,2) -> 16
E70: 20 | F70: 2.4 | G70: =ROUND(E70*F70,2) -> 48
A71: 33 | B71: VP GKĀRTPP RKVP SPECIĀLO UZDEVUMU BATALJONA 5.ROTA (VIDZEMES REĢIONA) | C71: jaunākais inspektors | D71: 26.09.2023.-17.10.2023/ | E71: 2 | F71: 8 | G71: =ROUND(E71*F71,2) -> 16
E72: 20 | F72: 2.4 | G72: =ROUND(E72*F72,2) -> 48
A73: 34 | B73: VP GKĀRTPP RKVP SPECIĀLO UZDEVUMU BATALJONA 5.ROTA (VIDZEMES REĢIONA) | C73: jaunākais inspektors | D73: 26.09.2023.-17.10.2023/ | E73: 2 | F73: 8 | G73: =ROUND(E73*F73,2) -> 16
E74: 20 | F74: 2.4 | G74: =ROUND(E74*F74,2) -> 48
A75: 35 | B75: VP GKĀRTPP RKVP SPECIĀLO UZDEVUMU BATALJONA 5.ROTA (VIDZEMES REĢIONA) | C75: jaunākais inspektors | D75: 26.09.2023.-17.10.2023/ | E75: 2 | F75: 8 | G75: =ROUND(E75*F75,2) -> 16
E76: 20 | F76: 2.4 | G76: =ROUND(E76*F76,2) -> 48
A77: 36 | B77: VP GKĀRTPP RKVP SPECIĀLO UZDEVUMU BATALJONA 5.ROTA (VIDZEMES REĢIONA) | C77: jaunākais inspektors | D77: 26.09.2023.-17.10.2023/ | E77: 2 | F77: 8 | G77: =ROUND(E77*F77,2) -> 16
E78: 20 | F78: 2.4 | G78: =ROUND(E78*F78,2) -> 48
A79: 37 | B79: VP GKĀRTPP RKVP SPECIĀLO UZDEVUMU BATALJONA 5.ROTA (VIDZEMES REĢIONA) | C79: jaunākais inspektors | D79: 26.09.2023.-17.10.2023/ | E79: 2 | F79: 8 | G79: =ROUND(E79*F79,2) -> 16
E80: 20 | F80: 2.4 | G80: =ROUND(E80*F80,2) -> 48
A81: 38 | B81: VP GKĀRTPP RKVP SPECIĀLO UZDEVUMU BATALJONA 5.ROTA (VIDZEMES REĢIONA) | C81: jaunākais inspektors | D81: 30.09.2023.-17.10.2023/ | E81: 2 | F81: 8 | G81: =ROUND(E81*F81,2) -> 16
E82: 16 | F82: 2.4 | G82: =ROUND(E82*F82,2) -> 38.4
A83: 39 | B83: VP GKĀRTPP RKVP SPECIĀLO UZDEVUMU BATALJONA 5.ROTA (VIDZEMES REĢIONA) | C83: jaunākais inspektors | D83: 26.09.2023.-08.10.2023/ | E83: 2 | F83: 8 | G83: =ROUND(E83*F83,2) -> 16
E84: 11 | F84: 2.4 | G84: =ROUND(E84*F84,2) -> 26.4
