Workbook

Sheet KOPSAVILKUMS
E1: 1.pielikums MK rīkojuma projekta “Par finanšu līdzekļu piešķiršanu no valsts budžeta programmas “Līdzekļi neparedzētiem gadījumiem”” anotācijai
A3: Kopsavilkums par stacionāro iestāžu iesniegto informāciju par darba veicējiem (ārstniecības personām), virs normālā darba laika nostrādātām stundām, apmaksājamām stundām un izdevumiem, kas radušies saistībā ar mērķi ierobežot Covid-19 izplatību par 2022.gada MAIJS - OKTOBRIS
C6: Izdevumi par virsstundām (2022.gada maijs - oktobris) kopā ar VSOAI, euro
C7: maijs | D7: jūnijs | E7: jūlijs | F7: augusts | G7: septembris | H7: oktobris | I7: KOPĀ
A8: KOPĀ | I8: =SUM(I9:I15) -> 2323545.8
A9: 1 | B9: SIA “Rīgas Austrumu klīniskās universitātes slimnīca” | C9: =RAKUS_maijs_aug!I11 -> 1847618.9 | G9: X | H9: X | I9: =SUM(C9:H9) -> 1847618.9
A10: 2 | B10: VSIA "Paula Stradiņa klīniskā universitātes slimnīca" | C10: =PSKUS_maijs!I11 -> 118267.19 | D10: =PSKUS_jūn!I11 -> 108534.84 | E10: X | F10: X | G10: X | H10: X | I10: =SUM(C10:H10) -> 226802.03
A11: 3 | B11: SIA "Daugavpils reģionālā slimnīca" | C11: X | D11: X | E11: X | F11: =Daugavpils_reģ_aug!I11 -> 43798.31 | G11: =Daugavpils_reģ_sept!I11 -> 100032.71 | H11: X | I11: =SUM(C11:H11) -> 143831.02
A12: 4 | B12: SIA "Ziemeļkurzemes reģionālā slimnīca" | C12: X | D12: X | E12: ='Z-Kurzeme_jūl'!I10 -> 16136.81 | F12: ='Z-Kurzeme_aug'!I10 -> 19868.32 | G12: ='Z-Kurzeme_sept'!I10 -> 28783.49 | H12: X | I12: =SUM(C12:H12) -> 64788.62
A13: 5 | B13: SIA Jelgavas pilsētas slimnīca | C13: X | D13: =Jelgava_jūn!I11 -> 2290.8 | E13: =Jelgava_jūl!I11 -> 4065.61 | F13: =Jelgava_aug!I11 -> 5908.57 | G13: =Jelgava_sept!I11 -> 7168.06 | H13: X | I13: =SUM(C13:H13) -> 19433.04
A14: 6 | B14: SIA "Balvu un Gulbenes slimnīcu apvienība" | C14: ='Balvi-Gulbene_maijs_aug'!I11 -> 3913.56 | G14: X | H14: X | I14: =SUM(C14:H14) -> 3913.56
A15: 7 | B15: VSIA „Daugavpils psihoneiroloģiskā slimnīca” | C15: X | D15: X | E15: =Daugavpils_psih_jūl!I11 -> 919.52 | F15: =Daugavpils_psih_aug!I11 -> 8624.09 | G15: =Daugavpils_psih_sept!I11 -> 5296.73 | H15: =Dugavpils_psih_okt!I11 -> 2318.32 | I15: =SUM(C15:H15) -> 17158.66
B17: Summētā darba laika periods, kurā uzskaitītas virsstundas un papildu snepieciešamais finansējums to apmaksai

Sheet RAKUS_maijs_aug
H1: 1.1.Pielikums
A2: Pārskats par darba veicējiem (ārstniecības personām), virs normālā darba laika nostrādātām stundām, apmaksājamām stundām un izdevumiem, kas radušies saistībā ar mērķi ierobežot Covid-19 izplatību
A4: Iestādes nosaukums: SIA “Rīgas Austrumu klīniskās universitātes slimnīca”
A5: Pārskata mēnesis: Maijs - Augusts
B7: Nodarbināto skaits mēnesī | C7: Apmaksājamais laiks mēnesī, stundas (tai skaitā summētā darba laika ietvaros) | F7: Mēnešalga no kuras rēķina stundas likmi | G7: Stundas likme (aprēķināta atbilstoši mēnešalgai vai darba līgumā noteiktā stundas likme) | H7: Apmaksājamā 100% piemaksa par nostrādātām virsstundām virs normālā darba laika (tai skaitā summētā darba laika ietvaros) | I7: Izdevumi par virsstundām kopā ar VSOAI, EUR
C8: Kopā | D8: līdz normālam darba laikam* | E8: virsstundas - virs normālā darba laika, kas saistītas ar darbu ar Covid-19
A10: 1 | B10: 2 | C10: 3=4+5 | D10: 4 | E10: 5 | F10: 6 | G10: 7 | H10: 8 | I10: 9=8 + VSOAI
A11: KOPĀ | B11: =B12+B466+B1084+B993 -> 1327 | E11: =E12+E466+E1084+E993 -> 81189.892 | H11: =H12+H466+H1084+H993 -> 1496093.6 | I11: =I12+I466+I1084+I993 -> 1847618.9
A12: Ārsti, zobārsti un funkcionālie speciālisti, kopā, tai skaitā: | B12: =SUM(B13:B465) -> 453 | E12: =SUM(E13:E465) -> 42665.221 | H12: =SUM(H13:H465) -> 961207.1 | I12: =SUM(I13:I465) -> 1187490.3
A13: Anesteziologs, reanimatologs | B13: 1 | C13: =D13+E13 -> 133 | D13: 51.5 | E13: 81.5 | F13: 2092 | G13: =F13/168.17 -> 12.439793 | H13: =ROUND(E13*G13*2,2) -> 2027.69 | I13: =ROUND(H13*1.2359,2) -> 2506.02
A14: Anesteziologs, reanimatologs | B14: 1 | C14: =D14+E14 -> 336 | D14: 0 | E14: 336 | F14: 2092 | G14: =F14/168.17 -> 12.439793 | H14: =ROUND(E14*G14*2,2) -> 8359.54 | I14: =ROUND(H14*1.2359,2) -> 10331.56
A15: Anesteziologs, reanimatologs | B15: 1 | C15: =D15+E15 -> 240 | D15: 0 | E15: 240 | F15: 2092 | G15: =F15/168.17 -> 12.439793 | H15: =ROUND(E15*G15*2,2) -> 5971.1 | I15: =ROUND(H15*1.2359,2) -> 7379.68
A16: Anesteziologs, reanimatologs (1.līmenis) | B16: 1 | C16: =D16+E16 -> 600 | D16: 590 | E16: 10 | F16: 2427 | G16: =F16/168.17 -> 14.431825 | H16: =ROUND(E16*G16*2,2) -> 288.64 | I16: =ROUND(H16*1.2359,2) -> 356.73
A17: Anesteziologs, reanimatologs (1.līmenis) | B17: 1 | C17: =D17+E17 -> 527 | D17: 503 | E17: 24 | F17: 2427 | G17: =F17/168.17 -> 14.431825 | H17: =ROUND(E17*G17*2,2) -> 692.73 | I17: =ROUND(H17*1.2359,2) -> 856.15
A18: Anesteziologs, reanimatologs (1.līmenis) | B18: 1 | C18: =D18+E18 -> 414 | D18: 395 | E18: 19 | F18: 2427 | G18: =F18/168.17 -> 14.431825 | H18: =ROUND(E18*G18*2,2) -> 548.41 | I18: =ROUND(H18*1.2359,2) -> 677.78
A19: Anesteziologs, reanimatologs (1.līmenis) | B19: 1 | C19: =D19+E19 -> 329 | D19: 316.5 | E19: 12.5 | F19: 2427 | G19: =F19/168.17 -> 14.431825 | H19: =ROUND(E19*G19*2,2) -> 360.8 | I19: =ROUND(H19*1.2359,2) -> 445.91
A20: Anesteziologs, reanimatologs (1.līmenis) | B20: 1 | C20: =D20+E20 -> 317 | D20: 271 | E20: 46 | F20: 2427 | G20: =F20/168.17 -> 14.431825 | H20: =ROUND(E20*G20*2,2) -> 1327.73 | I20: =ROUND(H20*1.2359,2) -> 1640.94
A21: Anesteziologs, reanimatologs (1.līmenis) | B21: 1 | C21: =D21+E21 -> 570.16667 | D21: 558 | E21: 12.166666 | F21: 2427 | G21: =F21/168.17 -> 14.431825 | H21: =ROUND(E21*G21*2,2) -> 351.17 | I21: =ROUND(H21*1.2359,2) -> 434.01
A22: Anesteziologs, reanimatologs (1.līmenis) | B22: 1 | C22: =D22+E22 -> 698.83333 | D22: 678 | E22: 20.833332 | F22: 2427 | G22: =F22/168.17 -> 14.431825 | H22: =ROUND(E22*G22*2,2) -> 601.33 | I22: =ROUND(H22*1.2359,2) -> 743.18
A23: Anesteziologs, reanimatologs (1.līmenis) | B23: 1 | C23: =D23+E23 -> 233.41667 | D23: 231 | E23: 2.416666 | F23: 2427 | G23: =F23/168.17 -> 14.431825 | H23: =ROUND(E23*G23*2,2) -> 69.75 | I23: =ROUND(H23*1.2359,2) -> 86.2
A24: Anesteziologs, reanimatologs (1.līmenis) | B24: 1 | C24: =D24+E24 -> 645.5 | D24: 638 | E24: 7.499999 | F24: 2427 | G24: =F24/168.17 -> 14.431825 | H24: =ROUND(E24*G24*2,2) -> 216.48 | I24: =ROUND(H24*1.2359,2) -> 267.55
... A30: Anesteziologs, reanimatologs (2.līmenis) | B30: 1 | C30: =D30+E30 -> 578.33333 | D30: 574 | E30: 4.333333 | F30: 2696 | G30: =F30/168.17 -> 16.031397 | H30: =ROUND(E30*G30*2,2) -> 138.94 | I30: =ROUND(H30*1.2359,2) -> 171.72
A31: Anesteziologs, reanimatologs (2.līmenis) | B31: 1 | C31: =D31+E31 -> 682 | D31: 678 | E31: 4 | F31: 2696 | G31: =F31/168.17 -> 16.031397 | H31: =ROUND(E31*G31*2,2) -> 128.25 | I31: =ROUND(H31*1.2077,2) -> 154.89
A32: Anesteziologs, reanimatologs (2.līmenis) | B32: 1 | C32: =D32+E32 -> 5.999999 | D32: 0 | E32: 5.999999 | F32: 2696 | G32: =F32/168.17 -> 16.031397 | H32: =ROUND(E32*G32*2,2) -> 192.38 | I32: =ROUND(H32*1.2359,2) -> 237.76
A33: Anesteziologs, reanimatologs (eksperts) | B33: 1 | C33: =D33+E33 -> 575 | D33: 574 | E33: 0.999999 | F33: 2965 | G33: =F33/168.17 -> 17.630969 | H33: =ROUND(E33*G33*2,2) -> 35.26 | I33: =ROUND(H33*1.2359,2) -> 43.58
A34: Anesteziologs, reanimatologs (eksperts) | B34: 1 | C34: =D34+E34 -> 578.66667 | D34: 574 | E34: 4.666666 | F34: 2965 | G34: =F34/168.17 -> 17.630969 | H34: =ROUND(E34*G34*2,2) -> 164.56 | I34: =ROUND(H34*1.2359,2) -> 203.38
A35: Anesteziologs, reanimatologs (eksperts) | B35: 1 | C35: =D35+E35 -> 759 | D35: 631 | E35: 128 | F35: 2965 | G35: =F35/168.17 -> 17.630969 | H35: =ROUND(E35*G35*2,2) -> 4513.53 | I35: =ROUND(H35*1.2359,2) -> 5578.27
A36: Anesteziologs, reanimatologs (eksperts) | B36: 1 | C36: =D36+E36 -> 413 | D36: 311 | E36: 102 | F36: 2965 | G36: =F36/168.17 -> 17.630969 | H36: =ROUND(E36*G36*2,2) -> 3596.72 | I36: =ROUND(H36*1.2359,2) -> 4445.19
A37: Anesteziologs, reanimatologs (eksperts) | B37: 1 | C37: =D37+E37 -> 474.25 | D37: 448.5 | E37: 25.75 | F37: 2965 | G37: =F37/168.17 -> 17.630969 | H37: =ROUND(E37*G37*2,2) -> 907.99 | I37: =ROUND(H37*1.2359,2) -> 1122.18
A38: Anesteziologs, reanimatologs (eksperts) | B38: 1 | C38: =D38+E38 -> 473.5 | D38: 470 | E38: 3.5 | F38: 2965 | G38: =F38/168.17 -> 17.630969 | H38: =ROUND(E38*G38*2,2) -> 123.42 | I38: =ROUND(H38*1.2077,2) -> 149.05
A39: Anesteziologs, reanimatologs (eksperts) | B39: 1 | C39: =D39+E39 -> 699.5 | D39: 615 | E39: 84.5 | F39: 2965 | G39: =F39/168.17 -> 17.630969 | H39: =ROUND(E39*G39*2,2) -> 2979.63 | I39: =ROUND(H39*1.2359,2) -> 3682.52
A40: Anesteziologs, reanimatologs (eksperts) | B40: 1 | C40: =D40+E40 -> 612 | D40: 598 | E40: 13.999998 | F40: 2965 | G40: =F40/168.17 -> 17.630969 | H40: =ROUND(E40*G40*2,2) -> 493.67 | I40: =ROUND(H40*1.2359,2) -> 610.13
A41: Anesteziologs, reanimatologs (eksperts) | B41: 1 | C41: =D41+E41 -> 299.33333 | D41: 295 | E41: 4.333333 | F41: 2965 | G41: =F41/168.17 -> 17.630969 | H41: =ROUND(E41*G41*2,2) -> 152.8 | I41: =ROUND(H41*1.2359,2) -> 188.85
A42: Anesteziologs, reanimatologs (eksperts) | B42: 1 | C42: =D42+E42 -> 104 | D42: 0 | E42: 104 | F42: 2965 | G42: =F42/168.17 -> 17.630969 | H42: =ROUND(E42*G42*2,2) -> 3667.24 | I42: =ROUND(H42*1.2359,2) -> 4532.34
A43: Anesteziologs, reanimatologs (eksperts) | B43: 1 | C43: =D43+E43 -> 641.5 | D43: 582 | E43: 59.5 | F43: 2965 | G43: =F43/168.17 -> 17.630969 | H43: =ROUND(E43*G43*2,2) -> 2098.09 | I43: =ROUND(H43*1.2359,2) -> 2593.03
A44: Anesteziologs, reanimatologs (eksperts) | B44: 1 | C44: =D44+E44 -> 568.75 | D44: 558 | E44: 10.75 | F44: 2965 | G44: =F44/168.17 -> 17.630969 | H44: =ROUND(E44*G44*2,2) -> 379.07 | I44: =ROUND(H44*1.2359,2) -> 468.49
A45: Anesteziologs, reanimatologs (eksperts) | B45: 1 | C45: =D45+E45 -> 128 | D45: 0 | E45: 128 | F45: 2965 | G45: =F45/168.17 -> 17.630969 | H45: =ROUND(E45*G45*2,2) -> 4513.53 | I45: =ROUND(H45*1.2359,2) -> 5578.27
A46: Anesteziologs, reanimatologs (eksperts) | B46: 1 | C46: =D46+E46 -> 725 | D46: 558 | E46: 167 | F46: 2965 | G46: =F46/168.17 -> 17.630969 | H46: =ROUND(E46*G46*2,2) -> 5888.74 | I46: =ROUND(H46*1.2077,2) -> 7111.83
A47: Anesteziologs, reanimatologs (eksperts) | B47: 1 | C47: =D47+E47 -> 136 | D47: 0 | E47: 136 | F47: 2965 | G47: =F47/168.17 -> 17.630969 | H47: =ROUND(E47*G47*2,2) -> 4795.62 | I47: =ROUND(H47*1.2359,2) -> 5926.91
A48: Anesteziologs, reanimatologs (eksperts) | B48: 1 | C48: =D48+E48 -> 586.91667 | D48: 575 | E48: 11.916666 | F48: 2965 | G48: =F48/168.17 -> 17.630969 | H48: =ROUND(E48*G48*2,2) -> 420.2 | I48: =ROUND(H48*1.2359,2) -> 519.33
...

Sheet PSKUS_maijs
H1: 1.2.pielikums
A2: Pārskats par darba veicējiem (ārstniecības personām), virs normālā darba laika nostrādātām stundām, apmaksājamām stundām un izdevumiem, kas radušies saistībā ar mērķi ierobežot Covid-19 izplatību
A4: Iestādes nosaukums: VSIA "Paula Stradiņa klīniskā universitātes slimnīca"
A5: Pārskata mēnesis: Maijs
B7: Nodarbināto skaits mēnesī | C7: Apmaksājamais laiks mēnesī, stundas (tai skaitā summētā darba laika ietvaros) | F7: Mēnešalga no kuras rēķina stundas likmi | G7: Stundas likme (aprēķināta atbilstoši mēnešalgai vai darba līgumā noteiktā stundas likme) | H7: Apmaksājamā 100% piemaksa par nostrādātām virsstundām virs normālā darba laika (tai skaitā summētā darba laika ietvaros) | I7: Izdevumi par virsstundām kopā ar VSAOI, EUR
C8: Kopā | D8: līdz normālam darba laikam | E8: virsstundas - virs normālā darba laika, kas saistītas ar darbu ar Covid-19
A10: 1 | B10: 2 | C10: 3=4+5 | D10: 4 | E10: 5 | F10: 6 | G10: 7 | H10: 8 | I10: 9=8 + VSOAI
A11: KOPĀ | B11: =SUM(B12,B135,B287,B324) -> 366 | E11: =E12+E135+E287+E324 -> 5498 | H11: =H12+H135+H287+H324 -> 95693.07 | I11: =I12+I135+I287+I324 -> 118267.19
A12: Ārsti, zobārsti un funkcionālie speciālisti, kopā, tai skaitā: | B12: =SUM(B13:B134) -> 122 | E12: =SUM(E13:E134) -> 2686 | H12: =SUM(H13:H134) -> 57986.25 | I12: =SUM(I13:I134) -> 71665.23
A13: Atbildīgais ārsts anesteziologs, reanimatologs | B13: 1 | C13: =D13+E13 -> 176 | D13: 167 | E13: 9 | G13: 14.46 | H13: =ROUND(G13*E13*2,2) -> 260.28 | I13: =ROUND(H13*1.2359,2) -> 321.68
A14: Atbildīgais ārsts audu saderības un imūnģenētikas jomā | B14: 1 | C14: =D14+E14 -> 195 | D14: 167 | E14: 28 | G14: 10.2 | H14: =ROUND(G14*E14*2,2) -> 571.2 | I14: =ROUND(H14*1.2359,2) -> 705.95
A15: Atbildīgais ārsts speciālists (diennakts postenis) | B15: 1 | C15: =D15+E15 -> 182 | D15: 167 | E15: 15 | G15: 10.56 | H15: =ROUND(G15*E15*2,2) -> 316.8 | I15: =ROUND(H15*1.2359,2) -> 391.53
A16: Ārsts | B16: 1 | C16: =D16+E16 -> 168 | D16: 167 | E16: 1 | G16: 8.87 | H16: =ROUND(G16*E16*2,2) -> 17.74 | I16: =ROUND(H16*1.2359,2) -> 21.92
A17: Ārsts anesteziologs, reanimatologs | B17: 1 | C17: =D17+E17 -> 169 | D17: 167 | E17: 2 | G17: 14.75 | H17: =ROUND(G17*E17*2,2) -> 59 | I17: =ROUND(H17*1.2359,2) -> 72.92
A18: Ārsts anesteziologs, reanimatologs | B18: 1 | C18: =D18+E18 -> 175 | D18: 167 | E18: 8 | G18: 14.75 | H18: =ROUND(G18*E18*2,2) -> 236 | I18: =ROUND(H18*1.2359,2) -> 291.67
A19: Ārsts anesteziologs, reanimatologs | B19: 1 | C19: =D19+E19 -> 169 | D19: 167 | E19: 2 | G19: 10.35 | H19: =ROUND(G19*E19*2,2) -> 41.4 | I19: =ROUND(H19*1.2359,2) -> 51.17
A20: Ārsts anesteziologs, reanimatologs | B20: 1 | C20: =D20+E20 -> 171 | D20: 167 | E20: 4 | G20: 14.25 | H20: =ROUND(G20*E20*2,2) -> 114 | I20: =ROUND(H20*1.2359,2) -> 140.89
A21: Ārsts anesteziologs, reanimatologs | B21: 1 | C21: =D21+E21 -> 175 | D21: 167 | E21: 8 | G21: 14.25 | H21: =ROUND(G21*E21*2,2) -> 228 | I21: =ROUND(H21*1.2359,2) -> 281.79
A22: Ārsts anesteziologs, reanimatologs | B22: 1 | C22: =D22+E22 -> 175 | D22: 167 | E22: 8 | G22: 14.25 | H22: =ROUND(G22*E22*2,2) -> 228 | I22: =ROUND(H22*1.2359,2) -> 281.79
A23: Ārsts ginekologs, dzemdību speciālists | B23: 1 | C23: =D23+E23 -> 200 | D23: 167 | E23: 33 | G23: 10.56 | H23: =ROUND(G23*E23*2,2) -> 696.96 | I23: =ROUND(H23*1.2359,2) -> 861.37
A24: Ārsts ginekologs, dzemdību speciālists | B24: 1 | C24: =D24+E24 -> 204 | D24: 167 | E24: 37 | G24: 10.56 | H24: =ROUND(G24*E24*2,2) -> 781.44 | I24: =ROUND(H24*1.2359,2) -> 965.78
... A69: Ārsts sirds ķirurgs | B69: 1 | C69: =D69+E69 -> 169 | D69: 167 | E69: 2 | G69: 10.56 | H69: =ROUND(G69*E69*2,2) -> 42.24 | I69: =ROUND(H69*1.2359,2) -> 52.2
A70: Ārsts sirds ķirurgs | B70: 1 | C70: =D70+E70 -> 175 | D70: 167 | E70: 8 | F70: 2275 | G70: =F70/168.17 -> 13.527978 | H70: =ROUND(G70*E70*2,2) -> 216.45 | I70: =ROUND(H70*1.2359,2) -> 267.51
A71: Ārsts torakālais ķirurgs II | B71: 1 | C71: =D71+E71 -> 175 | D71: 167 | E71: 8 | G71: 16.77 | H71: =ROUND(G71*E71*2,2) -> 268.32 | I71: =ROUND(H71*1.2359,2) -> 331.62
A72: Ārsts urologs | B72: 1 | C72: =D72+E72 -> 183 | D72: 167 | E72: 16 | G72: 14.01 | H72: =ROUND(G72*E72*2,2) -> 448.32 | I72: =ROUND(H72*1.2359,2) -> 554.08
A73: Ārsts urologs | B73: 1 | C73: =D73+E73 -> 199 | D73: 167 | E73: 32 | G73: 14.01 | H73: =ROUND(G73*E73*2,2) -> 896.64 | I73: =ROUND(H73*1.2359,2) -> 1108.16
A74: Ārsts urologs | B74: 1 | C74: =D74+E74 -> 180 | D74: 167 | E74: 13 | G74: 14.01 | H74: =ROUND(G74*E74*2,2) -> 364.26 | I74: =ROUND(H74*1.2359,2) -> 450.19
A75: Ārsts urologs | B75: 1 | C75: =D75+E75 -> 191 | D75: 167 | E75: 24 | G75: 13.74 | H75: =ROUND(G75*E75*2,2) -> 659.52 | I75: =ROUND(H75*1.2359,2) -> 815.1
A76: Ārsts urologs | B76: 1 | C76: =D76+E76 -> 192 | D76: 167 | E76: 25 | G76: 13.74 | H76: =ROUND(G76*E76*2,2) -> 687 | I76: =ROUND(H76*1.2359,2) -> 849.06
A77: Ārsts urologs | B77: 1 | C77: =D77+E77 -> 186 | D77: 167 | E77: 19 | G77: 13.54 | H77: =ROUND(G77*E77*2,2) -> 514.52 | I77: =ROUND(H77*1.2359,2) -> 635.9
A78: Ārsts urologs | B78: 1 | C78: =D78+E78 -> 194 | D78: 167 | E78: 27 | G78: 13.54 | H78: =ROUND(G78*E78*2,2) -> 731.16 | I78: =ROUND(H78*1.2359,2) -> 903.64
A79: Klīniskais virsārsts | B79: 1 | C79: =D79+E79 -> 196 | D79: 167 | E79: 29 | G79: 12.42 | H79: =ROUND(G79*E79*2,2) -> 720.36 | I79: =ROUND(H79*1.2359,2) -> 890.29
A80: Laboratorijas ārsts | B80: 1 | C80: =D80+E80 -> 196 | D80: 167 | E80: 29 | G80: 10.2 | H80: =ROUND(G80*E80*2,2) -> 591.6 | I80: =ROUND(H80*1.2359,2) -> 731.16
A81: Nodaļas vadītājs ārsts urologs | B81: 1 | C81: =D81+E81 -> 190 | D81: 167 | E81: 23 | G81: 14.78 | H81: =ROUND(G81*E81*2,2) -> 679.88 | I81: =ROUND(H81*1.2359,2) -> 840.26
A82: Radiologs | B82: 1 | C82: =D82+E82 -> 170 | D82: 167 | E82: 3 | G82: 16.75 | H82: =ROUND(G82*E82*2,2) -> 100.5 | I82: =ROUND(H82*1.2359,2) -> 124.21
... A84: Radiologs (dežūrām) | B84: 1 | C84: =D84+E84 -> 196 | D84: 167 | E84: 29 | G84: 16.75 | H84: =ROUND(G84*E84*2,2) -> 971.5 | I84: =ROUND(H84*1.2359,2) -> 1200.68
A85: Rezidents | B85: 1 | C85: =D85+E85 -> 184 | D85: 167 | E85: 17 | F85: 1492.34 | G85: =F85/168.17 -> 8.8739966 | H85: =ROUND(G85*E85*2,2) -> 301.72 | I85: =ROUND(H85*1.2359,2) -> 372.9
A86: Rezidents | B86: 1 | C86: =D86+E86 -> 197 | D86: 167 | E86: 30 | F86: 1641.58 | G86: =F86/168.17 -> 9.7614319 | H86: =ROUND(G86*E86*2,2) -> 585.69 | I86: =ROUND(H86*1.2359,2) -> 723.85
A87: Rezidents | B87: 1 | C87: =D87+E87 -> 176 | D87: 167 | E87: 9 | F87: 1641.58 | G87: =F87/168.17 -> 9.7614319 | H87: =ROUND(G87*E87*2,2) -> 175.71 | I87: =ROUND(H87*1.2359,2) -> 217.16
A88: Rezidents | B88: 1 | C88: =D88+E88 -> 217 | D88: 167 | E88: 50 | F88: 1641.58 | G88: =F88/168.17 -> 9.7614319 | H88: =ROUND(G88*E88*2,2) -> 976.14 | I88: =ROUND(H88*1.2359,2) -> 1206.41
...

Sheet PSKUS_jūn
H1: 1.3.Pielikums
A2: Pārskats par darba veicējiem (ārstniecības personām), virs normālā darba laika nostrādātām stundām, apmaksājamām stundām un izdevumiem, kas radušies saistībā ar mērķi ierobežot Covid-19 izplatību
A4: Iestādes nosaukums: VSIA "Paula Stradiņa klīniskā universitātes slimnīca"
A5: Pārskata mēnesis: Jūnijs
B7: Nodarbināto skaits mēnesī | C7: Apmaksājamais laiks mēnesī, stundas (tai skaitā summētā darba laika ietvaros) | F7: Mēnešalga no kuras rēķina stundas likmi | G7: Stundas likme (aprēķināta atbilstoši mēnešalgai vai darba līgumā noteiktā stundas likme)2 | H7: Apmaksājamā 100% piemaksa par nostrādātām virsstundām virs normālā darba laika (tai skaitā summētā darba laika ietvaros) | I7: Izdevumi par virsstundām kopā ar VSAOI, EUR
C8: Kopā | D8: līdz normālam darba laikam | E8: virsstundas - virs normālā darba laika, kas saistītas ar darbu ar Covid-19
A10: 1 | B10: 2 | C10: 3=4+5 | D10: 4 | E10: 5 | F10: 6 | G10: 7 | H10: 8 | I10: 9=8 + VSOAI
A11: KOPĀ | B11: =SUM(B12,B141,B263,B299) -> 345 | E11: =E12+E141+E263+E299 -> 5063.5 | H11: =H12+H141+H263+H299 -> 87818.48 | I11: =I12+I141+I263+I299 -> 108534.84
A12: Ārsti, zobārsti un funkcionālie speciālisti, kopā, tai skaitā: | B12: =SUM(B13:B140) -> 128 | E12: =SUM(E13:E140) -> 2419.5 | H12: =SUM(H13:H140) -> 52578.96 | I12: =SUM(I13:I140) -> 64982.3
A13: Atbildīgais ārsts anesteziologs, reanimatologs | B13: 1 | C13: =D13+E13 -> 161 | D13: 159 | E13: 2 | G13: 14.46 | H13: =ROUND(G13*E13*2,2) -> 57.84 | I13: =ROUND(H13*1.2359,2) -> 71.48
A14: Atbildīgais ārsts audu saderības un imūnģenētikas jomā | B14: 1 | C14: =D14+E14 -> 171 | D14: 159 | E14: 12 | G14: 10.2 | H14: =ROUND(G14*E14*2,2) -> 244.8 | I14: =ROUND(H14*1.2359,2) -> 302.55
A15: Atbildīgais ārsts speciālists (diennakts postenis) | B15: 1 | C15: =D15+E15 -> 200 | D15: 159 | E15: 41 | G15: 12.42 | H15: =ROUND(G15*E15*2,2) -> 1018.44 | I15: =ROUND(H15*1.2359,2) -> 1258.69
A16: Atbildīgais ārsts speciālists (diennakts postenis) | B16: 1 | C16: =D16+E16 -> 178 | D16: 159 | E16: 19 | G16: 11.2 | H16: =ROUND(G16*E16*2,2) -> 425.6 | I16: =ROUND(H16*1.2359,2) -> 526
A17: Ārsts | B17: 1 | C17: =D17+E17 -> 160 | D17: 159 | E17: 1 | G17: 8.87 | H17: =ROUND(G17*E17*2,2) -> 17.74 | I17: =ROUND(H17*1.2359,2) -> 21.92
A18: Ārsts | B18: 1 | C18: =D18+E18 -> 196 | D18: 159 | E18: 37 | G18: 8.87 | H18: =ROUND(G18*E18*2,2) -> 656.38 | I18: =ROUND(H18*1.2359,2) -> 811.22
A19: Ārsts anesteziologs, reanimatologs | B19: 1 | C19: =D19+E19 -> 169 | D19: 159 | E19: 10 | G19: 14.75 | H19: =ROUND(G19*E19*2,2) -> 295 | I19: =ROUND(H19*1.2359,2) -> 364.59
A20: Ārsts anesteziologs, reanimatologs | B20: 1 | C20: =D20+E20 -> 169 | D20: 159 | E20: 10 | G20: 10.56 | H20: =ROUND(G20*E20*2,2) -> 211.2 | I20: =ROUND(H20*1.2359,2) -> 261.02
A21: Ārsts anesteziologs, reanimatologs | B21: 1 | C21: =D21+E21 -> 169 | D21: 159 | E21: 10 | G21: 14.75 | H21: =ROUND(G21*E21*2,2) -> 295 | I21: =ROUND(H21*1.2359,2) -> 364.59
A22: Ārsts anesteziologs, reanimatologs | B22: 1 | C22: =D22+E22 -> 192.5 | D22: 159 | E22: 33.5 | G22: 14.25 | H22: =ROUND(G22*E22*2,2) -> 954.75 | I22: =ROUND(H22*1.2359,2) -> 1179.98
A23: Ārsts ginekologs, dzemdību speciālists | B23: 1 | C23: =D23+E23 -> 194 | D23: 159 | E23: 35 | G23: 10.56 | H23: =ROUND(G23*E23*2,2) -> 739.2 | I23: =ROUND(H23*1.2359,2) -> 913.58
A24: Ārsts ginekologs, dzemdību speciālists | B24: 1 | C24: =D24+E24 -> 166 | D24: 159 | E24: 7 | G24: 10.56 | H24: =ROUND(G24*E24*2,2) -> 147.84 | I24: =ROUND(H24*1.2359,2) -> 182.72
... A83: Radiologs (dežūrām) | B83: 1 | C83: =D83+E83 -> 188 | D83: 159 | E83: 29 | G83: 16.75 | H83: =ROUND(G83*E83*2,2) -> 971.5 | I83: =ROUND(H83*1.2359,2) -> 1200.68
A84: Rezidents | B84: 1 | C84: =D84+E84 -> 180 | D84: 159 | E84: 21 | F84: 1492.34 | G84: =F84/168.17 -> 8.8739966 | H84: =ROUND(G84*E84*2,2) -> 372.71 | I84: =ROUND(H84*1.2359,2) -> 460.63
A85: Rezidents | B85: 1 | C85: =D85+E85 -> 171 | D85: 159 | E85: 12 | F85: 1641.58 | G85: =F85/168.17 -> 9.7614319 | H85: =ROUND(G85*E85*2,2) -> 234.27 | I85: =ROUND(H85*1.2359,2) -> 289.53
A86: Rezidents | B86: 1 | C86: =D86+E86 -> 175 | D86: 159 | E86: 16 | F86: 1641.58 | G86: =F86/168.17 -> 9.7614319 | H86: =ROUND(G86*E86*2,2) -> 312.37 | I86: =ROUND(H86*1.2359,2) -> 386.06
A87: Rezidents | B87: 1 | C87: =D87+E87 -> 171 | D87: 159 | E87: 12 | F87: 1641.58 | G87: =F87/168.17 -> 9.7614319 | H87: =ROUND(G87*E87*2,2) -> 234.27 | I87: =ROUND(H87*1.2359,2) -> 289.53
A88: Rezidents | B88: 1 | C88: =D88+E88 -> 171 | D88: 159 | E88: 12 | F88: 1641.58 | G88: =F88/168.17 -> 9.7614319 | H88: =ROUND(G88*E88*2,2) -> 234.27 | I88: =ROUND(H88*1.2359,2) -> 289.53
A89: Rezidents | B89: 1 | C89: =D89+E89 -> 200 | D89: 159 | E89: 41 | F89: 1492.34 | G89: =F89/168.17 -> 8.8739966 | H89: =ROUND(G89*E89*2,2) -> 727.67 | I89: =ROUND(H89*1.2359,2) -> 899.33
A90: Rezidents | B90: 1 | C90: =D90+E90 -> 164 | D90: 159 | E90: 5 | F90: 1492.34 | G90: =F90/168.17 -> 8.8739966 | H90: =ROUND(G90*E90*2,2) -> 88.74 | I90: =ROUND(H90*1.2359,2) -> 109.67
A91: Rezidents | B91: 1 | C91: =D91+E91 -> 180 | D91: 159 | E91: 21 | F91: 1492.34 | G91: =F91/168.17 -> 8.8739966 | H91: =ROUND(G91*E91*2,2) -> 372.71 | I91: =ROUND(H91*1.2359,2) -> 460.63
A92: Rezidents | B92: 1 | C92: =D92+E92 -> 180 | D92: 159 | E92: 21 | F92: 1492.34 | G92: =F92/168.17 -> 8.8739966 | H92: =ROUND(G92*E92*2,2) -> 372.71 | I92: =ROUND(H92*1.2359,2) -> 460.63
A93: Rezidents | B93: 1 | C93: =D93+E93 -> 160 | D93: 159 | E93: 1 | F93: 1641.58 | G93: =F93/168.17 -> 9.7614319 | H93: =ROUND(G93*E93*2,2) -> 19.52 | I93: =ROUND(H93*1.2359,2) -> 24.12
A94: Rezidents | B94: 1 | C94: =D94+E94 -> 164 | D94: 159 | E94: 5 | F94: 1641.58 | G94: =F94/168.17 -> 9.7614319 | H94: =ROUND(G94*E94*2,2) -> 97.61 | I94: =ROUND(H94*1.2359,2) -> 120.64
A95: Rezidents | B95: 1 | C95: =D95+E95 -> 171 | D95: 159 | E95: 12 | F95: 1641.58 | G95: =F95/168.17 -> 9.7614319 | H95: =ROUND(G95*E95*2,2) -> 234.27 | I95: =ROUND(H95*1.2359,2) -> 289.53
... A138: Rezidents | B138: 1 | C138: =D138+E138 -> 180 | D138: 159 | E138: 21 | F138: 1492.34 | G138: =F138/168.17 -> 8.8739966 | H138: =ROUND(G138*E138*2,2) -> 372.71 | I138: =ROUND(H138*1.2359,2) -> 460.63
A139: Virsārsts intensīvajā terapijā | B139: 1 | C139: =D139+E139 -> 171 | D139: 159 | E139: 12 | G139: 17.53 | H139: =ROUND(G139*E139*2,2) -> 420.72 | I139: =ROUND(H139*1.2359,2) -> 519.97
A140: Virsārsts pneimonologs | B140: 1 | C140: =D140+E140 -> 160 | D140: 159 | E140: 1 | G140: 17.79 | H140: =ROUND(G140*E140*2,2) -> 35.58 | I140: =ROUND(H140*1.2359,2) -> 43.97
A141: Ārstniecības un pacientu aprūpes personas un funkcionālo speciālistu asistenti, kopā, tai skaitā: | B141: =SUM(B142:B262) -> 121 | E141: =SUM(E142:E262) -> 1639 | H141: =SUM(H142:H262) -> 25215.14 | I141: =SUM(I142:I262) -> 31163.45
A142: Ambulatorā dienesta ārsta palīgs | B142: 1 | C142: =D142+E142 -> 166 | D142: 159 | E142: 7 | G142: 7.5 | H142: =ROUND(G142*E142*2,2) -> 105 | I142: =ROUND(H142*1.2359,2) -> 129.77
A143: Ambulatorā dienesta ārsta palīgs | B143: 1 | C143: =D143+E143 -> 193 | D143: 159 | E143: 34 | G143: 7.5 | H143: =ROUND(G143*E143*2,2) -> 510 | I143: =ROUND(H143*1.2359,2) -> 630.31
...

Sheet Daugavpils_reģ_aug
H1: 1.4.Pielikums
A2: Pārskats par darba veicējiem (ārstniecības personām), virs normālā darba laika nostrādātām stundām, apmaksājamām stundām un izdevumiem, kas radušies saistībā ar mērķi ierobežot Covid-19 izplatību
A4: Iestādes nosaukums: SIA "Daugavpils reģionālā slimnīca"
A5: Pārskata mēnesis: Augusts
B7: Nodarbināto skaits mēnesī | C7: Apmaksājamais laiks mēnesī, stundas (tai skaitā summētā darba laika ietvaros) | F7: Mēnešalga no kuras rēķina stundas likmi | G7: Stundas likme (aprēķināta atbilstoši mēnešalgai vai darba līgumā noteiktā stundas likme)2 | H7: Apmaksājamā 100% piemaksa par nostrādātām virsstundām virs normālā darba laika (tai skaitā summētā darba laika ietvaros) | I7: Izdevumi par virsstundām kopā ar VSOAI, EUR
C8: Kopā | D8: līdz normālam darba laikam | E8: virsstundas - virs normālā darba laika, kas saistītas ar darbu ar Covid-19
A10: 1 | B10: 2 | C10: 3=4+5 | D10: 4 | E10: 5 | F10: 6 | G10: 7 | H10: 8 | I10: 9=8 + VSOAI
A11: KOPĀ | B11: =B12+B76+B85 -> 87 | E11: =E12+E76+E85 -> 2511.5 | H11: =H12+H76+H85 -> 35519.16 | I11: =I12+I76+I85 -> 43798.31
A12: Centrālā slimnīca "Uzņemšanas nodaļa" | B12: =B13+B21+B59 -> 60 | E12: =E13+E21+E59 -> 1802.5 | H12: =H13+H21+H59 -> 24201.74 | I12: =I13+I21+I59 -> 29816.74
A13: Ārsti, zobārsti un funkcionālie speciālisti, kopā, tai skaitā: | B13: =SUM(B14:B20) -> 7 | E13: =SUM(E14:E20) -> 321.5 | H13: =SUM(H14:H20) -> 6576.41 | I13: =SUM(I14:I20) -> 8049.33
A14: Pediatrs | B14: 1 | C14: =D14+E14 -> 144 | D14: 96 | E14: 48 | F14: 1881.8968 | G14: =F14/184 -> 10.2277 | H14: =ROUND(E14*G14*2,2) -> 981.86 | I14: =ROUND(H14*1.2077,2) -> 1185.79
A15: Pediatrs | B15: 1 | C15: =D15+E15 -> 192 | D15: 184 | E15: 8 | F15: 1881.8968 | G15: =F15/184 -> 10.2277 | H15: =ROUND(E15*G15*2,2) -> 163.64 | I15: =ROUND(H15*1.2359,2) -> 202.24
A16: Neatliekamās medicīnas ārsts | B16: 1 | C16: =D16+E16 -> 152 | D16: 144 | E16: 8 | F16: 1881.8968 | G16: =F16/184 -> 10.2277 | H16: =ROUND(E16*G16*2,2) -> 163.64 | I16: =ROUND(H16*1.2359,2) -> 202.24
A17: Neatliekamās medicīnas ārsts | B17: 1 | C17: =D17+E17 -> 208 | D17: 184 | E17: 24 | F17: 1881.8968 | G17: =F17/184 -> 10.2277 | H17: =ROUND(E17*G17*2,2) -> 490.93 | I17: =ROUND(H17*1.2359,2) -> 606.74
A18: Ķirurgs | B18: 1 | C18: =D18+E18 -> 249.5 | D18: 184 | E18: 65.5 | F18: 1881.8968 | G18: =F18/184 -> 10.2277 | H18: =ROUND(E18*G18*2,2) -> 1339.83 | I18: =ROUND(H18*1.2359,2) -> 1655.9
A19: Ārsts | B19: 1 | C19: =D19+E19 -> 240 | D19: 160 | E19: 80 | F19: 1881.8968 | G19: =F19/184 -> 10.2277 | H19: =ROUND(E19*G19*2,2) -> 1636.43 | I19: =ROUND(H19*1.2359,2) -> 2022.46
A20: Ārsts | B20: 1 | C20: =D20+E20 -> 272 | D20: 184 | E20: 88 | F20: 1881.8968 | G20: =F20/184 -> 10.2277 | H20: =ROUND(E20*G20*2,2) -> 1800.08 | I20: =ROUND(H20*1.2077,2) -> 2173.96
A21: Ārstniecības un pacientu aprūpes personas un funkcionālo speciālistu asistenti, kopā, tai skaitā: | B21: =SUM(B22:B58) -> 37 | E21: =SUM(E22:E58) -> 1050 | H21: =SUM(H22:H58) -> 13612.59 | I21: =SUM(I22:I58) -> 16823.77
A22: Vispārējās aprūpes māsa | B22: 1 | C22: =D22+E22 -> 194 | D22: 184 | E22: 10 | F22: 1170.7184 | G22: =F22/184 -> 6.3626 | H22: =ROUND(E22*G22*2,2) -> 127.25 | I22: =ROUND(H22*1.2359,2) -> 157.27
A23: Vispārējās aprūpes māsa | B23: 1 | C23: =D23+E23 -> 92 | D23: 88 | E23: 4 | F23: 1170.7184 | G23: =F23/184 -> 6.3626 | H23: =ROUND(E23*G23*2,2) -> 50.9 | I23: =ROUND(H23*1.2359,2) -> 62.91
A24: Vispārējās aprūpes māsa | B24: 1 | C24: =D24+E24 -> 240 | D24: 184 | E24: 56 | F24: 1170.7184 | G24: =F24/184 -> 6.3626 | H24: =ROUND(E24*G24*2,2) -> 712.61 | I24: =ROUND(H24*1.2359,2) -> 880.71
A25: Vispārējās aprūpes māsa | B25: 1 | C25: =D25+E25 -> 228 | D25: 184 | E25: 44 | F25: 1170.7184 | G25: =F25/184 -> 6.3626 | H25: =ROUND(E25*G25*2,2) -> 559.91 | I25: =ROUND(H25*1.2359,2) -> 691.99
A26: Vispārējās aprūpes māsa | B26: 1 | C26: =D26+E26 -> 217 | D26: 184 | E26: 33 | F26: 1170.7184 | G26: =F26/184 -> 6.3626 | H26: =ROUND(E26*G26*2,2) -> 419.93 | I26: =ROUND(H26*1.2359,2) -> 518.99
A27: Vispārējās aprūpes māsa | B27: 1 | C27: =D27+E27 -> 228 | D27: 184 | E27: 44 | F27: 1170.7184 | G27: =F27/184 -> 6.3626 | H27: =ROUND(E27*G27*2,2) -> 559.91 | I27: =ROUND(H27*1.2359,2) -> 691.99
A28: Vispārējās aprūpes māsa | B28: 1 | C28: =D28+E28 -> 208 | D28: 168 | E28: 40 | F28: 1170.7184 | G28: =F28/184 -> 6.3626 | H28: =ROUND(E28*G28*2,2) -> 509.01 | I28: =ROUND(H28*1.2359,2) -> 629.09
A29: Vispārējās aprūpes māsa | B29: 1 | C29: =D29+E29 -> 168 | D29: 144 | E29: 24 | F29: 1170.7184 | G29: =F29/184 -> 6.3626 | H29: =ROUND(E29*G29*2,2) -> 305.4 | I29: =ROUND(H29*1.2359,2) -> 377.44
A30: Vispārējās aprūpes māsa | B30: 1 | C30: =D30+E30 -> 188 | D30: 184 | E30: 4 | F30: 1170.7184 | G30: =F30/184 -> 6.3626 | H30: =ROUND(E30*G30*2,2) -> 50.9 | I30: =ROUND(H30*1.2359,2) -> 62.91
A31: Vispārējās aprūpes māsa | B31: 1 | C31: =D31+E31 -> 260 | D31: 184 | E31: 76 | F31: 1170.7184 | G31: =F31/184 -> 6.3626 | H31: =ROUND(E31*G31*2,2) -> 967.12 | I31: =ROUND(H31*1.2359,2) -> 1195.26
A32: Vispārējās aprūpes māsa | B32: 1 | C32: =D32+E32 -> 184 | D32: 160 | E32: 24 | F32: 1170.7184 | G32: =F32/184 -> 6.3626 | H32: =ROUND(E32*G32*2,2) -> 305.4 | I32: =ROUND(H32*1.2359,2) -> 377.44
A33: Vispārējās aprūpes māsa | B33: 1 | C33: =D33+E33 -> 120 | D33: 104 | E33: 16 | F33: 1170.7184 | G33: =F33/184 -> 6.3626 | H33: =ROUND(E33*G33*2,2) -> 203.6 | I33: =ROUND(H33*1.2359,2) -> 251.63
... A58: Ārsta palīgs | B58: 1 | C58: =D58+E58 -> 188 | D58: 184 | E58: 4 | F58: 1170.7184 | G58: =F58/184 -> 6.3626 | H58: =ROUND(E58*G58*2,2) -> 50.9 | I58: =ROUND(H58*1.2359,2) -> 62.91
A59: Ārstniecības un pacientu aprūpes atbalsta personas, māsu palīgi, zobārstu asistenti, kopā, tai skaitā: | B59: =SUM(B60:B75) -> 16 | E59: =SUM(E60:E75) -> 431 | H59: =SUM(H60:H75) -> 4012.74 | I59: =SUM(I60:I75) -> 4943.64
A60: Māsas palīgs | B60: 1 | C60: =D60+E60 -> 144 | D60: 133 | E60: 11 | F60: 975.79 | G60: =F60/184 -> 5.3032065 | H60: =ROUND(E60*G60*2,2) -> 116.67 | I60: =ROUND(H60*1.2359,2) -> 144.19
A61: Māsas palīgs | B61: 1 | C61: =D61+E61 -> 224 | D61: 184 | E61: 40 | F61: 853.4288 | G61: =F61/184 -> 4.6382 | H61: =ROUND(E61*G61*2,2) -> 371.06 | I61: =ROUND(H61*1.2359,2) -> 458.59
A62: Māsas palīgs | B62: 1 | C62: =D62+E62 -> 168 | D62: 136 | E62: 32 | F62: 853.4288 | G62: =F62/184 -> 4.6382 | H62: =ROUND(E62*G62*2,2) -> 296.84 | I62: =ROUND(H62*1.2359,2) -> 366.86
A63: Māsas palīgs | B63: 1 | C63: =D63+E63 -> 96 | D63: 80 | E63: 16 | F63: 853.4288 | G63: =F63/184 -> 4.6382 | H63: =ROUND(E63*G63*2,2) -> 148.42 | I63: =ROUND(H63*1.2359,2) -> 183.43
A64: Māsas palīgs | B64: 1 | C64: =D64+E64 -> 104 | D64: 80 | E64: 24 | F64: 853.4288 | G64: =F64/184 -> 4.6382 | H64: =ROUND(E64*G64*2,2) -> 222.63 | I64: =ROUND(H64*1.2359,2) -> 275.15
A65: Māsas palīgs | B65: 1 | C65: =D65+E65 -> 228 | D65: 168 | E65: 60 | F65: 853.4288 | G65: =F65/184 -> 4.6382 | H65: =ROUND(E65*G65*2,2) -> 556.58 | I65: =ROUND(H65*1.2077,2) -> 672.18
A66: Māsas palīgs | B66: 1 | C66: =D66+E66 -> 212 | D66: 184 | E66: 28 | F66: 853.4288 | G66: =F66/184 -> 4.6382 | H66: =ROUND(E66*G66*2,2) -> 259.74 | I66: =ROUND(H66*1.2359,2) -> 321.01
A67: Māsas palīgs | B67: 1 | C67: =D67+E67 -> 208 | D67: 184 | E67: 24 | F67: 853.4288 | G67: =F67/184 -> 4.6382 | H67: =ROUND(E67*G67*2,2) -> 222.63 | I67: =ROUND(H67*1.2359,2) -> 275.15
...

Sheet Daugavpils_reģ_sept
H1: 1.5.Pielikums
A2: Pārskats par darba veicējiem (ārstniecības personām), virs normālā darba laika nostrādātām stundām, apmaksājamām stundām un izdevumiem, kas radušies saistībā ar mērķi ierobežot Covid-19 izplatību
A4: Iestādes nosaukums: SIA "Daugavpils reģionālā slimnīca"
A5: Pārskata mēnesis: Septembris
B7: Nodarbināto skaits mēnesī | C7: Apmaksājamais laiks mēnesī, stundas (tai skaitā summētā darba laika ietvaros) | F7: Mēnešalga no kuras rēķina stundas likmi | G7: Stundas likme (aprēķināta atbilstoši mēnešalgai vai darba līgumā noteiktā stundas likme)2 | H7: Apmaksājamā 100% piemaksa par nostrādātām virsstundām virs normālā darba laika (tai skaitā summētā darba laika ietvaros) | I7: Izdevumi par virsstundām kopā ar VSOAI, EUR
C8: Kopā | D8: līdz normālam darba laikam | E8: virsstundas - virs normālā darba laika, kas saistītas ar darbu ar Covid-19
A10: 1 | B10: 2 | C10: 3=4+5 | D10: 4 | E10: 5 | F10: 6 | G10: 7 | H10: 8 | I10: 9=8 + VSOAI
A11: KOPĀ | B11: =B12+B121+B133 -> 117 | E11: =E12+E121+E133 -> 4603 | H11: =H12+H121+H133 -> 81099.37 | I11: =I12+I121+I133 -> 100032.71
A12: Centrālā slimnīca "Uzņemšanas nodaļa" | B12: =B13+B64+B107 -> 105 | E12: =E13+E64+E107 -> 4201 | H12: =H13+H64+H107 -> 72405.05 | I12: =I13+I64+I107 -> 89292.67
A13: Ārsti, zobārsti un funkcionālie speciālisti, kopā, tai skaitā: | B13: =SUM(B14:B63) -> 50 | E13: =SUM(E14:E63) -> 2504.5 | H13: =SUM(H14:H63) -> 51230.56 | I13: =SUM(I14:I63) -> 63134.66
A14: Ginekologs | B14: 1 | C14: =D14+E14 -> 48 | D14: 24 | E14: 24 | F14: 1800.08 | G14: =F14/176 -> 10.227727 | H14: =ROUND(E14*G14*2,2) -> 490.93 | I14: =ROUND(H14*1.2359,2) -> 606.74
A15: Ginekologs | B15: 1 | C15: =D15+E15 -> 96 | D15: 48 | E15: 48 | F15: 1800.0752 | G15: =F15/176 -> 10.2277 | H15: =ROUND(E15*G15*2,2) -> 981.86 | I15: =ROUND(H15*1.2077,2) -> 1185.79
A16: Pediatrs | B16: 1 | C16: =D16+E16 -> 224 | D16: 176 | E16: 48 | F16: 1800.0752 | G16: =F16/176 -> 10.2277 | H16: =ROUND(E16*G16*2,2) -> 981.86 | I16: =ROUND(H16*1.2077,2) -> 1185.79
A17: Pediatrs | B17: 1 | C17: =D17+E17 -> 208 | D17: 160 | E17: 48 | F17: 1800.0752 | G17: =F17/176 -> 10.2277 | H17: =ROUND(E17*G17*2,2) -> 981.86 | I17: =ROUND(H17*1.2359,2) -> 1213.48
A18: Pediatrs | B18: 1 | C18: =D18+E18 -> 144 | D18: 88 | E18: 56 | F18: 1800.0752 | G18: =F18/176 -> 10.2277 | H18: =ROUND(E18*G18*2,2) -> 1145.5 | I18: =ROUND(H18*1.2359,2) -> 1415.72
A19: Pediatrs | B19: 1 | C19: =D19+E19 -> 128 | D19: 72 | E19: 56 | F19: 1800.0752 | G19: =F19/176 -> 10.2277 | H19: =ROUND(E19*G19*2,2) -> 1145.5 | I19: =ROUND(H19*1.2359,2) -> 1415.72
A20: Bērnu ķirurgs | B20: 1 | C20: =D20+E20 -> 96 | D20: 48 | E20: 48 | F20: 1800.0752 | G20: =F20/176 -> 10.2277 | H20: =ROUND(E20*G20*2,2) -> 981.86 | I20: =ROUND(H20*1.2359,2) -> 1213.48
A21: Neatliekamās medicīnas ārsts | B21: 1 | C21: =D21+E21 -> 184 | D21: 160 | E21: 24 | F21: 1800.0752 | G21: =F21/176 -> 10.2277 | H21: =ROUND(E21*G21*2,2) -> 490.93 | I21: =ROUND(H21*1.2359,2) -> 606.74
A22: Neatliekamās medicīnas ārsts | B22: 1 | C22: =D22+E22 -> 232 | D22: 176 | E22: 56 | F22: 1800.0752 | G22: =F22/176 -> 10.2277 | H22: =ROUND(E22*G22*2,2) -> 1145.5 | I22: =ROUND(H22*1.2359,2) -> 1415.72
A23: Neatliekamās medicīnas ārsts | B23: 1 | C23: =D23+E23 -> 192 | D23: 176 | E23: 16 | F23: 1800.0752 | G23: =F23/176 -> 10.2277 | H23: =ROUND(E23*G23*2,2) -> 327.29 | I23: =ROUND(H23*1.2359,2) -> 404.5
A24: Neatliekamās medicīnas ārsts | B24: 1 | C24: =D24+E24 -> 215 | D24: 176 | E24: 39 | F24: 1800.0752 | G24: =F24/176 -> 10.2277 | H24: =ROUND(E24*G24*2,2) -> 797.76 | I24: =ROUND(H24*1.2359,2) -> 985.95
A25: Kardiologs | B25: 1 | C25: =D25+E25 -> 148 | D25: 136 | E25: 12 | F25: 1800.0752 | G25: =F25/176 -> 10.2277 | H25: =ROUND(E25*G25*2,2) -> 245.46 | I25: =ROUND(H25*1.2359,2) -> 303.36
A26: Kardiologs | B26: 1 | C26: =D26+E26 -> 80 | D26: 40 | E26: 40 | F26: 1800.0752 | G26: =F26/176 -> 10.2277 | H26: =ROUND(E26*G26*2,2) -> 818.22 | I26: =ROUND(H26*1.2359,2) -> 1011.24
A27: Kardiologs | B27: 1 | C27: =D27+E27 -> 96 | D27: 48 | E27: 48 | F27: 1800.0752 | G27: =F27/176 -> 10.2277 | H27: =ROUND(E27*G27*2,2) -> 981.86 | I27: =ROUND(H27*1.2359,2) -> 1213.48
A28: Kardiologs | B28: 1 | C28: =D28+E28 -> 128 | D28: 64 | E28: 64 | F28: 1800.0752 | G28: =F28/176 -> 10.2277 | H28: =ROUND(E28*G28*2,2) -> 1309.15 | I28: =ROUND(H28*1.2077,2) -> 1581.06
A29: Kardiologs | B29: 1 | C29: =D29+E29 -> 32 | D29: 16 | E29: 16 | F29: 1800.0752 | G29: =F29/176 -> 10.2277 | H29: =ROUND(E29*G29*2,2) -> 327.29 | I29: =ROUND(H29*1.2359,2) -> 404.5
A30: Kardiologs | B30: 1 | C30: =D30+E30 -> 64 | D30: 32 | E30: 32 | F30: 1800.0752 | G30: =F30/176 -> 10.2277 | H30: =ROUND(E30*G30*2,2) -> 654.57 | I30: =ROUND(H30*1.2359,2) -> 808.98
A31: Ķirurgs | B31: 1 | C31: =D31+E31 -> 219 | D31: 176 | E31: 43 | F31: 1800.0752 | G31: =F31/176 -> 10.2277 | H31: =ROUND(E31*G31*2,2) -> 879.58 | I31: =ROUND(H31*1.2359,2) -> 1087.07
A32: Ķirurgs | B32: 1 | C32: =D32+E32 -> 132 | D32: 66 | E32: 66 | F32: 1800.0752 | G32: =F32/176 -> 10.2277 | H32: =ROUND(E32*G32*2,2) -> 1350.06 | I32: =ROUND(H32*1.2359,2) -> 1668.54
A33: Ķirurgs | B33: 1 | C33: =D33+E33 -> 68 | D33: 34 | E33: 34 | F33: 1800.0752 | G33: =F33/176 -> 10.2277 | H33: =ROUND(E33*G33*2,2) -> 695.48 | I33: =ROUND(H33*1.2077,2) -> 839.93
A34: Ķirurgs | B34: 1 | C34: =D34+E34 -> 68 | D34: 34 | E34: 34 | F34: 1800.0752 | G34: =F34/176 -> 10.2277 | H34: =ROUND(E34*G34*2,2) -> 695.48 | I34: =ROUND(H34*1.2359,2) -> 859.54
A35: Ķirurgs | B35: 1 | C35: =D35+E35 -> 128 | D35: 64 | E35: 64 | F35: 1800.0752 | G35: =F35/176 -> 10.2277 | H35: =ROUND(E35*G35*2,2) -> 1309.15 | I35: =ROUND(H35*1.2359,2) -> 1617.98
A36: Ķirurgs | B36: 1 | C36: =D36+E36 -> 322 | D36: 154 | E36: 168 | F36: 1800.0752 | G36: =F36/176 -> 10.2277 | H36: =ROUND(E36*G36*2,2) -> 3436.51 | I36: =ROUND(H36*1.2359,2) -> 4247.18
A37: Ķirurgs | B37: 1 | C37: =D37+E37 -> 68 | D37: 34 | E37: 34 | F37: 1800.0752 | G37: =F37/176 -> 10.2277 | H37: =ROUND(E37*G37*2,2) -> 695.48 | I37: =ROUND(H37*1.2359,2) -> 859.54
A38: Internists | B38: 1 | C38: =D38+E38 -> 96 | D38: 48 | E38: 48 | F38: 1800.0752 | G38: =F38/176 -> 10.2277 | H38: =ROUND(E38*G38*2,2) -> 981.86 | I38: =ROUND(H38*1.2359,2) -> 1213.48
A39: Neirologs | B39: 1 | C39: =D39+E39 -> 240 | D39: 120 | E39: 120 | F39: 1800.0752 | G39: =F39/176 -> 10.2277 | H39: =ROUND(E39*G39*2,2) -> 2454.65 | I39: =ROUND(H39*1.2359,2) -> 3033.7
A40: Neirologs | B40: 1 | C40: =D40+E40 -> 256 | D40: 128 | E40: 128 | F40: 1800.0752 | G40: =F40/176 -> 10.2277 | H40: =ROUND(E40*G40*2,2) -> 2618.29 | I40: =ROUND(H40*1.2359,2) -> 3235.94
A41: Rezidents | B41: 1 | C41: =D41+E41 -> 160 | D41: 80 | E41: 80 | F41: 1800.0752 | G41: =F41/176 -> 10.2277 | H41: =ROUND(E41*G41*2,2) -> 1636.43 | I41: =ROUND(H41*1.2359,2) -> 2022.46
A42: Rezidents | B42: 1 | C42: =D42+E42 -> 122 | D42: 61 | E42: 61 | F42: 1800.0752 | G42: =F42/176 -> 10.2277 | H42: =ROUND(E42*G42*2,2) -> 1247.78 | I42: =ROUND(H42*1.2359,2) -> 1542.13
A43: Rezidents | B43: 1 | C43: =D43+E43 -> 48 | D43: 24 | E43: 24 | F43: 1800.0752 | G43: =F43/176 -> 10.2277 | H43: =ROUND(E43*G43*2,2) -> 490.93 | I43: =ROUND(H43*1.2359,2) -> 606.74
...

Sheet Z-Kurzeme_jūl
H1: 1.6.Pielikums
A2: Pārskats par darba veicējiem (ārstniecības personām), virs normālā darba laika nostrādātām stundām, apmaksājamām stundām un izdevumiem, kas radušies saistībā ar mērķi ierobežot Covid-19 izplatību
A4: Iestādes nosaukums: SIA "Ziemeļkurzemes reģionālā slimnīca"
A5: Pārskata mēnesis: Jūlijs
B7: Nodarbināto skaits mēnesī | C7: Apmaksājamais laiks mēnesī, stundas (tai skaitā summētā darba laika ietvaros) | F7: Mēnešalga no kuras rēķina stundas likmi | G7: Stundas likme (aprēķināta atbilstoši mēnešalgai vai darba līgumā noteiktā stundas likme) | H7: Apmaksājamā 100% piemaksa par nostrādātām virsstundām virs normālā darba laika (tai skaitā summētā darba laika ietvaros) | I7: Izdevumi par virsstundām kopā ar VSOAI, EUR
C8: Kopā | D8: līdz normālam darba laikam | E8: virsstundas - virs normālā darba laika, kas saistītas ar darbu ar Covid-19
A9: 1 | B9: 2 | C9: 3=4+5 | D9: 4 | E9: 5 | F9: 6 | G9: 7 | H9: 8 | I9: 9=8 + VSOAI
A10: KOPĀ | B10: =B11+B26+B29+B45+B63+B75 -> 52 | E10: =E11+E26+E29+E45+E63+E75 -> 1088 | H10: =H11+H26+H29+H45+H63+H75 -> 13117.65 | I10: =I11+I26+I29+I45+I63+I75 -> 16136.81
A11: INFEKCIJAS NODAĻA | B11: =B12+B22+B19 -> 11 | E11: =E12+E22+E19 -> 362 | H11: =H12+H22+H19 -> 4228.07 | I11: =I12+I22+I19 -> 5169.35
A12: Ārstniecības un pacientu aprūpes personas un funkcionālo speciālistu asistenti, kopā, tai skaitā: | B12: =SUM(B13:B18) -> 6 | E12: =SUM(E13:E18) -> 153 | H12: =SUM(H13:H18) -> 2155.46 | I12: =SUM(I13:I18) -> 2643.27
A13: Māsa/vispārējās aprūpes māsa | B13: 1 | C13: =D13+E13 -> 160 | D13: 151 | E13: 9 | G13: 7.044 | H13: =ROUND(G13*E13*2,2) -> 126.79 | I13: =ROUND(H13*1.2359,2) -> 156.7
A14: Māsa/vispārējās aprūpes māsa | B14: 1 | C14: =D14+E14 -> 184 | D14: 151 | E14: 33 | G14: 7.044 | H14: =ROUND(G14*E14*2,2) -> 464.9 | I14: =ROUND(H14*1.2359,2) -> 574.57
A15: Māsa/vispārējās aprūpes māsa | B15: 1 | C15: =D15+E15 -> 190 | D15: 151 | E15: 39 | G15: 7.044 | H15: =ROUND(G15*E15*2,2) -> 549.43 | I15: =ROUND(H15*1.2359,2) -> 679.04
A16: Māsa/vispārējās aprūpes māsa | B16: 1 | C16: =D16+E16 -> 164 | D16: 151 | E16: 13 | G16: 7.044 | H16: =ROUND(G16*E16*2,2) -> 183.14 | I16: =ROUND(H16*1.2359,2) -> 226.34
A17: Māsa/vispārējās aprūpes māsa | B17: 1 | C17: =D17+E17 -> 158 | D17: 151 | E17: 7 | G17: 7.044 | H17: =ROUND(G17*E17*2,2) -> 98.62 | I17: =ROUND(H17*1.2359,2) -> 121.88
A18: Māsa/vispārējās aprūpes māsa | B18: 1 | C18: =D18+E18 -> 203 | D18: 151 | E18: 52 | G18: 7.044 | H18: =ROUND(G18*E18*2,2) -> 732.58 | I18: =ROUND(H18*1.2077,2) -> 884.74
A19: Ārstniecības un pacientu aprūpes atbalsta personas, māsu palīgi, zobārstu aistenti, kopā, tai skaitā: | B19: =SUM(B20:B21) -> 2 | C19: =SUM(C20:C21) -> 404 | D19: =SUM(D20:D21) -> 302 | E19: =SUM(E20:E21) -> 102 | H19: =SUM(H20:H21) -> 1047.13 | I19: =SUM(I20:I21) -> 1273.01
A20: Māsas palīgs | B20: 1 | C20: =D20+E20 -> 224 | D20: 151 | E20: 73 | G20: 5.133 | H20: =ROUND(G20*E20*2,2) -> 749.42 | I20: =ROUND(H20*1.2077,2) -> 905.07
A21: Māsas palīgs | B21: 1 | C21: =D21+E21 -> 180 | D21: 151 | E21: 29 | G21: 5.133 | H21: =ROUND(G21*E21*2,2) -> 297.71 | I21: =ROUND(H21*1.2359,2) -> 367.94
A22: Pārējie darbinieki, kuri tieši iesaistīti darbā ar Covid-19, kopā, tai skaitā: | B22: =SUM(B23:B25) -> 3 | C22: =SUM(C23:C25) -> 560 | D22: =SUM(D23:D25) -> 453 | E22: =SUM(E23:E25) -> 107 | H22: =SUM(H23:H25) -> 1025.48 | I22: =SUM(I23:I25) -> 1253.07
A23: Sanitārs | B23: 1 | C23: =D23+E23 -> 204 | D23: 151 | E23: 53 | G23: 4.792 | H23: =ROUND(G23*E23*2,2) -> 507.95 | I23: =ROUND(H23*1.2077,2) -> 613.45
A24: Sanitārs | B24: 1 | C24: =D24+E24 -> 194 | D24: 151 | E24: 43 | G24: 4.792 | H24: =ROUND(G24*E24*2,2) -> 412.11 | I24: =ROUND(H24*1.2359,2) -> 509.33
A25: Sanitārs | B25: 1 | C25: =D25+E25 -> 162 | D25: 151 | E25: 11 | G25: 4.792 | H25: =ROUND(G25*E25*2,2) -> 105.42 | I25: =ROUND(H25*1.2359,2) -> 130.29
A26: KARDIOLOĢIJAS NODAĻA | B26: =B27 -> 1 | E26: =E27 -> 1 | H26: =H27 -> 13.04 | I26: =I27 -> 16.12
A27: Ārstniecības un pacientu aprūpes personas un funkcionālo speciālistu asistenti, kopā, tai skaitā: | B27: =SUM(B28:B28) -> 1 | E27: =SUM(E28:E28) -> 1 | H27: =SUM(H28:H28) -> 13.04 | I27: =SUM(I28:I28) -> 16.12
A28: Māsa/vispārējās aprūpes māsa | B28: 1 | C28: =D28+E28 -> 173 | D28: 172 | E28: 1 | G28: 6.519 | H28: =ROUND(G28*E28*2,2) -> 13.04 | I28: =ROUND(H28*1.2359,2) -> 16.12
A29: NEIROLOĢIJAS NODAĻA | B29: =B30+B36+B40 -> 12 | E29: =E30+E36+E40 -> 166 | H29: =H30+H36+H40 -> 1613.02 | I29: =I30+I36+I40 -> 1993.53
A30: Ārstniecības un pacientu aprūpes personas un funkcionālo speciālistu asistenti, kopā, tai skaitā: | B30: =SUM(B31:B35) -> 5 | E30: =SUM(E31:E35) -> 40 | H30: =SUM(H31:H35) -> 525.81 | I30: =SUM(I31:I35) -> 649.85
A31: Māsa/vispārējās aprūpes māsa | B31: 1 | C31: =D31+E31 -> 174 | D31: 172 | E31: 2 | G31: 6.811 | H31: =ROUND(G31*E31*2,2) -> 27.24 | I31: =ROUND(H31*1.2359,2) -> 33.67
A32: Māsa/vispārējās aprūpes māsa | B32: 1 | C32: =D32+E32 -> 183 | D32: 172 | E32: 11 | G32: 6.402 | H32: =ROUND(G32*E32*2,2) -> 140.84 | I32: =ROUND(H32*1.2359,2) -> 174.06
A33: Māsa/vispārējās aprūpes māsa | B33: 1 | C33: =D33+E33 -> 184 | D33: 172 | E33: 12 | G33: 6.811 | H33: =ROUND(G33*E33*2,2) -> 163.46 | I33: =ROUND(H33*1.2359,2) -> 202.02
A34: Māsa/vispārējās aprūpes māsa | B34: 1 | C34: =D34+E34 -> 185 | D34: 172 | E34: 13 | G34: 6.402 | H34: =ROUND(G34*E34*2,2) -> 166.45 | I34: =ROUND(H34*1.2359,2) -> 205.72
A35: Māsa/vispārējās aprūpes māsa | B35: 1 | C35: =D35+E35 -> 174 | D35: 172 | E35: 2 | G35: 6.954 | H35: =ROUND(G35*E35*2,2) -> 27.82 | I35: =ROUND(H35*1.2359,2) -> 34.38
A36: Ārstniecības un pacientu aprūpes atbalsta personas, māsu palīgi, zobārstu aistenti, kopā, tai skaitā: | B36: =SUM(B37:B39) -> 3 | E36: =SUM(E37:E39) -> 53 | H36: =SUM(H37:H39) -> 475.62 | I36: =SUM(I37:I39) -> 587.82
A37: Māsas palīgs | B37: 1 | C37: =D37+E37 -> 195 | D37: 172 | E37: 23 | G37: 4.487 | H37: =ROUND(G37*E37*2,2) -> 206.4 | I37: =ROUND(H37*1.2359,2) -> 255.09
A38: Māsas palīgs | B38: 1 | C38: =D38+E38 -> 182 | D38: 172 | E38: 10 | G38: 4.487 | H38: =ROUND(G38*E38*2,2) -> 89.74 | I38: =ROUND(H38*1.2359,2) -> 110.91
A39: Māsas palīgs | B39: 1 | C39: =D39+E39 -> 192 | D39: 172 | E39: 20 | G39: 4.487 | H39: =ROUND(G39*E39*2,2) -> 179.48 | I39: =ROUND(H39*1.2359,2) -> 221.82
A40: Pārējie darbinieki, kuri tieši iesaistīti darbā ar Covid-19, kopā, tai skaitā: | B40: =SUM(B41:B44) -> 4 | E40: =SUM(E41:E44) -> 73 | H40: =SUM(H41:H44) -> 611.59 | I40: =SUM(I41:I44) -> 755.86
A41: Sanitārs | B41: 1 | C41: =D41+E41 -> 191 | D41: 172 | E41: 19 | G41: 4.189 | H41: =ROUND(G41*E41*2,2) -> 159.18 | I41: =ROUND(H41*1.2359,2) -> 196.73
A42: Sanitārs | B42: 1 | C42: =D42+E42 -> 192 | D42: 172 | E42: 20 | G42: 4.189 | H42: =ROUND(G42*E42*2,2) -> 167.56 | I42: =ROUND(H42*1.2359,2) -> 207.09
...

Sheet Z-Kurzeme_aug
H1: 1.7.Pielikums
A2: Pārskats par darba veicējiem (ārstniecības personām), virs normālā darba laika nostrādātām stundām, apmaksājamām stundām un izdevumiem, kas radušies saistībā ar mērķi ierobežot Covid-19 izplatību
A4: Iestādes nosaukums: SIA "Ziemeļkurzemes reģionālā slimnīca"
A5: Pārskata mēnesis: Augusts
B7: Nodarbināto skaits mēnesī | C7: Apmaksājamais laiks mēnesī, stundas (tai skaitā summētā darba laika ietvaros) | F7: Mēnešalga no kuras rēķina stundas likmi | G7: Stundas likme (aprēķināta atbilstoši mēnešalgai vai darba līgumā noteiktā stundas likme) | H7: Apmaksājamā 100% piemaksa par nostrādātām virsstundām virs normālā darba laika (tai skaitā summētā darba laika ietvaros) | I7: Izdevumi par virsstundām kopā ar VSOAI, EUR
C8: Kopā | D8: līdz normālam darba laikam | E8: virsstundas - virs normālā darba laika, kas saistītas ar darbu ar Covid-19
A9: 1 | B9: 2 | C9: 3=4+5 | D9: 4 | E9: 5 | F9: 6 | G9: 7 | H9: 8 | I9: 9=8+VSOAI
A10: KOPĀ | B10: =B11+B24+B35+B43+B68+B95+B100+B111 -> 77 | E10: =E11+E24+E35+E43+E68+E95+E100+E111 -> 1339 | H10: =H11+H24+H35+H43+H68+H95+H100+H111 -> 16124.14 | I10: =I11+I24+I35+I43+I68+I95+I100+I111 -> 19868.32
A11: INFEKCIJAS NODAĻA | B11: =B12+B20+B18 -> 9 | E11: =E12+E20+E18 -> 347 | H11: =H12+H20+H18 -> 4014.05 | I11: =I12+I20+I18 -> 4908.61
A12: Ārstniecības un pacientu aprūpes personas un funkcionālo speciālistu asistenti, kopā, tai skaitā: | B12: =SUM(B13:B17) -> 5 | E12: =SUM(E13:E17) -> 143 | H12: =SUM(H13:H17) -> 2014.58 | I12: =SUM(I13:I17) -> 2471.14
A13: Māsa/vispārējās aprūpes māsa | B13: 1 | C13: =D13+E13 -> 205 | D13: 158 | E13: 47 | G13: 7.044 | H13: =ROUND(G13*E13*2,2) -> 662.14 | I13: =ROUND(H13*1.2077,2) -> 799.67
A14: Māsa/vispārējās aprūpes māsa | B14: 1 | C14: =D14+E14 -> 171 | D14: 158 | E14: 13 | G14: 7.044 | H14: =ROUND(G14*E14*2,2) -> 183.14 | I14: =ROUND(H14*1.2359,2) -> 226.34
A15: Māsa/vispārējās aprūpes māsa | B15: 1 | C15: =D15+E15 -> 164 | D15: 158 | E15: 6 | G15: 7.044 | H15: =ROUND(G15*E15*2,2) -> 84.53 | I15: =ROUND(H15*1.2359,2) -> 104.47
A16: Māsa/vispārējās aprūpes māsa | B16: 1 | C16: =D16+E16 -> 207 | D16: 158 | E16: 49 | G16: 7.044 | H16: =ROUND(G16*E16*2,2) -> 690.31 | I16: =ROUND(H16*1.2359,2) -> 853.15
A17: Māsa/vispārējās aprūpes māsa | B17: 1 | C17: =D17+E17 -> 186 | D17: 158 | E17: 28 | G17: 7.044 | H17: =ROUND(G17*E17*2,2) -> 394.46 | I17: =ROUND(H17*1.2359,2) -> 487.51
A18: Ārstniecības un pacientu aprūpes atbalsta personas, māsu palīgi, zobārstu aistenti, kopā, tai skaitā: | B18: =SUM(B19:B19) -> 1 | E18: =SUM(E19:E19) -> 65 | H18: =SUM(H19:H19) -> 667.29 | I18: =SUM(I19:I19) -> 805.89
A19: Māsas palīgs | B19: 1 | C19: =D19+E19 -> 223 | D19: 158 | E19: 65 | G19: 5.133 | H19: =ROUND(G19*E19*2,2) -> 667.29 | I19: =ROUND(H19*1.2077,2) -> 805.89
A20: Pārējie darbinieki, kuri tieši iesaistīti darbā ar Covid-19, kopā, tai skaitā: | B20: =SUM(B21:B23) -> 3 | E20: =SUM(E21:E23) -> 139 | H20: =SUM(H21:H23) -> 1332.18 | I20: =SUM(I21:I23) -> 1631.58
A21: Sanitārs | B21: 1 | C21: =D21+E21 -> 213 | D21: 158 | E21: 55 | G21: 4.792 | H21: =ROUND(G21*E21*2,2) -> 527.12 | I21: =ROUND(H21*1.2077,2) -> 636.6
A22: Sanitārs | B22: 1 | C22: =D22+E22 -> 213 | D22: 158 | E22: 55 | G22: 4.792 | H22: =ROUND(G22*E22*2,2) -> 527.12 | I22: =ROUND(H22*1.2359,2) -> 651.47
A23: Sanitārs | B23: 1 | C23: =D23+E23 -> 187 | D23: 158 | E23: 29 | G23: 4.792 | H23: =ROUND(G23*E23*2,2) -> 277.94 | I23: =ROUND(H23*1.2359,2) -> 343.51
A24: IEKŠĶĪGO SLIMĪBU NODAĻA | B24: =B25+B31 -> 8 | E24: =E25+E31 -> 90 | H24: =H25+H31 -> 1619.51 | I24: =I25+I31 -> 2001.56
A25: Ārsti, zobārsti un funkcionālie speciālisti, kopā, tai skaitā: | B25: =SUM(B26:B30) -> 5 | E25: =SUM(E26:E30) -> 66 | H25: =SUM(H26:H30) -> 1290.01 | I25: =SUM(I26:I30) -> 1594.33
A26: Internists | B26: 1 | C26: =D26+E26 -> 203 | D26: 181 | E26: 22 | G26: 9.646 | H26: =ROUND(G26*E26*2,2) -> 424.42 | I26: =ROUND(H26*1.2359,2) -> 524.54
A27: Internists | B27: 1 | C27: =D27+E27 -> 198 | D27: 181 | E27: 17 | G27: 9.646 | H27: =ROUND(G27*E27*2,2) -> 327.96 | I27: =ROUND(H27*1.2359,2) -> 405.33
A28: Internists (dežūrārsts) | B28: 1 | C28: =D28+E28 -> 185 | D28: 181 | E28: 4 | G28: 9.956 | H28: =ROUND(G28*E28*2,2) -> 79.65 | I28: =ROUND(H28*1.2359,2) -> 98.44
A29: Internists (dežūrārsts) | B29: 1 | C29: =D29+E29 -> 189 | D29: 181 | E29: 8 | G29: 9.956 | H29: =ROUND(G29*E29*2,2) -> 159.3 | I29: =ROUND(H29*1.2359,2) -> 196.88
A30: Internists (dežūrārsts) | B30: 1 | C30: =D30+E30 -> 196 | D30: 181 | E30: 15 | G30: 9.956 | H30: =ROUND(G30*E30*2,2) -> 298.68 | I30: =ROUND(H30*1.2359,2) -> 369.14
A31: Ārstniecības un pacientu aprūpes personas un funkcionālo speciālistu asistenti, kopā, tai skaitā: | B31: =SUM(B32:B34) -> 3 | E31: =SUM(E32:E34) -> 24 | H31: =SUM(H32:H34) -> 329.5 | I31: =SUM(I32:I34) -> 407.23
A32: Māsa/vispārējās aprūpes māsa | B32: 1 | C32: =D32+E32 -> 192 | D32: 181 | E32: 11 | G32: 6.811 | H32: =ROUND(G32*E32*2,2) -> 149.84 | I32: =ROUND(H32*1.2359,2) -> 185.19
A33: Māsa/vispārējās aprūpes māsa | B33: 1 | C33: =D33+E33 -> 190 | D33: 181 | E33: 9 | G33: 6.954 | H33: =ROUND(G33*E33*2,2) -> 125.17 | I33: =ROUND(H33*1.2359,2) -> 154.7
A34: Māsa/vispārējās aprūpes māsa | B34: 1 | C34: =D34+E34 -> 185 | D34: 181 | E34: 4 | G34: 6.811 | H34: =ROUND(G34*E34*2,2) -> 54.49 | I34: =ROUND(H34*1.2359,2) -> 67.34
A35: KARDIOLOĢIJAS NODAĻA | B35: =B36+B38 -> 5 | E35: =E36+E38 -> 17 | H35: =H36+H38 -> 239.44 | I35: =I36+I38 -> 295.19
A36: Ārsti, zobārsti un funkcionālie speciālisti, kopā, tai skaitā: | B36: =SUM(B37:B37) -> 1 | E36: =SUM(E37:E37) -> 3 | H36: =SUM(H37:H37) -> 57.84 | I36: =SUM(I37:I37) -> 71.48
A37: Kardiologs | B37: 1 | C37: =D37+E37 -> 184 | D37: 181 | E37: 3 | G37: 9.64 | H37: =ROUND(G37*E37*2,2) -> 57.84 | I37: =ROUND(H37*1.2359,2) -> 71.48
A38: Ārstniecības un pacientu aprūpes personas un funkcionālo speciālistu asistenti, kopā, tai skaitā: | B38: =SUM(B39:B42) -> 4 | E38: =SUM(E39:E42) -> 14 | H38: =SUM(H39:H42) -> 181.6 | I38: =SUM(I39:I42) -> 223.71
A39: Māsa/vispārējās aprūpes māsa | B39: 1 | C39: =D39+E39 -> 183 | D39: 181 | E39: 2 | G39: 6.402 | H39: =ROUND(G39*E39*2,2) -> 25.61 | I39: =ROUND(H39*1.2077,2) -> 30.93
A40: Māsa/vispārējās aprūpes māsa | B40: 1 | C40: =D40+E40 -> 183 | D40: 181 | E40: 2 | G40: 6.402 | H40: =ROUND(G40*E40*2,2) -> 25.61 | I40: =ROUND(H40*1.2359,2) -> 31.65
A41: Māsa/vispārējās aprūpes māsa | B41: 1 | C41: =D41+E41 -> 189 | D41: 181 | E41: 8 | G41: 6.519 | H41: =ROUND(G41*E41*2,2) -> 104.3 | I41: =ROUND(H41*1.2359,2) -> 128.9
A42: Māsa/vispārējās aprūpes māsa | B42: 1 | C42: =D42+E42 -> 183 | D42: 181 | E42: 2 | G42: 6.519 | H42: =ROUND(G42*E42*2,2) -> 26.08 | I42: =ROUND(H42*1.2359,2) -> 32.23
...

Sheet Z-Kurzeme_sept
H1: 1.8.Pielikums
A2: Pārskats par darba veicējiem (ārstniecības personām), virs normālā darba laika nostrādātām stundām, apmaksājamām stundām un izdevumiem, kas radušies saistībā ar mērķi ierobežot Covid-19 izplatību
A4: Iestādes nosaukums: SIA "Ziemeļkurzemes reģionālā slimnīca"
A5: Pārskata mēnesis: Septembris
B7: Nodarbināto skaits mēnesī | C7: Apmaksājamais laiks mēnesī, stundas (tai skaitā summētā darba laika ietvaros) | F7: Mēnešalga no kuras rēķina stundas likmi | G7: Stundas likme (aprēķināta atbilstoši mēnešalgai vai darba līgumā noteiktā stundas likme) | H7: Apmaksājamā 100% piemaksa par nostrādātām virsstundām virs normālā darba laika (tai skaitā summētā darba laika ietvaros) | I7: Izdevumi par virsstundām kopā ar VSOAI, EUR
C8: Kopā | D8: līdz normālam darba laikam | E8: virsstundas - virs normālā darba laika, kas saistītas ar darbu ar Covid-19
A9: 1 | B9: 2 | C9: 3=4+5 | D9: 4 | E9: 5 | F9: 6 | G9: 7 | H9: 8 | I9: 9=8+VSOAI
A10: KOPĀ | B10: =B11+B24+B35+B46+B71+B96+B109 -> 80 | E10: =E11+E24+E35+E46+E71+E96+E109 -> 1895 | H10: =H11+H24+H35+H46+H71+H96+H109 -> 23289.82 | I10: =I11+I24+I35+I46+I71+I96+I109 -> 28783.49
A11: INFEKCIJAS NODAĻA | B11: =B12+B18+B20 -> 9 | E11: =E12+E18+E20 -> 492 | H11: =H12+H18+H20 -> 5837.36 | I11: =I12+I18+I20 -> 7214.38
A12: Ārstniecības un pacientu aprūpes personas un funkcionālo speciālistu asistenti, kopā, tai skaitā: | B12: =SUM(B13:B17) -> 5 | E12: =SUM(E13:E17) -> 242 | H12: =SUM(H13:H17) -> 3409.31 | I12: =SUM(I13:I17) -> 4213.56
A13: Māsa/vispārējās aprūpes māsa | B13: 1 | C13: =D13+E13 -> 164 | D13: 152 | E13: 12 | G13: 7.044 | H13: =ROUND(G13*E13*2,2) -> 169.06 | I13: =ROUND(H13*1.2359,2) -> 208.94
A14: Māsa/vispārējās aprūpes māsa | B14: 1 | C14: =D14+E14 -> 239 | D14: 152 | E14: 87 | G14: 7.044 | H14: =ROUND(G14*E14*2,2) -> 1225.66 | I14: =ROUND(H14*1.2359,2) -> 1514.79
A15: Māsa/vispārējās aprūpes māsa | B15: 1 | C15: =D15+E15 -> 169 | D15: 152 | E15: 17 | G15: 7.044 | H15: =ROUND(G15*E15*2,2) -> 239.5 | I15: =ROUND(H15*1.2359,2) -> 296
A16: Māsa/vispārējās aprūpes māsa | B16: 1 | C16: =D16+E16 -> 197 | D16: 152 | E16: 45 | G16: 7.044 | H16: =ROUND(G16*E16*2,2) -> 633.96 | I16: =ROUND(H16*1.2359,2) -> 783.51
A17: Māsa/vispārējās aprūpes māsa | B17: 1 | C17: =D17+E17 -> 233 | D17: 152 | E17: 81 | G17: 7.044 | H17: =ROUND(G17*E17*2,2) -> 1141.13 | I17: =ROUND(H17*1.2359,2) -> 1410.32
A18: Ārstniecības un pacientu aprūpes atbalsta personas, māsu palīgi, zobārstu aistenti, kopā, tai skaitā: | B18: =SUM(B19:B19) -> 1 | E18: =SUM(E19:E19) -> 47 | H18: =SUM(H19:H19) -> 482.5 | I18: =SUM(I19:I19) -> 596.32
A19: Māsas palīgs | B19: 1 | C19: =D19+E19 -> 199 | D19: 152 | E19: 47 | G19: 5.133 | H19: =ROUND(G19*E19*2,2) -> 482.5 | I19: =ROUND(H19*1.2359,2) -> 596.32
A20: Pārējie darbinieki, kuri tieši iesaistīti darbā ar Covid-19, kopā, tai skaitā: | B20: =SUM(B21:B23) -> 3 | E20: =SUM(E21:E23) -> 203 | H20: =SUM(H21:H23) -> 1945.55 | I20: =SUM(I21:I23) -> 2404.5
A21: Sanitārs | B21: 1 | C21: =D21+E21 -> 202 | D21: 152 | E21: 50 | G21: 4.792 | H21: =ROUND(G21*E21*2,2) -> 479.2 | I21: =ROUND(H21*1.2359,2) -> 592.24
A22: Sanitārs | B22: 1 | C22: =D22+E22 -> 244 | D22: 152 | E22: 92 | G22: 4.792 | H22: =ROUND(G22*E22*2,2) -> 881.73 | I22: =ROUND(H22*1.2359,2) -> 1089.73
A23: Sanitārs | B23: 1 | C23: =D23+E23 -> 213 | D23: 152 | E23: 61 | G23: 4.792 | H23: =ROUND(G23*E23*2,2) -> 584.62 | I23: =ROUND(H23*1.2359,2) -> 722.53
A24: IEKŠĶĪGO SLIMĪBU NODAĻA | B24: =B25+B30+B33 -> 7 | E24: =E25+E30+E33 -> 35 | H24: =H25+H30+H33 -> 614.54 | I24: =I25+I30+I33 -> 759.52
A25: Ārsti, zobārsti un funkcionālie speciālisti, kopā, tai skaitā: | B25: =SUM(B26:B29) -> 4 | E25: =SUM(E26:E29) -> 24 | H25: =SUM(H26:H29) -> 467.34 | I25: =SUM(I26:I29) -> 577.59
A26: Internists | B26: 1 | C26: =D26+E26 -> 185 | D26: 174 | E26: 11 | G26: 9.646 | H26: =ROUND(G26*E26*2,2) -> 212.21 | I26: =ROUND(H26*1.2359,2) -> 262.27
A27: Internists | B27: 1 | C27: =D27+E27 -> 180 | D27: 174 | E27: 6 | G27: 9.646 | H27: =ROUND(G27*E27*2,2) -> 115.75 | I27: =ROUND(H27*1.2359,2) -> 143.06
A28: Internists (dežūrārsts) | B28: 1 | C28: =D28+E28 -> 179 | D28: 174 | E28: 5 | G28: 9.956 | H28: =ROUND(G28*E28*2,2) -> 99.56 | I28: =ROUND(H28*1.2359,2) -> 123.05
A29: Internists (dežūrārsts) | B29: 1 | C29: =D29+E29 -> 176 | D29: 174 | E29: 2 | G29: 9.956 | H29: =ROUND(G29*E29*2,2) -> 39.82 | I29: =ROUND(H29*1.2359,2) -> 49.21
A30: Ārstniecības un pacientu aprūpes personas un funkcionālo speciālistu asistenti, kopā, tai skaitā: | B30: =SUM(B31:B32) -> 2 | E30: =SUM(E31:E32) -> 10 | H30: =SUM(H31:H32) -> 138.23 | I30: =SUM(I31:I32) -> 170.84
A31: Māsa/vispārējās aprūpes māsa | B31: 1 | C31: =D31+E31 -> 181 | D31: 174 | E31: 7 | G31: 6.954 | H31: =ROUND(G31*E31*2,2) -> 97.36 | I31: =ROUND(H31*1.2359,2) -> 120.33
A32: Māsa/vispārējās aprūpes māsa | B32: 1 | C32: =D32+E32 -> 177 | D32: 174 | E32: 3 | G32: 6.811 | H32: =ROUND(G32*E32*2,2) -> 40.87 | I32: =ROUND(H32*1.2359,2) -> 50.51
A33: Ārstniecības un pacientu aprūpes atbalsta personas, māsu palīgi, zobārstu aistenti, kopā, tai skaitā: | B33: =SUM(B34:B34) -> 1 | E33: =SUM(E34:E34) -> 1 | H33: =SUM(H34:H34) -> 8.97 | I33: =SUM(I34:I34) -> 11.09
A34: Māsas palīgs | B34: 1 | C34: =D34+E34 -> 175 | D34: 174 | E34: 1 | G34: 4.487 | H34: =ROUND(G34*E34*2,2) -> 8.97 | I34: =ROUND(H34*1.2359,2) -> 11.09
A35: KARDIOLOĢIJAS NODAĻA | B35: =B36 -> 9 | E35: =E36 -> 142 | H35: =H36 -> 1835.95 | I35: =I36 -> 2268.69
A36: Ārstniecības un pacientu aprūpes personas un funkcionālo speciālistu asistenti, kopā, tai skaitā: | B36: =SUM(B37:B45) -> 9 | E36: =SUM(E37:E45) -> 142 | H36: =SUM(H37:H45) -> 1835.95 | I36: =SUM(I37:I45) -> 2268.69
A37: Māsa/vispārējās aprūpes māsa | B37: 1 | C37: =D37+E37 -> 175 | D37: 174 | E37: 1 | G37: 6.402 | H37: =ROUND(G37*E37*2,2) -> 12.8 | I37: =ROUND(H37*1.2077,2) -> 15.46
A38: Māsa/vispārējās aprūpes māsa | B38: 1 | C38: =D38+E38 -> 179 | D38: 174 | E38: 5 | G38: 6.402 | H38: =ROUND(G38*E38*2,2) -> 64.02 | I38: =ROUND(H38*1.2359,2) -> 79.12
A39: Māsa/vispārējās aprūpes māsa | B39: 1 | C39: =D39+E39 -> 179 | D39: 174 | E39: 5 | G39: 6.402 | H39: =ROUND(G39*E39*2,2) -> 64.02 | I39: =ROUND(H39*1.2359,2) -> 79.12
A40: Māsa/vispārējās aprūpes māsa | B40: 1 | C40: =D40+E40 -> 188 | D40: 174 | E40: 14 | G40: 6.519 | H40: =ROUND(G40*E40*2,2) -> 182.53 | I40: =ROUND(H40*1.2359,2) -> 225.59
A41: Māsa/vispārējās aprūpes māsa | B41: 1 | C41: =D41+E41 -> 205 | D41: 174 | E41: 31 | G41: 6.519 | H41: =ROUND(G41*E41*2,2) -> 404.18 | I41: =ROUND(H41*1.2359,2) -> 499.53
A42: Māsa/vispārējās aprūpes māsa | B42: 1 | C42: =D42+E42 -> 205 | D42: 174 | E42: 31 | G42: 6.519 | H42: =ROUND(G42*E42*2,2) -> 404.18 | I42: =ROUND(H42*1.2359,2) -> 499.53
...

Sheet Jelgava_jūn
H1: 1.9.Pielikums
A2: Pārskats par darba veicējiem (ārstniecības personām), virs normālā darba laika nostrādātām stundām, apmaksājamām stundām un izdevumiem, kas radušies saistībā ar mērķi ierobežot Covid-19 izplatību
A4: Iestādes nosaukums: SIA Jelgavas pilsētas slimnīca
A5: Pārskata mēnesis: Jūnijs
B7: Nodarbināto skaits mēnesī | C7: Apmaksājamais laiks mēnesī, stundas (tai skaitā summētā darba laika ietvaros) | F7: Mēnešalga no kuras rēķina stundas likmi | G7: Stundas likme (aprēķināta atbilstoši mēnešalgai vai darba līgumā noteiktā stundas likme) | H7: Apmaksājamā 100% piemaksa par nostrādātām virsstundām virs normālā darba laika (tai skaitā summētā darba laika ietvaros) | I7: Izdevumi par virsstundām kopā ar VSOAI, EUR
