Workbook

Sheet KOPSAVILKUMS
E1: 1.pielikums MK rīkojuma projekta “Par finanšu līdzekļu piešķiršanu no valsts budžeta programmas “Līdzekļi neparedzētiem gadījumiem”” anotācijai
A3: Kopsavilkums par stacionāro iestāžu iesniegto informāciju par darba veicējiem (ārstniecības personām), virs normālā darba laika nostrādātām stundām, apmaksājamām stundām un izdevumiem, kas radušies saistībā ar mērķi ierobežot Covid-19 izplatību par 2022.gada MAIJS - OKTOBRIS
C6: Izdevumi par virsstundām (2022.gada maijs - oktobris) kopā ar VSOAI, euro
C7: maijs | D7: jūnijs | E7: jūlijs | F7: augusts | G7: septembris | H7: oktobris | I7: KOPĀ
A8: KOPĀ | I8: =SUM(I9:I15) -> 2323545.8
A9: 1 | B9: SIA “Rīgas Austrumu klīniskās universitātes slimnīca” | C9: =RAKUS_maijs_aug!I11 -> 1847618.9 | G9: X | H9: X | I9: =SUM(C9:H9) -> 1847618.9
A10: 2 | B10: VSIA "Paula Stradiņa klīniskā universitātes slimnīca" | C10: =PSKUS_maijs!I11 -> 118267.19 | D10: =PSKUS_jūn!I11 -> 108534.84 | E10: X | F10: X | G10: X | H10: X | I10: =SUM(C10:H10) -> 226802.03
A11: 3 | B11: SIA "Daugavpils reģionālā slimnīca" | C11: X | D11: X | E11: X | F11: =Daugavpils_reģ_aug!I11 -> 43798.31 | G11: =Daugavpils_reģ_sept!I11 -> 100032.71 | H11: X | I11: =SUM(C11:H11) -> 143831.02
A12: 4 | B12: SIA "Ziemeļkurzemes reģionālā slimnīca" | C12: X | D12: X | E12: ='Z-Kurzeme_jūl'!I10 -> 16136.81 | F12: ='Z-Kurzeme_aug'!I10 -> 19868.32 | G12: ='Z-Kurzeme_sept'!I10 -> 28783.49 | H12: X | I12: =SUM(C12:H12) -> 64788.62
A13: 5 | B13: SIA Jelgavas pilsētas slimnīca | C13: X | D13: =Jelgava_jūn!I11 -> 2290.8 | E13: =Jelgava_jūl!I11 -> 4065.61 | F13: =Jelgava_aug!I11 -> 5908.57 | G13: =Jelgava_sept!I11 -> 7168.06 | H13: X | I13: =SUM(C13:H13) -> 19433.04
A14: 6 | B14: SIA "Balvu un Gulbenes slimnīcu apvienība" | C14: ='Balvi-Gulbene_maijs_aug'!I11 -> 3913.56 | G14: X | H14: X | I14: =SUM(C14:H14) -> 3913.56
A15: 7 | B15: VSIA „Daugavpils psihoneiroloģiskā slimnīca” | C15: X | D15: X | E15: =Daugavpils_psih_jūl!I11 -> 919.52 | F15: =Daugavpils_psih_aug!I11 -> 8624.09 | G15: =Daugavpils_psih_sept!I11 -> 5296.73 | H15: =Dugavpils_psih_okt!I11 -> 2318.32 | I15: =SUM(C15:H15) -> 17158.66
B17: Summētā darba laika periods, kurā uzskaitītas virsstundas un papildu snepieciešamais finansējums to apmaksai

Sheet RAKUS_maijs_aug
H1: 1.1.Pielikums
A2: Pārskats par darba veicējiem (ārstniecības personām), virs normālā darba laika nostrādātām stundām, apmaksājamām stundām un izdevumiem, kas radušies saistībā ar mērķi ierobežot Covid-19 izplatību
A4: Iestādes nosaukums: SIA “Rīgas Austrumu klīniskās universitātes slimnīca”
A5: Pārskata mēnesis: Maijs - Augusts
B7: Nodarbināto skaits mēnesī | C7: Apmaksājamais laiks mēnesī, stundas (tai skaitā summētā darba laika ietvaros) | F7: Mēnešalga no kuras rēķina stundas likmi | G7: Stundas likme (aprēķināta atbilstoši mēnešalgai vai darba līgumā noteiktā stundas likme) | H7: Apmaksājamā 100% piemaksa par nostrādātām virsstundām virs normālā darba laika (tai skaitā summētā darba laika ietvaros) | I7: Izdevumi par virsstundām kopā ar VSOAI, EUR
C8: Kopā | D8: līdz normālam darba laikam* | E8: virsstundas - virs normālā darba laika, kas saistītas ar darbu ar Covid-19
A10: 1 | B10: 2 | C10: 3=4+5 | D10: 4 | E10: 5 | F10: 6 | G10: 7 | H10: 8 | I10: 9=8 + VSOAI
A11: KOPĀ | B11: =B12+B466+B1084+B993 -> 1327 | E11: =E12+E466+E1084+E993 -> 81189.892 | H11: =H12+H466+H1084+H993 -> 1496093.6 | I11: =I12+I466+I1084+I993 -> 1847618.9
A12: Ārsti, zobārsti un funkcionālie speciālisti, kopā, tai skaitā: | B12: =SUM(B13:B465) -> 453 | E12: =SUM(E13:E465) -> 42665.221 | H12: =SUM(H13:H465) -> 961207.1 | I12: =SUM(I13:I465) -> 1187490.3
A13: Anesteziologs, reanimatologs | B13: 1 | C13: =D13+E13 -> 133 | D13: 51.5 | E13: 81.5 | F13: 2092 | G13: =F13/168.17 -> 12.439793 | H13: =ROUND(E13*G13*2,2) -> 2027.69 | I13: =ROUND(H13*1.2359,2) -> 2506.02
A14: Anesteziologs, reanimatologs | B14: 1 | C14: =D14+E14 -> 336 | D14: 0 | E14: 336 | F14: 2092 | G14: =F14/168.17 -> 12.439793 | H14: =ROUND(E14*G14*2,2) -> 8359.54 | I14: =ROUND(H14*1.2359,2) -> 10331.56
A15: Anesteziologs, reanimatologs | B15: 1 | C15: =D15+E15 -> 240 | D15: 0 | E15: 240 | F15: 2092 | G15: =F15/168.17 -> 12.439793 | H15: =ROUND(E15*G15*2,2) -> 5971.1 | I15: =ROUND(H15*1.2359,2) -> 7379.68
A16: Anesteziologs, reanimatologs (1.līmenis) | B16: 1 | C16: =D16+E16 -> 600 | D16: 590 | E16: 10 | F16: 2427 | G16: =F16/168.17 -> 14.431825 | H16: =ROUND(E16*G16*2,2) -> 288.64 | I16: =ROUND(H16*1.2359,2) -> 356.73
A17: Anesteziologs, reanimatologs (1.līmenis) | B17: 1 | C17: =D17+E17 -> 527 | D17: 503 | E17: 24 | F17: 2427 | G17: =F17/168.17 -> 14.431825 | H17: =ROUND(E17*G17*2,2) -> 692.73 | I17: =ROUND(H17*1.2359,2) -> 856.15
A18: Anesteziologs, reanimatologs (1.līmenis) | B18: 1 | C18: =D18+E18 -> 414 | D18: 395 | E18: 19 | F18: 2427 | G18: =F18/168.17 -> 14.431825 | H18: =ROUND(E18*G18*2,2) -> 548.41 | I18: =ROUND(H18*1.2359,2) -> 677.78
A19: Anesteziologs, reanimatologs (1.līmenis) | B19: 1 | C19: =D19+E19 -> 329 | D19: 316.5 | E19: 12.5 | F19: 2427 | G19: =F19/168.17 -> 14.431825 | H19: =ROUND(E19*G19*2,2) -> 360.8 | I19: =ROUND(H19*1.2359,2) -> 445.91
A20: Anesteziologs, reanimatologs (1.līmenis) | B20: 1 | C20: =D20+E20 -> 317 | D20: 271 | E20: 46 | F20: 2427 | G20: =F20/168.17 -> 14.431825 | H20: =ROUND(E20*G20*2,2) -> 1327.73 | I20: =ROUND(H20*1.2359,2) -> 1640.94
A21: Anesteziologs, reanimatologs (1.līmenis) | B21: 1 | C21: =D21+E21 -> 570.16667 | D21: 558 | E21: 12.166666 | F21: 2427 | G21: =F21/168.17 -> 14.431825 | H21: =ROUND(E21*G21*2,2) -> 351.17 | I21: =ROUND(H21*1.2359,2) -> 434.01
A22: Anesteziologs, reanimatologs (1.līmenis) | B22: 1 | C22: =D22+E22 -> 698.83333 | D22: 678 | E22: 20.833332 | F22: 2427 | G22: =F22/168.17 -> 14.431825 | H22: =ROUND(E22*G22*2,2) -> 601.33 | I22: =ROUND(H22*1.2359,2) -> 743.18
A23: Anesteziologs, reanimatologs (1.līmenis) | B23: 1 | C23: =D23+E23 -> 233.41667 | D23: 231 | E23: 2.416666 | F23: 2427 | G23: =F23/168.17 -> 14.431825 | H23: =ROUND(E23*G23*2,2) -> 69.75 | I23: =ROUND(H23*1.2359,2) -> 86.2
A24: Anesteziologs, reanimatologs (1.līmenis) | B24: 1 | C24: =D24+E24 -> 645.5 | D24: 638 | E24: 7.499999 | F24: 2427 | G24: =F24/168.17 -> 14.431825 | H24: =ROUND(E24*G24*2,2) -> 216.48 | I24: =ROUND(H24*1.2359,2) -> 267.55
... A30: Anesteziologs, reanimatologs (2.līmenis) | B30: 1 | C30: =D30+E30 -> 578.33333 | D30: 574 | E30: 4.333333 | F30: 2696 | G30: =F30/168.17 -> 16.031397 | H30: =ROUND(E30*G30*2,2) -> 138.94 | I30: =ROUND(H30*1.2359,2) -> 171.72
A31: Anesteziologs, reanimatologs (2.līmenis) | B31: 1 | C31: =D31+E31 -> 682 | D31: 678 | E31: 4 | F31: 2696 | G31: =F31/168.17 -> 16.031397 | H31: =ROUND(E31*G31*2,2) -> 128.25 | I31: =ROUND(H31*1.2077,2) -> 154.89
A32: Anesteziologs, reanimatologs (2.līmenis) | B32: 1 | C32: =D32+E32 -> 5.999999 | D32: 0 | E32: 5.999999 | F32: 2696 | G32: =F32/168.17 -> 16.031397 | H32: =ROUND(E32*G32*2,2) -> 192.38 | I32: =ROUND(H32*1.2359,2) -> 237.76
A33: Anesteziologs, reanimatologs (eksperts) | B33: 1 | C33: =D33+E33 -> 575 | D33: 574 | E33: 0.999999 | F33: 2965 | G33: =F33/168.17 -> 17.630969 | H33: =ROUND(E33*G33*2,2) -> 35.26 | I33: =ROUND(H33*1.2359,2) -> 43.58
A34: Anesteziologs, reanimatologs (eksperts) | B34: 1 | C34: =D34+E34 -> 578.66667 | D34: 574 | E34: 4.666666 | F34: 2965 | G34: =F34/168.17 -> 17.630969 | H34: =ROUND(E34*G34*2,2) -> 164.56 | I34: =ROUND(H34*1.2359,2) -> 203.38
A35: Anesteziologs, reanimatologs (eksperts) | B35: 1 | C35: =D35+E35 -> 759 | D35: 631 | E35: 128 | F35: 2965 | G35: =F35/168.17 -> 17.630969 | H35: =ROUND(E35*G35*2,2) -> 4513.53 | I35: =ROUND(H35*1.2359,2) -> 5578.27
A36: Anesteziologs, reanimatologs (eksperts) | B36: 1 | C36: =D36+E36 -> 413 | D36: 311 | E36: 102 | F36: 2965 | G36: =F36/168.17 -> 17.630969 | H36: =ROUND(E36*G36*2,2) -> 3596.72 | I36: =ROUND(H36*1.2359,2) -> 4445.19
A37: Anesteziologs, reanimatologs (eksperts) | B37: 1 | C37: =D37+E37 -> 474.25 | D37: 448.5 | E37: 25.75 | F37: 2965 | G37: =F37/168.17 -> 17.630969 | H37: =ROUND(E37*G37*2,2) -> 907.99 | I37: =ROUND(H37*1.2359,2) -> 1122.18
A38: Anesteziologs, reanimatologs (eksperts) | B38: 1 | C38: =D38+E38 -> 473.5 | D38: 470 | E38: 3.5 | F38: 2965 | G38: =F38/168.17 -> 17.630969 | H38: =ROUND(E38*G38*2,2) -> 123.42 | I38: =ROUND(H38*1.2077,2) -> 149.05
A39: Anesteziologs, reanimatologs (eksperts) | B39: 1 | C39: =D39+E39 -> 699.5 | D39: 615 | E39: 84.5 | F39: 2965 | G39: =F39/168.17 -> 17.630969 | H39: =ROUND(E39*G39*2,2) -> 2979.63 | I39: =ROUND(H39*1.2359,2) -> 3682.52
A40: Anesteziologs, reanimatologs (eksperts) | B40: 1 | C40: =D40+E40 -> 612 | D40: 598 | E40: 13.999998 | F40: 2965 | G40: =F40/168.17 -> 17.630969 | H40: =ROUND(E40*G40*2,2) -> 493.67 | I40: =ROUND(H40*1.2359,2) -> 610.13
A41: Anesteziologs, reanimatologs (eksperts) | B41: 1 | C41: =D41+E41 -> 299.33333 | D41: 295 | E41: 4.333333 | F41: 2965 | G41: =F41/168.17 -> 17.630969 | H41: =ROUND(E41*G41*2,2) -> 152.8 | I41: =ROUND(H41*1.2359,2) -> 188.85
A42: Anesteziologs, reanimatologs (eksperts) | B42: 1 | C42: =D42+E42 -> 104 | D42: 0 | E42: 104 | F42: 2965 | G42: =F42/168.17 -> 17.630969 | H42: =ROUND(E42*G42*2,2) -> 3667.24 | I42: =ROUND(H42*1.2359,2) -> 4532.34
A43: Anesteziologs, reanimatologs (eksperts) | B43: 1 | C43: =D43+E43 -> 641.5 | D43: 582 | E43: 59.5 | F43: 2965 | G43: =F43/168.17 -> 17.630969 | H43: =ROUND(E43*G43*2,2) -> 2098.09 | I43: =ROUND(H43*1.2359,2) -> 2593.03
A44: Anesteziologs, reanimatologs (eksperts) | B44: 1 | C44: =D44+E44 -> 568.75 | D44: 558 | E44: 10.75 | F44: 2965 | G44: =F44/168.17 -> 17.630969 | H44: =ROUND(E44*G44*2,2) -> 379.07 | I44: =ROUND(H44*1.2359,2) -> 468.49
A45: Anesteziologs, reanimatologs (eksperts) | B45: 1 | C45: =D45+E45 -> 128 | D45: 0 | E45: 128 | F45: 2965 | G45: =F45/168.17 -> 17.630969 | H45: =ROUND(E45*G45*2,2) -> 4513.53 | I45: =ROUND(H45*1.2359,2) -> 5578.27
A46: Anesteziologs, reanimatologs (eksperts) | B46: 1 | C46: =D46+E46 -> 725 | D46: 558 | E46: 167 | F46: 2965 | G46: =F46/168.17 -> 17.630969 | H46: =ROUND(E46*G46*2,2) -> 5888.74 | I46: =ROUND(H46*1.2077,2) -> 7111.83
A47: Anesteziologs, reanimatologs (eksperts) | B47: 1 | C47: =D47+E47 -> 136 | D47: 0 | E47: 136 | F47: 2965 | G47: =F47/168.17 -> 17.630969 | H47: =ROUND(E47*G47*2,2) -> 4795.62 | I47: =ROUND(H47*1.2359,2) -> 5926.91
A48: Anesteziologs, reanimatologs (eksperts) | B48: 1 | C48: =D48+E48 -> 586.91667 | D48: 575 | E48: 11.916666 | F48: 2965 | G48: =F48/168.17 -> 17.630969 | H48: =ROUND(E48*G48*2,2) -> 420.2 | I48: =ROUND(H48*1.2359,2) -> 519.33
A49: Anesteziologs, reanimatologs (eksperts) | B49: 1 | C49: =D49+E49 -> 594 | D49: 591 | E49: 3 | F49: 2965 | G49: =F49/168.17 -> 17.630969 | H49: =ROUND(E49*G49*2,2) -> 105.79 | I49: =ROUND(H49*1.2359,2) -> 130.75
A50: Anesteziologs, reanimatologs (eksperts) | B50: 1 | C50: =D50+E50 -> 608.5 | D50: 526 | E50: 82.5 | F50: 2965 | G50: =F50/168.17 -> 17.630969 | H50: =ROUND(E50*G50*2,2) -> 2909.11 | I50: =ROUND(H50*1.2359,2) -> 3595.37
A51: Anesteziologs, reanimatologs (eksperts) | B51: 1 | C51: =D51+E51 -> 47.00346 | D51: 0 | E51: 47.00346 | F51: 2965 | G51: =F51/168.17 -> 17.630969 | H51: =ROUND(E51*G51*2,2) -> 1657.43 | I51: =ROUND(H51*1.2359,2) -> 2048.42
A52: Anesteziologs, reanimatologs (eksperts) | B52: 1 | C52: =D52+E52 -> 233 | D52: 0 | E52: 233 | F52: 2965 | G52: =F52/168.17 -> 17.630969 | H52: =ROUND(E52*G52*2,2) -> 8216.03 | I52: =ROUND(H52*1.2359,2) -> 10154.19
A53: Atbildīgais ķirurgs | B53: 1 | C53: =D53+E53 -> 192 | D53: 0 | E53: 192 | F53: 3012 | G53: =F53/168.17 -> 17.910448 | H53: =ROUND(E53*G53*2,2) -> 6877.61 | I53: =ROUND(H53*1.2359,2) -> 8500.04
A54: Atbildīgais ķirurgs | B54: 1 | C54: =D54+E54 -> 99 | D54: 0 | E54: 99 | F54: 3012 | G54: =F54/168.17 -> 17.910448 | H54: =ROUND(E54*G54*2,2) -> 3546.27 | I54: =ROUND(H54*1.2359,2) -> 4382.84
A55: Atbildīgais ķirurgs | B55: 1 | C55: =D55+E55 -> 141 | D55: 0 | E55: 141 | F55: 3012 | G55: =F55/168.17 -> 17.910448 | H55: =ROUND(E55*G55*2,2) -> 5050.75 | I55: =ROUND(H55*1.2359,2) -> 6242.22
A56: Atbildīgais ķirurgs | B56: 1 | C56: =D56+E56 -> 272 | D56: 0 | E56: 272 | F56: 3012 | G56: =F56/168.17 -> 17.910448 | H56: =ROUND(E56*G56*2,2) -> 9743.28 | I56: =ROUND(H56*1.2359,2) -> 12041.72
A57: Atbildīgais ķirurgs | B57: 1 | C57: =D57+E57 -> 111 | D57: 0 | E57: 111 | F57: 3012 | G57: =F57/168.17 -> 17.910448 | H57: =ROUND(E57*G57*2,2) -> 3976.12 | I57: =ROUND(H57*1.2359,2) -> 4914.09
A58: Atbildīgais ķirurgs | B58: 1 | C58: =D58+E58 -> 232 | D58: 0 | E58: 232 | F58: 3012 | G58: =F58/168.17 -> 17.910448 | H58: =ROUND(E58*G58*2,2) -> 8310.45 | I58: =ROUND(H58*1.2359,2) -> 10270.89
... A85: Ārsts (dežūrām) | B85: 1 | C85: =D85+E85 -> 80 | D85: 0 | E85: 80 | F85: 1840 | G85: =F85/168.17 -> 10.941309 | H85: =ROUND(E85*G85*2,2) -> 1750.61 | I85: =ROUND(H85*1.2359,2) -> 2163.58
A86: Ārsts (dežūrām) | B86: 1 | C86: =D86+E86 -> 56 | D86: 0 | E86: 56 | F86: 1773 | G86: =F86/168.17 -> 10.542903 | H86: =ROUND(E86*G86*2,2) -> 1180.81 | I86: =ROUND(H86*1.2077,2) -> 1426.06
A87: Ārsts (dežūrām) | B87: 1 | C87: =D87+E87 -> 84 | D87: 0 | E87: 84 | F87: 1840 | G87: =F87/168.17 -> 10.941309 | H87: =ROUND(E87*G87*2,2) -> 1838.14 | I87: =ROUND(H87*1.2359,2) -> 2271.76
A88: Ārsts (dežūrām) | B88: 1 | C88: =D88+E88 -> 229 | D88: 0 | E88: 229 | F88: 1840 | G88: =F88/168.17 -> 10.941309 | H88: =ROUND(E88*G88*2,2) -> 5011.12 | I88: =ROUND(H88*1.2359,2) -> 6193.24
A89: Ārsts (dežūrām) | B89: 1 | C89: =D89+E89 -> 56 | D89: 0 | E89: 56 | F89: 1773 | G89: =F89/168.17 -> 10.542903 | H89: =ROUND(E89*G89*2,2) -> 1180.81 | I89: =ROUND(H89*1.2359,2) -> 1459.36
A90: Ārsts (dežūrām) | B90: 1 | C90: =D90+E90 -> 72 | D90: 0 | E90: 72 | F90: 1840 | G90: =F90/168.17 -> 10.941309 | H90: =ROUND(E90*G90*2,2) -> 1575.55 | I90: =ROUND(H90*1.2359,2) -> 1947.22
A91: Ārsts stažieris | B91: 1 | C91: =D91+E91 -> 377 | D91: 0 | E91: 377 | F91: 1665 | G91: =F91/168.17 -> 9.9006957 | H91: =ROUND(E91*G91*2,2) -> 7465.12 | I91: =ROUND(H91*1.2359,2) -> 9226.14
A92: Ārsts stažieris | B92: 1 | C92: =D92+E92 -> 7.333333 | D92: 0 | E92: 7.333333 | F92: 1798 | G92: =F92/168.17 -> 10.691562 | H92: =ROUND(E92*G92*2,2) -> 156.81 | I92: =ROUND(H92*1.2359,2) -> 193.8
A93: Ārsts stažieris | B93: 1 | C93: =D93+E93 -> 834 | D93: 670 | E93: 164 | F93: 1665 | G93: =F93/168.17 -> 9.9006957 | H93: =ROUND(E93*G93*2,2) -> 3247.43 | I93: =ROUND(H93*1.2359,2) -> 4013.5
A94: Ārsts stažieris | B94: 1 | C94: =D94+E94 -> 89 | D94: 0 | E94: 89 | F94: 1530 | G94: =F94/168.17 -> 9.0979366 | H94: =ROUND(E94*G94*2,2) -> 1619.43 | I94: =ROUND(H94*1.2359,2) -> 2001.45
A95: Ārsts stažieris | B95: 1 | C95: =D95+E95 -> 48.5 | D95: 0 | E95: 48.5 | F95: 1530 | G95: =F95/168.17 -> 9.0979366 | H95: =ROUND(E95*G95*2,2) -> 882.5 | I95: =ROUND(H95*1.2359,2) -> 1090.68
A96: Ārsts stažieris | B96: 1 | C96: =D96+E96 -> 98 | D96: 0 | E96: 98 | F96: 1665 | G96: =F96/168.17 -> 9.9006957 | H96: =ROUND(E96*G96*2,2) -> 1940.54 | I96: =ROUND(H96*1.2359,2) -> 2398.31
A97: Ārsts stažieris | B97: 1 | C97: =D97+E97 -> 98 | D97: 0 | E97: 98 | F97: 1665 | G97: =F97/168.17 -> 9.9006957 | H97: =ROUND(E97*G97*2,2) -> 1940.54 | I97: =ROUND(H97*1.2359,2) -> 2398.31
A98: Ārsts stažieris | B98: 1 | C98: =D98+E98 -> 53 | D98: 0 | E98: 53 | F98: 1665 | G98: =F98/168.17 -> 9.9006957 | H98: =ROUND(E98*G98*2,2) -> 1049.47 | I98: =ROUND(H98*1.2359,2) -> 1297.04
... A185: Dežūrārsts | B185: 1 | C185: =D185+E185 -> 101.5 | D185: 0 | E185: 101.5 | F185: 1893 | G185: =F185/168.17 -> 11.256467 | H185: =ROUND(E185*G185*2,2) -> 2285.06 | I185: =ROUND(H185*1.2359,2) -> 2824.11
A186: Dežūrārsts | B186: 1 | C186: =D186+E186 -> 565 | D186: 510 | E186: 55 | F186: 1893 | G186: =F186/168.17 -> 11.256467 | H186: =ROUND(E186*G186*2,2) -> 1238.21 | I186: =ROUND(H186*1.2077,2) -> 1495.39
A187: Dežūrārsts | B187: 1 | C187: =D187+E187 -> 71 | D187: 0 | E187: 71 | F187: 1893 | G187: =F187/168.17 -> 11.256467 | H187: =ROUND(E187*G187*2,2) -> 1598.42 | I187: =ROUND(H187*1.2359,2) -> 1975.49
A188: Dežūrārsts | B188: 1 | C188: =D188+E188 -> 102.5 | D188: 0 | E188: 102.5 | F188: 1893 | G188: =F188/168.17 -> 11.256467 | H188: =ROUND(E188*G188*2,2) -> 2307.58 | I188: =ROUND(H188*1.2359,2) -> 2851.94
A189: Dežūrdienesta daļas vadītājs - laboratorijas speciālists | B189: 1 | C189: =D189+E189 -> 540 | D189: 503 | E189: 37 | F189: 1880 | G189: =F189/168.17 -> 11.179164 | H189: =ROUND(E189*G189*2,2) -> 827.26 | I189: =ROUND(H189*1.2359,2) -> 1022.41
A190: Dežūrkardiologs | B190: 1 | C190: =D190+E190 -> 320 | D190: 283.5 | E190: 36.5 | F190: 2041 | G190: =F190/168.17 -> 12.136529 | H190: =ROUND(E190*G190*2,2) -> 885.97 | I190: =ROUND(H190*1.2359,2) -> 1094.97
A191: Dežūrkardiologs | B191: 1 | C191: =D191+E191 -> 32 | D191: 0 | E191: 32 | F191: 2041 | G191: =F191/168.17 -> 12.136529 | H191: =ROUND(E191*G191*2,2) -> 776.74 | I191: =ROUND(H191*1.2359,2) -> 959.97
A192: Dežūrkardiologs | B192: 1 | C192: =D192+E192 -> 104 | D192: 0 | E192: 104 | F192: 2041 | G192: =F192/168.17 -> 12.136529 | H192: =ROUND(E192*G192*2,2) -> 2524.4 | I192: =ROUND(H192*1.2359,2) -> 3119.91
A193: Dežūrkardiologs | B193: 1 | C193: =D193+E193 -> 663.5 | D193: 598 | E193: 65.5 | F193: 2041 | G193: =F193/168.17 -> 12.136529 | H193: =ROUND(E193*G193*2,2) -> 1589.89 | I193: =ROUND(H193*1.2359,2) -> 1964.95
A194: Dežūrkardiologs | B194: 1 | C194: =D194+E194 -> 8 | D194: 0 | E194: 8 | F194: 2041 | G194: =F194/168.17 -> 12.136529 | H194: =ROUND(E194*G194*2,2) -> 194.18 | I194: =ROUND(H194*1.2359,2) -> 239.99
A195: Dežūrkardiologs | B195: 1 | C195: =D195+E195 -> 112 | D195: 0 | E195: 112 | F195: 2041 | G195: =F195/168.17 -> 12.136529 | H195: =ROUND(E195*G195*2,2) -> 2718.58 | I195: =ROUND(H195*1.2359,2) -> 3359.89
A196: Dežūrkardiologs | B196: 1 | C196: =D196+E196 -> 222 | D196: 137.5 | E196: 84.5 | F196: 2041 | G196: =F196/168.17 -> 12.136529 | H196: =ROUND(E196*G196*2,2) -> 2051.07 | I196: =ROUND(H196*1.2359,2) -> 2534.92
A197: Dežūrkardiologs | B197: 1 | C197: =D197+E197 -> 96 | D197: 0 | E197: 96 | F197: 2041 | G197: =F197/168.17 -> 12.136529 | H197: =ROUND(E197*G197*2,2) -> 2330.21 | I197: =ROUND(H197*1.2359,2) -> 2879.91
A198: Dežūrkardiologs | B198: 1 | C198: =D198+E198 -> 291.5 | D198: 272 | E198: 19.5 | F198: 2041 | G198: =F198/168.17 -> 12.136529 | H198: =ROUND(E198*G198*2,2) -> 473.32 | I198: =ROUND(H198*1.2359,2) -> 584.98
... A252: Laboratorijas speciālists | B252: 1 | C252: =D252+E252 -> 119.5 | D252: 104 | E252: 15.5 | F252: 1723 | G252: =F252/168.17 -> 10.245585 | H252: =ROUND(E252*G252*2,2) -> 317.61 | I252: =ROUND(H252*1.2359,2) -> 392.53
A253: Laboratorijas speciālists | B253: 1 | C253: =D253+E253 -> 557.5 | D253: 534 | E253: 23.5 | F253: 1723 | G253: =F253/168.17 -> 10.245585 | H253: =ROUND(E253*G253*2,2) -> 481.54 | I253: =ROUND(H253*1.2077,2) -> 581.56
A254: Laboratorijas speciālists | B254: 1 | C254: =D254+E254 -> 536.5 | D254: 527 | E254: 9.5 | F254: 1723 | G254: =F254/168.17 -> 10.245585 | H254: =ROUND(E254*G254*2,2) -> 194.67 | I254: =ROUND(H254*1.2359,2) -> 240.59
A255: Laboratorijas speciālists | B255: 1 | C255: =D255+E255 -> 592 | D255: 574 | E255: 18 | F255: 1723 | G255: =F255/168.17 -> 10.245585 | H255: =ROUND(E255*G255*2,2) -> 368.84 | I255: =ROUND(H255*1.2077,2) -> 445.45
A256: Laboratorijas speciālists | B256: 1 | C256: =D256+E256 -> 604.5 | D256: 590 | E256: 14.5 | F256: 1723 | G256: =F256/168.17 -> 10.245585 | H256: =ROUND(E256*G256*2,2) -> 297.12 | I256: =ROUND(H256*1.2359,2) -> 367.21
A257: Laboratorijas speciālists | B257: 1 | C257: =D257+E257 -> 526.5 | D257: 494 | E257: 32.5 | F257: 1723 | G257: =F257/168.17 -> 10.245585 | H257: =ROUND(E257*G257*2,2) -> 665.96 | I257: =ROUND(H257*1.2359,2) -> 823.06
A258: Laboratorijas speciālists (stažieris) | B258: 1 | C258: =D258+E258 -> 497.25 | D258: 455 | E258: 42.25 | F258: 1500 | G258: =F258/168.17 -> 8.9195457 | H258: =ROUND(E258*G258*2,2) -> 753.7 | I258: =ROUND(H258*1.2359,2) -> 931.5
A259: Laboratorijas speciālists (stažieris) | B259: 1 | C259: =D259+E259 -> 699 | D259: 591 | E259: 108 | F259: 1500 | G259: =F259/168.17 -> 8.9195457 | H259: =ROUND(E259*G259*2,2) -> 1926.62 | I259: =ROUND(H259*1.2359,2) -> 2381.11
A260: Laboratorijas speciālists (stažieris) | B260: 1 | C260: =D260+E260 -> 470.5 | D260: 423 | E260: 47.5 | F260: 1500 | G260: =F260/168.17 -> 8.9195457 | H260: =ROUND(E260*G260*2,2) -> 847.36 | I260: =ROUND(H260*1.2359,2) -> 1047.25
A261: Laboratorijas speciālists (stažieris) | B261: 1 | C261: =D261+E261 -> 623.83333 | D261: 559 | E261: 64.833333 | F261: 1500 | G261: =F261/168.17 -> 8.9195457 | H261: =ROUND(E261*G261*2,2) -> 1156.57 | I261: =ROUND(H261*1.2359,2) -> 1429.4
A262: Laboratorijas speciālists (stažieris) | B262: 1 | C262: =D262+E262 -> 502 | D262: 462 | E262: 40 | F262: 1500 | G262: =F262/168.17 -> 8.9195457 | H262: =ROUND(E262*G262*2,2) -> 713.56 | I262: =ROUND(H262*1.2359,2) -> 881.89
A263: Laboratorijas speciālists (stažieris) | B263: 1 | C263: =D263+E263 -> 618 | D263: 606 | E263: 12 | F263: 1500 | G263: =F263/168.17 -> 8.9195457 | H263: =ROUND(E263*G263*2,2) -> 214.07 | I263: =ROUND(H263*1.2359,2) -> 264.57
A264: Laboratorijas speciālists (stažieris) | B264: 1 | C264: =D264+E264 -> 345.4 | D264: 228.9 | E264: 116.5 | F264: 1500 | G264: =F264/168.17 -> 8.9195457 | H264: =ROUND(E264*G264*2,2) -> 2078.25 | I264: =ROUND(H264*1.2359,2) -> 2568.51
A265: Molekulārās diagnostikas daļas vadītājs - laboratorijas speciālists | B265: 1 | C265: =D265+E265 -> 519.5 | D265: 494 | E265: 25.5 | F265: 1880 | G265: =F265/168.17 -> 11.179164 | H265: =ROUND(E265*G265*2,2) -> 570.14 | I265: =ROUND(H265*1.2359,2) -> 704.64
A266: Neatliekamās palīdzības ārsts | B266: 1 | C266: =D266+E266 -> 442 | D266: 149.75 | E266: 292.25 | F266: 2034 | G266: =F266/168.17 -> 12.094904 | H266: =ROUND(E266*G266*2,2) -> 7069.47 | I266: =ROUND(H266*1.2359,2) -> 8737.16
A267: Neatliekamās palīdzības ārsts | B267: 1 | C267: =D267+E267 -> 36 | D267: 0 | E267: 36 | F267: 2034 | G267: =F267/168.17 -> 12.094904 | H267: =ROUND(E267*G267*2,2) -> 870.83 | I267: =ROUND(H267*1.2359,2) -> 1076.26
... A272: Neatliekamās palīdzības ārsts | B272: 1 | C272: =D272+E272 -> 169.15 | D272: 131.5 | E272: 37.65 | F272: 2034 | G272: =F272/168.17 -> 12.094904 | H272: =ROUND(E272*G272*2,2) -> 910.75 | I272: =ROUND(H272*1.2359,2) -> 1125.6
A273: Neatliekamās palīdzības ārsts | B273: 1 | C273: =D273+E273 -> 80 | D273: 0 | E273: 80 | F273: 2034 | G273: =F273/168.17 -> 12.094904 | H273: =ROUND(E273*G273*2,2) -> 1935.18 | I273: =ROUND(H273*1.2077,2) -> 2337.12
A274: Neatliekamās palīdzības ārsts | B274: 1 | C274: =D274+E274 -> 495 | D274: 117.5 | E274: 377.5 | F274: 2034 | G274: =F274/168.17 -> 12.094904 | H274: =ROUND(E274*G274*2,2) -> 9131.65 | I274: =ROUND(H274*1.2359,2) -> 11285.81
A275: Neatliekamās palīdzības ārsts | B275: 1 | C275: =D275+E275 -> 512 | D275: 495 | E275: 17 | F275: 2034 | G275: =F275/168.17 -> 12.094904 | H275: =ROUND(E275*G275*2,2) -> 411.23 | I275: =ROUND(H275*1.2359,2) -> 508.24
A276: Neatliekamās palīdzības ārsts | B276: 1 | C276: =D276+E276 -> 336 | D276: 0 | E276: 336 | F276: 2034 | G276: =F276/168.17 -> 12.094904 | H276: =ROUND(E276*G276*2,2) -> 8127.78 | I276: =ROUND(H276*1.2359,2) -> 10045.12
A277: Neatliekamās palīdzības ārsts | B277: 1 | C277: =D277+E277 -> 581 | D277: 454 | E277: 127 | F277: 2034 | G277: =F277/168.17 -> 12.094904 | H277: =ROUND(E277*G277*2,2) -> 3072.11 | I277: =ROUND(H277*1.2359,2) -> 3796.82
...

Sheet PSKUS_maijs
H1: 1.2.pielikums
A2: Pārskats par darba veicējiem (ārstniecības personām), virs normālā darba laika nostrādātām stundām, apmaksājamām stundām un izdevumiem, kas radušies saistībā ar mērķi ierobežot Covid-19 izplatību
A4: Iestādes nosaukums: VSIA "Paula Stradiņa klīniskā universitātes slimnīca"
A5: Pārskata mēnesis: Maijs
B7: Nodarbināto skaits mēnesī | C7: Apmaksājamais laiks mēnesī, stundas (tai skaitā summētā darba laika ietvaros) | F7: Mēnešalga no kuras rēķina stundas likmi | G7: Stundas likme (aprēķināta atbilstoši mēnešalgai vai darba līgumā noteiktā stundas likme) | H7: Apmaksājamā 100% piemaksa par nostrādātām virsstundām virs normālā darba laika (tai skaitā summētā darba laika ietvaros) | I7: Izdevumi par virsstundām kopā ar VSAOI, EUR
C8: Kopā | D8: līdz normālam darba laikam | E8: virsstundas - virs normālā darba laika, kas saistītas ar darbu ar Covid-19
A10: 1 | B10: 2 | C10: 3=4+5 | D10: 4 | E10: 5 | F10: 6 | G10: 7 | H10: 8 | I10: 9=8 + VSOAI
A11: KOPĀ | B11: =SUM(B12,B135,B287,B324) -> 366 | E11: =E12+E135+E287+E324 -> 5498 | H11: =H12+H135+H287+H324 -> 95693.07 | I11: =I12+I135+I287+I324 -> 118267.19
A12: Ārsti, zobārsti un funkcionālie speciālisti, kopā, tai skaitā: | B12: =SUM(B13:B134) -> 122 | E12: =SUM(E13:E134) -> 2686 | H12: =SUM(H13:H134) -> 57986.25 | I12: =SUM(I13:I134) -> 71665.23
A13: Atbildīgais ārsts anesteziologs, reanimatologs | B13: 1 | C13: =D13+E13 -> 176 | D13: 167 | E13: 9 | G13: 14.46 | H13: =ROUND(G13*E13*2,2) -> 260.28 | I13: =ROUND(H13*1.2359,2) -> 321.68
A14: Atbildīgais ārsts audu saderības un imūnģenētikas jomā | B14: 1 | C14: =D14+E14 -> 195 | D14: 167 | E14: 28 | G14: 10.2 | H14: =ROUND(G14*E14*2,2) -> 571.2 | I14: =ROUND(H14*1.2359,2) -> 705.95
A15: Atbildīgais ārsts speciālists (diennakts postenis) | B15: 1 | C15: =D15+E15 -> 182 | D15: 167 | E15: 15 | G15: 10.56 | H15: =ROUND(G15*E15*2,2) -> 316.8 | I15: =ROUND(H15*1.2359,2) -> 391.53
A16: Ārsts | B16: 1 | C16: =D16+E16 -> 168 | D16: 167 | E16: 1 | G16: 8.87 | H16: =ROUND(G16*E16*2,2) -> 17.74 | I16: =ROUND(H16*1.2359,2) -> 21.92
A17: Ārsts anesteziologs, reanimatologs | B17: 1 | C17: =D17+E17 -> 169 | D17: 167 | E17: 2 | G17: 14.75 | H17: =ROUND(G17*E17*2,2) -> 59 | I17: =ROUND(H17*1.2359,2) -> 72.92
A18: Ārsts anesteziologs, reanimatologs | B18: 1 | C18: =D18+E18 -> 175 | D18: 167 | E18: 8 | G18: 14.75 | H18: =ROUND(G18*E18*2,2) -> 236 | I18: =ROUND(H18*1.2359,2) -> 291.67
A19: Ārsts anesteziologs, reanimatologs | B19: 1 | C19: =D19+E19 -> 169 | D19: 167 | E19: 2 | G19: 10.35 | H19: =ROUND(G19*E19*2,2) -> 41.4 | I19: =ROUND(H19*1.2359,2) -> 51.17
A20: Ārsts anesteziologs, reanimatologs | B20: 1 | C20: =D20+E20 -> 171 | D20: 167 | E20: 4 | G20: 14.25 | H20: =ROUND(G20*E20*2,2) -> 114 | I20: =ROUND(H20*1.2359,2) -> 140.89
A21: Ārsts anesteziologs, reanimatologs | B21: 1 | C21: =D21+E21 -> 175 | D21: 167 | E21: 8 | G21: 14.25 | H21: =ROUND(G21*E21*2,2) -> 228 | I21: =ROUND(H21*1.2359,2) -> 281.79
A22: Ārsts anesteziologs, reanimatologs | B22: 1 | C22: =D22+E22 -> 175 | D22: 167 | E22: 8 | G22: 14.25 | H22: =ROUND(G22*E22*2,2) -> 228 | I22: =ROUND(H22*1.2359,2) -> 281.79
A23: Ārsts ginekologs, dzemdību speciālists | B23: 1 | C23: =D23+E23 -> 200 | D23: 167 | E23: 33 | G23: 10.56 | H23: =ROUND(G23*E23*2,2) -> 696.96 | I23: =ROUND(H23*1.2359,2) -> 861.37
A24: Ārsts ginekologs, dzemdību speciālists | B24: 1 | C24: =D24+E24 -> 204 | D24: 167 | E24: 37 | G24: 10.56 | H24: =ROUND(G24*E24*2,2) -> 781.44 | I24: =ROUND(H24*1.2359,2) -> 965.78
... A69: Ārsts sirds ķirurgs | B69: 1 | C69: =D69+E69 -> 169 | D69: 167 | E69: 2 | G69: 10.56 | H69: =ROUND(G69*E69*2,2) -> 42.24 | I69: =ROUND(H69*1.2359,2) -> 52.2
A70: Ārsts sirds ķirurgs | B70: 1 | C70: =D70+E70 -> 175 | D70: 167 | E70: 8 | F70: 2275 | G70: =F70/168.17 -> 13.527978 | H70: =ROUND(G70*E70*2,2) -> 216.45 | I70: =ROUND(H70*1.2359,2) -> 267.51
A71: Ārsts torakālais ķirurgs II | B71: 1 | C71: =D71+E71 -> 175 | D71: 167 | E71: 8 | G71: 16.77 | H71: =ROUND(G71*E71*2,2) -> 268.32 | I71: =ROUND(H71*1.2359,2) -> 331.62
A72: Ārsts urologs | B72: 1 | C72: =D72+E72 -> 183 | D72: 167 | E72: 16 | G72: 14.01 | H72: =ROUND(G72*E72*2,2) -> 448.32 | I72: =ROUND(H72*1.2359,2) -> 554.08
A73: Ārsts urologs | B73: 1 | C73: =D73+E73 -> 199 | D73: 167 | E73: 32 | G73: 14.01 | H73: =ROUND(G73*E73*2,2) -> 896.64 | I73: =ROUND(H73*1.2359,2) -> 1108.16
A74: Ārsts urologs | B74: 1 | C74: =D74+E74 -> 180 | D74: 167 | E74: 13 | G74: 14.01 | H74: =ROUND(G74*E74*2,2) -> 364.26 | I74: =ROUND(H74*1.2359,2) -> 450.19
A75: Ārsts urologs | B75: 1 | C75: =D75+E75 -> 191 | D75: 167 | E75: 24 | G75: 13.74 | H75: =ROUND(G75*E75*2,2) -> 659.52 | I75: =ROUND(H75*1.2359,2) -> 815.1
A76: Ārsts urologs | B76: 1 | C76: =D76+E76 -> 192 | D76: 167 | E76: 25 | G76: 13.74 | H76: =ROUND(G76*E76*2,2) -> 687 | I76: =ROUND(H76*1.2359,2) -> 849.06
A77: Ārsts urologs | B77: 1 | C77: =D77+E77 -> 186 | D77: 167 | E77: 19 | G77: 13.54 | H77: =ROUND(G77*E77*2,2) -> 514.52 | I77: =ROUND(H77*1.2359,2) -> 635.9
A78: Ārsts urologs | B78: 1 | C78: =D78+E78 -> 194 | D78: 167 | E78: 27 | G78: 13.54 | H78: =ROUND(G78*E78*2,2) -> 731.16 | I78: =ROUND(H78*1.2359,2) -> 903.64
A79: Klīniskais virsārsts | B79: 1 | C79: =D79+E79 -> 196 | D79: 167 | E79: 29 | G79: 12.42 | H79: =ROUND(G79*E79*2,2) -> 720.36 | I79: =ROUND(H79*1.2359,2) -> 890.29
A80: Laboratorijas ārsts | B80: 1 | C80: =D80+E80 -> 196 | D80: 167 | E80: 29 | G80: 10.2 | H80: =ROUND(G80*E80*2,2) -> 591.6 | I80: =ROUND(H80*1.2359,2) -> 731.16
A81: Nodaļas vadītājs ārsts urologs | B81: 1 | C81: =D81+E81 -> 190 | D81: 167 | E81: 23 | G81: 14.78 | H81: =ROUND(G81*E81*2,2) -> 679.88 | I81: =ROUND(H81*1.2359,2) -> 840.26
A82: Radiologs | B82: 1 | C82: =D82+E82 -> 170 | D82: 167 | E82: 3 | G82: 16.75 | H82: =ROUND(G82*E82*2,2) -> 100.5 | I82: =ROUND(H82*1.2359,2) -> 124.21
... A84: Radiologs (dežūrām) | B84: 1 | C84: =D84+E84 -> 196 | D84: 167 | E84: 29 | G84: 16.75 | H84: =ROUND(G84*E84*2,2) -> 971.5 | I84: =ROUND(H84*1.2359,2) -> 1200.68
A85: Rezidents | B85: 1 | C85: =D85+E85 -> 184 | D85: 167 | E85: 17 | F85: 1492.34 | G85: =F85/168.17 -> 8.8739966 | H85: =ROUND(G85*E85*2,2) -> 301.72 | I85: =ROUND(H85*1.2359,2) -> 372.9
A86: Rezidents | B86: 1 | C86: =D86+E86 -> 197 | D86: 167 | E86: 30 | F86: 1641.58 | G86: =F86/168.17 -> 9.7614319 | H86: =ROUND(G86*E86*2,2) -> 585.69 | I86: =ROUND(H86*1.2359,2) -> 723.85
A87: Rezidents | B87: 1 | C87: =D87+E87 -> 176 | D87: 167 | E87: 9 | F87: 1641.58 | G87: =F87/168.17 -> 9.7614319 | H87: =ROUND(G87*E87*2,2) -> 175.71 | I87: =ROUND(H87*1.2359,2) -> 217.16
A88: Rezidents | B88: 1 | C88: =D88+E88 -> 217 | D88: 167 | E88: 50 | F88: 1641.58 | G88: =F88/168.17 -> 9.7614319 | H88: =ROUND(G88*E88*2,2) -> 976.14 | I88: =ROUND(H88*1.2359,2) -> 1206.41
A89: Rezidents | B89: 1 | C89: =D89+E89 -> 187 | D89: 167 | E89: 20 | F89: 1641.58 | G89: =F89/168.17 -> 9.7614319 | H89: =ROUND(G89*E89*2,2) -> 390.46 | I89: =ROUND(H89*1.2359,2) -> 482.57
A90: Rezidents | B90: 1 | C90: =D90+E90 -> 176 | D90: 167 | E90: 9 | F90: 1641.58 | G90: =F90/168.17 -> 9.7614319 | H90: =ROUND(G90*E90*2,2) -> 175.71 | I90: =ROUND(H90*1.2359,2) -> 217.16
A91: Rezidents | B91: 1 | C91: =D91+E91 -> 204 | D91: 167 | E91: 37 | F91: 1492.34 | G91: =F91/168.17 -> 8.8739966 | H91: =ROUND(G91*E91*2,2) -> 656.68 | I91: =ROUND(H91*1.2359,2) -> 811.59
A92: Rezidents | B92: 1 | C92: =D92+E92 -> 175 | D92: 167 | E92: 8 | F92: 1492.34 | G92: =F92/168.17 -> 8.8739966 | H92: =ROUND(G92*E92*2,2) -> 141.98 | I92: =ROUND(H92*1.2359,2) -> 175.47
A93: Rezidents | B93: 1 | C93: =D93+E93 -> 188 | D93: 167 | E93: 21 | F93: 1492.34 | G93: =F93/168.17 -> 8.8739966 | H93: =ROUND(G93*E93*2,2) -> 372.71 | I93: =ROUND(H93*1.2359,2) -> 460.63
A94: Rezidents | B94: 1 | C94: =D94+E94 -> 180 | D94: 167 | E94: 13 | F94: 1492.34 | G94: =F94/168.17 -> 8.8739966 | H94: =ROUND(G94*E94*2,2) -> 230.72 | I94: =ROUND(H94*1.2359,2) -> 285.15
A95: Rezidents | B95: 1 | C95: =D95+E95 -> 175 | D95: 167 | E95: 8 | F95: 1641.58 | G95: =F95/168.17 -> 9.7614319 | H95: =ROUND(G95*E95*2,2) -> 156.18 | I95: =ROUND(H95*1.2359,2) -> 193.02
A96: Rezidents | B96: 1 | C96: =D96+E96 -> 179 | D96: 167 | E96: 12 | F96: 1641.58 | G96: =F96/168.17 -> 9.7614319 | H96: =ROUND(G96*E96*2,2) -> 234.27 | I96: =ROUND(H96*1.2359,2) -> 289.53
... A133: Rezidents | B133: 1 | C133: =D133+E133 -> 188 | D133: 167 | E133: 21 | F133: 1492.34 | G133: =F133/168.17 -> 8.8739966 | H133: =ROUND(G133*E133*2,2) -> 372.71 | I133: =ROUND(H133*1.2359,2) -> 460.63
A134: Virsārsts intensīvajā terapijā | B134: 1 | C134: =D134+E134 -> 209 | D134: 167 | E134: 42 | G134: 17.53 | H134: =ROUND(G134*E134*2,2) -> 1472.52 | I134: =ROUND(H134*1.2359,2) -> 1819.89
A135: Ārstniecības un pacientu aprūpes personas un funkcionālo speciālistu asistenti, kopā, tai skaitā: | B135: =SUM(B136:B286) -> 151 | E135: =SUM(E136:E286) -> 1897 | H135: =SUM(H136:H286) -> 28908.54 | I135: =SUM(I136:I286) -> 35728.15
A136: Ambulatorā dienesta ārsta palīgs | B136: 1 | C136: =D136+E136 -> 174 | D136: 167 | E136: 7 | G136: 7.5 | H136: =ROUND(G136*E136*2,2) -> 105 | I136: =ROUND(H136*1.2359,2) -> 129.77
A137: Ambulatorā dienesta ārsta palīgs | B137: 1 | C137: =D137+E137 -> 240 | D137: 167 | E137: 73 | G137: 7.5 | H137: =ROUND(G137*E137*2,2) -> 1095 | I137: =ROUND(H137*1.2359,2) -> 1353.31
A138: Ambulatorā dienesta ārsta palīgs | B138: 1 | C138: =D138+E138 -> 172 | D138: 167 | E138: 5 | G138: 7.51 | H138: =ROUND(G138*E138*2,2) -> 75.1 | I138: =ROUND(H138*1.2359,2) -> 92.82
A139: Ambulatorā dienesta ārsta palīgs | B139: 1 | C139: =D139+E139 -> 207 | D139: 167 | E139: 40 | G139: 7.5 | H139: =ROUND(G139*E139*2,2) -> 600 | I139: =ROUND(H139*1.2359,2) -> 741.54
A140: Ambulatorā dienesta ārsta palīgs | B140: 1 | C140: =D140+E140 -> 211 | D140: 167 | E140: 44 | G140: 7.5 | H140: =ROUND(G140*E140*2,2) -> 660 | I140: =ROUND(H140*1.2359,2) -> 815.69
A141: Ambulatorās aprūpes ārsta palīgs | B141: 1 | C141: =D141+E141 -> 168 | D141: 167 | E141: 1 | G141: 9.38 | H141: =ROUND(G141*E141*2,2) -> 18.76 | I141: =ROUND(H141*1.2359,2) -> 23.19
A142: Anestēzijas, intensīvās un neatliekamās aprūpes māsa | B142: 1 | C142: =D142+E142 -> 168 | D142: 167 | E142: 1 | G142: 7.76 | H142: =ROUND(G142*E142*2,2) -> 15.52 | I142: =ROUND(H142*1.2359,2) -> 19.18
A143: Anestēzijas, intensīvās un neatliekamās aprūpes māsa | B143: 1 | C143: =D143+E143 -> 168 | D143: 167 | E143: 1 | G143: 9.47 | H143: =ROUND(G143*E143*2,2) -> 18.94 | I143: =ROUND(H143*1.2359,2) -> 23.41
A144: Anestēzijas, intensīvās un neatliekamās aprūpes māsa | B144: 1 | C144: =D144+E144 -> 175 | D144: 167 | E144: 8 | G144: 9.47 | H144: =ROUND(G144*E144*2,2) -> 151.52 | I144: =ROUND(H144*1.2359,2) -> 187.26
A145: Anestēzijas, intensīvās un neatliekamās aprūpes māsa | B145: 1 | C145: =D145+E145 -> 195 | D145: 167 | E145: 28 | G145: 9.47 | H145: =ROUND(G145*E145*2,2) -> 530.32 | I145: =ROUND(H145*1.2359,2) -> 655.42
A146: Anestēzijas, intensīvās un neatliekamās aprūpes māsa | B146: 1 | C146: =D146+E146 -> 195 | D146: 167 | E146: 28 | G146: 9.47 | H146: =ROUND(G146*E146*2,2) -> 530.32 | I146: =ROUND(H146*1.2359,2) -> 655.42
A147: Anestēzijas, intensīvās un neatliekamās aprūpes māsa | B147: 1 | C147: =D147+E147 -> 215 | D147: 167 | E147: 48 | G147: 7.76 | H147: =ROUND(G147*E147*2,2) -> 744.96 | I147: =ROUND(H147*1.2359,2) -> 920.7
... A286: Virsmāsa | B286: 1 | C286: =D286+E286 -> 196 | D286: 167 | E286: 29 | G286: 7.26 | H286: =ROUND(G286*E286*2,2) -> 421.08 | I286: =ROUND(H286*1.2359,2) -> 520.41
A287: Ārstniecības un pacientu aprūpes atbalsta personas, māsu palīgi, zobārstu asistenti, kopā, tai skaitā: | B287: =SUM(B288:B323) -> 36 | E287: =SUM(E288:E323) -> 263 | H287: =SUM(H288:H323) -> 2750.05 | I287: =SUM(I288:I323) -> 3398.75
A288: Māsas palīgs | B288: 1 | C288: =D288+E288 -> 188 | D288: 167 | E288: 21 | G288: 4.65 | H288: =ROUND(G288*E288*2,2) -> 195.3 | I288: =ROUND(H288*1.2359,2) -> 241.37
A289: Māsas palīgs | B289: 1 | C289: =D289+E289 -> 191 | D289: 167 | E289: 24 | G289: 6.09 | H289: =ROUND(G289*E289*2,2) -> 292.32 | I289: =ROUND(H289*1.2359,2) -> 361.28
A290: Māsas palīgs | B290: 1 | C290: =D290+E290 -> 175 | D290: 167 | E290: 8 | G290: 6.3 | H290: =ROUND(G290*E290*2,2) -> 100.8 | I290: =ROUND(H290*1.2359,2) -> 124.58
A291: Māsas palīgs | B291: 1 | C291: =D291+E291 -> 177 | D291: 167 | E291: 10 | G291: 6.18 | H291: =ROUND(G291*E291*2,2) -> 123.6 | I291: =ROUND(H291*1.2359,2) -> 152.76
A292: Māsas palīgs | B292: 1 | C292: =D292+E292 -> 173 | D292: 167 | E292: 6 | G292: 4.72 | H292: =ROUND(G292*E292*2,2) -> 56.64 | I292: =ROUND(H292*1.2359,2) -> 70
A293: Māsas palīgs | B293: 1 | C293: =D293+E293 -> 168 | D293: 167 | E293: 1 | G293: 4.65 | H293: =ROUND(G293*E293*2,2) -> 9.3 | I293: =ROUND(H293*1.2359,2) -> 11.49
A294: Māsas palīgs | B294: 1 | C294: =D294+E294 -> 179 | D294: 167 | E294: 12 | G294: 6.09 | H294: =ROUND(G294*E294*2,2) -> 146.16 | I294: =ROUND(H294*1.2359,2) -> 180.64
A295: Māsas palīgs | B295: 1 | C295: =D295+E295 -> 179 | D295: 167 | E295: 12 | G295: 6.18 | H295: =ROUND(G295*E295*2,2) -> 148.32 | I295: =ROUND(H295*1.2359,2) -> 183.31
A296: Māsas palīgs | B296: 1 | C296: =D296+E296 -> 169 | D296: 167 | E296: 2 | G296: 6.3 | H296: =ROUND(G296*E296*2,2) -> 25.2 | I296: =ROUND(H296*1.2359,2) -> 31.14
A297: Māsas palīgs | B297: 1 | C297: =D297+E297 -> 168 | D297: 167 | E297: 1 | G297: 6.09 | H297: =ROUND(G297*E297*2,2) -> 12.18 | I297: =ROUND(H297*1.2359,2) -> 15.05
A298: Māsas palīgs | B298: 1 | C298: =D298+E298 -> 168 | D298: 167 | E298: 1 | G298: 6.24 | H298: =ROUND(G298*E298*2,2) -> 12.48 | I298: =ROUND(H298*1.2359,2) -> 15.42
A299: Māsas palīgs | B299: 1 | C299: =D299+E299 -> 175 | D299: 167 | E299: 8 | G299: 4.65 | H299: =ROUND(G299*E299*2,2) -> 74.4 | I299: =ROUND(H299*1.2359,2) -> 91.95
... A323: Māsas palīgs neatliekamajā palīdzībā | B323: 1 | C323: =D323+E323 -> 168 | D323: 167 | E323: 1 | G323: 4.75 | H323: =ROUND(G323*E323*2,2) -> 9.5 | I323: =ROUND(H323*1.2359,2) -> 11.74
A324: Pārējie darbinieki, kuri tieši iesaistīti darbā ar Covid-19, kopā, tai skaitā: | B324: =SUM(B325:B381) -> 57 | E324: =SUM(E325:E381) -> 652 | H324: =SUM(H325:H381) -> 6048.23 | I324: =SUM(I325:I381) -> 7475.06
A325: Atbildīgais sanitārs-transportētājs | B325: 1 | C325: =D325+E325 -> 200 | D325: 167 | E325: 33 | G325: 4.75 | H325: =ROUND(G325*E325*2,2) -> 313.5 | I325: =ROUND(H325*1.2359,2) -> 387.45
A326: Atbildīgais sanitārs-transportētājs | B326: 1 | C326: =D326+E326 -> 192 | D326: 167 | E326: 25 | G326: 4.75 | H326: =ROUND(G326*E326*2,2) -> 237.5 | I326: =ROUND(H326*1.2359,2) -> 293.53
A327: Jaunākais māsas palīgs | B327: 1 | C327: =D327+E327 -> 168 | D327: 167 | E327: 1 | G327: 4.3 | H327: =ROUND(G327*E327*2,2) -> 8.6 | I327: =ROUND(H327*1.2359,2) -> 10.63
A328: Jaunākais māsas palīgs | B328: 1 | C328: =D328+E328 -> 179 | D328: 167 | E328: 12 | G328: 5.49 | H328: =ROUND(G328*E328*2,2) -> 131.76 | I328: =ROUND(H328*1.2359,2) -> 162.84
A329: Jaunākais māsas palīgs | B329: 1 | C329: =D329+E329 -> 168 | D329: 167 | E329: 1 | G329: 4.3 | H329: =ROUND(G329*E329*2,2) -> 8.6 | I329: =ROUND(H329*1.2359,2) -> 10.63
A330: Jaunākais māsas palīgs | B330: 1 | C330: =D330+E330 -> 168 | D330: 167 | E330: 1 | G330: 5.49 | H330: =ROUND(G330*E330*2,2) -> 10.98 | I330: =ROUND(H330*1.2359,2) -> 13.57
A331: Jaunākais māsas palīgs | B331: 1 | C331: =D331+E331 -> 168 | D331: 167 | E331: 1 | G331: 4.3 | H331: =ROUND(G331*E331*2,2) -> 8.6 | I331: =ROUND(H331*1.2359,2) -> 10.63
A332: Jaunākais māsas palīgs | B332: 1 | C332: =D332+E332 -> 168 | D332: 167 | E332: 1 | G332: 5.49 | H332: =ROUND(G332*E332*2,2) -> 10.98 | I332: =ROUND(H332*1.2359,2) -> 13.57
A333: Jaunākais māsas palīgs | B333: 1 | C333: =D333+E333 -> 192 | D333: 167 | E333: 25 | G333: 5.49 | H333: =ROUND(G333*E333*2,2) -> 274.5 | I333: =ROUND(H333*1.2359,2) -> 339.25
A334: Jaunākais māsas palīgs | B334: 1 | C334: =D334+E334 -> 176 | D334: 167 | E334: 9 | G334: 4.3 | H334: =ROUND(G334*E334*2,2) -> 77.4 | I334: =ROUND(H334*1.2359,2) -> 95.66
A335: Jaunākais māsas palīgs | B335: 1 | C335: =D335+E335 -> 167.5 | D335: 167 | E335: 0.5 | G335: 5.49 | H335: =ROUND(G335*E335*2,2) -> 5.49 | I335: =ROUND(H335*1.2359,2) -> 6.79
A336: Jaunākais māsas palīgs | B336: 1 | C336: =D336+E336 -> 168 | D336: 167 | E336: 1 | G336: 4.3 | H336: =ROUND(G336*E336*2,2) -> 8.6 | I336: =ROUND(H336*1.2359,2) -> 10.63
... A381: Sanitārs-transportētājs | B381: 1 | C381: =D381+E381 -> 176 | D381: 167 | E381: 9 | G381: 4.4 | H381: =ROUND(G381*E381*2,2) -> 79.2 | I381: =ROUND(H381*1.2359,2) -> 97.88

Sheet PSKUS_jūn
H1: 1.3.Pielikums
A2: Pārskats par darba veicējiem (ārstniecības personām), virs normālā darba laika nostrādātām stundām, apmaksājamām stundām un izdevumiem, kas radušies saistībā ar mērķi ierobežot Covid-19 izplatību
A4: Iestādes nosaukums: VSIA "Paula Stradiņa klīniskā universitātes slimnīca"
A5: Pārskata mēnesis: Jūnijs
B7: Nodarbināto skaits mēnesī | C7: Apmaksājamais laiks mēnesī, stundas (tai skaitā summētā darba laika ietvaros) | F7: Mēnešalga no kuras rēķina stundas likmi | G7: Stundas likme (aprēķināta atbilstoši mēnešalgai vai darba līgumā noteiktā stundas likme)2 | H7: Apmaksājamā 100% piemaksa par nostrādātām virsstundām virs normālā darba laika (tai skaitā summētā darba laika ietvaros) | I7: Izdevumi par virsstundām kopā ar VSAOI, EUR
C8: Kopā | D8: līdz normālam darba laikam | E8: virsstundas - virs normālā darba laika, kas saistītas ar darbu ar Covid-19
A10: 1 | B10: 2 | C10: 3=4+5 | D10: 4 | E10: 5 | F10: 6 | G10: 7 | H10: 8 | I10: 9=8 + VSOAI
A11: KOPĀ | B11: =SUM(B12,B141,B263,B299) -> 345 | E11: =E12+E141+E263+E299 -> 5063.5 | H11: =H12+H141+H263+H299 -> 87818.48 | I11: =I12+I141+I263+I299 -> 108534.84
A12: Ārsti, zobārsti un funkcionālie speciālisti, kopā, tai skaitā: | B12: =SUM(B13:B140) -> 128 | E12: =SUM(E13:E140) -> 2419.5 | H12: =SUM(H13:H140) -> 52578.96 | I12: =SUM(I13:I140) -> 64982.3
A13: Atbildīgais ārsts anesteziologs, reanimatologs | B13: 1 | C13: =D13+E13 -> 161 | D13: 159 | E13: 2 | G13: 14.46 | H13: =ROUND(G13*E13*2,2) -> 57.84 | I13: =ROUND(H13*1.2359,2) -> 71.48
A14: Atbildīgais ārsts audu saderības un imūnģenētikas jomā | B14: 1 | C14: =D14+E14 -> 171 | D14: 159 | E14: 12 | G14: 10.2 | H14: =ROUND(G14*E14*2,2) -> 244.8 | I14: =ROUND(H14*1.2359,2) -> 302.55
A15: Atbildīgais ārsts speciālists (diennakts postenis) | B15: 1 | C15: =D15+E15 -> 200 | D15: 159 | E15: 41 | G15: 12.42 | H15: =ROUND(G15*E15*2,2) -> 1018.44 | I15: =ROUND(H15*1.2359,2) -> 1258.69
A16: Atbildīgais ārsts speciālists (diennakts postenis) | B16: 1 | C16: =D16+E16 -> 178 | D16: 159 | E16: 19 | G16: 11.2 | H16: =ROUND(G16*E16*2,2) -> 425.6 | I16: =ROUND(H16*1.2359,2) -> 526
A17: Ārsts | B17: 1 | C17: =D17+E17 -> 160 | D17: 159 | E17: 1 | G17: 8.87 | H17: =ROUND(G17*E17*2,2) -> 17.74 | I17: =ROUND(H17*1.2359,2) -> 21.92
A18: Ārsts | B18: 1 | C18: =D18+E18 -> 196 | D18: 159 | E18: 37 | G18: 8.87 | H18: =ROUND(G18*E18*2,2) -> 656.38 | I18: =ROUND(H18*1.2359,2) -> 811.22
A19: Ārsts anesteziologs, reanimatologs | B19: 1 | C19: =D19+E19 -> 169 | D19: 159 | E19: 10 | G19: 14.75 | H19: =ROUND(G19*E19*2,2) -> 295 | I19: =ROUND(H19*1.2359,2) -> 364.59
A20: Ārsts anesteziologs, reanimatologs | B20: 1 | C20: =D20+E20 -> 169 | D20: 159 | E20: 10 | G20: 10.56 | H20: =ROUND(G20*E20*2,2) -> 211.2 | I20: =ROUND(H20*1.2359,2) -> 261.02
A21: Ārsts anesteziologs, reanimatologs | B21: 1 | C21: =D21+E21 -> 169 | D21: 159 | E21: 10 | G21: 14.75 | H21: =ROUND(G21*E21*2,2) -> 295 | I21: =ROUND(H21*1.2359,2) -> 364.59
A22: Ārsts anesteziologs, reanimatologs | B22: 1 | C22: =D22+E22 -> 192.5 | D22: 159 | E22: 33.5 | G22: 14.25 | H22: =ROUND(G22*E22*2,2) -> 954.75 | I22: =ROUND(H22*1.2359,2) -> 1179.98
A23: Ārsts ginekologs, dzemdību speciālists | B23: 1 | C23: =D23+E23 -> 194 | D23: 159 | E23: 35 | G23: 10.56 | H23: =ROUND(G23*E23*2,2) -> 739.2 | I23: =ROUND(H23*1.2359,2) -> 913.58
A24: Ārsts ginekologs, dzemdību speciālists | B24: 1 | C24: =D24+E24 -> 166 | D24: 159 | E24: 7 | G24: 10.56 | H24: =ROUND(G24*E24*2,2) -> 147.84 | I24: =ROUND(H24*1.2359,2) -> 182.72
... A83: Radiologs (dežūrām) | B83: 1 | C83: =D83+E83 -> 188 | D83: 159 | E83: 29 | G83: 16.75 | H83: =ROUND(G83*E83*2,2) -> 971.5 | I83: =ROUND(H83*1.2359,2) -> 1200.68
A84: Rezidents | B84: 1 | C84: =D84+E84 -> 180 | D84: 159 | E84: 21 | F84: 1492.34 | G84: =F84/168.17 -> 8.8739966 | H84: =ROUND(G84*E84*2,2) -> 372.71 | I84: =ROUND(H84*1.2359,2) -> 460.63
A85: Rezidents | B85: 1 | C85: =D85+E85 -> 171 | D85: 159 | E85: 12 | F85: 1641.58 | G85: =F85/168.17 -> 9.7614319 | H85: =ROUND(G85*E85*2,2) -> 234.27 | I85: =ROUND(H85*1.2359,2) -> 289.53
A86: Rezidents | B86: 1 | C86: =D86+E86 -> 175 | D86: 159 | E86: 16 | F86: 1641.58 | G86: =F86/168.17 -> 9.7614319 | H86: =ROUND(G86*E86*2,2) -> 312.37 | I86: =ROUND(H86*1.2359,2) -> 386.06
A87: Rezidents | B87: 1 | C87: =D87+E87 -> 171 | D87: 159 | E87: 12 | F87: 1641.58 | G87: =F87/168.17 -> 9.7614319 | H87: =ROUND(G87*E87*2,2) -> 234.27 | I87: =ROUND(H87*1.2359,2) -> 289.53
A88: Rezidents | B88: 1 | C88: =D88+E88 -> 171 | D88: 159 | E88: 12 | F88: 1641.58 | G88: =F88/168.17 -> 9.7614319 | H88: =ROUND(G88*E88*2,2) -> 234.27 | I88: =ROUND(H88*1.2359,2) -> 289.53
A89: Rezidents | B89: 1 | C89: =D89+E89 -> 200 | D89: 159 | E89: 41 | F89: 1492.34 | G89: =F89/168.17 -> 8.8739966 | H89: =ROUND(G89*E89*2,2) -> 727.67 | I89: =ROUND(H89*1.2359,2) -> 899.33
A90: Rezidents | B90: 1 | C90: =D90+E90 -> 164 | D90: 159 | E90: 5 | F90: 1492.34 | G90: =F90/168.17 -> 8.8739966 | H90: =ROUND(G90*E90*2,2) -> 88.74 | I90: =ROUND(H90*1.2359,2) -> 109.67
A91: Rezidents | B91: 1 | C91: =D91+E91 -> 180 | D91: 159 | E91: 21 | F91: 1492.34 | G91: =F91/168.17 -> 8.8739966 | H91: =ROUND(G91*E91*2,2) -> 372.71 | I91: =ROUND(H91*1.2359,2) -> 460.63
A92: Rezidents | B92: 1 | C92: =D92+E92 -> 180 | D92: 159 | E92: 21 | F92: 1492.34 | G92: =F92/168.17 -> 8.8739966 | H92: =ROUND(G92*E92*2,2) -> 372.71 | I92: =ROUND(H92*1.2359,2) -> 460.63
A93: Rezidents | B93: 1 | C93: =D93+E93 -> 160 | D93: 159 | E93: 1 | F93: 1641.58 | G93: =F93/168.17 -> 9.7614319 | H93: =ROUND(G93*E93*2,2) -> 19.52 | I93: =ROUND(H93*1.2359,2) -> 24.12
A94: Rezidents | B94: 1 | C94: =D94+E94 -> 164 | D94: 159 | E94: 5 | F94: 1641.58 | G94: =F94/168.17 -> 9.7614319 | H94: =ROUND(G94*E94*2,2) -> 97.61 | I94: =ROUND(H94*1.2359,2) -> 120.64
A95: Rezidents | B95: 1 | C95: =D95+E95 -> 171 | D95: 159 | E95: 12 | F95: 1641.58 | G95: =F95/168.17 -> 9.7614319 | H95: =ROUND(G95*E95*2,2) -> 234.27 | I95: =ROUND(H95*1.2359,2) -> 289.53
... A138: Rezidents | B138: 1 | C138: =D138+E138 -> 180 | D138: 159 | E138: 21 | F138: 1492.34 | G138: =F138/168.17 -> 8.8739966 | H138: =ROUND(G138*E138*2,2) -> 372.71 | I138: =ROUND(H138*1.2359,2) -> 460.63
A139: Virsārsts intensīvajā terapijā | B139: 1 | C139: =D139+E139 -> 171 | D139: 159 | E139: 12 | G139: 17.53 | H139: =ROUND(G139*E139*2,2) -> 420.72 | I139: =ROUND(H139*1.2359,2) -> 519.97
A140: Virsārsts pneimonologs | B140: 1 | C140: =D140+E140 -> 160 | D140: 159 | E140: 1 | G140: 17.79 | H140: =ROUND(G140*E140*2,2) -> 35.58 | I140: =ROUND(H140*1.2359,2) -> 43.97
A141: Ārstniecības un pacientu aprūpes personas un funkcionālo speciālistu asistenti, kopā, tai skaitā: | B141: =SUM(B142:B262) -> 121 | E141: =SUM(E142:E262) -> 1639 | H141: =SUM(H142:H262) -> 25215.14 | I141: =SUM(I142:I262) -> 31163.45
A142: Ambulatorā dienesta ārsta palīgs | B142: 1 | C142: =D142+E142 -> 166 | D142: 159 | E142: 7 | G142: 7.5 | H142: =ROUND(G142*E142*2,2) -> 105 | I142: =ROUND(H142*1.2359,2) -> 129.77
A143: Ambulatorā dienesta ārsta palīgs | B143: 1 | C143: =D143+E143 -> 193 | D143: 159 | E143: 34 | G143: 7.5 | H143: =ROUND(G143*E143*2,2) -> 510 | I143: =ROUND(H143*1.2359,2) -> 630.31
A144: Ambulatorā dienesta ārsta palīgs | B144: 1 | C144: =D144+E144 -> 208 | D144: 159 | E144: 49 | G144: 7.5 | H144: =ROUND(G144*E144*2,2) -> 735 | I144: =ROUND(H144*1.2359,2) -> 908.39
A145: Ambulatorā dienesta ārsta palīgs | B145: 1 | C145: =D145+E145 -> 180 | D145: 159 | E145: 21 | G145: 7.5 | H145: =ROUND(G145*E145*2,2) -> 315 | I145: =ROUND(H145*1.2359,2) -> 389.31
A146: Ambulatorās aprūpes māsa | B146: 1 | C146: =D146+E146 -> 160 | D146: 159 | E146: 1 | G146: 9.47 | H146: =ROUND(G146*E146*2,2) -> 18.94 | I146: =ROUND(H146*1.2359,2) -> 23.41
A147: Ambulatorās aprūpes māsa | B147: 1 | C147: =D147+E147 -> 177 | D147: 159 | E147: 18 | G147: 9.47 | H147: =ROUND(G147*E147*2,2) -> 340.92 | I147: =ROUND(H147*1.2359,2) -> 421.34
A148: Ambulatorās aprūpes māsa | B148: 1 | C148: =D148+E148 -> 160 | D148: 159 | E148: 1 | G148: 9.47 | H148: =ROUND(G148*E148*2,2) -> 18.94 | I148: =ROUND(H148*1.2359,2) -> 23.41
A149: Anestēzijas, intensīvās un neatliekamās aprūpes māsa | B149: 1 | C149: =D149+E149 -> 164 | D149: 159 | E149: 5 | G149: 9.47 | H149: =ROUND(G149*E149*2,2) -> 94.7 | I149: =ROUND(H149*1.2359,2) -> 117.04
A150: Anestēzijas, intensīvās un neatliekamās aprūpes māsa | B150: 1 | C150: =D150+E150 -> 164 | D150: 159 | E150: 5 | G150: 9.47 | H150: =ROUND(G150*E150*2,2) -> 94.7 | I150: =ROUND(H150*1.2359,2) -> 117.04
A151: Anestēzijas, intensīvās un neatliekamās aprūpes māsa | B151: 1 | C151: =D151+E151 -> 161 | D151: 159 | E151: 2 | G151: 7.44 | H151: =ROUND(G151*E151*2,2) -> 29.76 | I151: =ROUND(H151*1.2359,2) -> 36.78
A152: Anestēzijas, intensīvās un neatliekamās aprūpes māsa | B152: 1 | C152: =D152+E152 -> 183 | D152: 159 | E152: 24 | G152: 7.76 | H152: =ROUND(G152*E152*2,2) -> 372.48 | I152: =ROUND(H152*1.2359,2) -> 460.35
A153: Anestēzijas, intensīvās un neatliekamās aprūpes māsa | B153: 1 | C153: =D153+E153 -> 171 | D153: 159 | E153: 12 | G153: 7.76 | H153: =ROUND(G153*E153*2,2) -> 186.24 | I153: =ROUND(H153*1.2359,2) -> 230.17
... A262: Vecmāte | B262: 1 | C262: =D262+E262 -> 167 | D262: 159 | E262: 8 | G262: 6.8 | H262: =ROUND(G262*E262*2,2) -> 108.8 | I262: =ROUND(H262*1.2359,2) -> 134.47
A263: Ārstniecības un pacientu aprūpes atbalsta personas, māsu palīgi, zobārstu asistenti, kopā, tai skaitā: | B263: =SUM(B264:B298) -> 35 | E263: =SUM(E264:E298) -> 312 | H263: =SUM(H264:H298) -> 3453.4 | I263: =SUM(I264:I298) -> 4268.07
A264: Māsas palīgs | B264: 1 | C264: =D264+E264 -> 171 | D264: 159 | E264: 12 | G264: 6.09 | H264: =ROUND(G264*E264*2,2) -> 146.16 | I264: =ROUND(H264*1.2359,2) -> 180.64
A265: Māsas palīgs | B265: 1 | C265: =D265+E265 -> 171 | D265: 159 | E265: 12 | G265: 6.18 | H265: =ROUND(G265*E265*2,2) -> 148.32 | I265: =ROUND(H265*1.2359,2) -> 183.31
A266: Māsas palīgs | B266: 1 | C266: =D266+E266 -> 163 | D266: 159 | E266: 4 | G266: 6.18 | H266: =ROUND(G266*E266*2,2) -> 49.44 | I266: =ROUND(H266*1.2359,2) -> 61.1
A267: Māsas palīgs | B267: 1 | C267: =D267+E267 -> 167 | D267: 159 | E267: 8 | G267: 4.65 | H267: =ROUND(G267*E267*2,2) -> 74.4 | I267: =ROUND(H267*1.2359,2) -> 91.95
A268: Māsas palīgs | B268: 1 | C268: =D268+E268 -> 168 | D268: 159 | E268: 9 | G268: 6.09 | H268: =ROUND(G268*E268*2,2) -> 109.62 | I268: =ROUND(H268*1.2359,2) -> 135.48
A269: Māsas palīgs | B269: 1 | C269: =D269+E269 -> 166 | D269: 159 | E269: 7 | G269: 4.65 | H269: =ROUND(G269*E269*2,2) -> 65.1 | I269: =ROUND(H269*1.2359,2) -> 80.46
A270: Māsas palīgs | B270: 1 | C270: =D270+E270 -> 168 | D270: 159 | E270: 9 | G270: 6.18 | H270: =ROUND(G270*E270*2,2) -> 111.24 | I270: =ROUND(H270*1.2359,2) -> 137.48
A271: Māsas palīgs | B271: 1 | C271: =D271+E271 -> 160 | D271: 159 | E271: 1 | G271: 6.3 | H271: =ROUND(G271*E271*2,2) -> 12.6 | I271: =ROUND(H271*1.2359,2) -> 15.57
A272: Māsas palīgs | B272: 1 | C272: =D272+E272 -> 171 | D272: 159 | E272: 12 | G272: 6.09 | H272: =ROUND(G272*E272*2,2) -> 146.16 | I272: =ROUND(H272*1.2359,2) -> 180.64
A273: Māsas palīgs | B273: 1 | C273: =D273+E273 -> 160 | D273: 159 | E273: 1 | G273: 4.81 | H273: =ROUND(G273*E273*2,2) -> 9.62 | I273: =ROUND(H273*1.2359,2) -> 11.89
A274: Māsas palīgs | B274: 1 | C274: =D274+E274 -> 176 | D274: 159 | E274: 17 | G274: 4.65 | H274: =ROUND(G274*E274*2,2) -> 158.1 | I274: =ROUND(H274*1.2359,2) -> 195.4
A275: Māsas palīgs | B275: 1 | C275: =D275+E275 -> 170 | D275: 159 | E275: 11 | G275: 6.09 | H275: =ROUND(G275*E275*2,2) -> 133.98 | I275: =ROUND(H275*1.2359,2) -> 165.59
... A298: Māsas palīgs neatliekamajā palīdzībā | B298: 1 | C298: =D298+E298 -> 172 | D298: 159 | E298: 13 | G298: 4.75 | H298: =ROUND(G298*E298*2,2) -> 123.5 | I298: =ROUND(H298*1.2359,2) -> 152.63
A299: Pārējie darbinieki, kuri tieši iesaistīti darbā ar Covid-19, kopā, tai skaitā: | B299: =SUM(B300:B360) -> 61 | E299: =SUM(E300:E360) -> 693 | H299: =SUM(H300:H360) -> 6570.98 | I299: =SUM(I300:I360) -> 8121.02
A300: Atbildīgais sanitārs-transportētājs | B300: 1 | C300: =D300+E300 -> 175 | D300: 159 | E300: 16 | G300: 4.75 | H300: =ROUND(G300*E300*2,2) -> 152 | I300: =ROUND(H300*1.2359,2) -> 187.86
A301: Atbildīgais sanitārs-transportētājs | B301: 1 | C301: =D301+E301 -> 168 | D301: 159 | E301: 9 | G301: 4.75 | H301: =ROUND(G301*E301*2,2) -> 85.5 | I301: =ROUND(H301*1.2359,2) -> 105.67
A302: Atbildīgais sanitārs-transportētājs | B302: 1 | C302: =D302+E302 -> 168 | D302: 159 | E302: 9 | G302: 4.75 | H302: =ROUND(G302*E302*2,2) -> 85.5 | I302: =ROUND(H302*1.2359,2) -> 105.67
A303: Atbildīgais sanitārs-transportētājs | B303: 1 | C303: =D303+E303 -> 176 | D303: 159 | E303: 17 | G303: 4.75 | H303: =ROUND(G303*E303*2,2) -> 161.5 | I303: =ROUND(H303*1.2359,2) -> 199.6
A304: Jaunākais māsas palīgs | B304: 1 | C304: =D304+E304 -> 171 | D304: 159 | E304: 12 | G304: 5.49 | H304: =ROUND(G304*E304*2,2) -> 131.76 | I304: =ROUND(H304*1.2359,2) -> 162.84
A305: Jaunākais māsas palīgs | B305: 1 | C305: =D305+E305 -> 187 | D305: 159 | E305: 28 | G305: 5.49 | H305: =ROUND(G305*E305*2,2) -> 307.44 | I305: =ROUND(H305*1.2359,2) -> 379.97
A306: Jaunākais māsas palīgs | B306: 1 | C306: =D306+E306 -> 165 | D306: 159 | E306: 6 | G306: 4.3 | H306: =ROUND(G306*E306*2,2) -> 51.6 | I306: =ROUND(H306*1.2359,2) -> 63.77
A307: Jaunākais māsas palīgs | B307: 1 | C307: =D307+E307 -> 162 | D307: 159 | E307: 3 | G307: 6.18 | H307: =ROUND(G307*E307*2,2) -> 37.08 | I307: =ROUND(H307*1.2359,2) -> 45.83
A308: Jaunākais māsas palīgs | B308: 1 | C308: =D308+E308 -> 171 | D308: 159 | E308: 12 | G308: 5.49 | H308: =ROUND(G308*E308*2,2) -> 131.76 | I308: =ROUND(H308*1.2359,2) -> 162.84
A309: Jaunākais māsas palīgs | B309: 1 | C309: =D309+E309 -> 171 | D309: 159 | E309: 12 | G309: 5.49 | H309: =ROUND(G309*E309*2,2) -> 131.76 | I309: =ROUND(H309*1.2359,2) -> 162.84
A310: Jaunākais māsas palīgs | B310: 1 | C310: =D310+E310 -> 162 | D310: 159 | E310: 3 | G310: 4.3 | H310: =ROUND(G310*E310*2,2) -> 25.8 | I310: =ROUND(H310*1.2359,2) -> 31.89
A311: Jaunākais māsas palīgs | B311: 1 | C311: =D311+E311 -> 163 | D311: 159 | E311: 4 | G311: 4.3 | H311: =ROUND(G311*E311*2,2) -> 34.4 | I311: =ROUND(H311*1.2359,2) -> 42.51
... A360: Sanitārs-transportētājs | B360: 1 | C360: =D360+E360 -> 168 | D360: 159 | E360: 9 | G360: 4.4 | H360: =ROUND(G360*E360*2,2) -> 79.2 | I360: =ROUND(H360*1.2359,2) -> 97.88

Sheet Daugavpils_reģ_aug
H1: 1.4.Pielikums
A2: Pārskats par darba veicējiem (ārstniecības personām), virs normālā darba laika nostrādātām stundām, apmaksājamām stundām un izdevumiem, kas radušies saistībā ar mērķi ierobežot Covid-19 izplatību
A4: Iestādes nosaukums: SIA "Daugavpils reģionālā slimnīca"
A5: Pārskata mēnesis: Augusts
B7: Nodarbināto skaits mēnesī | C7: Apmaksājamais laiks mēnesī, stundas (tai skaitā summētā darba laika ietvaros) | F7: Mēnešalga no kuras rēķina stundas likmi | G7: Stundas likme (aprēķināta atbilstoši mēnešalgai vai darba līgumā noteiktā stundas likme)2 | H7: Apmaksājamā 100% piemaksa par nostrādātām virsstundām virs normālā darba laika (tai skaitā summētā darba laika ietvaros) | I7: Izdevumi par virsstundām kopā ar VSOAI, EUR
C8: Kopā | D8: līdz normālam darba laikam | E8: virsstundas - virs normālā darba laika, kas saistītas ar darbu ar Covid-19
A10: 1 | B10: 2 | C10: 3=4+5 | D10: 4 | E10: 5 | F10: 6 | G10: 7 | H10: 8 | I10: 9=8 + VSOAI
A11: KOPĀ | B11: =B12+B76+B85 -> 87 | E11: =E12+E76+E85 -> 2511.5 | H11: =H12+H76+H85 -> 35519.16 | I11: =I12+I76+I85 -> 43798.31
A12: Centrālā slimnīca "Uzņemšanas nodaļa" | B12: =B13+B21+B59 -> 60 | E12: =E13+E21+E59 -> 1802.5 | H12: =H13+H21+H59 -> 24201.74 | I12: =I13+I21+I59 -> 29816.74
A13: Ārsti, zobārsti un funkcionālie speciālisti, kopā, tai skaitā: | B13: =SUM(B14:B20) -> 7 | E13: =SUM(E14:E20) -> 321.5 | H13: =SUM(H14:H20) -> 6576.41 | I13: =SUM(I14:I20) -> 8049.33
A14: Pediatrs | B14: 1 | C14: =D14+E14 -> 144 | D14: 96 | E14: 48 | F14: 1881.8968 | G14: =F14/184 -> 10.2277 | H14: =ROUND(E14*G14*2,2) -> 981.86 | I14: =ROUND(H14*1.2077,2) -> 1185.79
A15: Pediatrs | B15: 1 | C15: =D15+E15 -> 192 | D15: 184 | E15: 8 | F15: 1881.8968 | G15: =F15/184 -> 10.2277 | H15: =ROUND(E15*G15*2,2) -> 163.64 | I15: =ROUND(H15*1.2359,2) -> 202.24
A16: Neatliekamās medicīnas ārsts | B16: 1 | C16: =D16+E16 -> 152 | D16: 144 | E16: 8 | F16: 1881.8968 | G16: =F16/184 -> 10.2277 | H16: =ROUND(E16*G16*2,2) -> 163.64 | I16: =ROUND(H16*1.2359,2) -> 202.24
A17: Neatliekamās medicīnas ārsts | B17: 1 | C17: =D17+E17 -> 208 | D17: 184 | E17: 24 | F17: 1881.8968 | G17: =F17/184 -> 10.2277 | H17: =ROUND(E17*G17*2,2) -> 490.93 | I17: =ROUND(H17*1.2359,2) -> 606.74
A18: Ķirurgs | B18: 1 | C18: =D18+E18 -> 249.5 | D18: 184 | E18: 65.5 | F18: 1881.8968 | G18: =F18/184 -> 10.2277 | H18: =ROUND(E18*G18*2,2) -> 1339.83 | I18: =ROUND(H18*1.2359,2) -> 1655.9
A19: Ārsts | B19: 1 | C19: =D19+E19 -> 240 | D19: 160 | E19: 80 | F19: 1881.8968 | G19: =F19/184 -> 10.2277 | H19: =ROUND(E19*G19*2,2) -> 1636.43 | I19: =ROUND(H19*1.2359,2) -> 2022.46
A20: Ārsts | B20: 1 | C20: =D20+E20 -> 272 | D20: 184 | E20: 88 | F20: 1881.8968 | G20: =F20/184 -> 10.2277 | H20: =ROUND(E20*G20*2,2) -> 1800.08 | I20: =ROUND(H20*1.2077,2) -> 2173.96
A21: Ārstniecības un pacientu aprūpes personas un funkcionālo speciālistu asistenti, kopā, tai skaitā: | B21: =SUM(B22:B58) -> 37 | E21: =SUM(E22:E58) -> 1050 | H21: =SUM(H22:H58) -> 13612.59 | I21: =SUM(I22:I58) -> 16823.77
A22: Vispārējās aprūpes māsa | B22: 1 | C22: =D22+E22 -> 194 | D22: 184 | E22: 10 | F22: 1170.7184 | G22: =F22/184 -> 6.3626 | H22: =ROUND(E22*G22*2,2) -> 127.25 | I22: =ROUND(H22*1.2359,2) -> 157.27
A23: Vispārējās aprūpes māsa | B23: 1 | C23: =D23+E23 -> 92 | D23: 88 | E23: 4 | F23: 1170.7184 | G23: =F23/184 -> 6.3626 | H23: =ROUND(E23*G23*2,2) -> 50.9 | I23: =ROUND(H23*1.2359,2) -> 62.91
A24: Vispārējās aprūpes māsa | B24: 1 | C24: =D24+E24 -> 240 | D24: 184 | E24: 56 | F24: 1170.7184 | G24: =F24/184 -> 6.3626 | H24: =ROUND(E24*G24*2,2) -> 712.61 | I24: =ROUND(H24*1.2359,2) -> 880.71
A25: Vispārējās aprūpes māsa | B25: 1 | C25: =D25+E25 -> 228 | D25: 184 | E25: 44 | F25: 1170.7184 | G25: =F25/184 -> 6.3626 | H25: =ROUND(E25*G25*2,2) -> 559.91 | I25: =ROUND(H25*1.2359,2) -> 691.99
A26: Vispārējās aprūpes māsa | B26: 1 | C26: =D26+E26 -> 217 | D26: 184 | E26: 33 | F26: 1170.7184 | G26: =F26/184 -> 6.3626 | H26: =ROUND(E26*G26*2,2) -> 419.93 | I26: =ROUND(H26*1.2359,2) -> 518.99
A27: Vispārējās aprūpes māsa | B27: 1 | C27: =D27+E27 -> 228 | D27: 184 | E27: 44 | F27: 1170.7184 | G27: =F27/184 -> 6.3626 | H27: =ROUND(E27*G27*2,2) -> 559.91 | I27: =ROUND(H27*1.2359,2) -> 691.99
A28: Vispārējās aprūpes māsa | B28: 1 | C28: =D28+E28 -> 208 | D28: 168 | E28: 40 | F28: 1170.7184 | G28: =F28/184 -> 6.3626 | H28: =ROUND(E28*G28*2,2) -> 509.01 | I28: =ROUND(H28*1.2359,2) -> 629.09
A29: Vispārējās aprūpes māsa | B29: 1 | C29: =D29+E29 -> 168 | D29: 144 | E29: 24 | F29: 1170.7184 | G29: =F29/184 -> 6.3626 | H29: =ROUND(E29*G29*2,2) -> 305.4 | I29: =ROUND(H29*1.2359,2) -> 377.44
A30: Vispārējās aprūpes māsa | B30: 1 | C30: =D30+E30 -> 188 | D30: 184 | E30: 4 | F30: 1170.7184 | G30: =F30/184 -> 6.3626 | H30: =ROUND(E30*G30*2,2) -> 50.9 | I30: =ROUND(H30*1.2359,2) -> 62.91
A31: Vispārējās aprūpes māsa | B31: 1 | C31: =D31+E31 -> 260 | D31: 184 | E31: 76 | F31: 1170.7184 | G31: =F31/184 -> 6.3626 | H31: =ROUND(E31*G31*2,2) -> 967.12 | I31: =ROUND(H31*1.2359,2) -> 1195.26
A32: Vispārējās aprūpes māsa | B32: 1 | C32: =D32+E32 -> 184 | D32: 160 | E32: 24 | F32: 1170.7184 | G32: =F32/184 -> 6.3626 | H32: =ROUND(E32*G32*2,2) -> 305.4 | I32: =ROUND(H32*1.2359,2) -> 377.44
A33: Vispārējās aprūpes māsa | B33: 1 | C33: =D33+E33 -> 120 | D33: 104 | E33: 16 | F33: 1170.7184 | G33: =F33/184 -> 6.3626 | H33: =ROUND(E33*G33*2,2) -> 203.6 | I33: =ROUND(H33*1.2359,2) -> 251.63
... A58: Ārsta palīgs | B58: 1 | C58: =D58+E58 -> 188 | D58: 184 | E58: 4 | F58: 1170.7184 | G58: =F58/184 -> 6.3626 | H58: =ROUND(E58*G58*2,2) -> 50.9 | I58: =ROUND(H58*1.2359,2) -> 62.91
A59: Ārstniecības un pacientu aprūpes atbalsta personas, māsu palīgi, zobārstu asistenti, kopā, tai skaitā: | B59: =SUM(B60:B75) -> 16 | E59: =SUM(E60:E75) -> 431 | H59: =SUM(H60:H75) -> 4012.74 | I59: =SUM(I60:I75) -> 4943.64
A60: Māsas palīgs | B60: 1 | C60: =D60+E60 -> 144 | D60: 133 | E60: 11 | F60: 975.79 | G60: =F60/184 -> 5.3032065 | H60: =ROUND(E60*G60*2,2) -> 116.67 | I60: =ROUND(H60*1.2359,2) -> 144.19
A61: Māsas palīgs | B61: 1 | C61: =D61+E61 -> 224 | D61: 184 | E61: 40 | F61: 853.4288 | G61: =F61/184 -> 4.6382 | H61: =ROUND(E61*G61*2,2) -> 371.06 | I61: =ROUND(H61*1.2359,2) -> 458.59
A62: Māsas palīgs | B62: 1 | C62: =D62+E62 -> 168 | D62: 136 | E62: 32 | F62: 853.4288 | G62: =F62/184 -> 4.6382 | H62: =ROUND(E62*G62*2,2) -> 296.84 | I62: =ROUND(H62*1.2359,2) -> 366.86
A63: Māsas palīgs | B63: 1 | C63: =D63+E63 -> 96 | D63: 80 | E63: 16 | F63: 853.4288 | G63: =F63/184 -> 4.6382 | H63: =ROUND(E63*G63*2,2) -> 148.42 | I63: =ROUND(H63*1.2359,2) -> 183.43
A64: Māsas palīgs | B64: 1 | C64: =D64+E64 -> 104 | D64: 80 | E64: 24 | F64: 853.4288 | G64: =F64/184 -> 4.6382 | H64: =ROUND(E64*G64*2,2) -> 222.63 | I64: =ROUND(H64*1.2359,2) -> 275.15
A65: Māsas palīgs | B65: 1 | C65: =D65+E65 -> 228 | D65: 168 | E65: 60 | F65: 853.4288 | G65: =F65/184 -> 4.6382 | H65: =ROUND(E65*G65*2,2) -> 556.58 | I65: =ROUND(H65*1.2077,2) -> 672.18
A66: Māsas palīgs | B66: 1 | C66: =D66+E66 -> 212 | D66: 184 | E66: 28 | F66: 853.4288 | G66: =F66/184 -> 4.6382 | H66: =ROUND(E66*G66*2,2) -> 259.74 | I66: =ROUND(H66*1.2359,2) -> 321.01
A67: Māsas palīgs | B67: 1 | C67: =D67+E67 -> 208 | D67: 184 | E67: 24 | F67: 853.4288 | G67: =F67/184 -> 4.6382 | H67: =ROUND(E67*G67*2,2) -> 222.63 | I67: =ROUND(H67*1.2359,2) -> 275.15
A68: Māsas palīgs | B68: 1 | C68: =D68+E68 -> 112 | D68: 104 | E68: 8 | F68: 853.4288 | G68: =F68/184 -> 4.6382 | H68: =ROUND(E68*G68*2,2) -> 74.21 | I68: =ROUND(H68*1.2359,2) -> 91.72
A69: Māsas palīgs | B69: 1 | C69: =D69+E69 -> 192 | D69: 160 | E69: 32 | F69: 853.4288 | G69: =F69/184 -> 4.6382 | H69: =ROUND(E69*G69*2,2) -> 296.84 | I69: =ROUND(H69*1.2359,2) -> 366.86
A70: Māsas palīgs | B70: 1 | C70: =D70+E70 -> 156 | D70: 144 | E70: 12 | F70: 853.4288 | G70: =F70/184 -> 4.6382 | H70: =ROUND(E70*G70*2,2) -> 111.32 | I70: =ROUND(H70*1.2359,2) -> 137.58
A71: Māsas palīgs | B71: 1 | C71: =D71+E71 -> 240 | D71: 184 | E71: 56 | F71: 853.4288 | G71: =F71/184 -> 4.6382 | H71: =ROUND(E71*G71*2,2) -> 519.48 | I71: =ROUND(H71*1.2359,2) -> 642.03
A72: Māsas palīgs | B72: 1 | C72: =D72+E72 -> 208 | D72: 184 | E72: 24 | F72: 853.4288 | G72: =F72/184 -> 4.6382 | H72: =ROUND(E72*G72*2,2) -> 222.63 | I72: =ROUND(H72*1.2359,2) -> 275.15
A73: Māsas palīgs | B73: 1 | C73: =D73+E73 -> 104 | D73: 88 | E73: 16 | F73: 853.4288 | G73: =F73/184 -> 4.6382 | H73: =ROUND(E73*G73*2,2) -> 148.42 | I73: =ROUND(H73*1.2359,2) -> 183.43
A74: Māsas palīgs | B74: 1 | C74: =D74+E74 -> 224 | D74: 184 | E74: 40 | F74: 853.4288 | G74: =F74/184 -> 4.6382 | H74: =ROUND(E74*G74*2,2) -> 371.06 | I74: =ROUND(H74*1.2359,2) -> 458.59
A75: Māsas palīgs | B75: 1 | C75: =D75+E75 -> 192 | D75: 184 | E75: 8 | F75: 853.4288 | G75: =F75/184 -> 4.6382 | H75: =ROUND(E75*G75*2,2) -> 74.21 | I75: =ROUND(H75*1.2359,2) -> 91.72
A76: "Plaušu slimību un tuberkulozes centrs " Uzņemšanas nodaļa, Covid 19 nodaļa | B76: =B77+B81 -> 6 | E76: =E77+E81 -> 231 | H76: =H77+H81 -> 4969.68 | I76: =I77+I81 -> 6142.03
A77: Ārsti, zobārsti un funkcionālie speciālisti, kopā, tai skaitā: | B77: =SUM(B78:B80) -> 3 | E77: =SUM(E78:E80) -> 182 | H77: =SUM(H78:H80) -> 4256.73 | I77: =SUM(I78:I80) -> 5260.89
A78: Infektologs | B78: 1 | C78: =D78+E78 -> 278 | D78: 126 | E78: 152 | F78: 2151.7512 | G78: =F78/184 -> 11.6943 | H78: =ROUND(E78*G78*2,2) -> 3555.07 | I78: =ROUND(H78*1.2359,2) -> 4393.71
A79: Infektologs | B79: 1 | C79: =D79+E79 -> 70 | D79: 56 | E79: 14 | F79: 2151.7512 | G79: =F79/184 -> 11.6943 | H79: =ROUND(E79*G79*2,2) -> 327.44 | I79: =ROUND(H79*1.2359,2) -> 404.68
A80: Neatliekamās medicīnas ārsts | B80: 1 | C80: =D80+E80 -> 200 | D80: 184 | E80: 16 | F80: 2151.7512 | G80: =F80/184 -> 11.6943 | H80: =ROUND(E80*G80*2,2) -> 374.22 | I80: =ROUND(H80*1.2359,2) -> 462.5
A81: Ārstniecības un pacientu aprūpes personas un funkcionālo speciālistu asistenti, kopā, tai skaitā: | B81: =SUM(B82:B84) -> 3 | E81: =SUM(E82:E84) -> 49 | H81: =SUM(H82:H84) -> 712.95 | I81: =SUM(I82:I84) -> 881.14
A82: Vispārējās aprūpes māsa | B82: 1 | C82: =D82+E82 -> 173 | D82: 161 | E82: 12 | F82: 1171.275 | G82: =F82/161 -> 7.275 | H82: =ROUND(E82*G82*2,2) -> 174.6 | I82: =ROUND(H82*1.2359,2) -> 215.79
A83: Vispārējās aprūpes māsa | B83: 1 | C83: =D83+E83 -> 114 | D83: 98 | E83: 16 | F83: 1171.275 | G83: =F83/161 -> 7.275 | H83: =ROUND(E83*G83*2,2) -> 232.8 | I83: =ROUND(H83*1.2359,2) -> 287.72
A84: Vispārējās aprūpes māsa | B84: 1 | C84: =D84+E84 -> 161 | D84: 140 | E84: 21 | F84: 1171.275 | G84: =F84/161 -> 7.275 | H84: =ROUND(E84*G84*2,2) -> 305.55 | I84: =ROUND(H84*1.2359,2) -> 377.63
A85: "Plaušu slimību un tuberkulozes centrs" Infekcijas nodaļa - Covid 19 nodaļa | B85: =B86+B101 -> 21 | E85: =E86+E101 -> 478 | H85: =H86+H101 -> 6347.74 | I85: =I86+I101 -> 7839.54
A86: Ārstniecības un pacientu aprūpes personas un funkcionālo speciālistu asistenti, kopā, tai skaitā: | B86: =SUM(B87:B100) -> 14 | E86: =SUM(E87:E100) -> 357 | H86: =SUM(H87:H100) -> 5097.24 | I86: =SUM(I87:I100) -> 6294.04
A87: Vispārējās aprūpes māsa | B87: 1 | C87: =D87+E87 -> 136 | D87: 133 | E87: 3 | F87: 1149.379 | G87: =F87/161 -> 7.139 | H87: =ROUND(E87*G87*2,2) -> 42.83 | I87: =ROUND(H87*1.2359,2) -> 52.93
A88: Vispārējās aprūpes māsa | B88: 1 | C88: =D88+E88 -> 197 | D88: 161 | E88: 36 | F88: 1149.379 | G88: =F88/161 -> 7.139 | H88: =ROUND(E88*G88*2,2) -> 514.01 | I88: =ROUND(H88*1.2359,2) -> 635.26
A89: Vispārējās aprūpes māsa | B89: 1 | C89: =D89+E89 -> 168 | D89: 161 | E89: 7 | F89: 1149.379 | G89: =F89/161 -> 7.139 | H89: =ROUND(E89*G89*2,2) -> 99.95 | I89: =ROUND(H89*1.2359,2) -> 123.53
A90: Vispārējās aprūpes māsa | B90: 1 | C90: =D90+E90 -> 175 | D90: 161 | E90: 14 | F90: 1149.379 | G90: =F90/161 -> 7.139 | H90: =ROUND(E90*G90*2,2) -> 199.89 | I90: =ROUND(H90*1.2359,2) -> 247.04
A91: Vispārējās aprūpes māsa | B91: 1 | C91: =D91+E91 -> 64 | D91: 56 | E91: 8 | F91: 1149.379 | G91: =F91/161 -> 7.139 | H91: =ROUND(E91*G91*2,2) -> 114.22 | I91: =ROUND(H91*1.2359,2) -> 141.16
A92: Vispārējās aprūpes māsa | B92: 1 | C92: =D92+E92 -> 204 | D92: 161 | E92: 43 | F92: 1149.379 | G92: =F92/161 -> 7.139 | H92: =ROUND(E92*G92*2,2) -> 613.95 | I92: =ROUND(H92*1.2359,2) -> 758.78
A93: Vispārējās aprūpes māsa | B93: 1 | C93: =D93+E93 -> 233 | D93: 161 | E93: 72 | F93: 1149.379 | G93: =F93/161 -> 7.139 | H93: =ROUND(E93*G93*2,2) -> 1028.02 | I93: =ROUND(H93*1.2359,2) -> 1270.53
A94: Vispārējās aprūpes māsa | B94: 1 | C94: =D94+E94 -> 192 | D94: 161 | E94: 31 | F94: 1149.379 | G94: =F94/161 -> 7.139 | H94: =ROUND(E94*G94*2,2) -> 442.62 | I94: =ROUND(H94*1.2359,2) -> 547.03
A95: Vispārējās aprūpes māsa | B95: 1 | C95: =D95+E95 -> 185 | D95: 161 | E95: 24 | F95: 1149.379 | G95: =F95/161 -> 7.139 | H95: =ROUND(E95*G95*2,2) -> 342.67 | I95: =ROUND(H95*1.2359,2) -> 423.51
A96: Vispārējās aprūpes māsa | B96: 1 | C96: =D96+E96 -> 168 | D96: 154 | E96: 14 | F96: 1149.379 | G96: =F96/161 -> 7.139 | H96: =ROUND(E96*G96*2,2) -> 199.89 | I96: =ROUND(H96*1.2077,2) -> 241.41
A97: Vispārējās aprūpes māsa | B97: 1 | C97: =D97+E97 -> 185 | D97: 161 | E97: 24 | F97: 1149.379 | G97: =F97/161 -> 7.139 | H97: =ROUND(E97*G97*2,2) -> 342.67 | I97: =ROUND(H97*1.2359,2) -> 423.51
A98: Vispārējās aprūpes māsa | B98: 1 | C98: =D98+E98 -> 185 | D98: 161 | E98: 24 | F98: 1149.379 | G98: =F98/161 -> 7.139 | H98: =ROUND(E98*G98*2,2) -> 342.67 | I98: =ROUND(H98*1.2359,2) -> 423.51
A99: Vispārējās aprūpes māsa | B99: 1 | C99: =D99+E99 -> 211 | D99: 161 | E99: 50 | F99: 1149.379 | G99: =F99/161 -> 7.139 | H99: =ROUND(E99*G99*2,2) -> 713.9 | I99: =ROUND(H99*1.2359,2) -> 882.31
A100: Vispārējās aprūpes māsa | B100: 1 | C100: =D100+E100 -> 168 | D100: 161 | E100: 7 | F100: 1149.379 | G100: =F100/161 -> 7.139 | H100: =ROUND(E100*G100*2,2) -> 99.95 | I100: =ROUND(H100*1.2359,2) -> 123.53
A101: Ārstniecības un pacientu aprūpes atbalsta personas, māsu palīgi, zobārstu asistenti, kopā, tai skaitā: | B101: =SUM(B102:B108) -> 7 | E101: =SUM(E102:E108) -> 121 | H101: =SUM(H102:H108) -> 1250.5 | I101: =SUM(I102:I108) -> 1545.5
A102: Māsas palīgs | B102: 1 | C102: =D102+E102 -> 120 | D102: 112 | E102: 8 | F102: 831.9353 | G102: =F102/161 -> 5.1673 | H102: =ROUND(E102*G102*2,2) -> 82.68 | I102: =ROUND(H102*1.2359,2) -> 102.18
A103: Māsas palīgs | B103: 1 | C103: =D103+E103 -> 124 | D103: 119 | E103: 5 | F103: 831.9353 | G103: =F103/161 -> 5.1673 | H103: =ROUND(E103*G103*2,2) -> 51.67 | I103: =ROUND(H103*1.2359,2) -> 63.86
A104: Māsas palīgs | B104: 1 | C104: =D104+E104 -> 197 | D104: 161 | E104: 36 | F104: 831.9353 | G104: =F104/161 -> 5.1673 | H104: =ROUND(E104*G104*2,2) -> 372.05 | I104: =ROUND(H104*1.2359,2) -> 459.82
A105: Māsas palīgs | B105: 1 | C105: =D105+E105 -> 185 | D105: 161 | E105: 24 | F105: 831.9353 | G105: =F105/161 -> 5.1673 | H105: =ROUND(E105*G105*2,2) -> 248.03 | I105: =ROUND(H105*1.2359,2) -> 306.54
A106: Māsas palīgs | B106: 1 | C106: =D106+E106 -> 185 | D106: 161 | E106: 24 | F106: 831.9353 | G106: =F106/161 -> 5.1673 | H106: =ROUND(E106*G106*2,2) -> 248.03 | I106: =ROUND(H106*1.2359,2) -> 306.54
A107: Māsas palīgs | B107: 1 | C107: =D107+E107 -> 173 | D107: 161 | E107: 12 | F107: 831.9353 | G107: =F107/161 -> 5.1673 | H107: =ROUND(E107*G107*2,2) -> 124.02 | I107: =ROUND(H107*1.2359,2) -> 153.28
A108: Māsas palīgs | B108: 1 | C108: =D108+E108 -> 173 | D108: 161 | E108: 12 | F108: 831.9353 | G108: =F108/161 -> 5.1673 | H108: =ROUND(E108*G108*2,2) -> 124.02 | I108: =ROUND(H108*1.2359,2) -> 153.28
A110: Samazināta VSAOI likme - 20,77% vai 21,94%

Sheet Daugavpils_reģ_sept
H1: 1.5.Pielikums
A2: Pārskats par darba veicējiem (ārstniecības personām), virs normālā darba laika nostrādātām stundām, apmaksājamām stundām un izdevumiem, kas radušies saistībā ar mērķi ierobežot Covid-19 izplatību
A4: Iestādes nosaukums: SIA "Daugavpils reģionālā slimnīca"
A5: Pārskata mēnesis: Septembris
B7: Nodarbināto skaits mēnesī | C7: Apmaksājamais laiks mēnesī, stundas (tai skaitā summētā darba laika ietvaros) | F7: Mēnešalga no kuras rēķina stundas likmi | G7: Stundas likme (aprēķināta atbilstoši mēnešalgai vai darba līgumā noteiktā stundas likme)2 | H7: Apmaksājamā 100% piemaksa par nostrādātām virsstundām virs normālā darba laika (tai skaitā summētā darba laika ietvaros) | I7: Izdevumi par virsstundām kopā ar VSOAI, EUR
C8: Kopā | D8: līdz normālam darba laikam | E8: virsstundas - virs normālā darba laika, kas saistītas ar darbu ar Covid-19
A10: 1 | B10: 2 | C10: 3=4+5 | D10: 4 | E10: 5 | F10: 6 | G10: 7 | H10: 8 | I10: 9=8 + VSOAI
A11: KOPĀ | B11: =B12+B121+B133 -> 117 | E11: =E12+E121+E133 -> 4603 | H11: =H12+H121+H133 -> 81099.37 | I11: =I12+I121+I133 -> 100032.71
A12: Centrālā slimnīca "Uzņemšanas nodaļa" | B12: =B13+B64+B107 -> 105 | E12: =E13+E64+E107 -> 4201 | H12: =H13+H64+H107 -> 72405.05 | I12: =I13+I64+I107 -> 89292.67
A13: Ārsti, zobārsti un funkcionālie speciālisti, kopā, tai skaitā: | B13: =SUM(B14:B63) -> 50 | E13: =SUM(E14:E63) -> 2504.5 | H13: =SUM(H14:H63) -> 51230.56 | I13: =SUM(I14:I63) -> 63134.66
A14: Ginekologs | B14: 1 | C14: =D14+E14 -> 48 | D14: 24 | E14: 24 | F14: 1800.08 | G14: =F14/176 -> 10.227727 | H14: =ROUND(E14*G14*2,2) -> 490.93 | I14: =ROUND(H14*1.2359,2) -> 606.74
A15: Ginekologs | B15: 1 | C15: =D15+E15 -> 96 | D15: 48 | E15: 48 | F15: 1800.0752 | G15: =F15/176 -> 10.2277 | H15: =ROUND(E15*G15*2,2) -> 981.86 | I15: =ROUND(H15*1.2077,2) -> 1185.79
A16: Pediatrs | B16: 1 | C16: =D16+E16 -> 224 | D16: 176 | E16: 48 | F16: 1800.0752 | G16: =F16/176 -> 10.2277 | H16: =ROUND(E16*G16*2,2) -> 981.86 | I16: =ROUND(H16*1.2077,2) -> 1185.79
A17: Pediatrs | B17: 1 | C17: =D17+E17 -> 208 | D17: 160 | E17: 48 | F17: 1800.0752 | G17: =F17/176 -> 10.2277 | H17: =ROUND(E17*G17*2,2) -> 981.86 | I17: =ROUND(H17*1.2359,2) -> 1213.48
A18: Pediatrs | B18: 1 | C18: =D18+E18 -> 144 | D18: 88 | E18: 56 | F18: 1800.0752 | G18: =F18/176 -> 10.2277 | H18: =ROUND(E18*G18*2,2) -> 1145.5 | I18: =ROUND(H18*1.2359,2) -> 1415.72
A19: Pediatrs | B19: 1 | C19: =D19+E19 -> 128 | D19: 72 | E19: 56 | F19: 1800.0752 | G19: =F19/176 -> 10.2277 | H19: =ROUND(E19*G19*2,2) -> 1145.5 | I19: =ROUND(H19*1.2359,2) -> 1415.72
A20: Bērnu ķirurgs | B20: 1 | C20: =D20+E20 -> 96 | D20: 48 | E20: 48 | F20: 1800.0752 | G20: =F20/176 -> 10.2277 | H20: =ROUND(E20*G20*2,2) -> 981.86 | I20: =ROUND(H20*1.2359,2) -> 1213.48
A21: Neatliekamās medicīnas ārsts | B21: 1 | C21: =D21+E21 -> 184 | D21: 160 | E21: 24 | F21: 1800.0752 | G21: =F21/176 -> 10.2277 | H21: =ROUND(E21*G21*2,2) -> 490.93 | I21: =ROUND(H21*1.2359,2) -> 606.74
A22: Neatliekamās medicīnas ārsts | B22: 1 | C22: =D22+E22 -> 232 | D22: 176 | E22: 56 | F22: 1800.0752 | G22: =F22/176 -> 10.2277 | H22: =ROUND(E22*G22*2,2) -> 1145.5 | I22: =ROUND(H22*1.2359,2) -> 1415.72
A23: Neatliekamās medicīnas ārsts | B23: 1 | C23: =D23+E23 -> 192 | D23: 176 | E23: 16 | F23: 1800.0752 | G23: =F23/176 -> 10.2277 | H23: =ROUND(E23*G23*2,2) -> 327.29 | I23: =ROUND(H23*1.2359,2) -> 404.5
A24: Neatliekamās medicīnas ārsts | B24: 1 | C24: =D24+E24 -> 215 | D24: 176 | E24: 39 | F24: 1800.0752 | G24: =F24/176 -> 10.2277 | H24: =ROUND(E24*G24*2,2) -> 797.76 | I24: =ROUND(H24*1.2359,2) -> 985.95
A25: Kardiologs | B25: 1 | C25: =D25+E25 -> 148 | D25: 136 | E25: 12 | F25: 1800.0752 | G25: =F25/176 -> 10.2277 | H25: =ROUND(E25*G25*2,2) -> 245.46 | I25: =ROUND(H25*1.2359,2) -> 303.36
A26: Kardiologs | B26: 1 | C26: =D26+E26 -> 80 | D26: 40 | E26: 40 | F26: 1800.0752 | G26: =F26/176 -> 10.2277 | H26: =ROUND(E26*G26*2,2) -> 818.22 | I26: =ROUND(H26*1.2359,2) -> 1011.24
A27: Kardiologs | B27: 1 | C27: =D27+E27 -> 96 | D27: 48 | E27: 48 | F27: 1800.0752 | G27: =F27/176 -> 10.2277 | H27: =ROUND(E27*G27*2,2) -> 981.86 | I27: =ROUND(H27*1.2359,2) -> 1213.48
A28: Kardiologs | B28: 1 | C28: =D28+E28 -> 128 | D28: 64 | E28: 64 | F28: 1800.0752 | G28: =F28/176 -> 10.2277 | H28: =ROUND(E28*G28*2,2) -> 1309.15 | I28: =ROUND(H28*1.2077,2) -> 1581.06
A29: Kardiologs | B29: 1 | C29: =D29+E29 -> 32 | D29: 16 | E29: 16 | F29: 1800.0752 | G29: =F29/176 -> 10.2277 | H29: =ROUND(E29*G29*2,2) -> 327.29 | I29: =ROUND(H29*1.2359,2) -> 404.5
A30: Kardiologs | B30: 1 | C30: =D30+E30 -> 64 | D30: 32 | E30: 32 | F30: 1800.0752 | G30: =F30/176 -> 10.2277 | H30: =ROUND(E30*G30*2,2) -> 654.57 | I30: =ROUND(H30*1.2359,2) -> 808.98
A31: Ķirurgs | B31: 1 | C31: =D31+E31 -> 219 | D31: 176 | E31: 43 | F31: 1800.0752 | G31: =F31/176 -> 10.2277 | H31: =ROUND(E31*G31*2,2) -> 879.58 | I31: =ROUND(H31*1.2359,2) -> 1087.07
A32: Ķirurgs | B32: 1 | C32: =D32+E32 -> 132 | D32: 66 | E32: 66 | F32: 1800.0752 | G32: =F32/176 -> 10.2277 | H32: =ROUND(E32*G32*2,2) -> 1350.06 | I32: =ROUND(H32*1.2359,2) -> 1668.54
A33: Ķirurgs | B33: 1 | C33: =D33+E33 -> 68 | D33: 34 | E33: 34 | F33: 1800.0752 | G33: =F33/176 -> 10.2277 | H33: =ROUND(E33*G33*2,2) -> 695.48 | I33: =ROUND(H33*1.2077,2) -> 839.93
A34: Ķirurgs | B34: 1 | C34: =D34+E34 -> 68 | D34: 34 | E34: 34 | F34: 1800.0752 | G34: =F34/176 -> 10.2277 | H34: =ROUND(E34*G34*2,2) -> 695.48 | I34: =ROUND(H34*1.2359,2) -> 859.54
A35: Ķirurgs | B35: 1 | C35: =D35+E35 -> 128 | D35: 64 | E35: 64 | F35: 1800.0752 | G35: =F35/176 -> 10.2277 | H35: =ROUND(E35*G35*2,2) -> 1309.15 | I35: =ROUND(H35*1.2359,2) -> 1617.98
A36: Ķirurgs | B36: 1 | C36: =D36+E36 -> 322 | D36: 154 | E36: 168 | F36: 1800.0752 | G36: =F36/176 -> 10.2277 | H36: =ROUND(E36*G36*2,2) -> 3436.51 | I36: =ROUND(H36*1.2359,2) -> 4247.18
A37: Ķirurgs | B37: 1 | C37: =D37+E37 -> 68 | D37: 34 | E37: 34 | F37: 1800.0752 | G37: =F37/176 -> 10.2277 | H37: =ROUND(E37*G37*2,2) -> 695.48 | I37: =ROUND(H37*1.2359,2) -> 859.54
A38: Internists | B38: 1 | C38: =D38+E38 -> 96 | D38: 48 | E38: 48 | F38: 1800.0752 | G38: =F38/176 -> 10.2277 | H38: =ROUND(E38*G38*2,2) -> 981.86 | I38: =ROUND(H38*1.2359,2) -> 1213.48
A39: Neirologs | B39: 1 | C39: =D39+E39 -> 240 | D39: 120 | E39: 120 | F39: 1800.0752 | G39: =F39/176 -> 10.2277 | H39: =ROUND(E39*G39*2,2) -> 2454.65 | I39: =ROUND(H39*1.2359,2) -> 3033.7
A40: Neirologs | B40: 1 | C40: =D40+E40 -> 256 | D40: 128 | E40: 128 | F40: 1800.0752 | G40: =F40/176 -> 10.2277 | H40: =ROUND(E40*G40*2,2) -> 2618.29 | I40: =ROUND(H40*1.2359,2) -> 3235.94
A41: Rezidents | B41: 1 | C41: =D41+E41 -> 160 | D41: 80 | E41: 80 | F41: 1800.0752 | G41: =F41/176 -> 10.2277 | H41: =ROUND(E41*G41*2,2) -> 1636.43 | I41: =ROUND(H41*1.2359,2) -> 2022.46
A42: Rezidents | B42: 1 | C42: =D42+E42 -> 122 | D42: 61 | E42: 61 | F42: 1800.0752 | G42: =F42/176 -> 10.2277 | H42: =ROUND(E42*G42*2,2) -> 1247.78 | I42: =ROUND(H42*1.2359,2) -> 1542.13
A43: Rezidents | B43: 1 | C43: =D43+E43 -> 48 | D43: 24 | E43: 24 | F43: 1800.0752 | G43: =F43/176 -> 10.2277 | H43: =ROUND(E43*G43*2,2) -> 490.93 | I43: =ROUND(H43*1.2359,2) -> 606.74
A44: Rezidents | B44: 1 | C44: =D44+E44 -> 192 | D44: 96 | E44: 96 | F44: 1800.0752 | G44: =F44/176 -> 10.2277 | H44: =ROUND(E44*G44*2,2) -> 1963.72 | I44: =ROUND(H44*1.2359,2) -> 2426.96
A45: Rezidents | B45: 1 | C45: =D45+E45 -> 80 | D45: 40 | E45: 40 | F45: 1800.0752 | G45: =F45/176 -> 10.2277 | H45: =ROUND(E45*G45*2,2) -> 818.22 | I45: =ROUND(H45*1.2359,2) -> 1011.24
... A48: Anesteziologs un reanimatologs | B48: 1 | C48: =D48+E48 -> 184 | D48: 152 | E48: 32 | F48: 1800.0752 | G48: =F48/176 -> 10.2277 | H48: =ROUND(E48*G48*2,2) -> 654.57 | I48: =ROUND(H48*1.2359,2) -> 808.98
A49: Anesteziologs un reanimatologs | B49: 1 | C49: =D49+E49 -> 144 | D49: 104 | E49: 40 | F49: 1800.0752 | G49: =F49/176 -> 10.2277 | H49: =ROUND(E49*G49*2,2) -> 818.22 | I49: =ROUND(H49*1.2077,2) -> 988.16
A50: Anesteziologs un reanimatologs | B50: 1 | C50: =D50+E50 -> 104 | D50: 64 | E50: 40 | F50: 1800.0752 | G50: =F50/176 -> 10.2277 | H50: =ROUND(E50*G50*2,2) -> 818.22 | I50: =ROUND(H50*1.2077,2) -> 988.16
A51: Anesteziologs un reanimatologs | B51: 1 | C51: =D51+E51 -> 184 | D51: 176 | E51: 8 | F51: 1800.0752 | G51: =F51/176 -> 10.2277 | H51: =ROUND(E51*G51*2,2) -> 163.64 | I51: =ROUND(H51*1.2359,2) -> 202.24
A52: Anesteziologs un reanimatologs | B52: 1 | C52: =D52+E52 -> 64 | D52: 32 | E52: 32 | F52: 1800.0752 | G52: =F52/176 -> 10.2277 | H52: =ROUND(E52*G52*2,2) -> 654.57 | I52: =ROUND(H52*1.2077,2) -> 790.52
A53: Anesteziologs un reanimatologs | B53: 1 | C53: =D53+E53 -> 80 | D53: 48 | E53: 32 | F53: 1800.0752 | G53: =F53/176 -> 10.2277 | H53: =ROUND(E53*G53*2,2) -> 654.57 | I53: =ROUND(H53*1.2359,2) -> 808.98
A54: Anesteziologs un reanimatologs | B54: 1 | C54: =D54+E54 -> 176 | D54: 88 | E54: 88 | F54: 1800.0752 | G54: =F54/176 -> 10.2277 | H54: =ROUND(E54*G54*2,2) -> 1800.08 | I54: =ROUND(H54*1.2359,2) -> 2224.72
A55: Anesteziologs un reanimatologs | B55: 1 | C55: =D55+E55 -> 168 | D55: 96 | E55: 72 | F55: 1800.0752 | G55: =F55/176 -> 10.2277 | H55: =ROUND(E55*G55*2,2) -> 1472.79 | I55: =ROUND(H55*1.2359,2) -> 1820.22
A56: Traumatologs ortopēds | B56: 1 | C56: =D56+E56 -> 32 | D56: 16 | E56: 16 | F56: 1800.0752 | G56: =F56/176 -> 10.2277 | H56: =ROUND(E56*G56*2,2) -> 327.29 | I56: =ROUND(H56*1.2359,2) -> 404.5
A57: Traumatologs ortopēds | B57: 1 | C57: =D57+E57 -> 195 | D57: 97.5 | E57: 97.5 | F57: 1800.0752 | G57: =F57/176 -> 10.2277 | H57: =ROUND(E57*G57*2,2) -> 1994.4 | I57: =ROUND(H57*1.2359,2) -> 2464.88
A58: Traumatologs ortopēds | B58: 1 | C58: =D58+E58 -> 211 | D58: 105.5 | E58: 105.5 | F58: 1800.0752 | G58: =F58/176 -> 10.2277 | H58: =ROUND(E58*G58*2,2) -> 2158.04 | I58: =ROUND(H58*1.2359,2) -> 2667.12
A59: Traumatologs ortopēds | B59: 1 | C59: =D59+E59 -> 112 | D59: 56 | E59: 56 | F59: 1800.0752 | G59: =F59/176 -> 10.2277 | H59: =ROUND(E59*G59*2,2) -> 1145.5 | I59: =ROUND(H59*1.2359,2) -> 1415.72
A60: Ārsts | B60: 1 | C60: =D60+E60 -> 217.5 | D60: 176 | E60: 41.5 | F60: 1800.0752 | G60: =F60/176 -> 10.2277 | H60: =ROUND(E60*G60*2,2) -> 848.9 | I60: =ROUND(H60*1.2359,2) -> 1049.16
A61: Ārsts | B61: 1 | C61: =D61+E61 -> 209 | D61: 176 | E61: 33 | F61: 1800.0752 | G61: =F61/176 -> 10.2277 | H61: =ROUND(E61*G61*2,2) -> 675.03 | I61: =ROUND(H61*1.2359,2) -> 834.27
A62: Ārsts | B62: 1 | C62: =D62+E62 -> 136 | D62: 120 | E62: 16 | F62: 1800.0752 | G62: =F62/176 -> 10.2277 | H62: =ROUND(E62*G62*2,2) -> 327.29 | I62: =ROUND(H62*1.2359,2) -> 404.5
A63: Ārsts | B63: 1 | C63: =D63+E63 -> 72 | D63: 64 | E63: 8 | F63: 1800.0752 | G63: =F63/176 -> 10.2277 | H63: =ROUND(E63*G63*2,2) -> 163.64 | I63: =ROUND(H63*1.2077,2) -> 197.63
A64: Ārstniecības un pacientu aprūpes personas un funkcionālo speciālistu asistenti, kopā, tai skaitā: | B64: =SUM(B65:B106) -> 42 | E64: =SUM(E65:E106) -> 1316.5 | H64: =SUM(H65:H106) -> 17654.41 | I64: =SUM(I65:I106) -> 21819.08
A65: Vecākā medicīnas māsa | B65: 1 | C65: =D65+E65 -> 180 | D65: 168 | E65: 12 | F65: 1250.04 | G65: =F65/176 -> 7.1025 | H65: =ROUND(E65*G65*2,2) -> 170.46 | I65: =ROUND(H65*1.2359,2) -> 210.67
A66: Vispārējās aprūpes māsa | B66: 1 | C66: =D66+E66 -> 240 | D66: 168 | E66: 72 | F66: 1119.8176 | G66: =F66/176 -> 6.3626 | H66: =ROUND(E66*G66*2,2) -> 916.21 | I66: =ROUND(H66*1.2359,2) -> 1132.34
A67: Vispārējās aprūpes māsa | B67: 1 | C67: =D67+E67 -> 48 | D67: 24 | E67: 24 | F67: 1119.8176 | G67: =F67/176 -> 6.3626 | H67: =ROUND(E67*G67*2,2) -> 305.4 | I67: =ROUND(H67*1.2359,2) -> 377.44
A68: Vispārējās aprūpes māsa | B68: 1 | C68: =D68+E68 -> 240 | D68: 176 | E68: 64 | F68: 1119.8176 | G68: =F68/176 -> 6.3626 | H68: =ROUND(E68*G68*2,2) -> 814.41 | I68: =ROUND(H68*1.2359,2) -> 1006.53
A69: Vispārējās aprūpes māsa | B69: 1 | C69: =D69+E69 -> 208 | D69: 176 | E69: 32 | F69: 1119.8176 | G69: =F69/176 -> 6.3626 | H69: =ROUND(E69*G69*2,2) -> 407.21 | I69: =ROUND(H69*1.2359,2) -> 503.27
A70: Vispārējās aprūpes māsa | B70: 1 | C70: =D70+E70 -> 192 | D70: 176 | E70: 16 | F70: 1119.8176 | G70: =F70/176 -> 6.3626 | H70: =ROUND(E70*G70*2,2) -> 203.6 | I70: =ROUND(H70*1.2359,2) -> 251.63
A71: Vispārējās aprūpes māsa | B71: 1 | C71: =D71+E71 -> 152 | D71: 128 | E71: 24 | F71: 1119.8176 | G71: =F71/176 -> 6.3626 | H71: =ROUND(E71*G71*2,2) -> 305.4 | I71: =ROUND(H71*1.2359,2) -> 377.44
A72: Vispārējās aprūpes māsa | B72: 1 | C72: =D72+E72 -> 196 | D72: 176 | E72: 20 | F72: 1119.8176 | G72: =F72/176 -> 6.3626 | H72: =ROUND(E72*G72*2,2) -> 254.5 | I72: =ROUND(H72*1.2359,2) -> 314.54
A73: Vispārējās aprūpes māsa | B73: 1 | C73: =D73+E73 -> 188 | D73: 176 | E73: 12 | F73: 1119.8176 | G73: =F73/176 -> 6.3626 | H73: =ROUND(E73*G73*2,2) -> 152.7 | I73: =ROUND(H73*1.2359,2) -> 188.72
A74: Vispārējās aprūpes māsa | B74: 1 | C74: =D74+E74 -> 84 | D74: 72 | E74: 12 | F74: 1119.8176 | G74: =F74/176 -> 6.3626 | H74: =ROUND(E74*G74*2,2) -> 152.7 | I74: =ROUND(H74*1.2359,2) -> 188.72
A75: Vispārējās aprūpes māsa | B75: 1 | C75: =D75+E75 -> 140 | D75: 120 | E75: 20 | F75: 1119.8176 | G75: =F75/176 -> 6.3626 | H75: =ROUND(E75*G75*2,2) -> 254.5 | I75: =ROUND(H75*1.2359,2) -> 314.54
A76: Vispārējās aprūpes māsa | B76: 1 | C76: =D76+E76 -> 192 | D76: 152 | E76: 40 | F76: 1119.8176 | G76: =F76/176 -> 6.3626 | H76: =ROUND(E76*G76*2,2) -> 509.01 | I76: =ROUND(H76*1.2359,2) -> 629.09
... A106: Ārsta palīgs | B106: 1 | C106: =D106+E106 -> 204 | D106: 176 | E106: 28 | F106: 1119.8176 | G106: =F106/176 -> 6.3626 | H106: =ROUND(E106*G106*2,2) -> 356.31 | I106: =ROUND(H106*1.2359,2) -> 440.36
A107: Ārstniecības un pacientu aprūpes atbalsta personas, māsu palīgi, zobārstu asistenti, kopā, tai skaitā: | B107: =SUM(B108:B120) -> 13 | E107: =SUM(E108:E120) -> 380 | H107: =SUM(H108:H120) -> 3520.08 | I107: =SUM(I108:I120) -> 4338.93
A108: Māsas palīgs | B108: 1 | C108: =D108+E108 -> 108 | D108: 104 | E108: 4 | F108: 816.3232 | G108: =F108/176 -> 4.6382 | H108: =ROUND(E108*G108*2,2) -> 37.11 | I108: =ROUND(H108*1.2359,2) -> 45.86
A109: Māsas palīgs | B109: 1 | C109: =D109+E109 -> 216 | D109: 176 | E109: 40 | F109: 816.3232 | G109: =F109/176 -> 4.6382 | H109: =ROUND(E109*G109*2,2) -> 371.06 | I109: =ROUND(H109*1.2359,2) -> 458.59
A110: Māsas palīgs | B110: 1 | C110: =D110+E110 -> 188 | D110: 176 | E110: 12 | F110: 780 | G110: =F110/176 -> 4.4318182 | H110: =ROUND(E110*G110*2,2) -> 106.36 | I110: =ROUND(H110*1.2359,2) -> 131.45
A111: Māsas palīgs | B111: 1 | C111: =D111+E111 -> 192 | D111: 176 | E111: 16 | F111: 816.3232 | G111: =F111/176 -> 4.6382 | H111: =ROUND(E111*G111*2,2) -> 148.42 | I111: =ROUND(H111*1.2359,2) -> 183.43
A112: Māsas palīgs | B112: 1 | C112: =D112+E112 -> 192 | D112: 176 | E112: 16 | F112: 816.3232 | G112: =F112/176 -> 4.6382 | H112: =ROUND(E112*G112*2,2) -> 148.42 | I112: =ROUND(H112*1.2359,2) -> 183.43
A113: Māsas palīgs | B113: 1 | C113: =D113+E113 -> 24 | D113: 12 | E113: 12 | F113: 816.3232 | G113: =F113/176 -> 4.6382 | H113: =ROUND(E113*G113*2,2) -> 111.32 | I113: =ROUND(H113*1.2359,2) -> 137.58
A114: Māsas palīgs | B114: 1 | C114: =D114+E114 -> 220 | D114: 176 | E114: 44 | F114: 816.3232 | G114: =F114/176 -> 4.6382 | H114: =ROUND(E114*G114*2,2) -> 408.16 | I114: =ROUND(H114*1.2077,2) -> 492.93
A115: Māsas palīgs | B115: 1 | C115: =D115+E115 -> 240 | D115: 176 | E115: 64 | F115: 816.3232 | G115: =F115/176 -> 4.6382 | H115: =ROUND(E115*G115*2,2) -> 593.69 | I115: =ROUND(H115*1.2359,2) -> 733.74
A116: Māsas palīgs | B116: 1 | C116: =D116+E116 -> 212 | D116: 176 | E116: 36 | F116: 816.3232 | G116: =F116/176 -> 4.6382 | H116: =ROUND(E116*G116*2,2) -> 333.95 | I116: =ROUND(H116*1.2359,2) -> 412.73
A117: Māsas palīgs | B117: 1 | C117: =D117+E117 -> 108 | D117: 80 | E117: 28 | F117: 816.3232 | G117: =F117/176 -> 4.6382 | H117: =ROUND(E117*G117*2,2) -> 259.74 | I117: =ROUND(H117*1.2359,2) -> 321.01
A118: Māsas palīgs | B118: 1 | C118: =D118+E118 -> 192 | D118: 168 | E118: 24 | F118: 816.3232 | G118: =F118/176 -> 4.6382 | H118: =ROUND(E118*G118*2,2) -> 222.63 | I118: =ROUND(H118*1.2359,2) -> 275.15
A119: Māsas palīgs | B119: 1 | C119: =D119+E119 -> 196 | D119: 152 | E119: 44 | F119: 816.3232 | G119: =F119/176 -> 4.6382 | H119: =ROUND(E119*G119*2,2) -> 408.16 | I119: =ROUND(H119*1.2359,2) -> 504.44
A120: Māsas palīgs | B120: 1 | C120: =D120+E120 -> 216 | D120: 176 | E120: 40 | F120: 816.3232 | G120: =F120/176 -> 4.6382 | H120: =ROUND(E120*G120*2,2) -> 371.06 | I120: =ROUND(H120*1.2359,2) -> 458.59
A121: "Plaušu slimību un tuberkulozes centrs " Uzņemšanas nodaļa, Covid 19 nodaļa | B121: =B122+B127+B130 -> 8 | E121: =E122+E127+E130 -> 282 | H121: =H122+H127+H130 -> 6137.89 | I121: =I122+I127+I130 -> 7580.55
A122: Ārsti, zobārsti un funkcionālie speciālisti, kopā, tai skaitā: | B122: =SUM(B123:B126) -> 4 | E122: =SUM(E123:E126) -> 232 | H122: =SUM(H123:H126) -> 5426.16 | I122: =SUM(I123:I126) -> 6706.2
A123: Neatliekamās medicīnas ārsts | B123: 1 | C123: =D123+E123 -> 192 | D123: 176 | E123: 16 | F123: 1800.9222 | G123: =F123/154 -> 11.6943 | H123: =ROUND(E123*G123*2,2) -> 374.22 | I123: =ROUND(H123*1.2359,2) -> 462.5
A124: Ārsts | B124: 1 | C124: =D124+E124 -> 288 | D124: 154 | E124: 134 | F124: 1800.9222 | G124: =F124/154 -> 11.6943 | H124: =ROUND(E124*G124*2,2) -> 3134.07 | I124: =ROUND(H124*1.2359,2) -> 3873.4
A125: Internists | B125: 1 | C125: =D125+E125 -> 114 | D125: 64 | E125: 50 | F125: 1800.9222 | G125: =F125/154 -> 11.6943 | H125: =ROUND(E125*G125*2,2) -> 1169.43 | I125: =ROUND(H125*1.2359,2) -> 1445.3
A126: Pneimonologs | B126: 1 | C126: =D126+E126 -> 64 | D126: 32 | E126: 32 | F126: 1800.9222 | G126: =F126/154 -> 11.6943 | H126: =ROUND(E126*G126*2,2) -> 748.44 | I126: =ROUND(H126*1.2359,2) -> 925
A127: Ārstniecības un pacientu aprūpes personas un funkcionālo speciālistu asistenti, kopā, tai skaitā: | B127: =SUM(B128:B129) -> 2 | E127: =SUM(E128:E129) -> 46 | H127: =SUM(H128:H129) -> 669.3 | I127: =SUM(I128:I129) -> 821.91
A128: Vispārējās aprūpes māsa | B128: 1 | C128: =D128+E128 -> 178 | D128: 154 | E128: 24 | F128: 1120.35 | G128: =F128/154 -> 7.275 | H128: =ROUND(E128*G128*2,2) -> 349.2 | I128: =ROUND(H128*1.2359,2) -> 431.58
A129: Vispārējās aprūpes māsa | B129: 1 | C129: =D129+E129 -> 176 | D129: 154 | E129: 22 | F129: 1120.35 | G129: =F129/154 -> 7.275 | H129: =ROUND(E129*G129*2,2) -> 320.1 | I129: =ROUND(H129*1.2194,2) -> 390.33
A130: Ārstniecības un pacientu aprūpes atbalsta personas, māsu palīgi, zobārstu asistenti, kopā, tai skaitā: | B130: =SUM(B131:B132) -> 2 | E130: =SUM(E131:E132) -> 4 | H130: =SUM(H131:H132) -> 42.43 | I130: =SUM(I131:I132) -> 52.44
A131: Māsas palīgs | B131: 1 | C131: =D131+E131 -> 120 | D131: 119 | E131: 1 | F131: 816.69 | G131: =F131/154 -> 5.3031818 | H131: =ROUND(E131*G131*2,2) -> 10.61 | I131: =ROUND(H131*1.2359,2) -> 13.11
A132: Māsas palīgs | B132: 1 | C132: =D132+E132 -> 24 | D132: 21 | E132: 3 | F132: 816.69 | G132: =F132/154 -> 5.3031818 | H132: =ROUND(E132*G132*2,2) -> 31.82 | I132: =ROUND(H132*1.2359,2) -> 39.33
A133: "Plaušu slimību un tuberkulozes centrs" Infekcijas nodaļa - Covid 19 nodaļa | B133: =B134+B136+B139 -> 4 | E133: =E134+E136+E139 -> 120 | H133: =H134+H136+H139 -> 2556.43 | I133: =I134+I136+I139 -> 3159.49
A134: Ārsti, zobārsti un funkcionālie speciālisti, kopā, tai skaitā: | B134: =SUM(B135:B135) -> 1 | E134: =SUM(E135:E135) -> 96 | H134: =SUM(H135:H135) -> 2245.3 | I134: =SUM(I135:I135) -> 2774.97
...

Sheet Z-Kurzeme_jūl
H1: 1.6.Pielikums
A2: Pārskats par darba veicējiem (ārstniecības personām), virs normālā darba laika nostrādātām stundām, apmaksājamām stundām un izdevumiem, kas radušies saistībā ar mērķi ierobežot Covid-19 izplatību
A4: Iestādes nosaukums: SIA "Ziemeļkurzemes reģionālā slimnīca"
A5: Pārskata mēnesis: Jūlijs
B7: Nodarbināto skaits mēnesī | C7: Apmaksājamais laiks mēnesī, stundas (tai skaitā summētā darba laika ietvaros) | F7: Mēnešalga no kuras rēķina stundas likmi | G7: Stundas likme (aprēķināta atbilstoši mēnešalgai vai darba līgumā noteiktā stundas likme) | H7: Apmaksājamā 100% piemaksa par nostrādātām virsstundām virs normālā darba laika (tai skaitā summētā darba laika ietvaros) | I7: Izdevumi par virsstundām kopā ar VSOAI, EUR
C8: Kopā | D8: līdz normālam darba laikam | E8: virsstundas - virs normālā darba laika, kas saistītas ar darbu ar Covid-19
A9: 1 | B9: 2 | C9: 3=4+5 | D9: 4 | E9: 5 | F9: 6 | G9: 7 | H9: 8 | I9: 9=8 + VSOAI
A10: KOPĀ | B10: =B11+B26+B29+B45+B63+B75 -> 52 | E10: =E11+E26+E29+E45+E63+E75 -> 1088 | H10: =H11+H26+H29+H45+H63+H75 -> 13117.65 | I10: =I11+I26+I29+I45+I63+I75 -> 16136.81
A11: INFEKCIJAS NODAĻA | B11: =B12+B22+B19 -> 11 | E11: =E12+E22+E19 -> 362 | H11: =H12+H22+H19 -> 4228.07 | I11: =I12+I22+I19 -> 5169.35
A12: Ārstniecības un pacientu aprūpes personas un funkcionālo speciālistu asistenti, kopā, tai skaitā: | B12: =SUM(B13:B18) -> 6 | E12: =SUM(E13:E18) -> 153 | H12: =SUM(H13:H18) -> 2155.46 | I12: =SUM(I13:I18) -> 2643.27
A13: Māsa/vispārējās aprūpes māsa | B13: 1 | C13: =D13+E13 -> 160 | D13: 151 | E13: 9 | G13: 7.044 | H13: =ROUND(G13*E13*2,2) -> 126.79 | I13: =ROUND(H13*1.2359,2) -> 156.7
A14: Māsa/vispārējās aprūpes māsa | B14: 1 | C14: =D14+E14 -> 184 | D14: 151 | E14: 33 | G14: 7.044 | H14: =ROUND(G14*E14*2,2) -> 464.9 | I14: =ROUND(H14*1.2359,2) -> 574.57
A15: Māsa/vispārējās aprūpes māsa | B15: 1 | C15: =D15+E15 -> 190 | D15: 151 | E15: 39 | G15: 7.044 | H15: =ROUND(G15*E15*2,2) -> 549.43 | I15: =ROUND(H15*1.2359,2) -> 679.04
A16: Māsa/vispārējās aprūpes māsa | B16: 1 | C16: =D16+E16 -> 164 | D16: 151 | E16: 13 | G16: 7.044 | H16: =ROUND(G16*E16*2,2) -> 183.14 | I16: =ROUND(H16*1.2359,2) -> 226.34
A17: Māsa/vispārējās aprūpes māsa | B17: 1 | C17: =D17+E17 -> 158 | D17: 151 | E17: 7 | G17: 7.044 | H17: =ROUND(G17*E17*2,2) -> 98.62 | I17: =ROUND(H17*1.2359,2) -> 121.88
A18: Māsa/vispārējās aprūpes māsa | B18: 1 | C18: =D18+E18 -> 203 | D18: 151 | E18: 52 | G18: 7.044 | H18: =ROUND(G18*E18*2,2) -> 732.58 | I18: =ROUND(H18*1.2077,2) -> 884.74
A19: Ārstniecības un pacientu aprūpes atbalsta personas, māsu palīgi, zobārstu aistenti, kopā, tai skaitā: | B19: =SUM(B20:B21) -> 2 | C19: =SUM(C20:C21) -> 404 | D19: =SUM(D20:D21) -> 302 | E19: =SUM(E20:E21) -> 102 | H19: =SUM(H20:H21) -> 1047.13 | I19: =SUM(I20:I21) -> 1273.01
A20: Māsas palīgs | B20: 1 | C20: =D20+E20 -> 224 | D20: 151 | E20: 73 | G20: 5.133 | H20: =ROUND(G20*E20*2,2) -> 749.42 | I20: =ROUND(H20*1.2077,2) -> 905.07
A21: Māsas palīgs | B21: 1 | C21: =D21+E21 -> 180 | D21: 151 | E21: 29 | G21: 5.133 | H21: =ROUND(G21*E21*2,2) -> 297.71 | I21: =ROUND(H21*1.2359,2) -> 367.94
A22: Pārējie darbinieki, kuri tieši iesaistīti darbā ar Covid-19, kopā, tai skaitā: | B22: =SUM(B23:B25) -> 3 | C22: =SUM(C23:C25) -> 560 | D22: =SUM(D23:D25) -> 453 | E22: =SUM(E23:E25) -> 107 | H22: =SUM(H23:H25) -> 1025.48 | I22: =SUM(I23:I25) -> 1253.07
A23: Sanitārs | B23: 1 | C23: =D23+E23 -> 204 | D23: 151 | E23: 53 | G23: 4.792 | H23: =ROUND(G23*E23*2,2) -> 507.95 | I23: =ROUND(H23*1.2077,2) -> 613.45
A24: Sanitārs | B24: 1 | C24: =D24+E24 -> 194 | D24: 151 | E24: 43 | G24: 4.792 | H24: =ROUND(G24*E24*2,2) -> 412.11 | I24: =ROUND(H24*1.2359,2) -> 509.33
A25: Sanitārs | B25: 1 | C25: =D25+E25 -> 162 | D25: 151 | E25: 11 | G25: 4.792 | H25: =ROUND(G25*E25*2,2) -> 105.42 | I25: =ROUND(H25*1.2359,2) -> 130.29
A26: KARDIOLOĢIJAS NODAĻA | B26: =B27 -> 1 | E26: =E27 -> 1 | H26: =H27 -> 13.04 | I26: =I27 -> 16.12
A27: Ārstniecības un pacientu aprūpes personas un funkcionālo speciālistu asistenti, kopā, tai skaitā: | B27: =SUM(B28:B28) -> 1 | E27: =SUM(E28:E28) -> 1 | H27: =SUM(H28:H28) -> 13.04 | I27: =SUM(I28:I28) -> 16.12
A28: Māsa/vispārējās aprūpes māsa | B28: 1 | C28: =D28+E28 -> 173 | D28: 172 | E28: 1 | G28: 6.519 | H28: =ROUND(G28*E28*2,2) -> 13.04 | I28: =ROUND(H28*1.2359,2) -> 16.12
A29: NEIROLOĢIJAS NODAĻA | B29: =B30+B36+B40 -> 12 | E29: =E30+E36+E40 -> 166 | H29: =H30+H36+H40 -> 1613.02 | I29: =I30+I36+I40 -> 1993.53
A30: Ārstniecības un pacientu aprūpes personas un funkcionālo speciālistu asistenti, kopā, tai skaitā: | B30: =SUM(B31:B35) -> 5 | E30: =SUM(E31:E35) -> 40 | H30: =SUM(H31:H35) -> 525.81 | I30: =SUM(I31:I35) -> 649.85
A31: Māsa/vispārējās aprūpes māsa | B31: 1 | C31: =D31+E31 -> 174 | D31: 172 | E31: 2 | G31: 6.811 | H31: =ROUND(G31*E31*2,2) -> 27.24 | I31: =ROUND(H31*1.2359,2) -> 33.67
A32: Māsa/vispārējās aprūpes māsa | B32: 1 | C32: =D32+E32 -> 183 | D32: 172 | E32: 11 | G32: 6.402 | H32: =ROUND(G32*E32*2,2) -> 140.84 | I32: =ROUND(H32*1.2359,2) -> 174.06
A33: Māsa/vispārējās aprūpes māsa | B33: 1 | C33: =D33+E33 -> 184 | D33: 172 | E33: 12 | G33: 6.811 | H33: =ROUND(G33*E33*2,2) -> 163.46 | I33: =ROUND(H33*1.2359,2) -> 202.02
A34: Māsa/vispārējās aprūpes māsa | B34: 1 | C34: =D34+E34 -> 185 | D34: 172 | E34: 13 | G34: 6.402 | H34: =ROUND(G34*E34*2,2) -> 166.45 | I34: =ROUND(H34*1.2359,2) -> 205.72
A35: Māsa/vispārējās aprūpes māsa | B35: 1 | C35: =D35+E35 -> 174 | D35: 172 | E35: 2 | G35: 6.954 | H35: =ROUND(G35*E35*2,2) -> 27.82 | I35: =ROUND(H35*1.2359,2) -> 34.38
A36: Ārstniecības un pacientu aprūpes atbalsta personas, māsu palīgi, zobārstu aistenti, kopā, tai skaitā: | B36: =SUM(B37:B39) -> 3 | E36: =SUM(E37:E39) -> 53 | H36: =SUM(H37:H39) -> 475.62 | I36: =SUM(I37:I39) -> 587.82
A37: Māsas palīgs | B37: 1 | C37: =D37+E37 -> 195 | D37: 172 | E37: 23 | G37: 4.487 | H37: =ROUND(G37*E37*2,2) -> 206.4 | I37: =ROUND(H37*1.2359,2) -> 255.09
A38: Māsas palīgs | B38: 1 | C38: =D38+E38 -> 182 | D38: 172 | E38: 10 | G38: 4.487 | H38: =ROUND(G38*E38*2,2) -> 89.74 | I38: =ROUND(H38*1.2359,2) -> 110.91
A39: Māsas palīgs | B39: 1 | C39: =D39+E39 -> 192 | D39: 172 | E39: 20 | G39: 4.487 | H39: =ROUND(G39*E39*2,2) -> 179.48 | I39: =ROUND(H39*1.2359,2) -> 221.82
A40: Pārējie darbinieki, kuri tieši iesaistīti darbā ar Covid-19, kopā, tai skaitā: | B40: =SUM(B41:B44) -> 4 | E40: =SUM(E41:E44) -> 73 | H40: =SUM(H41:H44) -> 611.59 | I40: =SUM(I41:I44) -> 755.86
A41: Sanitārs | B41: 1 | C41: =D41+E41 -> 191 | D41: 172 | E41: 19 | G41: 4.189 | H41: =ROUND(G41*E41*2,2) -> 159.18 | I41: =ROUND(H41*1.2359,2) -> 196.73
A42: Sanitārs | B42: 1 | C42: =D42+E42 -> 192 | D42: 172 | E42: 20 | G42: 4.189 | H42: =ROUND(G42*E42*2,2) -> 167.56 | I42: =ROUND(H42*1.2359,2) -> 207.09
A43: Sanitārs | B43: 1 | C43: =D43+E43 -> 190 | D43: 172 | E43: 18 | G43: 4.189 | H43: =ROUND(G43*E43*2,2) -> 150.8 | I43: =ROUND(H43*1.2359,2) -> 186.37
A44: Sanitārs | B44: 1 | C44: =D44+E44 -> 188 | D44: 172 | E44: 16 | G44: 4.189 | H44: =ROUND(G44*E44*2,2) -> 134.05 | I44: =ROUND(H44*1.2359,2) -> 165.67
A45: UZŅEMŠANAS NODAĻA | B45: =B46 -> 16 | E45: =E46 -> 401 | H45: =H46 -> 5179.36 | I45: =I46 -> 6382.01
A46: Ārstniecības un pacientu aprūpes personas un funkcionālo speciālistu asistenti, kopā, tai skaitā | B46: =SUM(B47:B62) -> 16 | E46: =SUM(E47:E62) -> 401 | H46: =SUM(H47:H62) -> 5179.36 | I46: =SUM(I47:I62) -> 6382.01
A47: Ārsta palīgs | B47: 1 | C47: =D47+E47 -> 228 | D47: 172 | E47: 56 | G47: 6.519 | H47: =ROUND(G47*E47*2,2) -> 730.13 | I47: =ROUND(H47*1.2359,2) -> 902.37
A48: Ārsta palīgs | B48: 1 | C48: =D48+E48 -> 189 | D48: 172 | E48: 17 | G48: 5.632 | H48: =ROUND(G48*E48*2,2) -> 191.49 | I48: =ROUND(H48*1.2359,2) -> 236.66
A49: Ārsta palīgs | B49: 1 | C49: =D49+E49 -> 192 | D49: 172 | E49: 20 | G49: 6.519 | H49: =ROUND(G49*E49*2,2) -> 260.76 | I49: =ROUND(H49*1.2359,2) -> 322.27
A50: Ārsta palīgs | B50: 1 | C50: =D50+E50 -> 231 | D50: 172 | E50: 59 | G50: 6.519 | H50: =ROUND(G50*E50*2,2) -> 769.24 | I50: =ROUND(H50*1.2359,2) -> 950.7
A51: Ārsta palīgs (observācijā) | B51: 1 | C51: =D51+E51 -> 196 | D51: 172 | E51: 24 | G51: 6.519 | H51: =ROUND(G51*E51*2,2) -> 312.91 | I51: =ROUND(H51*1.2194,2) -> 381.56
A52: Ārsta palīgs | B52: 1 | C52: =D52+E52 -> 180 | D52: 172 | E52: 8 | G52: 6.519 | H52: =ROUND(G52*E52*2,2) -> 104.3 | I52: =ROUND(H52*1.2194,2) -> 127.18
A53: Ārsta palīgs | B53: 1 | C53: =D53+E53 -> 224 | D53: 172 | E53: 52 | G53: 6.519 | H53: =ROUND(G53*E53*2,2) -> 677.98 | I53: =ROUND(H53*1.2194,2) -> 826.73
A54: Ārsta palīgs | B54: 1 | C54: =D54+E54 -> 177 | D54: 172 | E54: 5 | G54: 6.519 | H54: =ROUND(G54*E54*2,2) -> 65.19 | I54: =ROUND(H54*1.2194,2) -> 79.49
A55: Māsa/vispārējās aprūpes māsa | B55: 1 | C55: =D55+E55 -> 252 | D55: 172 | E55: 80 | G55: 6.519 | H55: =ROUND(G55*E55*2,2) -> 1043.04 | I55: =ROUND(H55*1.2359,2) -> 1289.09
A56: Māsa/vispārējās aprūpes māsa | B56: 1 | C56: =D56+E56 -> 184 | D56: 172 | E56: 12 | G56: 6.402 | H56: =ROUND(G56*E56*2,2) -> 153.65 | I56: =ROUND(H56*1.2359,2) -> 189.9
A57: Māsa/vispārējās aprūpes māsa | B57: 1 | C57: =D57+E57 -> 192 | D57: 172 | E57: 20 | G57: 6.402 | H57: =ROUND(G57*E57*2,2) -> 256.08 | I57: =ROUND(H57*1.2359,2) -> 316.49
A58: Māsa/vispārējās aprūpes māsa | B58: 1 | C58: =D58+E58 -> 178 | D58: 172 | E58: 6 | G58: 6.402 | H58: =ROUND(G58*E58*2,2) -> 76.82 | I58: =ROUND(H58*1.2359,2) -> 94.94
A59: Māsa/vispārējās aprūpes māsa | B59: 1 | C59: =D59+E59 -> 189 | D59: 172 | E59: 17 | G59: 6.402 | H59: =ROUND(G59*E59*2,2) -> 217.67 | I59: =ROUND(H59*1.2359,2) -> 269.02
A60: Māsa/vispārējās aprūpes māsa | B60: 1 | C60: =D60+E60 -> 184 | D60: 172 | E60: 12 | G60: 6.402 | H60: =ROUND(G60*E60*2,2) -> 153.65 | I60: =ROUND(H60*1.2359,2) -> 189.9
A61: Māsa/vispārējās aprūpes māsa | B61: 1 | C61: =D61+E61 -> 182 | D61: 172 | E61: 10 | G61: 6.402 | H61: =ROUND(G61*E61*2,2) -> 128.04 | I61: =ROUND(H61*1.2359,2) -> 158.24
A62: Māsa/vispārējās aprūpes māsa | B62: 1 | C62: =D62+E62 -> 175 | D62: 172 | E62: 3 | G62: 6.402 | H62: =ROUND(G62*E62*2,2) -> 38.41 | I62: =ROUND(H62*1.2359,2) -> 47.47
A63: ĶIRURĢIJAS NODAĻA | B63: =B64+B66+B72 -> 8 | E63: =E64+E66+E72 -> 34 | H63: =H64+H66+H72 -> 411.18 | I63: =I64+I66+I72 -> 508.16
A64: Ārsti, zobārsti un funkcionālie speciālisti, kopā, tai skaitā: | B64: =SUM(B65:B65) -> 1 | E64: =SUM(E65:E65) -> 1 | H64: =SUM(H65:H65) -> 19.29 | I64: =SUM(I65:I65) -> 23.84
A65: Ķirurgs (dežūrārsts) | B65: 1 | C65: =D65+E65 -> 173 | D65: 172 | E65: 1 | G65: 9.646 | H65: =ROUND(G65*E65*2,2) -> 19.29 | I65: =ROUND(H65*1.2359,2) -> 23.84
A66: Ārstniecības un pacientu aprūpes personas un funkcionālo speciālistu asistenti, kopā, tai skaitā: | B66: =SUM(B67:B71) -> 5 | E66: =SUM(E67:E71) -> 25 | H66: =SUM(H67:H71) -> 320.1 | I66: =SUM(I67:I71) -> 395.6
A67: Māsa/vispārējās aprūpes māsa | B67: 1 | C67: =D67+E67 -> 179 | D67: 172 | E67: 7 | G67: 6.402 | H67: =ROUND(G67*E67*2,2) -> 89.63 | I67: =ROUND(H67*1.2359,2) -> 110.77
A68: Māsa/vispārējās aprūpes māsa | B68: 1 | C68: =D68+E68 -> 178 | D68: 172 | E68: 6 | G68: 6.402 | H68: =ROUND(G68*E68*2,2) -> 76.82 | I68: =ROUND(H68*1.2359,2) -> 94.94
A69: Māsa/vispārējās aprūpes māsa | B69: 1 | C69: =D69+E69 -> 174 | D69: 172 | E69: 2 | G69: 6.402 | H69: =ROUND(G69*E69*2,2) -> 25.61 | I69: =ROUND(H69*1.2359,2) -> 31.65
A70: Māsa/vispārējās aprūpes māsa | B70: 1 | C70: =D70+E70 -> 179 | D70: 172 | E70: 7 | G70: 6.402 | H70: =ROUND(G70*E70*2,2) -> 89.63 | I70: =ROUND(H70*1.2359,2) -> 110.77
A71: Māsa/vispārējās aprūpes māsa | B71: 1 | C71: =D71+E71 -> 175 | D71: 172 | E71: 3 | G71: 6.402 | H71: =ROUND(G71*E71*2,2) -> 38.41 | I71: =ROUND(H71*1.2359,2) -> 47.47
A72: Ārstniecības un pacientu aprūpes atbalsta personas, māsu palīgi, zobārstu aistenti, kopā, tai skaitā: | B72: =SUM(B73:B74) -> 2 | E72: =SUM(E73:E74) -> 8 | H72: =SUM(H73:H74) -> 71.79 | I72: =SUM(I73:I74) -> 88.72
A73: Māsas palīgs | B73: 1 | C73: =D73+E73 -> 175 | D73: 172 | E73: 3 | G73: 4.487 | H73: =ROUND(G73*E73*2,2) -> 26.92 | I73: =ROUND(H73*1.2359,2) -> 33.27
A74: Māsas palīgs | B74: 1 | C74: =D74+E74 -> 177 | D74: 172 | E74: 5 | G74: 4.487 | H74: =ROUND(G74*E74*2,2) -> 44.87 | I74: =ROUND(H74*1.2359,2) -> 55.45
A75: BĒRNU NODAĻA | B75: =B76+B78 -> 4 | E75: =E76+E78 -> 124 | H75: =H76+H78 -> 1672.98 | I75: =I76+I78 -> 2067.64
A76: Ārsti, zobārsti un funkcionālie speciālisti, kopā, tai skaitā: | B76: =SUM(B77:B77) -> 1 | E76: =SUM(E77:E77) -> 12 | H76: =SUM(H77:H77) -> 238.94 | I76: =SUM(I77:I77) -> 295.31
A77: Pediatrs (dežūrārsts) | B77: 1 | C77: =D77+E77 -> 184 | D77: 172 | E77: 12 | G77: 9.956 | H77: =ROUND(G77*E77*2,2) -> 238.94 | I77: =ROUND(H77*1.2359,2) -> 295.31
A78: Ārstniecības un pacientu aprūpes personas un funkcionālo speciālistu asistenti, kopā, tai skaitā: | B78: =SUM(B79:B81) -> 3 | E78: =SUM(E79:E81) -> 112 | H78: =SUM(H79:H81) -> 1434.04 | I78: =SUM(I79:I81) -> 1772.33
A79: Māsa/vispārējās aprūpes māsa | B79: 1 | C79: =D79+E79 -> 208 | D79: 172 | E79: 36 | G79: 6.402 | H79: =ROUND(G79*E79*2,2) -> 460.94 | I79: =ROUND(H79*1.2359,2) -> 569.68
A80: Māsa/vispārējās aprūpes māsa | B80: 1 | C80: =D80+E80 -> 205 | D80: 172 | E80: 33 | G80: 6.402 | H80: =ROUND(G80*E80*2,2) -> 422.53 | I80: =ROUND(H80*1.2359,2) -> 522.2
A81: Māsa/vispārējās aprūpes māsa | B81: 1 | C81: =D81+E81 -> 215 | D81: 172 | E81: 43 | G81: 6.402 | H81: =ROUND(G81*E81*2,2) -> 550.57 | I81: =ROUND(H81*1.2359,2) -> 680.45
A83: Samazināta VSAOI likme - 20,77% vai 21,94%

Sheet Z-Kurzeme_aug
H1: 1.7.Pielikums
A2: Pārskats par darba veicējiem (ārstniecības personām), virs normālā darba laika nostrādātām stundām, apmaksājamām stundām un izdevumiem, kas radušies saistībā ar mērķi ierobežot Covid-19 izplatību
A4: Iestādes nosaukums: SIA "Ziemeļkurzemes reģionālā slimnīca"
A5: Pārskata mēnesis: Augusts
B7: Nodarbināto skaits mēnesī | C7: Apmaksājamais laiks mēnesī, stundas (tai skaitā summētā darba laika ietvaros) | F7: Mēnešalga no kuras rēķina stundas likmi | G7: Stundas likme (aprēķināta atbilstoši mēnešalgai vai darba līgumā noteiktā stundas likme) | H7: Apmaksājamā 100% piemaksa par nostrādātām virsstundām virs normālā darba laika (tai skaitā summētā darba laika ietvaros) | I7: Izdevumi par virsstundām kopā ar VSOAI, EUR
C8: Kopā | D8: līdz normālam darba laikam | E8: virsstundas - virs normālā darba laika, kas saistītas ar darbu ar Covid-19
A9: 1 | B9: 2 | C9: 3=4+5 | D9: 4 | E9: 5 | F9: 6 | G9: 7 | H9: 8 | I9: 9=8+VSOAI
A10: KOPĀ | B10: =B11+B24+B35+B43+B68+B95+B100+B111 -> 77 | E10: =E11+E24+E35+E43+E68+E95+E100+E111 -> 1339 | H10: =H11+H24+H35+H43+H68+H95+H100+H111 -> 16124.14 | I10: =I11+I24+I35+I43+I68+I95+I100+I111 -> 19868.32
A11: INFEKCIJAS NODAĻA | B11: =B12+B20+B18 -> 9 | E11: =E12+E20+E18 -> 347 | H11: =H12+H20+H18 -> 4014.05 | I11: =I12+I20+I18 -> 4908.61
A12: Ārstniecības un pacientu aprūpes personas un funkcionālo speciālistu asistenti, kopā, tai skaitā: | B12: =SUM(B13:B17) -> 5 | E12: =SUM(E13:E17) -> 143 | H12: =SUM(H13:H17) -> 2014.58 | I12: =SUM(I13:I17) -> 2471.14
A13: Māsa/vispārējās aprūpes māsa | B13: 1 | C13: =D13+E13 -> 205 | D13: 158 | E13: 47 | G13: 7.044 | H13: =ROUND(G13*E13*2,2) -> 662.14 | I13: =ROUND(H13*1.2077,2) -> 799.67
A14: Māsa/vispārējās aprūpes māsa | B14: 1 | C14: =D14+E14 -> 171 | D14: 158 | E14: 13 | G14: 7.044 | H14: =ROUND(G14*E14*2,2) -> 183.14 | I14: =ROUND(H14*1.2359,2) -> 226.34
A15: Māsa/vispārējās aprūpes māsa | B15: 1 | C15: =D15+E15 -> 164 | D15: 158 | E15: 6 | G15: 7.044 | H15: =ROUND(G15*E15*2,2) -> 84.53 | I15: =ROUND(H15*1.2359,2) -> 104.47
A16: Māsa/vispārējās aprūpes māsa | B16: 1 | C16: =D16+E16 -> 207 | D16: 158 | E16: 49 | G16: 7.044 | H16: =ROUND(G16*E16*2,2) -> 690.31 | I16: =ROUND(H16*1.2359,2) -> 853.15
A17: Māsa/vispārējās aprūpes māsa | B17: 1 | C17: =D17+E17 -> 186 | D17: 158 | E17: 28 | G17: 7.044 | H17: =ROUND(G17*E17*2,2) -> 394.46 | I17: =ROUND(H17*1.2359,2) -> 487.51
A18: Ārstniecības un pacientu aprūpes atbalsta personas, māsu palīgi, zobārstu aistenti, kopā, tai skaitā: | B18: =SUM(B19:B19) -> 1 | E18: =SUM(E19:E19) -> 65 | H18: =SUM(H19:H19) -> 667.29 | I18: =SUM(I19:I19) -> 805.89
A19: Māsas palīgs | B19: 1 | C19: =D19+E19 -> 223 | D19: 158 | E19: 65 | G19: 5.133 | H19: =ROUND(G19*E19*2,2) -> 667.29 | I19: =ROUND(H19*1.2077,2) -> 805.89
A20: Pārējie darbinieki, kuri tieši iesaistīti darbā ar Covid-19, kopā, tai skaitā: | B20: =SUM(B21:B23) -> 3 | E20: =SUM(E21:E23) -> 139 | H20: =SUM(H21:H23) -> 1332.18 | I20: =SUM(I21:I23) -> 1631.58
A21: Sanitārs | B21: 1 | C21: =D21+E21 -> 213 | D21: 158 | E21: 55 | G21: 4.792 | H21: =ROUND(G21*E21*2,2) -> 527.12 | I21: =ROUND(H21*1.2077,2) -> 636.6
A22: Sanitārs | B22: 1 | C22: =D22+E22 -> 213 | D22: 158 | E22: 55 | G22: 4.792 | H22: =ROUND(G22*E22*2,2) -> 527.12 | I22: =ROUND(H22*1.2359,2) -> 651.47
A23: Sanitārs | B23: 1 | C23: =D23+E23 -> 187 | D23: 158 | E23: 29 | G23: 4.792 | H23: =ROUND(G23*E23*2,2) -> 277.94 | I23: =ROUND(H23*1.2359,2) -> 343.51
A24: IEKŠĶĪGO SLIMĪBU NODAĻA | B24: =B25+B31 -> 8 | E24: =E25+E31 -> 90 | H24: =H25+H31 -> 1619.51 | I24: =I25+I31 -> 2001.56
A25: Ārsti, zobārsti un funkcionālie speciālisti, kopā, tai skaitā: | B25: =SUM(B26:B30) -> 5 | E25: =SUM(E26:E30) -> 66 | H25: =SUM(H26:H30) -> 1290.01 | I25: =SUM(I26:I30) -> 1594.33
A26: Internists | B26: 1 | C26: =D26+E26 -> 203 | D26: 181 | E26: 22 | G26: 9.646 | H26: =ROUND(G26*E26*2,2) -> 424.42 | I26: =ROUND(H26*1.2359,2) -> 524.54
A27: Internists | B27: 1 | C27: =D27+E27 -> 198 | D27: 181 | E27: 17 | G27: 9.646 | H27: =ROUND(G27*E27*2,2) -> 327.96 | I27: =ROUND(H27*1.2359,2) -> 405.33
A28: Internists (dežūrārsts) | B28: 1 | C28: =D28+E28 -> 185 | D28: 181 | E28: 4 | G28: 9.956 | H28: =ROUND(G28*E28*2,2) -> 79.65 | I28: =ROUND(H28*1.2359,2) -> 98.44
A29: Internists (dežūrārsts) | B29: 1 | C29: =D29+E29 -> 189 | D29: 181 | E29: 8 | G29: 9.956 | H29: =ROUND(G29*E29*2,2) -> 159.3 | I29: =ROUND(H29*1.2359,2) -> 196.88
A30: Internists (dežūrārsts) | B30: 1 | C30: =D30+E30 -> 196 | D30: 181 | E30: 15 | G30: 9.956 | H30: =ROUND(G30*E30*2,2) -> 298.68 | I30: =ROUND(H30*1.2359,2) -> 369.14
A31: Ārstniecības un pacientu aprūpes personas un funkcionālo speciālistu asistenti, kopā, tai skaitā: | B31: =SUM(B32:B34) -> 3 | E31: =SUM(E32:E34) -> 24 | H31: =SUM(H32:H34) -> 329.5 | I31: =SUM(I32:I34) -> 407.23
A32: Māsa/vispārējās aprūpes māsa | B32: 1 | C32: =D32+E32 -> 192 | D32: 181 | E32: 11 | G32: 6.811 | H32: =ROUND(G32*E32*2,2) -> 149.84 | I32: =ROUND(H32*1.2359,2) -> 185.19
A33: Māsa/vispārējās aprūpes māsa | B33: 1 | C33: =D33+E33 -> 190 | D33: 181 | E33: 9 | G33: 6.954 | H33: =ROUND(G33*E33*2,2) -> 125.17 | I33: =ROUND(H33*1.2359,2) -> 154.7
A34: Māsa/vispārējās aprūpes māsa | B34: 1 | C34: =D34+E34 -> 185 | D34: 181 | E34: 4 | G34: 6.811 | H34: =ROUND(G34*E34*2,2) -> 54.49 | I34: =ROUND(H34*1.2359,2) -> 67.34
A35: KARDIOLOĢIJAS NODAĻA | B35: =B36+B38 -> 5 | E35: =E36+E38 -> 17 | H35: =H36+H38 -> 239.44 | I35: =I36+I38 -> 295.19
A36: Ārsti, zobārsti un funkcionālie speciālisti, kopā, tai skaitā: | B36: =SUM(B37:B37) -> 1 | E36: =SUM(E37:E37) -> 3 | H36: =SUM(H37:H37) -> 57.84 | I36: =SUM(I37:I37) -> 71.48
A37: Kardiologs | B37: 1 | C37: =D37+E37 -> 184 | D37: 181 | E37: 3 | G37: 9.64 | H37: =ROUND(G37*E37*2,2) -> 57.84 | I37: =ROUND(H37*1.2359,2) -> 71.48
A38: Ārstniecības un pacientu aprūpes personas un funkcionālo speciālistu asistenti, kopā, tai skaitā: | B38: =SUM(B39:B42) -> 4 | E38: =SUM(E39:E42) -> 14 | H38: =SUM(H39:H42) -> 181.6 | I38: =SUM(I39:I42) -> 223.71
A39: Māsa/vispārējās aprūpes māsa | B39: 1 | C39: =D39+E39 -> 183 | D39: 181 | E39: 2 | G39: 6.402 | H39: =ROUND(G39*E39*2,2) -> 25.61 | I39: =ROUND(H39*1.2077,2) -> 30.93
A40: Māsa/vispārējās aprūpes māsa | B40: 1 | C40: =D40+E40 -> 183 | D40: 181 | E40: 2 | G40: 6.402 | H40: =ROUND(G40*E40*2,2) -> 25.61 | I40: =ROUND(H40*1.2359,2) -> 31.65
A41: Māsa/vispārējās aprūpes māsa | B41: 1 | C41: =D41+E41 -> 189 | D41: 181 | E41: 8 | G41: 6.519 | H41: =ROUND(G41*E41*2,2) -> 104.3 | I41: =ROUND(H41*1.2359,2) -> 128.9
A42: Māsa/vispārējās aprūpes māsa | B42: 1 | C42: =D42+E42 -> 183 | D42: 181 | E42: 2 | G42: 6.519 | H42: =ROUND(G42*E42*2,2) -> 26.08 | I42: =ROUND(H42*1.2359,2) -> 32.23
A43: NEIROLOĢIJAS NODAĻA | B43: =B44+B48+B58+B63 -> 20 | E43: =E44+E48+E58+E63 -> 313 | H43: =H44+H48+H58+H63 -> 3762.01 | I43: =I44+I48+I58+I63 -> 4649.46
A44: Ārsti, zobārsti un funkcionālie speciālisti, kopā, tai skaitā: | B44: =SUM(B45:B47) -> 3 | E44: =SUM(E45:E47) -> 59 | H44: =SUM(H45:H47) -> 1156.21 | I44: =SUM(I45:I47) -> 1428.96
A45: Neirologs | B45: 1 | C45: =D45+E45 -> 203 | D45: 181 | E45: 22 | G45: 9.646 | H45: =ROUND(G45*E45*2,2) -> 424.42 | I45: =ROUND(H45*1.2359,2) -> 524.54
A46: Neirologs | B46: 1 | C46: =D46+E46 -> 189 | D46: 181 | E46: 8 | G46: 9.646 | H46: =ROUND(G46*E46*2,2) -> 154.34 | I46: =ROUND(H46*1.2359,2) -> 190.75
A47: Neirologs (dežūrārsts) | B47: 1 | C47: =D47+E47 -> 210 | D47: 181 | E47: 29 | G47: 9.956 | H47: =ROUND(G47*E47*2,2) -> 577.45 | I47: =ROUND(H47*1.2359,2) -> 713.67
A48: Ārstniecības un pacientu aprūpes personas un funkcionālo speciālistu asistenti, kopā, tai skaitā: | B48: =SUM(B49:B57) -> 9 | E48: =SUM(E49:E57) -> 88 | H48: =SUM(H49:H57) -> 1157.83 | I48: =SUM(I49:I57) -> 1430.96
A49: Māsa/vispārējās aprūpes māsa | B49: 1 | C49: =D49+E49 -> 186 | D49: 181 | E49: 5 | G49: 6.811 | H49: =ROUND(G49*E49*2,2) -> 68.11 | I49: =ROUND(H49*1.2359,2) -> 84.18
A50: Māsa/vispārējās aprūpes māsa | B50: 1 | C50: =D50+E50 -> 190 | D50: 181 | E50: 9 | G50: 6.811 | H50: =ROUND(G50*E50*2,2) -> 122.6 | I50: =ROUND(H50*1.2359,2) -> 151.52
A51: Māsa/vispārējās aprūpes māsa | B51: 1 | C51: =D51+E51 -> 188 | D51: 181 | E51: 7 | G51: 6.811 | H51: =ROUND(G51*E51*2,2) -> 95.35 | I51: =ROUND(H51*1.2359,2) -> 117.84
A52: Māsa/vispārējās aprūpes māsa | B52: 1 | C52: =D52+E52 -> 186 | D52: 181 | E52: 5 | G52: 6.811 | H52: =ROUND(G52*E52*2,2) -> 68.11 | I52: =ROUND(H52*1.2359,2) -> 84.18
A53: Māsa/vispārējās aprūpes māsa | B53: 1 | C53: =D53+E53 -> 184 | D53: 181 | E53: 3 | G53: 6.402 | H53: =ROUND(G53*E53*2,2) -> 38.41 | I53: =ROUND(H53*1.2359,2) -> 47.47
A54: Māsa/vispārējās aprūpes māsa | B54: 1 | C54: =D54+E54 -> 202 | D54: 181 | E54: 21 | G54: 6.402 | H54: =ROUND(G54*E54*2,2) -> 268.88 | I54: =ROUND(H54*1.2359,2) -> 332.31
A55: Māsa/vispārējās aprūpes māsa | B55: 1 | C55: =D55+E55 -> 193 | D55: 181 | E55: 12 | G55: 6.811 | H55: =ROUND(G55*E55*2,2) -> 163.46 | I55: =ROUND(H55*1.2359,2) -> 202.02
A56: Māsa/vispārējās aprūpes māsa | B56: 1 | C56: =D56+E56 -> 185 | D56: 181 | E56: 4 | G56: 6.402 | H56: =ROUND(G56*E56*2,2) -> 51.22 | I56: =ROUND(H56*1.2359,2) -> 63.3
A57: Māsa/vispārējās aprūpes māsa | B57: 1 | C57: =D57+E57 -> 203 | D57: 181 | E57: 22 | G57: 6.402 | H57: =ROUND(G57*E57*2,2) -> 281.69 | I57: =ROUND(H57*1.2359,2) -> 348.14
A58: Ārstniecības un pacientu aprūpes atbalsta personas, māsu palīgi, zobārstu aistenti, kopā, tai skaitā: | B58: =SUM(B59:B62) -> 4 | E58: =SUM(E59:E62) -> 96 | H58: =SUM(H59:H62) -> 861.51 | I58: =SUM(I59:I62) -> 1064.74
A59: Māsas palīgs | B59: 1 | C59: =D59+E59 -> 193 | D59: 181 | E59: 12 | G59: 4.487 | H59: =ROUND(G59*E59*2,2) -> 107.69 | I59: =ROUND(H59*1.2359,2) -> 133.09
A60: Māsas palīgs | B60: 1 | C60: =D60+E60 -> 194 | D60: 181 | E60: 13 | G60: 4.487 | H60: =ROUND(G60*E60*2,2) -> 116.66 | I60: =ROUND(H60*1.2359,2) -> 144.18
A61: Māsas palīgs | B61: 1 | C61: =D61+E61 -> 228 | D61: 181 | E61: 47 | G61: 4.487 | H61: =ROUND(G61*E61*2,2) -> 421.78 | I61: =ROUND(H61*1.2359,2) -> 521.28
A62: Māsas palīgs | B62: 1 | C62: =D62+E62 -> 205 | D62: 181 | E62: 24 | G62: 4.487 | H62: =ROUND(G62*E62*2,2) -> 215.38 | I62: =ROUND(H62*1.2359,2) -> 266.19
A63: Pārējie darbinieki, kuri tieši iesaistīti darbā ar Covid-19, kopā, tai skaitā: | B63: =SUM(B64:B67) -> 4 | E63: =SUM(E64:E67) -> 70 | H63: =SUM(H64:H67) -> 586.46 | I63: =SUM(I64:I67) -> 724.8
A64: Sanitārs | B64: 1 | C64: =D64+E64 -> 205 | D64: 181 | E64: 24 | G64: 4.189 | H64: =ROUND(G64*E64*2,2) -> 201.07 | I64: =ROUND(H64*1.2359,2) -> 248.5
A65: Sanitārs | B65: 1 | C65: =D65+E65 -> 198 | D65: 181 | E65: 17 | G65: 4.189 | H65: =ROUND(G65*E65*2,2) -> 142.43 | I65: =ROUND(H65*1.2359,2) -> 176.03
A66: Sanitārs | B66: 1 | C66: =D66+E66 -> 205 | D66: 181 | E66: 24 | G66: 4.189 | H66: =ROUND(G66*E66*2,2) -> 201.07 | I66: =ROUND(H66*1.2359,2) -> 248.5
A67: Sanitārs | B67: 1 | C67: =D67+E67 -> 186 | D67: 181 | E67: 5 | G67: 4.189 | H67: =ROUND(G67*E67*2,2) -> 41.89 | I67: =ROUND(H67*1.2359,2) -> 51.77
A68: UZŅEMŠANAS NODAĻA | B68: =B69+B85+B91 -> 23 | E68: =E69+E85+E91 -> 504 | H68: =H69+H85+H91 -> 5556.6 | I68: =I69+I85+I91 -> 6860.96
A69: Ārstniecības un pacientu aprūpes personas un funkcionālo speciālistu asistenti, kopā, tai skaitā: | B69: =SUM(B70:B84) -> 15 | E69: =SUM(E70:E84) -> 286 | H69: =SUM(H70:H84) -> 3674.77 | I69: =SUM(I70:I84) -> 4535.2
A70: Ārsta palīgs | B70: 1 | C70: =D70+E70 -> 194 | D70: 181 | E70: 13 | G70: 6.519 | H70: =ROUND(G70*E70*2,2) -> 169.49 | I70: =ROUND(H70*1.2359,2) -> 209.47
A71: Ārsta palīgs | B71: 1 | C71: =D71+E71 -> 211 | D71: 181 | E71: 30 | G71: 6.519 | H71: =ROUND(G71*E71*2,2) -> 391.14 | I71: =ROUND(H71*1.2194,2) -> 476.96
A72: Ārsta palīgs | B72: 1 | C72: =D72+E72 -> 203 | D72: 181 | E72: 22 | G72: 6.519 | H72: =ROUND(G72*E72*2,2) -> 286.84 | I72: =ROUND(H72*1.2359,2) -> 354.51
A73: Ārsta palīgs | B73: 1 | C73: =D73+E73 -> 203 | D73: 181 | E73: 22 | G73: 6.519 | H73: =ROUND(G73*E73*2,2) -> 286.84 | I73: =ROUND(H73*1.2359,2) -> 354.51
A74: Ārsta palīgs | B74: 1 | C74: =D74+E74 -> 190 | D74: 181 | E74: 9 | G74: 5.632 | H74: =ROUND(G74*E74*2,2) -> 101.38 | I74: =ROUND(H74*1.2359,2) -> 125.3
A75: Māsa/vispārējās aprūpes māsa | B75: 1 | C75: =D75+E75 -> 208 | D75: 181 | E75: 27 | G75: 6.519 | H75: =ROUND(G75*E75*2,2) -> 352.03 | I75: =ROUND(H75*1.2359,2) -> 435.07
A76: Māsa/vispārējās aprūpes māsa | B76: 1 | C76: =D76+E76 -> 190 | D76: 181 | E76: 9 | G76: 6.402 | H76: =ROUND(G76*E76*2,2) -> 115.24 | I76: =ROUND(H76*1.2359,2) -> 142.43
A77: Māsa/vispārējās aprūpes māsa | B77: 1 | C77: =D77+E77 -> 212 | D77: 181 | E77: 31 | G77: 6.402 | H77: =ROUND(G77*E77*2,2) -> 396.92 | I77: =ROUND(H77*1.2359,2) -> 490.55
A78: Māsa/vispārējās aprūpes māsa | B78: 1 | C78: =D78+E78 -> 224 | D78: 181 | E78: 43 | G78: 6.402 | H78: =ROUND(G78*E78*2,2) -> 550.57 | I78: =ROUND(H78*1.2359,2) -> 680.45
A79: Māsa/vispārējās aprūpes māsa | B79: 1 | C79: =D79+E79 -> 204 | D79: 181 | E79: 23 | G79: 6.402 | H79: =ROUND(G79*E79*2,2) -> 294.49 | I79: =ROUND(H79*1.2359,2) -> 363.96
A80: Māsa/vispārējās aprūpes māsa | B80: 1 | C80: =D80+E80 -> 191 | D80: 181 | E80: 10 | G80: 6.402 | H80: =ROUND(G80*E80*2,2) -> 128.04 | I80: =ROUND(H80*1.2359,2) -> 158.24
A81: Māsa/vispārējās aprūpes māsa | B81: 1 | C81: =D81+E81 -> 192 | D81: 181 | E81: 11 | G81: 6.402 | H81: =ROUND(G81*E81*2,2) -> 140.84 | I81: =ROUND(H81*1.2359,2) -> 174.06
A82: Māsa/vispārējās aprūpes māsa | B82: 1 | C82: =D82+E82 -> 195 | D82: 181 | E82: 14 | G82: 6.402 | H82: =ROUND(G82*E82*2,2) -> 179.26 | I82: =ROUND(H82*1.2359,2) -> 221.55
A83: Māsa/vispārējās aprūpes māsa | B83: 1 | C83: =D83+E83 -> 185 | D83: 181 | E83: 4 | G83: 6.402 | H83: =ROUND(G83*E83*2,2) -> 51.22 | I83: =ROUND(H83*1.2359,2) -> 63.3
A84: Māsa/vispārējās aprūpes māsa | B84: 1 | C84: =D84+E84 -> 199 | D84: 181 | E84: 18 | G84: 6.402 | H84: =ROUND(G84*E84*2,2) -> 230.47 | I84: =ROUND(H84*1.2359,2) -> 284.84
A85: Ārstniecības un pacientu aprūpes atbalsta personas, māsu palīgi, zobārstu aistenti, kopā, tai skaitā: | B85: =SUM(B86:B90) -> 5 | E85: =SUM(E86:E90) -> 93 | H85: =SUM(H86:H90) -> 834.58 | I85: =SUM(I86:I90) -> 1031.46
A86: Māsas palīgs | B86: 1 | C86: =D86+E86 -> 188 | D86: 181 | E86: 7 | G86: 4.487 | H86: =ROUND(G86*E86*2,2) -> 62.82 | I86: =ROUND(H86*1.2359,2) -> 77.64
A87: Māsas palīgs | B87: 1 | C87: =D87+E87 -> 216 | D87: 181 | E87: 35 | G87: 4.487 | H87: =ROUND(G87*E87*2,2) -> 314.09 | I87: =ROUND(H87*1.2359,2) -> 388.18
A88: Māsas palīgs | B88: 1 | C88: =D88+E88 -> 207 | D88: 181 | E88: 26 | G88: 4.487 | H88: =ROUND(G88*E88*2,2) -> 233.32 | I88: =ROUND(H88*1.2359,2) -> 288.36
A89: Māsas palīgs | B89: 1 | C89: =D89+E89 -> 195 | D89: 181 | E89: 14 | G89: 4.487 | H89: =ROUND(G89*E89*2,2) -> 125.64 | I89: =ROUND(H89*1.2359,2) -> 155.28
A90: Māsas palīgs | B90: 1 | C90: =D90+E90 -> 192 | D90: 181 | E90: 11 | G90: 4.487 | H90: =ROUND(G90*E90*2,2) -> 98.71 | I90: =ROUND(H90*1.2359,2) -> 122
A91: Pārējie darbinieki, kuri tieši iesaistīti darbā ar Covid-19, kopā, tai skaitā: | B91: =SUM(B92:B94) -> 3 | E91: =SUM(E92:E94) -> 125 | H91: =SUM(H92:H94) -> 1047.25 | I91: =SUM(I92:I94) -> 1294.3
A92: Sanitārs | B92: 1 | C92: =D92+E92 -> 198 | D92: 181 | E92: 17 | G92: 4.189 | H92: =ROUND(G92*E92*2,2) -> 142.43 | I92: =ROUND(H92*1.2359,2) -> 176.03
A93: Sanitārs | B93: 1 | C93: =D93+E93 -> 211 | D93: 181 | E93: 30 | G93: 4.189 | H93: =ROUND(G93*E93*2,2) -> 251.34 | I93: =ROUND(H93*1.2359,2) -> 310.63
A94: Sanitārs | B94: 1 | C94: =D94+E94 -> 259 | D94: 181 | E94: 78 | G94: 4.189 | H94: =ROUND(G94*E94*2,2) -> 653.48 | I94: =ROUND(H94*1.2359,2) -> 807.64
A95: Diagnostikas nodaļa | B95: =B96 -> 3 | E95: =E96 -> 18 | H95: =H96 -> 285.81 | I95: =I96 -> 353.24
A96: Ārstniecības un pacientu aprūpes personas un funkcionālo speciālistu asistenti, kopā, tai skaitā: | B96: =SUM(B97:B99) -> 3 | E96: =SUM(E97:E99) -> 18 | H96: =SUM(H97:H99) -> 285.81 | I96: =SUM(I97:I99) -> 353.24
A97: Radiologa asistents | B97: 1 | C97: =D97+E97 -> 187 | D97: 181 | E97: 6 | G97: 8.223 | H97: =ROUND(G97*E97*2,2) -> 98.68 | I97: =ROUND(H97*1.2359,2) -> 121.96
A98: Radiologa asistents | B98: 1 | C98: =D98+E98 -> 187 | D98: 181 | E98: 6 | G98: 8.223 | H98: =ROUND(G98*E98*2,2) -> 98.68 | I98: =ROUND(H98*1.2359,2) -> 121.96
A99: Radiologa asistents | B99: 1 | C99: =D99+E99 -> 187 | D99: 181 | E99: 6 | G99: 7.371 | H99: =ROUND(G99*E99*2,2) -> 88.45 | I99: =ROUND(H99*1.2359,2) -> 109.32
A100: ĶIRURĢIJAS NODAĻA | B100: =B101+B103+B107 -> 7 | E100: =E101+E103+E107 -> 48 | H100: =H101+H103+H107 -> 614.01 | I100: =I101+I103+I107 -> 758.87
A101: Ārsti, zobārsti un funkcionālie speciālisti, kopā, tai skaitā: | B101: =SUM(B102:B102) -> 1 | C101: =SUM(C102:C102) -> 189 | D101: =SUM(D102:D102) -> 181 | E101: =SUM(E102:E102) -> 8 | H101: =SUM(H102:H102) -> 159.3 | I101: =SUM(I102:I102) -> 196.88
A102: Ķirurgs (dežūrārsts) | B102: 1 | C102: =D102+E102 -> 189 | D102: 181 | E102: 8 | G102: 9.956 | H102: =ROUND(G102*E102*2,2) -> 159.3 | I102: =ROUND(H102*1.2359,2) -> 196.88
...

Sheet Z-Kurzeme_sept
H1: 1.8.Pielikums
A2: Pārskats par darba veicējiem (ārstniecības personām), virs normālā darba laika nostrādātām stundām, apmaksājamām stundām un izdevumiem, kas radušies saistībā ar mērķi ierobežot Covid-19 izplatību
A4: Iestādes nosaukums: SIA "Ziemeļkurzemes reģionālā slimnīca"
A5: Pārskata mēnesis: Septembris
B7: Nodarbināto skaits mēnesī | C7: Apmaksājamais laiks mēnesī, stundas (tai skaitā summētā darba laika ietvaros) | F7: Mēnešalga no kuras rēķina stundas likmi | G7: Stundas likme (aprēķināta atbilstoši mēnešalgai vai darba līgumā noteiktā stundas likme) | H7: Apmaksājamā 100% piemaksa par nostrādātām virsstundām virs normālā darba laika (tai skaitā summētā darba laika ietvaros) | I7: Izdevumi par virsstundām kopā ar VSOAI, EUR
C8: Kopā | D8: līdz normālam darba laikam | E8: virsstundas - virs normālā darba laika, kas saistītas ar darbu ar Covid-19
A9: 1 | B9: 2 | C9: 3=4+5 | D9: 4 | E9: 5 | F9: 6 | G9: 7 | H9: 8 | I9: 9=8+VSOAI
A10: KOPĀ | B10: =B11+B24+B35+B46+B71+B96+B109 -> 80 | E10: =E11+E24+E35+E46+E71+E96+E109 -> 1895 | H10: =H11+H24+H35+H46+H71+H96+H109 -> 23289.82 | I10: =I11+I24+I35+I46+I71+I96+I109 -> 28783.49
A11: INFEKCIJAS NODAĻA | B11: =B12+B18+B20 -> 9 | E11: =E12+E18+E20 -> 492 | H11: =H12+H18+H20 -> 5837.36 | I11: =I12+I18+I20 -> 7214.38
A12: Ārstniecības un pacientu aprūpes personas un funkcionālo speciālistu asistenti, kopā, tai skaitā: | B12: =SUM(B13:B17) -> 5 | E12: =SUM(E13:E17) -> 242 | H12: =SUM(H13:H17) -> 3409.31 | I12: =SUM(I13:I17) -> 4213.56
A13: Māsa/vispārējās aprūpes māsa | B13: 1 | C13: =D13+E13 -> 164 | D13: 152 | E13: 12 | G13: 7.044 | H13: =ROUND(G13*E13*2,2) -> 169.06 | I13: =ROUND(H13*1.2359,2) -> 208.94
A14: Māsa/vispārējās aprūpes māsa | B14: 1 | C14: =D14+E14 -> 239 | D14: 152 | E14: 87 | G14: 7.044 | H14: =ROUND(G14*E14*2,2) -> 1225.66 | I14: =ROUND(H14*1.2359,2) -> 1514.79
A15: Māsa/vispārējās aprūpes māsa | B15: 1 | C15: =D15+E15 -> 169 | D15: 152 | E15: 17 | G15: 7.044 | H15: =ROUND(G15*E15*2,2) -> 239.5 | I15: =ROUND(H15*1.2359,2) -> 296
A16: Māsa/vispārējās aprūpes māsa | B16: 1 | C16: =D16+E16 -> 197 | D16: 152 | E16: 45 | G16: 7.044 | H16: =ROUND(G16*E16*2,2) -> 633.96 | I16: =ROUND(H16*1.2359,2) -> 783.51
A17: Māsa/vispārējās aprūpes māsa | B17: 1 | C17: =D17+E17 -> 233 | D17: 152 | E17: 81 | G17: 7.044 | H17: =ROUND(G17*E17*2,2) -> 1141.13 | I17: =ROUND(H17*1.2359,2) -> 1410.32
A18: Ārstniecības un pacientu aprūpes atbalsta personas, māsu palīgi, zobārstu aistenti, kopā, tai skaitā: | B18: =SUM(B19:B19) -> 1 | E18: =SUM(E19:E19) -> 47 | H18: =SUM(H19:H19) -> 482.5 | I18: =SUM(I19:I19) -> 596.32
A19: Māsas palīgs | B19: 1 | C19: =D19+E19 -> 199 | D19: 152 | E19: 47 | G19: 5.133 | H19: =ROUND(G19*E19*2,2) -> 482.5 | I19: =ROUND(H19*1.2359,2) -> 596.32
A20: Pārējie darbinieki, kuri tieši iesaistīti darbā ar Covid-19, kopā, tai skaitā: | B20: =SUM(B21:B23) -> 3 | E20: =SUM(E21:E23) -> 203 | H20: =SUM(H21:H23) -> 1945.55 | I20: =SUM(I21:I23) -> 2404.5
A21: Sanitārs | B21: 1 | C21: =D21+E21 -> 202 | D21: 152 | E21: 50 | G21: 4.792 | H21: =ROUND(G21*E21*2,2) -> 479.2 | I21: =ROUND(H21*1.2359,2) -> 592.24
A22: Sanitārs | B22: 1 | C22: =D22+E22 -> 244 | D22: 152 | E22: 92 | G22: 4.792 | H22: =ROUND(G22*E22*2,2) -> 881.73 | I22: =ROUND(H22*1.2359,2) -> 1089.73
A23: Sanitārs | B23: 1 | C23: =D23+E23 -> 213 | D23: 152 | E23: 61 | G23: 4.792 | H23: =ROUND(G23*E23*2,2) -> 584.62 | I23: =ROUND(H23*1.2359,2) -> 722.53
A24: IEKŠĶĪGO SLIMĪBU NODAĻA | B24: =B25+B30+B33 -> 7 | E24: =E25+E30+E33 -> 35 | H24: =H25+H30+H33 -> 614.54 | I24: =I25+I30+I33 -> 759.52
A25: Ārsti, zobārsti un funkcionālie speciālisti, kopā, tai skaitā: | B25: =SUM(B26:B29) -> 4 | E25: =SUM(E26:E29) -> 24 | H25: =SUM(H26:H29) -> 467.34 | I25: =SUM(I26:I29) -> 577.59
A26: Internists | B26: 1 | C26: =D26+E26 -> 185 | D26: 174 | E26: 11 | G26: 9.646 | H26: =ROUND(G26*E26*2,2) -> 212.21 | I26: =ROUND(H26*1.2359,2) -> 262.27
A27: Internists | B27: 1 | C27: =D27+E27 -> 180 | D27: 174 | E27: 6 | G27: 9.646 | H27: =ROUND(G27*E27*2,2) -> 115.75 | I27: =ROUND(H27*1.2359,2) -> 143.06
A28: Internists (dežūrārsts) | B28: 1 | C28: =D28+E28 -> 179 | D28: 174 | E28: 5 | G28: 9.956 | H28: =ROUND(G28*E28*2,2) -> 99.56 | I28: =ROUND(H28*1.2359,2) -> 123.05
A29: Internists (dežūrārsts) | B29: 1 | C29: =D29+E29 -> 176 | D29: 174 | E29: 2 | G29: 9.956 | H29: =ROUND(G29*E29*2,2) -> 39.82 | I29: =ROUND(H29*1.2359,2) -> 49.21
A30: Ārstniecības un pacientu aprūpes personas un funkcionālo speciālistu asistenti, kopā, tai skaitā: | B30: =SUM(B31:B32) -> 2 | E30: =SUM(E31:E32) -> 10 | H30: =SUM(H31:H32) -> 138.23 | I30: =SUM(I31:I32) -> 170.84
A31: Māsa/vispārējās aprūpes māsa | B31: 1 | C31: =D31+E31 -> 181 | D31: 174 | E31: 7 | G31: 6.954 | H31: =ROUND(G31*E31*2,2) -> 97.36 | I31: =ROUND(H31*1.2359,2) -> 120.33
A32: Māsa/vispārējās aprūpes māsa | B32: 1 | C32: =D32+E32 -> 177 | D32: 174 | E32: 3 | G32: 6.811 | H32: =ROUND(G32*E32*2,2) -> 40.87 | I32: =ROUND(H32*1.2359,2) -> 50.51
A33: Ārstniecības un pacientu aprūpes atbalsta personas, māsu palīgi, zobārstu aistenti, kopā, tai skaitā: | B33: =SUM(B34:B34) -> 1 | E33: =SUM(E34:E34) -> 1 | H33: =SUM(H34:H34) -> 8.97 | I33: =SUM(I34:I34) -> 11.09
A34: Māsas palīgs | B34: 1 | C34: =D34+E34 -> 175 | D34: 174 | E34: 1 | G34: 4.487 | H34: =ROUND(G34*E34*2,2) -> 8.97 | I34: =ROUND(H34*1.2359,2) -> 11.09
A35: KARDIOLOĢIJAS NODAĻA | B35: =B36 -> 9 | E35: =E36 -> 142 | H35: =H36 -> 1835.95 | I35: =I36 -> 2268.69
A36: Ārstniecības un pacientu aprūpes personas un funkcionālo speciālistu asistenti, kopā, tai skaitā: | B36: =SUM(B37:B45) -> 9 | E36: =SUM(E37:E45) -> 142 | H36: =SUM(H37:H45) -> 1835.95 | I36: =SUM(I37:I45) -> 2268.69
A37: Māsa/vispārējās aprūpes māsa | B37: 1 | C37: =D37+E37 -> 175 | D37: 174 | E37: 1 | G37: 6.402 | H37: =ROUND(G37*E37*2,2) -> 12.8 | I37: =ROUND(H37*1.2077,2) -> 15.46
A38: Māsa/vispārējās aprūpes māsa | B38: 1 | C38: =D38+E38 -> 179 | D38: 174 | E38: 5 | G38: 6.402 | H38: =ROUND(G38*E38*2,2) -> 64.02 | I38: =ROUND(H38*1.2359,2) -> 79.12
A39: Māsa/vispārējās aprūpes māsa | B39: 1 | C39: =D39+E39 -> 179 | D39: 174 | E39: 5 | G39: 6.402 | H39: =ROUND(G39*E39*2,2) -> 64.02 | I39: =ROUND(H39*1.2359,2) -> 79.12
A40: Māsa/vispārējās aprūpes māsa | B40: 1 | C40: =D40+E40 -> 188 | D40: 174 | E40: 14 | G40: 6.519 | H40: =ROUND(G40*E40*2,2) -> 182.53 | I40: =ROUND(H40*1.2359,2) -> 225.59
A41: Māsa/vispārējās aprūpes māsa | B41: 1 | C41: =D41+E41 -> 205 | D41: 174 | E41: 31 | G41: 6.519 | H41: =ROUND(G41*E41*2,2) -> 404.18 | I41: =ROUND(H41*1.2359,2) -> 499.53
A42: Māsa/vispārējās aprūpes māsa | B42: 1 | C42: =D42+E42 -> 205 | D42: 174 | E42: 31 | G42: 6.519 | H42: =ROUND(G42*E42*2,2) -> 404.18 | I42: =ROUND(H42*1.2359,2) -> 499.53
A43: Māsa/vispārējās aprūpes māsa | B43: 1 | C43: =D43+E43 -> 196 | D43: 174 | E43: 22 | G43: 6.402 | H43: =ROUND(G43*E43*2,2) -> 281.69 | I43: =ROUND(H43*1.2359,2) -> 348.14
A44: Māsa/vispārējās aprūpes māsa | B44: 1 | C44: =D44+E44 -> 196 | D44: 174 | E44: 22 | G44: 6.402 | H44: =ROUND(G44*E44*2,2) -> 281.69 | I44: =ROUND(H44*1.2359,2) -> 348.14
A45: Māsa/vispārējās aprūpes māsa | B45: 1 | C45: =D45+E45 -> 185 | D45: 174 | E45: 11 | G45: 6.402 | H45: =ROUND(G45*E45*2,2) -> 140.84 | I45: =ROUND(H45*1.2359,2) -> 174.06
A46: NEIROLOĢIJAS NODAĻA | B46: =B47+B53+B60+B65 -> 20 | E46: =E47+E53+E60+E65 -> 583 | H46: =H47+H53+H60+H65 -> 7472.28 | I46: =I47+I53+I60+I65 -> 9234.97
A47: Ārsti, zobārsti un funkcionālie speciālisti, kopā, tai skaitā: | B47: =SUM(B48:B52) -> 5 | E47: =SUM(E48:E52) -> 115 | H47: =SUM(H48:H52) -> 2229.11 | I47: =SUM(I48:I52) -> 2754.95
A48: Neirologs | B48: 1 | C48: =D48+E48 -> 220 | D48: 174 | E48: 46 | G48: 9.646 | H48: =ROUND(G48*E48*2,2) -> 887.43 | I48: =ROUND(H48*1.2359,2) -> 1096.77
A49: Neirologs | B49: 1 | C49: =D49+E49 -> 186 | D49: 174 | E49: 12 | G49: 9.646 | H49: =ROUND(G49*E49*2,2) -> 231.5 | I49: =ROUND(H49*1.2359,2) -> 286.11
A50: Neirologs | B50: 1 | C50: =D50+E50 -> 214 | D50: 174 | E50: 40 | G50: 9.646 | H50: =ROUND(G50*E50*2,2) -> 771.68 | I50: =ROUND(H50*1.2359,2) -> 953.72
A51: Neirologs (dežūrārsts) | B51: 1 | C51: =D51+E51 -> 185 | D51: 174 | E51: 11 | G51: 9.956 | H51: =ROUND(G51*E51*2,2) -> 219.03 | I51: =ROUND(H51*1.2359,2) -> 270.7
A52: Neirologs (dežūrārsts) | B52: 1 | C52: =D52+E52 -> 180 | D52: 174 | E52: 6 | G52: 9.956 | H52: =ROUND(G52*E52*2,2) -> 119.47 | I52: =ROUND(H52*1.2359,2) -> 147.65
A53: Ārstniecības un pacientu aprūpes personas un funkcionālo speciālistu asistenti, kopā, tai skaitā: | B53: =SUM(B54:B59) -> 6 | E53: =SUM(E54:E59) -> 260 | H53: =SUM(H54:H59) -> 3442.74 | I53: =SUM(I54:I59) -> 4254.88
A54: Māsa/vispārējās aprūpes māsa | B54: 1 | C54: =D54+E54 -> 205 | D54: 174 | E54: 31 | G54: 6.811 | H54: =ROUND(G54*E54*2,2) -> 422.28 | I54: =ROUND(H54*1.2359,2) -> 521.9
A55: Māsa/vispārējās aprūpes māsa | B55: 1 | C55: =D55+E55 -> 231 | D55: 174 | E55: 57 | G55: 6.811 | H55: =ROUND(G55*E55*2,2) -> 776.45 | I55: =ROUND(H55*1.2359,2) -> 959.61
A56: Māsa/vispārējās aprūpes māsa | B56: 1 | C56: =D56+E56 -> 234 | D56: 174 | E56: 60 | G56: 6.402 | H56: =ROUND(G56*E56*2,2) -> 768.24 | I56: =ROUND(H56*1.2359,2) -> 949.47
A57: Māsa/vispārējās aprūpes māsa | B57: 1 | C57: =D57+E57 -> 206 | D57: 174 | E57: 32 | G57: 6.402 | H57: =ROUND(G57*E57*2,2) -> 409.73 | I57: =ROUND(H57*1.2359,2) -> 506.39
A58: Māsa/vispārējās aprūpes māsa | B58: 1 | C58: =D58+E58 -> 225 | D58: 174 | E58: 51 | G58: 6.811 | H58: =ROUND(G58*E58*2,2) -> 694.72 | I58: =ROUND(H58*1.2359,2) -> 858.6
A59: Māsa/vispārējās aprūpes māsa | B59: 1 | C59: =D59+E59 -> 203 | D59: 174 | E59: 29 | G59: 6.402 | H59: =ROUND(G59*E59*2,2) -> 371.32 | I59: =ROUND(H59*1.2359,2) -> 458.91
A60: Ārstniecības un pacientu aprūpes atbalsta personas, māsu palīgi, zobārstu aistenti, kopā, tai skaitā: | B60: =SUM(B61:B64) -> 4 | E60: =SUM(E61:E64) -> 97 | H60: =SUM(H61:H64) -> 870.47 | I60: =SUM(I61:I64) -> 1075.81
A61: Māsas palīgs | B61: 1 | C61: =D61+E61 -> 212 | D61: 174 | E61: 38 | G61: 4.487 | H61: =ROUND(G61*E61*2,2) -> 341.01 | I61: =ROUND(H61*1.2359,2) -> 421.45
A62: Māsas palīgs | B62: 1 | C62: =D62+E62 -> 204 | D62: 174 | E62: 30 | G62: 4.487 | H62: =ROUND(G62*E62*2,2) -> 269.22 | I62: =ROUND(H62*1.2359,2) -> 332.73
A63: Māsas palīgs | B63: 1 | C63: =D63+E63 -> 185 | D63: 174 | E63: 11 | G63: 4.487 | H63: =ROUND(G63*E63*2,2) -> 98.71 | I63: =ROUND(H63*1.2359,2) -> 122
A64: Māsas palīgs | B64: 1 | C64: =D64+E64 -> 192 | D64: 174 | E64: 18 | G64: 4.487 | H64: =ROUND(G64*E64*2,2) -> 161.53 | I64: =ROUND(H64*1.2359,2) -> 199.63
A65: Pārējie darbinieki, kuri tieši iesaistīti darbā ar Covid-19, kopā, tai skaitā: | B65: =SUM(B66:B70) -> 5 | E65: =SUM(E66:E70) -> 111 | H65: =SUM(H66:H70) -> 929.96 | I65: =SUM(I66:I70) -> 1149.33
A66: Sanitārs | B66: 1 | C66: =D66+E66 -> 204 | D66: 174 | E66: 30 | G66: 4.189 | H66: =ROUND(G66*E66*2,2) -> 251.34 | I66: =ROUND(H66*1.2359,2) -> 310.63
A67: Sanitārs | B67: 1 | C67: =D67+E67 -> 206 | D67: 174 | E67: 32 | G67: 4.189 | H67: =ROUND(G67*E67*2,2) -> 268.1 | I67: =ROUND(H67*1.2359,2) -> 331.34
A68: Sanitārs | B68: 1 | C68: =D68+E68 -> 179 | D68: 174 | E68: 5 | G68: 4.189 | H68: =ROUND(G68*E68*2,2) -> 41.89 | I68: =ROUND(H68*1.2359,2) -> 51.77
A69: Sanitārs | B69: 1 | C69: =D69+E69 -> 212 | D69: 174 | E69: 38 | G69: 4.189 | H69: =ROUND(G69*E69*2,2) -> 318.36 | I69: =ROUND(H69*1.2359,2) -> 393.46
A70: Sanitārs | B70: 1 | C70: =D70+E70 -> 180 | D70: 174 | E70: 6 | G70: 4.189 | H70: =ROUND(G70*E70*2,2) -> 50.27 | I70: =ROUND(H70*1.2359,2) -> 62.13
A71: UZŅEMŠANAS NODAĻA | B71: =B72+B85+B93 -> 21 | E71: =E72+E85+E93 -> 521 | H71: =H72+H85+H93 -> 5850.62 | I71: =I72+I85+I93 -> 7230.77
A72: Ārstniecības un pacientu aprūpes personas un funkcionālo speciālistu asistenti, kopā, tai skaitā: | B72: =SUM(B73:B84) -> 12 | E72: =SUM(E73:E84) -> 306 | H72: =SUM(H73:H84) -> 3952.19 | I72: =SUM(I73:I84) -> 4884.5
A73: Ārsta palīgs | B73: 1 | C73: =D73+E73 -> 180 | D73: 174 | E73: 6 | G73: 6.519 | H73: =ROUND(G73*E73*2,2) -> 78.23 | I73: =ROUND(H73*1.2359,2) -> 96.68
A74: Ārsta palīgs | B74: 1 | C74: =D74+E74 -> 204 | D74: 174 | E74: 30 | G74: 6.519 | H74: =ROUND(G74*E74*2,2) -> 391.14 | I74: =ROUND(H74*1.2359,2) -> 483.41
A75: Ārsta palīgs | B75: 1 | C75: =D75+E75 -> 199 | D75: 174 | E75: 25 | G75: 6.519 | H75: =ROUND(G75*E75*2,2) -> 325.95 | I75: =ROUND(H75*1.2359,2) -> 402.84
A76: Ārsta palīgs | B76: 1 | C76: =D76+E76 -> 206 | D76: 174 | E76: 32 | G76: 6.519 | H76: =ROUND(G76*E76*2,2) -> 417.22 | I76: =ROUND(H76*1.2359,2) -> 515.64
A77: Ārsta palīgs | B77: 1 | C77: =D77+E77 -> 202 | D77: 174 | E77: 28 | G77: 6.519 | H77: =ROUND(G77*E77*2,2) -> 365.06 | I77: =ROUND(H77*1.2359,2) -> 451.18
A78: Māsa/vispārējās aprūpes māsa | B78: 1 | C78: =D78+E78 -> 199 | D78: 174 | E78: 25 | G78: 6.519 | H78: =ROUND(G78*E78*2,2) -> 325.95 | I78: =ROUND(H78*1.2359,2) -> 402.84
A79: Māsa/vispārējās aprūpes māsa | B79: 1 | C79: =D79+E79 -> 180 | D79: 174 | E79: 6 | G79: 6.402 | H79: =ROUND(G79*E79*2,2) -> 76.82 | I79: =ROUND(H79*1.2359,2) -> 94.94
A80: Māsa/vispārējās aprūpes māsa | B80: 1 | C80: =D80+E80 -> 216 | D80: 174 | E80: 42 | G80: 6.402 | H80: =ROUND(G80*E80*2,2) -> 537.77 | I80: =ROUND(H80*1.2359,2) -> 664.63
A81: Māsa/vispārējās aprūpes māsa | B81: 1 | C81: =D81+E81 -> 193 | D81: 174 | E81: 19 | G81: 6.402 | H81: =ROUND(G81*E81*2,2) -> 243.28 | I81: =ROUND(H81*1.2359,2) -> 300.67
A82: Māsa/vispārējās aprūpes māsa | B82: 1 | C82: =D82+E82 -> 196 | D82: 174 | E82: 22 | G82: 6.402 | H82: =ROUND(G82*E82*2,2) -> 281.69 | I82: =ROUND(H82*1.2359,2) -> 348.14
A83: Māsa/vispārējās aprūpes māsa | B83: 1 | C83: =D83+E83 -> 199 | D83: 174 | E83: 25 | G83: 6.402 | H83: =ROUND(G83*E83*2,2) -> 320.1 | I83: =ROUND(H83*1.2359,2) -> 395.61
A84: Māsa/vispārējās aprūpes māsa | B84: 1 | C84: =D84+E84 -> 220 | D84: 174 | E84: 46 | G84: 6.402 | H84: =ROUND(G84*E84*2,2) -> 588.98 | I84: =ROUND(H84*1.2359,2) -> 727.92
A85: Ārstniecības un pacientu aprūpes atbalsta personas, māsu palīgi, zobārstu aistenti, kopā, tai skaitā: | B85: =SUM(B86:B92) -> 7 | E85: =SUM(E86:E92) -> 163 | H85: =SUM(H86:H92) -> 1462.77 | I85: =SUM(I86:I92) -> 1807.84
A86: Māsas palīgs | B86: 1 | C86: =D86+E86 -> 196 | D86: 174 | E86: 22 | G86: 4.487 | H86: =ROUND(G86*E86*2,2) -> 197.43 | I86: =ROUND(H86*1.2359,2) -> 244
A87: Māsas palīgs | B87: 1 | C87: =D87+E87 -> 184 | D87: 174 | E87: 10 | G87: 4.487 | H87: =ROUND(G87*E87*2,2) -> 89.74 | I87: =ROUND(H87*1.2359,2) -> 110.91
A88: Māsas palīgs | B88: 1 | C88: =D88+E88 -> 184 | D88: 174 | E88: 10 | G88: 4.487 | H88: =ROUND(G88*E88*2,2) -> 89.74 | I88: =ROUND(H88*1.2359,2) -> 110.91
A89: Māsas palīgs | B89: 1 | C89: =D89+E89 -> 201 | D89: 174 | E89: 27 | G89: 4.487 | H89: =ROUND(G89*E89*2,2) -> 242.3 | I89: =ROUND(H89*1.2359,2) -> 299.46
A90: Māsas palīgs | B90: 1 | C90: =D90+E90 -> 178 | D90: 174 | E90: 4 | G90: 4.487 | H90: =ROUND(G90*E90*2,2) -> 35.9 | I90: =ROUND(H90*1.2359,2) -> 44.37
A91: Māsas palīgs | B91: 1 | C91: =D91+E91 -> 240 | D91: 174 | E91: 66 | G91: 4.487 | H91: =ROUND(G91*E91*2,2) -> 592.28 | I91: =ROUND(H91*1.2359,2) -> 732
A92: Māsas palīgs | B92: 1 | C92: =D92+E92 -> 198 | D92: 174 | E92: 24 | G92: 4.487 | H92: =ROUND(G92*E92*2,2) -> 215.38 | I92: =ROUND(H92*1.2359,2) -> 266.19
A93: Pārējie darbinieki, kuri tieši iesaistīti darbā ar Covid-19, kopā, tai skaitā: | B93: =SUM(B94:B95) -> 2 | E93: =SUM(E94:E95) -> 52 | H93: =SUM(H94:H95) -> 435.66 | I93: =SUM(I94:I95) -> 538.43
A94: Sanitārs | B94: 1 | C94: =D94+E94 -> 184 | D94: 174 | E94: 10 | G94: 4.189 | H94: =ROUND(G94*E94*2,2) -> 83.78 | I94: =ROUND(H94*1.2359,2) -> 103.54
A95: Sanitārs | B95: 1 | C95: =D95+E95 -> 216 | D95: 174 | E95: 42 | G95: 4.189 | H95: =ROUND(G95*E95*2,2) -> 351.88 | I95: =ROUND(H95*1.2359,2) -> 434.89
A96: ĶIRURĢIJAS NODAĻA | B96: =B97+B100+B107 -> 9 | E96: =E97+E100+E107 -> 100 | H96: =H97+H100+H107 -> 1447.73 | I96: =I97+I100+I107 -> 1789.24
A97: Ārsti, zobārsti un funkcionālie speciālisti, kopā, tai skaitā: | B97: =SUM(B98:B99) -> 2 | E97: =SUM(E98:E99) -> 26 | H97: =SUM(H98:H99) -> 504.07 | I97: =SUM(I98:I99) -> 622.98
A98: Ķirurgs (dežūrārsts) | B98: 1 | C98: =D98+E98 -> 196 | D98: 174 | E98: 22 | G98: 9.646 | H98: =ROUND(G98*E98*2,2) -> 424.42 | I98: =ROUND(H98*1.2359,2) -> 524.54
A99: Ķirurgs (dežūrārsts) | B99: 1 | C99: =D99+E99 -> 178 | D99: 174 | E99: 4 | G99: 9.956 | H99: =ROUND(G99*E99*2,2) -> 79.65 | I99: =ROUND(H99*1.2359,2) -> 98.44
A100: Ārstniecības un pacientu aprūpes personas un funkcionālo speciālistu asistenti, kopā, tai skaitā: | B100: =SUM(B101:B106) -> 6 | E100: =SUM(E101:E106) -> 73 | H100: =SUM(H101:H106) -> 934.69 | I100: =SUM(I101:I106) -> 1155.17
A101: Māsa/vispārējās aprūpes māsa | B101: 1 | C101: =D101+E101 -> 181 | D101: 174 | E101: 7 | G101: 6.402 | H101: =ROUND(G101*E101*2,2) -> 89.63 | I101: =ROUND(H101*1.2359,2) -> 110.77
A102: Māsa/vispārējās aprūpes māsa | B102: 1 | C102: =D102+E102 -> 184 | D102: 174 | E102: 10 | G102: 6.402 | H102: =ROUND(G102*E102*2,2) -> 128.04 | I102: =ROUND(H102*1.2359,2) -> 158.24
...

Sheet Jelgava_jūn
H1: 1.9.Pielikums
A2: Pārskats par darba veicējiem (ārstniecības personām), virs normālā darba laika nostrādātām stundām, apmaksājamām stundām un izdevumiem, kas radušies saistībā ar mērķi ierobežot Covid-19 izplatību
A4: Iestādes nosaukums: SIA Jelgavas pilsētas slimnīca
A5: Pārskata mēnesis: Jūnijs
B7: Nodarbināto skaits mēnesī | C7: Apmaksājamais laiks mēnesī, stundas (tai skaitā summētā darba laika ietvaros) | F7: Mēnešalga no kuras rēķina stundas likmi | G7: Stundas likme (aprēķināta atbilstoši mēnešalgai vai darba līgumā noteiktā stundas likme) | H7: Apmaksājamā 100% piemaksa par nostrādātām virsstundām virs normālā darba laika (tai skaitā summētā darba laika ietvaros) | I7: Izdevumi par virsstundām kopā ar VSOAI, EUR
C8: Kopā | D8: līdz normālam darba laikam | E8: virsstundas - virs normālā darba laika, kas saistītas ar darbu ar Covid-19
A10: 1 | B10: 2 | C10: 3=4+5 | D10: 4 | E10: 5 | F10: 6 | G10: 7 | H10: 8 | I10: 9=8+VSOAI
A11: KOPĀ | B11: =B12+B18+B20 -> 12 | E11: =E12+E18+E20 -> 137 | H11: =H12+H18+H20 -> 1853.53 | I11: =I12+I18+I20 -> 2290.8
A12: Ārstniecības un pacientu aprūpes personas un funkcionālo speciālistu asistenti, kopā, tai skaitā: | B12: =SUM(B13:B17) -> 5 | E12: =SUM(E13:E17) -> 75 | H12: =SUM(H13:H17) -> 1122.64 | I12: =SUM(I13:I17) -> 1387.47
A13: Medicīnas māsa | B13: 1 | C13: =D13+E13 -> 183 | D13: 159 | E13: 24 | F13: 1190 | G13: =F13/D13 -> 7.4842767 | H13: =ROUND(E13*G13*2,2) -> 359.25 | I13: =ROUND(H13*1.2359,2) -> 444
A14: Medicīnas māsa | B14: 1 | C14: =D14+E14 -> 166 | D14: 159 | E14: 7 | F14: 1190 | G14: =F14/D14 -> 7.4842767 | H14: =ROUND(E14*G14*2,2) -> 104.78 | I14: =ROUND(H14*1.2359,2) -> 129.5
A15: Medicīnas māsa | B15: 1 | C15: =D15+E15 -> 179 | D15: 159 | E15: 20 | F15: 1190 | G15: =F15/D15 -> 7.4842767 | H15: =ROUND(E15*G15*2,2) -> 299.37 | I15: =ROUND(H15*1.2359,2) -> 369.99
A16: Medicīnas māsa | B16: 1 | C16: =D16+E16 -> 171 | D16: 159 | E16: 12 | F16: 1190 | G16: =F16/D16 -> 7.4842767 | H16: =ROUND(E16*G16*2,2) -> 179.62 | I16: =ROUND(H16*1.2359,2) -> 221.99
A17: Medicīnas māsa | B17: 1 | C17: =D17+E17 -> 171 | D17: 159 | E17: 12 | F17: 1190 | G17: =F17/D17 -> 7.4842767 | H17: =ROUND(E17*G17*2,2) -> 179.62 | I17: =ROUND(H17*1.2359,2) -> 221.99
A18: Ārstniecības un pacientu aprūpes atbalsta personas, māsu palīgi, zobārstu aistenti, kopā, tai skaitā: | B18: =B19 -> 1 | E18: =E19 -> 12 | H18: =H19 -> 132.08 | I18: =I19 -> 163.24
A19: Māsu palīgs | B19: 1 | C19: =D19+E19 -> 171 | D19: 159 | E19: 12 | F19: 875 | G19: =F19/D19 -> 5.5031447 | H19: =ROUND(E19*G19*2,2) -> 132.08 | I19: =ROUND(H19*1.2359,2) -> 163.24
A20: Pārējie darbinieki, kuri tieši iesaistīti darbā ar Covid-19, kopā, tai skaitā: | B20: =SUM(B21:B26) -> 6 | E20: =SUM(E21:E26) -> 50 | H20: =SUM(H21:H26) -> 598.81 | I20: =SUM(I21:I26) -> 740.09
A21: Sanitārs | B21: 1 | C21: =D21+E21 -> 171 | D21: 159 | E21: 12 | F21: 777 | G21: =F21/D21 -> 4.8867925 | H21: =ROUND(E21*G21*2,2) -> 117.28 | I21: =ROUND(H21*1.2359,2) -> 144.95
A22: Sanitārs | B22: 1 | C22: =D22+E22 -> 171 | D22: 159 | E22: 12 | F22: 777 | G22: =F22/D22 -> 4.8867925 | H22: =ROUND(E22*G22*2,2) -> 117.28 | I22: =ROUND(H22*1.2359,2) -> 144.95
A23: Sanitārs | B23: 1 | C23: =D23+E23 -> 167 | D23: 159 | E23: 8 | F23: 777 | G23: =F23/D23 -> 4.8867925 | H23: =ROUND(E23*G23*2,2) -> 78.19 | I23: =ROUND(H23*1.2359,2) -> 96.64
A24: Sanitārs | B24: 1 | C24: =D24+E24 -> 167 | D24: 159 | E24: 8 | F24: 777 | G24: =F24/D24 -> 4.8867925 | H24: =ROUND(E24*G24*2,2) -> 78.19 | I24: =ROUND(H24*1.2359,2) -> 96.64
A25: Med. statistiķis | B25: 1 | C25: =D25+E25 -> 162 | D25: 159 | E25: 3 | F25: 1395 | G25: =F25/D25 -> 8.7735849 | H25: =ROUND(E25*G25*2,2) -> 52.64 | I25: =ROUND(H25*1.2359,2) -> 65.06
A26: Med. statistiķis | B26: 1 | C26: =D26+E26 -> 166 | D26: 159 | E26: 7 | F26: 1763 | G26: =F26/D26 -> 11.08805 | H26: =ROUND(E26*G26*2,2) -> 155.23 | I26: =ROUND(H26*1.2359,2) -> 191.85

Sheet Jelgava_jūl
H1: 1.10.Pielikums
A2: Pārskats par darba veicējiem (ārstniecības personām), virs normālā darba laika nostrādātām stundām, apmaksājamām stundām un izdevumiem, kas radušies saistībā ar mērķi ierobežot Covid-19 izplatību
A4: Iestādes nosaukums: SIA Jelgavas pilsētas slimnīca
A5: Pārskata mēnesis: Jūlijs
B7: Nodarbināto skaits mēnesī | C7: Apmaksājamais laiks mēnesī, stundas (tai skaitā summētā darba laika ietvaros) | F7: Mēnešalga no kuras rēķina stundas likmi | G7: Stundas likme (aprēķināta atbilstoši mēnešalgai vai darba līgumā noteiktā stundas likme)2 | H7: Apmaksājamā 100% piemaksa par nostrādātām virsstundām virs normālā darba laika (tai skaitā summētā darba laika ietvaros) | I7: Izdevumi par virsstundām kopā ar VSOAI, EUR
C8: Kopā | D8: līdz normālam darba laikam | E8: virsstundas - virs normālā darba laika, kas saistītas ar darbu ar Covid-19
A10: 1 | B10: 2 | C10: 3=4+5 | D10: 4 | E10: 5 | F10: 6 | G10: 7 | H10: 8 | I10: 9=8+VSOAI
A11: KOPĀ | B11: =B12+B16+B18 -> 11 | E11: =E12+E16+E18 -> 270 | H11: =H12+H16+H18 -> 3289.59 | I11: =I12+I16+I18 -> 4065.61
A12: Ārstniecības un pacientu aprūpes personas un funkcionālo speciālistu asistenti, kopā, tai skaitā: | B12: =SUM(B13:B15) -> 3 | E12: =SUM(E13:E15) -> 88 | H12: =SUM(H13:H15) -> 1151.33 | I12: =SUM(I13:I15) -> 1422.93
A13: Medicīnas māsa | B13: 1 | C13: =D13+E13 -> 216 | D13: 168 | E13: 48 | F13: 1190 | G13: =F13/D13 -> 7.0833333 | H13: =ROUND(E13*G13*2,2) -> 680 | I13: =ROUND(H13*1.2359,2) -> 840.41
A14: Medicīnas māsa | B14: 1 | C14: =D14+E14 -> 192 | D14: 168 | E14: 24 | F14: 1047 | G14: =F14/D14 -> 6.2321429 | H14: =ROUND(E14*G14*2,2) -> 299.14 | I14: =ROUND(H14*1.2359,2) -> 369.71
A15: Medicīnas māsa | B15: 1 | C15: =D15+E15 -> 184 | D15: 168 | E15: 16 | F15: 904 | G15: =F15/D15 -> 5.3809524 | H15: =ROUND(E15*G15*2,2) -> 172.19 | I15: =ROUND(H15*1.2359,2) -> 212.81
A16: Ārstniecības un pacientu aprūpes atbalsta personas, māsu palīgi, zobārstu aistenti, kopā, tai skaitā: | B16: =B17 -> 1 | E16: =E17 -> 32 | H16: =H17 -> 333.33 | I16: =I17 -> 411.96
A17: Māsu palīgs | B17: 1 | C17: =D17+E17 -> 200 | D17: 168 | E17: 32 | F17: 875 | G17: =F17/D17 -> 5.2083333 | H17: =ROUND(E17*G17*2,2) -> 333.33 | I17: =ROUND(H17*1.2359,2) -> 411.96
A18: Pārējie darbinieki, kuri tieši iesaistīti darbā ar Covid-19, kopā, tai skaitā: | B18: =SUM(B19:B25) -> 7 | E18: =SUM(E19:E25) -> 150 | H18: =SUM(H19:H25) -> 1804.93 | I18: =SUM(I19:I25) -> 2230.72
A19: Sanitārs | B19: 1 | C19: =D19+E19 -> 200 | D19: 168 | E19: 32 | F19: 777 | G19: =F19/D19 -> 4.625 | H19: =ROUND(E19*G19*2,2) -> 296 | I19: =ROUND(H19*1.2359,2) -> 365.83
A20: Sanitārs | B20: 1 | C20: =D20+E20 -> 200 | D20: 168 | E20: 32 | F20: 777 | G20: =F20/D20 -> 4.625 | H20: =ROUND(E20*G20*2,2) -> 296 | I20: =ROUND(H20*1.2359,2) -> 365.83
A21: Medicīnas reģistrātors | B21: 1 | C21: =D21+E21 -> 196 | D21: 168 | E21: 28 | F21: 1020 | G21: =F21/D21 -> 6.0714286 | H21: =ROUND(E21*G21*2,2) -> 340 | I21: =ROUND(H21*1.2359,2) -> 420.21
A22: Medicīnas reģistrātors | B22: 1 | C22: =D22+E22 -> 188 | D22: 168 | E22: 20 | F22: 1020 | G22: =F22/D22 -> 6.0714286 | H22: =ROUND(E22*G22*2,2) -> 242.86 | I22: =ROUND(H22*1.2359,2) -> 300.15
A23: Medicīnas reģistrātors | B23: 1 | C23: =D23+E23 -> 180 | D23: 168 | E23: 12 | F23: 1020 | G23: =F23/D23 -> 6.0714286 | H23: =ROUND(E23*G23*2,2) -> 145.71 | I23: =ROUND(H23*1.2359,2) -> 180.08
A24: Med. statistiķis | B24: 1 | C24: =D24+E24 -> 180 | D24: 168 | E24: 12 | F24: 1763 | G24: =F24/D24 -> 10.494048 | H24: =ROUND(E24*G24*2,2) -> 251.86 | I24: =ROUND(H24*1.2359,2) -> 311.27
A25: Med. statistiķis | B25: 1 | C25: =D25+E25 -> 182 | D25: 168 | E25: 14 | F25: 1395 | G25: =F25/D25 -> 8.3035714 | H25: =ROUND(E25*G25*2,2) -> 232.5 | I25: =ROUND(H25*1.2359,2) -> 287.35

Sheet Jelgava_aug
H1: 1.11.Pielikums
A2: Pārskats par darba veicējiem (ārstniecības personām), virs normālā darba laika nostrādātām stundām, apmaksājamām stundām un izdevumiem, kas radušies saistībā ar mērķi ierobežot Covid-19 izplatību
A4: Iestādes nosaukums: SIA Jelgavas pilsētas slimnīca
A5: Pārskata mēnesis: Augusts
B7: Nodarbināto skaits mēnesī | C7: Apmaksājamais laiks mēnesī, stundas (tai skaitā summētā darba laika ietvaros) | F7: Mēnešalga no kuras rēķina stundas likmi | G7: Stundas likme (aprēķināta atbilstoši mēnešalgai vai darba līgumā noteiktā stundas likme) | H7: Apmaksājamā 100% piemaksa par nostrādātām virsstundām virs normālā darba laika (tai skaitā summētā darba laika ietvaros) | I7: Izdevumi par virsstundām kopā ar VSOAI, EUR
C8: Kopā | D8: līdz normālam darba laikam | E8: virsstundas - virs normālā darba laika, kas saistītas ar darbu ar Covid-19
A10: 1 | B10: 2 | C10: 3=4+5 | D10: 4 | E10: 5 | F10: 6 | G10: 7 | H10: 8 | I10: 9=8+VSOAI
A11: KOPĀ | B11: =B12+B28+B33 -> 20 | E11: =E12+E28+E33 -> 360 | H11: =H12+H28+H33 -> 4780.78 | I11: =I12+I28+I33 -> 5908.57
A12: Ārstniecības un pacientu aprūpes personas un funkcionālo speciālistu asistenti, kopā, tai skaitā: | B12: =SUM(B13:B27) -> 15 | E12: =SUM(E13:E27) -> 276 | H12: =SUM(H13:H27) -> 3929.43 | I12: =SUM(I13:I27) -> 4856.39
A13: Medicīnas māsa | B13: 1 | C13: =D13+E13 -> 209 | D13: 161 | E13: 48 | F13: 1936 | G13: =F13/D13 -> 12.024845 | H13: =ROUND(E13*G13*2,2) -> 1154.39 | I13: =ROUND(H13*1.2359,2) -> 1426.71
A14: Medicīnas māsa | B14: 1 | C14: =D14+E14 -> 208 | D14: 184 | E14: 24 | F14: 1190 | G14: =F14/D14 -> 6.4673913 | H14: =ROUND(E14*G14*2,2) -> 310.43 | I14: =ROUND(H14*1.2359,2) -> 383.66
A15: Medicīnas māsa | B15: 1 | C15: =D15+E15 -> 208 | D15: 184 | E15: 24 | F15: 1190 | G15: =F15/D15 -> 6.4673913 | H15: =ROUND(E15*G15*2,2) -> 310.43 | I15: =ROUND(H15*1.2359,2) -> 383.66
A16: Medicīnas māsa | B16: 1 | C16: =D16+E16 -> 188 | D16: 184 | E16: 4 | F16: 1047 | G16: =F16/D16 -> 5.6902174 | H16: =ROUND(E16*G16*2,2) -> 45.52 | I16: =ROUND(H16*1.2359,2) -> 56.26
A17: Medicīnas māsa | B17: 1 | C17: =D17+E17 -> 208 | D17: 184 | E17: 24 | F17: 1047 | G17: =F17/D17 -> 5.6902174 | H17: =ROUND(E17*G17*2,2) -> 273.13 | I17: =ROUND(H17*1.2359,2) -> 337.56
A18: Medicīnas māsa | B18: 1 | C18: =D18+E18 -> 192 | D18: 184 | E18: 8 | F18: 1190 | G18: =F18/D18 -> 6.4673913 | H18: =ROUND(E18*G18*2,2) -> 103.48 | I18: =ROUND(H18*1.2359,2) -> 127.89
A19: Medicīnas māsa | B19: 1 | C19: =D19+E19 -> 196 | D19: 184 | E19: 12 | F19: 1190 | G19: =F19/D19 -> 6.4673913 | H19: =ROUND(E19*G19*2,2) -> 155.22 | I19: =ROUND(H19*1.2359,2) -> 191.84
A20: Medicīnas māsa | B20: 1 | C20: =D20+E20 -> 196 | D20: 184 | E20: 12 | F20: 1190 | G20: =F20/D20 -> 6.4673913 | H20: =ROUND(E20*G20*2,2) -> 155.22 | I20: =ROUND(H20*1.2359,2) -> 191.84
A21: Medicīnas māsa | B21: 1 | C21: =D21+E21 -> 208 | D21: 184 | E21: 24 | F21: 1190 | G21: =F21/D21 -> 6.4673913 | H21: =ROUND(E21*G21*2,2) -> 310.43 | I21: =ROUND(H21*1.2359,2) -> 383.66
A22: Medicīnas māsa | B22: 1 | C22: =D22+E22 -> 196 | D22: 184 | E22: 12 | F22: 1190 | G22: =F22/D22 -> 6.4673913 | H22: =ROUND(E22*G22*2,2) -> 155.22 | I22: =ROUND(H22*1.2359,2) -> 191.84
A23: Medicīnas māsa | B23: 1 | C23: =D23+E23 -> 208 | D23: 184 | E23: 24 | F23: 1190 | G23: =F23/D23 -> 6.4673913 | H23: =ROUND(E23*G23*2,2) -> 310.43 | I23: =ROUND(H23*1.2359,2) -> 383.66
A24: Medicīnas māsa | B24: 1 | C24: =D24+E24 -> 196 | D24: 184 | E24: 12 | F24: 1190 | G24: =F24/D24 -> 6.4673913 | H24: =ROUND(E24*G24*2,2) -> 155.22 | I24: =ROUND(H24*1.2359,2) -> 191.84
... A27: Medicīnas asistents | B27: 1 | C27: =D27+E27 -> 196 | D27: 184 | E27: 12 | F27: 904 | G27: =F27/D27 -> 4.9130435 | H27: =ROUND(E27*G27*2,2) -> 117.91 | I27: =ROUND(H27*1.2359,2) -> 145.72
A28: Ārstniecības un pacientu aprūpes atbalsta personas, māsu palīgi, zobārstu aistenti, kopā, tai skaitā: | B28: =SUM(B29:B32) -> 4 | E28: =SUM(E29:E32) -> 72 | H28: =SUM(H29:H32) -> 750 | I28: =SUM(I29:I32) -> 926.92
A29: Māsu palīgs | B29: 1 | C29: =D29+E29 -> 185 | D29: 161 | E29: 24 | F29: 875 | G29: =F29/D29 -> 5.4347826 | H29: =ROUND(E29*G29*2,2) -> 260.87 | I29: =ROUND(H29*1.2359,2) -> 322.41
A30: Māsu palīgs | B30: 1 | C30: =D30+E30 -> 185 | D30: 161 | E30: 24 | F30: 875 | G30: =F30/D30 -> 5.4347826 | H30: =ROUND(E30*G30*2,2) -> 260.87 | I30: =ROUND(H30*1.2359,2) -> 322.41
A31: Māsu palīgs | B31: 1 | C31: =D31+E31 -> 196 | D31: 184 | E31: 12 | F31: 875 | G31: =F31/D31 -> 4.7554348 | H31: =ROUND(E31*G31*2,2) -> 114.13 | I31: =ROUND(H31*1.2359,2) -> 141.05
A32: Māsu palīgs | B32: 1 | C32: =D32+E32 -> 196 | D32: 184 | E32: 12 | F32: 875 | G32: =F32/D32 -> 4.7554348 | H32: =ROUND(E32*G32*2,2) -> 114.13 | I32: =ROUND(H32*1.2359,2) -> 141.05
A33: Pārējie darbinieki, kuri tieši iesaistīti darbā ar Covid-19, kopā, tai skaitā: | B33: =SUM(B34) -> 1 | E33: =SUM(E34) -> 12 | H33: =SUM(H34) -> 101.35 | I33: =SUM(I34) -> 125.26
A34: Sanitārs | B34: 1 | C34: =D34+E34 -> 196 | D34: 184 | E34: 12 | F34: 777 | G34: =F34/D34 -> 4.2228261 | H34: =ROUND(E34*G34*2,2) -> 101.35 | I34: =ROUND(H34*1.2359,2) -> 125.26

Sheet Jelgava_sept
H1: 1.12.Pielikums
A2: Pārskats par darba veicējiem (ārstniecības personām), virs normālā darba laika nostrādātām stundām, apmaksājamām stundām un izdevumiem, kas radušies saistībā ar mērķi ierobežot Covid-19 izplatību
A4: Iestādes nosaukums: SIA Jelgavas pilsētas slimnīca
A5: Pārskata mēnesis: Septembris
B7: Nodarbināto skaits mēnesī | C7: Apmaksājamais laiks mēnesī, stundas (tai skaitā summētā darba laika ietvaros) | F7: Mēnešalga no kuras rēķina stundas likmi | G7: Stundas likme (aprēķināta atbilstoši mēnešalgai vai darba līgumā noteiktā stundas likme)2 | H7: Apmaksājamā 100% piemaksa par nostrādātām virsstundām virs normālā darba laika (tai skaitā summētā darba laika ietvaros) | I7: Izdevumi par virsstundām kopā ar VSOAI, EUR
C8: Kopā | D8: līdz normālam darba laikam | E8: virsstundas - virs normālā darba laika, kas saistītas ar darbu ar Covid-19
A10: 1 | B10: 2 | C10: 3=4+5 | D10: 4 | E10: 5 | F10: 6 | G10: 7 | H10: 8 | I10: 9=8+VSOAI
A11: KOPĀ | B11: =B12+B27+B43 -> 31 | E11: =E12+E27+E43 -> 512 | H11: =H12+H27+H43 -> 5799.85 | I11: =I12+I27+I43 -> 7168.06
A12: Ārstniecības un pacientu aprūpes personas un funkcionālo speciālistu asistenti, kopā, tai skaitā: | B12: =SUM(B13:B26) -> 14 | E12: =SUM(E13:E26) -> 214 | H12: =SUM(H13:H26) -> 2893.87 | I12: =SUM(I13:I26) -> 3576.53
A13: Medicīnas māsa | B13: 1 | C13: =D13+E13 -> 200 | D13: 176 | E13: 24 | F13: 1190 | G13: =F13/D13 -> 6.7613636 | H13: =ROUND(E13*G13*2,2) -> 324.55 | I13: =ROUND(H13*1.2359,2) -> 401.11
A14: Medicīnas māsa | B14: 1 | C14: =D14+E14 -> 188 | D14: 176 | E14: 12 | F14: 1190 | G14: =F14/D14 -> 6.7613636 | H14: =ROUND(E14*G14*2,2) -> 162.27 | I14: =ROUND(H14*1.2359,2) -> 200.55
A15: Medicīnas māsa | B15: 1 | C15: =D15+E15 -> 188 | D15: 176 | E15: 12 | F15: 1190 | G15: =F15/D15 -> 6.7613636 | H15: =ROUND(E15*G15*2,2) -> 162.27 | I15: =ROUND(H15*1.2359,2) -> 200.55
A16: Medicīnas māsa | B16: 1 | C16: =D16+E16 -> 178 | D16: 176 | E16: 2 | F16: 1190 | G16: =F16/D16 -> 6.7613636 | H16: =ROUND(E16*G16*2,2) -> 27.05 | I16: =ROUND(H16*1.2359,2) -> 33.43
A17: Medicīnas māsa | B17: 1 | C17: =D17+E17 -> 190 | D17: 176 | E17: 14 | F17: 1190 | G17: =F17/D17 -> 6.7613636 | H17: =ROUND(E17*G17*2,2) -> 189.32 | I17: =ROUND(H17*1.2359,2) -> 233.98
A18: Medicīnas māsa | B18: 1 | C18: =D18+E18 -> 188 | D18: 176 | E18: 12 | F18: 1190 | G18: =F18/D18 -> 6.7613636 | H18: =ROUND(E18*G18*2,2) -> 162.27 | I18: =ROUND(H18*1.2359,2) -> 200.55
A19: Medicīnas māsa | B19: 1 | C19: =D19+E19 -> 200 | D19: 176 | E19: 24 | F19: 1190 | G19: =F19/D19 -> 6.7613636 | H19: =ROUND(E19*G19*2,2) -> 324.55 | I19: =ROUND(H19*1.2359,2) -> 401.11
A20: Medicīnas māsa | B20: 1 | C20: =D20+E20 -> 198 | D20: 176 | E20: 22 | F20: 1190 | G20: =F20/D20 -> 6.7613636 | H20: =ROUND(E20*G20*2,2) -> 297.5 | I20: =ROUND(H20*1.2359,2) -> 367.68
A21: Medicīnas māsa | B21: 1 | C21: =D21+E21 -> 182 | D21: 176 | E21: 6 | F21: 1190 | G21: =F21/D21 -> 6.7613636 | H21: =ROUND(E21*G21*2,2) -> 81.14 | I21: =ROUND(H21*1.2359,2) -> 100.28
A22: Medicīnas māsa | B22: 1 | C22: =D22+E22 -> 190 | D22: 176 | E22: 14 | F22: 1190 | G22: =F22/D22 -> 6.7613636 | H22: =ROUND(E22*G22*2,2) -> 189.32 | I22: =ROUND(H22*1.2359,2) -> 233.98
A23: Medicīnas māsa | B23: 1 | C23: =D23+E23 -> 196 | D23: 176 | E23: 20 | F23: 1190 | G23: =F23/D23 -> 6.7613636 | H23: =ROUND(E23*G23*2,2) -> 270.45 | I23: =ROUND(H23*1.2359,2) -> 334.25
A24: Medicīnas māsa | B24: 1 | C24: =D24+E24 -> 188 | D24: 176 | E24: 12 | F24: 1190 | G24: =F24/D24 -> 6.7613636 | H24: =ROUND(E24*G24*2,2) -> 162.27 | I24: =ROUND(H24*1.2359,2) -> 200.55
... A26: Medicīnas māsa | B26: 1 | C26: =D26+E26 -> 202 | D26: 176 | E26: 26 | F26: 1190 | G26: =F26/D26 -> 6.7613636 | H26: =ROUND(E26*G26*2,2) -> 351.59 | I26: =ROUND(H26*1.2359,2) -> 434.53
A27: Ārstniecības un pacientu aprūpes atbalsta personas, māsu palīgi, zobārstu aistenti, kopā, tai skaitā: | B27: =SUM(B28:B42) -> 15 | E27: =SUM(E28:E42) -> 284 | H27: =SUM(H28:H42) -> 2788.25 | I27: =SUM(I28:I42) -> 3446.03
A28: Māsu palīgs | B28: 1 | C28: =D28+E28 -> 200 | D28: 176 | E28: 24 | F28: 875 | G28: =F28/D28 -> 4.9715909 | H28: =ROUND(E28*G28*2,2) -> 238.64 | I28: =ROUND(H28*1.2359,2) -> 294.94
A29: Māsu palīgs | B29: 1 | C29: =D29+E29 -> 200 | D29: 176 | E29: 24 | F29: 875 | G29: =F29/D29 -> 4.9715909 | H29: =ROUND(E29*G29*2,2) -> 238.64 | I29: =ROUND(H29*1.2359,2) -> 294.94
A30: Māsu palīgs | B30: 1 | C30: =D30+E30 -> 192 | D30: 176 | E30: 16 | F30: 875 | G30: =F30/D30 -> 4.9715909 | H30: =ROUND(E30*G30*2,2) -> 159.09 | I30: =ROUND(H30*1.2359,2) -> 196.62
A31: Māsu palīgs | B31: 1 | C31: =D31+E31 -> 200 | D31: 176 | E31: 24 | F31: 875 | G31: =F31/D31 -> 4.9715909 | H31: =ROUND(E31*G31*2,2) -> 238.64 | I31: =ROUND(H31*1.2359,2) -> 294.94
A32: Māsu palīgs | B32: 1 | C32: =D32+E32 -> 184 | D32: 176 | E32: 8 | F32: 875 | G32: =F32/D32 -> 4.9715909 | H32: =ROUND(E32*G32*2,2) -> 79.55 | I32: =ROUND(H32*1.2359,2) -> 98.32
A33: Māsu palīgs | B33: 1 | C33: =D33+E33 -> 188 | D33: 176 | E33: 12 | F33: 875 | G33: =F33/D33 -> 4.9715909 | H33: =ROUND(E33*G33*2,2) -> 119.32 | I33: =ROUND(H33*1.2359,2) -> 147.47
A34: Māsu palīgs | B34: 1 | C34: =D34+E34 -> 188 | D34: 176 | E34: 12 | F34: 875 | G34: =F34/D34 -> 4.9715909 | H34: =ROUND(E34*G34*2,2) -> 119.32 | I34: =ROUND(H34*1.2359,2) -> 147.47
A35: Māsu palīgs | B35: 1 | C35: =D35+E35 -> 184 | D35: 176 | E35: 8 | F35: 875 | G35: =F35/D35 -> 4.9715909 | H35: =ROUND(E35*G35*2,2) -> 79.55 | I35: =ROUND(H35*1.2359,2) -> 98.32
A36: Māsu palīgs | B36: 1 | C36: =D36+E36 -> 188 | D36: 176 | E36: 12 | F36: 875 | G36: =F36/D36 -> 4.9715909 | H36: =ROUND(E36*G36*2,2) -> 119.32 | I36: =ROUND(H36*1.2359,2) -> 147.47
A37: Māsu palīgs | B37: 1 | C37: =D37+E37 -> 212 | D37: 176 | E37: 36 | F37: 875 | G37: =F37/D37 -> 4.9715909 | H37: =ROUND(E37*G37*2,2) -> 357.95 | I37: =ROUND(H37*1.2359,2) -> 442.39
A38: Māsu palīgs | B38: 1 | C38: =D38+E38 -> 192 | D38: 176 | E38: 16 | F38: 875 | G38: =F38/D38 -> 4.9715909 | H38: =ROUND(E38*G38*2,2) -> 159.09 | I38: =ROUND(H38*1.2359,2) -> 196.62
A39: Māsu palīgs | B39: 1 | C39: =D39+E39 -> 200 | D39: 176 | E39: 24 | F39: 875 | G39: =F39/D39 -> 4.9715909 | H39: =ROUND(E39*G39*2,2) -> 238.64 | I39: =ROUND(H39*1.2359,2) -> 294.94
... A42: Māsu palīgs | B42: 1 | C42: =D42+E42 -> 200 | D42: 176 | E42: 24 | F42: 777 | G42: =F42/D42 -> 4.4147727 | H42: =ROUND(E42*G42*2,2) -> 211.91 | I42: =ROUND(H42*1.2359,2) -> 261.9
A43: Pārējie darbinieki, kuri tieši iesaistīti darbā ar Covid-19, kopā, tai skaitā: | B43: =SUM(B44:B45) -> 2 | E43: =SUM(E44:E45) -> 14 | H43: =SUM(H44:H45) -> 117.73 | I43: =SUM(I44:I45) -> 145.5
A44: Sanitārs | B44: 1 | C44: =D44+E44 -> 178 | D44: 176 | E44: 2 | F44: 740 | G44: =F44/D44 -> 4.2045455 | H44: =ROUND(E44*G44*2,2) -> 16.82 | I44: =ROUND(H44*1.2359,2) -> 20.79
A45: Sanitārs | B45: 1 | C45: =D45+E45 -> 188 | D45: 176 | E45: 12 | F45: 740 | G45: =F45/D45 -> 4.2045455 | H45: =ROUND(E45*G45*2,2) -> 100.91 | I45: =ROUND(H45*1.2359,2) -> 124.71

Sheet Balvi-Gulbene_maijs_aug
H1: 1.13.Pielikums
A2: Pārskats par darba veicējiem (ārstniecības personām), virs normālā darba laika nostrādātām stundām, apmaksājamām stundām un izdevumiem, kas radušies saistībā ar mērķi ierobežot Covid-19 izplatību
A4: Iestādes nosaukums: SIA "Balvu un Gulbenes slimnīcu apvienība"
A5: Pārskata periods: Maijs - Augusts
B7: Nodarbināto skaits mēnesī | C7: Apmaksājamais laiks mēnesī, stundas (tai skaitā summētā darba laika ietvaros) | F7: Mēnešalga no kuras rēķina stundas likmi | G7: Stundas likme (aprēķināta atbilstoši mēnešalgai vai darba līgumā noteiktā stundas likme)2 | H7: Apmaksājamā 100% piemaksa par nostrādātām virsstundām virs normālā darba laika (tai skaitā summētā darba laika ietvaros) | I7: Izdevumi par virsstundām kopā ar VSOAI, EUR
C8: Kopā | D8: līdz normālam darba laikam | E8: virsstundas - virs normālā darba laika, kas saistītas ar darbu ar Covid-19
A10: 1 | B10: 2 | C10: 3=4+5 | D10: 4 | E10: 5 | F10: 6 | G10: 7 | H10: 8 | I10: 9=8+VSOAI
A11: KOPĀ | B11: =B12+B14+B20+B23 -> 11 | E11: =E12+E14+E20+E23 -> 322 | H11: =H12+H14+H20+H23 -> 3166.56 | I11: =I12+I14+I20+I23 -> 3913.56
A12: Ārsti, zobārsti un funkcionālie speciālisti, kopā, tai skaitā: | B12: =SUM(B13:B13) -> 1 | E12: =SUM(E13:E13) -> 24 | H12: =SUM(H13:H13) -> 456 | I12: =SUM(I13:I13) -> 563.57
A13: Ārsts | B13: 1 | C13: =D13+E13 -> 582 | D13: 558 | E13: 24 | G13: 9.5 | H13: =ROUND(E13*G13*2,2) -> 456 | I13: =ROUND(H13*1.2359,2) -> 563.57
A14: Ārstniecības un pacientu aprūpes personas un funkcionālo speciālistu asistenti, kopā, tai skaitā: | B14: =SUM(B15:B19) -> 5 | E14: =SUM(E15:E19) -> 129 | H14: =SUM(H15:H19) -> 1483.2 | I14: =SUM(I15:I19) -> 1833.09
A15: Medicīnas māsa | B15: 1 | C15: =D15+E15 -> 696 | D15: 662 | E15: 34 | G15: 5.4 | H15: =ROUND(E15*G15*2,2) -> 367.2 | I15: =ROUND(H15*1.2359,2) -> 453.82
A16: Medicīnas māsa | B16: 1 | C16: =D16+E16 -> 479 | D16: 431 | E16: 48 | G16: 6.15 | H16: =ROUND(E16*G16*2,2) -> 590.4 | I16: =ROUND(H16*1.2359,2) -> 729.68
A17: Medicīnas māsa | B17: 1 | C17: =D17+E17 -> 321 | D17: 286 | E17: 35 | G17: 5.4 | H17: =ROUND(E17*G17*2,2) -> 378 | I17: =ROUND(H17*1.2359,2) -> 467.17
A18: Medicīnas māsa | B18: 1 | C18: =D18+E18 -> 600 | D18: 598 | E18: 2 | G18: 6.15 | H18: =ROUND(E18*G18*2,2) -> 24.6 | I18: =ROUND(H18*1.2359,2) -> 30.4
A19: Ārsta palīgs | B19: 1 | C19: =D19+E19 -> 664 | D19: 654 | E19: 10 | G19: 6.15 | H19: =ROUND(E19*G19*2,2) -> 123 | I19: =ROUND(H19*1.2359,2) -> 152.02
A20: Ārstniecības un pacientu aprūpes atbalsta personas, māsu palīgi, zobārstu aistenti, kopā, tai skaitā: | B20: =SUM(B21:B22) -> 2 | E20: =SUM(E21:E22) -> 49 | H20: =SUM(H21:H22) -> 423.36 | I20: =SUM(I21:I22) -> 523.23
A21: Māsu palīgs | B21: 1 | C21: =D21+E21 -> 495 | D21: 471 | E21: 24 | G21: 4.32 | H21: =ROUND(E21*G21*2,2) -> 207.36 | I21: =ROUND(H21*1.2359,2) -> 256.28
A22: Māsu palīgs | B22: 1 | C22: =D22+E22 -> 624 | D22: 599 | E22: 25 | G22: 4.32 | H22: =ROUND(E22*G22*2,2) -> 216 | I22: =ROUND(H22*1.2359,2) -> 266.95
A23: Pārējie darbinieki, kuri tieši iesaistīti darbā ar Covid-19, kopā, tai skaitā: | B23: =SUM(B24:B26) -> 3 | E23: =SUM(E24:E26) -> 120 | H23: =SUM(H24:H26) -> 804 | I23: =SUM(I24:I26) -> 993.67
A24: Sanitārs | B24: 1 | C24: =D24+E24 -> 646 | D24: 598 | E24: 48 | G24: 3.35 | H24: =ROUND(E24*G24*2,2) -> 321.6 | I24: =ROUND(H24*1.2359,2) -> 397.47
A25: Sanitārs | B25: 1 | C25: =D25+E25 -> 567 | D25: 519 | E25: 48 | G25: 3.35 | H25: =ROUND(E25*G25*2,2) -> 321.6 | I25: =ROUND(H25*1.2359,2) -> 397.47
A26: Sanitārs | B26: 1 | C26: =D26+E26 -> 566 | D26: 542 | E26: 24 | G26: 3.35 | H26: =ROUND(E26*G26*2,2) -> 160.8 | I26: =ROUND(H26*1.2359,2) -> 198.73

Sheet Daugavpils_psih_jūl
H1: 1.14.Pielikums
A2: Pārskats par darba veicējiem (ārstniecības personām), virs normālā darba laika nostrādātām stundām, apmaksājamām stundām un izdevumiem, kas radušies saistībā ar mērķi ierobežot Covid-19 izplatību
A4: Iestādes nosaukums: VSIA „Daugavpils psihoneiroloģiskā slimnīca”
A5: Pārskata mēnesis: Jūlijs
B7: Nodarbināto skaits mēnesī | C7: Apmaksājamais laiks mēnesī, stundas (tai skaitā summētā darba laika ietvaros) | F7: Mēnešalga no kuras rēķina stundas likmi | G7: Stundas likme (aprēķināta atbilstoši mēnešalgai vai darba līgumā noteiktā stundas likme)2 | H7: Apmaksājamā 100% piemaksa par nostrādātām virsstundām virs normālā darba laika (tai skaitā summētā darba laika ietvaros) | I7: Izdevumi par virsstundām kopā ar VSOAI, EUR
C8: Kopā | D8: līdz normālam darba laikam | E8: virsstundas - virs normālā darba laika, kas saistītas ar darbu ar Covid-19
A10: 1 | B10: 2 | C10: 3=4+5 | D10: 4 | E10: 5 | F10: 6 | G10: 7 | H10: 8 | I10: 9=8+VSOAI
A11: KOPĀ | B11: =B12+B19 -> 7 | E11: =E12+E19 -> 67 | H11: =H12+H19 -> 744.008 | I11: =I12+I19 -> 919.52
A12: Daugavpils psihoneiroloģiskā slimnīca | B12: =B13+B16 -> 4 | E12: =E13+E16 -> 40 | H12: =H13+H16 -> 486.688 | I12: =I13+I16 -> 601.49
A13: Ārstniecības un pacientu aprūpes personas un funkcionālo speciālistu asistenti, kopā, tai skaitā: | B13: =SUM(B14:B15) -> 2 | E13: =SUM(E14:E15) -> 16 | H13: =SUM(H14:H15) -> 239.968 | I13: =SUM(I14:I15) -> 296.57
A14: Māsa (vispārējās aprūpes māsa) psihiatrijā un narkoloģijā1 | B14: 1 | C14: =D14+E14 -> 151 | D14: 147 | E14: 4 | F14: 1103 | G14: =ROUND(F14/147.08,3) -> 7.499 | H14: =ROUND(E14*G14,3)*2 -> 59.992 | I14: =ROUND(H14*1.2359,2) -> 74.14
A15: Māsa (vispārējās aprūpes māsa) psihiatrijā un narkoloģijā2 | B15: 1 | C15: =D15+E15 -> 159 | D15: 147 | E15: 12 | F15: 1103 | G15: =ROUND(F15/147.08,3) -> 7.499 | H15: =ROUND(E15*G15,3)*2 -> 179.976 | I15: =ROUND(H15*1.2359,2) -> 222.43
A16: Ārstniecības un pacientu aprūpes atbalsta personas, māsu palīgi, zobārstu aistenti, kopā, tai skaitā: | B16: =SUM(B17:B18) -> 2 | E16: =SUM(E17:E18) -> 24 | H16: =SUM(H17:H18) -> 246.72 | I16: =SUM(I17:I18) -> 304.92
A17: Māsas palīgs | B17: 1 | C17: =D17+E17 -> 159 | D17: 147 | E17: 12 | F17: 756 | G17: =ROUND(F17/147.08,3) -> 5.14 | H17: =ROUND(E17*G17,3)*2 -> 123.36 | I17: =ROUND(H17*1.2359,2) -> 152.46
A18: Māsas palīgs | B18: 1 | C18: =D18+E18 -> 159 | D18: 147 | E18: 12 | F18: 756 | G18: =ROUND(F18/147.08,3) -> 5.14 | H18: =ROUND(E18*G18,3)*2 -> 123.36 | I18: =ROUND(H18*1.2359,2) -> 152.46
A19: Aknistes psihoneiroloģiskā slimnīca | B19: =B20+B23 -> 3 | E19: =E20+E23 -> 27 | H19: =H20+H23 -> 257.32 | I19: =I20+I23 -> 318.03
A20: Ārstniecības un pacientu aprūpes atbalsta personas, māsu palīgi, zobārstu aistenti, kopā, tai skaitā: | B20: =SUM(B21:B22) -> 2 | E20: =SUM(E21:E22) -> 19 | H20: =SUM(H21:H22) -> 195.32 | I20: =SUM(I21:I22) -> 241.4
A21: Māsas palīgs AS | B21: 1 | C21: =D21+E21 -> 163 | D21: 147 | E21: 16 | F21: 756 | G21: =ROUND(F21/147.08,3) -> 5.14 | H21: =ROUND(E21*G21,3)*2 -> 164.48 | I21: =ROUND(H21*1.2359,2) -> 203.28
A22: Māsas palīgs AS | B22: 1 | C22: =D22+E22 -> 150 | D22: 147 | E22: 3 | F22: 756 | G22: =ROUND(F22/147.08,3) -> 5.14 | H22: =ROUND(E22*G22,3)*2 -> 30.84 | I22: =ROUND(H22*1.2359,2) -> 38.12
A23: Pārējie darbinieki, kuri tieši iesaistīti darbā ar Covid-19, kopā, tai skaitā: | B23: =SUM(B24:B24) -> 1 | E23: =SUM(E24:E24) -> 8 | H23: =SUM(H24:H24) -> 62 | I23: =SUM(I24:I24) -> 76.63
A24: Sanitārs AS | B24: 1 | C24: =D24+E24 -> 155 | D24: 147 | E24: 8 | F24: 570 | G24: =ROUND(F24/147.08,3) -> 3.875 | H24: =ROUND(E24*G24,3)*2 -> 62 | I24: =ROUND(H24*1.2359,2) -> 76.63

Sheet Daugavpils_psih_aug
H1: 1.15.Pielikums
A2: Pārskats par darba veicējiem (ārstniecības personām), virs normālā darba laika nostrādātām stundām, apmaksājamām stundām un izdevumiem, kas radušies saistībā ar mērķi ierobežot Covid-19 izplatību
A4: Iestādes nosaukums: VSIA „Daugavpils psihoneiroloģiskā slimnīca”
A5: Pārskata mēnesis: Augusts
B7: Nodarbināto skaits mēnesī | C7: Apmaksājamais laiks mēnesī, stundas (tai skaitā summētā darba laika ietvaros) | F7: Mēnešalga no kuras rēķina stundas likmi | G7: Stundas likme (aprēķināta atbilstoši mēnešalgai vai darba līgumā noteiktā stundas likme)2 | H7: Apmaksājamā 100% piemaksa par nostrādātām virsstundām virs normālā darba laika (tai skaitā summētā darba laika ietvaros) | I7: Izdevumi par virsstundām kopā ar VSOAI, EUR
C8: Kopā | D8: līdz normālam darba laikam | E8: virsstundas - virs normālā darba laika, kas saistītas ar darbu ar Covid-19
A10: 1 | B10: 2 | C10: 3=4+5 | D10: 4 | E10: 5 | F10: 6 | G10: 7 | H10: 8 | I10: 9=8+VSOAI
A11: KOPĀ | B11: =B12+B42 -> 35 | E11: =E12+E42 -> 582 | H11: =H12+H42 -> 6986.448 | I11: =I12+I42 -> 8624.09
A12: Daugavpils psihoneiroloģiskā slimnīca | B12: =B13+B25 -> 27 | E12: =E13+E25 -> 457 | H12: =H13+H25 -> 5489.84 | I12: =I13+I25 -> 6774.43
A13: Ārstniecības un pacientu aprūpes personas un funkcionālo speciālistu asistenti, kopā, tai skaitā: | B13: =SUM(B14:B24) -> 11 | E13: =SUM(E14:E24) -> 169 | H13: =SUM(H14:H24) -> 2525.456 | I13: =SUM(I14:I24) -> 3121.2
A14: Māsa ( vispārīgās aprūpes māsa) psihiatrijā un narkoloģijā 1 | B14: 1 | C14: =D14+E14 -> 173 | D14: 161 | E14: 12 | F14: 1103 | G14: =ROUND(F14/147.08,3) -> 7.499 | H14: =ROUND(E14*G14,3)*2 -> 179.976 | I14: =ROUND(H14*1.2359,2) -> 222.43
A15: Māsa ( vispārīgās aprūpes māsa) psihiatrijā un narkoloģijā 2 | B15: 1 | C15: =D15+E15 -> 173 | D15: 161 | E15: 12 | F15: 1086 | G15: =ROUND(F15/147.08,3) -> 7.384 | H15: =ROUND(E15*G15,3)*2 -> 177.216 | I15: =ROUND(H15*1.2359,2) -> 219.02
A16: Māsa ( vispārīgās aprūpes māsa) psihiatrijā un narkoloģijā 3 | B16: 1 | C16: =D16+E16 -> 173 | D16: 161 | E16: 12 | F16: 1086 | G16: =ROUND(F16/147.08,3) -> 7.384 | H16: =ROUND(E16*G16,3)*2 -> 177.216 | I16: =ROUND(H16*1.2359,2) -> 219.02
A17: Māsa ( vispārīgās aprūpes māsa) psihiatrijā un narkoloģijā 4 | B17: 1 | C17: =D17+E17 -> 185 | D17: 161 | E17: 24 | F17: 1103 | G17: =ROUND(F17/147.08,3) -> 7.499 | H17: =ROUND(E17*G17,3)*2 -> 359.952 | I17: =ROUND(H17*1.2359,2) -> 444.86
A18: Māsa ( vispārīgās aprūpes māsa) psihiatrijā un narkoloģijā 5 | B18: 1 | C18: =D18+E18 -> 173 | D18: 161 | E18: 12 | F18: 1103 | G18: =ROUND(F18/147.08,3) -> 7.499 | H18: =ROUND(E18*G18,3)*2 -> 179.976 | I18: =ROUND(H18*1.2359,2) -> 222.43
A19: Māsa ( vispārīgās aprūpes māsa) psihiatrijā un narkoloģijā 6 | B19: 1 | C19: =D19+E19 -> 197 | D19: 161 | E19: 36 | F19: 1103 | G19: =ROUND(F19/147.08,3) -> 7.499 | H19: =ROUND(E19*G19,3)*2 -> 539.928 | I19: =ROUND(H19*1.2359,2) -> 667.3
A20: Māsa ( vispārīgās aprūpes māsa) psihiatrijā un narkoloģijā 9 | B20: 1 | C20: =D20+E20 -> 169 | D20: 161 | E20: 8 | F20: 1103 | G20: =ROUND(F20/147.08,3) -> 7.499 | H20: =ROUND(E20*G20,3)*2 -> 119.984 | I20: =ROUND(H20*1.2359,2) -> 148.29
A21: Māsa ( vispārīgās aprūpes māsa) psihiatrijā un narkoloģijā 10 | B21: 1 | C21: =D21+E21 -> 173 | D21: 161 | E21: 12 | F21: 1086 | G21: =ROUND(F21/147.08,3) -> 7.384 | H21: =ROUND(E21*G21,3)*2 -> 177.216 | I21: =ROUND(H21*1.2359,2) -> 219.02
A22: Māsa ( vispārīgās aprūpes māsa) 11 | B22: 1 | C22: =D22+E22 -> 173 | D22: 161 | E22: 12 | F22: 1032 | G22: =ROUND(F22/147.08,3) -> 7.017 | H22: =ROUND(E22*G22,3)*2 -> 168.408 | I22: =ROUND(H22*1.2359,2) -> 208.14
A23: Māsa ( vispārīgās aprūpes māsa) psihiatrijā un narkoloģijā 12 | B23: 1 | C23: =D23+E23 -> 173 | D23: 161 | E23: 12 | F23: 1103 | G23: =ROUND(F23/147.08,3) -> 7.499 | H23: =ROUND(E23*G23,3)*2 -> 179.976 | I23: =ROUND(H23*1.2359,2) -> 222.43
A24: Māsa ( vispārīgās aprūpes māsa) psihiatrijā un narkoloģijā 13 | B24: 1 | C24: =D24+E24 -> 178 | D24: 161 | E24: 17 | F24: 1149 | G24: =ROUND(F24/147.08,3) -> 7.812 | H24: =ROUND(E24*G24,3)*2 -> 265.608 | I24: =ROUND(H24*1.2359,2) -> 328.26
A25: Ārstniecības un pacientu aprūpes atbalsta personas, māsu palīgi, zobārstu aistenti, kopā, tai skaitā: | B25: =SUM(B26:B41) -> 16 | E25: =SUM(E26:E41) -> 288 | H25: =SUM(H26:H41) -> 2964.384 | I25: =SUM(I26:I41) -> 3653.23
A26: Māsas palīgs 1 | B26: 1 | C26: =D26+E26 -> 197 | D26: 161 | E26: 36 | F26: 756 | G26: =ROUND(F26/147.08,3) -> 5.14 | H26: =ROUND(E26*G26,3)*2 -> 370.08 | I26: =ROUND(H26*1.2359,2) -> 457.38
A27: Māsas palīgs 2 | B27: 1 | C27: =D27+E27 -> 173 | D27: 161 | E27: 12 | F27: 756 | G27: =ROUND(F27/147.08,3) -> 5.14 | H27: =ROUND(E27*G27,3)*2 -> 123.36 | I27: =ROUND(H27*1.2359,2) -> 152.46
A28: Māsas palīgs 3 | B28: 1 | C28: =D28+E28 -> 173 | D28: 161 | E28: 12 | F28: 756 | G28: =ROUND(F28/147.08,3) -> 5.14 | H28: =ROUND(E28*G28,3)*2 -> 123.36 | I28: =ROUND(H28*1.2359,2) -> 152.46
A29: Māsas palīgs 4 | B29: 1 | C29: =D29+E29 -> 173 | D29: 161 | E29: 12 | F29: 756 | G29: =ROUND(F29/147.08,3) -> 5.14 | H29: =ROUND(E29*G29,3)*2 -> 123.36 | I29: =ROUND(H29*1.2359,2) -> 152.46
A30: Māsas palīgs 5 | B30: 1 | C30: =D30+E30 -> 185 | D30: 161 | E30: 24 | F30: 756 | G30: =ROUND(F30/147.08,3) -> 5.14 | H30: =ROUND(E30*G30,3)*2 -> 246.72 | I30: =ROUND(H30*1.2359,2) -> 304.92
A31: Māsas palīgs 6 | B31: 1 | C31: =D31+E31 -> 173 | D31: 161 | E31: 12 | F31: 756 | G31: =ROUND(F31/147.08,3) -> 5.14 | H31: =ROUND(E31*G31,3)*2 -> 123.36 | I31: =ROUND(H31*1.2359,2) -> 152.46
A32: Māsas palīgs 7 | B32: 1 | C32: =D32+E32 -> 173 | D32: 161 | E32: 12 | F32: 756 | G32: =ROUND(F32/147.08,3) -> 5.14 | H32: =ROUND(E32*G32,3)*2 -> 123.36 | I32: =ROUND(H32*1.2077,2) -> 148.98
A33: Māsas palīgs 8 | B33: 1 | C33: =D33+E33 -> 173 | D33: 161 | E33: 12 | F33: 756 | G33: =ROUND(F33/147.08,3) -> 5.14 | H33: =ROUND(E33*G33,3)*2 -> 123.36 | I33: =ROUND(H33*1.2077,2) -> 148.98
A34: Māsas palīgs 9 | B34: 1 | C34: =D34+E34 -> 185 | D34: 161 | E34: 24 | F34: 756 | G34: =ROUND(F34/147.08,3) -> 5.14 | H34: =ROUND(E34*G34,3)*2 -> 246.72 | I34: =ROUND(H34*1.2359,2) -> 304.92
A35: Māsas palīgs 16 | B35: 1 | C35: =D35+E35 -> 185 | D35: 161 | E35: 24 | F35: 756 | G35: =ROUND(F35/147.08,3) -> 5.14 | H35: =ROUND(E35*G35,3)*2 -> 246.72 | I35: =ROUND(H35*1.2359,2) -> 304.92
A36: Māsas palīgs 17 | B36: 1 | C36: =D36+E36 -> 197 | D36: 161 | E36: 36 | F36: 756 | G36: =ROUND(F36/147.08,3) -> 5.14 | H36: =ROUND(E36*G36,3)*2 -> 370.08 | I36: =ROUND(H36*1.2359,2) -> 457.38
A37: Māsas palīgs 18 | B37: 1 | C37: =D37+E37 -> 173 | D37: 161 | E37: 12 | F37: 756 | G37: =ROUND(F37/147.08,3) -> 5.14 | H37: =ROUND(E37*G37,3)*2 -> 123.36 | I37: =ROUND(H37*1.2359,2) -> 152.46
A38: Māsas palīgs 19 | B38: 1 | C38: =D38+E38 -> 185 | D38: 161 | E38: 24 | F38: 756 | G38: =ROUND(F38/147.08,3) -> 5.14 | H38: =ROUND(E38*G38,3)*2 -> 246.72 | I38: =ROUND(H38*1.2359,2) -> 304.92
A39: Māsas palīgs 20 | B39: 1 | C39: =D39+E39 -> 173 | D39: 161 | E39: 12 | F39: 756 | G39: =ROUND(F39/147.08,3) -> 5.14 | H39: =ROUND(E39*G39,3)*2 -> 123.36 | I39: =ROUND(H39*1.2077,2) -> 148.98
A40: Māsas palīgs 21 | B40: 1 | C40: =D40+E40 -> 173 | D40: 161 | E40: 12 | F40: 756 | G40: =ROUND(F40/147.08,3) -> 5.14 | H40: =ROUND(E40*G40,3)*2 -> 123.36 | I40: =ROUND(H40*1.2359,2) -> 152.46
A41: Māsas palīgs saimnieciskajos jautājumos 1 | B41: 1 | C41: =D41+E41 -> 173 | D41: 161 | E41: 12 | F41: 779 | G41: =ROUND(F41/147.08,3) -> 5.296 | H41: =ROUND(E41*G41,3)*2 -> 127.104 | I41: =ROUND(H41*1.2359,2) -> 157.09
A42: Aknistes psihoneiroloģiskā slimnīca | B42: =B43+B46 -> 8 | E42: =E43+E46 -> 125 | H42: =H43+H46 -> 1496.608 | I42: =I43+I46 -> 1849.66
A43: Ārstniecības un pacientu aprūpes personas un funkcionālo speciālistu asistenti, kopā, tai skaitā: | B43: =SUM(B44:B45) -> 2 | E43: =SUM(E44:E45) -> 42 | H43: =SUM(H44:H45) -> 643.368 | I43: =SUM(I44:I45) -> 795.14
A44: Māsa ( vispārīgās aprūpes māsa) psihiatrijā un narkoloģijā AS 1 | B44: 1 | C44: =D44+E44 -> 188 | D44: 161 | E44: 27 | F44: 1149 | G44: =ROUND(F44/147.08,3) -> 7.812 | H44: =ROUND(E44*G44,3)*2 -> 421.848 | I44: =ROUND(H44*1.2359,2) -> 521.36
A45: Māsa ( vispārīgās aprūpes māsa) psihiatrijā un narkoloģijā AS 2 | B45: 1 | C45: =D45+E45 -> 176 | D45: 161 | E45: 15 | F45: 1086 | G45: =ROUND(F45/147.08,3) -> 7.384 | H45: =ROUND(E45*G45,3)*2 -> 221.52 | I45: =ROUND(H45*1.2359,2) -> 273.78
A46: Ārstniecības un pacientu aprūpes atbalsta personas, māsu palīgi, zobārstu aistenti, kopā, tai skaitā: | B46: =SUM(B47:B52) -> 6 | E46: =SUM(E47:E52) -> 83 | H46: =SUM(H47:H52) -> 853.24 | I46: =SUM(I47:I52) -> 1054.52
A47: Māsas palīgs AS 1 | B47: 1 | C47: =D47+E47 -> 173 | D47: 161 | E47: 12 | F47: 756 | G47: =ROUND(F47/147.08,3) -> 5.14 | H47: =ROUND(E47*G47,3)*2 -> 123.36 | I47: =ROUND(H47*1.2359,2) -> 152.46
A48: Māsas palīgs AS 2 | B48: 1 | C48: =D48+E48 -> 173 | D48: 161 | E48: 12 | F48: 756 | G48: =ROUND(F48/147.08,3) -> 5.14 | H48: =ROUND(E48*G48,3)*2 -> 123.36 | I48: =ROUND(H48*1.2359,2) -> 152.46
A49: Māsas palīgs AS 3 | B49: 1 | C49: =D49+E49 -> 173 | D49: 161 | E49: 12 | F49: 756 | G49: =ROUND(F49/147.08,3) -> 5.14 | H49: =ROUND(E49*G49,3)*2 -> 123.36 | I49: =ROUND(H49*1.2359,2) -> 152.46
A50: Māsas palīgs AS 4 | B50: 1 | C50: =D50+E50 -> 173 | D50: 161 | E50: 12 | F50: 756 | G50: =ROUND(F50/147.08,3) -> 5.14 | H50: =ROUND(E50*G50,3)*2 -> 123.36 | I50: =ROUND(H50*1.2359,2) -> 152.46
A51: Māsas palīgs AS 5 | B51: 1 | C51: =D51+E51 -> 172 | D51: 161 | E51: 11 | F51: 756 | G51: =ROUND(F51/147.08,3) -> 5.14 | H51: =ROUND(E51*G51,3)*2 -> 113.08 | I51: =ROUND(H51*1.2359,2) -> 139.76
A52: Māsas palīgs AS 6 | B52: 1 | C52: =D52+E52 -> 185 | D52: 161 | E52: 24 | F52: 756 | G52: =ROUND(F52/147.08,3) -> 5.14 | H52: =ROUND(E52*G52,3)*2 -> 246.72 | I52: =ROUND(H52*1.2359,2) -> 304.92
A54: Samazināta VSAOI likme - 20,77% vai 21,94%

Sheet Daugavpils_psih_sept
H1: 1.16.Pielikums
A2: Pārskats par darba veicējiem (ārstniecības personām), virs normālā darba laika nostrādātām stundām, apmaksājamām stundām un izdevumiem, kas radušies saistībā ar mērķi ierobežot Covid-19 izplatību
A4: Iestādes nosaukums: VSIA „Daugavpils psihoneiroloģiskā slimnīca”
A5: Pārskata mēnesis: Septembris
B7: Nodarbināto skaits mēnesī | C7: Apmaksājamais laiks mēnesī, stundas (tai skaitā summētā darba laika ietvaros) | F7: Mēnešalga no kuras rēķina stundas likmi | G7: Stundas likme (aprēķināta atbilstoši mēnešalgai vai darba līgumā noteiktā stundas likme)2 | H7: Apmaksājamā 100% piemaksa par nostrādātām virsstundām virs normālā darba laika (tai skaitā summētā darba laika ietvaros) | I7: Izdevumi par virsstundām kopā ar VSOAI, EUR
C8: Kopā | D8: līdz normālam darba laikam | E8: virsstundas - virs normālā darba laika, kas saistītas ar darbu ar Covid-19
A10: 1 | B10: 2 | C10: 3=4+5 | D10: 4 | E10: 5 | F10: 6 | G10: 7 | H10: 8 | I10: 9=8+VSOAI
A11: KOPĀ | B11: =B12+B29 -> 27 | E11: =E12+E29 -> 350 | H11: =H12+H29 -> 4291.32 | I11: =I12+I29 -> 5296.73
A12: Daugavpils psihoneiroloģiskā slimnīca | B12: =B13+B22 -> 14 | E12: =E13+E22 -> 228 | H12: =H13+H22 -> 2899.16 | I12: =I13+I22 -> 3576.13
A13: Ārstniecības un pacientu aprūpes personas un funkcionālo speciālistu asistenti, kopā, tai skaitā: | B13: =SUM(B14:B21) -> 8 | E13: =SUM(E14:E21) -> 120 | H13: =SUM(H14:H21) -> 1788.92 | I13: =SUM(I14:I21) -> 2210.95
A14: Māsa ( vispārīgās aprūpes māsa) psihiatrijā un narkoloģijā 1 | B14: 1 | C14: =D14+E14 -> 166 | D14: 154 | E14: 12 | F14: 1103 | G14: =ROUND(F14/147.08,3) -> 7.499 | H14: =ROUND(E14*G14,2)*2 -> 179.98 | I14: =ROUND(H14*1.2359,2) -> 222.44
A15: Māsa ( vispārīgās aprūpes māsa) psihiatrijā un narkoloģijā 2 | B15: 1 | C15: =D15+E15 -> 178 | D15: 154 | E15: 24 | F15: 1149 | G15: =ROUND(F15/147.08,3) -> 7.812 | H15: =ROUND(E15*G15,2)*2 -> 374.98 | I15: =ROUND(H15*1.2359,2) -> 463.44
A16: Māsa ( vispārīgās aprūpes māsa) psihiatrijā un narkoloģijā 3 | B16: 1 | C16: =D16+E16 -> 166 | D16: 154 | E16: 12 | F16: 1103 | G16: =ROUND(F16/147.08,3) -> 7.499 | H16: =ROUND(E16*G16,2)*2 -> 179.98 | I16: =ROUND(H16*1.2359,2) -> 222.44
A17: Māsa ( vispārīgās aprūpes māsa) psihiatrijā un narkoloģijā 4 | B17: 1 | C17: =D17+E17 -> 166 | D17: 154 | E17: 12 | F17: 1103 | G17: =ROUND(F17/147.08,3) -> 7.499 | H17: =ROUND(E17*G17,2)*2 -> 179.98 | I17: =ROUND(H17*1.2359,2) -> 222.44
A18: Māsa ( vispārīgās aprūpes māsa) psihiatrijā un narkoloģijā 5 | B18: 1 | C18: =D18+E18 -> 178 | D18: 154 | E18: 24 | F18: 1032 | G18: =ROUND(F18/147.08,3) -> 7.017 | H18: =ROUND(E18*G18,2)*2 -> 336.82 | I18: =ROUND(H18*1.2359,2) -> 416.28
A19: Māsa ( vispārīgās aprūpes māsa) psihiatrijā un narkoloģijā 6 | B19: 1 | C19: =D19+E19 -> 166 | D19: 154 | E19: 12 | F19: 1103 | G19: =ROUND(F19/147.08,3) -> 7.499 | H19: =ROUND(E19*G19,2)*2 -> 179.98 | I19: =ROUND(H19*1.2359,2) -> 222.44
A20: Māsa ( vispārīgās aprūpes māsa) psihiatrijā un narkoloģijā 7 | B20: 1 | C20: =D20+E20 -> 166 | D20: 154 | E20: 12 | F20: 1086 | G20: =ROUND(F20/147.08,3) -> 7.384 | H20: =ROUND(E20*G20,2)*2 -> 177.22 | I20: =ROUND(H20*1.2359,2) -> 219.03
A21: Māsa ( vispārīgās aprūpes māsa) psihiatrijā un narkoloģijā 8 | B21: 1 | C21: =D21+E21 -> 166 | D21: 154 | E21: 12 | F21: 1103 | G21: =ROUND(F21/147.08,3) -> 7.499 | H21: =ROUND(E21*G21,2)*2 -> 179.98 | I21: =ROUND(H21*1.2359,2) -> 222.44
A22: Ārstniecības un pacientu aprūpes atbalsta personas, māsu palīgi, zobārstu aistenti, kopā, tai skaitā: | B22: =SUM(B23:B28) -> 6 | E22: =SUM(E23:E28) -> 108 | H22: =SUM(H23:H28) -> 1110.24 | I22: =SUM(I23:I28) -> 1365.18
A23: Māsas palīgs 1 | B23: 1 | C23: =D23+E23 -> 166 | D23: 154 | E23: 12 | F23: 756 | G23: =ROUND(F23/147.08,3) -> 5.14 | H23: =ROUND(E23*G23,2)*2 -> 123.36 | I23: =ROUND(H23*1.2077,2) -> 148.98
A24: Māsas palīgs 2 | B24: 1 | C24: =D24+E24 -> 178 | D24: 154 | E24: 24 | F24: 756 | G24: =ROUND(F24/147.08,3) -> 5.14 | H24: =ROUND(E24*G24,2)*2 -> 246.72 | I24: =ROUND(H24*1.2359,2) -> 304.92
A25: Māsas palīgs 3 | B25: 1 | C25: =D25+E25 -> 166 | D25: 154 | E25: 12 | F25: 756 | G25: =ROUND(F25/147.08,3) -> 5.14 | H25: =ROUND(E25*G25,2)*2 -> 123.36 | I25: =ROUND(H25*1.2077,2) -> 148.98
A26: Māsas palīgs 4 | B26: 1 | C26: =D26+E26 -> 178 | D26: 154 | E26: 24 | F26: 756 | G26: =ROUND(F26/147.08,3) -> 5.14 | H26: =ROUND(E26*G26,2)*2 -> 246.72 | I26: =ROUND(H26*1.2359,2) -> 304.92
A27: Māsas palīgs 5 | B27: 1 | C27: =D27+E27 -> 166 | D27: 154 | E27: 12 | F27: 756 | G27: =ROUND(F27/147.08,3) -> 5.14 | H27: =ROUND(E27*G27,2)*2 -> 123.36 | I27: =ROUND(H27*1.2359,2) -> 152.46
A28: Māsas palīgs 6 | B28: 1 | C28: =D28+E28 -> 178 | D28: 154 | E28: 24 | F28: 756 | G28: =ROUND(F28/147.08,3) -> 5.14 | H28: =ROUND(E28*G28,2)*2 -> 246.72 | I28: =ROUND(H28*1.2359,2) -> 304.92
A29: Aknistes psihoneiroloģiskā slimnīca | B29: =B30+B33+B42 -> 13 | E29: =E30+E33+E42 -> 122 | H29: =H30+H33+H42 -> 1392.16 | I29: =I30+I33+I42 -> 1720.6
A30: Ārstniecības un pacientu aprūpes personas un funkcionālo speciālistu asistenti, kopā, tai skaitā: | B30: =SUM(B31:B32) -> 2 | E30: =SUM(E31:E32) -> 38 | H30: =SUM(H31:H32) -> 581.74 | I30: =SUM(I31:I32) -> 718.97
A31: Māsa ( vispārīgās aprūpes māsa) psihiatrijā un narkoloģijā AS 1 | B31: 1 | C31: =D31+E31 -> 168 | D31: 154 | E31: 14 | F31: 1086 | G31: =ROUND(F31/147.08,3) -> 7.384 | H31: =ROUND(E31*G31,2)*2 -> 206.76 | I31: =ROUND(H31*1.2359,2) -> 255.53
A32: Māsa ( vispārīgās aprūpes māsa) psihiatrijā un narkoloģijā AS 2 | B32: 1 | C32: =D32+E32 -> 178 | D32: 154 | E32: 24 | F32: 1149 | G32: =ROUND(F32/147.08,3) -> 7.812 | H32: =ROUND(E32*G32,2)*2 -> 374.98 | I32: =ROUND(H32*1.2359,2) -> 463.44
A33: Ārstniecības un pacientu aprūpes atbalsta personas, māsu palīgi, zobārstu aistenti, kopā, tai skaitā: | B33: =SUM(B34:B41) -> 8 | E33: =SUM(E34:E41) -> 63 | H33: =SUM(H34:H41) -> 647.64 | I33: =SUM(I34:I41) -> 800.45
A34: Māsas palīgs AS 1 | B34: 1 | C34: =D34+E34 -> 161 | D34: 154 | E34: 7 | F34: 756 | G34: =ROUND(F34/147.08,3) -> 5.14 | H34: =ROUND(E34*G34,2)*2 -> 71.96 | I34: =ROUND(H34*1.2359,2) -> 88.94
A35: Māsas palīgs AS 2 | B35: 1 | C35: =D35+E35 -> 161 | D35: 154 | E35: 7 | F35: 756 | G35: =ROUND(F35/147.08,3) -> 5.14 | H35: =ROUND(E35*G35,2)*2 -> 71.96 | I35: =ROUND(H35*1.2359,2) -> 88.94
A36: Māsas palīgs AS 3 | B36: 1 | C36: =D36+E36 -> 161 | D36: 154 | E36: 7 | F36: 756 | G36: =ROUND(F36/147.08,3) -> 5.14 | H36: =ROUND(E36*G36,2)*2 -> 71.96 | I36: =ROUND(H36*1.2359,2) -> 88.94
A37: Māsas palīgs AS 4 | B37: 1 | C37: =D37+E37 -> 161 | D37: 154 | E37: 7 | F37: 756 | G37: =ROUND(F37/147.08,3) -> 5.14 | H37: =ROUND(E37*G37,2)*2 -> 71.96 | I37: =ROUND(H37*1.2359,2) -> 88.94
A38: Māsas palīgs AS 5 | B38: 1 | C38: =D38+E38 -> 168 | D38: 154 | E38: 14 | F38: 756 | G38: =ROUND(F38/147.08,3) -> 5.14 | H38: =ROUND(E38*G38,2)*2 -> 143.92 | I38: =ROUND(H38*1.2359,2) -> 177.87
A39: Māsas palīgs AS 6 | B39: 1 | C39: =D39+E39 -> 161 | D39: 154 | E39: 7 | F39: 756 | G39: =ROUND(F39/147.08,3) -> 5.14 | H39: =ROUND(E39*G39,2)*2 -> 71.96 | I39: =ROUND(H39*1.2359,2) -> 88.94
A40: Māsas palīgs AS 7 | B40: 1 | C40: =D40+E40 -> 161 | D40: 154 | E40: 7 | F40: 756 | G40: =ROUND(F40/147.08,3) -> 5.14 | H40: =ROUND(E40*G40,2)*2 -> 71.96 | I40: =ROUND(H40*1.2359,2) -> 88.94
A41: Māsas palīgs AS 8 | B41: 1 | C41: =D41+E41 -> 161 | D41: 154 | E41: 7 | F41: 756 | G41: =ROUND(F41/147.08,3) -> 5.14 | H41: =ROUND(E41*G41,2)*2 -> 71.96 | I41: =ROUND(H41*1.2359,2) -> 88.94
A42: Pārējie darbinieki, kuri tieši iesaistīti darbā ar Covid-19, kopā, tai skaitā: | B42: =SUM(B43:B45) -> 3 | E42: =SUM(E43:E45) -> 21 | H42: =SUM(H43:H45) -> 162.78 | I42: =SUM(I43:I45) -> 201.18
A43: Sanitārs 1 | B43: 1 | C43: =D43+E43 -> 161 | D43: 154 | E43: 7 | F43: 570 | G43: =ROUND(F43/147.08,3) -> 3.875 | H43: =ROUND(E43*G43,2)*2 -> 54.26 | I43: =ROUND(H43*1.2359,2) -> 67.06
A44: Sanitārs 2 | B44: 1 | C44: =D44+E44 -> 161 | D44: 154 | E44: 7 | F44: 570 | G44: =ROUND(F44/147.08,3) -> 3.875 | H44: =ROUND(E44*G44,2)*2 -> 54.26 | I44: =ROUND(H44*1.2359,2) -> 67.06
A45: Sanitārs 3 | B45: 1 | C45: =D45+E45 -> 161 | D45: 154 | E45: 7 | F45: 570 | G45: =ROUND(F45/147.08,3) -> 3.875 | H45: =ROUND(E45*G45,2)*2 -> 54.26 | I45: =ROUND(H45*1.2359,2) -> 67.06
A47: Samazināta VSAOI likme - 20,77% vai 21,94%

Sheet Dugavpils_psih_okt
H1: 1.17.Pielikums
A2: Pārskats par darba veicējiem (ārstniecības personām), virs normālā darba laika nostrādātām stundām, apmaksājamām stundām un izdevumiem, kas radušies saistībā ar mērķi ierobežot Covid-19 izplatību
A4: Iestādes nosaukums: VSIA „Daugavpils psihoneiroloģiskā slimnīca”
A5: Pārskata mēnesis: Oktobris
B7: Nodarbināto skaits mēnesī | C7: Apmaksājamais laiks mēnesī, stundas (tai skaitā summētā darba laika ietvaros) | F7: Mēnešalga no kuras rēķina stundas likmi | G7: Stundas likme (aprēķināta atbilstoši mēnešalgai vai darba līgumā noteiktā stundas likme)2 | H7: Apmaksājamā 100% piemaksa par nostrādātām virsstundām virs normālā darba laika (tai skaitā summētā darba laika ietvaros) | I7: Izdevumi par virsstundām kopā ar VSOAI, EUR
C8: Kopā | D8: līdz normālam darba laikam | E8: virsstundas - virs normālā darba laika, kas saistītas ar darbu ar Covid-19
A10: 1 | B10: 2 | C10: 3=4+5 | D10: 4 | E10: 5 | F10: 6 | G10: 7 | H10: 8 | I10: 9=8+VSOAI
A11: KOPĀ | B11: =B12+B20 -> 12 | E11: =E12+E20 -> 165 | H11: =H12+H20 -> 1888.42 | I11: =I12+I20 -> 2318.32
A12: Daugavpils psihoneiroloģiskā slimnīca | B12: =B13 -> 6 | E12: =E13 -> 96 | H12: =H13 -> 986.88 | I12: =I13 -> 1212.72
A13: Ārstniecības un pacientu aprūpes atbalsta personas, māsu palīgi, zobārstu aistenti, kopā, tai skaitā: | B13: =SUM(B14:B19) -> 6 | E13: =SUM(E14:E19) -> 96 | H13: =SUM(H14:H19) -> 986.88 | I13: =SUM(I14:I19) -> 1212.72
A14: Māsas palīgs 1 | B14: 1 | C14: =D14+E14 -> 159 | D14: 147 | E14: 12 | F14: 756 | G14: =ROUND(F14/147.08,3) -> 5.14 | H14: =ROUND(E14*G14,2)*2 -> 123.36 | I14: =ROUND(H14*1.2359,2) -> 152.46
A15: Māsas palīgs 2 | B15: 1 | C15: =D15+E15 -> 171 | D15: 147 | E15: 24 | F15: 756 | G15: =ROUND(F15/147.08,3) -> 5.14 | H15: =ROUND(E15*G15,2)*2 -> 246.72 | I15: =ROUND(H15*1.2359,2) -> 304.92
A16: Māsas palīgs 3 | B16: 1 | C16: =D16+E16 -> 159 | D16: 147 | E16: 12 | F16: 756 | G16: =ROUND(F16/147.08,3) -> 5.14 | H16: =ROUND(E16*G16,2)*2 -> 123.36 | I16: =ROUND(H16*1.2359,2) -> 152.46
A17: Māsas palīgs 4 | B17: 1 | C17: =D17+E17 -> 159 | D17: 147 | E17: 12 | F17: 756 | G17: =ROUND(F17/147.08,3) -> 5.14 | H17: =ROUND(E17*G17,2)*2 -> 123.36 | I17: =ROUND(H17*1.2359,2) -> 152.46
A18: Māsas palīgs 5 | B18: 1 | C18: =D18+E18 -> 171 | D18: 147 | E18: 24 | F18: 756 | G18: =ROUND(F18/147.08,3) -> 5.14 | H18: =ROUND(E18*G18,2)*2 -> 246.72 | I18: =ROUND(H18*1.2077,2) -> 297.96
A19: Māsas palīgs 6 | B19: 1 | C19: =D19+E19 -> 159 | D19: 147 | E19: 12 | F19: 756 | G19: =ROUND(F19/147.08,3) -> 5.14 | H19: =ROUND(E19*G19,2)*2 -> 123.36 | I19: =ROUND(H19*1.2359,2) -> 152.46
A20: Aknistes psihoneiroloģiskā slimnīca | B20: =B21+B23 -> 6 | E20: =E21+E23 -> 69 | H20: =H21+H23 -> 901.54 | I20: =I21+I23 -> 1105.6
A21: Ārsti, zobārsti un funkcionālie speciālisti, kopā, tai skaitā: | B21: =SUM(B22:B22) -> 1 | E21: =SUM(E22:E22) -> 11 | H21: =SUM(H22:H22) -> 305.3 | I21: =SUM(I22:I22) -> 368.71
A22: Ārsts psihiatrs - nodaļas vadītājs | B22: 1 | C22: =D22+E22 -> 158 | D22: 147 | E22: 11 | F22: 2041 | G22: =ROUND(F22/147.08,3) -> 13.877 | H22: =ROUND(E22*G22,2)*2 -> 305.3 | I22: =ROUND(H22*1.2077,2) -> 368.71
A23: Ārstniecības un pacientu aprūpes atbalsta personas, māsu palīgi, zobārstu aistenti, kopā, tai skaitā: | B23: =SUM(B24:B28) -> 5 | E23: =SUM(E24:E28) -> 58 | H23: =SUM(H24:H28) -> 596.24 | I23: =SUM(I24:I28) -> 736.89
A24: Māsas palīgs AS 1 | B24: 1 | C24: =D24+E24 -> 157 | D24: 147 | E24: 10 | F24: 756 | G24: =ROUND(F24/147.08,3) -> 5.14 | H24: =ROUND(E24*G24,2)*2 -> 102.8 | I24: =ROUND(H24*1.2359,2) -> 127.05
A25: Māsas palīgs AS 2 | B25: 1 | C25: =D25+E25 -> 159 | D25: 147 | E25: 12 | F25: 756 | G25: =ROUND(F25/147.08,3) -> 5.14 | H25: =ROUND(E25*G25,2)*2 -> 123.36 | I25: =ROUND(H25*1.2359,2) -> 152.46
A26: Māsas palīgs AS 3 | B26: 1 | C26: =D26+E26 -> 159 | D26: 147 | E26: 12 | F26: 756 | G26: =ROUND(F26/147.08,3) -> 5.14 | H26: =ROUND(E26*G26,2)*2 -> 123.36 | I26: =ROUND(H26*1.2359,2) -> 152.46
A27: Māsas palīgs AS 4 | B27: 1 | C27: =D27+E27 -> 159 | D27: 147 | E27: 12 | F27: 756 | G27: =ROUND(F27/147.08,3) -> 5.14 | H27: =ROUND(E27*G27,2)*2 -> 123.36 | I27: =ROUND(H27*1.2359,2) -> 152.46
A28: Māsas palīgs AS 5 | B28: 1 | C28: =D28+E28 -> 159 | D28: 147 | E28: 12 | F28: 756 | G28: =ROUND(F28/147.08,3) -> 5.14 | H28: =ROUND(E28*G28,2)*2 -> 123.36 | I28: =ROUND(H28*1.2359,2) -> 152.46
A30: Samazināta VSAOI likme - 20,77% vai 21,94%
