Workbook

Sheet  proj_dec
A2: Pārskats par darba veicējiem (ārstniecības personām) , virs normālā darba laika nostrādātām stundām, apmaksājamām stundām un izdevumiem, sakarā ar Latvijā izsludināto ārkārtējo situāciju ar mērķi ierobežot Covid-19 izplatību 2020.gada martā - maijā*
A4: Iestādes nosaukums: Neatliekamās medicīniskās palīdzības dienests
A5: Pārskata mēnesis __Decembris
B7: Slodzes | C7: Nodarbināto skaits mēnesī | D7: Apmaksājamais laiks mēnesī, stundas (tai skaitā summētā darba laika ietvaros) | G7: Faktiskā darba samaksa mēnesī, EUR | K7: Izdevumi par virsstundām kopā ar VSOAI, EUR
D8: Kopā | E8: līdz normālam darba laikam 1 | F8: virsstundas - virs normālā darba laika, kas saistītas ar darbu ar Covid-19 | G8: Kopā | J8: tajā skaitā
H9: Mēnešalga no kuras rēķina stundas likmi | I9: Stundas likme 2 | J9: Apmaksājamā 100% piemaksa par nostrādātām virsstundām virs normālā darba laika (tai skaitā summētā darba laika ietvaros)
A10: 1 | C10: 6 | D10: 7=8+9 | E10: 8 | F10: 9 | G10: 10=11+13 | H10: 11 | I10: 12 | J10: 13 | K10: 14=13 + VSOAI
A11: KOPĀ
A12: Ārsti, zobārsti un funkcionālie speciālisti, kopā, tai skaitā:**
A13: …
A14: …
A15: Ārstniecības un pacientu aprūpes personas un funkcionālo speciālistu asistenti, kopā, tai skaitā:**
A16: …
A17: …
A18: Ārstniecības un pacientu aprūpes atbalsta personas, māsu palīgi, zobārstu aistenti, kopā, tai skaitā:**
A19: …
A20: …
A21: Pārējie darbinieki, kuri tieši iesaistīti darbā ar Covid-19, kopā, tai skaitā:** | C21: =SUM(C22:C93) -> 72 | D21: =SUM(D22:D93) -> 14009.854 | E21: =SUM(E22:E93) -> 12066.4 | F21: =SUM(F22:F93) -> 1943.4545 | G21: =SUM(G22:G93) -> 129988.61 | H21: =SUM(H22:H93) -> 96197.39 | J21: =SUM(J22:J93) -> 33791.223 | K21: =SUM(K22:K93) -> 41931.529
A22: Medicīnisko maksas pakalpojumu nodaļas vadītājs | C22: 1 | D22: =F22+E22 -> 275.00027 | E22: 176 | F22: 99.000267 | G22: =H22+J22 -> 3499.88 | H22: 1647 | I22: =H22/E22 -> 9.3579545 | J22: =I22*F22*2 -> 1852.88 | K22: =J22*1.2409 -> 2299.2388
A23: RC galvenais ārsta palīgs | C23: 1 | D23: =F23+E23 -> 274.00345 | E23: 176 | F23: 98.003445 | G23: =H23+J23 -> 3582.68 | H23: 1695 | I23: =H23/E23 -> 9.6306818 | J23: =I23*F23*2 -> 1887.68 | K23: =J23*1.2409 -> 2342.4221
A24: Ārkārtas situāciju gatavības nodrošināšanas nodaļas vadītājs | B24: 0.95 | C24: 1 | D24: =F24+E24 -> 261.19521 | E24: 167.2 | F24: 93.995214 | G24: =H24+J24 -> 2597.33 | H24: 1222.65 | I24: =H24/E24 -> 7.3125 | J24: =I24*F24*2 -> 1374.68 | K24: =J24*1.2409 -> 1705.8404
A25: Komunikācijas nodaļas vadītājs | C25: 1 | D25: =F25+E25 -> 269.00181 | E25: 176 | F25: 93.001806 | G25: =H25+J25 -> 3188.1 | H25: 1550 | I25: =H25/E25 -> 8.8068182 | J25: =I25*F25*2 -> 1638.1 | K25: =J25*1.2409 -> 2032.7183
A26: direktors | C26: 1 | D26: =F26+E26 -> 261.99803 | E26: 176 | F26: 85.998028 | G26: =H26+J26 -> 4652.47 | H26: 2353 | I26: =H26/E26 -> 13.369318 | J26: =I26*F26*2 -> 2299.47 | K26: =J26*1.2409 -> 2853.4123
A27: Katastrofu medicīnas centra vadītājs | C27: 1 | D27: =F27+E27 -> 253.00172 | E27: 176 | F27: 77.001717 | G27: =H27+J27 -> 3843.79 | H27: 2050 | I27: =H27/E27 -> 11.647727 | J27: =I27*F27*2 -> 1793.79 | K27: =J27*1.2409 -> 2225.914
A28: galvenais sabiedrisko attiecību speciālists | C28: 1 | D28: =F28+E28 -> 230.00107 | E28: 160 | F28: 70.001067 | G28: =H28+J28 -> 1789.794 | H28: 954.55 | I28: =H28/E28 -> 5.9659375 | J28: =I28*F28*2 -> 835.24398 | K28: =J28*1.2409 -> 1036.4543
A29: Operatīvās vadības centra vadītāja vietnieks | C29: 1 | D29: =F29+E29 -> 245.9988 | E29: 176 | F29: 69.998796 | G29: =H29+J29 -> 3339.52 | H29: 1860 | I29: =H29/E29 -> 10.568182 | J29: =I29*F29*2 -> 1479.52 | K29: =J29*1.2409 -> 1835.9364
A30: Operatīvās vadības centra vadītājs | C30: 1 | D30: =F30+E30 -> 221 | E30: 152 | F30: 69 | G30: =H30+J30 -> 3625 | H30: 1900 | I30: =H30/E30 -> 12.5 | J30: =I30*F30*2 -> 1725 | K30: =J30*1.2409 -> 2140.5525
A31: direktora vietnieks neatliekamās medicīniskās palīdzības jautājumos | C31: 1 | D31: =F31+E31 -> 236.00232 | E31: 176 | F31: 60.002319 | G31: =H31+J31 -> 3829.56 | H31: 2277 | I31: =H31/E31 -> 12.9375 | J31: =I31*F31*2 -> 1552.56 | K31: =J31*1.2409 -> 1926.5717
A32: Operatīvā darba organizēšanas nodaļas vadītājs | B32: 0.95 | C32: 1 | D32: =F32+E32 -> 220.20216 | E32: 167.2 | F32: 53.002162 | G32: =H32+J32 -> 2871.75 | H32: 1757.5 | I32: =H32/E32 -> 10.511364 | J32: =I32*F32*2 -> 1114.25 | K32: =J32*1.2409 -> 1382.6728
A33: galvenais speciālists cilvēkresursu attīstības jautājumos | C33: 1 | D33: =F33+E33 -> 217.99867 | E33: 176 | F33: 41.998669 | G33: =H33+J33 -> 2041.57 | H33: 1382 | I33: =H33/E33 -> 7.8522727 | J33: =I33*F33*2 -> 659.57 | K33: =J33*1.2409 -> 818.46041
A34: galvenais speciālists | C34: 1 | D34: =F34+E34 -> 217.99873 | E34: 176 | F34: 41.998733 | G34: =H34+J34 -> 1772.71 | H34: 1200 | I34: =H34/E34 -> 6.8181818 | J34: =I34*F34*2 -> 572.71 | K34: =J34*1.2409 -> 710.67584
A35: galvenais informācijas sistēmas administrators | C35: 1 | D35: =F35+E35 -> 214.00198 | E35: 176 | F35: 38.001984 | G35: =H35+J35 -> 2193.58 | H35: 1532 | I35: =H35/E35 -> 8.7045455 | J35: =I35*F35*2 -> 661.58 | K35: =J35*1.2409 -> 820.95462
A36: galvenais speciālists personālvadības jautājumos | C36: 1 | D36: =F36+E36 -> 213.99855 | E36: 176 | F36: 37.998553 | G36: =H36+J36 -> 1978.75 | H36: 1382 | I36: =H36/E36 -> 7.8522727 | J36: =I36*F36*2 -> 596.75 | K36: =J36*1.2409 -> 740.50707
A37: galvenais komunikācijas speciālists | C37: 1 | D37: =F37+E37 -> 214.00091 | E37: 176 | F37: 38.000914 | G37: =H37+J37 -> 1503.42 | H37: 1050 | I37: =H37/E37 -> 5.9659091 | J37: =I37*F37*2 -> 453.42 | K37: =J37*1.2409 -> 562.64888
A38: lietvedis | C38: 1 | D38: =F38+E38 -> 214.00091 | E38: 176 | F38: 38.000914 | G38: =H38+J38 -> 1503.42 | H38: 1050 | I38: =H38/E38 -> 5.9659091 | J38: =I38*F38*2 -> 453.42 | K38: =J38*1.2409 -> 562.64888
A39: BAC galvenais ārsta palīgs (ļoti liels BAC) | C39: 1 | D39: =F39+E39 -> 212.00025 | E39: 176 | F39: 36.00025 | G39: =H39+J39 -> 2254.55 | H39: 1600 | I39: =H39/E39 -> 9.0909091 | J39: =I39*F39*2 -> 654.55 | K39: =J39*1.2409 -> 812.23109
A40: galvenais sabiedrisko attiecību speciālists | C40: 1 | D40: =F40+E40 -> 211.99834 | E40: 176 | F40: 35.998336 | G40: =H40+J40 -> 1761.34 | H40: 1250 | I40: =H40/E40 -> 7.1022727 | J40: =I40*F40*2 -> 511.34 | K40: =J40*1.2409 -> 634.52181
A41: galvenais speciālists | C41: 1 | D41: =F41+E41 -> 211.99965 | E41: 176 | F41: 35.999652 | G41: =H41+J41 -> 1620.45 | H41: 1150 | I41: =H41/E41 -> 6.5340909 | J41: =I41*F41*2 -> 470.45 | K41: =J41*1.2409 -> 583.7814
A42: RC vadītāja vietnieks | C42: 1 | D42: =F42+E42 -> 208.99886 | E42: 176 | F42: 32.998863 | G42: =H42+J42 -> 2660.6 | H42: 1935 | I42: =H42/E42 -> 10.994318 | J42: =I42*F42*2 -> 725.6 | K42: =J42*1.2409 -> 900.39704
A43: personāla speciālists | C43: 1 | D43: =F43+E43 -> 193 | E43: 160 | F43: 33 | G43: =H43+J43 -> 1412.5 | H43: 1000 | I43: =H43/E43 -> 6.25 | J43: =I43*F43*2 -> 412.5 | K43: =J43*1.2409 -> 511.87125
...

Sheet KOPSAVILKUMS
C1: 2.pielikums MK rīkojuma projekta “Par finanšu līdzekļu piešķiršanu no valsts budžeta programmas “Līdzekļi neparedzētiem gadījumiem”” anotācijai
A3: Pārskats par darba veicējiem (ārstniecības personām), virs normālā darba laika nostrādātām stundām, apmaksājamām stundām un izdevumiem, kas radušies saistībā ar mērķi ierobežot Covid-19 izplatību, par 2022.gada MARTS - JŪNIJS
C6: KOPĀ
C7: Virsstundas - virs normālā darba laika, kas saistītas ar darbu ar Covid-19 | D7: Apmaksājamā 100% piemaksa par nostrādātām virsstundām virs normālā darba laika, euro (tai skaitā summētā darba laika ietvaros) | E7: Izdevumi par virsstundām kopā ar VSOAI, euro
A8: KOPĀ | C8: =SUM(C9:C12) -> 29326.75 | D8: =SUM(D9:D12) -> 255218.6 | E8: =SUM(E9:E12) -> 315419
A9: 1 | B9: Neatliekamās medicīniskās palīdzības dienests | C9: =NMPD_sum_darbs_marts_maijs!E11 -> 26198.09 | D9: =NMPD_sum_darbs_marts_maijs!H11 -> 197406.6 | E9: =ROUNDUP(NMPD_sum_darbs_marts_maijs!I11,0) -> 243975
A10: 2 | B10: Slimību profilakses un kontroles centrs | C10: =SPKC_maijs!E11+SPKC_jūnijs!E11 -> 203 | D10: =SPKC_maijs!H11+SPKC_jūnijs!H11 -> 3224.7 | E10: =ROUNDUP(SPKC_maijs!I11+SPKC_jūnijs!I11,0) -> 3979
A11: 3 | B11: Nacionālais veselības dienests | C11: =NVD_maijs!E11+NVD_jūnijs!E11 -> 2518 | D11: =NVD_maijs!H11+NVD_jūnijs!H11 -> 46242.43 | E11: =ROUNDUP(NVD_maijs!I11+NVD_jūnijs!I11,0) -> 57151
A12: 4 | B12: Veselības ministrija | C12: =VM_maijs!E11+VM_jūnijs!E11 -> 407.66 | D12: =VM_maijs!H11+VM_jūnijs!H11 -> 8344.87 | E12: =ROUNDUP(VM_maijs!I11+VM_jūnijs!I11,0) -> 10314

Sheet NMPD_sum_darbs_marts_maijs
H1: 2.1.Pielikums
A2: Pārskats par darba veicējiem (ārstniecības personām), virs normālā darba laika nostrādātām stundām, apmaksājamām stundām un izdevumiem, kas radušies saistībā ar mērķi ierobežot Covid-19 izplatību
A4: Iestādes nosaukums: Neatliekamās medicīniskās palīdzības dienests
A5: Pārskats: Marts - Maijs
B7: Nodarbināto skaits mēnesī | C7: Apmaksājamais laiks mēnesī, stundas (tai skaitā summētā darba laika ietvaros) | F7: Mēnešalga no kuras rēķina stundas likmi | G7: Stundas likme (aprēķināta atbilstoši mēnešalgai vai darba līgumā noteiktā stundas likme) | H7: Apmaksājamā 100% piemaksa par nostrādātām virsstundām virs normālā darba laika (tai skaitā summētā darba laika ietvaros) | I7: Izdevumi par virsstundām kopā ar VSOAI, EUR
C8: Kopā | D8: līdz normālam darba laikam | E8: virsstundas - virs normālā darba laika, kas saistītas ar darbu ar Covid-19
A10: 1 | B10: 2 | C10: 3=4+5 | D10: 4 | E10: 5 | F10: 6 | G10: 7 | H10: 8 | I10: 9=8*1.2359
A11: KOPĀ | B11: =B12+B23+B45 -> 832 | E11: =E12+E23+E45 -> 26198.09 | H11: =H12+H23+H45 -> 197406.6 | I11: =I12+I23+I45 -> 243974.82
A12: Ārsti, zobārsti un funkcionālie speciālisti, kopā, tai skaitā: | B12: =SUM(B13:B22) -> 36 | E12: =SUM(E13:E22) -> 1491.09 | H12: =SUM(H13:H22) -> 17379.9 | I12: =SUM(I13:I22) -> 21479.81
A13: SMC anesteziologs-reanimatologs | B13: 1 | C13: =D13+E13 -> 583 | D13: =184+151+167 -> 502 | E13: 81 | F13: 2040 | G13: =F13/168.17 -> 12.130582 | H13: =ROUND(G13*E13,2) -> 982.58 | I13: =ROUND(H13*1.2359,2) -> 1214.37
A14: Ārsta speciālista brigādes vadītājs - NM ārsts, anesteziologs-reanimatologs | B14: 8 | C14: =D14+E14 -> 892.34 | D14: 502 | E14: 390.34 | F14: 2040 | G14: =F14/168.17 -> 12.130582 | H14: =ROUND(G14*E14,2) -> 4735.05 | I14: =ROUND(H14*1.2359,2) -> 5852.05
A15: Intensīvās terapijas brigādes vadītājs - NM ārsts | B15: 6 | C15: =D15+E15 -> 807.36 | D15: 502 | E15: 305.36 | F15: 1810 | G15: =F15/168.17 -> 10.762918 | H15: =ROUND(G15*E15,2) -> 3286.56 | I15: =ROUND(H15*1.2359,2) -> 4061.86
A16: Reanimācijas brigādes vadītājs - NM ārsts, anesteziologs-reanimatologs | B16: 1 | C16: =D16+E16 -> 541.25 | D16: 502 | E16: 39.25 | F16: 1950 | G16: =F16/168.17 -> 11.595409 | H16: =ROUND(G16*E16,2) -> 455.12 | I16: =ROUND(H16*1.2359,2) -> 562.48
A17: Brigādes vadītājs - ārsts, sagatavots NMP sniegšanai (anestezioloģijas, reanimatoloģijas vai neatliekamās medicīnas ārsta specialitātes 4./5.gada rezidents, ārsts kardiologs, ārsts internists vai ģimenes ārsts) | B17: 9 | C17: =D17+E17 -> 710.17 | D17: 502 | E17: 208.17 | F17: 1330 | G17: =F17/168.17 -> 7.9086639 | H17: =ROUND(G17*E17,2) -> 1646.35 | I17: =ROUND(H17*1.2359,2) -> 2034.72
A18: Brigādes (2AP) vadītājs - ārsts, sagatavots NMP sniegšanai | B18: 1 | C18: =D18+E18 -> 521.97 | D18: 502 | E18: 19.97 | F18: 1700 | G18: =F18/168.17 -> 10.108818 | H18: =ROUND(G18*E18,2) -> 201.87 | I18: =ROUND(H18*1.2359,2) -> 249.49
A19: OVC ārsts konsultants | B19: 2 | C19: =D19+E19 -> 533 | D19: 502 | E19: 31 | F19: 2130 | G19: =F19/168.17 -> 12.665755 | H19: =ROUND(G19*E19,2) -> 392.64 | I19: =ROUND(H19*1.2359,2) -> 485.26
A20: OVC galvenais dežurārsts | B20: 3 | C20: =D20+E20 -> 696 | D20: 502 | E20: 194 | F20: 2350 | G20: =F20/168.17 -> 13.973955 | H20: =ROUND(G20*E20,2) -> 2710.95 | I20: =ROUND(H20*1.2359,2) -> 3350.46
A21: OVC jaunākais dežūrārsts | B21: 1 | C21: =D21+E21 -> 504 | D21: 502 | E21: 2 | F21: 2130 | G21: =F21/168.17 -> 12.665755 | H21: =ROUND(G21*E21,2) -> 25.33 | I21: =ROUND(H21*1.2359,2) -> 31.31
A22: OVC vecākais dežūrārsts | B22: 4 | C22: =D22+E22 -> 722 | D22: 502 | E22: 220 | F22: 2250 | G22: =F22/168.17 -> 13.379319 | H22: =ROUND(G22*E22,2) -> 2943.45 | I22: =ROUND(H22*1.2359,2) -> 3637.81
A23: Ārstniecības un pacientu aprūpes personas un funkcionālo speciālistu asistenti, kopā, tai skaitā: | B23: =SUM(B24:B44) -> 616 | E23: =SUM(E24:E44) -> 20736.72 | H23: =SUM(H24:H44) -> 159390.77 | I23: =SUM(I24:I44) -> 196991.06
A24: Brigādes vadītājs - NM ārsta palīgs | B24: 355 | C24: =D24+E24 -> 12517.15 | D24: 502 | E24: 12015.15 | F24: 1330 | G24: =F24/168.17 -> 7.9086639 | H24: =ROUND(G24*E24,2) -> 95023.78 | I24: =ROUND(H24*1.2359,2) -> 117439.89
A25: IT medicīnas māsa | B25: 2 | C25: =D25+E25 -> 688.17 | D25: 502 | E25: 186.17 | F25: 1310 | G25: =F25/168.17 -> 7.7897366 | H25: =ROUND(G25*E25,2) -> 1450.22 | I25: =ROUND(H25*1.2359,2) -> 1792.33
A26: Neonatologa brigādes māsa | B26: 1 | C26: =D26+E26 -> 532 | D26: 502 | E26: 30 | F26: 1310 | G26: =F26/168.17 -> 7.7897366 | H26: =ROUND(G26*E26,2) -> 233.69 | I26: =ROUND(H26*1.2359,2) -> 288.82
A27: SMC NM ārsta palīgs | B27: 5 | C27: =D27+E27 -> 794.17 | D27: 502 | E27: 292.17 | F27: 1310 | G27: =F27/168.17 -> 7.7897366 | H27: =ROUND(G27*E27,2) -> 2275.93 | I27: =ROUND(H27*1.2359,2) -> 2812.82
A28: Brigādes vadītājs - vecākais NM ārsta palīgs | B28: 28 | C28: =D28+E28 -> 1369.72 | D28: 502 | E28: 867.72 | F28: 1410 | G28: =F28/168.17 -> 8.384373 | H28: =ROUND(G28*E28,2) -> 7275.29 | I28: =ROUND(H28*1.2359,2) -> 8991.53
A29: Ārsta speciālista brigādes otrā ārstniecības persona - NM ārsta palīgs | B29: 7 | C29: =D29+E29 -> 800.67 | D29: 502 | E29: 298.67 | F29: 1510 | G29: =F29/168.17 -> 8.9790093 | H29: =ROUND(G29*E29,2) -> 2681.76 | I29: =ROUND(H29*1.2359,2) -> 3314.39
A30: Brigādes (2AP) vadītājs - NM ārsta palīgs | B30: 3 | C30: =D30+E30 -> 611.37 | D30: 502 | E30: 109.37 | F30: 1700 | G30: =F30/168.17 -> 10.108818 | H30: =ROUND(G30*E30,2) -> 1105.6 | I30: =ROUND(H30*1.2359,2) -> 1366.41
A31: Brigādes (2AP) otrā ārstniecības persona - NM ārsta palīgs | B31: 1 | C31: =D31+E31 -> 577.29 | D31: 502 | E31: 75.29 | F31: 1270 | G31: =F31/168.17 -> 7.551882 | H31: =ROUND(G31*E31,2) -> 568.58 | I31: =ROUND(H31*1.2359,2) -> 702.71
A32: Brigādes (2AP) otrā ārstniecības persona - ārsta palīgs | B32: 1 | C32: =D32+E32 -> 537.26 | D32: 502 | E32: 35.26 | F32: 1205 | G32: =F32/168.17 -> 7.1653684 | H32: =ROUND(G32*E32,2) -> 252.65 | I32: =ROUND(H32*1.2359,2) -> 312.25
A33: Brigādes otrā ārstniecības persona - NM ārsta palīgs | B33: 14 | C33: =D33+E33 -> 887.86 | D33: 502 | E33: 385.86 | F33: 1131 | G33: =F33/168.17 -> 6.7253375 | H33: =ROUND(G33*E33,2) -> 2595.04 | I33: =ROUND(H33*1.2359,2) -> 3207.21
A34: Brigādes otrā ārstniecības persona - ārsta palīgs | B34: 91 | C34: =D34+E34 -> 2869.85 | D34: 502 | E34: 2367.85 | F34: 945 | G34: =F34/168.17 -> 5.6193138 | H34: =ROUND(G34*E34,2) -> 13305.69 | I34: =ROUND(H34*1.2359,2) -> 16444.5
A35: Brigādes otrā ārstniecības persona - medicīnas māsa | B35: 12 | C35: =D35+E35 -> 785.58 | D35: 502 | E35: 283.58 | F35: 920 | G35: =F35/168.17 -> 5.4706547 | H35: =ROUND(G35*E35,2) -> 1551.37 | I35: =ROUND(H35*1.2359,2) -> 1917.34
... A44: Speciālists NMP brigāžu atbalsta jautājumos (ārsta palīgs) | B44: 4 | C44: =D44+E44 -> 660.49 | D44: 502 | E44: 158.49 | F44: 1200 | G44: =F44/168.17 -> 7.1356366 | H44: =ROUND(G44*E44,2) -> 1130.93 | I44: =ROUND(H44*1.2359,2) -> 1397.72
A45: Pārējie darbinieki, kuri tieši iesaistīti darbā ar Covid-19, kopā, tai skaitā: | B45: =SUM(B46:B48) -> 180 | E45: =SUM(E46:E48) -> 3970.28 | H45: =SUM(H46:H48) -> 20635.93 | I45: =SUM(I46:I48) -> 25503.95
A46: Vecākais OMT vadītājs | B46: 30 | C46: =D46+E46 -> 1362.07 | D46: 502 | E46: 860.07 | F46: 925 | G46: =F46/168.17 -> 5.5003865 | H46: =ROUND(G46*E46,2) -> 4730.72 | I46: =ROUND(H46*1.2359,2) -> 5846.7
A47: SMC OMT vadītājs | B47: 20 | C47: =D47+E47 -> 1217.49 | D47: 502 | E47: 715.49 | F47: 860 | G47: =F47/168.17 -> 5.1138729 | H47: =ROUND(G47*E47,2) -> 3658.92 | I47: =ROUND(H47*1.2359,2) -> 4522.06
A48: OMT vadītājs | B48: 130 | C48: =D48+E48 -> 2896.72 | D48: 502 | E48: 2394.72 | F48: 860 | G48: =F48/168.17 -> 5.1138729 | H48: =ROUND(G48*E48,2) -> 12246.29 | I48: =ROUND(H48*1.2359,2) -> 15135.19
A50: * NMPD darbiniekiem, kuriem ir izlīdzinātais darba laiks, kopējias finansējums virsstundu apmaksai ir prasīts vienas darbinieku stundas likmes apmērā (ne dubultā), jo NMPD visas stundas apmaksājusi atbilstoši grafikam ik mēnesi, papildus finansējums prasīts pēc izlīdzināšanas perioda aprēķinātajām virsstundām neapmaksātajai daļai.

Sheet SPKC_maijs
H1: 2.3.Pielikums
A2: Pārskats par darba veicējiem (ārstniecības personām), virs normālā darba laika nostrādātām stundām, apmaksājamām stundām un izdevumiem, kas radušies saistībā ar mērķi ierobežot Covid-19 izplatību
A4: Iestādes nosaukums: Slimību profilakses un kontroles centrs
A5: Pārskata mēnesis: Maijs
B7: Nodarbināto skaits mēnesī | C7: Apmaksājamais laiks mēnesī, stundas (tai skaitā summētā darba laika ietvaros) | F7: Mēnešalga no kuras rēķina stundas likmi | G7: Stundas likme | H7: Apmaksājamā 100% piemaksa par nostrādātām virsstundām virs normālā darba laika (tai skaitā summētā darba laika ietvaros) | I7: Izdevumi par virsstundām kopā ar VSOAI, EUR
C8: Kopā | D8: līdz normālam darba laikam | E8: virsstundas - virs normālā darba laika, kas saistītas ar darbu ar Covid-19
A10: 1 | B10: 2 | C10: 3=4+5 | D10: 4 | E10: 5 | F10: 6 | G10: 7 | H10: 8 | I10: 9=8*1.2359
A11: KOPĀ | B11: =SUM(B12:B22) -> 27 | E11: =SUM(E12:E22) -> 155 | H11: =SUM(H12:H22) -> 2470.5 | I11: =SUM(I12:I22) -> 3048.76
A12: direktora vietnieks | B12: 1 | C12: =SUM(D12:E12) -> 177 | D12: 167 | E12: 10 | F12: 1917 | G12: =F12/D12 -> 11.479042 | H12: =ROUND(F12/D12*E12*2,2) -> 229.58 | I12: =ROUND(H12*1.2359,2) -> 283.74
A13: departamenta direktors, vec.eksperts, sistēmanalītiķis | B13: 2 | C13: =SUM(D13:E13) -> 198 | D13: 167 | E13: 31 | F13: 1647 | G13: =F13/D13 -> 9.8622754 | H13: =ROUND(F13/D13*E13*2,2) -> 611.46 | I13: =ROUND(H13*1.2359,2) -> 755.7
A14: nodaļas vadītājs | B14: 2 | C14: =SUM(D14:E14) -> 186 | D14: 167 | E14: 19 | F14: 1382 | G14: =F14/D14 -> 8.2754491 | H14: =ROUND(F14/D14*E14*2,2) -> 314.47 | I14: =ROUND(H14*1.2359,2) -> 388.65
A15: vecākais sabiedrības veselības analītiķis, vecākais epidemiologs | B15: 4 | C15: =SUM(D15:E15) -> 185 | D15: 167 | E15: 18 | F15: 1287 | G15: =F15/D15 -> 7.7065868 | H15: =ROUND(F15/D15*E15*2,2) -> 277.44 | I15: =ROUND(H15*1.2359,2) -> 342.89
A16: vecākais sabiedrības veselības analītiķis, vecākais epidemiologs | B16: 1 | C16: =SUM(D16:E16) -> 170 | D16: 167 | E16: 3 | F16: 1287 | G16: =F16/D16 -> 7.7065868 | H16: =ROUND(F16/D16*E16*2,2) -> 46.24 | I16: =ROUND(H16*1.2077,2) -> 55.84
A17: vecākais sabiedrības veselības analītiķis,epidemiologs, vecākais epidemiologs | B17: 6 | C17: =SUM(D17:E17) -> 206 | D17: 167 | E17: 39 | F17: 1190 | G17: =F17/D17 -> 7.1257485 | H17: =ROUND(F17/D17*E17*2,2) -> 555.81 | I17: =ROUND(H17*1.2359,2) -> 686.93
A18: vecākais sabiedrības veselības analītiķis,epidemiologs, vecākais epidemiologs | B18: 1 | C18: =SUM(D18:E18) -> 170 | D18: 167 | E18: 3 | F18: 1190 | G18: =F18/D18 -> 7.1257485 | H18: =ROUND(F18/D18*E18*2,2) -> 42.75 | I18: =ROUND(H18*1.2077,2) -> 51.63
A19: vecākais veselības veicināšanas koordinētājs | B19: 1 | C19: =SUM(D19:E19) -> 173 | D19: 167 | E19: 6 | F19: 1115 | G19: =F19/D19 -> 6.6766467 | H19: =ROUND(F19/D19*E19*2,2) -> 80.12 | I19: =ROUND(H19*1.2359,2) -> 99.02
A20: sabiedrības veselības koordinētājs, epidemiologs | B20: 4 | C20: =SUM(D20:E20) -> 178 | D20: 167 | E20: 11 | F20: 1015 | G20: =F20/D20 -> 6.0778443 | H20: =ROUND(F20/D20*E20*2,2) -> 133.71 | I20: =ROUND(H20*1.2359,2) -> 165.25
A21: sabiedrības veselības organizators | B21: 3 | C21: =SUM(D21:E21) -> 176 | D21: 167 | E21: 9 | F21: 996 | G21: =F21/D21 -> 5.9640719 | H21: =ROUND(F21/D21*E21*2,2) -> 107.35 | I21: =ROUND(H21*1.2359,2) -> 132.67
A22: sabiedrības veselības organizators, direktora palīgs | B22: 2 | C22: =SUM(D22:E22) -> 173 | D22: 167 | E22: 6 | F22: 996 | G22: =F22/D22 -> 5.9640719 | H22: =ROUND(F22/D22*E22*2,2) -> 71.57 | I22: =ROUND(H22*1.2077,2) -> 86.44
A24: Samazināta VSAOI likme - 20,77% vai 21,94%

Sheet SPKC_jūnijs
H1: 2.4.Pielikums
A2: Pārskats par darba veicējiem (ārstniecības personām), virs normālā darba laika nostrādātām stundām, apmaksājamām stundām un izdevumiem, kas radušies saistībā ar mērķi ierobežot Covid-19 izplatību
A4: Iestādes nosaukums: Slimību profilakses un kontroles centrs
A5: Pārskata mēnesis: Jūnijs
B7: Nodarbināto skaits mēnesī | C7: Apmaksājamais laiks mēnesī, stundas (tai skaitā summētā darba laika ietvaros) | F7: Mēnešalga no kuras rēķina stundas likmi | G7: Stundas likme | H7: Apmaksājamā 100% piemaksa par nostrādātām virsstundām virs normālā darba laika (tai skaitā summētā darba laika ietvaros) | I7: Izdevumi par virsstundām kopā ar VSOAI, EUR
C8: Kopā | D8: līdz normālam darba laikam | E8: virsstundas - virs normālā darba laika, kas saistītas ar darbu ar Covid-19
A10: 1 | B10: 2 | C10: 3=4+5 | D10: 4 | E10: 5 | F10: 6 | G10: 7 | H10: 8 | I10: 9=8*1.2359
A11: KOPĀ | B11: =SUM(B12:B19) -> 12 | E11: =SUM(E12:E19) -> 48 | H11: =SUM(H12:H19) -> 754.2 | I11: =SUM(I12:I19) -> 929.79
A12: departamenta direktors, vec.eksperts, sistēmanalītiķis | B12: 2 | C12: =SUM(D12:E12) -> 172 | D12: 159 | E12: 13 | F12: 1647 | G12: =F12/D12 -> 10.358491 | H12: =ROUND(F12/D12*E12*2,2) -> 269.32 | I12: =ROUND(H12*1.2359,2) -> 332.85
A13: vecākais sabiedrības veselības analītiķis, vecākais epidemiologs | B13: 1 | C13: =SUM(D13:E13) -> 163 | D13: 159 | E13: 4 | F13: 1287 | G13: =F13/D13 -> 8.0943396 | H13: =ROUND(F13/D13*E13*2,2) -> 64.75 | I13: =ROUND(H13*1.2359,2) -> 80.02
A14: vecākais sabiedrības veselības analītiķis,epidemiologs, vecākais epidemiologs | B14: 1 | C14: =SUM(D14:E14) -> 167 | D14: 159 | E14: 8 | F14: 1190 | G14: =F14/D14 -> 7.4842767 | H14: =ROUND(F14/D14*E14*2,2) -> 119.75 | I14: =ROUND(H14*1.2359,2) -> 148
A15: vecākais sabiedrības veselības analītiķis,epidemiologs, vecākais epidemiologs | B15: 1 | C15: =SUM(D15:E15) -> 162 | D15: 159 | E15: 3 | F15: 1190 | G15: =F15/D15 -> 7.4842767 | H15: =ROUND(F15/D15*E15*2,2) -> 44.91 | I15: =ROUND(H15*1.2077,2) -> 54.24
A16: vecākais veselības veicināšanas koordinētājs | B16: 1 | C16: =SUM(D16:E16) -> 161 | D16: 159 | E16: 2 | F16: 1115 | G16: =F16/D16 -> 7.0125786 | H16: =ROUND(F16/D16*E16*2,2) -> 28.05 | I16: =ROUND(H16*1.2359,2) -> 34.67
A17: sabiedrības veselības koordinētājs, epidemiologs | B17: 3 | C17: =SUM(D17:E17) -> 167 | D17: 159 | E17: 8 | F17: 1015 | G17: =F17/D17 -> 6.3836478 | H17: =ROUND(F17/D17*E17*2,2) -> 102.14 | I17: =ROUND(H17*1.2359,2) -> 126.23
A18: sabiedrības veselības organizators | B18: 2 | C18: =SUM(D18:E18) -> 166 | D18: 159 | E18: 7 | F18: 996 | G18: =F18/D18 -> 6.2641509 | H18: =ROUND(F18/D18*E18*2,2) -> 87.7 | I18: =ROUND(H18*1.2359,2) -> 108.39
A19: sabiedrības veselības organizators | B19: 1 | C19: =SUM(D19:E19) -> 162 | D19: 159 | E19: 3 | F19: 996 | G19: =F19/D19 -> 6.2641509 | H19: =ROUND(F19/D19*E19*2,2) -> 37.58 | I19: =ROUND(H19*1.2077,2) -> 45.39
A21: Samazināta VSAOI likme - 20,77% vai 21,94%

Sheet NVD_maijs
H1: 2.6.Pielikums
A2: Pārskats par darba veicējiem (ārstniecības personām), virs normālā darba laika nostrādātām stundām, apmaksājamām stundām un izdevumiem, kas radušies saistībā ar mērķi ierobežot Covid-19 izplatību
A4: Iestādes nosaukums: Nacionālais veselības dienests
A5: Pārskata mēnesis: Maijs
B7: Nodarbināto skaits mēnesī | C7: Apmaksājamais laiks mēnesī, stundas (tai skaitā summētā darba laika ietvaros) | F7: Mēnešalga no kuras rēķina stundas likmi | G7: Stundas likme (aprēķināta atbilstoši mēnešalgai vai darba līgumā noteiktā stundas likme) | H7: Apmaksājamā 100% piemaksa par nostrādātām virsstundām virs normālā darba laika (tai skaitā summētā darba laika ietvaros) | I7: Izdevumi par virsstundām kopā ar VSOAI, EUR
C8: Kopā | D8: līdz normālam darba laikam | E8: virsstundas - virs normālā darba laika, kas saistītas ar darbu ar Covid-19
A10: 1 | B10: 2 | C10: 3=4+5 | D10: 4 | E10: 5 | F10: 6 | G10: 7 | H10: 8 | I10: 9=8*1.2359
A11: KOPĀ | B11: =SUM(B12:B60) -> 49 | E11: =SUM(E12:E60) -> 1469.75 | H11: =SUM(H12:H60) -> 26735.38 | I11: =SUM(I12:I60) -> 33042.25
A12: Sabiedrisko attiecību nodaļas vadītāja | B12: 1 | C12: =D12+E12 -> 128.5 | D12: 127 | E12: 1.5 | F12: 1382 | G12: =ROUND(F12/167,3) -> 8.275 | H12: =ROUND(E12*G12*2,2) -> 24.83 | I12: =ROUND(H12*1.2359,2) -> 30.69
A13: Sabiedrisko attiecību nodaļas vadītājas vietniece | B13: 1 | C13: =D13+E13 -> 160 | D13: 159 | E13: 1 | F13: 1287 | G13: =ROUND(F13/167,3) -> 7.707 | H13: =ROUND(E13*G13*2,2) -> 15.41 | I13: =ROUND(H13*1.2359,2) -> 19.05
A14: Sabiedrisko attiecību nodaļas sabiedrisko attiecību speciālists | B14: 1 | C14: =D14+E14 -> 167.5 | D14: 167 | E14: 0.5 | F14: 1190 | G14: =ROUND(F14/167,3) -> 7.126 | H14: =ROUND(E14*G14*2,2) -> 7.13 | I14: =ROUND(H14*1.2359,2) -> 8.81
A15: Direktora vietnieks informācijas un komunikācijas tehnoloģiju jautājumos | B15: 1 | C15: =D15+E15 -> 176 | D15: 152 | E15: 24 | F15: 2353 | G15: =ROUND(F15/167,3) -> 14.09 | H15: =ROUND(E15*G15*2,2) -> 676.32 | I15: =ROUND(H15*1.2359,2) -> 835.86
A16: Vadošais eksperts veselības aprūpes jautājumos | B16: 1 | C16: =D16+E16 -> 146 | D16: 135 | E16: 11 | F16: 1647 | G16: =ROUND(F16/167,3) -> 9.862 | H16: =ROUND(E16*G16*2,2) -> 216.96 | I16: =ROUND(H16*1.2359,2) -> 268.14
A17: Informācijas tehnoloģiju projektu attīstības nodaļas vadītājas vietniece | B17: 1 | C17: =D17+E17 -> 222 | D17: 167 | E17: 55 | F17: 1850 | G17: =ROUND(F17/167,3) -> 11.078 | H17: =ROUND(E17*G17*2,2) -> 1218.58 | I17: =ROUND(H17*1.2359,2) -> 1506.04
A18: Informācijas tehnoloģiju projektu attīstības nodaļas projektu vadītāja | B18: 1 | C18: =D18+E18 -> 87 | D18: 56 | E18: 31 | F18: 1647 | G18: =ROUND(F18/167,3) -> 9.862 | H18: =ROUND(E18*G18*2,2) -> 611.44 | I18: =ROUND(H18*1.2359,2) -> 755.68
A19: Informācijas tehnoloģiju projektu attīstības nodaļas projektu vadītāja | B19: 1 | C19: =D19+E19 -> 200 | D19: 167 | E19: 33 | F19: 1647 | G19: =ROUND(F19/167,3) -> 9.862 | H19: =ROUND(E19*G19*2,2) -> 650.89 | I19: =ROUND(H19*1.2359,2) -> 804.43
A20: Informācijas tehnoloģiju projektu attīstības nodaļas sistēmanalītiķis - testētājs | B20: 1 | C20: =D20+E20 -> 172.5 | D20: 152 | E20: 20.5 | F20: 1287 | G20: =ROUND(F20/167,3) -> 7.707 | H20: =ROUND(E20*G20*2,2) -> 315.99 | I20: =ROUND(H20*1.2359,2) -> 390.53
A21: Informācijas tehnoloģiju projektu attīstības nodaļas vecākais eksperts | B21: 1 | C21: =D21+E21 -> 128 | D21: 119 | E21: 9 | F21: 1287 | G21: =ROUND(F21/167,3) -> 7.707 | H21: =ROUND(E21*G21*2,2) -> 138.73 | I21: =ROUND(H21*1.2359,2) -> 171.46
A22: Informācijas tehnoloģiju nodaļas informācijas tehnoloģiju administrators | B22: 1 | C22: =D22+E22 -> 152 | D22: 127 | E22: 25 | F22: 1287 | G22: =ROUND(F22/167,3) -> 7.707 | H22: =ROUND(E22*G22*2,2) -> 385.35 | I22: =ROUND(H22*1.2359,2) -> 476.25
A23: Informācijas tehnoloģiju nodaļas informācijas tehnoloģiju administrators | B23: 1 | C23: =D23+E23 -> 167 | D23: 143 | E23: 24 | F23: 1287 | G23: =ROUND(F23/167,3) -> 7.707 | H23: =ROUND(E23*G23*2,2) -> 369.94 | I23: =ROUND(H23*1.2359,2) -> 457.21
... A60: Vakcinācijas projekta nodaļas vakcinācijas procesa koordinācijas speciālists | B60: 1 | C60: =D60+E60 -> 51 | D60: 39 | E60: 12 | F60: 1382 | G60: =ROUND(F60/167,3) -> 8.275 | H60: =ROUND(E60*G60*2,2) -> 198.6 | I60: =ROUND(H60*1.2359,2) -> 245.45

Sheet NVD_jūnijs
H1: 2.7.Pielikums
A2: Pārskats par darba veicējiem (ārstniecības personām), virs normālā darba laika nostrādātām stundām, apmaksājamām stundām un izdevumiem, kas radušies saistībā ar mērķi ierobežot Covid-19 izplatību
A4: Iestādes nosaukums: Nacionālais veselības dienests
A5: Pārskata mēnesis: Jūnijs
B7: Nodarbināto skaits mēnesī | C7: Apmaksājamais laiks mēnesī, stundas (tai skaitā summētā darba laika ietvaros) | F7: Mēnešalga no kuras rēķina stundas likmi | G7: Stundas likme (aprēķināta atbilstoši mēnešalgai vai darba līgumā noteiktā stundas likme) | H7: Apmaksājamā 100% piemaksa par nostrādātām virsstundām virs normālā darba laika (tai skaitā summētā darba laika ietvaros) | I7: Izdevumi par virsstundām kopā ar VSOAI, EUR
C8: Kopā | D8: līdz normālam darba laikam | E8: virsstundas - virs normālā darba laika, kas saistītas ar darbu ar Covid-19
A10: 1 | B10: 2 | C10: 3=4+5 | D10: 4 | E10: 5 | F10: 6 | G10: 7 | H10: 8 | I10: 9=8*1.2359
A11: KOPĀ | B11: =SUM(B12:B49) -> 38 | E11: =SUM(E12:E49) -> 1048.25 | H11: =SUM(H12:H49) -> 19507.05 | I11: =SUM(I12:I49) -> 24108.73
A12: Sabiedrisko attiecību nodaļas vadītāja | B12: 1 | C12: =D12+E12 -> 155.5 | D12: 151 | E12: 4.5 | F12: 1382 | G12: =ROUND(F12/159,3) -> 8.692 | H12: =ROUND(E12*G12*2,2) -> 78.23 | I12: =ROUND(H12*1.2359,2) -> 96.68
A13: Sabiedrisko attiecību nodaļas vadītājas vietniece | B13: 1 | C13: =D13+E13 -> 123 | D13: 119 | E13: 4 | F13: 1287 | G13: =ROUND(F13/159,3) -> 8.094 | H13: =ROUND(E13*G13*2,2) -> 64.75 | I13: =ROUND(H13*1.2359,2) -> 80.02
A14: Informācijas tehnoloģiju projektu attīstības nodaļas vadītājas vietniece | B14: 1 | C14: =D14+E14 -> 225 | D14: 159 | E14: 66 | F14: 1850 | G14: =ROUND(F14/159,3) -> 11.635 | H14: =ROUND(E14*G14*2,2) -> 1535.82 | I14: =ROUND(H14*1.2359,2) -> 1898.12
A15: Informācijas tehnoloģiju projektu attīstības nodaļas projektu vadītāja | B15: 1 | C15: =D15+E15 -> 90 | D15: 56 | E15: 34 | F15: 1647 | G15: =ROUND(F15/159,3) -> 10.358 | H15: =ROUND(E15*G15*2,2) -> 704.34 | I15: =ROUND(H15*1.2359,2) -> 870.49
A16: Informācijas tehnoloģiju projektu attīstības nodaļas projektu vadītāja | B16: 1 | C16: =D16+E16 -> 149 | D16: 119 | E16: 30 | F16: 1647 | G16: =ROUND(F16/159,3) -> 10.358 | H16: =ROUND(E16*G16*2,2) -> 621.48 | I16: =ROUND(H16*1.2359,2) -> 768.09
A17: Informācijas tehnoloģiju projektu attīstības nodaļas sistēmanalītiķis - testētājs | B17: 1 | C17: =D17+E17 -> 139.5 | D17: 119 | E17: 20.5 | F17: 1287 | G17: =ROUND(F17/159,3) -> 8.094 | H17: =ROUND(E17*G17*2,2) -> 331.85 | I17: =ROUND(H17*1.2359,2) -> 410.13
A18: Informācijas tehnoloģiju projektu attīstības nodaļas vecākais eksperts | B18: 1 | C18: =D18+E18 -> 117 | D18: 111 | E18: 6 | F18: 1287 | G18: =ROUND(F18/159,3) -> 8.094 | H18: =ROUND(E18*G18*2,2) -> 97.13 | I18: =ROUND(H18*1.2359,2) -> 120.04
A19: Informācijas tehnoloģiju nodaļas informācijas tehnoloģiju administrators | B19: 1 | C19: =D19+E19 -> 160 | D19: 136 | E19: 24 | F19: 1287 | G19: =ROUND(F19/159,3) -> 8.094 | H19: =ROUND(E19*G19*2,2) -> 388.51 | I19: =ROUND(H19*1.2359,2) -> 480.16
A20: Informācijas tehnoloģiju nodaļas informācijas tehnoloģiju administrators | B20: 1 | C20: =D20+E20 -> 107 | D20: 87 | E20: 20 | F20: 1287 | G20: =ROUND(F20/159,3) -> 8.094 | H20: =ROUND(E20*G20*2,2) -> 323.76 | I20: =ROUND(H20*1.2359,2) -> 400.13
A21: Informācijas tehnoloģiju nodaļas informācijas sistēmu administrators | B21: 1 | C21: =D21+E21 -> 185 | D21: 159 | E21: 26 | F21: 1620 | G21: =ROUND(F21/159,3) -> 10.189 | H21: =ROUND(E21*G21*2,2) -> 529.83 | I21: =ROUND(H21*1.2359,2) -> 654.82
A22: Informācijas tehnoloģiju nodaļas informācijas sistēmu administrators | B22: 1 | C22: =D22+E22 -> 164 | D22: 159 | E22: 5 | F22: 1620 | G22: =ROUND(F22/159,3) -> 10.189 | H22: =ROUND(E22*G22*2,2) -> 101.89 | I22: =ROUND(H22*1.2359,2) -> 125.93
A23: Ārstniecības pakalpojumu departamenta Ambulatoro pakalpojumu nodaļas vecākā eksperte | B23: 1 | C23: =D23+E23 -> 163 | D23: 143 | E23: 20 | F23: 1262 | G23: =ROUND(F23/159,3) -> 7.937 | H23: =ROUND(E23*G23*2,2) -> 317.48 | I23: =ROUND(H23*1.2359,2) -> 392.37
... A49: Starptautiskās sadarbības nodaļas vecākais eksperts | B49: 1 | C49: =D49+E49 -> 127 | D49: 119 | E49: 8 | F49: 1262 | G49: =ROUND(F49/159,3) -> 7.937 | H49: =ROUND(E49*G49*2,2) -> 126.99 | I49: =ROUND(H49*1.2359,2) -> 156.95

Sheet VM_maijs
H1: 2.9. Pielikums
A2: Pārskats par darba veicējiem (ārstniecības personām), virs normālā darba laika nostrādātām stundām, apmaksājamām stundām un izdevumiem, kas radušies saistībā ar mērķi ierobežot Covid-19 izplatību
A4: Iestādes nosaukums: Veselības ministrija
A5: Pārskata mēnesis: Maijs
B7: Nodarbināto skaits mēnesī | C7: Apmaksājamais laiks mēnesī, stundas (tai skaitā summētā darba laika ietvaros) | F7: Mēnešalga no kuras rēķina stundas likmi | G7: Stundas likme | H7: Apmaksājamā 100% piemaksa par nostrādātām virsstundām virs normālā darba laika (tai skaitā summētā darba laika ietvaros) | I7: Izdevumi par virsstundām kopā ar VSOAI, EUR
C8: Kopā | D8: līdz normālam darba laikam | E8: virsstundas - virs normālā darba laika, kas saistītas ar darbu ar Covid-19
A10: 1 | B10: 2 | C10: 3=4+5 | D10: 4 | E10: 5 | F10: 6 | G10: 7 | H10: 8 | I10: 9=8*1.2359
A11: KOPĀ | B11: =SUM(B12:B26) -> 15 | E11: =SUM(E12:E26) -> 201.58 | H11: =SUM(H12:H26) -> 4106.43 | I11: =SUM(I12:I26) -> 5075.13
A12: Veselības aprūpes departamenta direktors | B12: 1 | C12: =D12+E12 -> 171 | D12: 159 | E12: 12 | F12: 2264 | G12: =ROUND(F12/167,3) -> 13.557 | H12: =ROUND(E12*G12*2,2) -> 325.37 | I12: =ROUND(H12*1.2359,2) -> 402.12
A13: Speciālists ārkārtas situāciju un katastrofu medicīnas jautājumos | B13: 1 | C13: =D13+E13 -> 168.5 | D13: 159 | E13: 9.5 | F13: 1647 | G13: =ROUND(F13/167,3) -> 9.862 | H13: =ROUND(E13*G13*2,2) -> 187.38 | I13: =ROUND(H13*1.2359,2) -> 231.58
A14: Farmācijas departamenta direktors | B14: 1 | C14: =D14+E14 -> 161.75 | D14: 152 | E14: 9.75 | F14: 2264 | G14: =ROUND(F14/167,3) -> 13.557 | H14: =ROUND(E14*G14*2,2) -> 264.36 | I14: =ROUND(H14*1.2359,2) -> 326.72
A15: Nozares budžeta plānošanas departamenta direktors | B15: 1 | C15: =D15+E15 -> 153 | D15: 127 | E15: 26 | F15: 1917 | G15: =ROUND(F15/167,3) -> 11.479 | H15: =ROUND(E15*G15*2,2) -> 596.91 | I15: =ROUND(H15*1.2359,2) -> 737.72
A16: Nozares budžeta plānošanas departamenta direktora vietnieks | B16: 1 | C16: =D16+E16 -> 184 | D16: 151 | E16: 33 | F16: 1647 | G16: =ROUND(F16/167,3) -> 9.862 | H16: =ROUND(E16*G16*2,2) -> 650.89 | I16: =ROUND(H16*1.2359,2) -> 804.43
A17: Nozares budžeta plānošanas departamenta vecākais eksperts | B17: 1 | C17: =D17+E17 -> 192 | D17: 167 | E17: 25 | F17: 1647 | G17: =ROUND(F17/167,3) -> 9.862 | H17: =ROUND(E17*G17*2,2) -> 493.1 | I17: =ROUND(H17*1.2359,2) -> 609.42
A18: Nozares budžeta plānošanas departamenta vecākais eksperts | B18: 1 | C18: =D18+E18 -> 170 | D18: 159 | E18: 11 | F18: 1647 | G18: =ROUND(F18/167,3) -> 9.862 | H18: =ROUND(E18*G18*2,2) -> 216.96 | I18: =ROUND(H18*1.2359,2) -> 268.14
A19: Nozares budžeta plānošanas departamenta vecākais eksperts | B19: 1 | C19: =D19+E19 -> 172 | D19: 151 | E19: 21 | F19: 1287 | G19: =ROUND(F19/167,3) -> 7.707 | H19: =ROUND(E19*G19*2,2) -> 323.69 | I19: =ROUND(H19*1.2359,2) -> 400.05
A20: Nozares budžeta plānošanas departamenta vecākais eksperts | B20: 1 | C20: =D20+E20 -> 171.58 | D20: 151 | E20: 20.58 | F20: 1647 | G20: =ROUND(F20/167,3) -> 9.862 | H20: =ROUND(E20*G20*2,2) -> 405.92 | I20: =ROUND(H20*1.2359,2) -> 501.68
A21: Juridiskā departamenta direktors | B21: 1 | C21: =D21+E21 -> 112.5 | D21: 112 | E21: 0.5 | F21: 2264 | G21: =ROUND(F21/167,3) -> 13.557 | H21: =ROUND(E21*G21*2,2) -> 13.56 | I21: =ROUND(H21*1.2359,2) -> 16.76
A22: Juridiskā atbalsta nodaļas vadītājs | B22: 1 | C22: =D22+E22 -> 175.75 | D22: 167 | E22: 8.75 | F22: 1917 | G22: =ROUND(F22/167,3) -> 11.479 | H22: =ROUND(E22*G22*2,2) -> 200.88 | I22: =ROUND(H22*1.2359,2) -> 248.27
A23: Tiesību aktu nodaļas jurists | B23: 1 | C23: =D23+E23 -> 173 | D23: 167 | E23: 6 | F23: 1647 | G23: =ROUND(F23/167,3) -> 9.862 | H23: =ROUND(E23*G23*2,2) -> 118.34 | I23: =ROUND(H23*1.2359,2) -> 146.26
... A26: Vadošais eksperts Eiropas lietās | B26: 1 | C26: =D26+E26 -> 131 | D26: 127 | E26: 4 | F26: 1647 | G26: =ROUND(F26/167,3) -> 9.862 | H26: =ROUND(E26*G26*2,2) -> 78.9 | I26: =ROUND(H26*1.2359,2) -> 97.51

Sheet VM_jūnijs
H1: 2.10. Pielikums
A2: Pārskats par darba veicējiem (ārstniecības personām), virs normālā darba laika nostrādātām stundām, apmaksājamām stundām un izdevumiem, kas radušies saistībā ar mērķi ierobežot Covid-19 izplatību
A4: Iestādes nosaukums: Veselības ministrija
A5: Pārskata mēnesis: Jūnijs
B7: Nodarbināto skaits mēnesī | C7: Apmaksājamais laiks mēnesī, stundas (tai skaitā summētā darba laika ietvaros) | F7: Mēnešalga no kuras rēķina stundas likmi | G7: Stundas likme | H7: Apmaksājamā 100% piemaksa par nostrādātām virsstundām virs normālā darba laika (tai skaitā summētā darba laika ietvaros) | I7: Izdevumi par virsstundām kopā ar VSOAI, EUR
C8: Kopā | D8: līdz normālam darba laikam | E8: virsstundas - virs normālā darba laika, kas saistītas ar darbu ar Covid-19
A10: 1 | B10: 2 | C10: 3=4+5 | D10: 4 | E10: 5 | F10: 6 | G10: 7 | H10: 8 | I10: 9=8*1.2359
A11: KOPĀ | B11: =SUM(B12:B25) -> 15 | E11: =SUM(E12:E25) -> 206.08 | H11: =SUM(H12:H25) -> 4238.44 | I11: =SUM(I12:I25) -> 5238.28
A12: Veselības aprūpes departamenta direktors | B12: 1 | C12: =D12+E12 -> 141 | D12: 128 | E12: 13 | F12: 2264 | G12: =ROUND(F12/159,3) -> 14.239 | H12: =ROUND(E12*G12*2,2) -> 370.21 | I12: =ROUND(H12*1.2359,2) -> 457.54
A13: Speciālists ārkārtas situāciju un katastrofu medicīnas jautājumos | B13: 1 | C13: =D13+E13 -> 100.5 | D13: 96 | E13: 4.5 | F13: 1647 | G13: =ROUND(F13/159,3) -> 10.358 | H13: =ROUND(E13*G13*2,2) -> 93.22 | I13: =ROUND(H13*1.2359,2) -> 115.21
A14: Farmācijas departamenta vecākais referents | B14: 1 | C14: =D14+E14 -> 133.5 | D14: 127 | E14: 6.5 | F14: 1534 | G14: =ROUND(F14/159,3) -> 9.648 | H14: =ROUND(E14*G14*2,2) -> 125.42 | I14: =ROUND(H14*1.2359,2) -> 155.01
A15: Nozares budžeta plānošanas departamenta direktors | B15: 1 | C15: =D15+E15 -> 135 | D15: 112 | E15: 23 | F15: 1917 | G15: =ROUND(F15/159,3) -> 12.057 | H15: =ROUND(E15*G15*2,2) -> 554.62 | I15: =ROUND(H15*1.2359,2) -> 685.45
A16: Nozares budžeta plānošanas departamenta direktora vietnieks | B16: 1 | C16: =D16+E16 -> 162 | D16: 128 | E16: 34 | F16: 1647 | G16: =ROUND(F16/159,3) -> 10.358 | H16: =ROUND(E16*G16*2,2) -> 704.34 | I16: =ROUND(H16*1.2359,2) -> 870.49
A17: Nozares budžeta plānošanas departamenta vecākais eksperts | B17: 1 | C17: =D17+E17 -> 153 | D17: 127 | E17: 26 | F17: 1647 | G17: =ROUND(F17/159,3) -> 10.358 | H17: =ROUND(E17*G17*2,2) -> 538.62 | I17: =ROUND(H17*1.2359,2) -> 665.68
A18: Nozares budžeta plānošanas departamenta vecākais eksperts | B18: 1 | C18: =D18+E18 -> 109 | D18: 103 | E18: 6 | F18: 1647 | G18: =ROUND(F18/159,3) -> 10.358 | H18: =ROUND(E18*G18*2,2) -> 124.3 | I18: =ROUND(H18*1.2359,2) -> 153.62
A19: Nozares budžeta plānošanas departamenta vecākais eksperts | B19: 1 | C19: =D19+E19 -> 158 | D19: 127 | E19: 31 | F19: 1287 | G19: =ROUND(F19/159,3) -> 8.094 | H19: =ROUND(E19*G19*2,2) -> 501.83 | I19: =ROUND(H19*1.2359,2) -> 620.21
A20: Nozares budžeta plānošanas departamenta vecākais eksperts | B20: 1 | C20: =D20+E20 -> 165.33 | D20: 144 | E20: 21.33 | F20: 1647 | G20: =ROUND(F20/159,3) -> 10.358 | H20: =ROUND(E20*G20*2,2) -> 441.87 | I20: =ROUND(H20*1.2359,2) -> 546.11
A21: Juridiskā departamenta direktors | B21: 1 | C21: =D21+E21 -> 153.5 | D21: 152 | E21: 1.5 | F21: 2264 | G21: =ROUND(F21/159,3) -> 14.239 | H21: =ROUND(E21*G21*2,2) -> 42.72 | I21: =ROUND(H21*1.2359,2) -> 52.8
A22: Juridiskā atbalsta nodaļas vadītājs | B22: 1 | C22: =D22+E22 -> 110.25 | D22: 104 | E22: 6.25 | F22: 1917 | G22: =ROUND(F22/159,3) -> 12.057 | H22: =ROUND(E22*G22*2,2) -> 150.71 | I22: =ROUND(H22*1.2359,2) -> 186.26
A23: Personāla un dokumentu pārvaldības departamenta vecākais lietvedis | B23: 1 | C23: =D23+E23 -> 154 | D23: 152 | E23: 2 | F23: 1093 | G23: =ROUND(F23/159,3) -> 6.874 | H23: =ROUND(E23*G23*2,2) -> 27.5 | I23: =ROUND(H23*1.2359,2) -> 33.99
... A25: Veselības ministrijas nozares padomnieks LR pastāvīgajā pārstāvniecībā ES | B25: 2 | C25: =D25+E25 -> 187 | D25: 160 | E25: 27 | F25: 1414 | G25: =ROUND(F25/159,3) -> 8.893 | H25: =ROUND(E25*G25*2,2) -> 480.22 | I25: =ROUND(H25*1.2359,2) -> 593.5
