Workbook

Sheet KOPSAVILKUMS
E1: 1.pielikums MK rīkojuma projekta “Par finanšu līdzekļu piešķiršanu no valsts budžeta programmas “Līdzekļi neparedzētiem gadījumiem”” anotācijai
A3: Kopsavilkums par stacionāro iestāžu iesniegto informāciju par darba veicējiem (ārstniecības personām), virs normālā darba laika nostrādātām stundām, apmaksājamām stundām un izdevumiem, sakarā ar Latvijā izsludināto ārkārtējo situāciju ar mērķi ierobežot Covid-19 izplatību par 2022.gada JANVĀRI - JŪNIJU
C6: Izdevumi par virsstundām (2022.gada janvāris - jūnijs) kopā ar VSOAI, euro
C7: janvāris | D7: februāris | E7: marts | F7: aprīlis | G7: maijs | H7: jūnijs | I7: KOPĀ
A8: KOPĀ | I8: =SUM(I9:I24) -> 6482550.1
A9: 1 | B9: VISA "Bērnu klīniskā universitātes slimnīca" | C9: =BKUS_janv_apr!I10 -> 135373.88 | G9: X | H9: X | I9: =SUM(C9:H9) -> 135373.88
A10: 2 | B10: SIA “Rīgas Austrumu klīniskās universitātes slimnīca” | C10: =RAKUS_janv_apr!I11 -> 2698518.1 | G10: X | H10: X | I10: =SUM(C10:H10) -> 2698518.1
A11: 3 | B11: VSIA "Paula Stradiņa klīniskā universitātes slimnīca" | C11: =PSKUS_janv!I11 -> 315932.24 | D11: =PSKUS_feb!I11 -> 343227.73 | E11: =PSKUS_marts!I11 -> 237021.42 | F11: =PSKUS_apr!I11 -> 252109.85 | G11: X | H11: X | I11: =SUM(C11:H11) -> 1148291.2
A12: 4 | B12: SIA "Daugavpils reģionālā slimnīca" | C12: =Daugavpils_reģ_janv!I11 -> 149250.46 | D12: =Daugavpils_reģ_feb!I11 -> 149468.61 | E12: =Daugavpils_reģ_marts!I11 -> 135702.28 | F12: =Daugavpils_reģ_apr!I11 -> 179294.81 | G12: =Daugavpils_reģ_maijs!I11 -> 124625.49 | H12: =Daugavpils_reģ_jūn!I11 -> 63563.52 | I12: =SUM(C12:H12) -> 801905.17
A13: 5 | B13: SIA "Ziemeļkurzemes reģionālā slimnīca" | C13: ='Z-Kurzeme_janv'!I10 -> 106162.19 | D13: ='Z-Kurzeme_feb'!I10 -> 119770.85 | E13: ='Z-Kurzeme_marts'!I10 -> 112297.63 | F13: ='Z-Kurzeme_apr'!I10 -> 79359.38 | G13: ='Z-Kurzeme_maijs'!I10 -> 46619.89 | H13: ='Z-Kurzeme_jūn'!I10 -> 47150.69 | I13: =SUM(C13:H13) -> 511360.63
A14: 6 | B14: SIA Jelgavas pilsētas slimnīca | C14: =Jelgava_janv!I11 -> 45562.1 | D14: =Jelgava_feb!I11 -> 59285.11 | E14: =Jelgava_marts!I11 -> 35928.84 | F14: =Jelgava_apr!I11 -> 53203.81 | G14: X | H14: X | I14: =SUM(C14:H14) -> 193979.86
A15: 7 | B15: SIA Vidzemes slimnīca | C15: =Vidzeme_janv!I11 -> 85334.8 | D15: =Vidzeme_feb!I11 -> 91672 | E15: =Vidzeme_marts!I11 -> 73111.21 | F15: =Vidzeme_apr!I11 -> 76511.06 | G15: =Vidzeme_maijs!I11 -> 51367.29 | H15: =Vidzeme_jūn!I11 -> 41644.9 | I15: =SUM(C15:H15) -> 419641.26
A16: 8 | B16: SIA Jēkabpils reģionālā slimnīca | C16: =Jēkabpils_janv_marts!I11 -> 180040.54 | F16: =Jēkabpils_apr_jūn!I11 -> 126417.72 | I16: =SUM(C16:H16) -> 306458.26
A17: 9 | B17: VSIA "Rīgas psihiatrijas un narkoloģijas cenrts" | C17: =RPNC_janv!I11 -> 15315.86 | D17: =RPNC_feb!I11 -> 15184.75 | E17: =RPNC_marts!I11 -> 4194.28 | F17: X | G17: X | H17: X | I17: =SUM(C17:H17) -> 34694.89
A18: 10 | B18: SIA "Rīgas Dzemdību nams" | C18: =Rīgas_DzN_janv_apr!I11 -> 6917.1 | G18: X | H18: X | I18: =SUM(C18:H18) -> 6917.1
A19: 11 | B19: SIA "Rīgas 2.slimnīca" | C19: ='Rīgas_2.sl._janv_apr'!I11 -> 20807.51 | G19: X | H19: X | I19: =SUM(C19:H19) -> 20807.51
A20: 12 | B20: SIA "Cēsu klīnika" | C20: =Cēsis_janv_marts!I11 -> 75275.3 | F20: X | G20: X | H20: X | I20: =SUM(C20:H20) -> 75275.3
A21: 13 | B21: SIA "Balvu un Gulbenes slimnīcu apvienība" | C21: ='Balvi-Gulbene_janv_apr'!I11 -> 46034.33 | G21: X | H21: X | I21: =SUM(C21:H21) -> 46034.33
A22: 14 | B22: VSIA „Daugavpils psihoneiroloģiskā slimnīca” | C22: =Daugavpils_psih_janv!I11 -> 1858.51 | D22: =Daugavpils_psih_feb!I11 -> 8828.22 | E22: =Daugavpils_psih_marts!I11 -> 14872.38 | F22: =Daugavpils_psih_apr!I11 -> 4254.61 | G22: =Daugavpils_psih_maijs!I11 -> 1263.46 | H22: X | I22: =SUM(C22:H22) -> 31077.18
A23: 15 | B23: VSIA "Slimnīca "Ģintermuiža"" | C23: =Ģintermuiža_janv!I11 -> 2133.36 | D23: =Ģintermuiža_feb!I11 -> 14691.82 | E23: =Ģintermuiža_marts!I11 -> 1406.17 | F23: X | G23: X | H23: X | I23: =SUM(C23:H23) -> 18231.35
A24: 16 | B24: SIA Kuldīgas slimnīca | C24: =Kuldīga_janv!I11 -> 4398.38 | D24: =Kuldīga_feb!I11 -> 9784.33 | E24: =Kuldīga_marts!I11 -> 7374.57 | F24: =Kuldīga_apr!I11 -> 9077.71 | G24: =Kuldīga_maijs!I11 -> 3349.06 | H24: X | I24: =SUM(C24:H24) -> 33984.05
B26: Summētā darba laika periods, kurā uzskaitītas virsstundas un papildu snepieciešamais finansējums to apmaksai

Sheet BKUS_janv_apr
H1: 1.1.Pielikums
A2: Pārskats par darba veicējiem (ārstniecības personām), virs normālā darba laika nostrādātām stundām, apmaksājamām stundām un izdevumiem, kas radušies saistībā ar mērķi ierobežot Covid-19 izplatību
A4: Iestādes nosaukums: VISA "Bērnu klīniskā universitātes slimnīca"
A5: Pārskata mēnesis: Janvāris - Aprīlis
B7: Nodarbināto skaits mēnesī | C7: Apmaksājamais laiks mēnesī, stundas (tai skaitā summētā darba laika ietvaros) | F7: Mēnešalga no kuras rēķina stundas likmi | G7: Stundas likme (aprēķināta atbilstoši mēnešalgai vai darba līgumā noteiktā stundas likme) | H7: Apmaksājamā 100% piemaksa par nostrādātām virsstundām virs normālā darba laika (tai skaitā summētā darba laika ietvaros) | I7: Izdevumi par virsstundām kopā ar VSAOI, EUR
C8: Kopā | D8: līdz normālam darba laikam | E8: virsstundas - virs normālā darba laika, kas saistītas ar darbu ar Covid-19
A9: 1 | B9: 2 | C9: 3=4+5 | D9: 4 | E9: 5 | F9: 6 | G9: 7 | H9: 8 | I9: 9=8 +VSOAI
A10: KOPĀ | B10: =B11+B39+B86+B105 -> 96 | E10: =E11+E39+E86+E105 -> 6000.1 | H10: =H11+H39+H86+H105 -> 109534.62 | I10: =I11+I39+I86+I105 -> 135373.88
A11: Ārsti, zobārsti un funkcionālie speciālisti, kopā, tai skaitā: | B11: =SUM(B12:B38) -> 27 | E11: =SUM(E12:E38) -> 2137.1 | H11: =SUM(H12:H38) -> 50950.7 | I11: =SUM(I12:I38) -> 62969.99
A12: Bērnu ķirurgs | B12: 1 | C12: =D12+E12 -> 670.5 | D12: 663 | E12: 7.5 | G12: 20.861 | H12: =ROUND(E12*G12*2,2) -> 312.92 | I12: =ROUND(H12*1.2359,2) -> 386.74
A13: Bērnu ķirurgs | B13: 1 | C13: =D13+E13 -> 766 | D13: 663 | E13: 103 | G13: 20.563 | H13: =ROUND(E13*G13*2,2) -> 4235.98 | I13: =ROUND(H13*1.2359,2) -> 5235.25
A14: Rezidents | B14: 1 | C14: =D14+E14 -> 672 | D14: 663 | E14: 9 | G14: 10.97 | H14: =ROUND(E14*G14*2,2) -> 197.46 | I14: =ROUND(H14*1.2359,2) -> 244.04
A15: Bērnu ķirurgs | B15: 1 | C15: =D15+E15 -> 760.5 | D15: 663 | E15: 97.5 | G15: 15.576 | H15: =ROUND(E15*G15*2,2) -> 3037.32 | I15: =ROUND(H15*1.2359,2) -> 3753.82
A16: Pediatrs | B16: 1 | C16: =D16+E16 -> 867 | D16: 663 | E16: 204 | G16: 17.41 | H16: =ROUND(E16*G16*2,2) -> 7103.28 | I16: =ROUND(H16*1.2359,2) -> 8778.94
A17: Bērnu ķirurgs | B17: 1 | C17: =D17+E17 -> 682 | D17: 663 | E17: 19 | G17: 15.354 | H17: =ROUND(E17*G17*2,2) -> 583.45 | I17: =ROUND(H17*1.2359,2) -> 721.09
A18: Bērnu infektologs | B18: 1 | C18: =D18+E18 -> 671 | D18: 663 | E18: 8 | G18: 12.51 | H18: =ROUND(E18*G18*2,2) -> 200.16 | I18: =ROUND(H18*1.2359,2) -> 247.38
A19: Virsārsts | B19: 1 | C19: =D19+E19 -> 709.5 | D19: 663 | E19: 46.5 | G19: 15.205 | H19: =ROUND(E19*G19*2,2) -> 1414.07 | I19: =ROUND(H19*1.2359,2) -> 1747.65
A20: Neatliekamās medicīniskās palīdzības un observācijas procesa pediatrijas virsārsts | B20: 1 | C20: =D20+E20 -> 694 | D20: 663 | E20: 31 | G20: 15.924 | H20: =ROUND(E20*G20*2,2) -> 987.29 | I20: =ROUND(H20*1.2359,2) -> 1220.19
A21: Bērnu infektologs | B21: 1 | C21: =D21+E21 -> 663.5 | D21: 663 | E21: 0.5 | G21: 12.42 | H21: =ROUND(E21*G21*2,2) -> 12.42 | I21: =ROUND(H21*1.2359,2) -> 15.35
A22: Bērnu ķirurgs | B22: 1 | C22: =D22+E22 -> 793 | D22: 663 | E22: 130 | G22: 11.78 | H22: =ROUND(E22*G22*2,2) -> 3062.8 | I22: =ROUND(H22*1.2359,2) -> 3785.31
A23: Virsārsts | B23: 1 | C23: =D23+E23 -> 688 | D23: 663 | E23: 25 | G23: 15.576 | H23: =ROUND(E23*G23*2,2) -> 778.8 | I23: =ROUND(H23*1.2359,2) -> 962.52
... A38: Ārsts - stažieris | B38: 1 | C38: =D38+E38 -> 931.5 | D38: 663 | E38: 268.5 | G38: 9.46 | H38: =ROUND(E38*G38*2,2) -> 5080.02 | I38: =ROUND(H38*1.2359,2) -> 6278.4
A39: Ārstniecības un pacientu aprūpes personas un funkcionālo speciālistu asistenti, kopā, tai skaitā: | B39: =SUM(B40:B85) -> 46 | E39: =SUM(E40:E85) -> 2825.5 | H39: =SUM(H40:H85) -> 48169.46 | I39: =SUM(I40:I85) -> 59532.64
A40: Māsa | B40: 1 | C40: =D40+E40 -> 765 | D40: 663 | E40: 102 | G40: 9.975 | H40: =ROUND(E40*G40*2,2) -> 2034.9 | I40: =ROUND(H40*1.2359,2) -> 2514.93
A41: Bērnu māsa | B41: 1 | C41: =D41+E41 -> 670.5 | D41: 663 | E41: 7.5 | G41: 8.1 | H41: =ROUND(E41*G41*2,2) -> 121.5 | I41: =ROUND(H41*1.2359,2) -> 150.16
A42: Bērnu māsa | B42: 1 | C42: =D42+E42 -> 716 | D42: 663 | E42: 53 | G42: 8.12 | H42: =ROUND(E42*G42*2,2) -> 860.72 | I42: =ROUND(H42*1.2359,2) -> 1063.76
A43: Bērnu māsa | B43: 1 | C43: =D43+E43 -> 843 | D43: 663 | E43: 180 | G43: 7.85 | H43: =ROUND(E43*G43*2,2) -> 2826 | I43: =ROUND(H43*1.2359,2) -> 3492.65
A44: Bērnu māsa | B44: 1 | C44: =D44+E44 -> 676.5 | D44: 663 | E44: 13.5 | G44: 7.68 | H44: =ROUND(E44*G44*2,2) -> 207.36 | I44: =ROUND(H44*1.2359,2) -> 256.28
A45: Bērnu māsa | B45: 1 | C45: =D45+E45 -> 688 | D45: 663 | E45: 25 | G45: 7.68 | H45: =ROUND(E45*G45*2,2) -> 384 | I45: =ROUND(H45*1.2359,2) -> 474.59
A46: Bērnu māsa | B46: 1 | C46: =D46+E46 -> 776.5 | D46: 663 | E46: 113.5 | G46: 8.12 | H46: =ROUND(E46*G46*2,2) -> 1843.24 | I46: =ROUND(H46*1.2359,2) -> 2278.06
A47: Bērnu māsa | B47: 1 | C47: =D47+E47 -> 699.5 | D47: 663 | E47: 36.5 | G47: 8.12 | H47: =ROUND(E47*G47*2,2) -> 592.76 | I47: =ROUND(H47*1.2359,2) -> 732.59
A48: Bērnu māsa | B48: 1 | C48: =D48+E48 -> 665 | D48: 663 | E48: 2 | G48: 8.02 | H48: =ROUND(E48*G48*2,2) -> 32.08 | I48: =ROUND(H48*1.2359,2) -> 39.65
A49: Bērnu māsa | B49: 1 | C49: =D49+E49 -> 799 | D49: 663 | E49: 136 | G49: 8.12 | H49: =ROUND(E49*G49*2,2) -> 2208.64 | I49: =ROUND(H49*1.2359,2) -> 2729.66
A50: Bērnu māsa | B50: 1 | C50: =D50+E50 -> 717 | D50: 663 | E50: 54 | G50: 7.94 | H50: =ROUND(E50*G50*2,2) -> 857.52 | I50: =ROUND(H50*1.2359,2) -> 1059.81
A51: Bērnu māsa | B51: 1 | C51: =D51+E51 -> 728 | D51: 663 | E51: 65 | G51: 8.12 | H51: =ROUND(E51*G51*2,2) -> 1055.6 | I51: =ROUND(H51*1.2359,2) -> 1304.62
... A85: Bērnu māsa | B85: 1 | C85: =D85+E85 -> 682 | D85: 663 | E85: 19 | G85: 7.35 | H85: =ROUND(E85*G85*2,2) -> 279.3 | I85: =ROUND(H85*1.2359,2) -> 345.19
A86: Ārstniecības un pacientu aprūpes atbalsta personas, māsu palīgi, zobārstu aistenti, kopā, tai skaitā: | B86: =SUM(B87:B104) -> 18 | E86: =SUM(E87:E104) -> 809 | H86: =SUM(H87:H104) -> 8215.3 | I86: =SUM(I87:I104) -> 10153.3
A87: Māsas palīgs | B87: 1 | C87: =D87+E87 -> 677.5 | D87: 663 | E87: 14.5 | G87: 5.06 | H87: =ROUND(E87*G87*2,2) -> 146.74 | I87: =ROUND(H87*1.2359,2) -> 181.36
A88: Māsas palīgs | B88: 1 | C88: =D88+E88 -> 692 | D88: 663 | E88: 29 | G88: 5.38 | H88: =ROUND(E88*G88*2,2) -> 312.04 | I88: =ROUND(H88*1.2359,2) -> 385.65
A89: Māsas palīgs | B89: 1 | C89: =D89+E89 -> 696 | D89: 663 | E89: 33 | G89: 5.25 | H89: =ROUND(E89*G89*2,2) -> 346.5 | I89: =ROUND(H89*1.2359,2) -> 428.24
A90: Māsas palīgs | B90: 1 | C90: =D90+E90 -> 732 | D90: 663 | E90: 69 | G90: 5.3 | H90: =ROUND(E90*G90*2,2) -> 731.4 | I90: =ROUND(H90*1.2359,2) -> 903.94
A91: Māsas palīgs | B91: 1 | C91: =D91+E91 -> 744 | D91: 663 | E91: 81 | G91: 5.25 | H91: =ROUND(E91*G91*2,2) -> 850.5 | I91: =ROUND(H91*1.2359,2) -> 1051.13
A92: Māsas palīgs | B92: 1 | C92: =D92+E92 -> 708 | D92: 663 | E92: 45 | G92: 5.25 | H92: =ROUND(E92*G92*2,2) -> 472.5 | I92: =ROUND(H92*1.2359,2) -> 583.96
A93: Māsas palīgs | B93: 1 | C93: =D93+E93 -> 696 | D93: 663 | E93: 33 | G93: 5.12 | H93: =ROUND(E93*G93*2,2) -> 337.92 | I93: =ROUND(H93*1.2359,2) -> 417.64
A94: Māsas palīgs | B94: 1 | C94: =D94+E94 -> 704 | D94: 663 | E94: 41 | G94: 5.12 | H94: =ROUND(E94*G94*2,2) -> 419.84 | I94: =ROUND(H94*1.2359,2) -> 518.88
A95: Māsas palīgs | B95: 1 | C95: =D95+E95 -> 747 | D95: 663 | E95: 84 | G95: 5.12 | H95: =ROUND(E95*G95*2,2) -> 860.16 | I95: =ROUND(H95*1.2359,2) -> 1063.07
A96: Māsas palīgs | B96: 1 | C96: =D96+E96 -> 710 | D96: 663 | E96: 47 | G96: 4.82 | H96: =ROUND(E96*G96*2,2) -> 453.08 | I96: =ROUND(H96*1.2359,2) -> 559.96
A97: Jaunākais māsas palīgs | B97: 1 | C97: =D97+E97 -> 691 | D97: 663 | E97: 28 | G97: 4.58 | H97: =ROUND(E97*G97*2,2) -> 256.48 | I97: =ROUND(H97*1.2359,2) -> 316.98
A98: Māsas palīgs | B98: 1 | C98: =D98+E98 -> 676.5 | D98: 663 | E98: 13.5 | G98: 4.82 | H98: =ROUND(E98*G98*2,2) -> 130.14 | I98: =ROUND(H98*1.2359,2) -> 160.84
... A104: Māsas palīgs | B104: 1 | C104: =D104+E104 -> 676 | D104: 663 | E104: 13 | G104: 5.12 | H104: =ROUND(E104*G104*2,2) -> 133.12 | I104: =ROUND(H104*1.2359,2) -> 164.52
A105: Pārējie darbinieki, kuri tieši iesaistīti darbā ar Covid-19, kopā, tai skaitā: | B105: =SUM(B106:B110) -> 5 | E105: =SUM(E106:E110) -> 228.5 | H105: =SUM(H106:H110) -> 2199.16 | I105: =SUM(I106:I110) -> 2717.95
A106: Noslēguma dezinfekciju veicējs | B106: 1 | C106: =D106+E106 -> 683 | D106: 663 | E106: 20 | G106: 4.17 | H106: =ROUND(E106*G106*2,2) -> 166.8 | I106: =ROUND(H106*1.2359,2) -> 206.15
A107: Automobiļa vadītājs | B107: 1 | C107: =D107+E107 -> 751.5 | D107: 663 | E107: 88.5 | G107: 5.828 | H107: =ROUND(E107*G107*2,2) -> 1031.56 | I107: =ROUND(H107*1.2359,2) -> 1274.91
A108: Noslēguma dezinfekciju veicējs | B108: 1 | C108: =D108+E108 -> 725 | D108: 663 | E108: 62 | G108: 4.17 | H108: =ROUND(E108*G108*2,2) -> 517.08 | I108: =ROUND(H108*1.2359,2) -> 639.06
A109: Noslēguma dezinfekciju veicējs | B109: 1 | C109: =D109+E109 -> 672 | D109: 663 | E109: 9 | G109: 4.17 | H109: =ROUND(E109*G109*2,2) -> 75.06 | I109: =ROUND(H109*1.2359,2) -> 92.77
A110: Noslēguma dezinfekciju veicējs | B110: 1 | C110: =D110+E110 -> 712 | D110: 663 | E110: 49 | G110: 4.17 | H110: =ROUND(E110*G110*2,2) -> 408.66 | I110: =ROUND(H110*1.2359,2) -> 505.06

Sheet RAKUS_janv_apr
H1: 1.2.Pielikums
A2: Pārskats par darba veicējiem (ārstniecības personām), virs normālā darba laika nostrādātām stundām, apmaksājamām stundām un izdevumiem, kas radušies saistībā ar mērķi ierobežot Covid-19 izplatību
A4: Iestādes nosaukums: SIA “Rīgas Austrumu klīniskās universitātes slimnīca”
A5: Pārskata mēnesis: Janvāris - Aprīlis
B7: Nodarbināto skaits mēnesī | C7: Apmaksājamais laiks mēnesī, stundas (tai skaitā summētā darba laika ietvaros) | F7: Mēnešalga no kuras rēķina stundas likmi | G7: Stundas likme (aprēķināta atbilstoši mēnešalgai vai darba līgumā noteiktā stundas likme) | H7: Apmaksājamā 100% piemaksa par nostrādātām virsstundām virs normālā darba laika (tai skaitā summētā darba laika ietvaros) | I7: Izdevumi par virsstundām kopā ar VSOAI, EUR
C8: Kopā | D8: līdz normālam darba laikam | E8: virsstundas - virs normālā darba laika, kas saistītas ar darbu ar Covid-19
A10: 1 | B10: 2 | C10: 3=4+5 | D10: 4 | E10: 5 | F10: 6 | G10: 7 | H10: 8 | I10: 9=8 + VSOAI
A11: KOPĀ | B11: =B12+B579+B1519+B1343 -> 1906 | E11: =E12+E579+E1519+E1343 -> 125224.2 | H11: =H12+H579+H1519+H1343 -> 2185430.7 | I11: =I12+I579+I1519+I1343 -> 2698518.1
A12: Ārsti, zobārsti un funkcionālie speciālisti, kopā, tai skaitā: | B12: =SUM(B13:B578) -> 566 | E12: =SUM(E13:E578) -> 54982.788 | H12: =SUM(H13:H578) -> 1238304.8 | I12: =SUM(I13:I578) -> 1529441.2
A13: Anesteziologs, reanimatologs | B13: 1 | C13: =D13+E13 -> 333.59 | D13: 0 | E13: 333.59 | F13: 2092 | G13: =F13/168.17 -> 12.439793 | H13: =ROUND(E13*G13*2,2) -> 8299.58 | I13: =ROUND(H13*1.2359,2) -> 10257.45
A14: Anesteziologs, reanimatologs | B14: 1 | C14: =D14+E14 -> 376 | D14: 155.75 | E14: 220.25 | F14: 2092 | G14: =F14/168.17 -> 12.439793 | H14: =ROUND(E14*G14*2,2) -> 5479.73 | I14: =ROUND(H14*1.2359,2) -> 6772.4
A15: Anesteziologs, reanimatologs | B15: 1 | C15: =D15+E15 -> 212 | D15: 0 | E15: 212 | F15: 2092 | G15: =F15/168.17 -> 12.439793 | H15: =ROUND(E15*G15*2,2) -> 5274.47 | I15: =ROUND(H15*1.2359,2) -> 6518.72
A16: Anesteziologs, reanimatologs | B16: 1 | C16: =D16+E16 -> 320.41633 | D16: 315.5 | E16: 4.916333 | F16: 2965 | G16: =F16/168.17 -> 17.630969 | H16: =ROUND(E16*G16*2,2) -> 173.36 | I16: =ROUND(H16*1.2359,2) -> 214.26
A17: Anesteziologs, reanimatologs | B17: 1 | C17: =D17+E17 -> 672.333 | D17: 663 | E17: 9.332999 | F17: 2965 | G17: =F17/168.17 -> 17.630969 | H17: =ROUND(E17*G17*2,2) -> 329.1 | I17: =ROUND(H17*1.2359,2) -> 406.73
A18: Anesteziologs, reanimatologs | B18: 1 | C18: =D18+E18 -> 596.74967 | D18: 559 | E18: 37.749666 | F18: 2965 | G18: =F18/168.17 -> 17.630969 | H18: =ROUND(E18*G18*2,2) -> 1331.13 | I18: =ROUND(H18*1.2359,2) -> 1645.14
A19: Anesteziologs, reanimatologs | B19: 1 | C19: =D19+E19 -> 532.58366 | D19: 512 | E19: 20.583665 | F19: 2965 | G19: =F19/168.17 -> 17.630969 | H19: =ROUND(E19*G19*2,2) -> 725.82 | I19: =ROUND(H19*1.2359,2) -> 897.04
A20: Anesteziologs, reanimatologs | B20: 1 | C20: =D20+E20 -> 597.58367 | D20: 575 | E20: 22.583666 | F20: 2965 | G20: =F20/168.17 -> 17.630969 | H20: =ROUND(E20*G20*2,2) -> 796.34 | I20: =ROUND(H20*1.2077,2) -> 961.74
A21: Anesteziologs, reanimatologs | B21: 1 | C21: =D21+E21 -> 589.083 | D21: 583 | E21: 6.083 | F21: 2965 | G21: =F21/168.17 -> 17.630969 | H21: =ROUND(E21*G21*2,2) -> 214.5 | I21: =ROUND(H21*1.2359,2) -> 265.1
A22: Anesteziologs, reanimatologs | B22: 1 | C22: =D22+E22 -> 613.08333 | D22: 607 | E22: 6.083333 | F22: 2965 | G22: =F22/168.17 -> 17.630969 | H22: =ROUND(E22*G22*2,2) -> 214.51 | I22: =ROUND(H22*1.2359,2) -> 265.11
A23: Anesteziologs, reanimatologs | B23: 1 | C23: =D23+E23 -> 623.25 | D23: 615 | E23: 8.25 | F23: 2965 | G23: =F23/168.17 -> 17.630969 | H23: =ROUND(E23*G23*2,2) -> 290.91 | I23: =ROUND(H23*1.2359,2) -> 359.54
A24: Anesteziologs, reanimatologs | B24: 1 | C24: =D24+E24 -> 583 | D24: 559 | E24: 24 | F24: 2965 | G24: =F24/168.17 -> 17.630969 | H24: =ROUND(E24*G24*2,2) -> 846.29 | I24: =ROUND(H24*1.2359,2) -> 1045.93
A25: Anesteziologs, reanimatologs | B25: 1 | C25: =D25+E25 -> 121 | D25: 0 | E25: 121 | F25: 2965 | G25: =F25/168.17 -> 17.630969 | H25: =ROUND(E25*G25*2,2) -> 4266.69 | I25: =ROUND(H25*1.2359,2) -> 5273.2
A26: Anesteziologs, reanimatologs | B26: 1 | C26: =D26+E26 -> 144 | D26: 0 | E26: 144 | F26: 2965 | G26: =F26/168.17 -> 17.630969 | H26: =ROUND(E26*G26*2,2) -> 5077.72 | I26: =ROUND(H26*1.2359,2) -> 6275.55
A27: Anesteziologs, reanimatologs | B27: 1 | C27: =D27+E27 -> 638.5 | D27: 615 | E27: 23.5 | F27: 2965 | G27: =F27/168.17 -> 17.630969 | H27: =ROUND(E27*G27*2,2) -> 828.66 | I27: =ROUND(H27*1.2077,2) -> 1000.77
A28: Anesteziologs, reanimatologs | B28: 1 | C28: =D28+E28 -> 589.41667 | D28: 583 | E28: 6.416666 | F28: 2965 | G28: =F28/168.17 -> 17.630969 | H28: =ROUND(E28*G28*2,2) -> 226.26 | I28: =ROUND(H28*1.2359,2) -> 279.63
A29: Anesteziologs, reanimatologs | B29: 1 | C29: =D29+E29 -> 614.66667 | D29: 607 | E29: 7.666666 | F29: 2965 | G29: =F29/168.17 -> 17.630969 | H29: =ROUND(E29*G29*2,2) -> 270.34 | I29: =ROUND(H29*1.2359,2) -> 334.11
A30: Anesteziologs, reanimatologs | B30: 1 | C30: =D30+E30 -> 645.5 | D30: 623 | E30: 22.5 | F30: 2965 | G30: =F30/168.17 -> 17.630969 | H30: =ROUND(E30*G30*2,2) -> 793.39 | I30: =ROUND(H30*1.2359,2) -> 980.55
A31: Anesteziologs, reanimatologs | B31: 1 | C31: =D31+E31 -> 684 | D31: 519 | E31: 165 | F31: 2965 | G31: =F31/168.17 -> 17.630969 | H31: =ROUND(E31*G31*2,2) -> 5818.22 | I31: =ROUND(H31*1.2359,2) -> 7190.74
A32: Anesteziologs, reanimatologs | B32: 1 | C32: =D32+E32 -> 881 | D32: 663 | E32: 218 | F32: 2965 | G32: =F32/168.17 -> 17.630969 | H32: =ROUND(E32*G32*2,2) -> 7687.1 | I32: =ROUND(H32*1.2359,2) -> 9500.49
A33: Anesteziologs, reanimatologs | B33: 1 | C33: =D33+E33 -> 757 | D33: 623 | E33: 134 | F33: 2965 | G33: =F33/168.17 -> 17.630969 | H33: =ROUND(E33*G33*2,2) -> 4725.1 | I33: =ROUND(H33*1.2359,2) -> 5839.75
A34: Anesteziologs, reanimatologs | B34: 1 | C34: =D34+E34 -> 892 | D34: 599 | E34: 293 | F34: 2965 | G34: =F34/168.17 -> 17.630969 | H34: =ROUND(E34*G34*2,2) -> 10331.75 | I34: =ROUND(H34*1.2077,2) -> 12477.65
A35: Anesteziologs, reanimatologs | B35: 1 | C35: =D35+E35 -> 446.79 | D35: 291.5 | E35: 155.29 | F35: 2965 | G35: =F35/168.17 -> 17.630969 | H35: =ROUND(E35*G35*2,2) -> 5475.83 | I35: =ROUND(H35*1.2359,2) -> 6767.58
A36: Anesteziologs, reanimatologs | B36: 1 | C36: =D36+E36 -> 158.70968 | D36: 140 | E36: 18.709677 | F36: 2965 | G36: =F36/168.17 -> 17.630969 | H36: =ROUND(E36*G36*2,2) -> 659.74 | I36: =ROUND(H36*1.2359,2) -> 815.37
A37: Anesteziologs, reanimatologs | B37: 1 | C37: =D37+E37 -> 732 | D37: 543 | E37: 189 | F37: 2965 | G37: =F37/168.17 -> 17.630969 | H37: =ROUND(E37*G37*2,2) -> 6664.51 | I37: =ROUND(H37*1.2359,2) -> 8236.67
A38: Anesteziologs, reanimatologs | B38: 1 | C38: =D38+E38 -> 600 | D38: 543 | E38: 57 | F38: 2965 | G38: =F38/168.17 -> 17.630969 | H38: =ROUND(E38*G38*2,2) -> 2009.93 | I38: =ROUND(H38*1.2077,2) -> 2427.39
A39: Anesteziologs, reanimatologs | B39: 1 | C39: =D39+E39 -> 64 | D39: 0 | E39: 64 | F39: 2965 | G39: =F39/168.17 -> 17.630969 | H39: =ROUND(E39*G39*2,2) -> 2256.76 | I39: =ROUND(H39*1.2077,2) -> 2725.49
A40: Anesteziologs, reanimatologs | B40: 1 | C40: =D40+E40 -> 240 | D40: 0 | E40: 240 | F40: 2965 | G40: =F40/168.17 -> 17.630969 | H40: =ROUND(E40*G40*2,2) -> 8462.86 | I40: =ROUND(H40*1.2359,2) -> 10459.25
A41: Anesteziologs, reanimatologs | B41: 1 | C41: =D41+E41 -> 177 | D41: 155.75 | E41: 21.25 | F41: 2965 | G41: =F41/168.17 -> 17.630969 | H41: =ROUND(E41*G41*2,2) -> 749.32 | I41: =ROUND(H41*1.2359,2) -> 926.08
A42: Anesteziologs, reanimatologs | B42: 1 | C42: =D42+E42 -> 415.01354 | D42: 311.5 | E42: 103.51354 | F42: 2965 | G42: =F42/168.17 -> 17.630969 | H42: =ROUND(E42*G42*2,2) -> 3650.09 | I42: =ROUND(H42*1.2359,2) -> 4511.15
A43: Anesteziologs, reanimatologs | B43: 1 | C43: =D43+E43 -> 208 | D43: 0 | E43: 208 | F43: 2965 | G43: =F43/168.17 -> 17.630969 | H43: =ROUND(E43*G43*2,2) -> 7334.48 | I43: =ROUND(H43*1.2359,2) -> 9064.68
A44: Anesteziologs, reanimatologs | B44: 1 | C44: =D44+E44 -> 96 | D44: 0 | E44: 96 | F44: 2965 | G44: =F44/168.17 -> 17.630969 | H44: =ROUND(E44*G44*2,2) -> 3385.15 | I44: =ROUND(H44*1.2359,2) -> 4183.71
A45: Anesteziologs, reanimatologs (1.līmenis) | B45: 1 | C45: =D45+E45 -> 362.833 | D45: 352 | E45: 10.833 | F45: 2427 | G45: =F45/168.17 -> 14.431825 | H45: =ROUND(E45*G45*2,2) -> 312.68 | I45: =ROUND(H45*1.2359,2) -> 386.44
A46: Anesteziologs, reanimatologs (1.līmenis) | B46: 1 | C46: =D46+E46 -> 452.75 | D46: 437.25 | E46: 15.5 | F46: 2427 | G46: =F46/168.17 -> 14.431825 | H46: =ROUND(E46*G46*2,2) -> 447.39 | I46: =ROUND(H46*1.2359,2) -> 552.93
A47: Anesteziologs, reanimatologs (1.līmenis) | B47: 1 | C47: =D47+E47 -> 169.75 | D47: 145.75 | E47: 24 | F47: 2427 | G47: =F47/168.17 -> 14.431825 | H47: =ROUND(E47*G47*2,2) -> 692.73 | I47: =ROUND(H47*1.2359,2) -> 856.15
A48: Anesteziologs, reanimatologs (1.līmenis) | B48: 1 | C48: =D48+E48 -> 598.584 | D48: 583 | E48: 15.584 | F48: 2427 | G48: =F48/168.17 -> 14.431825 | H48: =ROUND(E48*G48*2,2) -> 449.81 | I48: =ROUND(H48*1.2359,2) -> 555.92
A49: Anesteziologs, reanimatologs (1.līmenis) | B49: 1 | C49: =D49+E49 -> 556.91667 | D49: 535 | E49: 21.916666 | F49: 2427 | G49: =F49/168.17 -> 14.431825 | H49: =ROUND(E49*G49*2,2) -> 632.59 | I49: =ROUND(H49*1.2359,2) -> 781.82
A50: Anesteziologs, reanimatologs (1.līmenis) | B50: 1 | C50: =D50+E50 -> 548.33267 | D50: 512 | E50: 36.332666 | F50: 2427 | G50: =F50/168.17 -> 14.431825 | H50: =ROUND(E50*G50*2,2) -> 1048.69 | I50: =ROUND(H50*1.2359,2) -> 1296.08
A51: Anesteziologs, reanimatologs (1.līmenis) | B51: 1 | C51: =D51+E51 -> 629.33033 | D51: 607 | E51: 22.330333 | F51: 2427 | G51: =F51/168.17 -> 14.431825 | H51: =ROUND(E51*G51*2,2) -> 644.53 | I51: =ROUND(H51*1.2359,2) -> 796.57
... A66: Anesteziologs, reanimatologs (2.līmenis) | B66: 1 | C66: =D66+E66 -> 591 | D66: 559 | E66: 32 | F66: 2696 | G66: =F66/168.17 -> 16.031397 | H66: =ROUND(E66*G66*2,2) -> 1026.01 | I66: =ROUND(H66*1.2359,2) -> 1268.05
A67: Anesteziologs, reanimatologs (2.līmenis) | B67: 1 | C67: =D67+E67 -> 317.5 | D67: 203.5 | E67: 114 | F67: 2696 | G67: =F67/168.17 -> 16.031397 | H67: =ROUND(E67*G67*2,2) -> 3655.16 | I67: =ROUND(H67*1.2077,2) -> 4414.34
A68: Anesteziologs, reanimatologs (2.līmenis) | B68: 1 | C68: =D68+E68 -> 741.5 | D68: 663 | E68: 78.5 | F68: 2696 | G68: =F68/168.17 -> 16.031397 | H68: =ROUND(E68*G68*2,2) -> 2516.93 | I68: =ROUND(H68*1.2359,2) -> 3110.67
A69: Anesteziologs, reanimatologs (2.līmenis) | B69: 1 | C69: =D69+E69 -> 475.25 | D69: 467.25 | E69: 8 | F69: 2696 | G69: =F69/168.17 -> 16.031397 | H69: =ROUND(E69*G69*2,2) -> 256.5 | I69: =ROUND(H69*1.2359,2) -> 317.01
A70: Anesteziologs, reanimatologs (2.līmenis) | B70: 1 | C70: =D70+E70 -> 220.75 | D70: 155.75 | E70: 65 | F70: 2696 | G70: =F70/168.17 -> 16.031397 | H70: =ROUND(E70*G70*2,2) -> 2084.08 | I70: =ROUND(H70*1.2359,2) -> 2575.71
A71: Anesteziologs, reanimatologs (2.līmenis) | B71: 1 | C71: =D71+E71 -> 713 | D71: 663 | E71: 50 | F71: 2696 | G71: =F71/168.17 -> 16.031397 | H71: =ROUND(E71*G71*2,2) -> 1603.14 | I71: =ROUND(H71*1.2359,2) -> 1981.32
A72: Anesteziologs, reanimatologs (2.līmenis) | B72: 1 | C72: =D72+E72 -> 395.5 | D72: 331.5 | E72: 64 | F72: 2696 | G72: =F72/168.17 -> 16.031397 | H72: =ROUND(E72*G72*2,2) -> 2052.02 | I72: =ROUND(H72*1.2359,2) -> 2536.09
A73: Anesteziologs, reanimatologs (2.līmenis) | B73: 1 | C73: =D73+E73 -> 714 | D73: 663 | E73: 51 | F73: 2696 | G73: =F73/168.17 -> 16.031397 | H73: =ROUND(E73*G73*2,2) -> 1635.2 | I73: =ROUND(H73*1.2359,2) -> 2020.94
A74: Anesteziologs, reanimatologs (2.līmenis) | B74: 1 | C74: =D74+E74 -> 615 | D74: 599 | E74: 16 | F74: 2696 | G74: =F74/168.17 -> 16.031397 | H74: =ROUND(E74*G74*2,2) -> 513 | I74: =ROUND(H74*1.2359,2) -> 634.02
A75: Anesteziologs, reanimatologs (2.līmenis) | B75: 1 | C75: =D75+E75 -> 13.583666 | D75: 0 | E75: 13.583666 | F75: 2696 | G75: =F75/168.17 -> 16.031397 | H75: =ROUND(E75*G75*2,2) -> 435.53 | I75: =ROUND(H75*1.2359,2) -> 538.27
A76: Anesteziologs, reanimatologs (2.līmenis) | B76: 1 | C76: =D76+E76 -> 5.5 | D76: 0 | E76: 5.5 | F76: 2696 | G76: =F76/168.17 -> 16.031397 | H76: =ROUND(E76*G76*2,2) -> 176.35 | I76: =ROUND(H76*1.2359,2) -> 217.95
A77: Anesteziologs, reanimatologs (2.līmenis) | B77: 1 | C77: =D77+E77 -> 699 | D77: 663 | E77: 36 | F77: 2696 | G77: =F77/168.17 -> 16.031397 | H77: =ROUND(E77*G77*2,2) -> 1154.26 | I77: =ROUND(H77*1.2077,2) -> 1394
A78: Anesteziologs, reanimatologs (2.līmenis) | B78: 1 | C78: =D78+E78 -> 589.33333 | D78: 583 | E78: 6.333333 | F78: 2696 | G78: =F78/168.17 -> 16.031397 | H78: =ROUND(E78*G78*2,2) -> 203.06 | I78: =ROUND(H78*1.2359,2) -> 250.96
A79: Anesteziologs, reanimatologs (2.līmenis) | B79: 1 | C79: =D79+E79 -> 219.5 | D79: 211.5 | E79: 8 | F79: 2696 | G79: =F79/168.17 -> 16.031397 | H79: =ROUND(E79*G79*2,2) -> 256.5 | I79: =ROUND(H79*1.2359,2) -> 317.01
A80: Anesteziologs, reanimatologs (2.līmenis) | B80: 1 | C80: =D80+E80 -> 129 | D80: 0 | E80: 129 | F80: 2696 | G80: =F80/168.17 -> 16.031397 | H80: =ROUND(E80*G80*2,2) -> 4136.1 | I80: =ROUND(H80*1.2359,2) -> 5111.81
A81: Asinsvadu ķirurgs (augsti kvalificēts) | B81: 1 | C81: =D81+E81 -> 232.25 | D81: 228 | E81: 4.25 | F81: 3626 | G81: =F81/168.17 -> 21.561515 | H81: =ROUND(E81*G81*2,2) -> 183.27 | I81: =ROUND(H81*1.2359,2) -> 226.5
A82: Atbildīgais ķirurgs | B82: 1 | C82: =D82+E82 -> 88.48 | D82: 0 | E82: 88.48 | F82: 3012 | G82: =F82/168.17 -> 17.910448 | H82: =ROUND(E82*G82*2,2) -> 3169.43 | I82: =ROUND(H82*1.2359,2) -> 3917.1
A83: Atbildīgais ķirurgs | B83: 1 | C83: =D83+E83 -> 288 | D83: 0 | E83: 288 | F83: 3012 | G83: =F83/168.17 -> 17.910448 | H83: =ROUND(E83*G83*2,2) -> 10316.42 | I83: =ROUND(H83*1.2359,2) -> 12750.06
A84: Atbildīgais ķirurgs | B84: 1 | C84: =D84+E84 -> 264 | D84: 0 | E84: 264 | F84: 3012 | G84: =F84/168.17 -> 17.910448 | H84: =ROUND(E84*G84*2,2) -> 9456.72 | I84: =ROUND(H84*1.2359,2) -> 11687.56
A85: Atbildīgais ķirurgs | B85: 1 | C85: =D85+E85 -> 297 | D85: 0 | E85: 297 | F85: 3012 | G85: =F85/168.17 -> 17.910448 | H85: =ROUND(E85*G85*2,2) -> 10638.81 | I85: =ROUND(H85*1.2359,2) -> 13148.51
A86: Atbildīgais ķirurgs | B86: 1 | C86: =D86+E86 -> 241.6 | D86: 0 | E86: 241.6 | F86: 3012 | G86: =F86/168.17 -> 17.910448 | H86: =ROUND(E86*G86*2,2) -> 8654.33 | I86: =ROUND(H86*1.2359,2) -> 10695.89
A87: Atbildīgais ķirurgs | B87: 1 | C87: =D87+E87 -> 156.48 | D87: 0 | E87: 156.48 | F87: 3012 | G87: =F87/168.17 -> 17.910448 | H87: =ROUND(E87*G87*2,2) -> 5605.25 | I87: =ROUND(H87*1.2359,2) -> 6927.53
A88: Atbildīgais ķirurgs | B88: 1 | C88: =D88+E88 -> 108.52 | D88: 0 | E88: 108.52 | F88: 3012 | G88: =F88/168.17 -> 17.910448 | H88: =ROUND(E88*G88*2,2) -> 3887.28 | I88: =ROUND(H88*1.2359,2) -> 4804.29
A89: Atbildīgais ķirurgs | B89: 1 | C89: =D89+E89 -> 211.91667 | D89: 0 | E89: 211.91667 | F89: 3012 | G89: =F89/168.17 -> 17.910448 | H89: =ROUND(E89*G89*2,2) -> 7591.04 | I89: =ROUND(H89*1.2359,2) -> 9381.77
... A223: Bakterioloģijas daļas vadītājs - laboratorijas ārsts | B223: 1 | C223: =D223+E223 -> 684 | D223: 591 | E223: 93 | F223: 1880 | G223: =F223/168.17 -> 11.179164 | H223: =ROUND(E223*G223*2,2) -> 2079.32 | I223: =ROUND(H223*1.2359,2) -> 2569.83
A224: Dežūrārsts | B224: 1 | C224: =D224+E224 -> 714 | D224: 583 | E224: 131 | F224: 1893 | G224: =F224/168.17 -> 11.256467 | H224: =ROUND(E224*G224*2,2) -> 2949.19 | I224: =ROUND(H224*1.2077,2) -> 3561.74
A225: Dežūrārsts | B225: 1 | C225: =D225+E225 -> 124 | D225: 0 | E225: 124 | F225: 1893 | G225: =F225/168.17 -> 11.256467 | H225: =ROUND(E225*G225*2,2) -> 2791.6 | I225: =ROUND(H225*1.2359,2) -> 3450.14
A226: Dežūrārsts | B226: 1 | C226: =D226+E226 -> 48 | D226: 0 | E226: 48 | F226: 1893 | G226: =F226/168.17 -> 11.256467 | H226: =ROUND(E226*G226*2,2) -> 1080.62 | I226: =ROUND(H226*1.2359,2) -> 1335.54
A227: Dežūrārsts | B227: 1 | C227: =D227+E227 -> 71.5 | D227: 0 | E227: 71.5 | F227: 1893 | G227: =F227/168.17 -> 11.256467 | H227: =ROUND(E227*G227*2,2) -> 1609.67 | I227: =ROUND(H227*1.2359,2) -> 1989.39
A228: Dežūrārsts | B228: 1 | C228: =D228+E228 -> 124 | D228: 0 | E228: 124 | F228: 1893 | G228: =F228/168.17 -> 11.256467 | H228: =ROUND(E228*G228*2,2) -> 2791.6 | I228: =ROUND(H228*1.2359,2) -> 3450.14
A229: Dežūrkardiologs | B229: 1 | C229: =D229+E229 -> 31.75 | D229: 0 | E229: 31.75 | F229: 2041 | G229: =F229/168.17 -> 12.136529 | H229: =ROUND(E229*G229*2,2) -> 770.67 | I229: =ROUND(H229*1.2359,2) -> 952.47
A230: Dežūrkardiologs | B230: 1 | C230: =D230+E230 -> 240.5 | D230: 126 | E230: 114.5 | F230: 2041 | G230: =F230/168.17 -> 12.136529 | H230: =ROUND(E230*G230*2,2) -> 2779.27 | I230: =ROUND(H230*1.2359,2) -> 3434.9
A231: Dežūrkardiologs | B231: 1 | C231: =D231+E231 -> 799.5 | D231: 663 | E231: 136.5 | F231: 2041 | G231: =F231/168.17 -> 12.136529 | H231: =ROUND(E231*G231*2,2) -> 3313.27 | I231: =ROUND(H231*1.2359,2) -> 4094.87
A232: Dežūrkardiologs | B232: 1 | C232: =D232+E232 -> 39.5 | D232: 0 | E232: 39.5 | F232: 2041 | G232: =F232/168.17 -> 12.136529 | H232: =ROUND(E232*G232*2,2) -> 958.79 | I232: =ROUND(H232*1.2359,2) -> 1184.97
A233: Dežūrkardiologs | B233: 1 | C233: =D233+E233 -> 192 | D233: 0 | E233: 192 | F233: 2041 | G233: =F233/168.17 -> 12.136529 | H233: =ROUND(E233*G233*2,2) -> 4660.43 | I233: =ROUND(H233*1.2359,2) -> 5759.83
A234: Dežūrkardiologs | B234: 1 | C234: =D234+E234 -> 16 | D234: 0 | E234: 16 | F234: 2041 | G234: =F234/168.17 -> 12.136529 | H234: =ROUND(E234*G234*2,2) -> 388.37 | I234: =ROUND(H234*1.2359,2) -> 479.99
A235: Dežūrkardiologs | B235: 1 | C235: =D235+E235 -> 2 | D235: 0 | E235: 2 | F235: 2041 | G235: =F235/168.17 -> 12.136529 | H235: =ROUND(E235*G235*2,2) -> 48.55 | I235: =ROUND(H235*1.2359,2) -> 60
A236: Dežūrkardiologs | B236: 1 | C236: =D236+E236 -> 366.5 | D236: 299.5 | E236: 67 | F236: 2041 | G236: =F236/168.17 -> 12.136529 | H236: =ROUND(E236*G236*2,2) -> 1626.29 | I236: =ROUND(H236*1.2359,2) -> 2009.93
... A280: Ķirurgs (2.līmenis) | B280: 1 | C280: =D280+E280 -> 581.5 | D280: 488 | E280: 93.5 | F280: 2696 | G280: =F280/168.17 -> 16.031397 | H280: =ROUND(E280*G280*2,2) -> 2997.87 | I280: =ROUND(H280*1.2359,2) -> 3705.07
A281: Laboratorijas ārsts | B281: 1 | C281: =D281+E281 -> 658.5 | D281: 583 | E281: 75.5 | F281: 1723.00 | G281: =F281/168.17 -> 10.245585 | H281: =ROUND(E281*G281*2,2) -> 1547.08 | I281: =ROUND(H281*1.2359,2) -> 1912.04
A282: Laboratorijas ārsts | B282: 1 | C282: =D282+E282 -> 516.5 | D282: 512 | E282: 4.5 | F282: 1723.00 | G282: =F282/168.17 -> 10.245585 | H282: =ROUND(E282*G282*2,2) -> 92.21 | I282: =ROUND(H282*1.2359,2) -> 113.96
A283: Laboratorijas ārsts | B283: 1 | C283: =D283+E283 -> 670 | D283: 663 | E283: 7 | F283: 1723.00 | G283: =F283/168.17 -> 10.245585 | H283: =ROUND(E283*G283*2,2) -> 143.44 | I283: =ROUND(H283*1.2359,2) -> 177.28
A284: Laboratorijas ārsts | B284: 1 | C284: =D284+E284 -> 788.25 | D284: 663 | E284: 125.25 | F284: 1723.00 | G284: =F284/168.17 -> 10.245585 | H284: =ROUND(E284*G284*2,2) -> 2566.52 | I284: =ROUND(H284*1.2359,2) -> 3171.96
A285: Laboratorijas ārsts | B285: 1 | C285: =D285+E285 -> 595.5 | D285: 503 | E285: 92.5 | F285: 1723.00 | G285: =F285/168.17 -> 10.245585 | H285: =ROUND(E285*G285*2,2) -> 1895.43 | I285: =ROUND(H285*1.2359,2) -> 2342.56
A286: Laboratorijas ārsts | B286: 1 | C286: =D286+E286 -> 712 | D286: 663 | E286: 49 | F286: 1723 | G286: =F286/168.17 -> 10.245585 | H286: =ROUND(E286*G286*2,2) -> 1004.07 | I286: =ROUND(H286*1.2359,2) -> 1240.93
A287: Laboratorijas ārsts | B287: 1 | C287: =D287+E287 -> 528.5 | D287: 503 | E287: 25.5 | F287: 1723 | G287: =F287/168.17 -> 10.245585 | H287: =ROUND(E287*G287*2,2) -> 522.52 | I287: =ROUND(H287*1.2359,2) -> 645.78
A288: Laboratorijas ārsts | B288: 1 | C288: =D288+E288 -> 774.5 | D288: 607 | E288: 167.5 | F288: 1723 | G288: =F288/168.17 -> 10.245585 | H288: =ROUND(E288*G288*2,2) -> 3432.27 | I288: =ROUND(H288*1.2359,2) -> 4241.94
A289: Laboratorijas ārsts | B289: 1 | C289: =D289+E289 -> 45 | D289: 0 | E289: 45 | F289: 1723 | G289: =F289/168.17 -> 10.245585 | H289: =ROUND(E289*G289*2,2) -> 922.1 | I289: =ROUND(H289*1.2359,2) -> 1139.62
A290: Laboratorijas ārsts | B290: 1 | C290: =D290+E290 -> 667.5 | D290: 655 | E290: 12.5 | F290: 2231 | G290: =F290/168.17 -> 13.266338 | H290: =ROUND(E290*G290*2,2) -> 331.66 | I290: =ROUND(H290*1.2359,2) -> 409.9
A291: Neatliekamās palīdzības ārsts | B291: 1 | C291: =D291+E291 -> 538.25 | D291: 497.25 | E291: 41 | F291: 2034 | G291: =F291/168.17 -> 12.094904 | H291: =ROUND(E291*G291*2,2) -> 991.78 | I291: =ROUND(H291*1.2359,2) -> 1225.74
A292: Neatliekamās palīdzības ārsts | B292: 1 | C292: =D292+E292 -> 665.625 | D292: 580.125 | E292: 85.5 | F292: 2034 | G292: =F292/168.17 -> 12.094904 | H292: =ROUND(E292*G292*2,2) -> 2068.23 | I292: =ROUND(H292*1.2359,2) -> 2556.13
A293: Neatliekamās palīdzības ārsts | B293: 1 | C293: =D293+E293 -> 751 | D293: 567 | E293: 184 | F293: 2034 | G293: =F293/168.17 -> 12.094904 | H293: =ROUND(E293*G293*2,2) -> 4450.92 | I293: =ROUND(H293*1.2359,2) -> 5500.89
...

Sheet PSKUS_janv
H1: 1.3.Pielikums
A2: Pārskats par darba veicējiem (ārstniecības personām), virs normālā darba laika nostrādātām stundām, apmaksājamām stundām un izdevumiem, kas radušies saistībā ar mērķi ierobežot Covid-19 izplatību
A4: Iestādes nosaukums: VSIA "Paula Stradiņa klīniskā universitātes slimnīca"
A5: Pārskata mēnesis: Janvāris
B7: Nodarbināto skaits mēnesī | C7: Apmaksājamais laiks mēnesī, stundas (tai skaitā summētā darba laika ietvaros) | F7: Mēnešalga no kuras rēķina stundas likmi | G7: Stundas likme (aprēķināta atbilstoši mēnešalgai vai darba līgumā noteiktā stundas likme) | H7: Apmaksājamā 100% piemaksa par nostrādātām virsstundām virs normālā darba laika (tai skaitā summētā darba laika ietvaros) | I7: Izdevumi par virsstundām kopā ar VSAOI, EUR
C8: Kopā | D8: līdz normālam darba laikam | E8: virsstundas - virs normālā darba laika, kas saistītas ar darbu ar Covid-19
A10: 1 | B10: 2 | C10: 3=4+5 | D10: 4 | E10: 5 | F10: 6 | G10: 7 | H10: 8 | I10: 9=8 +VSOAI
A11: KOPĀ | B11: =B12+B225+B430+B485 -> 582 | E11: =E12+E225+E430+E485 -> 14739 | H11: =H12+H225+H430+H485 -> 255629.35 | I11: =I12+I225+I430+I485 -> 315932.24
A12: Ārsti, zobārsti un funkcionālie speciālisti, kopā, tai skaitā: | B12: =SUM(B13:B224) -> 212 | E12: =SUM(E13:E224) -> 5914 | H12: =SUM(H13:H224) -> 131435.6 | I12: =SUM(I13:I224) -> 162441.21
A13: Atbildīgais ārsts anesteziologs, reanimatologs | B13: 1 | C13: =D13+E13 -> 169 | D13: 168 | E13: 1 | G13: 15.36 | H13: =ROUND(G13*E13*2,2) -> 30.72 | I13: =ROUND(H13*1.2359,2) -> 37.97
A14: Atbildīgais ārsts speciālists (diennakts postenis) | B14: 1 | C14: =D14+E14 -> 209 | D14: 168 | E14: 41 | G14: 12.42 | H14: =ROUND(G14*E14*2,2) -> 1018.44 | I14: =ROUND(H14*1.2359,2) -> 1258.69
A15: Ārsts | B15: 1 | C15: =D15+E15 -> 172 | D15: 168 | E15: 4 | G15: 9.76 | H15: =ROUND(G15*E15*2,2) -> 78.08 | I15: =ROUND(H15*1.2359,2) -> 96.5
A16: Ārsts | B16: 1 | C16: =D16+E16 -> 189 | D16: 168 | E16: 21 | G16: 9.76 | H16: =ROUND(G16*E16*2,2) -> 409.92 | I16: =ROUND(H16*1.2359,2) -> 506.62
A17: Ārsts | B17: 1 | C17: =D17+E17 -> 228 | D17: 168 | E17: 60 | G17: 9.76 | H17: =ROUND(G17*E17*2,2) -> 1171.2 | I17: =ROUND(H17*1.2359,2) -> 1447.49
A18: Ārsts | B18: 1 | C18: =D18+E18 -> 181 | D18: 168 | E18: 13 | G18: 9.76 | H18: =ROUND(G18*E18*2,2) -> 253.76 | I18: =ROUND(H18*1.2359,2) -> 313.62
A19: Ārsts | B19: 1 | C19: =D19+E19 -> 197 | D19: 168 | E19: 29 | G19: 9.76 | H19: =ROUND(G19*E19*2,2) -> 566.08 | I19: =ROUND(H19*1.2359,2) -> 699.62
A20: Ārsts | B20: 1 | C20: =D20+E20 -> 186 | D20: 168 | E20: 18 | G20: 9.76 | H20: =ROUND(G20*E20*2,2) -> 351.36 | I20: =ROUND(H20*1.2359,2) -> 434.25
A21: Ārsts | B21: 1 | C21: =D21+E21 -> 205 | D21: 168 | E21: 37 | G21: 8.87 | H21: =ROUND(G21*E21*2,2) -> 656.38 | I21: =ROUND(H21*1.2359,2) -> 811.22
A22: Ārsts | B22: 1 | C22: =D22+E22 -> 180 | D22: 168 | E22: 12 | G22: 8.54 | H22: =ROUND(G22*E22*2,2) -> 204.96 | I22: =ROUND(H22*1.2359,2) -> 253.31
A23: Ārsts anesteziologs, reanimatologs | B23: 1 | C23: =D23+E23 -> 226 | D23: 168 | E23: 58 | G23: 14.75 | H23: =ROUND(G23*E23*2,2) -> 1711 | I23: =ROUND(H23*1.2359,2) -> 2114.62
A24: Ārsts anesteziologs, reanimatologs | B24: 1 | C24: =D24+E24 -> 184 | D24: 168 | E24: 16 | G24: 14.75 | H24: =ROUND(G24*E24*2,2) -> 472 | I24: =ROUND(H24*1.2359,2) -> 583.34
... A134: Radiologs (dežūrām) | B134: 1 | C134: =D134+E134 -> 204 | D134: 168 | E134: 36 | G134: 16.75 | H134: =ROUND(G134*E134*2,2) -> 1206 | I134: =ROUND(H134*1.2359,2) -> 1490.5
A135: Rezidents | B135: 1 | C135: =D135+E135 -> 208 | D135: 168 | E135: 40 | F135: 1641.58 | G135: =F135/168.17 -> 9.7614319 | H135: =ROUND(G135*E135*2,2) -> 780.91 | I135: =ROUND(H135*1.2359,2) -> 965.13
A136: Rezidents | B136: 1 | C136: =D136+E136 -> 200 | D136: 168 | E136: 32 | F136: 1641.58 | G136: =F136/168.17 -> 9.7614319 | H136: =ROUND(G136*E136*2,2) -> 624.73 | I136: =ROUND(H136*1.2359,2) -> 772.1
A137: Rezidents | B137: 1 | C137: =D137+E137 -> 195 | D137: 168 | E137: 27 | F137: 1641.58 | G137: =F137/168.17 -> 9.7614319 | H137: =ROUND(G137*E137*2,2) -> 527.12 | I137: =ROUND(H137*1.2359,2) -> 651.47
A138: Rezidents | B138: 1 | C138: =D138+E138 -> 189 | D138: 168 | E138: 21 | F138: 1641.58 | G138: =F138/168.17 -> 9.7614319 | H138: =ROUND(G138*E138*2,2) -> 409.98 | I138: =ROUND(H138*1.2359,2) -> 506.69
A139: Rezidents | B139: 1 | C139: =D139+E139 -> 226 | D139: 168 | E139: 58 | F139: 1641.58 | G139: =F139/168.17 -> 9.7614319 | H139: =ROUND(G139*E139*2,2) -> 1132.33 | I139: =ROUND(H139*1.2359,2) -> 1399.45
A140: Rezidents | B140: 1 | C140: =D140+E140 -> 189 | D140: 168 | E140: 21 | F140: 1641.58 | G140: =F140/168.17 -> 9.7614319 | H140: =ROUND(G140*E140*2,2) -> 409.98 | I140: =ROUND(H140*1.2359,2) -> 506.69
A141: Rezidents | B141: 1 | C141: =D141+E141 -> 192 | D141: 168 | E141: 24 | F141: 1641.58 | G141: =F141/168.17 -> 9.7614319 | H141: =ROUND(G141*E141*2,2) -> 468.55 | I141: =ROUND(H141*1.2359,2) -> 579.08
A142: Rezidents | B142: 1 | C142: =D142+E142 -> 189 | D142: 168 | E142: 21 | F142: 1641.58 | G142: =F142/168.17 -> 9.7614319 | H142: =ROUND(G142*E142*2,2) -> 409.98 | I142: =ROUND(H142*1.2359,2) -> 506.69
A143: Rezidents | B143: 1 | C143: =D143+E143 -> 176 | D143: 168 | E143: 8 | F143: 1641.58 | G143: =F143/168.17 -> 9.7614319 | H143: =ROUND(G143*E143*2,2) -> 156.18 | I143: =ROUND(H143*1.2359,2) -> 193.02
A144: Rezidents | B144: 1 | C144: =D144+E144 -> 189 | D144: 168 | E144: 21 | F144: 1641.58 | G144: =F144/168.17 -> 9.7614319 | H144: =ROUND(G144*E144*2,2) -> 409.98 | I144: =ROUND(H144*1.2359,2) -> 506.69
A145: Rezidents | B145: 1 | C145: =D145+E145 -> 223 | D145: 168 | E145: 55 | F145: 1492.34 | G145: =F145/168.17 -> 8.8739966 | H145: =ROUND(G145*E145*2,2) -> 976.14 | I145: =ROUND(H145*1.2359,2) -> 1206.41
A146: Rezidents | B146: 1 | C146: =D146+E146 -> 200 | D146: 168 | E146: 32 | F146: 1492.34 | G146: =F146/168.17 -> 8.8739966 | H146: =ROUND(G146*E146*2,2) -> 567.94 | I146: =ROUND(H146*1.2359,2) -> 701.92
... A219: Rezidents | B219: 1 | C219: =D219+E219 -> 189 | D219: 168 | E219: 21 | F219: 1492.34 | G219: =F219/168.17 -> 8.8739966 | H219: =ROUND(G219*E219*2,2) -> 372.71 | I219: =ROUND(H219*1.2359,2) -> 460.63
A220: Virsārsts gastroenterologs-endoskopists | B220: 1 | C220: =D220+E220 -> 184 | D220: 168 | E220: 16 | G220: 17.79 | H220: =ROUND(G220*E220*2,2) -> 569.28 | I220: =ROUND(H220*1.2359,2) -> 703.57
A221: Virsārsts intensīvajā terapijā | B221: 1 | C221: =D221+E221 -> 212 | D221: 168 | E221: 44 | G221: 17.53 | H221: =ROUND(G221*E221*2,2) -> 1542.64 | I221: =ROUND(H221*1.2359,2) -> 1906.55
A222: Virsārsts nefrologs | B222: 1 | C222: =D222+E222 -> 184 | D222: 168 | E222: 16 | G222: 18.14 | H222: =ROUND(G222*E222*2,2) -> 580.48 | I222: =ROUND(H222*1.2359,2) -> 717.42
A223: Virsārsts pneimonologs | B223: 1 | C223: =D223+E223 -> 184 | D223: 168 | E223: 16 | G223: 17.79 | H223: =ROUND(G223*E223*2,2) -> 569.28 | I223: =ROUND(H223*1.2359,2) -> 703.57
A224: Virsārsts torakālais ķirurgs | B224: 1 | C224: =D224+E224 -> 184 | D224: 168 | E224: 16 | G224: 19.57 | H224: =ROUND(G224*E224*2,2) -> 626.24 | I224: =ROUND(H224*1.2359,2) -> 773.97
A225: Ārstniecības un pacientu aprūpes personas un funkcionālo speciālistu asistenti, kopā, tai skaitā: | B225: =SUM(B226:B429) -> 204 | E225: =SUM(E226:E429) -> 5609 | H225: =SUM(H226:H429) -> 89505.6 | I225: =SUM(I226:I429) -> 110619.99
A226: Ārsta epidemiologa palīgs | B226: 1 | C226: =D226+E226 -> 200 | D226: 168 | E226: 32 | F226: 1449 | G226: =ROUND(F226/D226,3) -> 8.625 | H226: =ROUND(G226*E226*2,2) -> 552 | I226: =ROUND(H226*1.2359,2) -> 682.22
A227: Ambulatorā dienesta ārsta palīgs | B227: 1 | C227: =D227+E227 -> 192 | D227: 168 | E227: 24 | G227: 7.76 | H227: =ROUND(G227*E227*2,2) -> 372.48 | I227: =ROUND(H227*1.2359,2) -> 460.35
A228: Ambulatorā dienesta ārsta palīgs | B228: 1 | C228: =D228+E228 -> 200 | D228: 168 | E228: 32 | G228: 7.5 | H228: =ROUND(G228*E228*2,2) -> 480 | I228: =ROUND(H228*1.2359,2) -> 593.23
A229: Ambulatorā dienesta ārsta palīgs | B229: 1 | C229: =D229+E229 -> 176 | D229: 168 | E229: 8 | G229: 7.5 | H229: =ROUND(G229*E229*2,2) -> 120 | I229: =ROUND(H229*1.2359,2) -> 148.31
A230: Ambulatorās aprūpes ārsta palīgs | B230: 1 | C230: =D230+E230 -> 176 | D230: 168 | E230: 8 | G230: 9.29 | H230: =ROUND(G230*E230*2,2) -> 148.64 | I230: =ROUND(H230*1.2359,2) -> 183.7
A231: Ambulatorās aprūpes māsa | B231: 1 | C231: =D231+E231 -> 184 | D231: 168 | E231: 16 | G231: 9.47 | H231: =ROUND(G231*E231*2,2) -> 303.04 | I231: =ROUND(H231*1.2359,2) -> 374.53
A232: Ambulatorās aprūpes māsa | B232: 1 | C232: =D232+E232 -> 204 | D232: 168 | E232: 36 | G232: 9.47 | H232: =ROUND(G232*E232*2,2) -> 681.84 | I232: =ROUND(H232*1.2359,2) -> 842.69
A233: Ambulatorās aprūpes māsa | B233: 1 | C233: =D233+E233 -> 184 | D233: 168 | E233: 16 | G233: 9.47 | H233: =ROUND(G233*E233*2,2) -> 303.04 | I233: =ROUND(H233*1.2359,2) -> 374.53
A234: Anestēzijas, intensīvās un neatliekamās aprūpes māsa | B234: 1 | C234: =D234+E234 -> 216 | D234: 168 | E234: 48 | G234: 9.47 | H234: =ROUND(G234*E234*2,2) -> 909.12 | I234: =ROUND(H234*1.2359,2) -> 1123.58
A235: Anestēzijas, intensīvās un neatliekamās aprūpes māsa | B235: 1 | C235: =D235+E235 -> 175 | D235: 168 | E235: 7 | G235: 9.47 | H235: =ROUND(G235*E235*2,2) -> 132.58 | I235: =ROUND(H235*1.2359,2) -> 163.86
A236: Anestēzijas, intensīvās un neatliekamās aprūpes māsa | B236: 1 | C236: =D236+E236 -> 192 | D236: 168 | E236: 24 | G236: 9.47 | H236: =ROUND(G236*E236*2,2) -> 454.56 | I236: =ROUND(H236*1.2359,2) -> 561.79
A237: Anestēzijas, intensīvās un neatliekamās aprūpes māsa | B237: 1 | C237: =D237+E237 -> 196 | D237: 168 | E237: 28 | G237: 9.47 | H237: =ROUND(G237*E237*2,2) -> 530.32 | I237: =ROUND(H237*1.2359,2) -> 655.42
A238: Anestēzijas, intensīvās un neatliekamās aprūpes māsa | B238: 1 | C238: =D238+E238 -> 216 | D238: 168 | E238: 48 | G238: 9.47 | H238: =ROUND(G238*E238*2,2) -> 909.12 | I238: =ROUND(H238*1.2359,2) -> 1123.58
... A429: Vecmāte | B429: 1 | C429: =D429+E429 -> 170 | D429: 168 | E429: 2 | G429: 7.76 | H429: =ROUND(G429*E429*2,2) -> 31.04 | I429: =ROUND(H429*1.2359,2) -> 38.36
A430: Ārstniecības un pacientu aprūpes atbalsta personas, māsu palīgi, zobārstu asistenti, kopā, tai skaitā: | B430: =SUM(B431:B484) -> 54 | E430: =SUM(E431:E484) -> 1042 | H430: =SUM(H431:H484) -> 11439.96 | I430: =SUM(I431:I484) -> 14138.64
A431: Māsas palīgs | B431: 1 | C431: =D431+E431 -> 169 | D431: 168 | E431: 1 | G431: 4.65 | H431: =ROUND(G431*E431*2,2) -> 9.3 | I431: =ROUND(H431*1.2359,2) -> 11.49
A432: Māsas palīgs | B432: 1 | C432: =D432+E432 -> 176 | D432: 168 | E432: 8 | G432: 4.65 | H432: =ROUND(G432*E432*2,2) -> 74.4 | I432: =ROUND(H432*1.2359,2) -> 91.95
A433: Māsas palīgs | B433: 1 | C433: =D433+E433 -> 196 | D433: 168 | E433: 28 | G433: 6.09 | H433: =ROUND(G433*E433*2,2) -> 341.04 | I433: =ROUND(H433*1.2359,2) -> 421.49
A434: Māsas palīgs | B434: 1 | C434: =D434+E434 -> 192 | D434: 168 | E434: 24 | G434: 6.18 | H434: =ROUND(G434*E434*2,2) -> 296.64 | I434: =ROUND(H434*1.2359,2) -> 366.62
A435: Māsas palīgs | B435: 1 | C435: =D435+E435 -> 193 | D435: 168 | E435: 25 | G435: 4.65 | H435: =ROUND(G435*E435*2,2) -> 232.5 | I435: =ROUND(H435*1.2359,2) -> 287.35
A436: Māsas palīgs | B436: 1 | C436: =D436+E436 -> 192 | D436: 168 | E436: 24 | G436: 6.09 | H436: =ROUND(G436*E436*2,2) -> 292.32 | I436: =ROUND(H436*1.2359,2) -> 361.28
A437: Māsas palīgs | B437: 1 | C437: =D437+E437 -> 180 | D437: 168 | E437: 12 | G437: 6.24 | H437: =ROUND(G437*E437*2,2) -> 149.76 | I437: =ROUND(H437*1.2359,2) -> 185.09
A438: Māsas palīgs | B438: 1 | C438: =D438+E438 -> 184 | D438: 168 | E438: 16 | G438: 6.3 | H438: =ROUND(G438*E438*2,2) -> 201.6 | I438: =ROUND(H438*1.2359,2) -> 249.16
A439: Māsas palīgs | B439: 1 | C439: =D439+E439 -> 186 | D439: 168 | E439: 18 | G439: 6.18 | H439: =ROUND(G439*E439*2,2) -> 222.48 | I439: =ROUND(H439*1.2359,2) -> 274.96
A440: Māsas palīgs | B440: 1 | C440: =D440+E440 -> 184 | D440: 168 | E440: 16 | G440: 6.18 | H440: =ROUND(G440*E440*2,2) -> 197.76 | I440: =ROUND(H440*1.2359,2) -> 244.41
A441: Māsas palīgs | B441: 1 | C441: =D441+E441 -> 172 | D441: 168 | E441: 4 | G441: 4.65 | H441: =ROUND(G441*E441*2,2) -> 37.2 | I441: =ROUND(H441*1.2359,2) -> 45.98
A442: Māsas palīgs | B442: 1 | C442: =D442+E442 -> 176 | D442: 168 | E442: 8 | G442: 6.09 | H442: =ROUND(G442*E442*2,2) -> 97.44 | I442: =ROUND(H442*1.2359,2) -> 120.43
... A484: Māsas palīgs neatliekamajā palīdzībā | B484: 1 | C484: =D484+E484 -> 180 | D484: 168 | E484: 12 | G484: 4.75 | H484: =ROUND(G484*E484*2,2) -> 114 | I484: =ROUND(H484*1.2359,2) -> 140.89
A485: Pārējie darbinieki, kuri tieši iesaistīti darbā ar Covid-19, kopā, tai skaitā: | B485: =SUM(B486:B597) -> 112 | E485: =SUM(E486:E597) -> 2174 | H485: =SUM(H486:H597) -> 23248.19 | I485: =SUM(I486:I597) -> 28732.4
A486: Atbildīgais sanitārs-transportētājs | B486: 1 | C486: =D486+E486 -> 176 | D486: 168 | E486: 8 | G486: 4.75 | H486: =ROUND(G486*E486*2,2) -> 76 | I486: =ROUND(H486*1.2359,2) -> 93.93
A487: Atbildīgais sanitārs-transportētājs | B487: 1 | C487: =D487+E487 -> 192 | D487: 168 | E487: 24 | G487: 4.75 | H487: =ROUND(G487*E487*2,2) -> 228 | I487: =ROUND(H487*1.2359,2) -> 281.79
A488: Atbildīgais sanitārs-transportētājs | B488: 1 | C488: =D488+E488 -> 180 | D488: 168 | E488: 12 | G488: 4.75 | H488: =ROUND(G488*E488*2,2) -> 114 | I488: =ROUND(H488*1.2359,2) -> 140.89
A489: Automobiļa vadītājs | B489: 1 | C489: =D489+E489 -> 176 | D489: 168 | E489: 8 | G489: 4.2 | H489: =ROUND(G489*E489*2,2) -> 67.2 | I489: =ROUND(H489*1.2359,2) -> 83.05
A490: Automobiļa vadītājs | B490: 1 | C490: =D490+E490 -> 180 | D490: 168 | E490: 12 | G490: 4.2 | H490: =ROUND(G490*E490*2,2) -> 100.8 | I490: =ROUND(H490*1.2359,2) -> 124.58
A491: Automobiļa vadītājs | B491: 1 | C491: =D491+E491 -> 176 | D491: 168 | E491: 8 | G491: 4.2 | H491: =ROUND(G491*E491*2,2) -> 67.2 | I491: =ROUND(H491*1.2359,2) -> 83.05
A492: Automobiļa vadītājs | B492: 1 | C492: =D492+E492 -> 169 | D492: 168 | E492: 1 | G492: 4.2 | H492: =ROUND(G492*E492*2,2) -> 8.4 | I492: =ROUND(H492*1.2359,2) -> 10.38
A493: Automobiļa vadītājs | B493: 1 | C493: =D493+E493 -> 169 | D493: 168 | E493: 1 | G493: 4.2 | H493: =ROUND(G493*E493*2,2) -> 8.4 | I493: =ROUND(H493*1.2359,2) -> 10.38
A494: Automobiļa vadītājs | B494: 1 | C494: =D494+E494 -> 188 | D494: 168 | E494: 20 | G494: 4.2 | H494: =ROUND(G494*E494*2,2) -> 168 | I494: =ROUND(H494*1.2359,2) -> 207.63
A495: Jaunākais māsas palīgs | B495: 1 | C495: =D495+E495 -> 176 | D495: 168 | E495: 8 | G495: 4.3 | H495: =ROUND(G495*E495*2,2) -> 68.8 | I495: =ROUND(H495*1.2359,2) -> 85.03
A496: Jaunākais māsas palīgs | B496: 1 | C496: =D496+E496 -> 192 | D496: 168 | E496: 24 | G496: 5.49 | H496: =ROUND(G496*E496*2,2) -> 263.52 | I496: =ROUND(H496*1.2359,2) -> 325.68
A497: Jaunākais māsas palīgs | B497: 1 | C497: =D497+E497 -> 188 | D497: 168 | E497: 20 | G497: 5.49 | H497: =ROUND(G497*E497*2,2) -> 219.6 | I497: =ROUND(H497*1.2359,2) -> 271.4
... A595: Vecākais uzkopšanas speciālists | B595: 1 | C595: =D595+E595 -> 187 | D595: 168 | E595: 19 | G595: 3.67 | H595: =ROUND(G595*E595*2,2) -> 139.46 | I595: =ROUND(H595*1.2359,2) -> 172.36
A596: Vecākais veselības aprūpes datu analītiķis | B596: 1 | C596: =D596+E596 -> 184 | D596: 168 | E596: 16 | F596: 1500 | G596: =ROUND(F596/D596,3) -> 8.929 | H596: =ROUND(G596*E596*2,2) -> 285.73 | I596: =ROUND(H596*1.2359,2) -> 353.13
A597: Veselības aprūpes datu analītiķis | B597: 1 | C597: =D597+E597 -> 248 | D597: 168 | E597: 80 | F597: 1360 | G597: =ROUND(F597/D597,3) -> 8.095 | H597: =ROUND(G597*E597*2,2) -> 1295.2 | I597: =ROUND(H597*1.2359,2) -> 1600.74

Sheet PSKUS_feb
H1: 1.4.Pielikums
A2: Pārskats par darba veicējiem (ārstniecības personām), virs normālā darba laika nostrādātām stundām, apmaksājamām stundām un izdevumiem, kas radušies saistībā ar mērķi ierobežot Covid-19 izplatību
A4: Iestādes nosaukums: VSIA "Paula Stradiņa klīniskā universitātes slimnīca"
A5: Pārskata mēnesis: Februāris
B7: Nodarbināto skaits mēnesī | C7: Apmaksājamais laiks mēnesī, stundas (tai skaitā summētā darba laika ietvaros) | F7: Mēnešalga no kuras rēķina stundas likmi | G7: Stundas likme (aprēķināta atbilstoši mēnešalgai vai darba līgumā noteiktā stundas likme) | H7: Apmaksājamā 100% piemaksa par nostrādātām virsstundām virs normālā darba laika (tai skaitā summētā darba laika ietvaros) | I7: Izdevumi par virsstundām kopā ar VSAOI, EUR
C8: Kopā | D8: līdz normālam darba laikam | E8: virsstundas - virs normālā darba laika, kas saistītas ar darbu ar Covid-19
A10: 1 | B10: 2 | C10: 3=4+5 | D10: 4 | E10: 5 | F10: 6 | G10: 7 | H10: 8 | I10: 9=8 +VSOAI
A11: KOPĀ | B11: =B12+B233+B504+B577 -> 702 | E11: =E12+E233+E504+E577 -> 16739 | H11: =H12+H233+H504+H577 -> 277714.9 | I11: =I12+I233+I504+I577 -> 343227.73
A12: Ārsti, zobārsti un funkcionālie speciālisti, kopā, tai skaitā: | B12: =SUM(B13:B232) -> 220 | E12: =SUM(E13:E232) -> 5637 | H12: =SUM(H13:H232) -> 126211.36 | I12: =SUM(I13:I232) -> 155984.56
A13: Atbildīgais ārsts anesteziologs, reanimatologs | B13: 1 | C13: =D13+E13 -> 180 | D13: 160 | E13: 20 | G13: 15.36 | H13: =ROUND(G13*E13*2,2) -> 614.4 | I13: =ROUND(H13*1.2359,2) -> 759.34
A14: Atbildīgais ārsts speciālists (diennakts postenis) | B14: 1 | C14: =D14+E14 -> 192 | D14: 160 | E14: 32 | G14: 12.42 | H14: =ROUND(G14*E14*2,2) -> 794.88 | I14: =ROUND(H14*1.2359,2) -> 982.39
A15: Ārsts | B15: 1 | C15: =D15+E15 -> 166 | D15: 160 | E15: 6 | G15: 9.76 | H15: =ROUND(G15*E15*2,2) -> 117.12 | I15: =ROUND(H15*1.2359,2) -> 144.75
A16: Ārsts | B16: 1 | C16: =D16+E16 -> 184 | D16: 160 | E16: 24 | G16: 9.76 | H16: =ROUND(G16*E16*2,2) -> 468.48 | I16: =ROUND(H16*1.2359,2) -> 578.99
A17: Ārsts | B17: 1 | C17: =D17+E17 -> 177 | D17: 160 | E17: 17 | G17: 9.76 | H17: =ROUND(G17*E17*2,2) -> 331.84 | I17: =ROUND(H17*1.2359,2) -> 410.12
A18: Ārsts | B18: 1 | C18: =D18+E18 -> 168 | D18: 160 | E18: 8 | G18: 9.76 | H18: =ROUND(G18*E18*2,2) -> 156.16 | I18: =ROUND(H18*1.2359,2) -> 193
A19: Ārsts | B19: 1 | C19: =D19+E19 -> 174 | D19: 160 | E19: 14 | G19: 8.87 | H19: =ROUND(G19*E19*2,2) -> 248.36 | I19: =ROUND(H19*1.2359,2) -> 306.95
A20: Ārsts | B20: 1 | C20: =D20+E20 -> 192 | D20: 160 | E20: 32 | G20: 9.76 | H20: =ROUND(G20*E20*2,2) -> 624.64 | I20: =ROUND(H20*1.2359,2) -> 771.99
A21: Ārsts | B21: 1 | C21: =D21+E21 -> 162 | D21: 160 | E21: 2 | G21: 9.76 | H21: =ROUND(G21*E21*2,2) -> 39.04 | I21: =ROUND(H21*1.2359,2) -> 48.25
A22: Ārsts | B22: 1 | C22: =D22+E22 -> 172 | D22: 160 | E22: 12 | G22: 8.87 | H22: =ROUND(G22*E22*2,2) -> 212.88 | I22: =ROUND(H22*1.2359,2) -> 263.1
A23: Ārsts anesteziologs, reanimatologs | B23: 1 | C23: =D23+E23 -> 220 | D23: 160 | E23: 60 | G23: 14.75 | H23: =ROUND(G23*E23*2,2) -> 1770 | I23: =ROUND(H23*1.2359,2) -> 2187.54
A24: Ārsts anesteziologs, reanimatologs | B24: 1 | C24: =D24+E24 -> 176 | D24: 160 | E24: 16 | G24: 14.75 | H24: =ROUND(G24*E24*2,2) -> 472 | I24: =ROUND(H24*1.2359,2) -> 583.34
... A141: Radiologs (dežūrām) | B141: 1 | C141: =D141+E141 -> 176 | D141: 160 | E141: 16 | G141: 16.75 | H141: =ROUND(G141*E141*2,2) -> 536 | I141: =ROUND(H141*1.2359,2) -> 662.44
A142: Rezidents | B142: 1 | C142: =D142+E142 -> 177 | D142: 160 | E142: 17 | F142: 1492.34 | G142: =F142/168.17 -> 8.8739966 | H142: =ROUND(G142*E142*2,2) -> 301.72 | I142: =ROUND(H142*1.2359,2) -> 372.9
A143: Rezidents | B143: 1 | C143: =D143+E143 -> 212 | D143: 160 | E143: 52 | F143: 1641.58 | G143: =F143/168.17 -> 9.7614319 | H143: =ROUND(G143*E143*2,2) -> 1015.19 | I143: =ROUND(H143*1.2359,2) -> 1254.67
A144: Rezidents | B144: 1 | C144: =D144+E144 -> 192 | D144: 160 | E144: 32 | F144: 1641.58 | G144: =F144/168.17 -> 9.7614319 | H144: =ROUND(G144*E144*2,2) -> 624.73 | I144: =ROUND(H144*1.2359,2) -> 772.1
A145: Rezidents | B145: 1 | C145: =D145+E145 -> 167 | D145: 160 | E145: 7 | F145: 1641.58 | G145: =F145/168.17 -> 9.7614319 | H145: =ROUND(G145*E145*2,2) -> 136.66 | I145: =ROUND(H145*1.2359,2) -> 168.9
A146: Rezidents | B146: 1 | C146: =D146+E146 -> 168 | D146: 160 | E146: 8 | F146: 1641.58 | G146: =F146/168.17 -> 9.7614319 | H146: =ROUND(G146*E146*2,2) -> 156.18 | I146: =ROUND(H146*1.2359,2) -> 193.02
A147: Rezidents | B147: 1 | C147: =D147+E147 -> 210 | D147: 160 | E147: 50 | F147: 1641.58 | G147: =F147/168.17 -> 9.7614319 | H147: =ROUND(G147*E147*2,2) -> 976.14 | I147: =ROUND(H147*1.2359,2) -> 1206.41
A148: Rezidents | B148: 1 | C148: =D148+E148 -> 171 | D148: 160 | E148: 11 | F148: 1641.58 | G148: =F148/168.17 -> 9.7614319 | H148: =ROUND(G148*E148*2,2) -> 214.75 | I148: =ROUND(H148*1.2359,2) -> 265.41
A149: Rezidents | B149: 1 | C149: =D149+E149 -> 192 | D149: 160 | E149: 32 | F149: 1641.58 | G149: =F149/168.17 -> 9.7614319 | H149: =ROUND(G149*E149*2,2) -> 624.73 | I149: =ROUND(H149*1.2359,2) -> 772.1
A150: Rezidents | B150: 1 | C150: =D150+E150 -> 196 | D150: 160 | E150: 36 | F150: 1641.58 | G150: =F150/168.17 -> 9.7614319 | H150: =ROUND(G150*E150*2,2) -> 702.82 | I150: =ROUND(H150*1.2359,2) -> 868.62
A151: Rezidents | B151: 1 | C151: =D151+E151 -> 200 | D151: 160 | E151: 40 | F151: 1492.34 | G151: =F151/168.17 -> 8.8739966 | H151: =ROUND(G151*E151*2,2) -> 709.92 | I151: =ROUND(H151*1.2359,2) -> 877.39
A152: Rezidents | B152: 1 | C152: =D152+E152 -> 204 | D152: 160 | E152: 44 | F152: 1492.34 | G152: =F152/168.17 -> 8.8739966 | H152: =ROUND(G152*E152*2,2) -> 780.91 | I152: =ROUND(H152*1.2359,2) -> 965.13
A153: Rezidents | B153: 1 | C153: =D153+E153 -> 181 | D153: 160 | E153: 21 | F153: 1492.34 | G153: =F153/168.17 -> 8.8739966 | H153: =ROUND(G153*E153*2,2) -> 372.71 | I153: =ROUND(H153*1.2359,2) -> 460.63
... A226: Rezidents | B226: 1 | C226: =D226+E226 -> 181 | D226: 160 | E226: 21 | F226: 1492.34 | G226: =F226/168.17 -> 8.8739966 | H226: =ROUND(G226*E226*2,2) -> 372.71 | I226: =ROUND(H226*1.2359,2) -> 460.63
A227: Virsārsts endokrinologs | B227: 1 | C227: =D227+E227 -> 192 | D227: 160 | E227: 32 | G227: 17.79 | H227: =ROUND(G227*E227*2,2) -> 1138.56 | I227: =ROUND(H227*1.2359,2) -> 1407.15
A228: Virsārsts gastroenterologs | B228: 1 | C228: =D228+E228 -> 192 | D228: 160 | E228: 32 | G228: 18.14 | H228: =ROUND(G228*E228*2,2) -> 1160.96 | I228: =ROUND(H228*1.2359,2) -> 1434.83
A229: Virsārsts intensīvajā terapijā | B229: 1 | C229: =D229+E229 -> 184 | D229: 160 | E229: 24 | G229: 17.53 | H229: =ROUND(G229*E229*2,2) -> 841.44 | I229: =ROUND(H229*1.2359,2) -> 1039.94
A230: Virsārsts nefrologs | B230: 1 | C230: =D230+E230 -> 184 | D230: 160 | E230: 24 | G230: 18.14 | H230: =ROUND(G230*E230*2,2) -> 870.72 | I230: =ROUND(H230*1.2359,2) -> 1076.12
A231: Virsārsts nefrologs | B231: 1 | C231: =D231+E231 -> 190 | D231: 160 | E231: 30 | G231: 17.53 | H231: =ROUND(G231*E231*2,2) -> 1051.8 | I231: =ROUND(H231*1.2359,2) -> 1299.92
A232: Virsārsts pneimonologs | B232: 1 | C232: =D232+E232 -> 176 | D232: 160 | E232: 16 | G232: 17.79 | H232: =ROUND(G232*E232*2,2) -> 569.28 | I232: =ROUND(H232*1.2359,2) -> 703.57
A233: Ārstniecības un pacientu aprūpes personas un funkcionālo speciālistu asistenti, kopā, tai skaitā: | B233: =SUM(B234:B503) -> 270 | E233: =SUM(E234:E503) -> 6801 | H233: =SUM(H234:H503) -> 107482.06 | I233: =SUM(I234:I503) -> 132837.06
A234: Ārsta epidemiologa palīgs | B234: 1 | C234: =D234+E234 -> 192 | D234: 160 | E234: 32 | F234: 1449 | G234: =ROUND(F234/D234,3) -> 9.056 | H234: =ROUND(G234*E234*2,2) -> 579.58 | I234: =ROUND(H234*1.2359,2) -> 716.3
A235: Ambulatorā dienesta ārsta palīgs | B235: 1 | C235: =D235+E235 -> 176 | D235: 160 | E235: 16 | G235: 7.76 | H235: =ROUND(G235*E235*2,2) -> 248.32 | I235: =ROUND(H235*1.2359,2) -> 306.9
A236: Ambulatorā dienesta ārsta palīgs | B236: 1 | C236: =D236+E236 -> 208 | D236: 160 | E236: 48 | G236: 7.5 | H236: =ROUND(G236*E236*2,2) -> 720 | I236: =ROUND(H236*1.2359,2) -> 889.85
A237: Ambulatorā dienesta ārsta palīgs | B237: 1 | C237: =D237+E237 -> 200 | D237: 160 | E237: 40 | G237: 7.51 | H237: =ROUND(G237*E237*2,2) -> 600.8 | I237: =ROUND(H237*1.2359,2) -> 742.53
A238: Ambulatorās aprūpes ārsta palīgs | B238: 1 | C238: =D238+E238 -> 168 | D238: 160 | E238: 8 | G238: 9.29 | H238: =ROUND(G238*E238*2,2) -> 148.64 | I238: =ROUND(H238*1.2359,2) -> 183.7
A239: Ambulatorās aprūpes māsa | B239: 1 | C239: =D239+E239 -> 176 | D239: 160 | E239: 16 | G239: 9.47 | H239: =ROUND(G239*E239*2,2) -> 303.04 | I239: =ROUND(H239*1.2359,2) -> 374.53
A240: Ambulatorās aprūpes māsa | B240: 1 | C240: =D240+E240 -> 161 | D240: 160 | E240: 1 | G240: 9.47 | H240: =ROUND(G240*E240*2,2) -> 18.94 | I240: =ROUND(H240*1.2359,2) -> 23.41
A241: Anestēzijas, intensīvās un neatliekamās aprūpes māsa | B241: 1 | C241: =D241+E241 -> 220 | D241: 160 | E241: 60 | G241: 9.47 | H241: =ROUND(G241*E241*2,2) -> 1136.4 | I241: =ROUND(H241*1.2359,2) -> 1404.48
A242: Anestēzijas, intensīvās un neatliekamās aprūpes māsa | B242: 1 | C242: =D242+E242 -> 172 | D242: 160 | E242: 12 | G242: 9.47 | H242: =ROUND(G242*E242*2,2) -> 227.28 | I242: =ROUND(H242*1.2359,2) -> 280.9
A243: Anestēzijas, intensīvās un neatliekamās aprūpes māsa | B243: 1 | C243: =D243+E243 -> 204 | D243: 160 | E243: 44 | G243: 9.47 | H243: =ROUND(G243*E243*2,2) -> 833.36 | I243: =ROUND(H243*1.2359,2) -> 1029.95
A244: Anestēzijas, intensīvās un neatliekamās aprūpes māsa | B244: 1 | C244: =D244+E244 -> 200 | D244: 160 | E244: 40 | G244: 9.47 | H244: =ROUND(G244*E244*2,2) -> 757.6 | I244: =ROUND(H244*1.2359,2) -> 936.32
A245: Anestēzijas, intensīvās un neatliekamās aprūpes māsa | B245: 1 | C245: =D245+E245 -> 218 | D245: 160 | E245: 58 | G245: 9.47 | H245: =ROUND(G245*E245*2,2) -> 1098.52 | I245: =ROUND(H245*1.2359,2) -> 1357.66
A246: Anestēzijas, intensīvās un neatliekamās aprūpes māsa | B246: 1 | C246: =D246+E246 -> 180 | D246: 160 | E246: 20 | G246: 7.76 | H246: =ROUND(G246*E246*2,2) -> 310.4 | I246: =ROUND(H246*1.2359,2) -> 383.62
... A503: Vecmāte | B503: 1 | C503: =D503+E503 -> 169 | D503: 160 | E503: 9 | G503: 7.76 | H503: =ROUND(G503*E503*2,2) -> 139.68 | I503: =ROUND(H503*1.2359,2) -> 172.63
A504: Ārstniecības un pacientu aprūpes atbalsta personas, māsu palīgi, zobārstu asistenti, kopā, tai skaitā: | B504: =SUM(B505:B576) -> 72 | E504: =SUM(E505:E576) -> 1458 | H504: =SUM(H505:H576) -> 15547.36 | I504: =SUM(I505:I576) -> 19214.98
A505: Māsas palīgs | B505: 1 | C505: =D505+E505 -> 168 | D505: 160 | E505: 8 | G505: 4.65 | H505: =ROUND(G505*E505*2,2) -> 74.4 | I505: =ROUND(H505*1.2359,2) -> 91.95
A506: Māsas palīgs | B506: 1 | C506: =D506+E506 -> 176 | D506: 160 | E506: 16 | G506: 4.65 | H506: =ROUND(G506*E506*2,2) -> 148.8 | I506: =ROUND(H506*1.2359,2) -> 183.9
A507: Māsas palīgs | B507: 1 | C507: =D507+E507 -> 174 | D507: 160 | E507: 14 | G507: 4.65 | H507: =ROUND(G507*E507*2,2) -> 130.2 | I507: =ROUND(H507*1.2359,2) -> 160.91
A508: Māsas palīgs | B508: 1 | C508: =D508+E508 -> 200 | D508: 160 | E508: 40 | G508: 6.09 | H508: =ROUND(G508*E508*2,2) -> 487.2 | I508: =ROUND(H508*1.2359,2) -> 602.13
A509: Māsas palīgs | B509: 1 | C509: =D509+E509 -> 180 | D509: 160 | E509: 20 | G509: 4.65 | H509: =ROUND(G509*E509*2,2) -> 186 | I509: =ROUND(H509*1.2359,2) -> 229.88
A510: Māsas palīgs | B510: 1 | C510: =D510+E510 -> 184 | D510: 160 | E510: 24 | G510: 6.18 | H510: =ROUND(G510*E510*2,2) -> 296.64 | I510: =ROUND(H510*1.2359,2) -> 366.62
A511: Māsas palīgs | B511: 1 | C511: =D511+E511 -> 216 | D511: 160 | E511: 56 | G511: 6.09 | H511: =ROUND(G511*E511*2,2) -> 682.08 | I511: =ROUND(H511*1.2359,2) -> 842.98
A512: Māsas palīgs | B512: 1 | C512: =D512+E512 -> 180 | D512: 160 | E512: 20 | G512: 4.72 | H512: =ROUND(G512*E512*2,2) -> 188.8 | I512: =ROUND(H512*1.2359,2) -> 233.34
A513: Māsas palīgs | B513: 1 | C513: =D513+E513 -> 184 | D513: 160 | E513: 24 | G513: 6.3 | H513: =ROUND(G513*E513*2,2) -> 302.4 | I513: =ROUND(H513*1.2359,2) -> 373.74
A514: Māsas palīgs | B514: 1 | C514: =D514+E514 -> 183 | D514: 160 | E514: 23 | G514: 6.18 | H514: =ROUND(G514*E514*2,2) -> 284.28 | I514: =ROUND(H514*1.2359,2) -> 351.34
A515: Māsas palīgs | B515: 1 | C515: =D515+E515 -> 168 | D515: 160 | E515: 8 | G515: 4.65 | H515: =ROUND(G515*E515*2,2) -> 74.4 | I515: =ROUND(H515*1.2359,2) -> 91.95
A516: Māsas palīgs | B516: 1 | C516: =D516+E516 -> 190 | D516: 160 | E516: 30 | G516: 4.65 | H516: =ROUND(G516*E516*2,2) -> 279 | I516: =ROUND(H516*1.2359,2) -> 344.82
... A576: Māsas palīgs neatliekamajā palīdzībā | B576: 1 | C576: =D576+E576 -> 196 | D576: 160 | E576: 36 | G576: 4.75 | H576: =ROUND(G576*E576*2,2) -> 342 | I576: =ROUND(H576*1.2359,2) -> 422.68
A577: Pārējie darbinieki, kuri tieši iesaistīti darbā ar Covid-19, kopā, tai skaitā: | B577: =SUM(B578:B717) -> 140 | E577: =SUM(E578:E717) -> 2843 | H577: =SUM(H578:H717) -> 28474.12 | I577: =SUM(I578:I717) -> 35191.13
A578: Atbildīgais sanitārs-transportētājs | B578: 1 | C578: =D578+E578 -> 168 | D578: 160 | E578: 8 | G578: 4.75 | H578: =ROUND(G578*E578*2,2) -> 76 | I578: =ROUND(H578*1.2359,2) -> 93.93
A579: Atbildīgais sanitārs-transportētājs | B579: 1 | C579: =D579+E579 -> 240 | D579: 160 | E579: 80 | G579: 4.75 | H579: =ROUND(G579*E579*2,2) -> 760 | I579: =ROUND(H579*1.2359,2) -> 939.28
A580: Atbildīgais sanitārs-transportētājs | B580: 1 | C580: =D580+E580 -> 176 | D580: 160 | E580: 16 | G580: 4.75 | H580: =ROUND(G580*E580*2,2) -> 152 | I580: =ROUND(H580*1.2359,2) -> 187.86
A581: Atbildīgais sanitārs-transportētājs | B581: 1 | C581: =D581+E581 -> 168 | D581: 160 | E581: 8 | G581: 4.75 | H581: =ROUND(G581*E581*2,2) -> 76 | I581: =ROUND(H581*1.2359,2) -> 93.93
A582: Automobiļa vadītājs | B582: 1 | C582: =D582+E582 -> 186 | D582: 160 | E582: 26 | G582: 4.2 | H582: =ROUND(G582*E582*2,2) -> 218.4 | I582: =ROUND(H582*1.2359,2) -> 269.92
A583: Automobiļa vadītājs | B583: 1 | C583: =D583+E583 -> 168 | D583: 160 | E583: 8 | G583: 4.2 | H583: =ROUND(G583*E583*2,2) -> 67.2 | I583: =ROUND(H583*1.2359,2) -> 83.05
A584: Automobiļa vadītājs | B584: 1 | C584: =D584+E584 -> 200 | D584: 160 | E584: 40 | G584: 4.2 | H584: =ROUND(G584*E584*2,2) -> 336 | I584: =ROUND(H584*1.2359,2) -> 415.26
A585: Automobiļa vadītājs | B585: 1 | C585: =D585+E585 -> 166 | D585: 160 | E585: 6 | G585: 4.2 | H585: =ROUND(G585*E585*2,2) -> 50.4 | I585: =ROUND(H585*1.2359,2) -> 62.29
A586: Automobiļa vadītājs | B586: 1 | C586: =D586+E586 -> 188 | D586: 160 | E586: 28 | G586: 4.2 | H586: =ROUND(G586*E586*2,2) -> 235.2 | I586: =ROUND(H586*1.2359,2) -> 290.68
A587: Jaunākais māsas palīgs | B587: 1 | C587: =D587+E587 -> 181 | D587: 160 | E587: 21 | G587: 4.3 | H587: =ROUND(G587*E587*2,2) -> 180.6 | I587: =ROUND(H587*1.2359,2) -> 223.2
A588: Jaunākais māsas palīgs | B588: 1 | C588: =D588+E588 -> 192 | D588: 160 | E588: 32 | G588: 5.49 | H588: =ROUND(G588*E588*2,2) -> 351.36 | I588: =ROUND(H588*1.2359,2) -> 434.25
A589: Jaunākais māsas palīgs | B589: 1 | C589: =D589+E589 -> 182 | D589: 160 | E589: 22 | G589: 5.49 | H589: =ROUND(G589*E589*2,2) -> 241.56 | I589: =ROUND(H589*1.2359,2) -> 298.54
... A715: Vecākais uzkopšanas speciālists | B715: 1 | C715: =D715+E715 -> 174 | D715: 160 | E715: 14 | G715: 3.67 | H715: =ROUND(G715*E715*2,2) -> 102.76 | I715: =ROUND(H715*1.2359,2) -> 127
A716: Vecākais veselības aprūpes datu analītiķis | B716: 1 | C716: =D716+E716 -> 176 | D716: 160 | E716: 16 | F716: 1500 | G716: =ROUND(F716/D716,3) -> 9.375 | H716: =ROUND(G716*E716*2,2) -> 300 | I716: =ROUND(H716*1.2359,2) -> 370.77
A717: Veselības aprūpes datu analītiķis | B717: 1 | C717: =D717+E717 -> 236 | D717: 160 | E717: 76 | F717: 1360 | G717: =ROUND(F717/D717,3) -> 8.5 | H717: =ROUND(G717*E717*2,2) -> 1292 | I717: =ROUND(H717*1.2359,2) -> 1596.78

Sheet PSKUS_marts
H1: 1.5.Pielikums
A2: Pārskats par darba veicējiem (ārstniecības personām), virs normālā darba laika nostrādātām stundām, apmaksājamām stundām un izdevumiem, kas radušies saistībā ar mērķi ierobežot Covid-19 izplatību
A4: Iestādes nosaukums: VSIA "Paula Stradiņa klīniskā universitātes slimnīca"
A5: Pārskata mēnesis: Marts
B7: Nodarbināto skaits mēnesī | C7: Apmaksājamais laiks mēnesī, stundas (tai skaitā summētā darba laika ietvaros) | F7: Mēnešalga no kuras rēķina stundas likmi | G7: Stundas likme (aprēķināta atbilstoši mēnešalgai vai darba līgumā noteiktā stundas likme) | H7: Apmaksājamā 100% piemaksa par nostrādātām virsstundām virs normālā darba laika (tai skaitā summētā darba laika ietvaros) | I7: Izdevumi par virsstundām kopā ar VSAOI, EUR
C8: Kopā | D8: līdz normālam darba laikam | E8: virsstundas - virs normālā darba laika, kas saistītas ar darbu ar Covid-19
A10: 1 | B10: 2 | C10: 3=4+5 | D10: 4 | E10: 5 | F10: 6 | G10: 7 | H10: 8 | I10: 9=8 +VSOAI
A11: KOPĀ | B11: =B12+B202+B393+B431 -> 505 | E11: =E12+E202+E393+E431 -> 10724.5 | H11: =H12+H202+H393+H431 -> 191780.43 | I11: =I12+I202+I393+I431 -> 237021.42
A12: Ārsti, zobārsti un funkcionālie speciālisti, kopā, tai skaitā: | B12: =SUM(B13:B201) -> 189 | E12: =SUM(E13:E201) -> 4769 | H12: =SUM(H13:H201) -> 106613.14 | I12: =SUM(I13:I201) -> 131763.16
A13: Atbildīgais ārsts speciālists (diennakts postenis) | B13: 1 | C13: =D13+E13 -> 214 | D13: 184 | E13: 30 | G13: 12.42 | H13: =ROUND(G13*E13*2,2) -> 745.2 | I13: =ROUND(H13*1.2359,2) -> 920.99
A14: Atbildīgais ārsts speciālists (diennakts postenis) | B14: 1 | C14: =D14+E14 -> 187 | D14: 184 | E14: 3 | G14: 12.42 | H14: =ROUND(G14*E14*2,2) -> 74.52 | I14: =ROUND(H14*1.2359,2) -> 92.1
A15: Ārsts | B15: 1 | C15: =D15+E15 -> 232 | D15: 184 | E15: 48 | G15: 9.76 | H15: =ROUND(G15*E15*2,2) -> 936.96 | I15: =ROUND(H15*1.2359,2) -> 1157.99
A16: Ārsts | B16: 1 | C16: =D16+E16 -> 192 | D16: 184 | E16: 8 | G16: 9.76 | H16: =ROUND(G16*E16*2,2) -> 156.16 | I16: =ROUND(H16*1.2359,2) -> 193
A17: Ārsts | B17: 1 | C17: =D17+E17 -> 220 | D17: 184 | E17: 36 | G17: 9.76 | H17: =ROUND(G17*E17*2,2) -> 702.72 | I17: =ROUND(H17*1.2359,2) -> 868.49
A18: Ārsts | B18: 1 | C18: =D18+E18 -> 215 | D18: 184 | E18: 31 | G18: 9.76 | H18: =ROUND(G18*E18*2,2) -> 605.12 | I18: =ROUND(H18*1.2359,2) -> 747.87
A19: Ārsts | B19: 1 | C19: =D19+E19 -> 204 | D19: 184 | E19: 20 | G19: 9.76 | H19: =ROUND(G19*E19*2,2) -> 390.4 | I19: =ROUND(H19*1.2359,2) -> 482.5
A20: Ārsts | B20: 1 | C20: =D20+E20 -> 210 | D20: 184 | E20: 26 | G20: 8.87 | H20: =ROUND(G20*E20*2,2) -> 461.24 | I20: =ROUND(H20*1.2359,2) -> 570.05
A21: Ārsts | B21: 1 | C21: =D21+E21 -> 248 | D21: 184 | E21: 64 | G21: 9.76 | H21: =ROUND(G21*E21*2,2) -> 1249.28 | I21: =ROUND(H21*1.2359,2) -> 1543.99
A22: Ārsts | B22: 1 | C22: =D22+E22 -> 195 | D22: 184 | E22: 11 | G22: 9.76 | H22: =ROUND(G22*E22*2,2) -> 214.72 | I22: =ROUND(H22*1.2359,2) -> 265.37
A23: Ārsts | B23: 1 | C23: =D23+E23 -> 196 | D23: 184 | E23: 12 | G23: 8.87 | H23: =ROUND(G23*E23*2,2) -> 212.88 | I23: =ROUND(H23*1.2359,2) -> 263.1
A24: Ārsts anesteziologs, reanimatologs | B24: 1 | C24: =D24+E24 -> 227 | D24: 184 | E24: 43 | G24: 14.75 | H24: =ROUND(G24*E24*2,2) -> 1268.5 | I24: =ROUND(H24*1.2359,2) -> 1567.74
... A122: Radiologs (dežūrām) | B122: 1 | C122: =D122+E122 -> 228 | D122: 184 | E122: 44 | G122: 16.75 | H122: =ROUND(G122*E122*2,2) -> 1474 | I122: =ROUND(H122*1.2359,2) -> 1821.72
A123: Rezidents | B123: 1 | C123: =D123+E123 -> 201 | D123: 184 | E123: 17 | F123: 1492.34 | G123: =F123/168.17 -> 8.8739966 | H123: =ROUND(G123*E123*2,2) -> 301.72 | I123: =ROUND(H123*1.2359,2) -> 372.9
A124: Rezidents | B124: 1 | C124: =D124+E124 -> 195 | D124: 184 | E124: 11 | F124: 1641.58 | G124: =F124/168.17 -> 9.7614319 | H124: =ROUND(G124*E124*2,2) -> 214.75 | I124: =ROUND(H124*1.2359,2) -> 265.41
A125: Rezidents | B125: 1 | C125: =D125+E125 -> 228 | D125: 184 | E125: 44 | F125: 1641.58 | G125: =F125/168.17 -> 9.7614319 | H125: =ROUND(G125*E125*2,2) -> 859.01 | I125: =ROUND(H125*1.2359,2) -> 1061.65
A126: Rezidents | B126: 1 | C126: =D126+E126 -> 205 | D126: 184 | E126: 21 | F126: 1641.58 | G126: =F126/168.17 -> 9.7614319 | H126: =ROUND(G126*E126*2,2) -> 409.98 | I126: =ROUND(H126*1.2359,2) -> 506.69
A127: Rezidents | B127: 1 | C127: =D127+E127 -> 196 | D127: 184 | E127: 12 | F127: 1641.58 | G127: =F127/168.17 -> 9.7614319 | H127: =ROUND(G127*E127*2,2) -> 234.27 | I127: =ROUND(H127*1.2359,2) -> 289.53
A128: Rezidents | B128: 1 | C128: =D128+E128 -> 234 | D128: 184 | E128: 50 | F128: 1641.58 | G128: =F128/168.17 -> 9.7614319 | H128: =ROUND(G128*E128*2,2) -> 976.14 | I128: =ROUND(H128*1.2359,2) -> 1206.41
A129: Rezidents | B129: 1 | C129: =D129+E129 -> 211 | D129: 184 | E129: 27 | F129: 1641.58 | G129: =F129/168.17 -> 9.7614319 | H129: =ROUND(G129*E129*2,2) -> 527.12 | I129: =ROUND(H129*1.2359,2) -> 651.47
A130: Rezidents | B130: 1 | C130: =D130+E130 -> 196 | D130: 184 | E130: 12 | F130: 1641.58 | G130: =F130/168.17 -> 9.7614319 | H130: =ROUND(G130*E130*2,2) -> 234.27 | I130: =ROUND(H130*1.2359,2) -> 289.53
A131: Rezidents | B131: 1 | C131: =D131+E131 -> 210 | D131: 184 | E131: 26 | F131: 1641.58 | G131: =F131/168.17 -> 9.7614319 | H131: =ROUND(G131*E131*2,2) -> 507.59 | I131: =ROUND(H131*1.2359,2) -> 627.33
A132: Rezidents | B132: 1 | C132: =D132+E132 -> 200 | D132: 184 | E132: 16 | F132: 1641.58 | G132: =F132/168.17 -> 9.7614319 | H132: =ROUND(G132*E132*2,2) -> 312.37 | I132: =ROUND(H132*1.2359,2) -> 386.06
A133: Rezidents | B133: 1 | C133: =D133+E133 -> 205 | D133: 184 | E133: 21 | F133: 1641.58 | G133: =F133/168.17 -> 9.7614319 | H133: =ROUND(G133*E133*2,2) -> 409.98 | I133: =ROUND(H133*1.2359,2) -> 506.69
A134: Rezidents | B134: 1 | C134: =D134+E134 -> 241 | D134: 184 | E134: 57 | F134: 1492.34 | G134: =F134/168.17 -> 8.8739966 | H134: =ROUND(G134*E134*2,2) -> 1011.64 | I134: =ROUND(H134*1.2359,2) -> 1250.29
... A196: Rezidents | B196: 1 | C196: =D196+E196 -> 206 | D196: 184 | E196: 22 | F196: 1492.34 | G196: =F196/168.17 -> 8.8739966 | H196: =ROUND(G196*E196*2,2) -> 390.46 | I196: =ROUND(H196*1.2359,2) -> 482.57
A197: Virsārsts endokrinologs | B197: 1 | C197: =D197+E197 -> 196 | D197: 184 | E197: 12 | G197: 17.79 | H197: =ROUND(G197*E197*2,2) -> 426.96 | I197: =ROUND(H197*1.2359,2) -> 527.68
A198: Virsārsts gastroenterologs | B198: 1 | C198: =D198+E198 -> 216 | D198: 184 | E198: 32 | G198: 18.14 | H198: =ROUND(G198*E198*2,2) -> 1160.96 | I198: =ROUND(H198*1.2359,2) -> 1434.83
A199: Virsārsts intensīvajā terapijā | B199: 1 | C199: =D199+E199 -> 236 | D199: 184 | E199: 52 | G199: 17.53 | H199: =ROUND(G199*E199*2,2) -> 1823.12 | I199: =ROUND(H199*1.2359,2) -> 2253.19
A200: Virsārsts nefrologs | B200: 1 | C200: =D200+E200 -> 204 | D200: 184 | E200: 20 | G200: 18.14 | H200: =ROUND(G200*E200*2,2) -> 725.6 | I200: =ROUND(H200*1.2359,2) -> 896.77
A201: Virsārsts torakālais ķirurgs | B201: 1 | C201: =D201+E201 -> 216 | D201: 184 | E201: 32 | G201: 19.57 | H201: =ROUND(G201*E201*2,2) -> 1252.48 | I201: =ROUND(H201*1.2359,2) -> 1547.94
A202: Ārstniecības un pacientu aprūpes personas un funkcionālo speciālistu asistenti, kopā, tai skaitā: | B202: =SUM(B203:B392) -> 190 | E202: =SUM(E203:E392) -> 4169 | H202: =SUM(H203:H392) -> 66036.44 | I202: =SUM(I203:I392) -> 81614.42
A203: Ārsta epidemiologa palīgs | B203: 1 | C203: =D203+E203 -> 216 | D203: 184 | E203: 32 | F203: 1449 | G203: =ROUND(F203/D203,3) -> 7.875 | H203: =ROUND(G203*E203*2,2) -> 504 | I203: =ROUND(H203*1.2359,2) -> 622.89
A204: Ambulatorā dienesta ārsta palīgs | B204: 1 | C204: =D204+E204 -> 232 | D204: 184 | E204: 48 | G204: 7.76 | H204: =ROUND(G204*E204*2,2) -> 744.96 | I204: =ROUND(H204*1.2359,2) -> 920.7
A205: Ambulatorā dienesta ārsta palīgs | B205: 1 | C205: =D205+E205 -> 260 | D205: 184 | E205: 76 | G205: 7.5 | H205: =ROUND(G205*E205*2,2) -> 1140 | I205: =ROUND(H205*1.2359,2) -> 1408.93
A206: Ambulatorā dienesta ārsta palīgs | B206: 1 | C206: =D206+E206 -> 216 | D206: 184 | E206: 32 | G206: 7.51 | H206: =ROUND(G206*E206*2,2) -> 480.64 | I206: =ROUND(H206*1.2359,2) -> 594.02
A207: Ambulatorās aprūpes ārsta palīgs | B207: 1 | C207: =D207+E207 -> 200 | D207: 184 | E207: 16 | G207: 9.29 | H207: =ROUND(G207*E207*2,2) -> 297.28 | I207: =ROUND(H207*1.2359,2) -> 367.41
A208: Ambulatorās aprūpes māsa | B208: 1 | C208: =D208+E208 -> 200 | D208: 184 | E208: 16 | G208: 9.47 | H208: =ROUND(G208*E208*2,2) -> 303.04 | I208: =ROUND(H208*1.2359,2) -> 374.53
A209: Ambulatorās aprūpes māsa | B209: 1 | C209: =D209+E209 -> 188 | D209: 184 | E209: 4 | G209: 9.47 | H209: =ROUND(G209*E209*2,2) -> 75.76 | I209: =ROUND(H209*1.2359,2) -> 93.63
A210: Ambulatorās aprūpes māsa | B210: 1 | C210: =D210+E210 -> 224 | D210: 184 | E210: 40 | G210: 9.47 | H210: =ROUND(G210*E210*2,2) -> 757.6 | I210: =ROUND(H210*1.2359,2) -> 936.32
A211: Anestēzijas, intensīvās un neatliekamās aprūpes māsa | B211: 1 | C211: =D211+E211 -> 192 | D211: 184 | E211: 8 | G211: 9.47 | H211: =ROUND(G211*E211*2,2) -> 151.52 | I211: =ROUND(H211*1.2359,2) -> 187.26
A212: Anestēzijas, intensīvās un neatliekamās aprūpes māsa | B212: 1 | C212: =D212+E212 -> 216 | D212: 184 | E212: 32 | G212: 9.47 | H212: =ROUND(G212*E212*2,2) -> 606.08 | I212: =ROUND(H212*1.2359,2) -> 749.05
A213: Anestēzijas, intensīvās un neatliekamās aprūpes māsa | B213: 1 | C213: =D213+E213 -> 188 | D213: 184 | E213: 4 | G213: 9.47 | H213: =ROUND(G213*E213*2,2) -> 75.76 | I213: =ROUND(H213*1.2359,2) -> 93.63
A214: Anestēzijas, intensīvās un neatliekamās aprūpes māsa | B214: 1 | C214: =D214+E214 -> 216 | D214: 184 | E214: 32 | G214: 9.47 | H214: =ROUND(G214*E214*2,2) -> 606.08 | I214: =ROUND(H214*1.2359,2) -> 749.05
A215: Anestēzijas, intensīvās un neatliekamās aprūpes māsa | B215: 1 | C215: =D215+E215 -> 216 | D215: 184 | E215: 32 | G215: 9.47 | H215: =ROUND(G215*E215*2,2) -> 606.08 | I215: =ROUND(H215*1.2359,2) -> 749.05
... A375: Operāciju māsa | B375: 1 | C375: =D375+E375 -> 192 | D375: 184 | E375: 8 | G375: 7.5 | H375: =ROUND(G375*E375*2,2) -> 120 | I375: =ROUND(H375*1.2359,2) -> 148.31
A376: Peritoneālās dialīzes māsa | B376: 1 | C376: =D376+E376 -> 192 | D376: 184 | E376: 8 | F376: 1604.25 | G376: =F376/168.17 -> 9.5394541 | H376: =ROUND(G376*E376*2,2) -> 152.63 | I376: =ROUND(H376*1.2359,2) -> 188.64
A377: Peritoneālās dialīzes māsa | B377: 1 | C377: =D377+E377 -> 188 | D377: 184 | E377: 4 | F377: 1550 | G377: =F377/168.17 -> 9.2168639 | H377: =ROUND(G377*E377*2,2) -> 73.73 | I377: =ROUND(H377*1.2359,2) -> 91.12
A378: Radiogrāfers (dežūrām) | B378: 1 | C378: =D378+E378 -> 186 | D378: 184 | E378: 2 | G378: 5.69 | H378: =ROUND(G378*E378*2,2) -> 22.76 | I378: =ROUND(H378*1.2359,2) -> 28.13
A379: Radiogrāfers (dežūrām) | B379: 1 | C379: =D379+E379 -> 195 | D379: 184 | E379: 11 | G379: 5.69 | H379: =ROUND(G379*E379*2,2) -> 125.18 | I379: =ROUND(H379*1.2359,2) -> 154.71
A380: Radiogrāfers (dežūrām) | B380: 1 | C380: =D380+E380 -> 208 | D380: 184 | E380: 24 | G380: 5.5 | H380: =ROUND(G380*E380*2,2) -> 264 | I380: =ROUND(H380*1.2359,2) -> 326.28
A381: Radiogrāfers (dežūrām) | B381: 1 | C381: =D381+E381 -> 190 | D381: 184 | E381: 6 | G381: 5.5 | H381: =ROUND(G381*E381*2,2) -> 66 | I381: =ROUND(H381*1.2359,2) -> 81.57
A382: Radiologa asistents (dežūrām) | B382: 1 | C382: =D382+E382 -> 208 | D382: 184 | E382: 24 | G382: 5.69 | H382: =ROUND(G382*E382*2,2) -> 273.12 | I382: =ROUND(H382*1.2359,2) -> 337.55
A383: Vecmāte | B383: 1 | C383: =D383+E383 -> 200 | D383: 184 | E383: 16 | G383: 7.76 | H383: =ROUND(G383*E383*2,2) -> 248.32 | I383: =ROUND(H383*1.2359,2) -> 306.9
A384: Vecmāte | B384: 1 | C384: =D384+E384 -> 192 | D384: 184 | E384: 8 | G384: 7.76 | H384: =ROUND(G384*E384*2,2) -> 124.16 | I384: =ROUND(H384*1.2359,2) -> 153.45
A385: Vecmāte | B385: 1 | C385: =D385+E385 -> 208 | D385: 184 | E385: 24 | G385: 7.76 | H385: =ROUND(G385*E385*2,2) -> 372.48 | I385: =ROUND(H385*1.2359,2) -> 460.35
A386: Vecmāte | B386: 1 | C386: =D386+E386 -> 191 | D386: 184 | E386: 7 | G386: 7.76 | H386: =ROUND(G386*E386*2,2) -> 108.64 | I386: =ROUND(H386*1.2359,2) -> 134.27
A387: Vecmāte | B387: 1 | C387: =D387+E387 -> 192 | D387: 184 | E387: 8 | G387: 7.76 | H387: =ROUND(G387*E387*2,2) -> 124.16 | I387: =ROUND(H387*1.2359,2) -> 153.45
A388: Vecmāte | B388: 1 | C388: =D388+E388 -> 204 | D388: 184 | E388: 20 | G388: 7.76 | H388: =ROUND(G388*E388*2,2) -> 310.4 | I388: =ROUND(H388*1.2359,2) -> 383.62
A389: Vecmāte | B389: 1 | C389: =D389+E389 -> 195 | D389: 184 | E389: 11 | G389: 7.61 | H389: =ROUND(G389*E389*2,2) -> 167.42 | I389: =ROUND(H389*1.2359,2) -> 206.91
... A392: Vecmāte | B392: 1 | C392: =D392+E392 -> 187 | D392: 184 | E392: 3 | G392: 6.8 | H392: =ROUND(G392*E392*2,2) -> 40.8 | I392: =ROUND(H392*1.2359,2) -> 50.42
A393: Ārstniecības un pacientu aprūpes atbalsta personas, māsu palīgi, zobārstu asistenti, kopā, tai skaitā: | B393: =SUM(B394:B430) -> 37 | E393: =SUM(E394:E430) -> 481 | H393: =SUM(H394:H430) -> 5166.5 | I393: =SUM(I394:I430) -> 6385.3
A394: Māsas palīgs | B394: 1 | C394: =D394+E394 -> 192 | D394: 184 | E394: 8 | G394: 6.09 | H394: =ROUND(G394*E394*2,2) -> 97.44 | I394: =ROUND(H394*1.2359,2) -> 120.43
A395: Māsas palīgs | B395: 1 | C395: =D395+E395 -> 193 | D395: 184 | E395: 9 | G395: 6.18 | H395: =ROUND(G395*E395*2,2) -> 111.24 | I395: =ROUND(H395*1.2359,2) -> 137.48
A396: Māsas palīgs | B396: 1 | C396: =D396+E396 -> 208 | D396: 184 | E396: 24 | G396: 6.18 | H396: =ROUND(G396*E396*2,2) -> 296.64 | I396: =ROUND(H396*1.2359,2) -> 366.62
A397: Māsas palīgs | B397: 1 | C397: =D397+E397 -> 207 | D397: 184 | E397: 23 | G397: 6.09 | H397: =ROUND(G397*E397*2,2) -> 280.14 | I397: =ROUND(H397*1.2359,2) -> 346.23
A398: Māsas palīgs | B398: 1 | C398: =D398+E398 -> 192 | D398: 184 | E398: 8 | G398: 4.81 | H398: =ROUND(G398*E398*2,2) -> 76.96 | I398: =ROUND(H398*1.2359,2) -> 95.11
A399: Māsas palīgs | B399: 1 | C399: =D399+E399 -> 191 | D399: 184 | E399: 7 | G399: 4.65 | H399: =ROUND(G399*E399*2,2) -> 65.1 | I399: =ROUND(H399*1.2359,2) -> 80.46
A400: Māsas palīgs | B400: 1 | C400: =D400+E400 -> 192 | D400: 184 | E400: 8 | G400: 6.09 | H400: =ROUND(G400*E400*2,2) -> 97.44 | I400: =ROUND(H400*1.2359,2) -> 120.43
A401: Māsas palīgs | B401: 1 | C401: =D401+E401 -> 192 | D401: 184 | E401: 8 | G401: 6.24 | H401: =ROUND(G401*E401*2,2) -> 99.84 | I401: =ROUND(H401*1.2359,2) -> 123.39
A402: Māsas palīgs | B402: 1 | C402: =D402+E402 -> 216 | D402: 184 | E402: 32 | G402: 4.65 | H402: =ROUND(G402*E402*2,2) -> 297.6 | I402: =ROUND(H402*1.2359,2) -> 367.8
A403: Māsas palīgs | B403: 1 | C403: =D403+E403 -> 200 | D403: 184 | E403: 16 | G403: 6.09 | H403: =ROUND(G403*E403*2,2) -> 194.88 | I403: =ROUND(H403*1.2359,2) -> 240.85
A404: Māsas palīgs | B404: 1 | C404: =D404+E404 -> 213 | D404: 184 | E404: 29 | G404: 6.18 | H404: =ROUND(G404*E404*2,2) -> 358.44 | I404: =ROUND(H404*1.2359,2) -> 443
A405: Māsas palīgs | B405: 1 | C405: =D405+E405 -> 192 | D405: 184 | E405: 8 | G405: 6.09 | H405: =ROUND(G405*E405*2,2) -> 97.44 | I405: =ROUND(H405*1.2359,2) -> 120.43
... A430: Māsas palīgs | B430: 1 | C430: =D430+E430 -> 200 | D430: 184 | E430: 16 | G430: 6.09 | H430: =ROUND(G430*E430*2,2) -> 194.88 | I430: =ROUND(H430*1.2359,2) -> 240.85
A431: Pārējie darbinieki, kuri tieši iesaistīti darbā ar Covid-19, kopā, tai skaitā: | B431: =SUM(B432:B520) -> 89 | E431: =SUM(E432:E520) -> 1305.5 | H431: =SUM(H432:H520) -> 13964.35 | I431: =SUM(I432:I520) -> 17258.54
A432: Vecākais veselības aprūpes datu analītiķis | B432: 1 | C432: =D432+E432 -> 193 | D432: 184 | E432: 9 | F432: 1500 | G432: =ROUND(F432/D432,3) -> 8.152 | H432: =ROUND(G432*E432*2,2) -> 146.74 | I432: =ROUND(H432*1.2359,2) -> 181.36
A433: Veselības aprūpes datu analītiķis | B433: 1 | C433: =D433+E433 -> 214 | D433: 184 | E433: 30 | F433: 1360 | G433: =ROUND(F433/D433,3) -> 7.391 | H433: =ROUND(G433*E433*2,2) -> 443.46 | I433: =ROUND(H433*1.2359,2) -> 548.07
A434: Vecākais personāla speciālists | B434: 1 | C434: =D434+E434 -> 192.5 | D434: 184 | E434: 8.5 | F434: 1600 | G434: =ROUND(F434/D434,3) -> 8.696 | H434: =ROUND(G434*E434*2,2) -> 147.83 | I434: =ROUND(H434*1.2359,2) -> 182.7
A435: Atbildīgais sanitārs-transportētājs | B435: 1 | C435: =D435+E435 -> 192 | D435: 184 | E435: 8 | G435: 4.75 | H435: =ROUND(G435*E435*2,2) -> 76 | I435: =ROUND(H435*1.2359,2) -> 93.93
A436: Jaunākais māsas palīgs | B436: 1 | C436: =D436+E436 -> 203 | D436: 184 | E436: 19 | G436: 4.3 | H436: =ROUND(G436*E436*2,2) -> 163.4 | I436: =ROUND(H436*1.2359,2) -> 201.95
A437: Jaunākais māsas palīgs | B437: 1 | C437: =D437+E437 -> 186 | D437: 184 | E437: 2 | G437: 4.3 | H437: =ROUND(G437*E437*2,2) -> 17.2 | I437: =ROUND(H437*1.2359,2) -> 21.26
A438: Jaunākais māsas palīgs | B438: 1 | C438: =D438+E438 -> 191 | D438: 184 | E438: 7 | G438: 5.49 | H438: =ROUND(G438*E438*2,2) -> 76.86 | I438: =ROUND(H438*1.2359,2) -> 94.99
A439: Jaunākais māsas palīgs | B439: 1 | C439: =D439+E439 -> 201 | D439: 184 | E439: 17 | G439: 5.49 | H439: =ROUND(G439*E439*2,2) -> 186.66 | I439: =ROUND(H439*1.2359,2) -> 230.69
A440: Jaunākais māsas palīgs | B440: 1 | C440: =D440+E440 -> 200 | D440: 184 | E440: 16 | G440: 4.3 | H440: =ROUND(G440*E440*2,2) -> 137.6 | I440: =ROUND(H440*1.2359,2) -> 170.06
A441: Jaunākais māsas palīgs | B441: 1 | C441: =D441+E441 -> 192 | D441: 184 | E441: 8 | G441: 5.49 | H441: =ROUND(G441*E441*2,2) -> 87.84 | I441: =ROUND(H441*1.2359,2) -> 108.56
A442: Jaunākais māsas palīgs | B442: 1 | C442: =D442+E442 -> 192 | D442: 184 | E442: 8 | G442: 4.3 | H442: =ROUND(G442*E442*2,2) -> 68.8 | I442: =ROUND(H442*1.2359,2) -> 85.03
A443: Jaunākais māsas palīgs | B443: 1 | C443: =D443+E443 -> 189 | D443: 184 | E443: 5 | G443: 4.3 | H443: =ROUND(G443*E443*2,2) -> 43 | I443: =ROUND(H443*1.2359,2) -> 53.14
A444: Jaunākais māsas palīgs | B444: 1 | C444: =D444+E444 -> 204 | D444: 184 | E444: 20 | G444: 4.3 | H444: =ROUND(G444*E444*2,2) -> 172 | I444: =ROUND(H444*1.2359,2) -> 212.57
A445: Jaunākais māsas palīgs | B445: 1 | C445: =D445+E445 -> 192 | D445: 184 | E445: 8 | G445: 4.3 | H445: =ROUND(G445*E445*2,2) -> 68.8 | I445: =ROUND(H445*1.2359,2) -> 85.03
A446: Jaunākais māsas palīgs | B446: 1 | C446: =D446+E446 -> 204 | D446: 184 | E446: 20 | G446: 4.3 | H446: =ROUND(G446*E446*2,2) -> 172 | I446: =ROUND(H446*1.2359,2) -> 212.57
...

Sheet PSKUS_apr
H1: 1.6.Pielikums
A2: Pārskats par darba veicējiem (ārstniecības personām), virs normālā darba laika nostrādātām stundām, apmaksājamām stundām un izdevumiem, kas radušies saistībā ar mērķi ierobežot Covid-19 izplatību
A4: Iestādes nosaukums: VSIA "Paula Stradiņa klīniskā universitātes slimnīca"
A5: Pārskata mēnesis: Aprīlis
B7: Nodarbināto skaits mēnesī | C7: Apmaksājamais laiks mēnesī, stundas (tai skaitā summētā darba laika ietvaros) | F7: Mēnešalga no kuras rēķina stundas likmi | G7: Stundas likme (aprēķināta atbilstoši mēnešalgai vai darba līgumā noteiktā stundas likme) | H7: Apmaksājamā 100% piemaksa par nostrādātām virsstundām virs normālā darba laika (tai skaitā summētā darba laika ietvaros) | I7: Izdevumi par virsstundām kopā ar VSAOI, EUR
C8: Kopā | D8: līdz normālam darba laikam | E8: virsstundas - virs normālā darba laika, kas saistītas ar darbu ar Covid-19
A10: 1 | B10: 2 | C10: 3=4+5 | D10: 4 | E10: 5 | F10: 6 | G10: 7 | H10: 8 | I10: 9=8 +VSOAI
A11: KOPĀ | B11: =B12+B173+B382+B430 -> 526 | E11: =E12+E173+E382+E430 -> 12079 | H11: =H12+H173+H382+H430 -> 203988.85 | I11: =I12+I173+I382+I430 -> 252109.85
A12: Ārsti, zobārsti un funkcionālie speciālisti, kopā, tai skaitā: | B12: =SUM(B13:B172) -> 160 | E12: =SUM(E13:E172) -> 4735 | H12: =SUM(H13:H172) -> 103648.66 | I12: =SUM(I13:I172) -> 128099.39
A13: Atbildīgais ārsts speciālists (diennakts postenis) | B13: 1 | C13: =D13+E13 -> 198 | D13: 151 | E13: 47 | G13: 12.42 | H13: =ROUND(G13*E13*2,2) -> 1167.48 | I13: =ROUND(H13*1.2359,2) -> 1442.89
A14: Atbildīgais ārsts speciālists (diennakts postenis) | B14: 1 | C14: =D14+E14 -> 172 | D14: 151 | E14: 21 | G14: 12.42 | H14: =ROUND(G14*E14*2,2) -> 521.64 | I14: =ROUND(H14*1.2359,2) -> 644.69
A15: Ārsts | B15: 1 | C15: =D15+E15 -> 192 | D15: 151 | E15: 41 | G15: 9.76 | H15: =ROUND(G15*E15*2,2) -> 800.32 | I15: =ROUND(H15*1.2359,2) -> 989.12
A16: Ārsts | B16: 1 | C16: =D16+E16 -> 172 | D16: 151 | E16: 21 | G16: 8.87 | H16: =ROUND(G16*E16*2,2) -> 372.54 | I16: =ROUND(H16*1.2359,2) -> 460.42
A17: Ārsts | B17: 1 | C17: =D17+E17 -> 176 | D17: 151 | E17: 25 | G17: 9.76 | H17: =ROUND(G17*E17*2,2) -> 488 | I17: =ROUND(H17*1.2359,2) -> 603.12
A18: Ārsts | B18: 1 | C18: =D18+E18 -> 195 | D18: 151 | E18: 44 | G18: 9.76 | H18: =ROUND(G18*E18*2,2) -> 858.88 | I18: =ROUND(H18*1.2359,2) -> 1061.49
A19: Ārsts | B19: 1 | C19: =D19+E19 -> 152 | D19: 151 | E19: 1 | G19: 8.87 | H19: =ROUND(G19*E19*2,2) -> 17.74 | I19: =ROUND(H19*1.2359,2) -> 21.92
A20: Ārsts anesteziologs, reanimatologs | B20: 1 | C20: =D20+E20 -> 197 | D20: 151 | E20: 46 | G20: 14.75 | H20: =ROUND(G20*E20*2,2) -> 1357 | I20: =ROUND(H20*1.2359,2) -> 1677.12
A21: Ārsts anesteziologs, reanimatologs | B21: 1 | C21: =D21+E21 -> 179 | D21: 151 | E21: 28 | G21: 10.56 | H21: =ROUND(G21*E21*2,2) -> 591.36 | I21: =ROUND(H21*1.2359,2) -> 730.86
A22: Ārsts anesteziologs, reanimatologs | B22: 1 | C22: =D22+E22 -> 182 | D22: 151 | E22: 31 | G22: 14.75 | H22: =ROUND(G22*E22*2,2) -> 914.5 | I22: =ROUND(H22*1.2359,2) -> 1130.23
A23: Ārsts anesteziologs, reanimatologs | B23: 1 | C23: =D23+E23 -> 160 | D23: 151 | E23: 9 | G23: 10.56 | H23: =ROUND(G23*E23*2,2) -> 190.08 | I23: =ROUND(H23*1.2359,2) -> 234.92
A24: Ārsts anesteziologs, reanimatologs | B24: 1 | C24: =D24+E24 -> 156 | D24: 151 | E24: 5 | G24: 14.75 | H24: =ROUND(G24*E24*2,2) -> 147.5 | I24: =ROUND(H24*1.2359,2) -> 182.3
... A102: Radiologs (dežūrām) | B102: 1 | C102: =D102+E102 -> 180 | D102: 151 | E102: 29 | G102: 16.75 | H102: =ROUND(G102*E102*2,2) -> 971.5 | I102: =ROUND(H102*1.2359,2) -> 1200.68
A103: Rezidents | B103: 1 | C103: =D103+E103 -> 170 | D103: 151 | E103: 19 | F103: 1641.58 | G103: =F103/168.17 -> 9.7614319 | H103: =ROUND(G103*E103*2,2) -> 370.93 | I103: =ROUND(H103*1.2359,2) -> 458.43
A104: Rezidents | B104: 1 | C104: =D104+E104 -> 165 | D104: 151 | E104: 14 | F104: 1492.34 | G104: =F104/168.17 -> 8.8739966 | H104: =ROUND(G104*E104*2,2) -> 248.47 | I104: =ROUND(H104*1.2359,2) -> 307.08
A105: Rezidents | B105: 1 | C105: =D105+E105 -> 204 | D105: 151 | E105: 53 | F105: 1641.58 | G105: =F105/168.17 -> 9.7614319 | H105: =ROUND(G105*E105*2,2) -> 1034.71 | I105: =ROUND(H105*1.2359,2) -> 1278.8
A106: Rezidents | B106: 1 | C106: =D106+E106 -> 201 | D106: 151 | E106: 50 | F106: 1641.58 | G106: =F106/168.17 -> 9.7614319 | H106: =ROUND(G106*E106*2,2) -> 976.14 | I106: =ROUND(H106*1.2359,2) -> 1206.41
A107: Rezidents | B107: 1 | C107: =D107+E107 -> 188 | D107: 151 | E107: 37 | F107: 1641.58 | G107: =F107/168.17 -> 9.7614319 | H107: =ROUND(G107*E107*2,2) -> 722.35 | I107: =ROUND(H107*1.2359,2) -> 892.75
A108: Rezidents | B108: 1 | C108: =D108+E108 -> 199 | D108: 151 | E108: 48 | F108: 1641.58 | G108: =F108/168.17 -> 9.7614319 | H108: =ROUND(G108*E108*2,2) -> 937.1 | I108: =ROUND(H108*1.2359,2) -> 1158.16
A109: Rezidents | B109: 1 | C109: =D109+E109 -> 212 | D109: 151 | E109: 61 | F109: 1641.58 | G109: =F109/168.17 -> 9.7614319 | H109: =ROUND(G109*E109*2,2) -> 1190.89 | I109: =ROUND(H109*1.2359,2) -> 1471.82
A110: Rezidents | B110: 1 | C110: =D110+E110 -> 163 | D110: 151 | E110: 12 | F110: 1641.58 | G110: =F110/168.17 -> 9.7614319 | H110: =ROUND(G110*E110*2,2) -> 234.27 | I110: =ROUND(H110*1.2359,2) -> 289.53
A111: Rezidents | B111: 1 | C111: =D111+E111 -> 211 | D111: 151 | E111: 60 | F111: 1492.34 | G111: =F111/168.17 -> 8.8739966 | H111: =ROUND(G111*E111*2,2) -> 1064.88 | I111: =ROUND(H111*1.2359,2) -> 1316.09
A112: Rezidents | B112: 1 | C112: =D112+E112 -> 211 | D112: 151 | E112: 60 | F112: 1492.34 | G112: =F112/168.17 -> 8.8739966 | H112: =ROUND(G112*E112*2,2) -> 1064.88 | I112: =ROUND(H112*1.2359,2) -> 1316.09
A113: Rezidents | B113: 1 | C113: =D113+E113 -> 172 | D113: 151 | E113: 21 | F113: 1492.34 | G113: =F113/168.17 -> 8.8739966 | H113: =ROUND(G113*E113*2,2) -> 372.71 | I113: =ROUND(H113*1.2359,2) -> 460.63
A114: Rezidents | B114: 1 | C114: =D114+E114 -> 172 | D114: 151 | E114: 21 | F114: 1492.34 | G114: =F114/168.17 -> 8.8739966 | H114: =ROUND(G114*E114*2,2) -> 372.71 | I114: =ROUND(H114*1.2359,2) -> 460.63
... A169: Rezidents | B169: 1 | C169: =D169+E169 -> 174 | D169: 151 | E169: 23 | F169: 1492.34 | G169: =F169/168.17 -> 8.8739966 | H169: =ROUND(G169*E169*2,2) -> 408.2 | I169: =ROUND(H169*1.2359,2) -> 504.49
A170: Virsārsts intensīvajā terapijā | B170: 1 | C170: =D170+E170 -> 191 | D170: 151 | E170: 40 | G170: 17.53 | H170: =ROUND(G170*E170*2,2) -> 1402.4 | I170: =ROUND(H170*1.2359,2) -> 1733.23
A171: Virsārsts nefrologs | B171: 1 | C171: =D171+E171 -> 183 | D171: 151 | E171: 32 | G171: 18.14 | H171: =ROUND(G171*E171*2,2) -> 1160.96 | I171: =ROUND(H171*1.2359,2) -> 1434.83
A172: Virsārsts torakālais ķirurgs | B172: 1 | C172: =D172+E172 -> 183 | D172: 151 | E172: 32 | G172: 19.57 | H172: =ROUND(G172*E172*2,2) -> 1252.48 | I172: =ROUND(H172*1.2359,2) -> 1547.94
A173: Ārstniecības un pacientu aprūpes personas un funkcionālo speciālistu asistenti, kopā, tai skaitā: | B173: =SUM(B174:B381) -> 208 | E173: =SUM(E174:E381) -> 4583 | H173: =SUM(H174:H381) -> 71822.28 | I173: =SUM(I174:I381) -> 88765.2
A174: Ambulatorā dienesta ārsta palīgs | B174: 1 | C174: =D174+E174 -> 192 | D174: 151 | E174: 41 | G174: 7.76 | H174: =ROUND(G174*E174*2,2) -> 636.32 | I174: =ROUND(H174*1.2359,2) -> 786.43
A175: Ambulatorā dienesta ārsta palīgs | B175: 1 | C175: =D175+E175 -> 168 | D175: 151 | E175: 17 | G175: 7.5 | H175: =ROUND(G175*E175*2,2) -> 255 | I175: =ROUND(H175*1.2359,2) -> 315.15
A176: Ambulatorā dienesta ārsta palīgs | B176: 1 | C176: =D176+E176 -> 168 | D176: 151 | E176: 17 | G176: 7.51 | H176: =ROUND(G176*E176*2,2) -> 255.34 | I176: =ROUND(H176*1.2359,2) -> 315.57
A177: Ambulatorās aprūpes ārsta palīgs | B177: 1 | C177: =D177+E177 -> 168 | D177: 151 | E177: 17 | G177: 9.29 | H177: =ROUND(G177*E177*2,2) -> 315.86 | I177: =ROUND(H177*1.2359,2) -> 390.37
A178: Ārsta epidemiologa palīgs | B178: 1 | C178: =D178+E178 -> 183 | D178: 151 | E178: 32 | F178: 1449 | G178: =ROUND(F178/D178,3) -> 9.596 | H178: =ROUND(G178*E178*2,2) -> 614.14 | I178: =ROUND(H178*1.2359,2) -> 759.02
A179: Ambulatorās aprūpes māsa | B179: 1 | C179: =D179+E179 -> 176 | D179: 151 | E179: 25 | G179: 9.47 | H179: =ROUND(G179*E179*2,2) -> 473.5 | I179: =ROUND(H179*1.2359,2) -> 585.2
A180: Ambulatorās aprūpes māsa | B180: 1 | C180: =D180+E180 -> 188 | D180: 151 | E180: 37 | G180: 9.47 | H180: =ROUND(G180*E180*2,2) -> 700.78 | I180: =ROUND(H180*1.2359,2) -> 866.09
A181: Anestēzijas, intensīvās un neatliekamās aprūpes māsa | B181: 1 | C181: =D181+E181 -> 184 | D181: 151 | E181: 33 | G181: 9.47 | H181: =ROUND(G181*E181*2,2) -> 625.02 | I181: =ROUND(H181*1.2359,2) -> 772.46
A182: Anestēzijas, intensīvās un neatliekamās aprūpes māsa | B182: 1 | D182: 151 | E182: 7 | G182: 9.47 | H182: =ROUND(G182*E182*2,2) -> 132.58 | I182: =ROUND(H182*1.2359,2) -> 163.86
A183: Anestēzijas, intensīvās un neatliekamās aprūpes māsa | B183: 1 | C183: =D183+E183 -> 167 | D183: 151 | E183: 16 | G183: 9.47 | H183: =ROUND(G183*E183*2,2) -> 303.04 | I183: =ROUND(H183*1.2359,2) -> 374.53
A184: Anestēzijas, intensīvās un neatliekamās aprūpes māsa | B184: 1 | C184: =D184+E184 -> 192 | D184: 151 | E184: 41 | G184: 9.47 | H184: =ROUND(G184*E184*2,2) -> 776.54 | I184: =ROUND(H184*1.2359,2) -> 959.73
A185: Anestēzijas, intensīvās un neatliekamās aprūpes māsa | B185: 1 | C185: =D185+E185 -> 184 | D185: 151 | E185: 33 | G185: 9.47 | H185: =ROUND(G185*E185*2,2) -> 625.02 | I185: =ROUND(H185*1.2359,2) -> 772.46
A186: Anestēzijas, intensīvās un neatliekamās aprūpes māsa | B186: 1 | C186: =D186+E186 -> 192 | D186: 151 | E186: 41 | G186: 7.76 | H186: =ROUND(G186*E186*2,2) -> 636.32 | I186: =ROUND(H186*1.2359,2) -> 786.43
A187: Anestēzijas, intensīvās un neatliekamās aprūpes māsa | B187: 1 | C187: =D187+E187 -> 168 | D187: 151 | E187: 17 | G187: 9.47 | H187: =ROUND(G187*E187*2,2) -> 321.98 | I187: =ROUND(H187*1.2359,2) -> 397.94
A188: Anestēzijas, intensīvās un neatliekamās aprūpes māsa | B188: 1 | C188: =D188+E188 -> 200 | D188: 151 | E188: 49 | G188: 7.76 | H188: =ROUND(G188*E188*2,2) -> 760.48 | I188: =ROUND(H188*1.2359,2) -> 939.88
A189: Anestēzijas, intensīvās un neatliekamās aprūpes māsa | B189: 1 | C189: =D189+E189 -> 199 | D189: 151 | E189: 48 | G189: 7.76 | H189: =ROUND(G189*E189*2,2) -> 744.96 | I189: =ROUND(H189*1.2359,2) -> 920.7
A190: Anestēzijas, intensīvās un neatliekamās aprūpes māsa | B190: 1 | C190: =D190+E190 -> 168 | D190: 151 | E190: 17 | G190: 9.47 | H190: =ROUND(G190*E190*2,2) -> 321.98 | I190: =ROUND(H190*1.2359,2) -> 397.94
A191: Anestēzijas, intensīvās un neatliekamās aprūpes māsa | B191: 1 | C191: =D191+E191 -> 176 | D191: 151 | E191: 25 | G191: 7.76 | H191: =ROUND(G191*E191*2,2) -> 388 | I191: =ROUND(H191*1.2359,2) -> 479.53
A192: Anestēzijas, intensīvās un neatliekamās aprūpes māsa | B192: 1 | C192: =D192+E192 -> 168 | D192: 151 | E192: 17 | G192: 9.29 | H192: =ROUND(G192*E192*2,2) -> 315.86 | I192: =ROUND(H192*1.2359,2) -> 390.37
A193: Anestēzijas, intensīvās un neatliekamās aprūpes māsa | B193: 1 | C193: =D193+E193 -> 160 | D193: 151 | E193: 9 | G193: 9.38 | H193: =ROUND(G193*E193*2,2) -> 168.84 | I193: =ROUND(H193*1.2359,2) -> 208.67
A194: Anestēzijas, intensīvās un neatliekamās aprūpes māsa | B194: 1 | C194: =D194+E194 -> 192 | D194: 151 | E194: 41 | G194: 9.47 | H194: =ROUND(G194*E194*2,2) -> 776.54 | I194: =ROUND(H194*1.2359,2) -> 959.73
... A381: Vecmāte | B381: 1 | C381: =D381+E381 -> 152 | D381: 151 | E381: 1 | G381: 6.8 | H381: =ROUND(G381*E381*2,2) -> 13.6 | I381: =ROUND(H381*1.2359,2) -> 16.81
A382: Ārstniecības un pacientu aprūpes atbalsta personas, māsu palīgi, zobārstu asistenti, kopā, tai skaitā: | B382: =SUM(B383:B429) -> 47 | E382: =SUM(E383:E429) -> 756 | H382: =SUM(H383:H429) -> 7856.46 | I382: =SUM(I383:I429) -> 9709.83
A383: Māsas palīgs | B383: 1 | C383: =D383+E383 -> 185 | D383: 151 | E383: 34 | G383: 4.65 | H383: =ROUND(G383*E383*2,2) -> 316.2 | I383: =ROUND(H383*1.2359,2) -> 390.79
A384: Māsas palīgs | B384: 1 | C384: =D384+E384 -> 176 | D384: 151 | E384: 25 | G384: 4.65 | H384: =ROUND(G384*E384*2,2) -> 232.5 | I384: =ROUND(H384*1.2359,2) -> 287.35
A385: Māsas palīgs | B385: 1 | C385: =D385+E385 -> 163 | D385: 151 | E385: 12 | G385: 4.65 | H385: =ROUND(G385*E385*2,2) -> 111.6 | I385: =ROUND(H385*1.2359,2) -> 137.93
A386: Māsas palīgs | B386: 1 | C386: =D386+E386 -> 157 | D386: 151 | E386: 6 | G386: 4.65 | H386: =ROUND(G386*E386*2,2) -> 55.8 | I386: =ROUND(H386*1.2359,2) -> 68.96
A387: Māsas palīgs | B387: 1 | C387: =D387+E387 -> 164 | D387: 151 | E387: 13 | G387: 6.09 | H387: =ROUND(G387*E387*2,2) -> 158.34 | I387: =ROUND(H387*1.2359,2) -> 195.69
A388: Māsas palīgs | B388: 1 | C388: =D388+E388 -> 168 | D388: 151 | E388: 17 | G388: 6.18 | H388: =ROUND(G388*E388*2,2) -> 210.12 | I388: =ROUND(H388*1.2359,2) -> 259.69
A389: Māsas palīgs | B389: 1 | C389: =D389+E389 -> 183 | D389: 151 | E389: 32 | G389: 6.09 | H389: =ROUND(G389*E389*2,2) -> 389.76 | I389: =ROUND(H389*1.2359,2) -> 481.7
A390: Māsas palīgs | B390: 1 | C390: =D390+E390 -> 156 | D390: 151 | E390: 5 | G390: 4.72 | H390: =ROUND(G390*E390*2,2) -> 47.2 | I390: =ROUND(H390*1.2359,2) -> 58.33
A391: Māsas palīgs | B391: 1 | C391: =D391+E391 -> 175 | D391: 151 | E391: 24 | G391: 6.3 | H391: =ROUND(G391*E391*2,2) -> 302.4 | I391: =ROUND(H391*1.2359,2) -> 373.74
A392: Māsas palīgs | B392: 1 | C392: =D392+E392 -> 160 | D392: 151 | E392: 9 | G392: 6.18 | H392: =ROUND(G392*E392*2,2) -> 111.24 | I392: =ROUND(H392*1.2359,2) -> 137.48
A393: Māsas palīgs | B393: 1 | C393: =D393+E393 -> 152 | D393: 151 | E393: 1 | G393: 4.72 | H393: =ROUND(G393*E393*2,2) -> 9.44 | I393: =ROUND(H393*1.2359,2) -> 11.67
A394: Māsas palīgs | B394: 1 | C394: =D394+E394 -> 160 | D394: 151 | E394: 9 | G394: 6.09 | H394: =ROUND(G394*E394*2,2) -> 109.62 | I394: =ROUND(H394*1.2359,2) -> 135.48
... A429: Māsas palīgs neatliekamajā palīdzībā | B429: 1 | C429: =D429+E429 -> 179 | D429: 151 | E429: 28 | G429: 4.75 | H429: =ROUND(G429*E429*2,2) -> 266 | I429: =ROUND(H429*1.2359,2) -> 328.75
A430: Pārējie darbinieki, kuri tieši iesaistīti darbā ar Covid-19, kopā, tai skaitā: | B430: =SUM(B431:B541) -> 111 | E430: =SUM(E431:E541) -> 2005 | H430: =SUM(H431:H541) -> 20661.45 | I430: =SUM(I431:I541) -> 25535.43
A431: Atbildīgais sanitārs-transportētājs | B431: 1 | C431: =D431+E431 -> 184 | D431: 151 | E431: 33 | G431: 4.75 | H431: =ROUND(G431*E431*2,2) -> 313.5 | I431: =ROUND(H431*1.2359,2) -> 387.45
A432: Atbildīgais sanitārs-transportētājs | B432: 1 | C432: =D432+E432 -> 156 | D432: 151 | E432: 5 | G432: 4.75 | H432: =ROUND(G432*E432*2,2) -> 47.5 | I432: =ROUND(H432*1.2359,2) -> 58.71
A433: Atbildīgais sanitārs-transportētājs | B433: 1 | C433: =D433+E433 -> 159 | D433: 151 | E433: 8 | G433: 4.75 | H433: =ROUND(G433*E433*2,2) -> 76 | I433: =ROUND(H433*1.2359,2) -> 93.93
A434: Automobiļa vadītājs | B434: 1 | C434: =D434+E434 -> 189 | D434: 151 | E434: 38 | G434: 4.2 | H434: =ROUND(G434*E434*2,2) -> 319.2 | I434: =ROUND(H434*1.2359,2) -> 394.5
A435: Automobiļa vadītājs | B435: 1 | C435: =D435+E435 -> 168 | D435: 151 | E435: 17 | G435: 4.2 | H435: =ROUND(G435*E435*2,2) -> 142.8 | I435: =ROUND(H435*1.2359,2) -> 176.49
A436: Jaunākais māsas palīgs | B436: 1 | C436: =D436+E436 -> 180 | D436: 151 | E436: 29 | G436: 5.49 | H436: =ROUND(G436*E436*2,2) -> 318.42 | I436: =ROUND(H436*1.2359,2) -> 393.54
A437: Jaunākais māsas palīgs | B437: 1 | C437: =D437+E437 -> 167 | D437: 151 | E437: 16 | G437: 5.49 | H437: =ROUND(G437*E437*2,2) -> 175.68 | I437: =ROUND(H437*1.2359,2) -> 217.12
A438: Jaunākais māsas palīgs | B438: 1 | C438: =D438+E438 -> 171 | D438: 151 | E438: 20 | G438: 4.3 | H438: =ROUND(G438*E438*2,2) -> 172 | I438: =ROUND(H438*1.2359,2) -> 212.57
A439: Jaunākais māsas palīgs | B439: 1 | C439: =D439+E439 -> 167 | D439: 151 | E439: 16 | G439: 5.49 | H439: =ROUND(G439*E439*2,2) -> 175.68 | I439: =ROUND(H439*1.2359,2) -> 217.12
A440: Jaunākais māsas palīgs | B440: 1 | C440: =D440+E440 -> 183 | D440: 151 | E440: 32 | G440: 4.3 | H440: =ROUND(G440*E440*2,2) -> 275.2 | I440: =ROUND(H440*1.2359,2) -> 340.12
A441: Jaunākais māsas palīgs | B441: 1 | C441: =D441+E441 -> 180 | D441: 151 | E441: 29 | G441: 4.3 | H441: =ROUND(G441*E441*2,2) -> 249.4 | I441: =ROUND(H441*1.2359,2) -> 308.23
A442: Jaunākais māsas palīgs | B442: 1 | C442: =D442+E442 -> 159 | D442: 151 | E442: 8 | G442: 5.49 | H442: =ROUND(G442*E442*2,2) -> 87.84 | I442: =ROUND(H442*1.2359,2) -> 108.56
... A538: Vecākais klientu apkalpošanas speciālists NMC | B538: 1 | C538: =D538+E538 -> 156 | D538: 151 | E538: 5 | G538: 6.72 | H538: =ROUND(G538*E538*2,2) -> 67.2 | I538: =ROUND(H538*1.2359,2) -> 83.05
A539: Veselības aprūpes datu analītiķis | B539: 1 | C539: =D539+E539 -> 183 | D539: 151 | E539: 32 | F539: 1360 | G539: =ROUND(F539/D539,3) -> 9.007 | H539: =ROUND(G539*E539*2,2) -> 576.45 | I539: =ROUND(H539*1.2359,2) -> 712.43
A540: Vecākais veselības aprūpes datu analītiķis | B540: 1 | C540: =D540+E540 -> 159 | D540: 151 | E540: 8 | F540: 1500 | G540: =ROUND(F540/D540,3) -> 9.934 | H540: =ROUND(G540*E540*2,2) -> 158.94 | I540: =ROUND(H540*1.2359,2) -> 196.43
A541: Vecākais tehniskais darbinieks | B541: 1 | C541: =D541+E541 -> 173 | D541: 151 | E541: 22 | G541: 5.75 | H541: =ROUND(G541*E541*2,2) -> 253 | I541: =ROUND(H541*1.2359,2) -> 312.68

Sheet Daugavpils_reģ_janv
H1: 1.7.Pielikums
A2: Pārskats par darba veicējiem (ārstniecības personām), virs normālā darba laika nostrādātām stundām, apmaksājamām stundām un izdevumiem, kas radušies saistībā ar mērķi ierobežot Covid-19 izplatību
A4: Iestādes nosaukums: SIA "Daugavpils reģionālā slimnīca"
A5: Pārskata mēnesis: Janvāris
B7: Nodarbināto skaits mēnesī | C7: Apmaksājamais laiks mēnesī, stundas (tai skaitā summētā darba laika ietvaros) | F7: Mēnešalga no kuras rēķina stundas likmi | G7: Stundas likme (aprēķināta atbilstoši mēnešalgai vai darba līgumā noteiktā stundas likme) | H7: Apmaksājamā 100% piemaksa par nostrādātām virsstundām virs normālā darba laika (tai skaitā summētā darba laika ietvaros) | I7: Izdevumi par virsstundām kopā ar VSOAI, EUR
C8: Kopā | D8: līdz normālam darba laikam | E8: virsstundas - virs normālā darba laika, kas saistītas ar darbu ar Covid-19
A10: 1 | B10: 2 | C10: 3=4+5 | D10: 4 | E10: 5 | F10: 6 | G10: 7 | H10: 8 | I10: 9=8 +VSOAI
A11: KOPĀ | B11: =B12+B103+B109+B147+B159+B184+B201+B209 -> 217 | E11: =E12+E103+E109+E147+E159+E184+E201+E209 -> 7628.25 | H11: =H12+H103+H109+H147+H159+H184+H201+H209 -> 120936.67 | I11: =I12+I103+I109+I147+I159+I184+I201+I209 -> 149250.46
A12: Centrālā slimnīca "Uzņemšanas nodaļa" | B12: =B13+B49+B88 -> 87 | E12: =E13+E49+E88 -> 4191 | H12: =H13+H49+H88 -> 69963.05 | I12: =I13+I49+I88 -> 86320.9
A13: Ārsti, zobārsti un funkcionālie speciālisti, kopā, tai skaitā: | B13: =SUM(B14:B48) -> 35 | E13: =SUM(E14:E48) -> 2295 | H13: =SUM(H14:H48) -> 46939.19 | I13: =SUM(I14:I48) -> 57882.92
A14: Ārsts (dežūrslodze) | B14: 1 | C14: =D14+E14 -> 258.5 | D14: 168 | E14: 90.5 | F14: 1718.25 | G14: =F14/168 -> 10.227679 | H14: =ROUND(E14*G14*2,2) -> 1851.21 | I14: =ROUND(H14*1.2359,2) -> 2287.91
A15: Ārsts (dežūrslodze) | B15: 1 | C15: =D15+E15 -> 232 | D15: 168 | E15: 64 | F15: 1718.25 | G15: =F15/168 -> 10.227679 | H15: =ROUND(E15*G15*2,2) -> 1309.14 | I15: =ROUND(H15*1.2077,2) -> 1581.05
A16: Ārsts stažieris | B16: 1 | C16: =D16+E16 -> 280 | D16: 168 | E16: 112 | F16: 1718.25 | G16: =F16/168 -> 10.227679 | H16: =ROUND(E16*G16*2,2) -> 2291 | I16: =ROUND(H16*1.2359,2) -> 2831.45
A17: Ginekologs, dzemdību speciālists | B17: 1 | C17: =D17+E17 -> 216 | D17: 168 | E17: 48 | F17: 1718.25 | G17: =F17/168 -> 10.227679 | H17: =ROUND(E17*G17*2,2) -> 981.86 | I17: =ROUND(H17*1.2077,2) -> 1185.79
A18: Ginekologs, dzemdību speciālists | B18: 1 | C18: =D18+E18 -> 24 | D18: 16 | E18: 8 | F18: 1655.72 | G18: =F18/168 -> 9.8554762 | H18: =ROUND(E18*G18*2,2) -> 157.69 | I18: =ROUND(H18*1.2359,2) -> 194.89
A19: Bērnu ķirurgs | B19: 1 | C19: =D19+E19 -> 256 | D19: 168 | E19: 88 | F19: 1718.2536 | G19: =F19/168 -> 10.2277 | H19: =ROUND(E19*G19*2,2) -> 1800.08 | I19: =ROUND(H19*1.2359,2) -> 2224.72
A20: Internists | B20: 1 | C20: =D20+E20 -> 172 | D20: 168 | E20: 4 | F20: 1718.2536 | G20: =F20/168 -> 10.2277 | H20: =ROUND(E20*G20*2,2) -> 81.82 | I20: =ROUND(H20*1.2359,2) -> 101.12
A21: Internists | B21: 1 | C21: =D21+E21 -> 332 | D21: 168 | E21: 164 | F21: 1718.2536 | G21: =F21/168 -> 10.2277 | H21: =ROUND(E21*G21*2,2) -> 3354.69 | I21: =ROUND(H21*1.2359,2) -> 4146.06
A22: Internists | B22: 1 | C22: =D22+E22 -> 215 | D22: 147 | E22: 68 | F22: 1718.2536 | G22: =F22/168 -> 10.2277 | H22: =ROUND(E22*G22*2,2) -> 1390.97 | I22: =ROUND(H22*1.2359,2) -> 1719.1
A23: Kardiologs | B23: 1 | C23: =D23+E23 -> 184 | D23: 147 | E23: 37 | F23: 1718.2536 | G23: =F23/168 -> 10.2277 | H23: =ROUND(E23*G23*2,2) -> 756.85 | I23: =ROUND(H23*1.2359,2) -> 935.39
A24: Kardiologs | B24: 1 | C24: =D24+E24 -> 272 | D24: 168 | E24: 104 | F24: 1718.2536 | G24: =F24/168 -> 10.2277 | H24: =ROUND(E24*G24*2,2) -> 2127.36 | I24: =ROUND(H24*1.2359,2) -> 2629.2
A25: Kardiologs | B25: 1 | C25: =D25+E25 -> 259 | D25: 147 | E25: 112 | F25: 1718.2536 | G25: =F25/168 -> 10.2277 | H25: =ROUND(E25*G25*2,2) -> 2291 | I25: =ROUND(H25*1.2359,2) -> 2831.45
A26: Kardiologs | B26: 1 | C26: =D26+E26 -> 167 | D26: 160 | E26: 7 | F26: 1718.2536 | G26: =F26/168 -> 10.2277 | H26: =ROUND(E26*G26*2,2) -> 143.19 | I26: =ROUND(H26*1.2359,2) -> 176.97
A27: Kardiologs | B27: 1 | C27: =D27+E27 -> 240 | D27: 168 | E27: 72 | F27: 1718.2536 | G27: =F27/168 -> 10.2277 | H27: =ROUND(E27*G27*2,2) -> 1472.79 | I27: =ROUND(H27*1.2359,2) -> 1820.22
A28: Kardiologs | B28: 1 | C28: =D28+E28 -> 64 | D28: 40 | E28: 24 | F28: 1718.2536 | G28: =F28/168 -> 10.2277 | H28: =ROUND(E28*G28*2,2) -> 490.93 | I28: =ROUND(H28*1.2359,2) -> 606.74
A29: Kardiologs | B29: 1 | C29: =D29+E29 -> 200 | D29: 168 | E29: 32 | F29: 1718.2536 | G29: =F29/168 -> 10.2277 | H29: =ROUND(E29*G29*2,2) -> 654.57 | I29: =ROUND(H29*1.2359,2) -> 808.98
A30: Kardiologs | B30: 1 | C30: =D30+E30 -> 128 | D30: 112 | E30: 16 | F30: 1718.2536 | G30: =F30/168 -> 10.2277 | H30: =ROUND(E30*G30*2,2) -> 327.29 | I30: =ROUND(H30*1.2359,2) -> 404.5
A31: Ķirurgs | B31: 1 | C31: =D31+E31 -> 236 | D31: 168 | E31: 68 | F31: 1718.2536 | G31: =F31/168 -> 10.2277 | H31: =ROUND(E31*G31*2,2) -> 1390.97 | I31: =ROUND(H31*1.2077,2) -> 1679.87
A32: Ķirurgs | B32: 1 | C32: =D32+E32 -> 251 | D32: 147 | E32: 104 | F32: 1718.2536 | G32: =F32/168 -> 10.2277 | H32: =ROUND(E32*G32*2,2) -> 2127.36 | I32: =ROUND(H32*1.2359,2) -> 2629.2
A33: Ķirurgs | B33: 1 | C33: =D33+E33 -> 265.5 | D33: 168 | E33: 97.5 | F33: 1718.2536 | G33: =F33/168 -> 10.2277 | H33: =ROUND(E33*G33*2,2) -> 1994.4 | I33: =ROUND(H33*1.2359,2) -> 2464.88
A34: Ķirurgs | B34: 1 | C34: =D34+E34 -> 161.5 | D34: 120 | E34: 41.5 | F34: 1718.2536 | G34: =F34/168 -> 10.2277 | H34: =ROUND(E34*G34*2,2) -> 848.9 | I34: =ROUND(H34*1.2359,2) -> 1049.16
A35: Ķirurgs | B35: 1 | C35: =D35+E35 -> 202 | D35: 168 | E35: 34 | F35: 1718.2536 | G35: =F35/168 -> 10.2277 | H35: =ROUND(E35*G35*2,2) -> 695.48 | I35: =ROUND(H35*1.2359,2) -> 859.54
A36: Ķirurgs | B36: 1 | C36: =D36+E36 -> 240 | D36: 168 | E36: 72 | F36: 1718.2536 | G36: =F36/168 -> 10.2277 | H36: =ROUND(E36*G36*2,2) -> 1472.79 | I36: =ROUND(H36*1.2359,2) -> 1820.22
A37: Ķirurgs | B37: 1 | C37: =D37+E37 -> 208 | D37: 168 | E37: 40 | F37: 1718.2536 | G37: =F37/168 -> 10.2277 | H37: =ROUND(E37*G37*2,2) -> 818.22 | I37: =ROUND(H37*1.2359,2) -> 1011.24
A38: Neatliekamās medicīnas ārsts | B38: 1 | C38: =D38+E38 -> 80 | D38: 72 | E38: 8 | F38: 1718.2536 | G38: =F38/168 -> 10.2277 | H38: =ROUND(E38*G38*2,2) -> 163.64 | I38: =ROUND(H38*1.2359,2) -> 202.24
A39: Nefrologs | B39: 1 | C39: =D39+E39 -> 184 | D39: 168 | E39: 16 | F39: 1718.2536 | G39: =F39/168 -> 10.2277 | H39: =ROUND(E39*G39*2,2) -> 327.29 | I39: =ROUND(H39*1.2359,2) -> 404.5
A40: Pediatrs | B40: 1 | C40: =D40+E40 -> 296 | D40: 168 | E40: 128 | F40: 1718.2536 | G40: =F40/168 -> 10.2277 | H40: =ROUND(E40*G40*2,2) -> 2618.29 | I40: =ROUND(H40*1.2359,2) -> 3235.94
A41: Pediatrs | B41: 1 | C41: =D41+E41 -> 198 | D41: 152 | E41: 46 | F41: 1718.2536 | G41: =F41/168 -> 10.2277 | H41: =ROUND(E41*G41*2,2) -> 940.95 | I41: =ROUND(H41*1.2359,2) -> 1162.92
A42: Pediatrs | B42: 1 | C42: =D42+E42 -> 304 | D42: 168 | E42: 136 | F42: 1718.2536 | G42: =F42/168 -> 10.2277 | H42: =ROUND(E42*G42*2,2) -> 2781.93 | I42: =ROUND(H42*1.2359,2) -> 3438.19
A43: Pediatrs | B43: 1 | C43: =D43+E43 -> 212 | D43: 168 | E43: 44 | F43: 1718.2536 | G43: =F43/168 -> 10.2277 | H43: =ROUND(E43*G43*2,2) -> 900.04 | I43: =ROUND(H43*1.2077,2) -> 1086.98
A44: Pediatrs | B44: 1 | C44: =D44+E44 -> 280 | D44: 160 | E44: 120 | F44: 1718.2536 | G44: =F44/168 -> 10.2277 | H44: =ROUND(E44*G44*2,2) -> 2454.65 | I44: =ROUND(H44*1.2359,2) -> 3033.7
A45: Traumatologs - ortopēds | B45: 1 | C45: =D45+E45 -> 200 | D45: 168 | E45: 32 | F45: 1718.2536 | G45: =F45/168 -> 10.2277 | H45: =ROUND(E45*G45*2,2) -> 654.57 | I45: =ROUND(H45*1.2359,2) -> 808.98
A46: Traumatologs - ortopēds | B46: 1 | C46: =D46+E46 -> 212 | D46: 168 | E46: 44 | F46: 1718.2536 | G46: =F46/168 -> 10.2277 | H46: =ROUND(E46*G46*2,2) -> 900.04 | I46: =ROUND(H46*1.2359,2) -> 1112.36
A47: Traumatologs - ortopēds | B47: 1 | C47: =D47+E47 -> 260 | D47: 160 | E47: 100 | F47: 1718.2536 | G47: =F47/168 -> 10.2277 | H47: =ROUND(E47*G47*2,2) -> 2045.54 | I47: =ROUND(H47*1.2359,2) -> 2528.08
A48: Traumatologs - ortopēds | B48: 1 | C48: =D48+E48 -> 281.5 | D48: 168 | E48: 113.5 | F48: 1718.2536 | G48: =F48/168 -> 10.2277 | H48: =ROUND(E48*G48*2,2) -> 2321.69 | I48: =ROUND(H48*1.2359,2) -> 2869.38
A49: Ārstniecības un pacientu aprūpes personas un funkcionālo speciālistu asistenti, kopā, tai skaitā: | B49: =SUM(B50:B87) -> 38 | E49: =SUM(E50:E87) -> 1420 | H49: =SUM(H50:H87) -> 18608.28 | I49: =SUM(I50:I87) -> 22980.77
A50: Ārsta palīgs | B50: 1 | C50: =D50+E50 -> 108 | D50: 104 | E50: 4 | F50: 1368.61 | G50: =F50/168 -> 8.1464881 | H50: =ROUND(E50*G50*2,2) -> 65.17 | I50: =ROUND(H50*1.2359,2) -> 80.54
A51: Ārsta palīgs | B51: 1 | C51: =D51+E51 -> 172 | D51: 144 | E51: 28 | F51: 1368.61 | G51: =F51/168 -> 8.1464881 | H51: =ROUND(E51*G51*2,2) -> 456.2 | I51: =ROUND(H51*1.2359,2) -> 563.82
A52: Ārsta palīgs | B52: 1 | C52: =D52+E52 -> 218 | D52: 168 | E52: 50 | F52: 1368.61 | G52: =F52/168 -> 8.1464881 | H52: =ROUND(E52*G52*2,2) -> 814.65 | I52: =ROUND(H52*1.2359,2) -> 1006.83
A53: Ārsta palīgs | B53: 1 | C53: =D53+E53 -> 208 | D53: 168 | E53: 40 | F53: 1068.92 | G53: =F53/168 -> 6.362619 | H53: =ROUND(E53*G53*2,2) -> 509.01 | I53: =ROUND(H53*1.2359,2) -> 629.09
A54: Ārsta palīgs | B54: 1 | C54: =D54+E54 -> 160 | D54: 96 | E54: 64 | F54: 1068.92 | G54: =F54/168 -> 6.362619 | H54: =ROUND(E54*G54*2,2) -> 814.42 | I54: =ROUND(H54*1.2359,2) -> 1006.54
A55: Ārsta palīgs | B55: 1 | C55: =D55+E55 -> 220 | D55: 168 | E55: 52 | F55: 1068.92 | G55: =F55/168 -> 6.362619 | H55: =ROUND(E55*G55*2,2) -> 661.71 | I55: =ROUND(H55*1.2359,2) -> 817.81
A56: Ārsta palīgs | B56: 1 | C56: =D56+E56 -> 238 | D56: 168 | E56: 70 | F56: 1368.61 | G56: =F56/168 -> 8.1464881 | H56: =ROUND(E56*G56*2,2) -> 1140.51 | I56: =ROUND(H56*1.2359,2) -> 1409.56
A57: Internās aprūpes māsa | B57: 1 | C57: =D57+E57 -> 216 | D57: 168 | E57: 48 | F57: 1068.92 | G57: =F57/168 -> 6.362619 | H57: =ROUND(E57*G57*2,2) -> 610.81 | I57: =ROUND(H57*1.2077,2) -> 737.68
A58: Internās aprūpes māsa | B58: 1 | C58: =D58+E58 -> 264 | D58: 168 | E58: 96 | F58: 1068.92 | G58: =F58/168 -> 6.362619 | H58: =ROUND(E58*G58*2,2) -> 1221.62 | I58: =ROUND(H58*1.2359,2) -> 1509.8
A59: Internās aprūpes māsa | B59: 1 | C59: =D59+E59 -> 120 | D59: 88 | E59: 32 | F59: 1068.92 | G59: =F59/168 -> 6.362619 | H59: =ROUND(E59*G59*2,2) -> 407.21 | I59: =ROUND(H59*1.2359,2) -> 503.27
A60: Internās aprūpes māsa | B60: 1 | C60: =D60+E60 -> 176 | D60: 168 | E60: 8 | F60: 1068.92 | G60: =F60/168 -> 6.362619 | H60: =ROUND(E60*G60*2,2) -> 101.8 | I60: =ROUND(H60*1.2359,2) -> 125.81
A61: Internās aprūpes māsa | B61: 1 | C61: =D61+E61 -> 84 | D61: 56 | E61: 28 | F61: 1068.92 | G61: =F61/168 -> 6.362619 | H61: =ROUND(E61*G61*2,2) -> 356.31 | I61: =ROUND(H61*1.2359,2) -> 440.36
A62: Internās aprūpes māsa | B62: 1 | C62: =D62+E62 -> 152 | D62: 112 | E62: 40 | F62: 1068.92 | G62: =F62/168 -> 6.362619 | H62: =ROUND(E62*G62*2,2) -> 509.01 | I62: =ROUND(H62*1.2359,2) -> 629.09
A63: Internās aprūpes māsa | B63: 1 | C63: =D63+E63 -> 204 | D63: 168 | E63: 36 | F63: 1068.92 | G63: =F63/168 -> 6.362619 | H63: =ROUND(E63*G63*2,2) -> 458.11 | I63: =ROUND(H63*1.2359,2) -> 566.18
A64: Internās aprūpes māsa | B64: 1 | C64: =D64+E64 -> 192 | D64: 168 | E64: 24 | F64: 1068.92 | G64: =F64/168 -> 6.362619 | H64: =ROUND(E64*G64*2,2) -> 305.41 | I64: =ROUND(H64*1.2359,2) -> 377.46
A65: Internās aprūpes māsa | B65: 1 | C65: =D65+E65 -> 208 | D65: 168 | E65: 40 | F65: 1068.92 | G65: =F65/168 -> 6.362619 | H65: =ROUND(E65*G65*2,2) -> 509.01 | I65: =ROUND(H65*1.2359,2) -> 629.09
A66: Internās aprūpes māsa | B66: 1 | C66: =D66+E66 -> 168 | D66: 112 | E66: 56 | F66: 1062.77 | G66: =F66/168 -> 6.3260119 | H66: =ROUND(E66*G66*2,2) -> 708.51 | I66: =ROUND(H66*1.2359,2) -> 875.65
A67: Internās aprūpes māsa | B67: 1 | C67: =D67+E67 -> 184 | D67: 168 | E67: 16 | F67: 1068.92 | G67: =F67/168 -> 6.362619 | H67: =ROUND(E67*G67*2,2) -> 203.6 | I67: =ROUND(H67*1.2359,2) -> 251.63
A68: Internās aprūpes māsa | B68: 1 | C68: =D68+E68 -> 204 | D68: 168 | E68: 36 | F68: 1068.92 | G68: =F68/168 -> 6.362619 | H68: =ROUND(E68*G68*2,2) -> 458.11 | I68: =ROUND(H68*1.2359,2) -> 566.18
A69: Internās aprūpes māsa | B69: 1 | C69: =D69+E69 -> 228 | D69: 168 | E69: 60 | F69: 1068.92 | G69: =F69/168 -> 6.362619 | H69: =ROUND(E69*G69*2,2) -> 763.51 | I69: =ROUND(H69*1.2359,2) -> 943.62
... A87: Medicīnas māsa | B87: 1 | C87: =D87+E87 -> 212 | D87: 168 | E87: 44 | F87: 1068.92 | G87: =F87/168 -> 6.362619 | H87: =ROUND(E87*G87*2,2) -> 559.91 | I87: =ROUND(H87*1.2359,2) -> 691.99
A88: Ārstniecības un pacientu aprūpes atbalsta personas, māsu palīgi, zobārstu asistenti, kopā, tai skaitā: | B88: =SUM(B89:B102) -> 14 | E88: =SUM(E89:E102) -> 476 | H88: =SUM(H89:H102) -> 4415.58 | I88: =SUM(I89:I102) -> 5457.21
A89: Māsas palīgs | B89: 1 | C89: =D89+E89 -> 204 | D89: 168 | E89: 36 | F89: 779.22 | G89: =F89/168 -> 4.6382143 | H89: =ROUND(E89*G89*2,2) -> 333.95 | I89: =ROUND(H89*1.2359,2) -> 412.73
A90: Māsas palīgs | B90: 1 | C90: =D90+E90 -> 220 | D90: 168 | E90: 52 | F90: 779.22 | G90: =F90/168 -> 4.6382143 | H90: =ROUND(E90*G90*2,2) -> 482.37 | I90: =ROUND(H90*1.2359,2) -> 596.16
A91: Māsas palīgs | B91: 1 | C91: =D91+E91 -> 120 | D91: 112 | E91: 8 | F91: 779.22 | G91: =F91/168 -> 4.6382143 | H91: =ROUND(E91*G91*2,2) -> 74.21 | I91: =ROUND(H91*1.2359,2) -> 91.72
A92: Māsas palīgs | B92: 1 | C92: =D92+E92 -> 184 | D92: 168 | E92: 16 | F92: 779.22 | G92: =F92/168 -> 4.6382143 | H92: =ROUND(E92*G92*2,2) -> 148.42 | I92: =ROUND(H92*1.2359,2) -> 183.43
A93: Māsas palīgs | B93: 1 | C93: =D93+E93 -> 96 | D93: 88 | E93: 8 | F93: 779.22 | G93: =F93/168 -> 4.6382143 | H93: =ROUND(E93*G93*2,2) -> 74.21 | I93: =ROUND(H93*1.2359,2) -> 91.72
A94: Māsas palīgs | B94: 1 | C94: =D94+E94 -> 226 | D94: 168 | E94: 58 | F94: 779.22 | G94: =F94/168 -> 4.6382143 | H94: =ROUND(E94*G94*2,2) -> 538.03 | I94: =ROUND(H94*1.2359,2) -> 664.95
A95: Māsas palīgs | B95: 1 | C95: =D95+E95 -> 60 | D95: 56 | E95: 4 | F95: 779.22 | G95: =F95/168 -> 4.6382143 | H95: =ROUND(E95*G95*2,2) -> 37.11 | I95: =ROUND(H95*1.2359,2) -> 45.86
A96: Māsas palīgs | B96: 1 | C96: =D96+E96 -> 164 | D96: 152 | E96: 12 | F96: 779.22 | G96: =F96/168 -> 4.6382143 | H96: =ROUND(E96*G96*2,2) -> 111.32 | I96: =ROUND(H96*1.2359,2) -> 137.58
A97: Māsas palīgs | B97: 1 | C97: =D97+E97 -> 212 | D97: 168 | E97: 44 | F97: 779.22 | G97: =F97/168 -> 4.6382143 | H97: =ROUND(E97*G97*2,2) -> 408.16 | I97: =ROUND(H97*1.2359,2) -> 504.44
A98: Māsas palīgs | B98: 1 | C98: =D98+E98 -> 208 | D98: 168 | E98: 40 | F98: 779.22 | G98: =F98/168 -> 4.6382143 | H98: =ROUND(E98*G98*2,2) -> 371.06 | I98: =ROUND(H98*1.2359,2) -> 458.59
A99: Māsas palīgs | B99: 1 | C99: =D99+E99 -> 202 | D99: 168 | E99: 34 | F99: 779.22 | G99: =F99/168 -> 4.6382143 | H99: =ROUND(E99*G99*2,2) -> 315.4 | I99: =ROUND(H99*1.2359,2) -> 389.8
A100: Māsas palīgs | B100: 1 | C100: =D100+E100 -> 236 | D100: 168 | E100: 68 | F100: 779.22 | G100: =F100/168 -> 4.6382143 | H100: =ROUND(E100*G100*2,2) -> 630.8 | I100: =ROUND(H100*1.2359,2) -> 779.61
... A102: Māsas palīgs | B102: 1 | C102: =D102+E102 -> 200 | D102: 152 | E102: 48 | F102: 779.22 | G102: =F102/168 -> 4.6382143 | H102: =ROUND(E102*G102*2,2) -> 445.27 | I102: =ROUND(H102*1.2359,2) -> 550.31
A103: "Plaušu slimību un tuberkulozes centrs " Uzņemšanas nodaļa, Covid 19 nodaļa | B103: =B104 -> 4 | E103: =E104 -> 278 | H103: =H104 -> 6502.02 | I103: =I104 -> 8035.84
A104: Ārsti, zobārsti un funkcionālie speciālisti, kopā, tai skaitā: | B104: =SUM(B105:B108) -> 4 | E104: =SUM(E105:E108) -> 278 | H104: =SUM(H105:H108) -> 6502.02 | I104: =SUM(I105:I108) -> 8035.84
A105: Pneimonologs | B105: 1 | C105: =D105+E105 -> 144 | D105: 112 | E105: 32 | F105: 1964.64 | G105: =F105/168 -> 11.694286 | H105: =ROUND(E105*G105*2,2) -> 748.43 | I105: =ROUND(H105*1.2359,2) -> 924.98
A106: Neatliekamās medicīnas ārsts | B106: 1 | C106: =D106+E106 -> 88 | D106: 72 | E106: 16 | F106: 1964.64 | G106: =F106/168 -> 11.694286 | H106: =ROUND(E106*G106*2,2) -> 374.22 | I106: =ROUND(H106*1.2359,2) -> 462.5
A107: Narkologs | B107: 1 | C107: =D107+E107 -> 246 | D107: 168 | E107: 78 | F107: 1964.64 | G107: =F107/168 -> 11.694286 | H107: =ROUND(E107*G107*2,2) -> 1824.31 | I107: =ROUND(H107*1.2359,2) -> 2254.66
A108: Infektologs | B108: 1 | C108: =D108+E108 -> 299 | D108: 147 | E108: 152 | F108: 1964.64 | G108: =F108/168 -> 11.694286 | H108: =ROUND(E108*G108*2,2) -> 3555.06 | I108: =ROUND(H108*1.2359,2) -> 4393.7
A109: "Plaušu slimību un tuberkulozes centrs" Infekcijas nodaļa - Covid19 nodaļa | B109: =B110+B128 -> 35 | E109: =E110+E128 -> 694 | H109: =H110+H128 -> 8234.61 | I109: =I110+I128 -> 10159.38
A110: Ārstniecības un pacientu aprūpes personas un funkcionālo speciālistu asistenti, kopā, tai skaitā: | B110: =SUM(B111:B127) -> 17 | E110: =SUM(E111:E127) -> 293 | H110: =SUM(H111:H127) -> 4090.45 | I110: =SUM(I111:I127) -> 5055.41
A111: Internās aprūpes māsa | B111: 1 | C111: =D111+E111 -> 144 | D111: 140 | E111: 4 | F111: 1049.43 | G111: =F111/147 -> 7.1389796 | H111: =ROUND(E111*G111*2,2) -> 57.11 | I111: =ROUND(H111*1.2359,2) -> 70.58
A112: Internās aprūpes māsa | B112: 1 | C112: =D112+E112 -> 152 | D112: 147 | E112: 5 | F112: 1049.43 | G112: =F112/147 -> 7.1389796 | H112: =ROUND(E112*G112*2,2) -> 71.39 | I112: =ROUND(H112*1.2359,2) -> 88.23
A113: Internās aprūpes māsa | B113: 1 | C113: =D113+E113 -> 160 | D113: 147 | E113: 13 | F113: 1049.43 | G113: =F113/147 -> 7.1389796 | H113: =ROUND(E113*G113*2,2) -> 185.61 | I113: =ROUND(H113*1.2359,2) -> 229.4
A114: Internās aprūpes māsa | B114: 1 | C114: =D114+E114 -> 152 | D114: 147 | E114: 5 | F114: 1049.43 | G114: =F114/147 -> 7.1389796 | H114: =ROUND(E114*G114*2,2) -> 71.39 | I114: =ROUND(H114*1.2359,2) -> 88.23
A115: Internās aprūpes māsa | B115: 1 | C115: =D115+E115 -> 80 | D115: 70 | E115: 10 | F115: 1049.43 | G115: =F115/147 -> 7.1389796 | H115: =ROUND(E115*G115*2,2) -> 142.78 | I115: =ROUND(H115*1.2359,2) -> 176.46
A116: Internās aprūpes māsa | B116: 1 | C116: =D116+E116 -> 171 | D116: 147 | E116: 24 | F116: 1049.43 | G116: =F116/147 -> 7.1389796 | H116: =ROUND(E116*G116*2,2) -> 342.67 | I116: =ROUND(H116*1.2359,2) -> 423.51
A117: Internās aprūpes māsa | B117: 1 | C117: =D117+E117 -> 171 | D117: 147 | E117: 24 | F117: 1049.43 | G117: =F117/147 -> 7.1389796 | H117: =ROUND(E117*G117*2,2) -> 342.67 | I117: =ROUND(H117*1.2359,2) -> 423.51
A118: Internās aprūpes māsa | B118: 1 | C118: =D118+E118 -> 160 | D118: 147 | E118: 13 | F118: 1049.43 | G118: =F118/147 -> 7.1389796 | H118: =ROUND(E118*G118*2,2) -> 185.61 | I118: =ROUND(H118*1.2359,2) -> 229.4
A119: Internās aprūpes māsa | B119: 1 | C119: =D119+E119 -> 164 | D119: 147 | E119: 17 | F119: 1050 | G119: =F119/147 -> 7.1428571 | H119: =ROUND(E119*G119*2,2) -> 242.86 | I119: =ROUND(H119*1.2359,2) -> 300.15
A120: Internās aprūpes māsa | B120: 1 | C120: =D120+E120 -> 128 | D120: 126 | E120: 2 | F120: 1049.43 | G120: =F120/147 -> 7.1389796 | H120: =ROUND(E120*G120*2,2) -> 28.56 | I120: =ROUND(H120*1.2359,2) -> 35.3
A121: Internās aprūpes māsa | B121: 1 | C121: =D121+E121 -> 168 | D121: 147 | E121: 21 | F121: 1049.43 | G121: =F121/147 -> 7.1389796 | H121: =ROUND(E121*G121*2,2) -> 299.84 | I121: =ROUND(H121*1.2359,2) -> 370.57
...

Sheet Daugavpils_reģ_feb
H1: 1.8.Pielikums
A2: Pārskats par darba veicējiem (ārstniecības personām), virs normālā darba laika nostrādātām stundām, apmaksājamām stundām un izdevumiem, kas radušies saistībā ar mērķi ierobežot Covid-19 izplatību
A4: Iestādes nosaukums: SIA "Daugavpils reģionālā slimnīca"
A5: Pārskata mēnesis: Februāris
B7: Nodarbināto skaits mēnesī | C7: Apmaksājamais laiks mēnesī, stundas (tai skaitā summētā darba laika ietvaros) | F7: Mēnešalga no kuras rēķina stundas likmi | G7: Stundas likme (aprēķināta atbilstoši mēnešalgai vai darba līgumā noteiktā stundas likme) | H7: Apmaksājamā 100% piemaksa par nostrādātām virsstundām virs normālā darba laika (tai skaitā summētā darba laika ietvaros) | I7: Izdevumi par virsstundām kopā ar VSOAI, EUR
C8: Kopā | D8: līdz normālam darba laikam | E8: virsstundas - virs normālā darba laika, kas saistītas ar darbu ar Covid-19
A10: 1 | B10: 2 | C10: 3=4+5 | D10: 4 | E10: 5 | F10: 6 | G10: 7 | H10: 8 | I10: 9=8 +VSOAI
A11: KOPĀ | B11: =B12+B103+B114+B171+B182+B210+B215+B234+B237 -> 237 | E11: =E12+E103+E114+E171+E182+E210+E215+E234+E237 -> 7591.5 | H11: =H12+H103+H114+H171+H182+H210+H215+H234+H237 -> 121110.35 | I11: =I12+I103+I114+I171+I182+I210+I215+I234+I237 -> 149468.61
A12: Centrālā slimnīca "Uzņemšanas nodaļa" | B12: =B13+B48+B89 -> 87 | E12: =E13+E48+E89 -> 3979 | H12: =H13+H48+H89 -> 66370.5 | I12: =I13+I48+I89 -> 81882.46
A13: Ārsti, zobārsti un funkcionālie speciālisti, kopā, tai skaitā: | B13: =SUM(B14:B47) -> 34 | E13: =SUM(E14:E47) -> 2177.5 | H13: =SUM(H14:H47) -> 44541.6 | I13: =SUM(I14:I47) -> 54904.17
A14: Ārsts (dežūrslodze) | B14: 1 | C14: =D14+E14 -> 192.5 | D14: 160 | E14: 32.5 | F14: 1636.43 | G14: =F14/160 -> 10.227688 | H14: =ROUND(E14*G14*2,2) -> 664.8 | I14: =ROUND(H14*1.2359,2) -> 821.63
A15: Ārsts (dežūrslodze) | B15: 1 | C15: =D15+E15 -> 240 | D15: 152 | E15: 88 | F15: 1636.43 | G15: =F15/160 -> 10.227688 | H15: =ROUND(E15*G15*2,2) -> 1800.07 | I15: =ROUND(H15*1.2077,2) -> 2173.94
A16: Ginekologs, dzemdību speciālists | B16: 1 | C16: =D16+E16 -> 168 | D16: 160 | E16: 8 | F16: 1636.43 | G16: =F16/160 -> 10.227688 | H16: =ROUND(E16*G16*2,2) -> 163.64 | I16: =ROUND(H16*1.2077,2) -> 197.63
A17: Ginekologs, dzemdību speciālists | B17: 1 | C17: =D17+E17 -> 168 | D17: 144 | E17: 24 | F17: 1636.43 | G17: =F17/160 -> 10.227688 | H17: =ROUND(E17*G17*2,2) -> 490.93 | I17: =ROUND(H17*1.2359,2) -> 606.74
A18: Bērnu ķirurgs | B18: 1 | C18: =D18+E18 -> 80 | D18: 64 | E18: 16 | F18: 1636.43 | G18: =F18/160 -> 10.227688 | H18: =ROUND(E18*G18*2,2) -> 327.29 | I18: =ROUND(H18*1.2359,2) -> 404.5
A19: Internists | B19: 1 | C19: =D19+E19 -> 256 | D19: 152 | E19: 104 | F19: 1636.43 | G19: =F19/160 -> 10.227688 | H19: =ROUND(E19*G19*2,2) -> 2127.36 | I19: =ROUND(H19*1.2359,2) -> 2629.2
A20: Kardiologs | B20: 1 | C20: =D20+E20 -> 164 | D20: 140 | E20: 24 | F20: 1636.43 | G20: =F20/160 -> 10.227688 | H20: =ROUND(E20*G20*2,2) -> 490.93 | I20: =ROUND(H20*1.2359,2) -> 606.74
A21: Kardiologs | B21: 1 | C21: =D21+E21 -> 168 | D21: 96 | E21: 72 | F21: 1636.43 | G21: =F21/160 -> 10.227688 | H21: =ROUND(E21*G21*2,2) -> 1472.79 | I21: =ROUND(H21*1.2359,2) -> 1820.22
A22: Kardiologs | B22: 1 | C22: =D22+E22 -> 180 | D22: 140 | E22: 40 | F22: 1636.43 | G22: =F22/160 -> 10.227688 | H22: =ROUND(E22*G22*2,2) -> 818.22 | I22: =ROUND(H22*1.2359,2) -> 1011.24
A23: Kardiologs | B23: 1 | C23: =D23+E23 -> 247 | D23: 160 | E23: 87 | F23: 1636.43 | G23: =F23/160 -> 10.227688 | H23: =ROUND(E23*G23*2,2) -> 1779.62 | I23: =ROUND(H23*1.2359,2) -> 2199.43
A24: Kardiologs | B24: 1 | C24: =D24+E24 -> 207 | D24: 160 | E24: 47 | F24: 1636.43 | G24: =F24/160 -> 10.227688 | H24: =ROUND(E24*G24*2,2) -> 961.4 | I24: =ROUND(H24*1.2359,2) -> 1188.19
A25: Ķirurgs | B25: 1 | C25: =D25+E25 -> 171 | D25: 120 | E25: 51 | F25: 1636.43 | G25: =F25/160 -> 10.227688 | H25: =ROUND(E25*G25*2,2) -> 1043.22 | I25: =ROUND(H25*1.2077,2) -> 1259.9
A26: Ķirurgs | B26: 1 | C26: =D26+E26 -> 268 | D26: 133 | E26: 135 | F26: 1636.43 | G26: =F26/160 -> 10.227688 | H26: =ROUND(E26*G26*2,2) -> 2761.48 | I26: =ROUND(H26*1.2359,2) -> 3412.91
A27: Ķirurgs | B27: 1 | C27: =D27+E27 -> 250 | D27: 160 | E27: 90 | F27: 1636.43 | G27: =F27/160 -> 10.227688 | H27: =ROUND(E27*G27*2,2) -> 1840.98 | I27: =ROUND(H27*1.2359,2) -> 2275.27
A28: Ķirurgs | B28: 1 | C28: =D28+E28 -> 226 | D28: 160 | E28: 66 | F28: 1636.43 | G28: =F28/160 -> 10.227688 | H28: =ROUND(E28*G28*2,2) -> 1350.05 | I28: =ROUND(H28*1.2359,2) -> 1668.53
A29: Ķirurgs | B29: 1 | C29: =D29+E29 -> 136 | D29: 120 | E29: 16 | F29: 1636.43 | G29: =F29/160 -> 10.227688 | H29: =ROUND(E29*G29*2,2) -> 327.29 | I29: =ROUND(H29*1.2359,2) -> 404.5
A30: Ķirurgs | B30: 1 | C30: =D30+E30 -> 168 | D30: 120 | E30: 48 | F30: 1636.43 | G30: =F30/160 -> 10.227688 | H30: =ROUND(E30*G30*2,2) -> 981.86 | I30: =ROUND(H30*1.2359,2) -> 1213.48
A31: Ķirurgs | B31: 1 | C31: =D31+E31 -> 219 | D31: 160 | E31: 59 | F31: 1636.43 | G31: =F31/160 -> 10.227688 | H31: =ROUND(E31*G31*2,2) -> 1206.87 | I31: =ROUND(H31*1.2359,2) -> 1491.57
A32: Neatliekamās medicīnas ārsts | B32: 1 | C32: =D32+E32 -> 168 | D32: 160 | E32: 8 | F32: 1636.43 | G32: =F32/160 -> 10.227688 | H32: =ROUND(E32*G32*2,2) -> 163.64 | I32: =ROUND(H32*1.2359,2) -> 202.24
A33: Neatliekamās medicīnas ārsts | B33: 1 | C33: =D33+E33 -> 168 | D33: 160 | E33: 8 | F33: 1636.43 | G33: =F33/160 -> 10.227688 | H33: =ROUND(E33*G33*2,2) -> 163.64 | I33: =ROUND(H33*1.2359,2) -> 202.24
A34: Pediatrs | B34: 1 | C34: =D34+E34 -> 160 | D34: 88 | E34: 72 | F34: 1636.43 | G34: =F34/160 -> 10.227688 | H34: =ROUND(E34*G34*2,2) -> 1472.79 | I34: =ROUND(H34*1.2359,2) -> 1820.22
A35: Pediatrs | B35: 1 | C35: =D35+E35 -> 120 | D35: 72 | E35: 48 | F35: 1636.43 | G35: =F35/160 -> 10.227688 | H35: =ROUND(E35*G35*2,2) -> 981.86 | I35: =ROUND(H35*1.2359,2) -> 1213.48
A36: Pediatrs | B36: 1 | C36: =D36+E36 -> 309 | D36: 160 | E36: 149 | F36: 1636.43 | G36: =F36/160 -> 10.227688 | H36: =ROUND(E36*G36*2,2) -> 3047.85 | I36: =ROUND(H36*1.2359,2) -> 3766.84
A37: Pediatrs | B37: 1 | C37: =D37+E37 -> 216 | D37: 160 | E37: 56 | F37: 1636.43 | G37: =F37/160 -> 10.227688 | H37: =ROUND(E37*G37*2,2) -> 1145.5 | I37: =ROUND(H37*1.2359,2) -> 1415.72
A38: Pediatrs | B38: 1 | C38: =D38+E38 -> 195 | D38: 120 | E38: 75 | F38: 1636.43 | G38: =F38/160 -> 10.227688 | H38: =ROUND(E38*G38*2,2) -> 1534.15 | I38: =ROUND(H38*1.2359,2) -> 1896.06
A39: Pediatrs | B39: 1 | C39: =D39+E39 -> 264 | D39: 160 | E39: 104 | F39: 1636.43 | G39: =F39/160 -> 10.227688 | H39: =ROUND(E39*G39*2,2) -> 2127.36 | I39: =ROUND(H39*1.2077,2) -> 2569.21
A40: Rezidents | B40: 1 | C40: =D40+E40 -> 200 | D40: 80 | E40: 120 | F40: 1636.43 | G40: =F40/160 -> 10.227688 | H40: =ROUND(E40*G40*2,2) -> 2454.65 | I40: =ROUND(H40*1.2359,2) -> 3033.7
A41: Rezidents | B41: 1 | C41: =D41+E41 -> 176 | D41: 160 | E41: 16 | F41: 1636.43 | G41: =F41/160 -> 10.227688 | H41: =ROUND(E41*G41*2,2) -> 327.29 | I41: =ROUND(H41*1.2359,2) -> 404.5
A42: Rezidents | B42: 1 | C42: =D42+E42 -> 189 | D42: 152 | E42: 37 | F42: 1636.43 | G42: =F42/160 -> 10.227688 | H42: =ROUND(E42*G42*2,2) -> 756.85 | I42: =ROUND(H42*1.2359,2) -> 935.39
A43: Rezidents | B43: 1 | C43: =D43+E43 -> 349 | D43: 160 | E43: 189 | F43: 1636.43 | G43: =F43/160 -> 10.227688 | H43: =ROUND(E43*G43*2,2) -> 3866.07 | I43: =ROUND(H43*1.2359,2) -> 4778.08
A44: Rezidents | B44: 1 | C44: =D44+E44 -> 197 | D44: 160 | E44: 37 | F44: 1636.43 | G44: =F44/160 -> 10.227688 | H44: =ROUND(E44*G44*2,2) -> 756.85 | I44: =ROUND(H44*1.2359,2) -> 935.39
A45: Traumatologs - ortopēds | B45: 1 | C45: =D45+E45 -> 192 | D45: 160 | E45: 32 | F45: 1636.43 | G45: =F45/160 -> 10.227688 | H45: =ROUND(E45*G45*2,2) -> 654.57 | I45: =ROUND(H45*1.2359,2) -> 808.98
A46: Traumatologs - ortopēds | B46: 1 | C46: =D46+E46 -> 177.5 | D46: 104 | E46: 73.5 | F46: 1636.43 | G46: =F46/160 -> 10.227688 | H46: =ROUND(E46*G46*2,2) -> 1503.47 | I46: =ROUND(H46*1.2359,2) -> 1858.14
A47: Traumatologs - ortopēds | B47: 1 | C47: =D47+E47 -> 305.5 | D47: 160 | E47: 145.5 | F47: 1636.43 | G47: =F47/160 -> 10.227688 | H47: =ROUND(E47*G47*2,2) -> 2976.26 | I47: =ROUND(H47*1.2359,2) -> 3678.36
A48: Ārstniecības un pacientu aprūpes personas un funkcionālo speciālistu asistenti, kopā, tai skaitā: | B48: =SUM(B49:B88) -> 40 | E48: =SUM(E49:E88) -> 1329.5 | H48: =SUM(H49:H88) -> 17450.46 | I48: =SUM(I49:I88) -> 21566.99
A49: Ārsta palīgs | B49: 1 | C49: =D49+E49 -> 50 | D49: 40 | E49: 10 | F49: 1303.44 | G49: =F49/160 -> 8.1465 | H49: =ROUND(E49*G49*2,2) -> 162.93 | I49: =ROUND(H49*1.2359,2) -> 201.37
A50: Ārsta palīgs | B50: 1 | C50: =D50+E50 -> 223 | D50: 152 | E50: 71 | F50: 1303.44 | G50: =F50/160 -> 8.1465 | H50: =ROUND(E50*G50*2,2) -> 1156.8 | I50: =ROUND(H50*1.2359,2) -> 1429.69
A51: Ārsta palīgs | B51: 1 | C51: =D51+E51 -> 182.5 | D51: 160 | E51: 22.5 | F51: 1303.44 | G51: =F51/160 -> 8.1465 | H51: =ROUND(E51*G51*2,2) -> 366.59 | I51: =ROUND(H51*1.2359,2) -> 453.07
A52: Ārsta palīgs | B52: 1 | C52: =D52+E52 -> 120 | D52: 96 | E52: 24 | F52: 1018.02 | G52: =F52/160 -> 6.362625 | H52: =ROUND(E52*G52*2,2) -> 305.41 | I52: =ROUND(H52*1.2359,2) -> 377.46
A53: Ārsta palīgs | B53: 1 | C53: =D53+E53 -> 156 | D53: 112 | E53: 44 | F53: 1018.02 | G53: =F53/160 -> 6.362625 | H53: =ROUND(E53*G53*2,2) -> 559.91 | I53: =ROUND(H53*1.2359,2) -> 691.99
A54: Ārsta palīgs | B54: 1 | C54: =D54+E54 -> 220 | D54: 160 | E54: 60 | F54: 1018.02 | G54: =F54/160 -> 6.362625 | H54: =ROUND(E54*G54*2,2) -> 763.52 | I54: =ROUND(H54*1.2359,2) -> 943.63
A55: Ārsta palīgs | B55: 1 | C55: =D55+E55 -> 164 | D55: 128 | E55: 36 | F55: 1018.02 | G55: =F55/160 -> 6.362625 | H55: =ROUND(E55*G55*2,2) -> 458.11 | I55: =ROUND(H55*1.2359,2) -> 566.18
A56: Ārsta palīgs | B56: 1 | C56: =D56+E56 -> 96 | D56: 56 | E56: 40 | F56: 1303.44 | G56: =F56/160 -> 8.1465 | H56: =ROUND(E56*G56*2,2) -> 651.72 | I56: =ROUND(H56*1.2359,2) -> 805.46
A57: Internās aprūpes māsa | B57: 1 | C57: =D57+E57 -> 196 | D57: 160 | E57: 36 | F57: 1018.02 | G57: =F57/160 -> 6.362625 | H57: =ROUND(E57*G57*2,2) -> 458.11 | I57: =ROUND(H57*1.2359,2) -> 566.18
A58: Internās aprūpes māsa | B58: 1 | C58: =D58+E58 -> 168 | D58: 104 | E58: 64 | F58: 1018.02 | G58: =F58/160 -> 6.362625 | H58: =ROUND(E58*G58*2,2) -> 814.42 | I58: =ROUND(H58*1.2359,2) -> 1006.54
A59: Internās aprūpes māsa | B59: 1 | C59: =D59+E59 -> 209 | D59: 160 | E59: 49 | F59: 1018.02 | G59: =F59/160 -> 6.362625 | H59: =ROUND(E59*G59*2,2) -> 623.54 | I59: =ROUND(H59*1.2359,2) -> 770.63
A60: Internās aprūpes māsa | B60: 1 | C60: =D60+E60 -> 144 | D60: 120 | E60: 24 | F60: 1018.02 | G60: =F60/160 -> 6.362625 | H60: =ROUND(E60*G60*2,2) -> 305.41 | I60: =ROUND(H60*1.2359,2) -> 377.46
... A88: Operāciju māsa | B88: 1 | C88: =D88+E88 -> 192 | D88: 160 | E88: 32 | F88: 1018.02 | G88: =F88/160 -> 6.362625 | H88: =ROUND(E88*G88*2,2) -> 407.21 | I88: =ROUND(H88*1.2359,2) -> 503.27
A89: Ārstniecības un pacientu aprūpes atbalsta personas, māsu palīgi, zobārstu asistenti, kopā, tai skaitā: | B89: =SUM(B90:B102) -> 13 | E89: =SUM(E90:E102) -> 472 | H89: =SUM(H90:H102) -> 4378.44 | I89: =SUM(I90:I102) -> 5411.3
A90: Māsas palīgs | B90: 1 | C90: =D90+E90 -> 204 | D90: 160 | E90: 44 | F90: 742.11 | G90: =F90/160 -> 4.6381875 | H90: =ROUND(E90*G90*2,2) -> 408.16 | I90: =ROUND(H90*1.2359,2) -> 504.44
A91: Māsas palīgs | B91: 1 | C91: =D91+E91 -> 180 | D91: 160 | E91: 20 | F91: 742.11 | G91: =F91/160 -> 4.6381875 | H91: =ROUND(E91*G91*2,2) -> 185.53 | I91: =ROUND(H91*1.2359,2) -> 229.3
A92: Māsas palīgs | B92: 1 | C92: =D92+E92 -> 132 | D92: 120 | E92: 12 | F92: 742.11 | G92: =F92/160 -> 4.6381875 | H92: =ROUND(E92*G92*2,2) -> 111.32 | I92: =ROUND(H92*1.2359,2) -> 137.58
A93: Māsas palīgs | B93: 1 | C93: =D93+E93 -> 92 | D93: 80 | E93: 12 | F93: 742.11 | G93: =F93/160 -> 4.6381875 | H93: =ROUND(E93*G93*2,2) -> 111.32 | I93: =ROUND(H93*1.2359,2) -> 137.58
A94: Māsas palīgs | B94: 1 | C94: =D94+E94 -> 120 | D94: 96 | E94: 24 | F94: 742.11 | G94: =F94/160 -> 4.6381875 | H94: =ROUND(E94*G94*2,2) -> 222.63 | I94: =ROUND(H94*1.2359,2) -> 275.15
A95: Māsas palīgs | B95: 1 | C95: =D95+E95 -> 216 | D95: 144 | E95: 72 | F95: 742.11 | G95: =F95/160 -> 4.6381875 | H95: =ROUND(E95*G95*2,2) -> 667.9 | I95: =ROUND(H95*1.2359,2) -> 825.46
A96: Māsas palīgs | B96: 1 | C96: =D96+E96 -> 228 | D96: 160 | E96: 68 | F96: 742.11 | G96: =F96/160 -> 4.6381875 | H96: =ROUND(E96*G96*2,2) -> 630.79 | I96: =ROUND(H96*1.2359,2) -> 779.59
A97: Māsas palīgs | B97: 1 | C97: =D97+E97 -> 144 | D97: 120 | E97: 24 | F97: 742.11 | G97: =F97/160 -> 4.6381875 | H97: =ROUND(E97*G97*2,2) -> 222.63 | I97: =ROUND(H97*1.2359,2) -> 275.15
A98: Māsas palīgs | B98: 1 | C98: =D98+E98 -> 192 | D98: 160 | E98: 32 | F98: 742.11 | G98: =F98/160 -> 4.6381875 | H98: =ROUND(E98*G98*2,2) -> 296.84 | I98: =ROUND(H98*1.2359,2) -> 366.86
A99: Māsas palīgs | B99: 1 | C99: =D99+E99 -> 204 | D99: 160 | E99: 44 | F99: 742.11 | G99: =F99/160 -> 4.6381875 | H99: =ROUND(E99*G99*2,2) -> 408.16 | I99: =ROUND(H99*1.2359,2) -> 504.44
A100: Māsas palīgs | B100: 1 | C100: =D100+E100 -> 132 | D100: 104 | E100: 28 | F100: 742.11 | G100: =F100/160 -> 4.6381875 | H100: =ROUND(E100*G100*2,2) -> 259.74 | I100: =ROUND(H100*1.2359,2) -> 321.01
A101: Māsas palīgs | B101: 1 | C101: =D101+E101 -> 204 | D101: 136 | E101: 68 | F101: 742.11 | G101: =F101/160 -> 4.6381875 | H101: =ROUND(E101*G101*2,2) -> 630.79 | I101: =ROUND(H101*1.2359,2) -> 779.59
A102: Māsas palīgs | B102: 1 | C102: =D102+E102 -> 96 | D102: 72 | E102: 24 | F102: 742.11 | G102: =F102/160 -> 4.6381875 | H102: =ROUND(E102*G102*2,2) -> 222.63 | I102: =ROUND(H102*1.2359,2) -> 275.15
A103: "Plaušu slimību un tuberkulozes centrs " Uzņemšanas nodaļa, Covid 19 nodaļa | B103: =B104+B110+B112 -> 7 | E103: =E104+E110+E112 -> 350 | H103: =H104+H110+H112 -> 7822.25 | I103: =I104+I110+I112 -> 9667.51
A104: Ārsti, zobārsti un funkcionālie speciālisti, kopā, tai skaitā: | B104: =SUM(B105:B109) -> 5 | E104: =SUM(E105:E109) -> 320 | H104: =SUM(H105:H109) -> 7484.34 | I104: =SUM(I105:I109) -> 9249.89
A105: Infektologs | B105: 1 | C105: =D105+E105 -> 284 | D105: 140 | E105: 144 | F105: 1637.2 | G105: =F105/140 -> 11.694286 | H105: =ROUND(E105*G105*2,2) -> 3367.95 | I105: =ROUND(H105*1.2359,2) -> 4162.45
A106: Kardiologs | B106: 1 | C106: =D106+E106 -> 156 | D106: 140 | E106: 16 | F106: 1637.2 | G106: =F106/140 -> 11.694286 | H106: =ROUND(E106*G106*2,2) -> 374.22 | I106: =ROUND(H106*1.2359,2) -> 462.5
A107: Pneimonologs | B107: 1 | C107: =D107+E107 -> 188 | D107: 140 | E107: 48 | F107: 1637.2 | G107: =F107/140 -> 11.694286 | H107: =ROUND(E107*G107*2,2) -> 1122.65 | I107: =ROUND(H107*1.2359,2) -> 1387.48
A108: Narkologs | B108: 1 | C108: =D108+E108 -> 176 | D108: 96 | E108: 80 | F108: 1637.2 | G108: =F108/140 -> 11.694286 | H108: =ROUND(E108*G108*2,2) -> 1871.09 | I108: =ROUND(H108*1.2359,2) -> 2312.48
A109: Neatliekamās medicīnas ārsts | B109: 1 | C109: =D109+E109 -> 192 | D109: 160 | E109: 32 | F109: 1637.2 | G109: =F109/140 -> 11.694286 | H109: =ROUND(E109*G109*2,2) -> 748.43 | I109: =ROUND(H109*1.2359,2) -> 924.98
A110: Ārstniecības un pacientu aprūpes atbalsta personas, māsu palīgi, zobārstu asistenti, kopā, tai skaitā: | B110: =SUM(B111:B111) -> 1 | E110: =SUM(E111:E111) -> 5 | H110: =SUM(H111:H111) -> 72.75 | I110: =SUM(I111:I111) -> 89.91
A111: Internās aprūpes māsa | B111: 1 | C111: =D111+E111 -> 96 | D111: 91 | E111: 5 | F111: 1018.5 | G111: =F111/140 -> 7.275 | H111: =ROUND(E111*G111*2,2) -> 72.75 | I111: =ROUND(H111*1.2359,2) -> 89.91
A112: Ārstniecības un pacientu aprūpes atbalsta personas, māsu palīgi, zobārstu asistenti, kopā, tai skaitā: | B112: =SUM(B113:B113) -> 1 | E112: =SUM(E113:E113) -> 25 | H112: =SUM(H113:H113) -> 265.16 | I112: =SUM(I113:I113) -> 327.71
A113: Māsas palīgs | B113: 1 | C113: =D113+E113 -> 116 | D113: 91 | E113: 25 | F113: 742.45 | G113: =F113/140 -> 5.3032143 | H113: =ROUND(E113*G113*2,2) -> 265.16 | I113: =ROUND(H113*1.2359,2) -> 327.71
A114: "Plaušu slimību un tuberkulozes centrs" Infekcijas nodaļa - Covid19 nodaļa | B114: =B115+B118+B147 -> 53 | E114: =E115+E118+E147 -> 914 | H114: =H115+H118+H147 -> 11338.91 | I114: =I115+I118+I147 -> 14001.34
A115: Ārsti, zobārsti un funkcionālie speciālisti, kopā, tai skaitā: | B115: =SUM(B116:B117) -> 2 | E115: =SUM(E116:E117) -> 21 | H115: =SUM(H116:H117) -> 445.47 | I115: =SUM(I116:I117) -> 550.56
A116: Rezidents | B116: 1 | C116: =D116+E116 -> 151 | D116: 144 | E116: 7 | F116: 1697.04 | G116: =F116/160 -> 10.6065 | H116: =ROUND(E116*G116*2,2) -> 148.49 | I116: =ROUND(H116*1.2359,2) -> 183.52
A117: Nefrologs | B117: 1 | C117: =D117+E117 -> 174 | D117: 160 | E117: 14 | F117: 1697.04 | G117: =F117/160 -> 10.6065 | H117: =ROUND(E117*G117*2,2) -> 296.98 | I117: =ROUND(H117*1.2359,2) -> 367.04
A118: Ārstniecības un pacientu aprūpes personas un funkcionālo speciālistu asistenti, kopā, tai skaitā: | B118: =SUM(B119:B146) -> 28 | E118: =SUM(E119:E146) -> 425 | H118: =SUM(H119:H146) -> 6056.87 | I118: =SUM(I119:I146) -> 7480.86
A119: Ārsta palīgs | B119: 1 | C119: =D119+E119 -> 116 | D119: 112 | E119: 4 | F119: 999.46 | G119: =F119/140 -> 7.139 | H119: =ROUND(E119*G119*2,2) -> 57.11 | I119: =ROUND(H119*1.2359,2) -> 70.58
A120: Internās aprūpes māsa | B120: 1 | C120: =D120+E120 -> 174 | D120: 140 | E120: 34 | F120: 1050 | G120: =F120/140 -> 7.5 | H120: =ROUND(E120*G120*2,2) -> 510 | I120: =ROUND(H120*1.2359,2) -> 630.31
A121: Internās aprūpes māsa | B121: 1 | C121: =D121+E121 -> 144 | D121: 140 | E121: 4 | F121: 999.46 | G121: =F121/140 -> 7.139 | H121: =ROUND(E121*G121*2,2) -> 57.11 | I121: =ROUND(H121*1.2359,2) -> 70.58
A122: Internās aprūpes māsa | B122: 1 | C122: =D122+E122 -> 152 | D122: 140 | E122: 12 | F122: 999.46 | G122: =F122/140 -> 7.139 | H122: =ROUND(E122*G122*2,2) -> 171.34 | I122: =ROUND(H122*1.2359,2) -> 211.76
A123: Internās aprūpes māsa | B123: 1 | C123: =D123+E123 -> 164 | D123: 140 | E123: 24 | F123: 999.46 | G123: =F123/140 -> 7.139 | H123: =ROUND(E123*G123*2,2) -> 342.67 | I123: =ROUND(H123*1.2359,2) -> 423.51
A124: Internās aprūpes māsa | B124: 1 | C124: =D124+E124 -> 72 | D124: 70 | E124: 2 | F124: 999.46 | G124: =F124/140 -> 7.139 | H124: =ROUND(E124*G124*2,2) -> 28.56 | I124: =ROUND(H124*1.2359,2) -> 35.3
A125: Internās aprūpes māsa | B125: 1 | C125: =D125+E125 -> 192 | D125: 140 | E125: 52 | F125: 999.46 | G125: =F125/140 -> 7.139 | H125: =ROUND(E125*G125*2,2) -> 742.46 | I125: =ROUND(H125*1.2359,2) -> 917.61
A126: Internās aprūpes māsa | B126: 1 | C126: =D126+E126 -> 104 | D126: 98 | E126: 6 | F126: 999.46 | G126: =F126/140 -> 7.139 | H126: =ROUND(E126*G126*2,2) -> 85.67 | I126: =ROUND(H126*1.2359,2) -> 105.88
A127: Internās aprūpes māsa | B127: 1 | C127: =D127+E127 -> 140 | D127: 133 | E127: 7 | F127: 999.46 | G127: =F127/140 -> 7.139 | H127: =ROUND(E127*G127*2,2) -> 99.95 | I127: =ROUND(H127*1.2359,2) -> 123.53
A128: Internās aprūpes māsa | B128: 1 | C128: =D128+E128 -> 120 | D128: 112 | E128: 8 | F128: 999.46 | G128: =F128/140 -> 7.139 | H128: =ROUND(E128*G128*2,2) -> 114.22 | I128: =ROUND(H128*1.2359,2) -> 141.16
A129: Internās aprūpes māsa | B129: 1 | C129: =D129+E129 -> 144 | D129: 140 | E129: 4 | F129: 999.46 | G129: =F129/140 -> 7.139 | H129: =ROUND(E129*G129*2,2) -> 57.11 | I129: =ROUND(H129*1.2077,2) -> 68.97
A130: Internās aprūpes māsa | B130: 1 | C130: =D130+E130 -> 165 | D130: 160 | E130: 5 | F130: 998.99 | G130: =F130/160 -> 6.2436875 | H130: =ROUND(E130*G130*2,2) -> 62.44 | I130: =ROUND(H130*1.2359,2) -> 77.17
...

Sheet Daugavpils_reģ_marts
H1: 1.9.Pielikums
A2: Pārskats par darba veicējiem (ārstniecības personām), virs normālā darba laika nostrādātām stundām, apmaksājamām stundām un izdevumiem, kas radušies saistībā ar mērķi ierobežot Covid-19 izplatību
A4: Iestādes nosaukums: SIA "Daugavpils reģionālā slimnīca"
A5: Pārskata mēnesis: Marts
B7: Nodarbināto skaits mēnesī | C7: Apmaksājamais laiks mēnesī, stundas (tai skaitā summētā darba laika ietvaros) | F7: Mēnešalga no kuras rēķina stundas likmi | G7: Stundas likme (aprēķināta atbilstoši mēnešalgai vai darba līgumā noteiktā stundas likme) | H7: Apmaksājamā 100% piemaksa par nostrādātām virsstundām virs normālā darba laika (tai skaitā summētā darba laika ietvaros) | I7: Izdevumi par virsstundām kopā ar VSOAI, EUR
C8: Kopā | D8: līdz normālam darba laikam | E8: virsstundas - virs normālā darba laika, kas saistītas ar darbu ar Covid-19
A10: 1 | B10: 2 | C10: 3=4+5 | D10: 4 | E10: 5 | F10: 6 | G10: 7 | H10: 8 | I10: 9=8 +VSOAI
A11: KOPĀ | B11: =B12+B107+B116+B147+B154+B177+B182+B205+B212 -> 210 | E11: =E12+E107+E116+E147+E154+E177+E182+E205+E212 -> 6498.75 | H11: =H12+H107+H116+H147+H154+H177+H182+H205+H212 -> 110012.79 | I11: =I12+I107+I116+I147+I154+I177+I182+I205+I212 -> 135702.28
A12: Centrālā slimnīca "Uzņemšanas nodaļa" | B12: =B13+B57+B95 -> 91 | E12: =E13+E57+E95 -> 3854.5 | H12: =H13+H57+H95 -> 70215.07 | I12: =I13+I57+I95 -> 86589.54
A13: Ārsti, zobārsti un funkcionālie speciālisti, kopā, tai skaitā: | B13: =SUM(B14:B56) -> 43 | E13: =SUM(E14:E56) -> 2809 | H13: =SUM(H14:H56) -> 57576.61 | I13: =SUM(I14:I56) -> 70969.69
A14: Neatliekamās medicīnas ārsts | B14: 1 | C14: =D14+E14 -> 224 | D14: 184 | E14: 40 | F14: 2151.75 | G14: =F14/184 -> 11.694293 | H14: =ROUND(E14*G14*2,2) -> 935.54 | I14: =ROUND(H14*1.2359,2) -> 1156.23
A15: Traumatologs un ortopēds | B15: 1 | C15: =D15+E15 -> 347.5 | D15: 184 | E15: 163.5 | F15: 1881.9 | G15: =F15/184 -> 10.227717 | H15: =ROUND(E15*G15*2,2) -> 3344.46 | I15: =ROUND(H15*1.2359,2) -> 4133.42
A16: Traumatologs un ortopēds | B16: 1 | C16: =D16+E16 -> 257.5 | D16: 144 | E16: 113.5 | F16: 1881.9 | G16: =F16/184 -> 10.227717 | H16: =ROUND(E16*G16*2,2) -> 2321.69 | I16: =ROUND(H16*1.2359,2) -> 2869.38
A17: Traumatologs un ortopēds | B17: 1 | C17: =D17+E17 -> 88 | D17: 64 | E17: 24 | F17: 1881.9 | G17: =F17/184 -> 10.227717 | H17: =ROUND(E17*G17*2,2) -> 490.93 | I17: =ROUND(H17*1.2359,2) -> 606.74
A18: Rezidents | B18: 1 | C18: =D18+E18 -> 165 | D18: 128 | E18: 37 | F18: 1881.9 | G18: =F18/184 -> 10.227717 | H18: =ROUND(E18*G18*2,2) -> 756.85 | I18: =ROUND(H18*1.2359,2) -> 935.39
A19: Rezidents | B19: 1 | C19: =D19+E19 -> 184 | D19: 128 | E19: 56 | F19: 1881.9 | G19: =F19/184 -> 10.227717 | H19: =ROUND(E19*G19*2,2) -> 1145.5 | I19: =ROUND(H19*1.2359,2) -> 1415.72
A20: Rezidents | B20: 1 | C20: =D20+E20 -> 311 | D20: 176 | E20: 135 | F20: 1881.9 | G20: =F20/184 -> 10.227717 | H20: =ROUND(E20*G20*2,2) -> 2761.48 | I20: =ROUND(H20*1.2359,2) -> 3412.91
A21: Rezidents | B21: 1 | C21: =D21+E21 -> 192 | D21: 144 | E21: 48 | F21: 1881.9 | G21: =F21/184 -> 10.227717 | H21: =ROUND(E21*G21*2,2) -> 981.86 | I21: =ROUND(H21*1.2359,2) -> 1213.48
A22: Pediatrs | B22: 1 | C22: =D22+E22 -> 278 | D22: 168 | E22: 110 | F22: 1881.9 | G22: =F22/184 -> 10.227717 | H22: =ROUND(E22*G22*2,2) -> 2250.1 | I22: =ROUND(H22*1.2359,2) -> 2780.9
A23: Pediatrs | B23: 1 | C23: =D23+E23 -> 152 | D23: 120 | E23: 32 | F23: 1881.9 | G23: =F23/184 -> 10.227717 | H23: =ROUND(E23*G23*2,2) -> 654.57 | I23: =ROUND(H23*1.2359,2) -> 808.98
A24: Pediatrs | B24: 1 | C24: =D24+E24 -> 96 | D24: 64 | E24: 32 | F24: 1881.9 | G24: =F24/184 -> 10.227717 | H24: =ROUND(E24*G24*2,2) -> 654.57 | I24: =ROUND(H24*1.2359,2) -> 808.98
A25: Pediatrs | B25: 1 | C25: =D25+E25 -> 176 | D25: 128 | E25: 48 | F25: 1881.9 | G25: =F25/184 -> 10.227717 | H25: =ROUND(E25*G25*2,2) -> 981.86 | I25: =ROUND(H25*1.2359,2) -> 1213.48
... A33: Ķirurgs | B33: 1 | C33: =D33+E33 -> 192 | D33: 136 | E33: 56 | F33: 1881.9 | G33: =F33/184 -> 10.227717 | H33: =ROUND(E33*G33*2,2) -> 1145.5 | I33: =ROUND(H33*1.2359,2) -> 1415.72
A34: Ķirurgs | B34: 1 | C34: =D34+E34 -> 269 | D34: 184 | E34: 85 | F34: 1881.9 | G34: =F34/184 -> 10.227717 | H34: =ROUND(E34*G34*2,2) -> 1738.71 | I34: =ROUND(H34*1.2077,2) -> 2099.84
A35: Ķirurgs | B35: 1 | C35: =D35+E35 -> 115 | D35: 91 | E35: 24 | F35: 1881.9 | G35: =F35/184 -> 10.227717 | H35: =ROUND(E35*G35*2,2) -> 490.93 | I35: =ROUND(H35*1.2359,2) -> 606.74
A36: Kardiologs | B36: 1 | C36: =D36+E36 -> 150 | D36: 126 | E36: 24 | F36: 1881.9 | G36: =F36/184 -> 10.227717 | H36: =ROUND(E36*G36*2,2) -> 490.93 | I36: =ROUND(H36*1.2359,2) -> 606.74
A37: Kardiologs | B37: 1 | C37: =D37+E37 -> 203 | D37: 147 | E37: 56 | F37: 1881.9 | G37: =F37/184 -> 10.227717 | H37: =ROUND(E37*G37*2,2) -> 1145.5 | I37: =ROUND(H37*1.2359,2) -> 1415.72
A38: Kardiologs | B38: 1 | C38: =D38+E38 -> 123 | D38: 91 | E38: 32 | F38: 1881.9 | G38: =F38/184 -> 10.227717 | H38: =ROUND(E38*G38*2,2) -> 654.57 | I38: =ROUND(H38*1.2359,2) -> 808.98
A39: Internists | B39: 1 | C39: =D39+E39 -> 316.5 | D39: 184 | E39: 132.5 | F39: 1881.9 | G39: =F39/184 -> 10.227717 | H39: =ROUND(E39*G39*2,2) -> 2710.35 | I39: =ROUND(H39*1.2359,2) -> 3349.72
A40: Bērnu ķirurgs | B40: 1 | C40: =D40+E40 -> 168 | D40: 128 | E40: 40 | F40: 1881.9 | G40: =F40/184 -> 10.227717 | H40: =ROUND(E40*G40*2,2) -> 818.22 | I40: =ROUND(H40*1.2359,2) -> 1011.24
A41: Traumatologs un ortopēds | B41: 1 | C41: =D41+E41 -> 225 | D41: 184 | E41: 41 | F41: 1881.9 | G41: =F41/184 -> 10.227717 | H41: =ROUND(E41*G41*2,2) -> 838.67 | I41: =ROUND(H41*1.2359,2) -> 1036.51
A42: Pediatrs | B42: 1 | C42: =D42+E42 -> 290 | D42: 184 | E42: 106 | F42: 1881.9 | G42: =F42/184 -> 10.227717 | H42: =ROUND(E42*G42*2,2) -> 2168.28 | I42: =ROUND(H42*1.2077,2) -> 2618.63
A43: Ķirurgs | B43: 1 | C43: =D43+E43 -> 248.5 | D43: 184 | E43: 64.5 | F43: 1881.9 | G43: =F43/184 -> 10.227717 | H43: =ROUND(E43*G43*2,2) -> 1319.38 | I43: =ROUND(H43*1.2359,2) -> 1630.62
A44: Ģinekologs | B44: 1 | C44: =D44+E44 -> 208 | D44: 184 | E44: 24 | F44: 1881.9 | G44: =F44/184 -> 10.227717 | H44: =ROUND(E44*G44*2,2) -> 490.93 | I44: =ROUND(H44*1.2359,2) -> 606.74
A45: Ārsts (dežūrslodze) | B45: 1 | C45: =D45+E45 -> 233 | D45: 184 | E45: 49 | F45: 1881.9 | G45: =F45/184 -> 10.227717 | H45: =ROUND(E45*G45*2,2) -> 1002.32 | I45: =ROUND(H45*1.2359,2) -> 1238.77
A46: Ārsts (dežūrslodze) | B46: 1 | C46: =D46+E46 -> 208 | D46: 112 | E46: 96 | F46: 1881.9 | G46: =F46/184 -> 10.227717 | H46: =ROUND(E46*G46*2,2) -> 1963.72 | I46: =ROUND(H46*1.2077,2) -> 2371.58
A47: Ārsts | B47: 1 | C47: =D47+E47 -> 268 | D47: 184 | E47: 84 | F47: 1881.9 | G47: =F47/184 -> 10.227717 | H47: =ROUND(E47*G47*2,2) -> 1718.26 | I47: =ROUND(H47*1.2359,2) -> 2123.6
A48: Ārsts | B48: 1 | C48: =D48+E48 -> 244 | D48: 184 | E48: 60 | F48: 1881.9 | G48: =F48/184 -> 10.227717 | H48: =ROUND(E48*G48*2,2) -> 1227.33 | I48: =ROUND(H48*1.2359,2) -> 1516.86
A49: Anesteziologs un reanimatologs | B49: 1 | C49: =D49+E49 -> 217 | D49: 184 | E49: 33 | F49: 1881.9 | G49: =F49/184 -> 10.227717 | H49: =ROUND(E49*G49*2,2) -> 675.03 | I49: =ROUND(H49*1.2077,2) -> 815.23
A50: Anesteziologs un reanimatologs | B50: 1 | C50: =D50+E50 -> 161 | D50: 144 | E50: 17 | F50: 1881.9 | G50: =F50/184 -> 10.227717 | H50: =ROUND(E50*G50*2,2) -> 347.74 | I50: =ROUND(H50*1.2359,2) -> 429.77
A51: Anesteziologs un reanimatologs | B51: 1 | C51: =D51+E51 -> 232 | D51: 184 | E51: 48 | F51: 1881.9 | G51: =F51/184 -> 10.227717 | H51: =ROUND(E51*G51*2,2) -> 981.86 | I51: =ROUND(H51*1.2359,2) -> 1213.48
A52: Anesteziologs un reanimatologs | B52: 1 | C52: =D52+E52 -> 104 | D52: 96 | E52: 8 | F52: 1881.9 | G52: =F52/184 -> 10.227717 | H52: =ROUND(E52*G52*2,2) -> 163.64 | I52: =ROUND(H52*1.2077,2) -> 197.63
A53: Anesteziologs un reanimatologs | B53: 1 | C53: =D53+E53 -> 224 | D53: 184 | E53: 40 | F53: 1881.9 | G53: =F53/184 -> 10.227717 | H53: =ROUND(E53*G53*2,2) -> 818.22 | I53: =ROUND(H53*1.2359,2) -> 1011.24
A54: Anesteziologs un reanimatologs | B54: 1 | C54: =D54+E54 -> 152 | D54: 120 | E54: 32 | F54: 1881.9 | G54: =F54/184 -> 10.227717 | H54: =ROUND(E54*G54*2,2) -> 654.57 | I54: =ROUND(H54*1.2359,2) -> 808.98
A55: Anesteziologs un reanimatologs | B55: 1 | C55: =D55+E55 -> 260 | D55: 184 | E55: 76 | F55: 1881.9 | G55: =F55/184 -> 10.227717 | H55: =ROUND(E55*G55*2,2) -> 1554.61 | I55: =ROUND(H55*1.2359,2) -> 1921.34
A56: Anesteziologs un reanimatologs | B56: 1 | C56: =D56+E56 -> 174 | D56: 144 | E56: 30 | F56: 1881.9 | G56: =F56/184 -> 10.227717 | H56: =ROUND(E56*G56*2,2) -> 613.66 | I56: =ROUND(H56*1.2359,2) -> 758.42
A57: Ārstniecības un pacientu aprūpes personas un funkcionālo speciālistu asistenti, kopā, tai skaitā: | B57: =SUM(B58:B94) -> 37 | E57: =SUM(E58:E94) -> 761.5 | H57: =SUM(H58:H94) -> 10003.95 | I57: =SUM(I58:I94) -> 12363.86
A58: Ārsta palīgs (feldšeris) | B58: 1 | C58: =D58+E58 -> 128 | D58: 104 | E58: 24 | F58: 1498.96 | G58: =F58/184 -> 8.1465217 | H58: =ROUND(E58*G58*2,2) -> 391.03 | I58: =ROUND(H58*1.2359,2) -> 483.27
A59: Ārsta palīgs (feldšeris) | B59: 1 | C59: =D59+E59 -> 202 | D59: 184 | E59: 18 | F59: 1498.96 | G59: =F59/184 -> 8.1465217 | H59: =ROUND(E59*G59*2,2) -> 293.27 | I59: =ROUND(H59*1.2359,2) -> 362.45
A60: Ārsta palīgs | B60: 1 | C60: =D60+E60 -> 221 | D60: 184 | E60: 37 | F60: 1498.96 | G60: =F60/184 -> 8.1465217 | H60: =ROUND(E60*G60*2,2) -> 602.84 | I60: =ROUND(H60*1.2359,2) -> 745.05
A61: Ārsta palīgs | B61: 1 | C61: =D61+E61 -> 158 | D61: 144 | E61: 14 | F61: 1498.96 | G61: =F61/184 -> 8.1465217 | H61: =ROUND(E61*G61*2,2) -> 228.1 | I61: =ROUND(H61*1.2359,2) -> 281.91
A62: Operāciju māsa | B62: 1 | C62: =D62+E62 -> 197 | D62: 184 | E62: 13 | F62: 1170.72 | G62: =F62/184 -> 6.3626087 | H62: =ROUND(E62*G62*2,2) -> 165.43 | I62: =ROUND(H62*1.2359,2) -> 204.45
A63: Operāciju māsa | B63: 1 | C63: =D63+E63 -> 144 | D63: 136 | E63: 8 | F63: 1170.72 | G63: =F63/184 -> 6.3626087 | H63: =ROUND(E63*G63*2,2) -> 101.8 | I63: =ROUND(H63*1.2359,2) -> 125.81
A64: Operāciju māsa | B64: 1 | C64: =D64+E64 -> 192 | D64: 184 | E64: 8 | F64: 1170.72 | G64: =F64/184 -> 6.3626087 | H64: =ROUND(E64*G64*2,2) -> 101.8 | I64: =ROUND(H64*1.2359,2) -> 125.81
A65: Medicīnas māsa | B65: 1 | C65: =D65+E65 -> 208 | D65: 184 | E65: 24 | F65: 1170.72 | G65: =F65/184 -> 6.3626087 | H65: =ROUND(E65*G65*2,2) -> 305.41 | I65: =ROUND(H65*1.2359,2) -> 377.46
A66: Medicīnas māsa | B66: 1 | C66: =D66+E66 -> 208 | D66: 184 | E66: 24 | F66: 1170.72 | G66: =F66/184 -> 6.3626087 | H66: =ROUND(E66*G66*2,2) -> 305.41 | I66: =ROUND(H66*1.2359,2) -> 377.46
A67: Medicīnas māsa | B67: 1 | C67: =D67+E67 -> 156 | D67: 152 | E67: 4 | F67: 1170.72 | G67: =F67/184 -> 6.3626087 | H67: =ROUND(E67*G67*2,2) -> 50.9 | I67: =ROUND(H67*1.2359,2) -> 62.91
A68: Medicīnas māsa | B68: 1 | C68: =D68+E68 -> 204 | D68: 184 | E68: 20 | F68: 1170.72 | G68: =F68/184 -> 6.3626087 | H68: =ROUND(E68*G68*2,2) -> 254.5 | I68: =ROUND(H68*1.2359,2) -> 314.54
A69: Ķirurģiskās aprūpes māsa | B69: 1 | C69: =D69+E69 -> 145 | D69: 128 | E69: 17 | F69: 1170.72 | G69: =F69/184 -> 6.3626087 | H69: =ROUND(E69*G69*2,2) -> 216.33 | I69: =ROUND(H69*1.2359,2) -> 267.36
... A94: Medicīnas māsa | B94: 1 | C94: =D94+E94 -> 195 | D94: 184 | E94: 11 | F94: 1070 | G94: =F94/184 -> 5.8152174 | H94: =ROUND(E94*G94*2,2) -> 127.93 | I94: =ROUND(H94*1.2359,2) -> 158.11
A95: Ārstniecības un pacientu aprūpes atbalsta personas, māsu palīgi, zobārstu asistenti, kopā, tai skaitā: | B95: =SUM(B96:B106) -> 11 | E95: =SUM(E96:E106) -> 284 | H95: =SUM(H96:H106) -> 2634.51 | I95: =SUM(I96:I106) -> 3255.99
A96: Māsas palīgs | B96: 1 | C96: =D96+E96 -> 228 | D96: 184 | E96: 44 | F96: 853.43 | G96: =F96/184 -> 4.6382065 | H96: =ROUND(E96*G96*2,2) -> 408.16 | I96: =ROUND(H96*1.2359,2) -> 504.44
A97: Māsas palīgs | B97: 1 | C97: =D97+E97 -> 196 | D97: 184 | E97: 12 | F97: 853.43 | G97: =F97/184 -> 4.6382065 | H97: =ROUND(E97*G97*2,2) -> 111.32 | I97: =ROUND(H97*1.2359,2) -> 137.58
A98: Māsas palīgs | B98: 1 | C98: =D98+E98 -> 220 | D98: 184 | E98: 36 | F98: 853.43 | G98: =F98/184 -> 4.6382065 | H98: =ROUND(E98*G98*2,2) -> 333.95 | I98: =ROUND(H98*1.2359,2) -> 412.73
A99: Māsas palīgs | B99: 1 | C99: =D99+E99 -> 208 | D99: 184 | E99: 24 | F99: 853.43 | G99: =F99/184 -> 4.6382065 | H99: =ROUND(E99*G99*2,2) -> 222.63 | I99: =ROUND(H99*1.2359,2) -> 275.15
A100: Māsas palīgs | B100: 1 | C100: =D100+E100 -> 216 | D100: 184 | E100: 32 | F100: 853.43 | G100: =F100/184 -> 4.6382065 | H100: =ROUND(E100*G100*2,2) -> 296.85 | I100: =ROUND(H100*1.2359,2) -> 366.88
A101: Māsas palīgs | B101: 1 | C101: =D101+E101 -> 188 | D101: 184 | E101: 4 | F101: 853.43 | G101: =F101/184 -> 4.6382065 | H101: =ROUND(E101*G101*2,2) -> 37.11 | I101: =ROUND(H101*1.2359,2) -> 45.86
A102: Māsas palīgs | B102: 1 | C102: =D102+E102 -> 120 | D102: 96 | E102: 24 | F102: 853.43 | G102: =F102/184 -> 4.6382065 | H102: =ROUND(E102*G102*2,2) -> 222.63 | I102: =ROUND(H102*1.2359,2) -> 275.15
A103: Māsas palīgs | B103: 1 | C103: =D103+E103 -> 196 | D103: 184 | E103: 12 | F103: 853.43 | G103: =F103/184 -> 4.6382065 | H103: =ROUND(E103*G103*2,2) -> 111.32 | I103: =ROUND(H103*1.2359,2) -> 137.58
A104: Māsas palīgs | B104: 1 | C104: =D104+E104 -> 168 | D104: 144 | E104: 24 | F104: 853.43 | G104: =F104/184 -> 4.6382065 | H104: =ROUND(E104*G104*2,2) -> 222.63 | I104: =ROUND(H104*1.2359,2) -> 275.15
A105: Māsas palīgs | B105: 1 | C105: =D105+E105 -> 192 | D105: 152 | E105: 40 | F105: 853.43 | G105: =F105/184 -> 4.6382065 | H105: =ROUND(E105*G105*2,2) -> 371.06 | I105: =ROUND(H105*1.2359,2) -> 458.59
A106: Māsas palīgs | B106: 1 | C106: =D106+E106 -> 216 | D106: 184 | E106: 32 | F106: 853.43 | G106: =F106/184 -> 4.6382065 | H106: =ROUND(E106*G106*2,2) -> 296.85 | I106: =ROUND(H106*1.2359,2) -> 366.88
A107: "Plaušu slimību un tuberkulozes centrs " Uzņemšanas nodaļa, Covid 19 nodaļa | B107: =B108+B112 -> 6 | E107: =E108+E112 -> 207 | H107: =H108+H112 -> 4708.86 | I107: =I108+I112 -> 5819.68
A108: Ārsti, zobārsti un funkcionālie speciālisti, kopā, tai skaitā: | B108: =SUM(B109:B111) -> 3 | E108: =SUM(E109:E111) -> 192 | H108: =SUM(H109:H111) -> 4490.61 | I108: =SUM(I109:I111) -> 5549.94
A109: Infektologs | B109: 1 | C109: =D109+E109 -> 269 | D109: 133 | E109: 136 | F109: 1882.78 | G109: =F109/161 -> 11.694286 | H109: =ROUND(E109*G109*2,2) -> 3180.85 | I109: =ROUND(H109*1.2359,2) -> 3931.21
A110: Pneimonologs | B110: 1 | C110: =D110+E110 -> 166 | D110: 126 | E110: 40 | F110: 1882.78 | G110: =F110/161 -> 11.694286 | H110: =ROUND(E110*G110*2,2) -> 935.54 | I110: =ROUND(H110*1.2359,2) -> 1156.23
A111: Kardiologs | B111: 1 | C111: =D111+E111 -> 142 | D111: 126 | E111: 16 | F111: 1882.78 | G111: =F111/161 -> 11.694286 | H111: =ROUND(E111*G111*2,2) -> 374.22 | I111: =ROUND(H111*1.2359,2) -> 462.5
A112: Ārstniecības un pacientu aprūpes personas un funkcionālo speciālistu asistenti, kopā, tai skaitā: | B112: =SUM(B113:B115) -> 3 | E112: =SUM(E113:E115) -> 15 | H112: =SUM(H113:H115) -> 218.25 | I112: =SUM(I113:I115) -> 269.74
A113: Medicīnas māsa | B113: 1 | C113: =D113+E113 -> 168 | D113: 161 | E113: 7 | F113: 1171.28 | G113: =F113/161 -> 7.2750311 | H113: =ROUND(E113*G113*2,2) -> 101.85 | I113: =ROUND(H113*1.2359,2) -> 125.88
A114: Internās aprūpes māsa | B114: 1 | C114: =D114+E114 -> 116 | D114: 112 | E114: 4 | F114: 1171.28 | G114: =F114/161 -> 7.2750311 | H114: =ROUND(E114*G114*2,2) -> 58.2 | I114: =ROUND(H114*1.2359,2) -> 71.93
A115: Internās aprūpes māsa | B115: 1 | C115: =D115+E115 -> 165 | D115: 161 | E115: 4 | F115: 1171.28 | G115: =F115/161 -> 7.2750311 | H115: =ROUND(E115*G115*2,2) -> 58.2 | I115: =ROUND(H115*1.2359,2) -> 71.93
A116: "Plaušu slimību un tuberkulozes centrs" Infekcijas nodaļa - Covid 19 nodaļa | B116: =B117+B135 -> 28 | E116: =E117+E135 -> 484 | H116: =H117+H135 -> 6307.9 | I116: =I117+I135 -> 7768.65
A117: Ārstniecības un pacientu aprūpes personas un funkcionālo speciālistu asistenti, kopā, tai skaitā: | B117: =SUM(B118:B134) -> 17 | E117: =SUM(E118:E134) -> 338 | H117: =SUM(H118:H134) -> 4796.32 | I117: =SUM(I118:I134) -> 5902.81
A118: Internās aprūpes māsa | B118: 1 | C118: =D118+E118 -> 150 | D118: 126 | E118: 24 | F118: 1049.99 | G118: =F118/161 -> 6.521677 | H118: =ROUND(E118*G118*2,2) -> 313.04 | I118: =ROUND(H118*1.2359,2) -> 386.89
A119: Internās aprūpes māsa | B119: 1 | C119: =D119+E119 -> 113 | D119: 105 | E119: 8 | F119: 1149.38 | G119: =F119/161 -> 7.1390062 | H119: =ROUND(E119*G119*2,2) -> 114.22 | I119: =ROUND(H119*1.2359,2) -> 141.16
A120: Internās aprūpes māsa | B120: 1 | C120: =D120+E120 -> 153 | D120: 133 | E120: 20 | F120: 1149.38 | G120: =F120/161 -> 7.1390062 | H120: =ROUND(E120*G120*2,2) -> 285.56 | I120: =ROUND(H120*1.2359,2) -> 352.92
A121: Internās aprūpes māsa | B121: 1 | C121: =D121+E121 -> 161 | D121: 154 | E121: 7 | F121: 1149.38 | G121: =F121/161 -> 7.1390062 | H121: =ROUND(E121*G121*2,2) -> 99.95 | I121: =ROUND(H121*1.2077,2) -> 120.71
A122: Internās aprūpes māsa | B122: 1 | C122: =D122+E122 -> 161 | D122: 154 | E122: 7 | F122: 1149.38 | G122: =F122/161 -> 7.1390062 | H122: =ROUND(E122*G122*2,2) -> 99.95 | I122: =ROUND(H122*1.2077,2) -> 120.71
A123: Internās aprūpes māsa | B123: 1 | C123: =D123+E123 -> 113 | D123: 98 | E123: 15 | F123: 1149.38 | G123: =F123/161 -> 7.1390062 | H123: =ROUND(E123*G123*2,2) -> 214.17 | I123: =ROUND(H123*1.2359,2) -> 264.69
A124: Internās aprūpes māsa | B124: 1 | C124: =D124+E124 -> 137 | D124: 133 | E124: 4 | F124: 1149.38 | G124: =F124/161 -> 7.1390062 | H124: =ROUND(E124*G124*2,2) -> 57.11 | I124: =ROUND(H124*1.2359,2) -> 70.58
A125: Medicīnas māsa | B125: 1 | C125: =D125+E125 -> 137 | D125: 126 | E125: 11 | F125: 1149.38 | G125: =F125/161 -> 7.1390062 | H125: =ROUND(E125*G125*2,2) -> 157.06 | I125: =ROUND(H125*1.2359,2) -> 194.11
A126: Medicīnas māsa | B126: 1 | C126: =D126+E126 -> 161 | D126: 154 | E126: 7 | F126: 1149.38 | G126: =F126/161 -> 7.1390062 | H126: =ROUND(E126*G126*2,2) -> 99.95 | I126: =ROUND(H126*1.2359,2) -> 123.53
A127: Internās aprūpes māsa | B127: 1 | C127: =D127+E127 -> 209 | D127: 161 | E127: 48 | F127: 1149.38 | G127: =F127/161 -> 7.1390062 | H127: =ROUND(E127*G127*2,2) -> 685.34 | I127: =ROUND(H127*1.2077,2) -> 827.69
A128: Internās aprūpes māsa | B128: 1 | C128: =D128+E128 -> 185 | D128: 161 | E128: 24 | F128: 1149.38 | G128: =F128/161 -> 7.1390062 | H128: =ROUND(E128*G128*2,2) -> 342.67 | I128: =ROUND(H128*1.2359,2) -> 423.51
A129: Internās aprūpes māsa | B129: 1 | C129: =D129+E129 -> 164 | D129: 161 | E129: 3 | F129: 1149.38 | G129: =F129/161 -> 7.1390062 | H129: =ROUND(E129*G129*2,2) -> 42.83 | I129: =ROUND(H129*1.2359,2) -> 52.93
A130: Internās aprūpes māsa | B130: 1 | C130: =D130+E130 -> 177 | D130: 161 | E130: 16 | F130: 1149.38 | G130: =F130/161 -> 7.1390062 | H130: =ROUND(E130*G130*2,2) -> 228.45 | I130: =ROUND(H130*1.2359,2) -> 282.34
A131: Internās aprūpes māsa | B131: 1 | C131: =D131+E131 -> 153 | D131: 105 | E131: 48 | F131: 1149.38 | G131: =F131/161 -> 7.1390062 | H131: =ROUND(E131*G131*2,2) -> 685.34 | I131: =ROUND(H131*1.2359,2) -> 847.01
A132: Internās aprūpes māsa | B132: 1 | C132: =D132+E132 -> 185 | D132: 161 | E132: 24 | F132: 1149.38 | G132: =F132/161 -> 7.1390062 | H132: =ROUND(E132*G132*2,2) -> 342.67 | I132: =ROUND(H132*1.2359,2) -> 423.51
A133: Medicīnas māsa | B133: 1 | C133: =D133+E133 -> 185 | D133: 161 | E133: 24 | F133: 1149.38 | G133: =F133/161 -> 7.1390062 | H133: =ROUND(E133*G133*2,2) -> 342.67 | I133: =ROUND(H133*1.2359,2) -> 423.51
A134: Medicīnas māsa | B134: 1 | C134: =D134+E134 -> 209 | D134: 161 | E134: 48 | F134: 1149.38 | G134: =F134/161 -> 7.1390062 | H134: =ROUND(E134*G134*2,2) -> 685.34 | I134: =ROUND(H134*1.2359,2) -> 847.01
...

Sheet Daugavpils_reģ_apr
H1: 1.10.Pielikums
A2: Pārskats par darba veicējiem (ārstniecības personām), virs normālā darba laika nostrādātām stundām, apmaksājamām stundām un izdevumiem, kas radušies saistībā ar mērķi ierobežot Covid-19 izplatību
A4: Iestādes nosaukums: SIA "Daugavpils reģionālā slimnīca"
A5: Pārskata mēnesis: Aprīlis
B7: Nodarbināto skaits mēnesī | C7: Apmaksājamais laiks mēnesī, stundas (tai skaitā summētā darba laika ietvaros) | F7: Mēnešalga no kuras rēķina stundas likmi | G7: Stundas likme (aprēķināta atbilstoši mēnešalgai vai darba līgumā noteiktā stundas likme) | H7: Apmaksājamā 100% piemaksa par nostrādātām virsstundām virs normālā darba laika (tai skaitā summētā darba laika ietvaros) | I7: Izdevumi par virsstundām kopā ar VSOAI, EUR
C8: Kopā | D8: līdz normālam darba laikam | E8: virsstundas - virs normālā darba laika, kas saistītas ar darbu ar Covid-19
A10: 1 | B10: 2 | C10: 3=4+5 | D10: 4 | E10: 5 | F10: 6 | G10: 7 | H10: 8 | I10: 9=8 +VSOAI
A11: KOPĀ | B11: =B12+B124+B141+B221+B230+B250+B269 -> 270 | E11: =E12+E124+E141+E221+E230+E250+E269 -> 9196 | H11: =H12+H124+H141+H221+H230+H250+H269 -> 145363.67 | I11: =I12+I124+I141+I221+I230+I250+I269 -> 179294.81
A12: Centrālā slimnīca "Uzņemšanas nodaļa" | B12: =B13+B69+B111 -> 108 | E12: =E13+E69+E111 -> 5043.5 | H12: =H13+H69+H111 -> 85961.99 | I12: =I13+I69+I111 -> 106024.68
A13: Ārsti, zobārsti un funkcionālie speciālisti, kopā, tai skaitā: | B13: =SUM(B14:B68) -> 55 | E13: =SUM(E14:E68) -> 2937.5 | H13: =SUM(H14:H68) -> 60398.53 | I13: =SUM(I14:I68) -> 74430.77
A14: Traumatologs un ortopēds | B14: 1 | C14: =D14+E14 -> 191 | D14: 151 | E14: 40 | F14: 1544.38 | G14: =F14/151 -> 10.227682 | H14: =ROUND(E14*G14*2,2) -> 818.21 | I14: =ROUND(H14*1.2359,2) -> 1011.23
A15: Traumatologs un ortopēds | B15: 1 | C15: =D15+E15 -> 193 | D15: 151 | E15: 42 | F15: 1544.38 | G15: =F15/151 -> 10.227682 | H15: =ROUND(E15*G15*2,2) -> 859.13 | I15: =ROUND(H15*1.2359,2) -> 1061.8
A16: Traumatologs un ortopēds | B16: 1 | C16: =D16+E16 -> 232 | D16: 151 | E16: 81 | F16: 1544.38 | G16: =F16/151 -> 10.227682 | H16: =ROUND(E16*G16*2,2) -> 1656.88 | I16: =ROUND(H16*1.2359,2) -> 2047.74
A17: Traumatologs un ortopēds | B17: 1 | C17: =D17+E17 -> 224 | D17: 111 | E17: 113 | F17: 1544.38 | G17: =F17/151 -> 10.227682 | H17: =ROUND(E17*G17*2,2) -> 2311.46 | I17: =ROUND(H17*1.2359,2) -> 2856.73
A18: Rezidents | B18: 1 | C18: =D18+E18 -> 188 | D18: 143 | E18: 45 | F18: 1544.38 | G18: =F18/151 -> 10.227682 | H18: =ROUND(E18*G18*2,2) -> 920.49 | I18: =ROUND(H18*1.2359,2) -> 1137.63
A19: Rezidents | B19: 1 | C19: =D19+E19 -> 135 | D19: 103 | E19: 32 | F19: 1544.38 | G19: =F19/151 -> 10.227682 | H19: =ROUND(E19*G19*2,2) -> 654.57 | I19: =ROUND(H19*1.2359,2) -> 808.98
A20: Rezidents | B20: 1 | C20: =D20+E20 -> 231 | D20: 143 | E20: 88 | F20: 1544.38 | G20: =F20/151 -> 10.227682 | H20: =ROUND(E20*G20*2,2) -> 1800.07 | I20: =ROUND(H20*1.2359,2) -> 2224.71
A21: Neatliekamās medicīnas ārsts | B21: 1 | C21: =D21+E21 -> 184 | D21: 151 | E21: 33 | F21: 1544.38 | G21: =F21/151 -> 10.227682 | H21: =ROUND(E21*G21*2,2) -> 675.03 | I21: =ROUND(H21*1.2359,2) -> 834.27
A22: Neatliekamās medicīnas ārsts | B22: 1 | C22: =D22+E22 -> 152 | D22: 151 | E22: 1 | F22: 1544.38 | G22: =F22/151 -> 10.227682 | H22: =ROUND(E22*G22*2,2) -> 20.46 | I22: =ROUND(H22*1.2359,2) -> 25.29
A23: Neatliekamās medicīnas ārsts | B23: 1 | C23: =D23+E23 -> 160 | D23: 151 | E23: 9 | F23: 1544.38 | G23: =F23/151 -> 10.227682 | H23: =ROUND(E23*G23*2,2) -> 184.1 | I23: =ROUND(H23*1.2359,2) -> 227.53
A24: Ķirurgs | B24: 1 | C24: =D24+E24 -> 193.5 | D24: 151 | E24: 42.5 | F24: 1544.38 | G24: =F24/151 -> 10.227682 | H24: =ROUND(E24*G24*2,2) -> 869.35 | I24: =ROUND(H24*1.2359,2) -> 1074.43
A25: Ķirurgs | B25: 1 | C25: =D25+E25 -> 202 | D25: 151 | E25: 51 | F25: 1544.38 | G25: =F25/151 -> 10.227682 | H25: =ROUND(E25*G25*2,2) -> 1043.22 | I25: =ROUND(H25*1.2359,2) -> 1289.32
... A29: Ķirurgs | B29: 1 | C29: =D29+E29 -> 224.5 | D29: 151 | E29: 73.5 | F29: 1544.38 | G29: =F29/151 -> 10.227682 | H29: =ROUND(E29*G29*2,2) -> 1503.47 | I29: =ROUND(H29*1.2359,2) -> 1858.14
A30: Ķirurgs | B30: 1 | C30: =D30+E30 -> 219 | D30: 151 | E30: 68 | F30: 1544.38 | G30: =F30/151 -> 10.227682 | H30: =ROUND(E30*G30*2,2) -> 1390.96 | I30: =ROUND(H30*1.2077,2) -> 1679.86
A31: Kardiologs | B31: 1 | C31: =D31+E31 -> 247 | D31: 143 | E31: 104 | F31: 1544.38 | G31: =F31/151 -> 10.227682 | H31: =ROUND(E31*G31*2,2) -> 2127.36 | I31: =ROUND(H31*1.2359,2) -> 2629.2
A32: Kardiologs | B32: 1 | C32: =D32+E32 -> 172 | D32: 132 | E32: 40 | F32: 1544.38 | G32: =F32/151 -> 10.227682 | H32: =ROUND(E32*G32*2,2) -> 818.21 | I32: =ROUND(H32*1.2359,2) -> 1011.23
A33: Kardiologs | B33: 1 | C33: =D33+E33 -> 215 | D33: 151 | E33: 64 | F33: 1544.38 | G33: =F33/151 -> 10.227682 | H33: =ROUND(E33*G33*2,2) -> 1309.14 | I33: =ROUND(H33*1.2077,2) -> 1581.05
A34: Kardiologs | B34: 1 | C34: =D34+E34 -> 122 | D34: 90 | E34: 32 | F34: 1544.38 | G34: =F34/151 -> 10.227682 | H34: =ROUND(E34*G34*2,2) -> 654.57 | I34: =ROUND(H34*1.2359,2) -> 808.98
A35: Kardiologs | B35: 1 | C35: =D35+E35 -> 204 | D35: 132 | E35: 72 | F35: 1544.38 | G35: =F35/151 -> 10.227682 | H35: =ROUND(E35*G35*2,2) -> 1472.79 | I35: =ROUND(H35*1.2359,2) -> 1820.22
A36: Kardiologs | B36: 1 | C36: =D36+E36 -> 64 | D36: 48 | E36: 16 | F36: 1544.38 | G36: =F36/151 -> 10.227682 | H36: =ROUND(E36*G36*2,2) -> 327.29 | I36: =ROUND(H36*1.2359,2) -> 404.5
A37: Internists | B37: 1 | C37: =D37+E37 -> 271 | D37: 143 | E37: 128 | F37: 1544.38 | G37: =F37/151 -> 10.227682 | H37: =ROUND(E37*G37*2,2) -> 2618.29 | I37: =ROUND(H37*1.2359,2) -> 3235.94
A38: Bērnu ķirurgs | B38: 1 | C38: =D38+E38 -> 247 | D38: 151 | E38: 96 | F38: 1544.38 | G38: =F38/151 -> 10.227682 | H38: =ROUND(E38*G38*2,2) -> 1963.71 | I38: =ROUND(H38*1.2359,2) -> 2426.95
A39: Pediatrs | B39: 1 | C39: =D39+E39 -> 184 | D39: 143 | E39: 41 | F39: 1544.38 | G39: =F39/151 -> 10.227682 | H39: =ROUND(E39*G39*2,2) -> 838.67 | I39: =ROUND(H39*1.2359,2) -> 1036.51
A40: Pediatrs | B40: 1 | C40: =D40+E40 -> 247 | D40: 151 | E40: 96 | F40: 1544.38 | G40: =F40/151 -> 10.227682 | H40: =ROUND(E40*G40*2,2) -> 1963.71 | I40: =ROUND(H40*1.2077,2) -> 2371.57
A41: Pediatrs | B41: 1 | C41: =D41+E41 -> 230 | D41: 151 | E41: 79 | F41: 1544.38 | G41: =F41/151 -> 10.227682 | H41: =ROUND(E41*G41*2,2) -> 1615.97 | I41: =ROUND(H41*1.2359,2) -> 1997.18
A42: Pediatrs | B42: 1 | C42: =D42+E42 -> 127 | D42: 79 | E42: 48 | F42: 1544.38 | G42: =F42/151 -> 10.227682 | H42: =ROUND(E42*G42*2,2) -> 981.86 | I42: =ROUND(H42*1.2359,2) -> 1213.48
A43: Pediatrs | B43: 1 | C43: =D43+E43 -> 167 | D43: 151 | E43: 16 | F43: 1544.38 | G43: =F43/151 -> 10.227682 | H43: =ROUND(E43*G43*2,2) -> 327.29 | I43: =ROUND(H43*1.2359,2) -> 404.5
A44: Pediatrs | B44: 1 | C44: =D44+E44 -> 184 | D44: 151 | E44: 33 | F44: 1544.38 | G44: =F44/151 -> 10.227682 | H44: =ROUND(E44*G44*2,2) -> 675.03 | I44: =ROUND(H44*1.2359,2) -> 834.27
A45: Neonatologs | B45: 1 | C45: =D45+E45 -> 56 | D45: 48 | E45: 8 | F45: 1544.38 | G45: =F45/151 -> 10.227682 | H45: =ROUND(E45*G45*2,2) -> 163.64 | I45: =ROUND(H45*1.2359,2) -> 202.24
A46: Neonatologs | B46: 1 | C46: =D46+E46 -> 255 | D46: 135 | E46: 120 | F46: 1544.38 | G46: =F46/151 -> 10.227682 | H46: =ROUND(E46*G46*2,2) -> 2454.64 | I46: =ROUND(H46*1.2359,2) -> 3033.69
A47: Ģinekologs | B47: 1 | C47: =D47+E47 -> 175 | D47: 151 | E47: 24 | F47: 1544.38 | G47: =F47/151 -> 10.227682 | H47: =ROUND(E47*G47*2,2) -> 490.93 | I47: =ROUND(H47*1.2359,2) -> 606.74
A48: Ģinekologs | B48: 1 | C48: =D48+E48 -> 271 | D48: 151 | E48: 120 | F48: 1544.38 | G48: =F48/151 -> 10.227682 | H48: =ROUND(E48*G48*2,2) -> 2454.64 | I48: =ROUND(H48*1.2359,2) -> 3033.69
A49: Ģinekologs | B49: 1 | C49: =D49+E49 -> 176 | D49: 151 | E49: 25 | F49: 1544.38 | G49: =F49/151 -> 10.227682 | H49: =ROUND(E49*G49*2,2) -> 511.38 | I49: =ROUND(H49*1.2077,2) -> 617.59
A50: Ģinekologs | B50: 1 | C50: =D50+E50 -> 167 | D50: 151 | E50: 16 | F50: 1544.38 | G50: =F50/151 -> 10.227682 | H50: =ROUND(E50*G50*2,2) -> 327.29 | I50: =ROUND(H50*1.2359,2) -> 404.5
A51: Ģinekologs | B51: 1 | C51: =D51+E51 -> 177 | D51: 151 | E51: 26 | F51: 1544.38 | G51: =F51/151 -> 10.227682 | H51: =ROUND(E51*G51*2,2) -> 531.84 | I51: =ROUND(H51*1.2359,2) -> 657.3
A52: Ģinekologs | B52: 1 | C52: =D52+E52 -> 240 | D52: 151 | E52: 89 | F52: 1544.38 | G52: =F52/151 -> 10.227682 | H52: =ROUND(E52*G52*2,2) -> 1820.53 | I52: =ROUND(H52*1.2359,2) -> 2249.99
A53: Ārsts (dežūrslodze) | B53: 1 | C53: =D53+E53 -> 218.5 | D53: 151 | E53: 67.5 | F53: 1544.38 | G53: =F53/151 -> 10.227682 | H53: =ROUND(E53*G53*2,2) -> 1380.74 | I53: =ROUND(H53*1.2359,2) -> 1706.46
A54: Ārsts (dežūrslodze) | B54: 1 | C54: =D54+E54 -> 240 | D54: 151 | E54: 89 | F54: 1544.38 | G54: =F54/151 -> 10.227682 | H54: =ROUND(E54*G54*2,2) -> 1820.53 | I54: =ROUND(H54*1.2077,2) -> 2198.65
A55: Ārsts | B55: 1 | C55: =D55+E55 -> 203 | D55: 151 | E55: 52 | F55: 1544.38 | G55: =F55/151 -> 10.227682 | H55: =ROUND(E55*G55*2,2) -> 1063.68 | I55: =ROUND(H55*1.2359,2) -> 1314.6
A56: Ārsts | B56: 1 | C56: =D56+E56 -> 183 | D56: 151 | E56: 32 | F56: 1544.38 | G56: =F56/151 -> 10.227682 | H56: =ROUND(E56*G56*2,2) -> 654.57 | I56: =ROUND(H56*1.2359,2) -> 808.98
A57: Radiologs (diagnosts) | B57: 1 | C57: =D57+E57 -> 151 | D57: 132 | E57: 19 | F57: 1765.84 | G57: =F57/151 -> 11.694305 | H57: =ROUND(E57*G57*2,2) -> 444.38 | I57: =ROUND(H57*1.2359,2) -> 549.21
A58: Radiologs (diagnosts) | B58: 1 | C58: =D58+E58 -> 180 | D58: 132 | E58: 48 | F58: 1765.84 | G58: =F58/151 -> 11.694305 | H58: =ROUND(E58*G58*2,2) -> 1122.65 | I58: =ROUND(H58*1.2359,2) -> 1387.48
A59: Radiologs (diagnosts) | B59: 1 | C59: =D59+E59 -> 117 | D59: 104 | E59: 13 | F59: 1765.84 | G59: =F59/151 -> 11.694305 | H59: =ROUND(E59*G59*2,2) -> 304.05 | I59: =ROUND(H59*1.2359,2) -> 375.78
A60: Radiologs (diagnosts) | B60: 1 | C60: =D60+E60 -> 131 | D60: 105 | E60: 26 | F60: 1765.84 | G60: =F60/151 -> 11.694305 | H60: =ROUND(E60*G60*2,2) -> 608.1 | I60: =ROUND(H60*1.2359,2) -> 751.55
A61: Anesteziologs un reanimatologs | B61: 1 | C61: =D61+E61 -> 183 | D61: 151 | E61: 32 | F61: 1544.38 | G61: =F61/151 -> 10.227682 | H61: =ROUND(E61*G61*2,2) -> 654.57 | I61: =ROUND(H61*1.2077,2) -> 790.52
A62: Anesteziologs un reanimatologs | B62: 1 | C62: =D62+E62 -> 176 | D62: 151 | E62: 25 | F62: 1544.38 | G62: =F62/151 -> 10.227682 | H62: =ROUND(E62*G62*2,2) -> 511.38 | I62: =ROUND(H62*1.2359,2) -> 632.01
A63: Anesteziologs un reanimatologs | B63: 1 | C63: =D63+E63 -> 200 | D63: 151 | E63: 49 | F63: 1544.38 | G63: =F63/151 -> 10.227682 | H63: =ROUND(E63*G63*2,2) -> 1002.31 | I63: =ROUND(H63*1.2359,2) -> 1238.75
A64: Anesteziologs un reanimatologs | B64: 1 | C64: =D64+E64 -> 159 | D64: 127 | E64: 32 | F64: 1544.38 | G64: =F64/151 -> 10.227682 | H64: =ROUND(E64*G64*2,2) -> 654.57 | I64: =ROUND(H64*1.2359,2) -> 808.98
A65: Anesteziologs un reanimatologs | B65: 1 | C65: =D65+E65 -> 207 | D65: 151 | E65: 56 | F65: 1544.38 | G65: =F65/151 -> 10.227682 | H65: =ROUND(E65*G65*2,2) -> 1145.5 | I65: =ROUND(H65*1.2359,2) -> 1415.72
A66: Anesteziologs un reanimatologs | B66: 1 | C66: =D66+E66 -> 208 | D66: 151 | E66: 57 | F66: 1544.38 | G66: =F66/151 -> 10.227682 | H66: =ROUND(E66*G66*2,2) -> 1165.96 | I66: =ROUND(H66*1.2359,2) -> 1441.01
A67: Anesteziologs un reanimatologs | B67: 1 | C67: =D67+E67 -> 111 | D67: 64 | E67: 47 | F67: 1544.38 | G67: =F67/151 -> 10.227682 | H67: =ROUND(E67*G67*2,2) -> 961.4 | I67: =ROUND(H67*1.2359,2) -> 1188.19
A68: Anesteziologs un reanimatologs | B68: 1 | C68: =D68+E68 -> 175 | D68: 151 | E68: 24 | F68: 1544.38 | G68: =F68/151 -> 10.227682 | H68: =ROUND(E68*G68*2,2) -> 490.93 | I68: =ROUND(H68*1.2359,2) -> 606.74
A69: Ārstniecības un pacientu aprūpes personas un funkcionālo speciālistu asistenti, kopā, tai skaitā: | B69: =SUM(B70:B110) -> 41 | C69: =SUM(C70:C110) -> 7040 | D69: =SUM(D70:D110) -> 5465 | E69: =SUM(E70:E110) -> 1575 | F69: 0 | G69: =F69/151 -> 0 | H69: =SUM(H70:H110) -> 20637.66 | I69: =SUM(I70:I110) -> 25506.13
A70: Ārsta palīgs | B70: 1 | C70: =D70+E70 -> 144 | D70: 87 | E70: 57 | F70: 1230.12 | G70: =F70/151 -> 8.1464901 | H70: =ROUND(E70*G70*2,2) -> 928.7 | I70: =ROUND(H70*1.2359,2) -> 1147.78
A71: Ārsta palīgs | B71: 1 | C71: =D71+E71 -> 98 | D71: 79 | E71: 19 | F71: 1230.12 | G71: =F71/151 -> 8.1464901 | H71: =ROUND(E71*G71*2,2) -> 309.57 | I71: =ROUND(H71*1.2359,2) -> 382.6
A72: Ārsta palīgs | B72: 1 | C72: =D72+E72 -> 208 | D72: 151 | E72: 57 | F72: 960.75 | G72: =F72/151 -> 6.3625828 | H72: =ROUND(E72*G72*2,2) -> 725.33 | I72: =ROUND(H72*1.2359,2) -> 896.44
A73: Ārsta palīgs | B73: 1 | C73: =D73+E73 -> 157 | D73: 111 | E73: 46 | F73: 1230.12 | G73: =F73/151 -> 8.1464901 | H73: =ROUND(E73*G73*2,2) -> 749.48 | I73: =ROUND(H73*1.2359,2) -> 926.28
A74: Ārsta palīgs | B74: 1 | C74: =D74+E74 -> 204 | D74: 151 | E74: 53 | F74: 960.75 | G74: =F74/151 -> 6.3625828 | H74: =ROUND(E74*G74*2,2) -> 674.43 | I74: =ROUND(H74*1.2359,2) -> 833.53
A75: Ārsta palīgs | B75: 1 | C75: =D75+E75 -> 192 | D75: 151 | E75: 41 | F75: 960.75 | G75: =F75/151 -> 6.3625828 | H75: =ROUND(E75*G75*2,2) -> 521.73 | I75: =ROUND(H75*1.2359,2) -> 644.81
A76: Ārsta palīgs | B76: 1 | C76: =D76+E76 -> 171 | D76: 135 | E76: 36 | F76: 1230.12 | G76: =F76/151 -> 8.1464901 | H76: =ROUND(E76*G76*2,2) -> 586.55 | I76: =ROUND(H76*1.2359,2) -> 724.92
A77: Ārsta palīgs | B77: 1 | C77: =D77+E77 -> 96 | D77: 79 | E77: 17 | F77: 960.75 | G77: =F77/151 -> 6.3625828 | H77: =ROUND(E77*G77*2,2) -> 216.33 | I77: =ROUND(H77*1.2359,2) -> 267.36
A78: Operāciju māsa | B78: 1 | C78: =D78+E78 -> 184 | D78: 151 | E78: 33 | F78: 960.75 | G78: =F78/151 -> 6.3625828 | H78: =ROUND(E78*G78*2,2) -> 419.93 | I78: =ROUND(H78*1.2359,2) -> 518.99
A79: Operāciju māsa | B79: 1 | C79: =D79+E79 -> 184 | D79: 151 | E79: 33 | F79: 960.75 | G79: =F79/151 -> 6.3625828 | H79: =ROUND(E79*G79*2,2) -> 419.93 | I79: =ROUND(H79*1.2359,2) -> 518.99
A80: Medicīnas māsa | B80: 1 | C80: =D80+E80 -> 200 | D80: 151 | E80: 49 | F80: 960.75 | G80: =F80/151 -> 6.3625828 | H80: =ROUND(E80*G80*2,2) -> 623.53 | I80: =ROUND(H80*1.2359,2) -> 770.62
A81: Medicīnas māsa | B81: 1 | C81: =D81+E81 -> 104 | D81: 72 | E81: 32 | F81: 960.75 | G81: =F81/151 -> 6.3625828 | H81: =ROUND(E81*G81*2,2) -> 407.21 | I81: =ROUND(H81*1.2359,2) -> 503.27
... A110: Internās aprūpes māsa | B110: 1 | C110: =D110+E110 -> 200 | D110: 151 | E110: 49 | F110: 960.75 | G110: =F110/151 -> 6.3625828 | H110: =ROUND(E110*G110*2,2) -> 623.53 | I110: =ROUND(H110*1.2359,2) -> 770.62
A111: Ārstniecības un pacientu aprūpes atbalsta personas, māsu palīgi, zobārstu asistenti, kopā, tai skaitā: | B111: =SUM(B112:B123) -> 12 | C111: =SUM(C112:C123) -> 2343 | D111: =SUM(D112:D123) -> 1812 | E111: =SUM(E112:E123) -> 531 | F111: 0 | G111: =F111/151 -> 0 | H111: =SUM(H112:H123) -> 4925.8 | I111: =SUM(I112:I123) -> 6087.78
A112: Māsas palīgs | B112: 1 | C112: =D112+E112 -> 188 | D112: 151 | E112: 37 | F112: 700.37 | G112: =F112/151 -> 4.6382119 | H112: =ROUND(E112*G112*2,2) -> 343.23 | I112: =ROUND(H112*1.2359,2) -> 424.2
A113: Māsas palīgs | B113: 1 | C113: =D113+E113 -> 196 | D113: 151 | E113: 45 | F113: 700.37 | G113: =F113/151 -> 4.6382119 | H113: =ROUND(E113*G113*2,2) -> 417.44 | I113: =ROUND(H113*1.2359,2) -> 515.91
A114: Māsas palīgs | B114: 1 | C114: =D114+E114 -> 188 | D114: 151 | E114: 37 | F114: 700.37 | G114: =F114/151 -> 4.6382119 | H114: =ROUND(E114*G114*2,2) -> 343.23 | I114: =ROUND(H114*1.2359,2) -> 424.2
A115: Māsas palīgs | B115: 1 | C115: =D115+E115 -> 208 | D115: 151 | E115: 57 | F115: 700.37 | G115: =F115/151 -> 4.6382119 | H115: =ROUND(E115*G115*2,2) -> 528.76 | I115: =ROUND(H115*1.2359,2) -> 653.49
A116: Māsas palīgs | B116: 1 | C116: =D116+E116 -> 191 | D116: 151 | E116: 40 | F116: 700.37 | G116: =F116/151 -> 4.6382119 | H116: =ROUND(E116*G116*2,2) -> 371.06 | I116: =ROUND(H116*1.2359,2) -> 458.59
A117: Māsas palīgs | B117: 1 | C117: =D117+E117 -> 208 | D117: 151 | E117: 57 | F117: 700.37 | G117: =F117/151 -> 4.6382119 | H117: =ROUND(E117*G117*2,2) -> 528.76 | I117: =ROUND(H117*1.2359,2) -> 653.49
A118: Māsas palīgs | B118: 1 | C118: =D118+E118 -> 204 | D118: 151 | E118: 53 | F118: 700.37 | G118: =F118/151 -> 4.6382119 | H118: =ROUND(E118*G118*2,2) -> 491.65 | I118: =ROUND(H118*1.2359,2) -> 607.63
A119: Māsas palīgs | B119: 1 | C119: =D119+E119 -> 192 | D119: 151 | E119: 41 | F119: 700.37 | G119: =F119/151 -> 4.6382119 | H119: =ROUND(E119*G119*2,2) -> 380.33 | I119: =ROUND(H119*1.2359,2) -> 470.05
A120: Māsas palīgs | B120: 1 | C120: =D120+E120 -> 204 | D120: 151 | E120: 53 | F120: 700.37 | G120: =F120/151 -> 4.6382119 | H120: =ROUND(E120*G120*2,2) -> 491.65 | I120: =ROUND(H120*1.2359,2) -> 607.63
A121: Māsas palīgs | B121: 1 | C121: =D121+E121 -> 188 | D121: 151 | E121: 37 | F121: 700.37 | G121: =F121/151 -> 4.6382119 | H121: =ROUND(E121*G121*2,2) -> 343.23 | I121: =ROUND(H121*1.2359,2) -> 424.2
A122: Māsas palīgs | B122: 1 | C122: =D122+E122 -> 168 | D122: 151 | E122: 17 | F122: 700.37 | G122: =F122/151 -> 4.6382119 | H122: =ROUND(E122*G122*2,2) -> 157.7 | I122: =ROUND(H122*1.2359,2) -> 194.9
A123: Māsas palīgs | B123: 1 | C123: =D123+E123 -> 208 | D123: 151 | E123: 57 | F123: 700.37 | G123: =F123/151 -> 4.6382119 | H123: =ROUND(E123*G123*2,2) -> 528.76 | I123: =ROUND(H123*1.2359,2) -> 653.49
A124: "Plaušu slimību un tuberkulozes centrs " Uzņemšanas nodaļa, Covid 19 nodaļa | B124: =B125+B130+B136 -> 13 | C124: =C125+C130+C136 -> 2084 | D124: =D125+D130+D136 -> 1719 | E124: =E125+E130+E136 -> 365 | H124: =H125+H130+H136 -> 7393 | I124: =I125+I130+I136 -> 9137.04
A125: Ārsti, zobārsti un funkcionālie speciālisti, kopā, tai skaitā: | B125: =SUM(B126:B129) -> 4 | C125: =SUM(C126:C129) -> 788 | D125: =SUM(D126:D129) -> 531 | E125: =SUM(E126:E129) -> 257 | H125: =SUM(H126:H129) -> 6010.88 | I125: =SUM(I126:I129) -> 7428.85
A126: Infektologs | B126: 1 | C126: =D126+E126 -> 308 | D126: 132 | E126: 176 | F126: 1765.84 | G126: =F126/151 -> 11.694305 | H126: =ROUND(E126*G126*2,2) -> 4116.4 | I126: =ROUND(H126*1.2359,2) -> 5087.46
A127: Pneimonologs | B127: 1 | C127: =D127+E127 -> 137 | D127: 97 | E127: 40 | F127: 1765.84 | G127: =F127/151 -> 11.694305 | H127: =ROUND(E127*G127*2,2) -> 935.54 | I127: =ROUND(H127*1.2359,2) -> 1156.23
A128: Kardiologs | B128: 1 | C128: =D128+E128 -> 167 | D128: 151 | E128: 16 | F128: 1765.84 | G128: =F128/151 -> 11.694305 | H128: =ROUND(E128*G128*2,2) -> 374.22 | I128: =ROUND(H128*1.2359,2) -> 462.5
A129: Ārsts | B129: 1 | C129: =D129+E129 -> 176 | D129: 151 | E129: 25 | F129: 1765.84 | G129: =F129/151 -> 11.694305 | H129: =ROUND(E129*G129*2,2) -> 584.72 | I129: =ROUND(H129*1.2359,2) -> 722.66
A130: Ārstniecības un pacientu aprūpes personas un funkcionālo speciālistu asistenti, kopā, tai skaitā: | B130: =SUM(B131:B135) -> 5 | C130: =SUM(C131:C135) -> 720 | D130: =SUM(D131:D135) -> 660 | E130: =SUM(E131:E135) -> 60 | F130: 0 | H130: =SUM(H131:H135) -> 873 | I130: =SUM(I131:I135) -> 1078.95
A131: Medicīnas māsa | B131: 1 | C131: =D131+E131 -> 144 | D131: 132 | E131: 12 | F131: 960.3 | G131: =F131/132 -> 7.275 | H131: =ROUND(E131*G131*2,2) -> 174.6 | I131: =ROUND(H131*1.2359,2) -> 215.79
A132: Internās aprūpes māsa | B132: 1 | C132: =D132+E132 -> 144 | D132: 132 | E132: 12 | F132: 960.3 | G132: =F132/132 -> 7.275 | H132: =ROUND(E132*G132*2,2) -> 174.6 | I132: =ROUND(H132*1.2359,2) -> 215.79
A133: Internās aprūpes māsa | B133: 1 | C133: =D133+E133 -> 144 | D133: 132 | E133: 12 | F133: 960.3 | G133: =F133/132 -> 7.275 | H133: =ROUND(E133*G133*2,2) -> 174.6 | I133: =ROUND(H133*1.2359,2) -> 215.79
A134: Internās aprūpes māsa | B134: 1 | C134: =D134+E134 -> 144 | D134: 132 | E134: 12 | F134: 960.3 | G134: =F134/132 -> 7.275 | H134: =ROUND(E134*G134*2,2) -> 174.6 | I134: =ROUND(H134*1.2359,2) -> 215.79
...

Sheet Daugavpils_reģ_maijs
H1: 1.11.Pielikums
A2: Pārskats par darba veicējiem (ārstniecības personām), virs normālā darba laika nostrādātām stundām, apmaksājamām stundām un izdevumiem, kas radušies saistībā ar mērķi ierobežot Covid-19 izplatību
A4: Iestādes nosaukums: SIA "Daugavpils reģionālā slimnīca"
A5: Pārskata periods: Maijs
B7: Nodarbināto skaits mēnesī | C7: Apmaksājamais laiks mēnesī, stundas (tai skaitā summētā darba laika ietvaros) | F7: Mēnešalga no kuras rēķina stundas likmi | G7: Stundas likme (aprēķināta atbilstoši mēnešalgai vai darba līgumā noteiktā stundas likme) | H7: Apmaksājamā 100% piemaksa par nostrādātām virsstundām virs normālā darba laika (tai skaitā summētā darba laika ietvaros) | I7: Izdevumi par virsstundām kopā ar VSOAI, EUR
C8: Kopā | D8: līdz normālam darba laikam | E8: virsstundas - virs normālā darba laika, kas saistītas ar darbu ar Covid-19
A10: 1 | B10: 2 | C10: 3=4+5 | D10: 4 | E10: 5 | F10: 6 | G10: 7 | H10: 8 | I10: 9=8 +VSOAI
A11: KOPĀ | B11: =B12+B123+B141+B160 -> 158 | E11: =E12+E123+E141+E160 -> 6182.5 | H11: =H12+H123+H141+H160 -> 100958.29 | I11: =I12+I123+I141+I160 -> 124625.49
A12: Centrālā slimnīca "Uzņemšanas nodaļa" | B12: =B13+B58+B105 -> 107 | E12: =E13+E58+E105 -> 4817 | H12: =H13+H58+H105 -> 83074.28 | I12: =I13+I58+I105 -> 102550.03
A13: Ārsti, zobārsti un funkcionālie speciālisti, kopā, tai skaitā: | B13: =SUM(B14:B57) -> 44 | E13: =SUM(E14:E57) -> 2811 | H13: =SUM(H14:H57) -> 58795.28 | I13: =SUM(I14:I57) -> 72553.78
A14: Traumatologs un ortopēds | B14: 1 | C14: =D14+E14 -> 203 | D14: 167 | E14: 36 | F14: 1708.03 | G14: =F14/167 -> 10.227725 | H14: =ROUND(E14*G14*2,2) -> 736.4 | I14: =ROUND(H14*1.2359,2) -> 910.12
A15: Traumatologs un ortopēds | B15: 1 | C15: =D15+E15 -> 199 | D15: 167 | E15: 32 | F15: 1708.03 | G15: =F15/167 -> 10.227725 | H15: =ROUND(E15*G15*2,2) -> 654.57 | I15: =ROUND(H15*1.2359,2) -> 808.98
A16: Traumatologs un ortopēds | B16: 1 | C16: =D16+E16 -> 192.5 | D16: 119 | E16: 73.5 | F16: 1708.03 | G16: =F16/167 -> 10.227725 | H16: =ROUND(E16*G16*2,2) -> 1503.48 | I16: =ROUND(H16*1.2359,2) -> 1858.15
A17: Traumatologs un ortopēds | B17: 1 | C17: =D17+E17 -> 352 | D17: 167 | E17: 185 | F17: 1708.03 | G17: =F17/167 -> 10.227725 | H17: =ROUND(E17*G17*2,2) -> 3784.26 | I17: =ROUND(H17*1.2359,2) -> 4676.97
A18: Rezidents (dežūras) | B18: 1 | C18: =D18+E18 -> 204 | D18: 167 | E18: 37 | F18: 1708.03 | G18: =F18/167 -> 10.227725 | H18: =ROUND(E18*G18*2,2) -> 756.85 | I18: =ROUND(H18*1.2359,2) -> 935.39
A19: Rezidents (dežūras) | B19: 1 | C19: =D19+E19 -> 284 | D19: 167 | E19: 117 | F19: 1708.03 | G19: =F19/167 -> 10.227725 | H19: =ROUND(E19*G19*2,2) -> 2393.29 | I19: =ROUND(H19*1.2359,2) -> 2957.87
A20: radiologs diagnosts | B20: 1 | C20: =D20+E20 -> 112 | D20: 104 | E20: 8 | F20: 1707.37 | G20: =F20/146 -> 11.694315 | H20: =ROUND(E20*G20*2,2) -> 187.11 | I20: =ROUND(H20*1.2359,2) -> 231.25
A21: radiologs (diagnosts) | B21: 1 | C21: =D21+E21 -> 179 | D21: 146 | E21: 33 | F21: 1707.37 | G21: =F21/146 -> 11.694315 | H21: =ROUND(E21*G21*2,2) -> 771.82 | I21: =ROUND(H21*1.2359,2) -> 953.89
A22: radiologs (diagnosts) | B22: 1 | C22: =D22+E22 -> 78.5 | D22: 63 | E22: 15.5 | F22: 1707.37 | G22: =F22/146 -> 11.694315 | H22: =ROUND(E22*G22*2,2) -> 362.52 | I22: =ROUND(H22*1.2359,2) -> 448.04
A23: radiologs (diagnosts) | B23: 1 | C23: =D23+E23 -> 195 | D23: 146 | E23: 49 | F23: 1707.37 | G23: =F23/146 -> 11.694315 | H23: =ROUND(E23*G23*2,2) -> 1146.04 | I23: =ROUND(H23*1.2359,2) -> 1416.39
A24: pediatrs | B24: 1 | C24: =D24+E24 -> 168 | D24: 167 | E24: 1 | F24: 1708.03 | G24: =F24/167 -> 10.227725 | H24: =ROUND(E24*G24*2,2) -> 20.46 | I24: =ROUND(H24*1.2359,2) -> 25.29
A25: pediatrs | B25: 1 | C25: =D25+E25 -> 215 | D25: 151 | E25: 64 | F25: 1708.03 | G25: =F25/167 -> 10.227725 | H25: =ROUND(E25*G25*2,2) -> 1309.15 | I25: =ROUND(H25*1.2359,2) -> 1617.98
A26: pediatrs | B26: 1 | C26: =D26+E26 -> 265 | D26: 167 | E26: 98 | F26: 1708.03 | G26: =F26/167 -> 10.227725 | H26: =ROUND(E26*G26*2,2) -> 2004.63 | I26: =ROUND(H26*1.2359,2) -> 2477.52
A27: pediatrs | B27: 1 | C27: =D27+E27 -> 215 | D27: 167 | E27: 48 | F27: 1708.03 | G27: =F27/167 -> 10.227725 | H27: =ROUND(E27*G27*2,2) -> 981.86 | I27: =ROUND(H27*1.2359,2) -> 1213.48
A28: pediatrs | B28: 1 | C28: =D28+E28 -> 191 | D28: 167 | E28: 24 | F28: 1708.03 | G28: =F28/167 -> 10.227725 | H28: =ROUND(E28*G28*2,2) -> 490.93 | I28: =ROUND(H28*1.2359,2) -> 606.74
A29: Neirologs | B29: 1 | C29: =D29+E29 -> 239 | D29: 127 | E29: 112 | F29: 1708.03 | G29: =F29/167 -> 10.227725 | H29: =ROUND(E29*G29*2,2) -> 2291.01 | I29: =ROUND(H29*1.2359,2) -> 2831.46
A30: Neirologs | B30: 1 | C30: =D30+E30 -> 287 | D30: 151 | E30: 136 | F30: 1708.03 | G30: =F30/167 -> 10.227725 | H30: =ROUND(E30*G30*2,2) -> 2781.94 | I30: =ROUND(H30*1.2359,2) -> 3438.2
A31: Neatliekamās medicīnas ārsts | B31: 1 | C31: =D31+E31 -> 148 | D31: 127 | E31: 21 | F31: 1708.03 | G31: =F31/167 -> 10.227725 | H31: =ROUND(E31*G31*2,2) -> 429.56 | I31: =ROUND(H31*1.2359,2) -> 530.89
A32: Neatliekamās medicīnas ārsts | B32: 1 | C32: =D32+E32 -> 200 | D32: 167 | E32: 33 | F32: 1708.03 | G32: =F32/167 -> 10.227725 | H32: =ROUND(E32*G32*2,2) -> 675.03 | I32: =ROUND(H32*1.2359,2) -> 834.27
A33: ķirurgs | B33: 1 | C33: =D33+E33 -> 250 | D33: 167 | E33: 83 | F33: 1708.03 | G33: =F33/167 -> 10.227725 | H33: =ROUND(E33*G33*2,2) -> 1697.8 | I33: =ROUND(H33*1.2359,2) -> 2098.31
A34: ķirurgs | B34: 1 | C34: =D34+E34 -> 217.5 | D34: 167 | E34: 50.5 | F34: 1708.03 | G34: =F34/167 -> 10.227725 | H34: =ROUND(E34*G34*2,2) -> 1033 | I34: =ROUND(H34*1.2359,2) -> 1276.68
A35: ķirurgs | B35: 1 | C35: =D35+E35 -> 243.5 | D35: 167 | E35: 76.5 | F35: 1708.03 | G35: =F35/167 -> 10.227725 | H35: =ROUND(E35*G35*2,2) -> 1564.84 | I35: =ROUND(H35*1.2077,2) -> 1889.86
A36: ķirurgs | B36: 1 | C36: =D36+E36 -> 218 | D36: 167 | E36: 51 | F36: 1708.03 | G36: =F36/167 -> 10.227725 | H36: =ROUND(E36*G36*2,2) -> 1043.23 | I36: =ROUND(H36*1.2359,2) -> 1289.33
A37: ķirurgs | B37: 1 | C37: =D37+E37 -> 274 | D37: 146 | E37: 128 | F37: 1708.03 | G37: =F37/167 -> 10.227725 | H37: =ROUND(E37*G37*2,2) -> 2618.3 | I37: =ROUND(H37*1.2359,2) -> 3235.96
A38: ķirurgs | B38: 1 | C38: =D38+E38 -> 170 | D38: 146 | E38: 24 | F38: 1708.03 | G38: =F38/167 -> 10.227725 | H38: =ROUND(E38*G38*2,2) -> 490.93 | I38: =ROUND(H38*1.2359,2) -> 606.74
A39: ķirurgs | B39: 1 | C39: =D39+E39 -> 175 | D39: 111 | E39: 64 | F39: 1708.03 | G39: =F39/167 -> 10.227725 | H39: =ROUND(E39*G39*2,2) -> 1309.15 | I39: =ROUND(H39*1.2359,2) -> 1617.98
A40: kardiologs | B40: 1 | C40: =D40+E40 -> 223 | D40: 167 | E40: 56 | F40: 1708.03 | G40: =F40/167 -> 10.227725 | H40: =ROUND(E40*G40*2,2) -> 1145.51 | I40: =ROUND(H40*1.2359,2) -> 1415.74
A41: kardiologs | B41: 1 | C41: =D41+E41 -> 239 | D41: 167 | E41: 72 | F41: 1708.03 | G41: =F41/167 -> 10.227725 | H41: =ROUND(E41*G41*2,2) -> 1472.79 | I41: =ROUND(H41*1.2077,2) -> 1778.69
A42: kardiologs | B42: 1 | C42: =D42+E42 -> 255 | D42: 159 | E42: 96 | F42: 1708.03 | G42: =F42/167 -> 10.227725 | H42: =ROUND(E42*G42*2,2) -> 1963.72 | I42: =ROUND(H42*1.2359,2) -> 2426.96
A43: kardiologs | B43: 1 | C43: =D43+E43 -> 167 | D43: 118 | E43: 49 | F43: 1708.03 | G43: =F43/167 -> 10.227725 | H43: =ROUND(E43*G43*2,2) -> 1002.32 | I43: =ROUND(H43*1.2359,2) -> 1238.77
A44: kardiologs | B44: 1 | C44: =D44+E44 -> 191 | D44: 111 | E44: 80 | F44: 1708.03 | G44: =F44/167 -> 10.227725 | H44: =ROUND(E44*G44*2,2) -> 1636.44 | I44: =ROUND(H44*1.2359,2) -> 2022.48
A45: internists | B45: 1 | C45: =D45+E45 -> 158 | D45: 146 | E45: 12 | F45: 1708.03 | G45: =F45/167 -> 10.227725 | H45: =ROUND(E45*G45*2,2) -> 245.47 | I45: =ROUND(H45*1.2359,2) -> 303.38
A46: internists | B46: 1 | C46: =D46+E46 -> 271 | D46: 151 | E46: 120 | F46: 1708.03 | G46: =F46/167 -> 10.227725 | H46: =ROUND(E46*G46*2,2) -> 2454.65 | I46: =ROUND(H46*1.2359,2) -> 3033.7
A47: internists | B47: 1 | C47: =D47+E47 -> 255 | D47: 159 | E47: 96 | F47: 1708.03 | G47: =F47/167 -> 10.227725 | H47: =ROUND(E47*G47*2,2) -> 1963.72 | I47: =ROUND(H47*1.2359,2) -> 2426.96
A48: ginekologs,dzemdību speciālists | B48: 1 | C48: =D48+E48 -> 170 | D48: 167 | E48: 3 | F48: 1708.03 | G48: =F48/167 -> 10.227725 | H48: =ROUND(E48*G48*2,2) -> 61.37 | I48: =ROUND(H48*1.2359,2) -> 75.85
A49: Bērnu ķirurgs | B49: 1 | C49: =D49+E49 -> 255 | D49: 167 | E49: 88 | F49: 1708.03 | G49: =F49/167 -> 10.227725 | H49: =ROUND(E49*G49*2,2) -> 1800.08 | I49: =ROUND(H49*1.2359,2) -> 2224.72
A50: Ārsts (dežūrslodze) | B50: 1 | C50: =D50+E50 -> 209.5 | D50: 167 | E50: 42.5 | F50: 1708.03 | G50: =F50/167 -> 10.227725 | H50: =ROUND(E50*G50*2,2) -> 869.36 | I50: =ROUND(H50*1.2359,2) -> 1074.44
A51: ārsts (dežūrslodze) | B51: 1 | C51: =D51+E51 -> 179.5 | D51: 135 | E51: 44.5 | F51: 1708.03 | G51: =F51/167 -> 10.227725 | H51: =ROUND(E51*G51*2,2) -> 910.27 | I51: =ROUND(H51*1.2077,2) -> 1099.33
A52: Ārsts | B52: 1 | C52: =D52+E52 -> 199 | D52: 167 | E52: 32 | F52: 1708.03 | G52: =F52/167 -> 10.227725 | H52: =ROUND(E52*G52*2,2) -> 654.57 | I52: =ROUND(H52*1.2359,2) -> 808.98
A53: Ārsts | B53: 1 | C53: =D53+E53 -> 251 | D53: 167 | E53: 84 | F53: 1708.03 | G53: =F53/167 -> 10.227725 | H53: =ROUND(E53*G53*2,2) -> 1718.26 | I53: =ROUND(H53*1.2359,2) -> 2123.6
A54: internists-nod.vadītājs | B54: 1 | C54: =D54+E54 -> 242 | D54: 146 | E54: 96 | F54: 1707.37 | G54: =F54/146 -> 11.694315 | H54: =ROUND(E54*G54*2,2) -> 2245.31 | I54: =ROUND(H54*1.2359,2) -> 2774.98
A55: kardiologs | B55: 1 | C55: =D55+E55 -> 178 | D55: 146 | E55: 32 | F55: 1707.37 | G55: =F55/146 -> 11.694315 | H55: =ROUND(E55*G55*2,2) -> 748.44 | I55: =ROUND(H55*1.2359,2) -> 925
A56: infektologs | B56: 1 | C56: =D56+E56 -> 322 | D56: 146 | E56: 176 | F56: 1707.37 | G56: =F56/146 -> 11.694315 | H56: =ROUND(E56*G56*2,2) -> 4116.4 | I56: =ROUND(H56*1.2359,2) -> 5087.46
A57: Pneimonologs | B57: 1 | C57: =D57+E57 -> 178 | D57: 146 | E57: 32 | F57: 1707.37 | G57: =F57/146 -> 11.694315 | H57: =ROUND(E57*G57*2,2) -> 748.44 | I57: =ROUND(H57*1.2359,2) -> 925
A58: Ārstniecības un pacientu aprūpes personas un funkcionālo speciālistu asistenti, kopā, tai skaitā: | B58: =SUM(B59:B104) -> 46 | E58: =SUM(E59:E104) -> 1346 | H58: =SUM(H59:H104) -> 18103.38 | I58: =SUM(I59:I104) -> 22373.22
A59: operāciju māsa | B59: 1 | C59: =D59+E59 -> 192 | D59: 167 | E59: 25 | F59: 1062.55 | G59: =F59/167 -> 6.3625749 | H59: =ROUND(E59*G59*2,2) -> 318.13 | I59: =ROUND(H59*1.2359,2) -> 393.18
A60: operāciju māsa | B60: 1 | C60: =D60+E60 -> 176 | D60: 167 | E60: 9 | F60: 1062.55 | G60: =F60/167 -> 6.3625749 | H60: =ROUND(E60*G60*2,2) -> 114.53 | I60: =ROUND(H60*1.2359,2) -> 141.55
A61: operāciju māsa | B61: 1 | C61: =D61+E61 -> 152 | D61: 151 | E61: 1 | F61: 1062.55 | G61: =F61/167 -> 6.3625749 | H61: =ROUND(E61*G61*2,2) -> 12.73 | I61: =ROUND(H61*1.2359,2) -> 15.73
A62: Medicīnas māsa | B62: 1 | C62: =D62+E62 -> 148 | D62: 146 | E62: 2 | F62: 1214.93 | G62: =F62/167 -> 7.2750299 | H62: =ROUND(E62*G62*2,2) -> 29.1 | I62: =ROUND(H62*1.2359,2) -> 35.96
A63: Medicīnas māsa | B63: 1 | C63: =D63+E63 -> 224 | D63: 167 | E63: 57 | F63: 1062.55 | G63: =F63/167 -> 6.3625749 | H63: =ROUND(E63*G63*2,2) -> 725.33 | I63: =ROUND(H63*1.2359,2) -> 896.44
A64: Medicīnas māsa | B64: 1 | C64: =D64+E64 -> 196 | D64: 167 | E64: 29 | F64: 1062.55 | G64: =F64/167 -> 6.3625749 | H64: =ROUND(E64*G64*2,2) -> 369.03 | I64: =ROUND(H64*1.2359,2) -> 456.08
A65: Medicīnas māsa | B65: 1 | C65: =D65+E65 -> 204 | D65: 167 | E65: 37 | F65: 1062.55 | G65: =F65/167 -> 6.3625749 | H65: =ROUND(E65*G65*2,2) -> 470.83 | I65: =ROUND(H65*1.2359,2) -> 581.9
A66: Medicīnas māsa | B66: 1 | C66: =D66+E66 -> 208 | D66: 167 | E66: 41 | F66: 1062.55 | G66: =F66/167 -> 6.3625749 | H66: =ROUND(E66*G66*2,2) -> 521.73 | I66: =ROUND(H66*1.2359,2) -> 644.81
A67: Medicīnas māsa | B67: 1 | C67: =D67+E67 -> 175 | D67: 167 | E67: 8 | F67: 1070 | G67: =F67/167 -> 6.4071856 | H67: =ROUND(E67*G67*2,2) -> 102.51 | I67: =ROUND(H67*1.2359,2) -> 126.69
A68: Medicīnas māsa | B68: 1 | C68: =D68+E68 -> 167.5 | D68: 151 | E68: 16.5 | F68: 1070 | G68: =F68/167 -> 6.4071856 | H68: =ROUND(E68*G68*2,2) -> 211.44 | I68: =ROUND(H68*1.2359,2) -> 261.32
A69: Medicīnas māsa | B69: 1 | C69: =D69+E69 -> 200 | D69: 167 | E69: 33 | F69: 1062.55 | G69: =F69/167 -> 6.3625749 | H69: =ROUND(E69*G69*2,2) -> 419.93 | I69: =ROUND(H69*1.2359,2) -> 518.99
A70: Medicīnas māsa | B70: 1 | C70: =D70+E70 -> 140 | D70: 111 | E70: 29 | F70: 1062.55 | G70: =F70/167 -> 6.3625749 | H70: =ROUND(E70*G70*2,2) -> 369.03 | I70: =ROUND(H70*1.2359,2) -> 456.08
... A75: ķirurģiskās aprūpes māsa | B75: 1 | C75: =D75+E75 -> 88 | D75: 80 | E75: 8 | F75: 1062.55 | G75: =F75/167 -> 6.3625749 | H75: =ROUND(E75*G75*2,2) -> 101.8 | I75: =ROUND(H75*1.2359,2) -> 125.81
A76: Māsa (medicīnas māsa) | B76: 1 | C76: =D76+E76 -> 24 | D76: 21 | E76: 3 | F76: 1214.93 | G76: =F76/167 -> 7.2750299 | H76: =ROUND(E76*G76*2,2) -> 43.65 | I76: =ROUND(H76*1.2194,2) -> 53.23
A77: ķirurģiskās aprūpes māsa | B77: 1 | C77: =D77+E77 -> 192 | D77: 167 | E77: 25 | F77: 1062.55 | G77: =F77/167 -> 6.3625749 | H77: =ROUND(E77*G77*2,2) -> 318.13 | I77: =ROUND(H77*1.2359,2) -> 393.18
A78: ķirurģiskās aprūpes māsa | B78: 1 | C78: =D78+E78 -> 193 | D78: 167 | E78: 26 | F78: 1062.55 | G78: =F78/167 -> 6.3625749 | H78: =ROUND(E78*G78*2,2) -> 330.85 | I78: =ROUND(H78*1.2359,2) -> 408.9
A79: ķirurģiskās aprūpes māsa | B79: 1 | C79: =D79+E79 -> 188 | D79: 167 | E79: 21 | F79: 1062.55 | G79: =F79/167 -> 6.3625749 | H79: =ROUND(E79*G79*2,2) -> 267.23 | I79: =ROUND(H79*1.2359,2) -> 330.27
A80: Internās aprūpes māsa | B80: 1 | C80: =D80+E80 -> 156 | D80: 146 | E80: 10 | F80: 1062.15 | G80: =F80/146 -> 7.275 | H80: =ROUND(E80*G80*2,2) -> 145.5 | I80: =ROUND(H80*1.2359,2) -> 179.82
A81: Internās aprūpes māsa | B81: 1 | C81: =D81+E81 -> 152 | D81: 146 | E81: 6 | F81: 1062.15 | G81: =F81/146 -> 7.275 | H81: =ROUND(E81*G81*2,2) -> 87.3 | I81: =ROUND(H81*1.2359,2) -> 107.89
A82: Internās aprūpes māsa | B82: 1 | C82: =D82+E82 -> 92 | D82: 87 | E82: 5 | F82: 1062.55 | G82: =F82/167 -> 6.3625749 | H82: =ROUND(E82*G82*2,2) -> 63.63 | I82: =ROUND(H82*1.2359,2) -> 78.64
A83: Internās aprūpes māsa | B83: 1 | C83: =D83+E83 -> 240 | D83: 167 | E83: 73 | F83: 1062.55 | G83: =F83/167 -> 6.3625749 | H83: =ROUND(E83*G83*2,2) -> 928.94 | I83: =ROUND(H83*1.2359,2) -> 1148.08
A84: Internās aprūpes māsa | B84: 1 | C84: =D84+E84 -> 120 | D84: 87 | E84: 33 | F84: 1062.55 | G84: =F84/167 -> 6.3625749 | H84: =ROUND(E84*G84*2,2) -> 419.93 | I84: =ROUND(H84*1.2359,2) -> 518.99
A85: Internās aprūpes māsa | B85: 1 | C85: =D85+E85 -> 204 | D85: 167 | E85: 37 | F85: 1062.55 | G85: =F85/167 -> 6.3625749 | H85: =ROUND(E85*G85*2,2) -> 470.83 | I85: =ROUND(H85*1.2359,2) -> 581.9
A86: Internās aprūpes māsa | B86: 1 | C86: =D86+E86 -> 204 | D86: 167 | E86: 37 | F86: 1062.55 | G86: =F86/167 -> 6.3625749 | H86: =ROUND(E86*G86*2,2) -> 470.83 | I86: =ROUND(H86*1.2359,2) -> 581.9
A87: Internās aprūpes māsa | B87: 1 | C87: =D87+E87 -> 172 | D87: 167 | E87: 5 | F87: 1062.55 | G87: =F87/167 -> 6.3625749 | H87: =ROUND(E87*G87*2,2) -> 63.63 | I87: =ROUND(H87*1.2359,2) -> 78.64
A88: Internās aprūpes māsa | B88: 1 | C88: =D88+E88 -> 176 | D88: 167 | E88: 9 | F88: 1062.55 | G88: =F88/167 -> 6.3625749 | H88: =ROUND(E88*G88*2,2) -> 114.53 | I88: =ROUND(H88*1.2359,2) -> 141.55
A89: Internās aprūpes māsa | B89: 1 | C89: =D89+E89 -> 124 | D89: 80 | E89: 44 | F89: 1062.55 | G89: =F89/167 -> 6.3625749 | H89: =ROUND(E89*G89*2,2) -> 559.91 | I89: =ROUND(H89*1.2359,2) -> 691.99
A90: Internās aprūpes māsa | B90: 1 | C90: =D90+E90 -> 196 | D90: 167 | E90: 29 | F90: 1062.55 | G90: =F90/167 -> 6.3625749 | H90: =ROUND(E90*G90*2,2) -> 369.03 | I90: =ROUND(H90*1.2359,2) -> 456.08
A91: Internās aprūpes māsa | B91: 1 | C91: =D91+E91 -> 216 | D91: 167 | E91: 49 | F91: 1062.55 | G91: =F91/167 -> 6.3625749 | H91: =ROUND(E91*G91*2,2) -> 623.53 | I91: =ROUND(H91*1.2359,2) -> 770.62
A92: Internās aprūpes māsa | B92: 1 | C92: =D92+E92 -> 222.5 | D92: 167 | E92: 55.5 | F92: 1062.55 | G92: =F92/167 -> 6.3625749 | H92: =ROUND(E92*G92*2,2) -> 706.25 | I92: =ROUND(H92*1.2359,2) -> 872.85
A93: Internās aprūpes māsa | B93: 1 | C93: =D93+E93 -> 156 | D93: 143 | E93: 13 | F93: 1062.55 | G93: =F93/167 -> 6.3625749 | H93: =ROUND(E93*G93*2,2) -> 165.43 | I93: =ROUND(H93*1.2359,2) -> 204.45
... A104: Ārsta palīgs | B104: 1 | C104: =D104+E104 -> 168 | D104: 152 | E104: 16 | F104: 1062.55 | G104: =F104/167 -> 6.3625749 | H104: =ROUND(E104*G104*2,2) -> 203.6 | I104: =ROUND(H104*1.2359,2) -> 251.63
A105: Ārstniecības un pacientu aprūpes atbalsta personas, māsu palīgi, zobārstu asistenti, kopā, tai skaitā: | B105: =SUM(B106:B122) -> 17 | E105: =SUM(E106:E122) -> 660 | H105: =SUM(H106:H122) -> 6175.62 | I105: =SUM(I106:I122) -> 7623.03
A106: Māsas palīgs | B106: 1 | C106: =D106+E106 -> 112 | D106: 90 | E106: 22 | F106: 774.27 | G106: =F106/146 -> 5.3032192 | H106: =ROUND(E106*G106*2,2) -> 233.34 | I106: =ROUND(H106*1.2359,2) -> 288.38
A107: Māsas palīgs | B107: 1 | C107: =D107+E107 -> 216 | D107: 167 | E107: 49 | F107: 774.58 | G107: =F107/167 -> 4.6382036 | H107: =ROUND(E107*G107*2,2) -> 454.54 | I107: =ROUND(H107*1.2359,2) -> 561.77
A108: Māsas palīgs | B108: 1 | C108: =D108+E108 -> 224 | D108: 167 | E108: 57 | F108: 774.58 | G108: =F108/167 -> 4.6382036 | H108: =ROUND(E108*G108*2,2) -> 528.76 | I108: =ROUND(H108*1.2359,2) -> 653.49
A109: Māsas palīgs | B109: 1 | C109: =D109+E109 -> 216 | D109: 167 | E109: 49 | F109: 774.58 | G109: =F109/167 -> 4.6382036 | H109: =ROUND(E109*G109*2,2) -> 454.54 | I109: =ROUND(H109*1.2359,2) -> 561.77
A110: Māsas palīgs | B110: 1 | C110: =D110+E110 -> 128 | D110: 95 | E110: 33 | F110: 774.58 | G110: =F110/167 -> 4.6382036 | H110: =ROUND(E110*G110*2,2) -> 306.12 | I110: =ROUND(H110*1.2359,2) -> 378.33
A111: Māsas palīgs | B111: 1 | C111: =D111+E111 -> 124 | D111: 95 | E111: 29 | F111: 774.58 | G111: =F111/167 -> 4.6382036 | H111: =ROUND(E111*G111*2,2) -> 269.02 | I111: =ROUND(H111*1.2359,2) -> 332.48
A112: Māsas palīgs | B112: 1 | C112: =D112+E112 -> 132 | D112: 96 | E112: 36 | F112: 774.58 | G112: =F112/167 -> 4.6382036 | H112: =ROUND(E112*G112*2,2) -> 333.95 | I112: =ROUND(H112*1.2077,2) -> 403.31
A113: Māsas palīgs | B113: 1 | C113: =D113+E113 -> 68 | D113: 47 | E113: 21 | F113: 774.58 | G113: =F113/167 -> 4.6382036 | H113: =ROUND(E113*G113*2,2) -> 194.8 | I113: =ROUND(H113*1.2359,2) -> 240.75
A114: Māsas palīgs | B114: 1 | C114: =D114+E114 -> 208 | D114: 167 | E114: 41 | F114: 774.58 | G114: =F114/167 -> 4.6382036 | H114: =ROUND(E114*G114*2,2) -> 380.33 | I114: =ROUND(H114*1.2359,2) -> 470.05
A115: Māsas palīgs | B115: 1 | C115: =D115+E115 -> 228 | D115: 167 | E115: 61 | F115: 774.58 | G115: =F115/167 -> 4.6382036 | H115: =ROUND(E115*G115*2,2) -> 565.86 | I115: =ROUND(H115*1.2359,2) -> 699.35
A116: Māsas palīgs | B116: 1 | C116: =D116+E116 -> 220 | D116: 167 | E116: 53 | F116: 774.58 | G116: =F116/167 -> 4.6382036 | H116: =ROUND(E116*G116*2,2) -> 491.65 | I116: =ROUND(H116*1.2359,2) -> 607.63
A117: Māsas palīgs | B117: 1 | C117: =D117+E117 -> 96 | D117: 84 | E117: 12 | F117: 774.27 | G117: =F117/146 -> 5.3032192 | H117: =ROUND(E117*G117*2,2) -> 127.28 | I117: =ROUND(H117*1.2359,2) -> 157.31
...

Sheet Daugavpils_reģ_jūn
H1: 1.12.Pielikums
A2: Pārskats par darba veicējiem (ārstniecības personām), virs normālā darba laika nostrādātām stundām, apmaksājamām stundām un izdevumiem, kas radušies saistībā ar mērķi ierobežot Covid-19 izplatību
A4: Iestādes nosaukums: SIA "Daugavpils reģionālā slimnīca"
A5: Pārskata periods: Jūnijs
B7: Nodarbināto skaits mēnesī | C7: Apmaksājamais laiks mēnesī, stundas (tai skaitā summētā darba laika ietvaros) | F7: Mēnešalga no kuras rēķina stundas likmi | G7: Stundas likme (aprēķināta atbilstoši mēnešalgai vai darba līgumā noteiktā stundas likme) | H7: Apmaksājamā 100% piemaksa par nostrādātām virsstundām virs normālā darba laika (tai skaitā summētā darba laika ietvaros) | I7: Izdevumi par virsstundām kopā ar VSOAI, EUR
C8: Kopā | D8: līdz normālam darba laikam | E8: virsstundas - virs normālā darba laika, kas saistītas ar darbu ar Covid-19
A10: 1 | C10: 7=8+9 | D10: 8 | E10: 9 | F10: 11 | G10: 12 | H10: 13 | I10: 14=13 + VSOAI
A11: KOPĀ | B11: =B12+B93+B97 -> 103 | E11: =E12+E93+E97 -> 3494 | H11: =H12+H93+H97 -> 51493.86 | I11: =I12+I93+I97 -> 63563.52
A12: Centrālā slimnīca "Uzņemšanas nodaļa" | B12: =B13+B27+B73 -> 77 | E12: =E13+E27+E73 -> 3039 | H12: =H13+H27+H73 -> 43186.01 | I12: =I13+I27+I73 -> 53306.46
