Workbook

Sheet KOPSAVILKUMS
E1: 1.pielikums MK rīkojuma projekta “Par finanšu līdzekļu piešķiršanu no valsts budžeta programmas “Līdzekļi neparedzētiem gadījumiem”” anotācijai
A3: Kopsavilkums par stacionāro iestāžu iesniegto informāciju par darba veicējiem (ārstniecības personām), virs normālā darba laika nostrādātām stundām, apmaksājamām stundām un izdevumiem, sakarā ar Latvijā izsludināto ārkārtējo situāciju ar mērķi ierobežot Covid-19 izplatību par 2022.gada JANVĀRI - JŪNIJU
C6: Izdevumi par virsstundām (2022.gada janvāris - jūnijs) kopā ar VSOAI, euro
C7: janvāris | D7: februāris | E7: marts | F7: aprīlis | G7: maijs | H7: jūnijs | I7: KOPĀ
A8: KOPĀ | I8: =SUM(I9:I24) -> 6482550.1
A9: 1 | B9: VISA "Bērnu klīniskā universitātes slimnīca" | C9: =BKUS_janv_apr!I10 -> 135373.88 | G9: X | H9: X | I9: =SUM(C9:H9) -> 135373.88
A10: 2 | B10: SIA “Rīgas Austrumu klīniskās universitātes slimnīca” | C10: =RAKUS_janv_apr!I11 -> 2698518.1 | G10: X | H10: X | I10: =SUM(C10:H10) -> 2698518.1
A11: 3 | B11: VSIA "Paula Stradiņa klīniskā universitātes slimnīca" | C11: =PSKUS_janv!I11 -> 315932.24 | D11: =PSKUS_feb!I11 -> 343227.73 | E11: =PSKUS_marts!I11 -> 237021.42 | F11: =PSKUS_apr!I11 -> 252109.85 | G11: X | H11: X | I11: =SUM(C11:H11) -> 1148291.2
A12: 4 | B12: SIA "Daugavpils reģionālā slimnīca" | C12: =Daugavpils_reģ_janv!I11 -> 149250.46 | D12: =Daugavpils_reģ_feb!I11 -> 149468.61 | E12: =Daugavpils_reģ_marts!I11 -> 135702.28 | F12: =Daugavpils_reģ_apr!I11 -> 179294.81 | G12: =Daugavpils_reģ_maijs!I11 -> 124625.49 | H12: =Daugavpils_reģ_jūn!I11 -> 63563.52 | I12: =SUM(C12:H12) -> 801905.17
A13: 5 | B13: SIA "Ziemeļkurzemes reģionālā slimnīca" | C13: ='Z-Kurzeme_janv'!I10 -> 106162.19 | D13: ='Z-Kurzeme_feb'!I10 -> 119770.85 | E13: ='Z-Kurzeme_marts'!I10 -> 112297.63 | F13: ='Z-Kurzeme_apr'!I10 -> 79359.38 | G13: ='Z-Kurzeme_maijs'!I10 -> 46619.89 | H13: ='Z-Kurzeme_jūn'!I10 -> 47150.69 | I13: =SUM(C13:H13) -> 511360.63
A14: 6 | B14: SIA Jelgavas pilsētas slimnīca | C14: =Jelgava_janv!I11 -> 45562.1 | D14: =Jelgava_feb!I11 -> 59285.11 | E14: =Jelgava_marts!I11 -> 35928.84 | F14: =Jelgava_apr!I11 -> 53203.81 | G14: X | H14: X | I14: =SUM(C14:H14) -> 193979.86
A15: 7 | B15: SIA Vidzemes slimnīca | C15: =Vidzeme_janv!I11 -> 85334.8 | D15: =Vidzeme_feb!I11 -> 91672 | E15: =Vidzeme_marts!I11 -> 73111.21 | F15: =Vidzeme_apr!I11 -> 76511.06 | G15: =Vidzeme_maijs!I11 -> 51367.29 | H15: =Vidzeme_jūn!I11 -> 41644.9 | I15: =SUM(C15:H15) -> 419641.26
A16: 8 | B16: SIA Jēkabpils reģionālā slimnīca | C16: =Jēkabpils_janv_marts!I11 -> 180040.54 | F16: =Jēkabpils_apr_jūn!I11 -> 126417.72 | I16: =SUM(C16:H16) -> 306458.26
A17: 9 | B17: VSIA "Rīgas psihiatrijas un narkoloģijas cenrts" | C17: =RPNC_janv!I11 -> 15315.86 | D17: =RPNC_feb!I11 -> 15184.75 | E17: =RPNC_marts!I11 -> 4194.28 | F17: X | G17: X | H17: X | I17: =SUM(C17:H17) -> 34694.89
A18: 10 | B18: SIA "Rīgas Dzemdību nams" | C18: =Rīgas_DzN_janv_apr!I11 -> 6917.1 | G18: X | H18: X | I18: =SUM(C18:H18) -> 6917.1
A19: 11 | B19: SIA "Rīgas 2.slimnīca" | C19: ='Rīgas_2.sl._janv_apr'!I11 -> 20807.51 | G19: X | H19: X | I19: =SUM(C19:H19) -> 20807.51
A20: 12 | B20: SIA "Cēsu klīnika" | C20: =Cēsis_janv_marts!I11 -> 75275.3 | F20: X | G20: X | H20: X | I20: =SUM(C20:H20) -> 75275.3
A21: 13 | B21: SIA "Balvu un Gulbenes slimnīcu apvienība" | C21: ='Balvi-Gulbene_janv_apr'!I11 -> 46034.33 | G21: X | H21: X | I21: =SUM(C21:H21) -> 46034.33
A22: 14 | B22: VSIA „Daugavpils psihoneiroloģiskā slimnīca” | C22: =Daugavpils_psih_janv!I11 -> 1858.51 | D22: =Daugavpils_psih_feb!I11 -> 8828.22 | E22: =Daugavpils_psih_marts!I11 -> 14872.38 | F22: =Daugavpils_psih_apr!I11 -> 4254.61 | G22: =Daugavpils_psih_maijs!I11 -> 1263.46 | H22: X | I22: =SUM(C22:H22) -> 31077.18
A23: 15 | B23: VSIA "Slimnīca "Ģintermuiža"" | C23: =Ģintermuiža_janv!I11 -> 2133.36 | D23: =Ģintermuiža_feb!I11 -> 14691.82 | E23: =Ģintermuiža_marts!I11 -> 1406.17 | F23: X | G23: X | H23: X | I23: =SUM(C23:H23) -> 18231.35
A24: 16 | B24: SIA Kuldīgas slimnīca | C24: =Kuldīga_janv!I11 -> 4398.38 | D24: =Kuldīga_feb!I11 -> 9784.33 | E24: =Kuldīga_marts!I11 -> 7374.57 | F24: =Kuldīga_apr!I11 -> 9077.71 | G24: =Kuldīga_maijs!I11 -> 3349.06 | H24: X | I24: =SUM(C24:H24) -> 33984.05
B26: Summētā darba laika periods, kurā uzskaitītas virsstundas un papildu snepieciešamais finansējums to apmaksai

Sheet BKUS_janv_apr
H1: 1.1.Pielikums
A2: Pārskats par darba veicējiem (ārstniecības personām), virs normālā darba laika nostrādātām stundām, apmaksājamām stundām un izdevumiem, kas radušies saistībā ar mērķi ierobežot Covid-19 izplatību
A4: Iestādes nosaukums: VISA "Bērnu klīniskā universitātes slimnīca"
A5: Pārskata mēnesis: Janvāris - Aprīlis
B7: Nodarbināto skaits mēnesī | C7: Apmaksājamais laiks mēnesī, stundas (tai skaitā summētā darba laika ietvaros) | F7: Mēnešalga no kuras rēķina stundas likmi | G7: Stundas likme (aprēķināta atbilstoši mēnešalgai vai darba līgumā noteiktā stundas likme) | H7: Apmaksājamā 100% piemaksa par nostrādātām virsstundām virs normālā darba laika (tai skaitā summētā darba laika ietvaros) | I7: Izdevumi par virsstundām kopā ar VSAOI, EUR
C8: Kopā | D8: līdz normālam darba laikam | E8: virsstundas - virs normālā darba laika, kas saistītas ar darbu ar Covid-19
A9: 1 | B9: 2 | C9: 3=4+5 | D9: 4 | E9: 5 | F9: 6 | G9: 7 | H9: 8 | I9: 9=8 +VSOAI
A10: KOPĀ | B10: =B11+B39+B86+B105 -> 96 | E10: =E11+E39+E86+E105 -> 6000.1 | H10: =H11+H39+H86+H105 -> 109534.62 | I10: =I11+I39+I86+I105 -> 135373.88
A11: Ārsti, zobārsti un funkcionālie speciālisti, kopā, tai skaitā: | B11: =SUM(B12:B38) -> 27 | E11: =SUM(E12:E38) -> 2137.1 | H11: =SUM(H12:H38) -> 50950.7 | I11: =SUM(I12:I38) -> 62969.99
A12: Bērnu ķirurgs | B12: 1 | C12: =D12+E12 -> 670.5 | D12: 663 | E12: 7.5 | G12: 20.861 | H12: =ROUND(E12*G12*2,2) -> 312.92 | I12: =ROUND(H12*1.2359,2) -> 386.74
A13: Bērnu ķirurgs | B13: 1 | C13: =D13+E13 -> 766 | D13: 663 | E13: 103 | G13: 20.563 | H13: =ROUND(E13*G13*2,2) -> 4235.98 | I13: =ROUND(H13*1.2359,2) -> 5235.25
A14: Rezidents | B14: 1 | C14: =D14+E14 -> 672 | D14: 663 | E14: 9 | G14: 10.97 | H14: =ROUND(E14*G14*2,2) -> 197.46 | I14: =ROUND(H14*1.2359,2) -> 244.04
A15: Bērnu ķirurgs | B15: 1 | C15: =D15+E15 -> 760.5 | D15: 663 | E15: 97.5 | G15: 15.576 | H15: =ROUND(E15*G15*2,2) -> 3037.32 | I15: =ROUND(H15*1.2359,2) -> 3753.82
A16: Pediatrs | B16: 1 | C16: =D16+E16 -> 867 | D16: 663 | E16: 204 | G16: 17.41 | H16: =ROUND(E16*G16*2,2) -> 7103.28 | I16: =ROUND(H16*1.2359,2) -> 8778.94
A17: Bērnu ķirurgs | B17: 1 | C17: =D17+E17 -> 682 | D17: 663 | E17: 19 | G17: 15.354 | H17: =ROUND(E17*G17*2,2) -> 583.45 | I17: =ROUND(H17*1.2359,2) -> 721.09
A18: Bērnu infektologs | B18: 1 | C18: =D18+E18 -> 671 | D18: 663 | E18: 8 | G18: 12.51 | H18: =ROUND(E18*G18*2,2) -> 200.16 | I18: =ROUND(H18*1.2359,2) -> 247.38
A19: Virsārsts | B19: 1 | C19: =D19+E19 -> 709.5 | D19: 663 | E19: 46.5 | G19: 15.205 | H19: =ROUND(E19*G19*2,2) -> 1414.07 | I19: =ROUND(H19*1.2359,2) -> 1747.65
A20: Neatliekamās medicīniskās palīdzības un observācijas procesa pediatrijas virsārsts | B20: 1 | C20: =D20+E20 -> 694 | D20: 663 | E20: 31 | G20: 15.924 | H20: =ROUND(E20*G20*2,2) -> 987.29 | I20: =ROUND(H20*1.2359,2) -> 1220.19
A21: Bērnu infektologs | B21: 1 | C21: =D21+E21 -> 663.5 | D21: 663 | E21: 0.5 | G21: 12.42 | H21: =ROUND(E21*G21*2,2) -> 12.42 | I21: =ROUND(H21*1.2359,2) -> 15.35
A22: Bērnu ķirurgs | B22: 1 | C22: =D22+E22 -> 793 | D22: 663 | E22: 130 | G22: 11.78 | H22: =ROUND(E22*G22*2,2) -> 3062.8 | I22: =ROUND(H22*1.2359,2) -> 3785.31
A23: Virsārsts | B23: 1 | C23: =D23+E23 -> 688 | D23: 663 | E23: 25 | G23: 15.576 | H23: =ROUND(E23*G23*2,2) -> 778.8 | I23: =ROUND(H23*1.2359,2) -> 962.52
... A38: Ārsts - stažieris | B38: 1 | C38: =D38+E38 -> 931.5 | D38: 663 | E38: 268.5 | G38: 9.46 | H38: =ROUND(E38*G38*2,2) -> 5080.02 | I38: =ROUND(H38*1.2359,2) -> 6278.4
A39: Ārstniecības un pacientu aprūpes personas un funkcionālo speciālistu asistenti, kopā, tai skaitā: | B39: =SUM(B40:B85) -> 46 | E39: =SUM(E40:E85) -> 2825.5 | H39: =SUM(H40:H85) -> 48169.46 | I39: =SUM(I40:I85) -> 59532.64
A40: Māsa | B40: 1 | C40: =D40+E40 -> 765 | D40: 663 | E40: 102 | G40: 9.975 | H40: =ROUND(E40*G40*2,2) -> 2034.9 | I40: =ROUND(H40*1.2359,2) -> 2514.93
A41: Bērnu māsa | B41: 1 | C41: =D41+E41 -> 670.5 | D41: 663 | E41: 7.5 | G41: 8.1 | H41: =ROUND(E41*G41*2,2) -> 121.5 | I41: =ROUND(H41*1.2359,2) -> 150.16
A42: Bērnu māsa | B42: 1 | C42: =D42+E42 -> 716 | D42: 663 | E42: 53 | G42: 8.12 | H42: =ROUND(E42*G42*2,2) -> 860.72 | I42: =ROUND(H42*1.2359,2) -> 1063.76
A43: Bērnu māsa | B43: 1 | C43: =D43+E43 -> 843 | D43: 663 | E43: 180 | G43: 7.85 | H43: =ROUND(E43*G43*2,2) -> 2826 | I43: =ROUND(H43*1.2359,2) -> 3492.65
A44: Bērnu māsa | B44: 1 | C44: =D44+E44 -> 676.5 | D44: 663 | E44: 13.5 | G44: 7.68 | H44: =ROUND(E44*G44*2,2) -> 207.36 | I44: =ROUND(H44*1.2359,2) -> 256.28
A45: Bērnu māsa | B45: 1 | C45: =D45+E45 -> 688 | D45: 663 | E45: 25 | G45: 7.68 | H45: =ROUND(E45*G45*2,2) -> 384 | I45: =ROUND(H45*1.2359,2) -> 474.59
A46: Bērnu māsa | B46: 1 | C46: =D46+E46 -> 776.5 | D46: 663 | E46: 113.5 | G46: 8.12 | H46: =ROUND(E46*G46*2,2) -> 1843.24 | I46: =ROUND(H46*1.2359,2) -> 2278.06
A47: Bērnu māsa | B47: 1 | C47: =D47+E47 -> 699.5 | D47: 663 | E47: 36.5 | G47: 8.12 | H47: =ROUND(E47*G47*2,2) -> 592.76 | I47: =ROUND(H47*1.2359,2) -> 732.59
A48: Bērnu māsa | B48: 1 | C48: =D48+E48 -> 665 | D48: 663 | E48: 2 | G48: 8.02 | H48: =ROUND(E48*G48*2,2) -> 32.08 | I48: =ROUND(H48*1.2359,2) -> 39.65
A49: Bērnu māsa | B49: 1 | C49: =D49+E49 -> 799 | D49: 663 | E49: 136 | G49: 8.12 | H49: =ROUND(E49*G49*2,2) -> 2208.64 | I49: =ROUND(H49*1.2359,2) -> 2729.66
A50: Bērnu māsa | B50: 1 | C50: =D50+E50 -> 717 | D50: 663 | E50: 54 | G50: 7.94 | H50: =ROUND(E50*G50*2,2) -> 857.52 | I50: =ROUND(H50*1.2359,2) -> 1059.81
A51: Bērnu māsa | B51: 1 | C51: =D51+E51 -> 728 | D51: 663 | E51: 65 | G51: 8.12 | H51: =ROUND(E51*G51*2,2) -> 1055.6 | I51: =ROUND(H51*1.2359,2) -> 1304.62
... A85: Bērnu māsa | B85: 1 | C85: =D85+E85 -> 682 | D85: 663 | E85: 19 | G85: 7.35 | H85: =ROUND(E85*G85*2,2) -> 279.3 | I85: =ROUND(H85*1.2359,2) -> 345.19
A86: Ārstniecības un pacientu aprūpes atbalsta personas, māsu palīgi, zobārstu aistenti, kopā, tai skaitā: | B86: =SUM(B87:B104) -> 18 | E86: =SUM(E87:E104) -> 809 | H86: =SUM(H87:H104) -> 8215.3 | I86: =SUM(I87:I104) -> 10153.3
A87: Māsas palīgs | B87: 1 | C87: =D87+E87 -> 677.5 | D87: 663 | E87: 14.5 | G87: 5.06 | H87: =ROUND(E87*G87*2,2) -> 146.74 | I87: =ROUND(H87*1.2359,2) -> 181.36
A88: Māsas palīgs | B88: 1 | C88: =D88+E88 -> 692 | D88: 663 | E88: 29 | G88: 5.38 | H88: =ROUND(E88*G88*2,2) -> 312.04 | I88: =ROUND(H88*1.2359,2) -> 385.65
A89: Māsas palīgs | B89: 1 | C89: =D89+E89 -> 696 | D89: 663 | E89: 33 | G89: 5.25 | H89: =ROUND(E89*G89*2,2) -> 346.5 | I89: =ROUND(H89*1.2359,2) -> 428.24
...

Sheet RAKUS_janv_apr
H1: 1.2.Pielikums
A2: Pārskats par darba veicējiem (ārstniecības personām), virs normālā darba laika nostrādātām stundām, apmaksājamām stundām un izdevumiem, kas radušies saistībā ar mērķi ierobežot Covid-19 izplatību
A4: Iestādes nosaukums: SIA “Rīgas Austrumu klīniskās universitātes slimnīca”
A5: Pārskata mēnesis: Janvāris - Aprīlis
B7: Nodarbināto skaits mēnesī | C7: Apmaksājamais laiks mēnesī, stundas (tai skaitā summētā darba laika ietvaros) | F7: Mēnešalga no kuras rēķina stundas likmi | G7: Stundas likme (aprēķināta atbilstoši mēnešalgai vai darba līgumā noteiktā stundas likme) | H7: Apmaksājamā 100% piemaksa par nostrādātām virsstundām virs normālā darba laika (tai skaitā summētā darba laika ietvaros) | I7: Izdevumi par virsstundām kopā ar VSOAI, EUR
C8: Kopā | D8: līdz normālam darba laikam | E8: virsstundas - virs normālā darba laika, kas saistītas ar darbu ar Covid-19
A10: 1 | B10: 2 | C10: 3=4+5 | D10: 4 | E10: 5 | F10: 6 | G10: 7 | H10: 8 | I10: 9=8 + VSOAI
A11: KOPĀ | B11: =B12+B579+B1519+B1343 -> 1906 | E11: =E12+E579+E1519+E1343 -> 125224.2 | H11: =H12+H579+H1519+H1343 -> 2185430.7 | I11: =I12+I579+I1519+I1343 -> 2698518.1
A12: Ārsti, zobārsti un funkcionālie speciālisti, kopā, tai skaitā: | B12: =SUM(B13:B578) -> 566 | E12: =SUM(E13:E578) -> 54982.788 | H12: =SUM(H13:H578) -> 1238304.8 | I12: =SUM(I13:I578) -> 1529441.2
A13: Anesteziologs, reanimatologs | B13: 1 | C13: =D13+E13 -> 333.59 | D13: 0 | E13: 333.59 | F13: 2092 | G13: =F13/168.17 -> 12.439793 | H13: =ROUND(E13*G13*2,2) -> 8299.58 | I13: =ROUND(H13*1.2359,2) -> 10257.45
A14: Anesteziologs, reanimatologs | B14: 1 | C14: =D14+E14 -> 376 | D14: 155.75 | E14: 220.25 | F14: 2092 | G14: =F14/168.17 -> 12.439793 | H14: =ROUND(E14*G14*2,2) -> 5479.73 | I14: =ROUND(H14*1.2359,2) -> 6772.4
A15: Anesteziologs, reanimatologs | B15: 1 | C15: =D15+E15 -> 212 | D15: 0 | E15: 212 | F15: 2092 | G15: =F15/168.17 -> 12.439793 | H15: =ROUND(E15*G15*2,2) -> 5274.47 | I15: =ROUND(H15*1.2359,2) -> 6518.72
A16: Anesteziologs, reanimatologs | B16: 1 | C16: =D16+E16 -> 320.41633 | D16: 315.5 | E16: 4.916333 | F16: 2965 | G16: =F16/168.17 -> 17.630969 | H16: =ROUND(E16*G16*2,2) -> 173.36 | I16: =ROUND(H16*1.2359,2) -> 214.26
A17: Anesteziologs, reanimatologs | B17: 1 | C17: =D17+E17 -> 672.333 | D17: 663 | E17: 9.332999 | F17: 2965 | G17: =F17/168.17 -> 17.630969 | H17: =ROUND(E17*G17*2,2) -> 329.1 | I17: =ROUND(H17*1.2359,2) -> 406.73
A18: Anesteziologs, reanimatologs | B18: 1 | C18: =D18+E18 -> 596.74967 | D18: 559 | E18: 37.749666 | F18: 2965 | G18: =F18/168.17 -> 17.630969 | H18: =ROUND(E18*G18*2,2) -> 1331.13 | I18: =ROUND(H18*1.2359,2) -> 1645.14
A19: Anesteziologs, reanimatologs | B19: 1 | C19: =D19+E19 -> 532.58366 | D19: 512 | E19: 20.583665 | F19: 2965 | G19: =F19/168.17 -> 17.630969 | H19: =ROUND(E19*G19*2,2) -> 725.82 | I19: =ROUND(H19*1.2359,2) -> 897.04
A20: Anesteziologs, reanimatologs | B20: 1 | C20: =D20+E20 -> 597.58367 | D20: 575 | E20: 22.583666 | F20: 2965 | G20: =F20/168.17 -> 17.630969 | H20: =ROUND(E20*G20*2,2) -> 796.34 | I20: =ROUND(H20*1.2077,2) -> 961.74
A21: Anesteziologs, reanimatologs | B21: 1 | C21: =D21+E21 -> 589.083 | D21: 583 | E21: 6.083 | F21: 2965 | G21: =F21/168.17 -> 17.630969 | H21: =ROUND(E21*G21*2,2) -> 214.5 | I21: =ROUND(H21*1.2359,2) -> 265.1
A22: Anesteziologs, reanimatologs | B22: 1 | C22: =D22+E22 -> 613.08333 | D22: 607 | E22: 6.083333 | F22: 2965 | G22: =F22/168.17 -> 17.630969 | H22: =ROUND(E22*G22*2,2) -> 214.51 | I22: =ROUND(H22*1.2359,2) -> 265.11
A23: Anesteziologs, reanimatologs | B23: 1 | C23: =D23+E23 -> 623.25 | D23: 615 | E23: 8.25 | F23: 2965 | G23: =F23/168.17 -> 17.630969 | H23: =ROUND(E23*G23*2,2) -> 290.91 | I23: =ROUND(H23*1.2359,2) -> 359.54
A24: Anesteziologs, reanimatologs | B24: 1 | C24: =D24+E24 -> 583 | D24: 559 | E24: 24 | F24: 2965 | G24: =F24/168.17 -> 17.630969 | H24: =ROUND(E24*G24*2,2) -> 846.29 | I24: =ROUND(H24*1.2359,2) -> 1045.93
A25: Anesteziologs, reanimatologs | B25: 1 | C25: =D25+E25 -> 121 | D25: 0 | E25: 121 | F25: 2965 | G25: =F25/168.17 -> 17.630969 | H25: =ROUND(E25*G25*2,2) -> 4266.69 | I25: =ROUND(H25*1.2359,2) -> 5273.2
A26: Anesteziologs, reanimatologs | B26: 1 | C26: =D26+E26 -> 144 | D26: 0 | E26: 144 | F26: 2965 | G26: =F26/168.17 -> 17.630969 | H26: =ROUND(E26*G26*2,2) -> 5077.72 | I26: =ROUND(H26*1.2359,2) -> 6275.55
A27: Anesteziologs, reanimatologs | B27: 1 | C27: =D27+E27 -> 638.5 | D27: 615 | E27: 23.5 | F27: 2965 | G27: =F27/168.17 -> 17.630969 | H27: =ROUND(E27*G27*2,2) -> 828.66 | I27: =ROUND(H27*1.2077,2) -> 1000.77
A28: Anesteziologs, reanimatologs | B28: 1 | C28: =D28+E28 -> 589.41667 | D28: 583 | E28: 6.416666 | F28: 2965 | G28: =F28/168.17 -> 17.630969 | H28: =ROUND(E28*G28*2,2) -> 226.26 | I28: =ROUND(H28*1.2359,2) -> 279.63
A29: Anesteziologs, reanimatologs | B29: 1 | C29: =D29+E29 -> 614.66667 | D29: 607 | E29: 7.666666 | F29: 2965 | G29: =F29/168.17 -> 17.630969 | H29: =ROUND(E29*G29*2,2) -> 270.34 | I29: =ROUND(H29*1.2359,2) -> 334.11
A30: Anesteziologs, reanimatologs | B30: 1 | C30: =D30+E30 -> 645.5 | D30: 623 | E30: 22.5 | F30: 2965 | G30: =F30/168.17 -> 17.630969 | H30: =ROUND(E30*G30*2,2) -> 793.39 | I30: =ROUND(H30*1.2359,2) -> 980.55
A31: Anesteziologs, reanimatologs | B31: 1 | C31: =D31+E31 -> 684 | D31: 519 | E31: 165 | F31: 2965 | G31: =F31/168.17 -> 17.630969 | H31: =ROUND(E31*G31*2,2) -> 5818.22 | I31: =ROUND(H31*1.2359,2) -> 7190.74
A32: Anesteziologs, reanimatologs | B32: 1 | C32: =D32+E32 -> 881 | D32: 663 | E32: 218 | F32: 2965 | G32: =F32/168.17 -> 17.630969 | H32: =ROUND(E32*G32*2,2) -> 7687.1 | I32: =ROUND(H32*1.2359,2) -> 9500.49
A33: Anesteziologs, reanimatologs | B33: 1 | C33: =D33+E33 -> 757 | D33: 623 | E33: 134 | F33: 2965 | G33: =F33/168.17 -> 17.630969 | H33: =ROUND(E33*G33*2,2) -> 4725.1 | I33: =ROUND(H33*1.2359,2) -> 5839.75
A34: Anesteziologs, reanimatologs | B34: 1 | C34: =D34+E34 -> 892 | D34: 599 | E34: 293 | F34: 2965 | G34: =F34/168.17 -> 17.630969 | H34: =ROUND(E34*G34*2,2) -> 10331.75 | I34: =ROUND(H34*1.2077,2) -> 12477.65
A35: Anesteziologs, reanimatologs | B35: 1 | C35: =D35+E35 -> 446.79 | D35: 291.5 | E35: 155.29 | F35: 2965 | G35: =F35/168.17 -> 17.630969 | H35: =ROUND(E35*G35*2,2) -> 5475.83 | I35: =ROUND(H35*1.2359,2) -> 6767.58
A36: Anesteziologs, reanimatologs | B36: 1 | C36: =D36+E36 -> 158.70968 | D36: 140 | E36: 18.709677 | F36: 2965 | G36: =F36/168.17 -> 17.630969 | H36: =ROUND(E36*G36*2,2) -> 659.74 | I36: =ROUND(H36*1.2359,2) -> 815.37
A37: Anesteziologs, reanimatologs | B37: 1 | C37: =D37+E37 -> 732 | D37: 543 | E37: 189 | F37: 2965 | G37: =F37/168.17 -> 17.630969 | H37: =ROUND(E37*G37*2,2) -> 6664.51 | I37: =ROUND(H37*1.2359,2) -> 8236.67
A38: Anesteziologs, reanimatologs | B38: 1 | C38: =D38+E38 -> 600 | D38: 543 | E38: 57 | F38: 2965 | G38: =F38/168.17 -> 17.630969 | H38: =ROUND(E38*G38*2,2) -> 2009.93 | I38: =ROUND(H38*1.2077,2) -> 2427.39
A39: Anesteziologs, reanimatologs | B39: 1 | C39: =D39+E39 -> 64 | D39: 0 | E39: 64 | F39: 2965 | G39: =F39/168.17 -> 17.630969 | H39: =ROUND(E39*G39*2,2) -> 2256.76 | I39: =ROUND(H39*1.2077,2) -> 2725.49
A40: Anesteziologs, reanimatologs | B40: 1 | C40: =D40+E40 -> 240 | D40: 0 | E40: 240 | F40: 2965 | G40: =F40/168.17 -> 17.630969 | H40: =ROUND(E40*G40*2,2) -> 8462.86 | I40: =ROUND(H40*1.2359,2) -> 10459.25
A41: Anesteziologs, reanimatologs | B41: 1 | C41: =D41+E41 -> 177 | D41: 155.75 | E41: 21.25 | F41: 2965 | G41: =F41/168.17 -> 17.630969 | H41: =ROUND(E41*G41*2,2) -> 749.32 | I41: =ROUND(H41*1.2359,2) -> 926.08
A42: Anesteziologs, reanimatologs | B42: 1 | C42: =D42+E42 -> 415.01354 | D42: 311.5 | E42: 103.51354 | F42: 2965 | G42: =F42/168.17 -> 17.630969 | H42: =ROUND(E42*G42*2,2) -> 3650.09 | I42: =ROUND(H42*1.2359,2) -> 4511.15
A43: Anesteziologs, reanimatologs | B43: 1 | C43: =D43+E43 -> 208 | D43: 0 | E43: 208 | F43: 2965 | G43: =F43/168.17 -> 17.630969 | H43: =ROUND(E43*G43*2,2) -> 7334.48 | I43: =ROUND(H43*1.2359,2) -> 9064.68
...

Sheet PSKUS_janv
H1: 1.3.Pielikums
A2: Pārskats par darba veicējiem (ārstniecības personām), virs normālā darba laika nostrādātām stundām, apmaksājamām stundām un izdevumiem, kas radušies saistībā ar mērķi ierobežot Covid-19 izplatību
A4: Iestādes nosaukums: VSIA "Paula Stradiņa klīniskā universitātes slimnīca"
A5: Pārskata mēnesis: Janvāris
B7: Nodarbināto skaits mēnesī | C7: Apmaksājamais laiks mēnesī, stundas (tai skaitā summētā darba laika ietvaros) | F7: Mēnešalga no kuras rēķina stundas likmi | G7: Stundas likme (aprēķināta atbilstoši mēnešalgai vai darba līgumā noteiktā stundas likme) | H7: Apmaksājamā 100% piemaksa par nostrādātām virsstundām virs normālā darba laika (tai skaitā summētā darba laika ietvaros) | I7: Izdevumi par virsstundām kopā ar VSAOI, EUR
C8: Kopā | D8: līdz normālam darba laikam | E8: virsstundas - virs normālā darba laika, kas saistītas ar darbu ar Covid-19
A10: 1 | B10: 2 | C10: 3=4+5 | D10: 4 | E10: 5 | F10: 6 | G10: 7 | H10: 8 | I10: 9=8 +VSOAI
A11: KOPĀ | B11: =B12+B225+B430+B485 -> 582 | E11: =E12+E225+E430+E485 -> 14739 | H11: =H12+H225+H430+H485 -> 255629.35 | I11: =I12+I225+I430+I485 -> 315932.24
A12: Ārsti, zobārsti un funkcionālie speciālisti, kopā, tai skaitā: | B12: =SUM(B13:B224) -> 212 | E12: =SUM(E13:E224) -> 5914 | H12: =SUM(H13:H224) -> 131435.6 | I12: =SUM(I13:I224) -> 162441.21
A13: Atbildīgais ārsts anesteziologs, reanimatologs | B13: 1 | C13: =D13+E13 -> 169 | D13: 168 | E13: 1 | G13: 15.36 | H13: =ROUND(G13*E13*2,2) -> 30.72 | I13: =ROUND(H13*1.2359,2) -> 37.97
A14: Atbildīgais ārsts speciālists (diennakts postenis) | B14: 1 | C14: =D14+E14 -> 209 | D14: 168 | E14: 41 | G14: 12.42 | H14: =ROUND(G14*E14*2,2) -> 1018.44 | I14: =ROUND(H14*1.2359,2) -> 1258.69
A15: Ārsts | B15: 1 | C15: =D15+E15 -> 172 | D15: 168 | E15: 4 | G15: 9.76 | H15: =ROUND(G15*E15*2,2) -> 78.08 | I15: =ROUND(H15*1.2359,2) -> 96.5
A16: Ārsts | B16: 1 | C16: =D16+E16 -> 189 | D16: 168 | E16: 21 | G16: 9.76 | H16: =ROUND(G16*E16*2,2) -> 409.92 | I16: =ROUND(H16*1.2359,2) -> 506.62
A17: Ārsts | B17: 1 | C17: =D17+E17 -> 228 | D17: 168 | E17: 60 | G17: 9.76 | H17: =ROUND(G17*E17*2,2) -> 1171.2 | I17: =ROUND(H17*1.2359,2) -> 1447.49
A18: Ārsts | B18: 1 | C18: =D18+E18 -> 181 | D18: 168 | E18: 13 | G18: 9.76 | H18: =ROUND(G18*E18*2,2) -> 253.76 | I18: =ROUND(H18*1.2359,2) -> 313.62
A19: Ārsts | B19: 1 | C19: =D19+E19 -> 197 | D19: 168 | E19: 29 | G19: 9.76 | H19: =ROUND(G19*E19*2,2) -> 566.08 | I19: =ROUND(H19*1.2359,2) -> 699.62
A20: Ārsts | B20: 1 | C20: =D20+E20 -> 186 | D20: 168 | E20: 18 | G20: 9.76 | H20: =ROUND(G20*E20*2,2) -> 351.36 | I20: =ROUND(H20*1.2359,2) -> 434.25
A21: Ārsts | B21: 1 | C21: =D21+E21 -> 205 | D21: 168 | E21: 37 | G21: 8.87 | H21: =ROUND(G21*E21*2,2) -> 656.38 | I21: =ROUND(H21*1.2359,2) -> 811.22
A22: Ārsts | B22: 1 | C22: =D22+E22 -> 180 | D22: 168 | E22: 12 | G22: 8.54 | H22: =ROUND(G22*E22*2,2) -> 204.96 | I22: =ROUND(H22*1.2359,2) -> 253.31
A23: Ārsts anesteziologs, reanimatologs | B23: 1 | C23: =D23+E23 -> 226 | D23: 168 | E23: 58 | G23: 14.75 | H23: =ROUND(G23*E23*2,2) -> 1711 | I23: =ROUND(H23*1.2359,2) -> 2114.62
A24: Ārsts anesteziologs, reanimatologs | B24: 1 | C24: =D24+E24 -> 184 | D24: 168 | E24: 16 | G24: 14.75 | H24: =ROUND(G24*E24*2,2) -> 472 | I24: =ROUND(H24*1.2359,2) -> 583.34
... A134: Radiologs (dežūrām) | B134: 1 | C134: =D134+E134 -> 204 | D134: 168 | E134: 36 | G134: 16.75 | H134: =ROUND(G134*E134*2,2) -> 1206 | I134: =ROUND(H134*1.2359,2) -> 1490.5
A135: Rezidents | B135: 1 | C135: =D135+E135 -> 208 | D135: 168 | E135: 40 | F135: 1641.58 | G135: =F135/168.17 -> 9.7614319 | H135: =ROUND(G135*E135*2,2) -> 780.91 | I135: =ROUND(H135*1.2359,2) -> 965.13
A136: Rezidents | B136: 1 | C136: =D136+E136 -> 200 | D136: 168 | E136: 32 | F136: 1641.58 | G136: =F136/168.17 -> 9.7614319 | H136: =ROUND(G136*E136*2,2) -> 624.73 | I136: =ROUND(H136*1.2359,2) -> 772.1
A137: Rezidents | B137: 1 | C137: =D137+E137 -> 195 | D137: 168 | E137: 27 | F137: 1641.58 | G137: =F137/168.17 -> 9.7614319 | H137: =ROUND(G137*E137*2,2) -> 527.12 | I137: =ROUND(H137*1.2359,2) -> 651.47
A138: Rezidents | B138: 1 | C138: =D138+E138 -> 189 | D138: 168 | E138: 21 | F138: 1641.58 | G138: =F138/168.17 -> 9.7614319 | H138: =ROUND(G138*E138*2,2) -> 409.98 | I138: =ROUND(H138*1.2359,2) -> 506.69
A139: Rezidents | B139: 1 | C139: =D139+E139 -> 226 | D139: 168 | E139: 58 | F139: 1641.58 | G139: =F139/168.17 -> 9.7614319 | H139: =ROUND(G139*E139*2,2) -> 1132.33 | I139: =ROUND(H139*1.2359,2) -> 1399.45
A140: Rezidents | B140: 1 | C140: =D140+E140 -> 189 | D140: 168 | E140: 21 | F140: 1641.58 | G140: =F140/168.17 -> 9.7614319 | H140: =ROUND(G140*E140*2,2) -> 409.98 | I140: =ROUND(H140*1.2359,2) -> 506.69
A141: Rezidents | B141: 1 | C141: =D141+E141 -> 192 | D141: 168 | E141: 24 | F141: 1641.58 | G141: =F141/168.17 -> 9.7614319 | H141: =ROUND(G141*E141*2,2) -> 468.55 | I141: =ROUND(H141*1.2359,2) -> 579.08
A142: Rezidents | B142: 1 | C142: =D142+E142 -> 189 | D142: 168 | E142: 21 | F142: 1641.58 | G142: =F142/168.17 -> 9.7614319 | H142: =ROUND(G142*E142*2,2) -> 409.98 | I142: =ROUND(H142*1.2359,2) -> 506.69
A143: Rezidents | B143: 1 | C143: =D143+E143 -> 176 | D143: 168 | E143: 8 | F143: 1641.58 | G143: =F143/168.17 -> 9.7614319 | H143: =ROUND(G143*E143*2,2) -> 156.18 | I143: =ROUND(H143*1.2359,2) -> 193.02
A144: Rezidents | B144: 1 | C144: =D144+E144 -> 189 | D144: 168 | E144: 21 | F144: 1641.58 | G144: =F144/168.17 -> 9.7614319 | H144: =ROUND(G144*E144*2,2) -> 409.98 | I144: =ROUND(H144*1.2359,2) -> 506.69
A145: Rezidents | B145: 1 | C145: =D145+E145 -> 223 | D145: 168 | E145: 55 | F145: 1492.34 | G145: =F145/168.17 -> 8.8739966 | H145: =ROUND(G145*E145*2,2) -> 976.14 | I145: =ROUND(H145*1.2359,2) -> 1206.41
A146: Rezidents | B146: 1 | C146: =D146+E146 -> 200 | D146: 168 | E146: 32 | F146: 1492.34 | G146: =F146/168.17 -> 8.8739966 | H146: =ROUND(G146*E146*2,2) -> 567.94 | I146: =ROUND(H146*1.2359,2) -> 701.92
... A219: Rezidents | B219: 1 | C219: =D219+E219 -> 189 | D219: 168 | E219: 21 | F219: 1492.34 | G219: =F219/168.17 -> 8.8739966 | H219: =ROUND(G219*E219*2,2) -> 372.71 | I219: =ROUND(H219*1.2359,2) -> 460.63
A220: Virsārsts gastroenterologs-endoskopists | B220: 1 | C220: =D220+E220 -> 184 | D220: 168 | E220: 16 | G220: 17.79 | H220: =ROUND(G220*E220*2,2) -> 569.28 | I220: =ROUND(H220*1.2359,2) -> 703.57
A221: Virsārsts intensīvajā terapijā | B221: 1 | C221: =D221+E221 -> 212 | D221: 168 | E221: 44 | G221: 17.53 | H221: =ROUND(G221*E221*2,2) -> 1542.64 | I221: =ROUND(H221*1.2359,2) -> 1906.55
A222: Virsārsts nefrologs | B222: 1 | C222: =D222+E222 -> 184 | D222: 168 | E222: 16 | G222: 18.14 | H222: =ROUND(G222*E222*2,2) -> 580.48 | I222: =ROUND(H222*1.2359,2) -> 717.42
A223: Virsārsts pneimonologs | B223: 1 | C223: =D223+E223 -> 184 | D223: 168 | E223: 16 | G223: 17.79 | H223: =ROUND(G223*E223*2,2) -> 569.28 | I223: =ROUND(H223*1.2359,2) -> 703.57
A224: Virsārsts torakālais ķirurgs | B224: 1 | C224: =D224+E224 -> 184 | D224: 168 | E224: 16 | G224: 19.57 | H224: =ROUND(G224*E224*2,2) -> 626.24 | I224: =ROUND(H224*1.2359,2) -> 773.97
...

Sheet PSKUS_feb
H1: 1.4.Pielikums
A2: Pārskats par darba veicējiem (ārstniecības personām), virs normālā darba laika nostrādātām stundām, apmaksājamām stundām un izdevumiem, kas radušies saistībā ar mērķi ierobežot Covid-19 izplatību
A4: Iestādes nosaukums: VSIA "Paula Stradiņa klīniskā universitātes slimnīca"
A5: Pārskata mēnesis: Februāris
B7: Nodarbināto skaits mēnesī | C7: Apmaksājamais laiks mēnesī, stundas (tai skaitā summētā darba laika ietvaros) | F7: Mēnešalga no kuras rēķina stundas likmi | G7: Stundas likme (aprēķināta atbilstoši mēnešalgai vai darba līgumā noteiktā stundas likme) | H7: Apmaksājamā 100% piemaksa par nostrādātām virsstundām virs normālā darba laika (tai skaitā summētā darba laika ietvaros) | I7: Izdevumi par virsstundām kopā ar VSAOI, EUR
C8: Kopā | D8: līdz normālam darba laikam | E8: virsstundas - virs normālā darba laika, kas saistītas ar darbu ar Covid-19
A10: 1 | B10: 2 | C10: 3=4+5 | D10: 4 | E10: 5 | F10: 6 | G10: 7 | H10: 8 | I10: 9=8 +VSOAI
A11: KOPĀ | B11: =B12+B233+B504+B577 -> 702 | E11: =E12+E233+E504+E577 -> 16739 | H11: =H12+H233+H504+H577 -> 277714.9 | I11: =I12+I233+I504+I577 -> 343227.73
A12: Ārsti, zobārsti un funkcionālie speciālisti, kopā, tai skaitā: | B12: =SUM(B13:B232) -> 220 | E12: =SUM(E13:E232) -> 5637 | H12: =SUM(H13:H232) -> 126211.36 | I12: =SUM(I13:I232) -> 155984.56
A13: Atbildīgais ārsts anesteziologs, reanimatologs | B13: 1 | C13: =D13+E13 -> 180 | D13: 160 | E13: 20 | G13: 15.36 | H13: =ROUND(G13*E13*2,2) -> 614.4 | I13: =ROUND(H13*1.2359,2) -> 759.34
A14: Atbildīgais ārsts speciālists (diennakts postenis) | B14: 1 | C14: =D14+E14 -> 192 | D14: 160 | E14: 32 | G14: 12.42 | H14: =ROUND(G14*E14*2,2) -> 794.88 | I14: =ROUND(H14*1.2359,2) -> 982.39
A15: Ārsts | B15: 1 | C15: =D15+E15 -> 166 | D15: 160 | E15: 6 | G15: 9.76 | H15: =ROUND(G15*E15*2,2) -> 117.12 | I15: =ROUND(H15*1.2359,2) -> 144.75
A16: Ārsts | B16: 1 | C16: =D16+E16 -> 184 | D16: 160 | E16: 24 | G16: 9.76 | H16: =ROUND(G16*E16*2,2) -> 468.48 | I16: =ROUND(H16*1.2359,2) -> 578.99
A17: Ārsts | B17: 1 | C17: =D17+E17 -> 177 | D17: 160 | E17: 17 | G17: 9.76 | H17: =ROUND(G17*E17*2,2) -> 331.84 | I17: =ROUND(H17*1.2359,2) -> 410.12
A18: Ārsts | B18: 1 | C18: =D18+E18 -> 168 | D18: 160 | E18: 8 | G18: 9.76 | H18: =ROUND(G18*E18*2,2) -> 156.16 | I18: =ROUND(H18*1.2359,2) -> 193
A19: Ārsts | B19: 1 | C19: =D19+E19 -> 174 | D19: 160 | E19: 14 | G19: 8.87 | H19: =ROUND(G19*E19*2,2) -> 248.36 | I19: =ROUND(H19*1.2359,2) -> 306.95
A20: Ārsts | B20: 1 | C20: =D20+E20 -> 192 | D20: 160 | E20: 32 | G20: 9.76 | H20: =ROUND(G20*E20*2,2) -> 624.64 | I20: =ROUND(H20*1.2359,2) -> 771.99
A21: Ārsts | B21: 1 | C21: =D21+E21 -> 162 | D21: 160 | E21: 2 | G21: 9.76 | H21: =ROUND(G21*E21*2,2) -> 39.04 | I21: =ROUND(H21*1.2359,2) -> 48.25
A22: Ārsts | B22: 1 | C22: =D22+E22 -> 172 | D22: 160 | E22: 12 | G22: 8.87 | H22: =ROUND(G22*E22*2,2) -> 212.88 | I22: =ROUND(H22*1.2359,2) -> 263.1
A23: Ārsts anesteziologs, reanimatologs | B23: 1 | C23: =D23+E23 -> 220 | D23: 160 | E23: 60 | G23: 14.75 | H23: =ROUND(G23*E23*2,2) -> 1770 | I23: =ROUND(H23*1.2359,2) -> 2187.54
A24: Ārsts anesteziologs, reanimatologs | B24: 1 | C24: =D24+E24 -> 176 | D24: 160 | E24: 16 | G24: 14.75 | H24: =ROUND(G24*E24*2,2) -> 472 | I24: =ROUND(H24*1.2359,2) -> 583.34
... A141: Radiologs (dežūrām) | B141: 1 | C141: =D141+E141 -> 176 | D141: 160 | E141: 16 | G141: 16.75 | H141: =ROUND(G141*E141*2,2) -> 536 | I141: =ROUND(H141*1.2359,2) -> 662.44
A142: Rezidents | B142: 1 | C142: =D142+E142 -> 177 | D142: 160 | E142: 17 | F142: 1492.34 | G142: =F142/168.17 -> 8.8739966 | H142: =ROUND(G142*E142*2,2) -> 301.72 | I142: =ROUND(H142*1.2359,2) -> 372.9
A143: Rezidents | B143: 1 | C143: =D143+E143 -> 212 | D143: 160 | E143: 52 | F143: 1641.58 | G143: =F143/168.17 -> 9.7614319 | H143: =ROUND(G143*E143*2,2) -> 1015.19 | I143: =ROUND(H143*1.2359,2) -> 1254.67
A144: Rezidents | B144: 1 | C144: =D144+E144 -> 192 | D144: 160 | E144: 32 | F144: 1641.58 | G144: =F144/168.17 -> 9.7614319 | H144: =ROUND(G144*E144*2,2) -> 624.73 | I144: =ROUND(H144*1.2359,2) -> 772.1
A145: Rezidents | B145: 1 | C145: =D145+E145 -> 167 | D145: 160 | E145: 7 | F145: 1641.58 | G145: =F145/168.17 -> 9.7614319 | H145: =ROUND(G145*E145*2,2) -> 136.66 | I145: =ROUND(H145*1.2359,2) -> 168.9
A146: Rezidents | B146: 1 | C146: =D146+E146 -> 168 | D146: 160 | E146: 8 | F146: 1641.58 | G146: =F146/168.17 -> 9.7614319 | H146: =ROUND(G146*E146*2,2) -> 156.18 | I146: =ROUND(H146*1.2359,2) -> 193.02
A147: Rezidents | B147: 1 | C147: =D147+E147 -> 210 | D147: 160 | E147: 50 | F147: 1641.58 | G147: =F147/168.17 -> 9.7614319 | H147: =ROUND(G147*E147*2,2) -> 976.14 | I147: =ROUND(H147*1.2359,2) -> 1206.41
A148: Rezidents | B148: 1 | C148: =D148+E148 -> 171 | D148: 160 | E148: 11 | F148: 1641.58 | G148: =F148/168.17 -> 9.7614319 | H148: =ROUND(G148*E148*2,2) -> 214.75 | I148: =ROUND(H148*1.2359,2) -> 265.41
A149: Rezidents | B149: 1 | C149: =D149+E149 -> 192 | D149: 160 | E149: 32 | F149: 1641.58 | G149: =F149/168.17 -> 9.7614319 | H149: =ROUND(G149*E149*2,2) -> 624.73 | I149: =ROUND(H149*1.2359,2) -> 772.1
A150: Rezidents | B150: 1 | C150: =D150+E150 -> 196 | D150: 160 | E150: 36 | F150: 1641.58 | G150: =F150/168.17 -> 9.7614319 | H150: =ROUND(G150*E150*2,2) -> 702.82 | I150: =ROUND(H150*1.2359,2) -> 868.62
A151: Rezidents | B151: 1 | C151: =D151+E151 -> 200 | D151: 160 | E151: 40 | F151: 1492.34 | G151: =F151/168.17 -> 8.8739966 | H151: =ROUND(G151*E151*2,2) -> 709.92 | I151: =ROUND(H151*1.2359,2) -> 877.39
A152: Rezidents | B152: 1 | C152: =D152+E152 -> 204 | D152: 160 | E152: 44 | F152: 1492.34 | G152: =F152/168.17 -> 8.8739966 | H152: =ROUND(G152*E152*2,2) -> 780.91 | I152: =ROUND(H152*1.2359,2) -> 965.13
A153: Rezidents | B153: 1 | C153: =D153+E153 -> 181 | D153: 160 | E153: 21 | F153: 1492.34 | G153: =F153/168.17 -> 8.8739966 | H153: =ROUND(G153*E153*2,2) -> 372.71 | I153: =ROUND(H153*1.2359,2) -> 460.63
... A226: Rezidents | B226: 1 | C226: =D226+E226 -> 181 | D226: 160 | E226: 21 | F226: 1492.34 | G226: =F226/168.17 -> 8.8739966 | H226: =ROUND(G226*E226*2,2) -> 372.71 | I226: =ROUND(H226*1.2359,2) -> 460.63
A227: Virsārsts endokrinologs | B227: 1 | C227: =D227+E227 -> 192 | D227: 160 | E227: 32 | G227: 17.79 | H227: =ROUND(G227*E227*2,2) -> 1138.56 | I227: =ROUND(H227*1.2359,2) -> 1407.15
A228: Virsārsts gastroenterologs | B228: 1 | C228: =D228+E228 -> 192 | D228: 160 | E228: 32 | G228: 18.14 | H228: =ROUND(G228*E228*2,2) -> 1160.96 | I228: =ROUND(H228*1.2359,2) -> 1434.83
A229: Virsārsts intensīvajā terapijā | B229: 1 | C229: =D229+E229 -> 184 | D229: 160 | E229: 24 | G229: 17.53 | H229: =ROUND(G229*E229*2,2) -> 841.44 | I229: =ROUND(H229*1.2359,2) -> 1039.94
A230: Virsārsts nefrologs | B230: 1 | C230: =D230+E230 -> 184 | D230: 160 | E230: 24 | G230: 18.14 | H230: =ROUND(G230*E230*2,2) -> 870.72 | I230: =ROUND(H230*1.2359,2) -> 1076.12
A231: Virsārsts nefrologs | B231: 1 | C231: =D231+E231 -> 190 | D231: 160 | E231: 30 | G231: 17.53 | H231: =ROUND(G231*E231*2,2) -> 1051.8 | I231: =ROUND(H231*1.2359,2) -> 1299.92
...

Sheet PSKUS_marts
H1: 1.5.Pielikums
A2: Pārskats par darba veicējiem (ārstniecības personām), virs normālā darba laika nostrādātām stundām, apmaksājamām stundām un izdevumiem, kas radušies saistībā ar mērķi ierobežot Covid-19 izplatību
A4: Iestādes nosaukums: VSIA "Paula Stradiņa klīniskā universitātes slimnīca"
A5: Pārskata mēnesis: Marts
B7: Nodarbināto skaits mēnesī | C7: Apmaksājamais laiks mēnesī, stundas (tai skaitā summētā darba laika ietvaros) | F7: Mēnešalga no kuras rēķina stundas likmi | G7: Stundas likme (aprēķināta atbilstoši mēnešalgai vai darba līgumā noteiktā stundas likme) | H7: Apmaksājamā 100% piemaksa par nostrādātām virsstundām virs normālā darba laika (tai skaitā summētā darba laika ietvaros) | I7: Izdevumi par virsstundām kopā ar VSAOI, EUR
C8: Kopā | D8: līdz normālam darba laikam | E8: virsstundas - virs normālā darba laika, kas saistītas ar darbu ar Covid-19
A10: 1 | B10: 2 | C10: 3=4+5 | D10: 4 | E10: 5 | F10: 6 | G10: 7 | H10: 8 | I10: 9=8 +VSOAI
A11: KOPĀ | B11: =B12+B202+B393+B431 -> 505 | E11: =E12+E202+E393+E431 -> 10724.5 | H11: =H12+H202+H393+H431 -> 191780.43 | I11: =I12+I202+I393+I431 -> 237021.42
A12: Ārsti, zobārsti un funkcionālie speciālisti, kopā, tai skaitā: | B12: =SUM(B13:B201) -> 189 | E12: =SUM(E13:E201) -> 4769 | H12: =SUM(H13:H201) -> 106613.14 | I12: =SUM(I13:I201) -> 131763.16
A13: Atbildīgais ārsts speciālists (diennakts postenis) | B13: 1 | C13: =D13+E13 -> 214 | D13: 184 | E13: 30 | G13: 12.42 | H13: =ROUND(G13*E13*2,2) -> 745.2 | I13: =ROUND(H13*1.2359,2) -> 920.99
A14: Atbildīgais ārsts speciālists (diennakts postenis) | B14: 1 | C14: =D14+E14 -> 187 | D14: 184 | E14: 3 | G14: 12.42 | H14: =ROUND(G14*E14*2,2) -> 74.52 | I14: =ROUND(H14*1.2359,2) -> 92.1
A15: Ārsts | B15: 1 | C15: =D15+E15 -> 232 | D15: 184 | E15: 48 | G15: 9.76 | H15: =ROUND(G15*E15*2,2) -> 936.96 | I15: =ROUND(H15*1.2359,2) -> 1157.99
A16: Ārsts | B16: 1 | C16: =D16+E16 -> 192 | D16: 184 | E16: 8 | G16: 9.76 | H16: =ROUND(G16*E16*2,2) -> 156.16 | I16: =ROUND(H16*1.2359,2) -> 193
A17: Ārsts | B17: 1 | C17: =D17+E17 -> 220 | D17: 184 | E17: 36 | G17: 9.76 | H17: =ROUND(G17*E17*2,2) -> 702.72 | I17: =ROUND(H17*1.2359,2) -> 868.49
A18: Ārsts | B18: 1 | C18: =D18+E18 -> 215 | D18: 184 | E18: 31 | G18: 9.76 | H18: =ROUND(G18*E18*2,2) -> 605.12 | I18: =ROUND(H18*1.2359,2) -> 747.87
A19: Ārsts | B19: 1 | C19: =D19+E19 -> 204 | D19: 184 | E19: 20 | G19: 9.76 | H19: =ROUND(G19*E19*2,2) -> 390.4 | I19: =ROUND(H19*1.2359,2) -> 482.5
A20: Ārsts | B20: 1 | C20: =D20+E20 -> 210 | D20: 184 | E20: 26 | G20: 8.87 | H20: =ROUND(G20*E20*2,2) -> 461.24 | I20: =ROUND(H20*1.2359,2) -> 570.05
A21: Ārsts | B21: 1 | C21: =D21+E21 -> 248 | D21: 184 | E21: 64 | G21: 9.76 | H21: =ROUND(G21*E21*2,2) -> 1249.28 | I21: =ROUND(H21*1.2359,2) -> 1543.99
A22: Ārsts | B22: 1 | C22: =D22+E22 -> 195 | D22: 184 | E22: 11 | G22: 9.76 | H22: =ROUND(G22*E22*2,2) -> 214.72 | I22: =ROUND(H22*1.2359,2) -> 265.37
A23: Ārsts | B23: 1 | C23: =D23+E23 -> 196 | D23: 184 | E23: 12 | G23: 8.87 | H23: =ROUND(G23*E23*2,2) -> 212.88 | I23: =ROUND(H23*1.2359,2) -> 263.1
A24: Ārsts anesteziologs, reanimatologs | B24: 1 | C24: =D24+E24 -> 227 | D24: 184 | E24: 43 | G24: 14.75 | H24: =ROUND(G24*E24*2,2) -> 1268.5 | I24: =ROUND(H24*1.2359,2) -> 1567.74
... A122: Radiologs (dežūrām) | B122: 1 | C122: =D122+E122 -> 228 | D122: 184 | E122: 44 | G122: 16.75 | H122: =ROUND(G122*E122*2,2) -> 1474 | I122: =ROUND(H122*1.2359,2) -> 1821.72
A123: Rezidents | B123: 1 | C123: =D123+E123 -> 201 | D123: 184 | E123: 17 | F123: 1492.34 | G123: =F123/168.17 -> 8.8739966 | H123: =ROUND(G123*E123*2,2) -> 301.72 | I123: =ROUND(H123*1.2359,2) -> 372.9
A124: Rezidents | B124: 1 | C124: =D124+E124 -> 195 | D124: 184 | E124: 11 | F124: 1641.58 | G124: =F124/168.17 -> 9.7614319 | H124: =ROUND(G124*E124*2,2) -> 214.75 | I124: =ROUND(H124*1.2359,2) -> 265.41
A125: Rezidents | B125: 1 | C125: =D125+E125 -> 228 | D125: 184 | E125: 44 | F125: 1641.58 | G125: =F125/168.17 -> 9.7614319 | H125: =ROUND(G125*E125*2,2) -> 859.01 | I125: =ROUND(H125*1.2359,2) -> 1061.65
A126: Rezidents | B126: 1 | C126: =D126+E126 -> 205 | D126: 184 | E126: 21 | F126: 1641.58 | G126: =F126/168.17 -> 9.7614319 | H126: =ROUND(G126*E126*2,2) -> 409.98 | I126: =ROUND(H126*1.2359,2) -> 506.69
A127: Rezidents | B127: 1 | C127: =D127+E127 -> 196 | D127: 184 | E127: 12 | F127: 1641.58 | G127: =F127/168.17 -> 9.7614319 | H127: =ROUND(G127*E127*2,2) -> 234.27 | I127: =ROUND(H127*1.2359,2) -> 289.53
A128: Rezidents | B128: 1 | C128: =D128+E128 -> 234 | D128: 184 | E128: 50 | F128: 1641.58 | G128: =F128/168.17 -> 9.7614319 | H128: =ROUND(G128*E128*2,2) -> 976.14 | I128: =ROUND(H128*1.2359,2) -> 1206.41
A129: Rezidents | B129: 1 | C129: =D129+E129 -> 211 | D129: 184 | E129: 27 | F129: 1641.58 | G129: =F129/168.17 -> 9.7614319 | H129: =ROUND(G129*E129*2,2) -> 527.12 | I129: =ROUND(H129*1.2359,2) -> 651.47
A130: Rezidents | B130: 1 | C130: =D130+E130 -> 196 | D130: 184 | E130: 12 | F130: 1641.58 | G130: =F130/168.17 -> 9.7614319 | H130: =ROUND(G130*E130*2,2) -> 234.27 | I130: =ROUND(H130*1.2359,2) -> 289.53
A131: Rezidents | B131: 1 | C131: =D131+E131 -> 210 | D131: 184 | E131: 26 | F131: 1641.58 | G131: =F131/168.17 -> 9.7614319 | H131: =ROUND(G131*E131*2,2) -> 507.59 | I131: =ROUND(H131*1.2359,2) -> 627.33
A132: Rezidents | B132: 1 | C132: =D132+E132 -> 200 | D132: 184 | E132: 16 | F132: 1641.58 | G132: =F132/168.17 -> 9.7614319 | H132: =ROUND(G132*E132*2,2) -> 312.37 | I132: =ROUND(H132*1.2359,2) -> 386.06
A133: Rezidents | B133: 1 | C133: =D133+E133 -> 205 | D133: 184 | E133: 21 | F133: 1641.58 | G133: =F133/168.17 -> 9.7614319 | H133: =ROUND(G133*E133*2,2) -> 409.98 | I133: =ROUND(H133*1.2359,2) -> 506.69
A134: Rezidents | B134: 1 | C134: =D134+E134 -> 241 | D134: 184 | E134: 57 | F134: 1492.34 | G134: =F134/168.17 -> 8.8739966 | H134: =ROUND(G134*E134*2,2) -> 1011.64 | I134: =ROUND(H134*1.2359,2) -> 1250.29
... A196: Rezidents | B196: 1 | C196: =D196+E196 -> 206 | D196: 184 | E196: 22 | F196: 1492.34 | G196: =F196/168.17 -> 8.8739966 | H196: =ROUND(G196*E196*2,2) -> 390.46 | I196: =ROUND(H196*1.2359,2) -> 482.57
A197: Virsārsts endokrinologs | B197: 1 | C197: =D197+E197 -> 196 | D197: 184 | E197: 12 | G197: 17.79 | H197: =ROUND(G197*E197*2,2) -> 426.96 | I197: =ROUND(H197*1.2359,2) -> 527.68
A198: Virsārsts gastroenterologs | B198: 1 | C198: =D198+E198 -> 216 | D198: 184 | E198: 32 | G198: 18.14 | H198: =ROUND(G198*E198*2,2) -> 1160.96 | I198: =ROUND(H198*1.2359,2) -> 1434.83
A199: Virsārsts intensīvajā terapijā | B199: 1 | C199: =D199+E199 -> 236 | D199: 184 | E199: 52 | G199: 17.53 | H199: =ROUND(G199*E199*2,2) -> 1823.12 | I199: =ROUND(H199*1.2359,2) -> 2253.19
A200: Virsārsts nefrologs | B200: 1 | C200: =D200+E200 -> 204 | D200: 184 | E200: 20 | G200: 18.14 | H200: =ROUND(G200*E200*2,2) -> 725.6 | I200: =ROUND(H200*1.2359,2) -> 896.77
A201: Virsārsts torakālais ķirurgs | B201: 1 | C201: =D201+E201 -> 216 | D201: 184 | E201: 32 | G201: 19.57 | H201: =ROUND(G201*E201*2,2) -> 1252.48 | I201: =ROUND(H201*1.2359,2) -> 1547.94
...

Sheet PSKUS_apr
H1: 1.6.Pielikums
A2: Pārskats par darba veicējiem (ārstniecības personām), virs normālā darba laika nostrādātām stundām, apmaksājamām stundām un izdevumiem, kas radušies saistībā ar mērķi ierobežot Covid-19 izplatību
A4: Iestādes nosaukums: VSIA "Paula Stradiņa klīniskā universitātes slimnīca"
A5: Pārskata mēnesis: Aprīlis
B7: Nodarbināto skaits mēnesī | C7: Apmaksājamais laiks mēnesī, stundas (tai skaitā summētā darba laika ietvaros) | F7: Mēnešalga no kuras rēķina stundas likmi | G7: Stundas likme (aprēķināta atbilstoši mēnešalgai vai darba līgumā noteiktā stundas likme) | H7: Apmaksājamā 100% piemaksa par nostrādātām virsstundām virs normālā darba laika (tai skaitā summētā darba laika ietvaros) | I7: Izdevumi par virsstundām kopā ar VSAOI, EUR
C8: Kopā | D8: līdz normālam darba laikam | E8: virsstundas - virs normālā darba laika, kas saistītas ar darbu ar Covid-19
A10: 1 | B10: 2 | C10: 3=4+5 | D10: 4 | E10: 5 | F10: 6 | G10: 7 | H10: 8 | I10: 9=8 +VSOAI
A11: KOPĀ | B11: =B12+B173+B382+B430 -> 526 | E11: =E12+E173+E382+E430 -> 12079 | H11: =H12+H173+H382+H430 -> 203988.85 | I11: =I12+I173+I382+I430 -> 252109.85
A12: Ārsti, zobārsti un funkcionālie speciālisti, kopā, tai skaitā: | B12: =SUM(B13:B172) -> 160 | E12: =SUM(E13:E172) -> 4735 | H12: =SUM(H13:H172) -> 103648.66 | I12: =SUM(I13:I172) -> 128099.39
A13: Atbildīgais ārsts speciālists (diennakts postenis) | B13: 1 | C13: =D13+E13 -> 198 | D13: 151 | E13: 47 | G13: 12.42 | H13: =ROUND(G13*E13*2,2) -> 1167.48 | I13: =ROUND(H13*1.2359,2) -> 1442.89
A14: Atbildīgais ārsts speciālists (diennakts postenis) | B14: 1 | C14: =D14+E14 -> 172 | D14: 151 | E14: 21 | G14: 12.42 | H14: =ROUND(G14*E14*2,2) -> 521.64 | I14: =ROUND(H14*1.2359,2) -> 644.69
A15: Ārsts | B15: 1 | C15: =D15+E15 -> 192 | D15: 151 | E15: 41 | G15: 9.76 | H15: =ROUND(G15*E15*2,2) -> 800.32 | I15: =ROUND(H15*1.2359,2) -> 989.12
A16: Ārsts | B16: 1 | C16: =D16+E16 -> 172 | D16: 151 | E16: 21 | G16: 8.87 | H16: =ROUND(G16*E16*2,2) -> 372.54 | I16: =ROUND(H16*1.2359,2) -> 460.42
A17: Ārsts | B17: 1 | C17: =D17+E17 -> 176 | D17: 151 | E17: 25 | G17: 9.76 | H17: =ROUND(G17*E17*2,2) -> 488 | I17: =ROUND(H17*1.2359,2) -> 603.12
A18: Ārsts | B18: 1 | C18: =D18+E18 -> 195 | D18: 151 | E18: 44 | G18: 9.76 | H18: =ROUND(G18*E18*2,2) -> 858.88 | I18: =ROUND(H18*1.2359,2) -> 1061.49
A19: Ārsts | B19: 1 | C19: =D19+E19 -> 152 | D19: 151 | E19: 1 | G19: 8.87 | H19: =ROUND(G19*E19*2,2) -> 17.74 | I19: =ROUND(H19*1.2359,2) -> 21.92
A20: Ārsts anesteziologs, reanimatologs | B20: 1 | C20: =D20+E20 -> 197 | D20: 151 | E20: 46 | G20: 14.75 | H20: =ROUND(G20*E20*2,2) -> 1357 | I20: =ROUND(H20*1.2359,2) -> 1677.12
A21: Ārsts anesteziologs, reanimatologs | B21: 1 | C21: =D21+E21 -> 179 | D21: 151 | E21: 28 | G21: 10.56 | H21: =ROUND(G21*E21*2,2) -> 591.36 | I21: =ROUND(H21*1.2359,2) -> 730.86
A22: Ārsts anesteziologs, reanimatologs | B22: 1 | C22: =D22+E22 -> 182 | D22: 151 | E22: 31 | G22: 14.75 | H22: =ROUND(G22*E22*2,2) -> 914.5 | I22: =ROUND(H22*1.2359,2) -> 1130.23
A23: Ārsts anesteziologs, reanimatologs | B23: 1 | C23: =D23+E23 -> 160 | D23: 151 | E23: 9 | G23: 10.56 | H23: =ROUND(G23*E23*2,2) -> 190.08 | I23: =ROUND(H23*1.2359,2) -> 234.92
A24: Ārsts anesteziologs, reanimatologs | B24: 1 | C24: =D24+E24 -> 156 | D24: 151 | E24: 5 | G24: 14.75 | H24: =ROUND(G24*E24*2,2) -> 147.5 | I24: =ROUND(H24*1.2359,2) -> 182.3
... A102: Radiologs (dežūrām) | B102: 1 | C102: =D102+E102 -> 180 | D102: 151 | E102: 29 | G102: 16.75 | H102: =ROUND(G102*E102*2,2) -> 971.5 | I102: =ROUND(H102*1.2359,2) -> 1200.68
A103: Rezidents | B103: 1 | C103: =D103+E103 -> 170 | D103: 151 | E103: 19 | F103: 1641.58 | G103: =F103/168.17 -> 9.7614319 | H103: =ROUND(G103*E103*2,2) -> 370.93 | I103: =ROUND(H103*1.2359,2) -> 458.43
A104: Rezidents | B104: 1 | C104: =D104+E104 -> 165 | D104: 151 | E104: 14 | F104: 1492.34 | G104: =F104/168.17 -> 8.8739966 | H104: =ROUND(G104*E104*2,2) -> 248.47 | I104: =ROUND(H104*1.2359,2) -> 307.08
A105: Rezidents | B105: 1 | C105: =D105+E105 -> 204 | D105: 151 | E105: 53 | F105: 1641.58 | G105: =F105/168.17 -> 9.7614319 | H105: =ROUND(G105*E105*2,2) -> 1034.71 | I105: =ROUND(H105*1.2359,2) -> 1278.8
A106: Rezidents | B106: 1 | C106: =D106+E106 -> 201 | D106: 151 | E106: 50 | F106: 1641.58 | G106: =F106/168.17 -> 9.7614319 | H106: =ROUND(G106*E106*2,2) -> 976.14 | I106: =ROUND(H106*1.2359,2) -> 1206.41
A107: Rezidents | B107: 1 | C107: =D107+E107 -> 188 | D107: 151 | E107: 37 | F107: 1641.58 | G107: =F107/168.17 -> 9.7614319 | H107: =ROUND(G107*E107*2,2) -> 722.35 | I107: =ROUND(H107*1.2359,2) -> 892.75
A108: Rezidents | B108: 1 | C108: =D108+E108 -> 199 | D108: 151 | E108: 48 | F108: 1641.58 | G108: =F108/168.17 -> 9.7614319 | H108: =ROUND(G108*E108*2,2) -> 937.1 | I108: =ROUND(H108*1.2359,2) -> 1158.16
A109: Rezidents | B109: 1 | C109: =D109+E109 -> 212 | D109: 151 | E109: 61 | F109: 1641.58 | G109: =F109/168.17 -> 9.7614319 | H109: =ROUND(G109*E109*2,2) -> 1190.89 | I109: =ROUND(H109*1.2359,2) -> 1471.82
A110: Rezidents | B110: 1 | C110: =D110+E110 -> 163 | D110: 151 | E110: 12 | F110: 1641.58 | G110: =F110/168.17 -> 9.7614319 | H110: =ROUND(G110*E110*2,2) -> 234.27 | I110: =ROUND(H110*1.2359,2) -> 289.53
A111: Rezidents | B111: 1 | C111: =D111+E111 -> 211 | D111: 151 | E111: 60 | F111: 1492.34 | G111: =F111/168.17 -> 8.8739966 | H111: =ROUND(G111*E111*2,2) -> 1064.88 | I111: =ROUND(H111*1.2359,2) -> 1316.09
A112: Rezidents | B112: 1 | C112: =D112+E112 -> 211 | D112: 151 | E112: 60 | F112: 1492.34 | G112: =F112/168.17 -> 8.8739966 | H112: =ROUND(G112*E112*2,2) -> 1064.88 | I112: =ROUND(H112*1.2359,2) -> 1316.09
A113: Rezidents | B113: 1 | C113: =D113+E113 -> 172 | D113: 151 | E113: 21 | F113: 1492.34 | G113: =F113/168.17 -> 8.8739966 | H113: =ROUND(G113*E113*2,2) -> 372.71 | I113: =ROUND(H113*1.2359,2) -> 460.63
A114: Rezidents | B114: 1 | C114: =D114+E114 -> 172 | D114: 151 | E114: 21 | F114: 1492.34 | G114: =F114/168.17 -> 8.8739966 | H114: =ROUND(G114*E114*2,2) -> 372.71 | I114: =ROUND(H114*1.2359,2) -> 460.63
... A169: Rezidents | B169: 1 | C169: =D169+E169 -> 174 | D169: 151 | E169: 23 | F169: 1492.34 | G169: =F169/168.17 -> 8.8739966 | H169: =ROUND(G169*E169*2,2) -> 408.2 | I169: =ROUND(H169*1.2359,2) -> 504.49
A170: Virsārsts intensīvajā terapijā | B170: 1 | C170: =D170+E170 -> 191 | D170: 151 | E170: 40 | G170: 17.53 | H170: =ROUND(G170*E170*2,2) -> 1402.4 | I170: =ROUND(H170*1.2359,2) -> 1733.23
A171: Virsārsts nefrologs | B171: 1 | C171: =D171+E171 -> 183 | D171: 151 | E171: 32 | G171: 18.14 | H171: =ROUND(G171*E171*2,2) -> 1160.96 | I171: =ROUND(H171*1.2359,2) -> 1434.83
A172: Virsārsts torakālais ķirurgs | B172: 1 | C172: =D172+E172 -> 183 | D172: 151 | E172: 32 | G172: 19.57 | H172: =ROUND(G172*E172*2,2) -> 1252.48 | I172: =ROUND(H172*1.2359,2) -> 1547.94
A173: Ārstniecības un pacientu aprūpes personas un funkcionālo speciālistu asistenti, kopā, tai skaitā: | B173: =SUM(B174:B381) -> 208 | E173: =SUM(E174:E381) -> 4583 | H173: =SUM(H174:H381) -> 71822.28 | I173: =SUM(I174:I381) -> 88765.2
A174: Ambulatorā dienesta ārsta palīgs | B174: 1 | C174: =D174+E174 -> 192 | D174: 151 | E174: 41 | G174: 7.76 | H174: =ROUND(G174*E174*2,2) -> 636.32 | I174: =ROUND(H174*1.2359,2) -> 786.43
...

Sheet Daugavpils_reģ_janv
H1: 1.7.Pielikums
A2: Pārskats par darba veicējiem (ārstniecības personām), virs normālā darba laika nostrādātām stundām, apmaksājamām stundām un izdevumiem, kas radušies saistībā ar mērķi ierobežot Covid-19 izplatību
A4: Iestādes nosaukums: SIA "Daugavpils reģionālā slimnīca"
A5: Pārskata mēnesis: Janvāris
B7: Nodarbināto skaits mēnesī | C7: Apmaksājamais laiks mēnesī, stundas (tai skaitā summētā darba laika ietvaros) | F7: Mēnešalga no kuras rēķina stundas likmi | G7: Stundas likme (aprēķināta atbilstoši mēnešalgai vai darba līgumā noteiktā stundas likme) | H7: Apmaksājamā 100% piemaksa par nostrādātām virsstundām virs normālā darba laika (tai skaitā summētā darba laika ietvaros) | I7: Izdevumi par virsstundām kopā ar VSOAI, EUR
C8: Kopā | D8: līdz normālam darba laikam | E8: virsstundas - virs normālā darba laika, kas saistītas ar darbu ar Covid-19
A10: 1 | B10: 2 | C10: 3=4+5 | D10: 4 | E10: 5 | F10: 6 | G10: 7 | H10: 8 | I10: 9=8 +VSOAI
A11: KOPĀ | B11: =B12+B103+B109+B147+B159+B184+B201+B209 -> 217 | E11: =E12+E103+E109+E147+E159+E184+E201+E209 -> 7628.25 | H11: =H12+H103+H109+H147+H159+H184+H201+H209 -> 120936.67 | I11: =I12+I103+I109+I147+I159+I184+I201+I209 -> 149250.46
A12: Centrālā slimnīca "Uzņemšanas nodaļa" | B12: =B13+B49+B88 -> 87 | E12: =E13+E49+E88 -> 4191 | H12: =H13+H49+H88 -> 69963.05 | I12: =I13+I49+I88 -> 86320.9
A13: Ārsti, zobārsti un funkcionālie speciālisti, kopā, tai skaitā: | B13: =SUM(B14:B48) -> 35 | E13: =SUM(E14:E48) -> 2295 | H13: =SUM(H14:H48) -> 46939.19 | I13: =SUM(I14:I48) -> 57882.92
A14: Ārsts (dežūrslodze) | B14: 1 | C14: =D14+E14 -> 258.5 | D14: 168 | E14: 90.5 | F14: 1718.25 | G14: =F14/168 -> 10.227679 | H14: =ROUND(E14*G14*2,2) -> 1851.21 | I14: =ROUND(H14*1.2359,2) -> 2287.91
A15: Ārsts (dežūrslodze) | B15: 1 | C15: =D15+E15 -> 232 | D15: 168 | E15: 64 | F15: 1718.25 | G15: =F15/168 -> 10.227679 | H15: =ROUND(E15*G15*2,2) -> 1309.14 | I15: =ROUND(H15*1.2077,2) -> 1581.05
A16: Ārsts stažieris | B16: 1 | C16: =D16+E16 -> 280 | D16: 168 | E16: 112 | F16: 1718.25 | G16: =F16/168 -> 10.227679 | H16: =ROUND(E16*G16*2,2) -> 2291 | I16: =ROUND(H16*1.2359,2) -> 2831.45
A17: Ginekologs, dzemdību speciālists | B17: 1 | C17: =D17+E17 -> 216 | D17: 168 | E17: 48 | F17: 1718.25 | G17: =F17/168 -> 10.227679 | H17: =ROUND(E17*G17*2,2) -> 981.86 | I17: =ROUND(H17*1.2077,2) -> 1185.79
A18: Ginekologs, dzemdību speciālists | B18: 1 | C18: =D18+E18 -> 24 | D18: 16 | E18: 8 | F18: 1655.72 | G18: =F18/168 -> 9.8554762 | H18: =ROUND(E18*G18*2,2) -> 157.69 | I18: =ROUND(H18*1.2359,2) -> 194.89
A19: Bērnu ķirurgs | B19: 1 | C19: =D19+E19 -> 256 | D19: 168 | E19: 88 | F19: 1718.2536 | G19: =F19/168 -> 10.2277 | H19: =ROUND(E19*G19*2,2) -> 1800.08 | I19: =ROUND(H19*1.2359,2) -> 2224.72
A20: Internists | B20: 1 | C20: =D20+E20 -> 172 | D20: 168 | E20: 4 | F20: 1718.2536 | G20: =F20/168 -> 10.2277 | H20: =ROUND(E20*G20*2,2) -> 81.82 | I20: =ROUND(H20*1.2359,2) -> 101.12
A21: Internists | B21: 1 | C21: =D21+E21 -> 332 | D21: 168 | E21: 164 | F21: 1718.2536 | G21: =F21/168 -> 10.2277 | H21: =ROUND(E21*G21*2,2) -> 3354.69 | I21: =ROUND(H21*1.2359,2) -> 4146.06
A22: Internists | B22: 1 | C22: =D22+E22 -> 215 | D22: 147 | E22: 68 | F22: 1718.2536 | G22: =F22/168 -> 10.2277 | H22: =ROUND(E22*G22*2,2) -> 1390.97 | I22: =ROUND(H22*1.2359,2) -> 1719.1
A23: Kardiologs | B23: 1 | C23: =D23+E23 -> 184 | D23: 147 | E23: 37 | F23: 1718.2536 | G23: =F23/168 -> 10.2277 | H23: =ROUND(E23*G23*2,2) -> 756.85 | I23: =ROUND(H23*1.2359,2) -> 935.39
A24: Kardiologs | B24: 1 | C24: =D24+E24 -> 272 | D24: 168 | E24: 104 | F24: 1718.2536 | G24: =F24/168 -> 10.2277 | H24: =ROUND(E24*G24*2,2) -> 2127.36 | I24: =ROUND(H24*1.2359,2) -> 2629.2
A25: Kardiologs | B25: 1 | C25: =D25+E25 -> 259 | D25: 147 | E25: 112 | F25: 1718.2536 | G25: =F25/168 -> 10.2277 | H25: =ROUND(E25*G25*2,2) -> 2291 | I25: =ROUND(H25*1.2359,2) -> 2831.45
A26: Kardiologs | B26: 1 | C26: =D26+E26 -> 167 | D26: 160 | E26: 7 | F26: 1718.2536 | G26: =F26/168 -> 10.2277 | H26: =ROUND(E26*G26*2,2) -> 143.19 | I26: =ROUND(H26*1.2359,2) -> 176.97
A27: Kardiologs | B27: 1 | C27: =D27+E27 -> 240 | D27: 168 | E27: 72 | F27: 1718.2536 | G27: =F27/168 -> 10.2277 | H27: =ROUND(E27*G27*2,2) -> 1472.79 | I27: =ROUND(H27*1.2359,2) -> 1820.22
A28: Kardiologs | B28: 1 | C28: =D28+E28 -> 64 | D28: 40 | E28: 24 | F28: 1718.2536 | G28: =F28/168 -> 10.2277 | H28: =ROUND(E28*G28*2,2) -> 490.93 | I28: =ROUND(H28*1.2359,2) -> 606.74
A29: Kardiologs | B29: 1 | C29: =D29+E29 -> 200 | D29: 168 | E29: 32 | F29: 1718.2536 | G29: =F29/168 -> 10.2277 | H29: =ROUND(E29*G29*2,2) -> 654.57 | I29: =ROUND(H29*1.2359,2) -> 808.98
A30: Kardiologs | B30: 1 | C30: =D30+E30 -> 128 | D30: 112 | E30: 16 | F30: 1718.2536 | G30: =F30/168 -> 10.2277 | H30: =ROUND(E30*G30*2,2) -> 327.29 | I30: =ROUND(H30*1.2359,2) -> 404.5
A31: Ķirurgs | B31: 1 | C31: =D31+E31 -> 236 | D31: 168 | E31: 68 | F31: 1718.2536 | G31: =F31/168 -> 10.2277 | H31: =ROUND(E31*G31*2,2) -> 1390.97 | I31: =ROUND(H31*1.2077,2) -> 1679.87
A32: Ķirurgs | B32: 1 | C32: =D32+E32 -> 251 | D32: 147 | E32: 104 | F32: 1718.2536 | G32: =F32/168 -> 10.2277 | H32: =ROUND(E32*G32*2,2) -> 2127.36 | I32: =ROUND(H32*1.2359,2) -> 2629.2
A33: Ķirurgs | B33: 1 | C33: =D33+E33 -> 265.5 | D33: 168 | E33: 97.5 | F33: 1718.2536 | G33: =F33/168 -> 10.2277 | H33: =ROUND(E33*G33*2,2) -> 1994.4 | I33: =ROUND(H33*1.2359,2) -> 2464.88
A34: Ķirurgs | B34: 1 | C34: =D34+E34 -> 161.5 | D34: 120 | E34: 41.5 | F34: 1718.2536 | G34: =F34/168 -> 10.2277 | H34: =ROUND(E34*G34*2,2) -> 848.9 | I34: =ROUND(H34*1.2359,2) -> 1049.16
A35: Ķirurgs | B35: 1 | C35: =D35+E35 -> 202 | D35: 168 | E35: 34 | F35: 1718.2536 | G35: =F35/168 -> 10.2277 | H35: =ROUND(E35*G35*2,2) -> 695.48 | I35: =ROUND(H35*1.2359,2) -> 859.54
A36: Ķirurgs | B36: 1 | C36: =D36+E36 -> 240 | D36: 168 | E36: 72 | F36: 1718.2536 | G36: =F36/168 -> 10.2277 | H36: =ROUND(E36*G36*2,2) -> 1472.79 | I36: =ROUND(H36*1.2359,2) -> 1820.22
A37: Ķirurgs | B37: 1 | C37: =D37+E37 -> 208 | D37: 168 | E37: 40 | F37: 1718.2536 | G37: =F37/168 -> 10.2277 | H37: =ROUND(E37*G37*2,2) -> 818.22 | I37: =ROUND(H37*1.2359,2) -> 1011.24
A38: Neatliekamās medicīnas ārsts | B38: 1 | C38: =D38+E38 -> 80 | D38: 72 | E38: 8 | F38: 1718.2536 | G38: =F38/168 -> 10.2277 | H38: =ROUND(E38*G38*2,2) -> 163.64 | I38: =ROUND(H38*1.2359,2) -> 202.24
A39: Nefrologs | B39: 1 | C39: =D39+E39 -> 184 | D39: 168 | E39: 16 | F39: 1718.2536 | G39: =F39/168 -> 10.2277 | H39: =ROUND(E39*G39*2,2) -> 327.29 | I39: =ROUND(H39*1.2359,2) -> 404.5
A40: Pediatrs | B40: 1 | C40: =D40+E40 -> 296 | D40: 168 | E40: 128 | F40: 1718.2536 | G40: =F40/168 -> 10.2277 | H40: =ROUND(E40*G40*2,2) -> 2618.29 | I40: =ROUND(H40*1.2359,2) -> 3235.94
A41: Pediatrs | B41: 1 | C41: =D41+E41 -> 198 | D41: 152 | E41: 46 | F41: 1718.2536 | G41: =F41/168 -> 10.2277 | H41: =ROUND(E41*G41*2,2) -> 940.95 | I41: =ROUND(H41*1.2359,2) -> 1162.92
A42: Pediatrs | B42: 1 | C42: =D42+E42 -> 304 | D42: 168 | E42: 136 | F42: 1718.2536 | G42: =F42/168 -> 10.2277 | H42: =ROUND(E42*G42*2,2) -> 2781.93 | I42: =ROUND(H42*1.2359,2) -> 3438.19
A43: Pediatrs | B43: 1 | C43: =D43+E43 -> 212 | D43: 168 | E43: 44 | F43: 1718.2536 | G43: =F43/168 -> 10.2277 | H43: =ROUND(E43*G43*2,2) -> 900.04 | I43: =ROUND(H43*1.2077,2) -> 1086.98
...

Sheet Daugavpils_reģ_feb
H1: 1.8.Pielikums
A2: Pārskats par darba veicējiem (ārstniecības personām), virs normālā darba laika nostrādātām stundām, apmaksājamām stundām un izdevumiem, kas radušies saistībā ar mērķi ierobežot Covid-19 izplatību
A4: Iestādes nosaukums: SIA "Daugavpils reģionālā slimnīca"
A5: Pārskata mēnesis: Februāris
B7: Nodarbināto skaits mēnesī | C7: Apmaksājamais laiks mēnesī, stundas (tai skaitā summētā darba laika ietvaros) | F7: Mēnešalga no kuras rēķina stundas likmi | G7: Stundas likme (aprēķināta atbilstoši mēnešalgai vai darba līgumā noteiktā stundas likme) | H7: Apmaksājamā 100% piemaksa par nostrādātām virsstundām virs normālā darba laika (tai skaitā summētā darba laika ietvaros) | I7: Izdevumi par virsstundām kopā ar VSOAI, EUR
C8: Kopā | D8: līdz normālam darba laikam | E8: virsstundas - virs normālā darba laika, kas saistītas ar darbu ar Covid-19
A10: 1 | B10: 2 | C10: 3=4+5 | D10: 4 | E10: 5 | F10: 6 | G10: 7 | H10: 8 | I10: 9=8 +VSOAI
A11: KOPĀ | B11: =B12+B103+B114+B171+B182+B210+B215+B234+B237 -> 237 | E11: =E12+E103+E114+E171+E182+E210+E215+E234+E237 -> 7591.5 | H11: =H12+H103+H114+H171+H182+H210+H215+H234+H237 -> 121110.35 | I11: =I12+I103+I114+I171+I182+I210+I215+I234+I237 -> 149468.61
A12: Centrālā slimnīca "Uzņemšanas nodaļa" | B12: =B13+B48+B89 -> 87 | E12: =E13+E48+E89 -> 3979 | H12: =H13+H48+H89 -> 66370.5 | I12: =I13+I48+I89 -> 81882.46
A13: Ārsti, zobārsti un funkcionālie speciālisti, kopā, tai skaitā: | B13: =SUM(B14:B47) -> 34 | E13: =SUM(E14:E47) -> 2177.5 | H13: =SUM(H14:H47) -> 44541.6 | I13: =SUM(I14:I47) -> 54904.17
A14: Ārsts (dežūrslodze) | B14: 1 | C14: =D14+E14 -> 192.5 | D14: 160 | E14: 32.5 | F14: 1636.43 | G14: =F14/160 -> 10.227688 | H14: =ROUND(E14*G14*2,2) -> 664.8 | I14: =ROUND(H14*1.2359,2) -> 821.63
A15: Ārsts (dežūrslodze) | B15: 1 | C15: =D15+E15 -> 240 | D15: 152 | E15: 88 | F15: 1636.43 | G15: =F15/160 -> 10.227688 | H15: =ROUND(E15*G15*2,2) -> 1800.07 | I15: =ROUND(H15*1.2077,2) -> 2173.94
A16: Ginekologs, dzemdību speciālists | B16: 1 | C16: =D16+E16 -> 168 | D16: 160 | E16: 8 | F16: 1636.43 | G16: =F16/160 -> 10.227688 | H16: =ROUND(E16*G16*2,2) -> 163.64 | I16: =ROUND(H16*1.2077,2) -> 197.63
A17: Ginekologs, dzemdību speciālists | B17: 1 | C17: =D17+E17 -> 168 | D17: 144 | E17: 24 | F17: 1636.43 | G17: =F17/160 -> 10.227688 | H17: =ROUND(E17*G17*2,2) -> 490.93 | I17: =ROUND(H17*1.2359,2) -> 606.74
A18: Bērnu ķirurgs | B18: 1 | C18: =D18+E18 -> 80 | D18: 64 | E18: 16 | F18: 1636.43 | G18: =F18/160 -> 10.227688 | H18: =ROUND(E18*G18*2,2) -> 327.29 | I18: =ROUND(H18*1.2359,2) -> 404.5
A19: Internists | B19: 1 | C19: =D19+E19 -> 256 | D19: 152 | E19: 104 | F19: 1636.43 | G19: =F19/160 -> 10.227688 | H19: =ROUND(E19*G19*2,2) -> 2127.36 | I19: =ROUND(H19*1.2359,2) -> 2629.2
A20: Kardiologs | B20: 1 | C20: =D20+E20 -> 164 | D20: 140 | E20: 24 | F20: 1636.43 | G20: =F20/160 -> 10.227688 | H20: =ROUND(E20*G20*2,2) -> 490.93 | I20: =ROUND(H20*1.2359,2) -> 606.74
A21: Kardiologs | B21: 1 | C21: =D21+E21 -> 168 | D21: 96 | E21: 72 | F21: 1636.43 | G21: =F21/160 -> 10.227688 | H21: =ROUND(E21*G21*2,2) -> 1472.79 | I21: =ROUND(H21*1.2359,2) -> 1820.22
A22: Kardiologs | B22: 1 | C22: =D22+E22 -> 180 | D22: 140 | E22: 40 | F22: 1636.43 | G22: =F22/160 -> 10.227688 | H22: =ROUND(E22*G22*2,2) -> 818.22 | I22: =ROUND(H22*1.2359,2) -> 1011.24
A23: Kardiologs | B23: 1 | C23: =D23+E23 -> 247 | D23: 160 | E23: 87 | F23: 1636.43 | G23: =F23/160 -> 10.227688 | H23: =ROUND(E23*G23*2,2) -> 1779.62 | I23: =ROUND(H23*1.2359,2) -> 2199.43
A24: Kardiologs | B24: 1 | C24: =D24+E24 -> 207 | D24: 160 | E24: 47 | F24: 1636.43 | G24: =F24/160 -> 10.227688 | H24: =ROUND(E24*G24*2,2) -> 961.4 | I24: =ROUND(H24*1.2359,2) -> 1188.19
A25: Ķirurgs | B25: 1 | C25: =D25+E25 -> 171 | D25: 120 | E25: 51 | F25: 1636.43 | G25: =F25/160 -> 10.227688 | H25: =ROUND(E25*G25*2,2) -> 1043.22 | I25: =ROUND(H25*1.2077,2) -> 1259.9
A26: Ķirurgs | B26: 1 | C26: =D26+E26 -> 268 | D26: 133 | E26: 135 | F26: 1636.43 | G26: =F26/160 -> 10.227688 | H26: =ROUND(E26*G26*2,2) -> 2761.48 | I26: =ROUND(H26*1.2359,2) -> 3412.91
A27: Ķirurgs | B27: 1 | C27: =D27+E27 -> 250 | D27: 160 | E27: 90 | F27: 1636.43 | G27: =F27/160 -> 10.227688 | H27: =ROUND(E27*G27*2,2) -> 1840.98 | I27: =ROUND(H27*1.2359,2) -> 2275.27
A28: Ķirurgs | B28: 1 | C28: =D28+E28 -> 226 | D28: 160 | E28: 66 | F28: 1636.43 | G28: =F28/160 -> 10.227688 | H28: =ROUND(E28*G28*2,2) -> 1350.05 | I28: =ROUND(H28*1.2359,2) -> 1668.53
A29: Ķirurgs | B29: 1 | C29: =D29+E29 -> 136 | D29: 120 | E29: 16 | F29: 1636.43 | G29: =F29/160 -> 10.227688 | H29: =ROUND(E29*G29*2,2) -> 327.29 | I29: =ROUND(H29*1.2359,2) -> 404.5
A30: Ķirurgs | B30: 1 | C30: =D30+E30 -> 168 | D30: 120 | E30: 48 | F30: 1636.43 | G30: =F30/160 -> 10.227688 | H30: =ROUND(E30*G30*2,2) -> 981.86 | I30: =ROUND(H30*1.2359,2) -> 1213.48
A31: Ķirurgs | B31: 1 | C31: =D31+E31 -> 219 | D31: 160 | E31: 59 | F31: 1636.43 | G31: =F31/160 -> 10.227688 | H31: =ROUND(E31*G31*2,2) -> 1206.87 | I31: =ROUND(H31*1.2359,2) -> 1491.57
A32: Neatliekamās medicīnas ārsts | B32: 1 | C32: =D32+E32 -> 168 | D32: 160 | E32: 8 | F32: 1636.43 | G32: =F32/160 -> 10.227688 | H32: =ROUND(E32*G32*2,2) -> 163.64 | I32: =ROUND(H32*1.2359,2) -> 202.24
