Workbook

Sheet APKOPOJUMS
A1: Detalizēta informācija papildu nepieciešamajam finansējumam
A3: Pasākumi atbilstoši jomām | B3: Atbalstītais finansējums (2023. gada decembris - 2024. gada jūnijs), euro [1] | C3: Pamatojoties uz Finanšu ministrijas rīkojumiem: 1) 19.02.2024., Nr.56 2) 18.03.2024., Nr.92 3) 09.04.2024., Nr.118 4) 17.05.2024., Nr.176 5) 31.05.2024., Nr.202 6) 08.07.2024., Nr.250 uz 18.07.2024. kopā pašvaldībām pārskaitītais finansējums par 2023. gada decembri - 2024. gada maiju, euro | D3: Pašvaldību plānotie izdevumi par sniegto atbalstu Ukrainas civiliedzīvotājiem par 2024. gada jūniju - novembri, euro | E3: Starpība starp atbalstīto finansējumu un faktiskajiem izdevumiem, jeb finanšu līdzekļu atlikums no MK rīkojuma Nr. 62 1. punktā paredzētā finansējuma, euro | F3: Kopā nepieciešamais plānotais finansējums 2023. gada decembrim - 2024. gada novembrim, euro
A4: Par palīdzību sociālā atbalsta jomā kopā (LM) [2] 4. "Sociālā palīdzība, finansiālais atbalsts, pakalpojumi" un 5. "Nepilngadīgie" | B4: 10141453 | C4: ='2.pielikums_LM_prognoze'!O28 -> 7897498.2 | D4: ='2.pielikums_LM_prognoze'!S28+'2.pielikums_LM_prognoze'!W28+'2.pielikums_LM_prognoze'!Y28+'2.pielikums_LM_prognoze'!AA28+'2.pielikums_LM_prognoze'!AC28+'2.pielikums_LM_prognoze'!AE28 -> 7638636.8 | E4: =B4-C4 -> 2243954.8 | F4: =C4+D4 -> 15536135
A5: Par palīdzību izglītības jomā (IzM) [2] 6. "Izglītība" | B5: 2536645 | C5: ='3.pielikums_IzM_prognoze'!C13 -> 1129182.7 | D5: ='3.pielikums_IzM_prognoze'!Q13+'3.pielikums_IzM_prognoze'!S13+'3.pielikums_IzM_prognoze'!U13+'3.pielikums_IzM_prognoze'!W13+'3.pielikums_IzM_prognoze'!Y13+'3.pielikums_IzM_prognoze'!AA13 -> 2193176 | E5: =B5-C5 -> 1407462.3 | F5: =C5+D5 -> 3322358.7
A6: Par palīdzību ēdināšanas jomā (EM) [2] 2. "Personu izmitināšana un ēdināšana" | B6: 240000 | C6: ='1.pielikums_EM_prognoze'!C10+'1.pielikums_EM_prognoze'!D10+'1.pielikums_EM_prognoze'!E10+'1.pielikums_EM_prognoze'!F10+'1.pielikums_EM_prognoze'!G10+'1.pielikums_EM_prognoze'!H10 -> 185190.42 | D6: ='1.pielikums_EM_prognoze'!I10+'1.pielikums_EM_prognoze'!J10+'1.pielikums_EM_prognoze'!K10+'1.pielikums_EM_prognoze'!L10+'1.pielikums_EM_prognoze'!M10+'1.pielikums_EM_prognoze'!N10 -> 175776 | E6: =B6-C6 -> 54809.58 | F6: =C6+D6 -> 360966.42
A7: Par palīdzību izmitināšanas jomā (EM) [2] 2. "Personu izmitināšana un ēdināšana" | B7: 2375000 | C7: ='1.pielikums_EM_prognoze'!C9+'1.pielikums_EM_prognoze'!D9+'1.pielikums_EM_prognoze'!E9+'1.pielikums_EM_prognoze'!F9+'1.pielikums_EM_prognoze'!G9+'1.pielikums_EM_prognoze'!H9 -> 1735823 | D7: ='1.pielikums_EM_prognoze'!I9+'1.pielikums_EM_prognoze'!J9+'1.pielikums_EM_prognoze'!K9+'1.pielikums_EM_prognoze'!L9+'1.pielikums_EM_prognoze'!M9+'1.pielikums_EM_prognoze'!N9 -> 1673761 | E7: =B7-C7 -> 639177.05 | F7: =C7+D7 -> 3409584
A8: Par izlietoto finansējumu valsts pārvaldes pakalpojumu pieteikšanas un fizisko personu reģistrācijas pasākumiem (VARAM) [2] 1. "Personu uzņemšana un reģistrācija, informēšanas pasākumi" 1.7. apakšpunkts | B8: 57828 | C8: ='4.pielikums_VARAM_KAC_prognoze'!D17+'4.pielikums_VARAM_KAC_prognoze'!F17+'4.pielikums_VARAM_KAC_prognoze'!H17+'4.pielikums_VARAM_KAC_prognoze'!J17+'4.pielikums_VARAM_KAC_prognoze'!L17+'4.pielikums_VARAM_KAC_prognoze'!N17 -> 1016 | D8: ='4.pielikums_VARAM_KAC_prognoze'!P17+'4.pielikums_VARAM_KAC_prognoze'!R17+'4.pielikums_VARAM_KAC_prognoze'!T17+'4.pielikums_VARAM_KAC_prognoze'!V17+'4.pielikums_VARAM_KAC_prognoze'!X17+'4.pielikums_VARAM_KAC_prognoze'!Z17 -> 12830 | E8: =B8-C8 -> 56812 | F8: =C8+D8 -> 13846
A9: Par pašvaldību veiktajiem uzlabojumiem pašvaldību ēkās, lai nodrošinātu Ukrainas civiliedzīvotāju izmitināšanu (VARAM) [2] 2. "Personu izmitināšana un ēdināšana" 2.3. apakšpunkts | B9: 88000 | C9: 0 | D9: ='5.pielikums_VARAM_māj_uzlab'!G7 -> 76034.42 | E9: =B9-C9 -> 88000 | F9: =C9+D9 -> 76034.42
A10: Par vienotu valsts un pašvaldību sniegtā atbalsta koordinācijas punktu darbības nodrošināšanu [2] 1. "Personu uzņemšana un reģistrācija, informēšanas pasākumi" 1.6. apakšpunkts | B10: 178149 | C10: ='6.pielikums Rīgas centrs UC'!C5+'6.pielikums Rīgas centrs UC'!E5 -> 65273.89 | D10: ='6.pielikums Rīgas centrs UC'!G5+'6.pielikums Rīgas centrs UC'!H5 -> 77597.03 | E10: =B10-C10 -> 112875.11 | F10: =C10+D10 -> 142870.92
A11: KOPĀ | B11: =SUM(B4:B10) -> 15617075 | C11: =SUM(C4:C10) -> 11013984 | D11: =SUM(D4:D10) -> 11847811 | E11: =SUM(E4:E10) -> 4603090.8 | F11: =SUM(F4:F10) -> 22861795
A12: Papildus no valsts budžeta programmas 17.00.00 "Finansējums Ukrainas civiliedzīvotāju atbalsta likumā noteikto pasākumu īstenošanai" nepieciešamais finansējums 2024. gada jūlijs - novembris, euro | B12: =D11-E11 -> 7244720.5
A14: [1] Ar MK 23.01.2024. rīkojumu Nr. 62 "Par finanšu līdzekļu piešķiršanu no valsts budžeta programmas 17.00.00 "Finansējums Ukrainas civiliedzīvotāju atbalsta likumā noteikto pasākumu īstenošanai""
A16: [2] Saskaņā ar Ministru kabineta 2023. gada 23. decembra rīkojuma Nr. 927 “Par Pasākumu plānu atbalsta sniegšanai Ukrainas civiliedzīvotājiem Latvijas Republikā 2024. gadam".

Sheet 1.pielikums_EM_prognoze
O1: 1. pielikums
A2: Indikatīvais izdevumu aprēķins Ekonomikas ministrijas primāri sniedzamā atbalsta nodrošināšanai
A4: Gads | B4: 2023/2024 | C4: 2023 | D4: 2024 | E4: 2024 | F4: 2024 | G4: 2024 | H4: 2024 | I4: 2024 | J4: 2024 | K4: 2024 | L4: 2024 | M4: 2024 | N4: 2024 | O4: komentāri
A5: Pārskata periods | B5: 2023.g. decembris - 2024.g. novembris | C5: Decembris | D5: Janvāris | E5: Februāris | F5: Marts | G5: Aprīlis | H5: Maijs | I5: Jūnijs | J5: Jūlijs | K5: Augusts | L5: Septembris | M5: Oktobris | N5: Novembris
B6: (euro,centi) | C6: (euro,centi) | D6: (euro,centi) | E6: (euro,centi) | F6: (euro,centi) | G6: (euro,centi) | H6: (euro,centi) | I6: (euro,centi) | J6: (euro,centi) | K6: (euro,centi) | L6: (euro,centi) | M6: (euro,centi) | N6: (euro,centi)
A7: Rādītāja nosaukums | B7: Plānotie izdevumi 2023/2024. gadam pārskata periodā | C7: Faktiskie izdevumi pārskata periodā | D7: Faktiskie izdevumi pārskata periodā | E7: Faktiskie izdevumi pārskata periodā | F7: Faktiskie izdevumi pārskata periodā | G7: Faktiskie izdevumi pārskata periodā | H7: Faktiskie izdevumi pārskata periodā | I7: Plānotie izdevumi pārskata periodā | J7: Plānotie izdevumi pārskata periodā | K7: Plānotie izdevumi pārskata periodā | L7: Plānotie izdevumi pārskata periodā | M7: Plānotie izdevumi pārskata periodā | N7: Plānotie izdevumi pārskata periodā
A8: 1 | B8: 2 | C8: 3 | D8: 4 | E8: 5 | F8: 6 | G8: 7 | H8: 8 | I8: 9 | J8: 10 | K8: 11 | L8: 12 | M8: 13 | N8: 14 | O8: 15
A9: Izmitināšana | B9: =SUM(C9:N9) -> 3409584 | C9: 320661.24 | D9: 298449.19 | E9: 253712.37 | F9: 284146.61 | G9: 281831.15 | H9: 297022.39 | I9: 248761 | J9: 285000 | K9: 285000 | L9: 285000 | M9: 285000 | N9: 285000 | O9: Indikatīvais izdevumu aprēķins primāri sniedzamā atbalsta nodrošināšanai 2024.gada otram pusgadam tika veikts, ekstrapolējot līdz šim vērojamās izmitināšanas un ēdināšanas pakalpojumiem pašvaldību pieprasīto izdevumu kompensācijas tendences pa mēnešiem, sākot no 2024. gada sākuma.
A10: Ēdināšana | B10: =SUM(C10:N10) -> 360966.42 | C10: 28593.9 | D10: 23813.11 | E10: 13283.9 | F10: 35331.25 | G10: 41959.14 | H10: 42209.12 | I10: 15776 | J10: 32000 | K10: 32000 | L10: 32000 | M10: 32000 | N10: 32000
A11: KOPĀ: | B11: =SUM(C11:N11) -> 3770550.4 | C11: =SUM(C9,C10) -> 349255.14 | D11: =SUM(D9,D10) -> 322262.3 | E11: =SUM(E9,E10) -> 266996.27 | F11: =SUM(F9,F10) -> 319477.86 | G11: =SUM(G9,G10) -> 323790.29 | H11: =SUM(H9,H10) -> 339231.51 | I11: =SUM(I9,I10) -> 264537 | J11: =SUM(J9,J10) -> 317000 | ... N11: =SUM(N9,N10) -> 317000

Sheet 2.pielikums_LM_prognoze
A1: 2. pielikums
A2: Indikatīvais izdevumu ietekmes aprēķins Labklājības ministrijas atbildības sociālā atbalsta nodrošināšanas jomai*
A3: Gads | B3: 2023 | D3: 2024 | F3: 2024 | H3: 2024 | J3: 2024 | L3: 2024 | N3: 2023/2024 | P3: 2024 | R3: 2024 | T3: 2024 | V3: 2024 | X3: 2024 | Z3: 2024 | AB3: 2024 | AD3: 2024 | AF3: 2023/2024 | AG3: 2023 | AH3: komentāri
A4: Pārskata periods | B4: Decembris | D4: Janvāris | F4: Februāris | H4: Marts | J4: Aprīlis | L4: Maijs | N4: 2023.g. decembris - 2024.g. maijs | P4: Jūnijs/ plāns | R4: Jūnijs | T4: 2023.g. decembris - 2024.g. jūnijs (naudas plūsma 2024) | V4: Jūlijs | X4: Augusts | Z4: Septembris | AB4: Oktobris | AD4: Novembris | AF4: jūlijs - novembris | AG4: 2023.g. decembris- 2024.g. novembris
C5: (euro, centi) | E5: (euro, centi) | G5: (euro, centi) | I5: (euro, centi) | K5: (euro, centi) | M5: (euro, centi) | Q5: (euro, centi) | S5: (euro, centi) | U5: =S5 -> (euro, centi) | W5: (euro, centi) | Y5: (euro, centi) | AA5: (euro, centi) | AC5: (euro, centi) | AE5: (euro, centi) | AF5: (euro, centi) | AG5: (euro, centi)
A6: Rādītāja nosaukums | B6: Saņēmēju skaits | C6: Faktiskie izdevumi pārskata periodā | D6: Saņēmēju skaits | E6: Faktiskie izdevumi pārskata periodā | F6: Saņēmēju skaits | G6: Faktiskie izdevumi pārskata periodā | H6: Saņēmēju skaits | I6: Faktiskie izdevumi pārskata periodā | J6: Saņēmēju skaits | K6: Faktiskie izdevumi pārskata periodā | L6: Saņēmēju skaits | M6: Faktiskie izdevumi pārskata periodā | N6: Saņēmēju skaits | O6: Faktiskie izdevumi pārskata periodā | P6: Plānotais saņēmēju skaits | Q6: Plānotie izdevumi pārskata periodā | R6: Saņēmēju skaits | S6: Faktiskie izdevumi pārskata periodā | T6: Saņēmēju skaits | U6: Faktiskie izdevumi pārskata periodā | V6: Plānotais saņēmēju skaits | W6: Plānotie izdevumi pārskata periodā | X6: Plānotais saņēmēju skaits | Y6: Plānotie izdevumi pārskata periodā | Z6: Plānotais saņēmēju skaits | AA6: Plānotie izdevumi pārskata periodā | AB6: Plānotais saņēmēju skaits | AC6: Plānotie izdevumi pārskata periodā | AD6: Plānotais saņēmēju skaits | AE6: Plānotie izdevumi pārskata periodā | AF6: Plānotie izdevumi pārskata periodā (naudas plūsma 2024) | AG6: Plānotie izdevumi pārskata periodā (naudas plūsma 2024)
A7: 1 | B7: 2 | C7: 3 | D7: 4 | E7: 5 | F7: 6 | G7: 7 | H7: 8 | I7: 9 | J7: 10 | K7: 11 | L7: 12 | M7: 13 | N7: x | R7: 14 | S7: 15 | T7: 16 | U7: 17 | V7: 18 | W7: 19 | X7: 20 | Y7: 21 | Z7: 22 | AA7: 23 | AB7: 24 | AC7: 25 | AD7: 26 | AE7: 27 | AF7: 28 | AG7: 29 | AH7: 30
A8: Atlīdzība par ārkārtas aizbildņa pienākumu pildīšanu (UCAL 19.panta pirmā un otrā daļa) | B8: 247 | C8: 35856.32 | D8: 233 | E8: 34415.67 | F8: 223 | G8: 32403.82 | H8: 222 | I8: 33761.77 | J8: 219 | K8: 33654.2 | L8: 217 | M8: 32304.71 | N8: =B8+D8+F8+H8+J8+L8 -> 1361 | O8: =C8+E8+G8+I8+K8+M8 -> 202396.49 | P8: 326 | Q8: 45542.2 | R8: 216 | S8: 31682.26 | T8: =N8+R8 -> 1577 | U8: =O8+S8 -> 234078.75 | V8: =T8/7 -> 225.28571 | W8: =U8/7 -> 33439.821 | X8: =V8 -> 225.28571 | Y8: =W8 -> 33439.821 | Z8: =X8 -> 225.28571 | AA8: =Y8 -> 33439.821 | AB8: =Z8 -> 225.28571 | AC8: =AA8 -> 33439.821 | AD8: =AB8 -> 225.28571 | AE8: =AC8 -> 33439.821 | AF8: =W8+Y8+AA8+AC8+AE8 -> 167199.11 | AG8: =U8+AF8 -> 401277.86 | AH8: Atbilstoši Iekšlietu ministrijas sniegtajai informācijai (30.05.2024. vēstule Nr.1-23/1416), no jauna ieceļojošo Ukrainas civiliedzīvotāju plūsma 2024. gadā saglabājas mērena un stabila, ar nedaudz sarūkošu tendenci, kā arī pēdējos sešos mēnešos (2023. gada novembris- 2024. gada aprīlis) FPRIS no jauna reģistrēto personu skaits ir nostabilizējies vidēji no 450 – 500 jaunām reģistrācijām mēnesī, 2024. gada aprīlī no jauna reģistrējās 566 personas. Pamatojoties uz IeM sniegto informāciju, prognozēts, ka periodā 2024. gada jūlijs – decembris, saņēmēju skaits un izdevumi saglabāsies stabili (atbilst faktiskajai izpildei vidēji mēnesī periodā 2023. gada decembris – 2024. gada jūnijs).
A9: Pabalsts nepavadīta bērna uzturam (UCAL 19.panta pirmā, trešā un septītā daļa) | B9: 307 | C9: 85869.63 | D9: 323 | E9: 83621.02 | F9: 307 | G9: 77891.32 | H9: 300 | I9: 78309.8 | J9: 302 | K9: 77888.23 | L9: 292 | M9: 74523.53 | N9: =B9+D9+F9+H9+J9+L9 -> 1831 | O9: =C9+E9+G9+I9+K9+M9 -> 478103.53 | P9: 455 | Q9: 115847.55 | R9: 287 | S9: 72379.56 | T9: =N9+R9 -> 2118 | U9: =O9+S9 -> 550483.09 | V9: =T9/7 -> 302.57143 | W9: =U9/7 -> 78640.441 | X9: =V9 -> 302.57143 | Y9: =W9 -> 78640.441 | Z9: =X9 -> 302.57143 | AA9: =Y9 -> 78640.441 | AB9: =Z9 -> 302.57143 | AC9: =AA9 -> 78640.441 | AD9: =AB9 -> 302.57143 | AE9: =AC9 -> 78640.441 | AF9: =W9+Y9+AA9+AC9+AE9 -> 393202.21 | AG9: =U9+AF9 -> 943685.3
A10: Pabalsts apģērba un mīkstā inventāra iegādei (UCAL 19.panta pirmā un piektā daļa) | B10: 59 | C10: 4642.78 | D10: 66 | E10: 6625.46 | F10: 63 | G10: 5808.69 | H10: 66 | I10: 8000.19 | J10: 63 | K10: 5411.5 | L10: 61 | M10: 6248 | N10: =B10+D10+F10+H10+J10+L10 -> 378 | O10: =C10+E10+G10+I10+K10+M10 -> 36736.62 | P10: 102 | Q10: 9544.14 | R10: 62 | S10: 6110.09 | T10: =N10+R10 -> 440 | U10: =O10+S10 -> 42846.71 | V10: =T10/7 -> 62.857143 | W10: =U10/7 -> 6120.9586 | X10: =V10 -> 62.857143 | Y10: =W10 -> 6120.9586 | Z10: =X10 -> 62.857143 | AA10: =Y10 -> 6120.9586 | AB10: =Z10 -> 62.857143 | AC10: =AA10 -> 6120.9586 | AD10: =AB10 -> 62.857143 | AE10: =AC10 -> 6120.9586 | AF10: =W10+Y10+AA10+AC10+AE10 -> 30604.793 | AG10: =U10+AF10 -> 73451.503
A11: Garantētā minimālā ienākuma (GMI) pabalsts (UCAL 7.panta trešā daļa) | B11: 3304 | C11: 299124.71 | D11: 3069 | E11: 297618.7 | F11: 3068 | G11: 295542.73 | H11: 2934 | I11: 286007.16 | J11: 2923 | K11: 292258.63 | L11: 2752 | M11: 273032.44 | N11: =B11+D11+F11+H11+J11+L11 -> 18050 | O11: =C11+E11+G11+I11+K11+M11 -> 1743584.4 | P11: 3761.1 | Q11: 386860.73 | R11: 2673 | S11: 266285.77 | T11: =N11+R11 -> 20723 | U11: =O11+S11 -> 2009870.1 | V11: =T11/7 -> 2960.4286 | W11: =U11/7 -> 287124.31 | X11: =V11 -> 2960.4286 | Y11: =W11 -> 287124.31 | Z11: =X11 -> 2960.4286 | AA11: =Y11 -> 287124.31 | AB11: =Z11 -> 2960.4286 | AC11: =AA11 -> 287124.31 | AD11: =AB11 -> 2960.4286 | AE11: =AC11 -> 287124.31 | AF11: =W11+Y11+AA11+AC11+AE11 -> 1435621.5 | AG11: =U11+AF11 -> 3445491.7
A12: Pabalsts krīzes situācijā (UCAL 7.panta trešā daļa un 3 prim daļa) | B12: 230 | C12: 71322 | D12: 275 | E12: 89682 | F12: 304 | G12: 95257 | H12: 264 | I12: 84546 | J12: 300 | K12: 96443 | L12: 292 | M12: 93493 | N12: =B12+D12+F12+H12+J12+L12 -> 1665 | O12: =C12+E12+G12+I12+K12+M12 -> 530743 | P12: 434.7 | Q12: 120070.08 | R12: 392 | S12: 121786 | T12: =N12+R12 -> 2057 | U12: =O12+S12 -> 652529 | V12: =T12/7 -> 293.85714 | W12: =U12/7 -> 93218.429 | X12: =V12 -> 293.85714 | Y12: =W12 -> 93218.429 | Z12: =X12 -> 293.85714 | AA12: =Y12 -> 93218.429 | AB12: =Z12 -> 293.85714 | AC12: =AA12 -> 93218.429 | AD12: =AB12 -> 293.85714 | AE12: =AC12 -> 93218.429 | AF12: =W12+Y12+AA12+AC12+AE12 -> 466092.14 | AG12: =U12+AF12 -> 1118621.1
A13: Mājokļa pabalsts mājsaimniecībai no Ukrainas ar īres līgumu (UCAL 7.panta trešā daļa) | B13: 1897 | C13: 191504.66 | D13: 3680 | E13: 737564.42 | F13: 3223 | G13: 518453.71 | H13: 3133 | I13: 480997.29 | J13: 2751 | K13: 472693.66 | L13: 2787 | M13: 384476.84 | N13: =B13+D13+F13+H13+J13+L13 -> 17471 | O13: =C13+E13+G13+I13+K13+M13 -> 2785690.6 | P13: 3285.45 | Q13: 438890.42 | R13: 2487 | S13: 324834.56 | T13: =N13+R13 -> 19958 | U13: =O13+S13 -> 3110525.1 | V13: =T13/7 -> 2851.1429 | W13: =U13/7 -> 444360.73 | X13: =V13 -> 2851.1429 | Y13: =W13 -> 444360.73 | Z13: =X13 -> 2851.1429 | AA13: =Y13 -> 444360.73 | AB13: =Z13 -> 2851.1429 | AC13: =AA13 -> 444360.73 | AD13: =AB13 -> 2851.1429 | AE13: =AC13 -> 444360.73 | AF13: =W13+Y13+AA13+AC13+AE13 -> 2221803.7 | AG13: =U13+AF13 -> 5332328.8
A14: Pabalsts atsevišķu izdevumu apmaksai (UCAL 7.panta trešā daļa) | B14: 499 | C14: 78327.81 | D14: 565 | E14: 84945.87 | F14: 604 | G14: 92412.31 | H14: 590 | I14: 84963.78 | J14: 573 | K14: 94109.68 | L14: 525 | M14: 91374.96 | N14: =B14+D14+F14+H14+J14+L14 -> 3356 | O14: =C14+E14+G14+I14+K14+M14 -> 526134.41 | P14: 529 | Q14: 35321.33 | R14: 526 | S14: 93652.26 | T14: =N14+R14 -> 3882 | U14: =O14+S14 -> 619786.67 | V14: =T14/7 -> 554.57143 | W14: =U14/7 -> 88540.953 | X14: =V14 -> 554.57143 | Y14: =W14 -> 88540.953 | Z14: =X14 -> 554.57143 | AA14: =Y14 -> 88540.953 | AB14: =Z14 -> 554.57143 | AC14: =AA14 -> 88540.953 | AD14: =AB14 -> 554.57143 | AE14: =AC14 -> 88540.953 | AF14: =W14+Y14+AA14+AC14+AE14 -> 442704.76 | AG14: =U14+AF14 -> 1062491.4
A15: Asistenta pakalpojumi (UCAL 13. panta pirmās daļas 1.punkts) | D15: 17 | E15: 5049.37 | F15: 23 | G15: 10555.79 | H15: 30 | I15: 11129.65 | J15: 33 | K15: 9820.43 | L15: 30 | M15: 10795.1 | N15: =B15+D15+F15+H15+J15+L15 -> 133 | O15: =C15+E15+G15+I15+K15+M15 -> 47350.34 | R15: 32 | S15: 10609.74 | T15: =N15+R15 -> 165 | U15: =O15+S15 -> 57960.08 | V15: =T15/7 -> 23.571429 | W15: =U15/7 -> 8280.0114 | X15: =V15 -> 23.571429 | Y15: =W15 -> 8280.0114 | Z15: =X15 -> 23.571429 | AA15: =Y15 -> 8280.0114 | AB15: =Z15 -> 23.571429 | AC15: =AA15 -> 8280.0114 | AD15: =AB15 -> 23.571429 | AE15: =AC15 -> 8280.0114 | AF15: =W15+Y15+AA15+AC15+AE15 -> 41400.057 | AG15: =U15+AF15 -> 99360.137
A16: Pakalpojums pārvietošanās atbalstam (UCAL 13.panta pirmās daļas 1.punkts) | B16: 8 | C16: 2325.97 | F16: 1 | G16: 325.2 | H16: 1 | I16: 314.36 | N16: =B16+D16+F16+H16+J16+L16 -> 10 | O16: =C16+E16+G16+I16+K16+M16 -> 2965.53 | P16: 86 | Q16: 5578.82 | T16: =N16+R16 -> 10 | U16: =O16+S16 -> 2965.53 | V16: =T16/7 -> 1.4285714 | W16: =U16/7 -> 423.64714 | X16: =V16 -> 1.4285714 | Y16: =W16 -> 423.64714 | Z16: =X16 -> 1.4285714 | AA16: =Y16 -> 423.64714 | AB16: =Z16 -> 1.4285714 | AC16: =AA16 -> 423.64714 | AD16: =AB16 -> 1.4285714 | AE16: =AC16 -> 423.64714 | AF16: =W16+Y16+AA16+AC16+AE16 -> 2118.2357 | AG16: =U16+AF16 -> 5083.7657
A17: Sociālās rehabilitācijas pakalpojums vardarbībā cietušiem bērniem (UCAL 7.panta pirmā prim un trešā daļa) | B17: 1 | C17: 200 | D17: 1 | E17: 108 | F17: 1 | G17: 108 | H17: 1 | I17: 54 | N17: =B17+D17+F17+H17+J17+L17 -> 4 | O17: =C17+E17+G17+I17+K17+M17 -> 470 | P17: 2 | Q17: 150 | T17: =N17+R17 -> 4 | U17: =O17+S17 -> 470 | V17: =T17/7 -> 0.57142857 | W17: =U17/7 -> 67.142857 | X17: =V17 -> 0.57142857 | Y17: =W17 -> 67.142857 | Z17: =X17 -> 0.57142857 | AA17: =Y17 -> 67.142857 | AB17: =Z17 -> 0.57142857 | AC17: =AA17 -> 67.142857 | AD17: =AB17 -> 0.57142857 | AE17: =AC17 -> 67.142857 | AF17: =W17+Y17+AA17+AC17+AE17 -> 335.71429 | AG17: =U17+AF17 -> 805.71429
A18: Sociālās rehabilitācijas pakalpojums vardarbībā cietušām pilngadīgām personām (UCAL 7.panta pirmā prim un trešā daļa) | B18: 1 | C18: 447.48 | D18: 2 | E18: 745.8 | F18: 2 | G18: 894.96 | H18: 2 | I18: 969.54 | J18: 1 | K18: 372.9 | L18: 3 | M18: 1641 | N18: =B18+D18+F18+H18+J18+L18 -> 11 | O18: =C18+E18+G18+I18+K18+M18 -> 5071.68 | P18: 3 | Q18: 967.08 | R18: 4 | S18: 324 | T18: =N18+R18 -> 15 | U18: =O18+S18 -> 5395.68 | V18: =T18/7 -> 2.1428571 | W18: =U18/7 -> 770.81143 | X18: =V18 -> 2.1428571 | Y18: =W18 -> 770.81143 | Z18: =X18 -> 2.1428571 | AA18: =Y18 -> 770.81143 | AB18: =Z18 -> 2.1428571 | AC18: =AA18 -> 770.81143 | AD18: =AB18 -> 2.1428571 | AE18: =AC18 -> 770.81143 | AF18: =W18+Y18+AA18+AC18+AE18 -> 3854.0571 | AG18: =U18+AF18 -> 9249.7371
A19: Ilgstošas sociālās aprūpes un sociālās rehabilitācijas pakalpojumi bērniem (UCAL 7.panta pirmā prim un trešā daļa un 18.panta deviņpadsmitā daļa) | D19: 1 | E19: 1506.37 | F19: 1 | G19: 1506.37 | H19: 1 | I19: 1392.13 | J19: 1 | K19: -4404.87 | N19: 0 | O19: =C19+E19+G19+I19+K19+M19 -> 0 | P19: 1 | Q19: 750.4 | T19: =N19+R19 -> 0 | U19: =O19+S19 -> 0 | V19: =T19/7 -> 0 | W19: =U19/7 -> 0 | X19: =V19 -> 0 | Y19: =W19 -> 0 | Z19: =X19 -> 0 | AA19: =Y19 -> 0 | AB19: =Z19 -> 0 | AC19: =AA19 -> 0 | AD19: =AB19 -> 0 | AE19: =AC19 -> 0 | AF19: =W19+Y19+AA19+AC19+AE19 -> 0 | AG19: =U19+AF19 -> 0
A20: Ilgstošas sociālās aprūpes un sociālās rehabilitācijas pakalpojumi pilngadīgām personām (UCAL 7.panta pirmā prim un trešā daļa) | B20: 23 | C20: 29775.09 | D20: 23 | E20: 30821.35 | F20: 27 | G20: 40573.56 | H20: 33 | I20: 33715.49 | J20: 21 | K20: 40569.1 | L20: 22 | M20: 33875.13 | N20: =B20+D20+F20+H20+J20+L20 -> 149 | O20: =C20+E20+G20+I20+K20+M20 -> 209329.72 | P20: 18 | Q20: 21823.92 | R20: 21 | S20: 33583.73 | T20: =N20+R20 -> 170 | U20: =O20+S20 -> 242913.45 | V20: =T20/7 -> 24.285714 | W20: =U20/7 -> 34701.921 | X20: =V20 -> 24.285714 | Y20: =W20 -> 34701.921 | Z20: =X20 -> 24.285714 | AA20: =Y20 -> 34701.921 | AB20: =Z20 -> 24.285714 | AC20: =AA20 -> 34701.921 | AD20: =AB20 -> 24.285714 | AE20: =AC20 -> 34701.921 | AF20: =W20+Y20+AA20+AC20+AE20 -> 173509.61 | AG20: =U20+AF20 -> 416423.06
A21: Piemaksa pie mēnešalgas un virsstundu darbs bāriņtiesu darbiniekiem, kuri iesaistīti atbalsta sniegšanā Ukrainas civiliedzīvotājiem (UCAL 13.panta pirmā prim daļa un pirmā divi prim daļa.) | B21: =B22+B23 -> 64 | C21: =C22+C23 -> 19176.27 | D21: =D22+D23 -> 81 | E21: =E22+E23 -> 21157.61 | F21: =F22+F23 -> 77 | G21: =G22+G23 -> 15275.09 | H21: =H22+H23 -> 101 | I21: =I22+I23 -> 28650.74 | ... M21: =M22+M23 -> -11331.04 | N21: =B21+D21+F21+H21+J21+L21 -> 368 | O21: =C21+E21+G21+I21+K21+M21 -> 97202.62 | P21: 81 | Q21: 23176.49 | R21: 43 | S21: 11240.25 | T21: =N21+R21 -> 411 | U21: =O21+S21 -> 108442.87 | V21: =T21/7 -> 58.714286 | W21: =U21/7 -> 15491.839 | X21: =V21 -> 58.714286 | Y21: =W21 -> 15491.839 | Z21: =X21 -> 58.714286 | AA21: =Y21 -> 15491.839 | AB21: =Z21 -> 58.714286 | AC21: =AA21 -> 15491.839 | AD21: =AB21 -> 58.714286 | AE21: =AC21 -> 15491.839 | AF21: =W21+Y21+AA21+AC21+AE21 -> 77459.193 | AG21: =U21+AF21 -> 185902.06
A22: Piemaksa pie mēnešalgas | B22: 64 | C22: 19176.27 | D22: 77 | E22: 19635.08 | F22: 77 | G22: 15275.09 | H22: 97 | I22: 26912.21 | J22: 94 | K22: 22164.08 | L22: =66-123 -> -57 | M22: -13496.07 | N22: =B22+D22+F22+H22+J22+L22 -> 352 | O22: =C22+E22+G22+I22+K22+M22 -> 89666.66 | R22: 40 | S22: 9033.56 | T22: =N22+R22 -> 392 | U22: =O22+S22 -> 98700.22 | V22: =T22/7 -> 56 | W22: =U22/7 -> 14100.031 | X22: =V22 -> 56 | Y22: =W22 -> 14100.031 | Z22: =X22 -> 56 | AA22: =Y22 -> 14100.031 | AB22: =Z22 -> 56 | AC22: =AA22 -> 14100.031 | AD22: =AB22 -> 56 | AE22: =AC22 -> 14100.031 | AF22: =W22+Y22+AA22+AC22+AE22 -> 70500.157 | AG22: =U22+AF22 -> 169200.38
A23: Virsstundu darbs | D23: 4 | E23: 1522.53 | H23: 4 | I23: 1738.53 | J23: 4 | K23: 2109.87 | L23: 4 | M23: 2165.03 | N23: =B23+D23+F23+H23+J23+L23 -> 16 | O23: =C23+E23+G23+I23+K23+M23 -> 7535.96 | R23: 3 | S23: 2206.69 | T23: =N23+R23 -> 19 | U23: =O23+S23 -> 9742.65 | V23: =T23/7 -> 2.7142857 | W23: =U23/7 -> 1391.8071 | X23: =V23 -> 2.7142857 | Y23: =W23 -> 1391.8071 | Z23: =X23 -> 2.7142857 | AA23: =Y23 -> 1391.8071 | AB23: =Z23 -> 2.7142857 | AC23: =AA23 -> 1391.8071 | AD23: =AB23 -> 2.7142857 | AE23: =AC23 -> 1391.8071 | AF23: =W23+Y23+AA23+AC23+AE23 -> 6959.0357 | AG23: =U23+AF23 -> 16701.686
A24: Piemaksa pie mēnešalgas un virsstundu darbs pašvaldības sociālo dienestu darbiniekiem, kuri iesaistīti atbalsta sniegšanā Ukrainas civiliedzīvotājiem (UCAL 13.panta pirmā prim daļa un pirmā divi prim daļa.) | B24: =B25+B26 -> 401 | C24: =C25+C26 -> 151596.89 | D24: =D25+D26 -> 195 | E24: =E25+E26 -> 74027.4 | F24: =F25+F26 -> 239 | G24: =G25+G26 -> 86716.36 | H24: =H25+H26 -> 230 | I24: =I25+I26 -> 89614.02 | ... M24: =M25+M26 -> 112221.94 | N24: =B24+D24+F24+H24+J24+L24 -> 1635 | O24: =C24+E24+G24+I24+K24+M24 -> 590514.07 | P24: 358 | Q24: 138727.43 | R24: 248 | S24: 73999.72 | T24: =N24+R24 -> 1883 | U24: =O24+S24 -> 664513.79 | V24: =T24/7 -> 269 | W24: =U24/7 -> 94930.541 | X24: =V24 -> 269 | Y24: =W24 -> 94930.541 | Z24: =X24 -> 269 | AA24: =Y24 -> 94930.541 | AB24: =Z24 -> 269 | AC24: =AA24 -> 94930.541 | AD24: =AB24 -> 269 | AE24: =AC24 -> 94930.541 | AF24: =W24+Y24+AA24+AC24+AE24 -> 474652.71 | AG24: =U24+AF24 -> 1139166.5
A25: Piemaksa pie mēnešalgas | B25: 397 | C25: 149958.78 | D25: 195 | E25: 74027.4 | F25: 235 | G25: 84657.28 | H25: 230 | I25: 89614.02 | J25: 202 | K25: 76337.46 | L25: =245+123 -> 368 | M25: 112221.94 | N25: =B25+D25+F25+H25+J25+L25 -> 1627 | O25: =C25+E25+G25+I25+K25+M25 -> 586816.88 | R25: 248 | S25: 73999.72 | T25: =N25+R25 -> 1875 | U25: =O25+S25 -> 660816.6 | V25: =T25/7 -> 267.85714 | W25: =U25/7 -> 94402.371 | X25: =V25 -> 267.85714 | Y25: =W25 -> 94402.371 | Z25: =X25 -> 267.85714 | AA25: =Y25 -> 94402.371 | AB25: =Z25 -> 267.85714 | AC25: =AA25 -> 94402.371 | AD25: =AB25 -> 267.85714 | AE25: =AC25 -> 94402.371 | AF25: =W25+Y25+AA25+AC25+AE25 -> 472011.86 | AG25: =U25+AF25 -> 1132828.5
A26: Virsstundu darbs | B26: 4 | C26: 1638.11 | F26: 4 | G26: 2059.08 | N26: =B26+D26+F26+H26+J26+L26 -> 8 | O26: =C26+E26+G26+I26+K26+M26 -> 3697.19 | T26: =N26+R26 -> 8 | U26: =O26+S26 -> 3697.19 | V26: =T26/7 -> 1.1428571 | W26: =U26/7 -> 528.17 | X26: =V26 -> 1.1428571 | Y26: =W26 -> 528.17 | Z26: =X26 -> 1.1428571 | AA26: =Y26 -> 528.17 | AB26: =Z26 -> 1.1428571 | AC26: =AA26 -> 528.17 | AD26: =AB26 -> 1.1428571 | AE26: =AC26 -> 528.17 | AF26: =W26+Y26+AA26+AC26+AE26 -> 2640.85 | AG26: =U26+AF26 -> 6338.04
A27: Citi pašvaldības piešķirtie sociālā atbalsta pasākumi (UCAL 7.panta trešā daļa, un pirmā prim daļa un 19.panta sestā daļa): | B27: 1182 | C27: 107856.85 | D27: 1063 | E27: 98249.6 | F27: 1006 | G27: 108653.55 | H27: 986 | I27: 108741.15 | J27: 849 | K27: 92911.14 | L27: 1147 | M27: 124792.92 | N27: 5868 | O27: 641205.21 | P27: 1546 | Q27: 141020.18 | R27: 976 | S27: 118758.91 | T27: =N27+R27 -> 6844 | U27: =O27+S27 -> 759964.12 | V27: =T27/7 -> 977.71429 | W27: =U27/7 -> 108566.3 | X27: =V27 -> 977.71429 | Y27: =W27 -> 108566.3 | Z27: =X27 -> 977.71429 | AA27: =Y27 -> 108566.3 | AB27: =Z27 -> 977.71429 | AC27: =AA27 -> 108566.3 | AD27: =AB27 -> 977.71429 | AE27: =AC27 -> 108566.3 | AF27: =W27+Y27+AA27+AC27+AE27 -> 542831.51 | AG27: =U27+AF27 -> 1302795.6
A28: KOPĀ | B28: x | C28: =C27+C24+C21+C20+C19+C18+C17+C16+C14+C13+C12+C11+C10+C9+C8 -> 1078026.5 | D28: x | E28: =E27+E24+E21+E20+E19+E18+E17+E16+E14+E15+E13+E12+E11+E10+E9+E8 -> 1566138.6 | F28: x | G28: =G27+G24+G21+G20+G19+G18+G17+G16+G15+G14+G13+G12+G11+G10+G9+G8 -> 1382378.5 | H28: x | I28: =I27+I24+I21+I20+I19+I18+I17+I16+I15+I14+I13+I12+I11+I10+I9+I8 -> 1331167.1 | J28: x | K28: =K27+K24+K21+K20+K19+K18+K17+K16+K15+K14+K13+K12+K11+K10+K9+K8 -> 1312339 | L28: x | M28: =M27+M24+M21+M20+M19+M18+M17+M16+M15+M14+M13+M12+M11+M10+M9+M8 -> 1227448.5 | N28: x | O28: =O27+O24+O21+O20+O19+O18+O17+O16+O15+O14+O13+O12+O11+O10+O9+O8 -> 7897498.2 | P28: x | Q28: =Q27+Q24+Q21+Q20+Q19+Q18+Q17+Q16+Q15+Q14+Q13+Q12+Q11+Q10+Q9+Q8 -> 1484270.8 | R28: x | S28: =S27+S24+S21+S20+S19+S18+S17+S16+S15+S14+S13+S12+S11+S10+S9+S8 -> 1165246.9 | T28: x | U28: =ROUND(U27+U24+U21+U20+U19+U18+U17+U16+U15+U14+U13+U12+U11+U10+U9+U8,0) -> 9062745 | V28: x | W28: =ROUND(W27+W24+W21+W20+W19+W18+W17+W16+W14+W13+W12+W11+W10+W9+W8+W15,0) -> 1294678 | X28: x | Y28: =ROUND(Y27+Y24+Y21+Y20+Y19+Y18+Y17+Y16+Y14+Y13+Y12+Y11+Y10+Y9+Y8+Y15,0) -> 1294678 | Z28: x | AA28: =ROUND(AA27+AA24+AA21+AA20+AA19+AA18+AA17+AA16+AA14+AA13+AA12+AA11+AA10+AA9+AA8+AA15,0) -> 1294678 | AB28: x | AC28: =ROUND(AC27+AC24+AC21+AC20+AC19+AC18+AC17+AC16+AC14+AC13+AC12+AC11+AC10+AC9+AC8+AC15,0) -> 1294678 | AD28: x | AE28: =ROUND(AE27+AE24+AE21+AE20+AE19+AE18+AE17+AE16+AE14+AE13+AE12+AE11+AE10+AE9+AE8+AE15,0) -> 1294678 | AF28: =W28+Y28+AA28+AC28+AE28 -> 6473390 | AG28: =U28+W28+Y28+AA28+AC28+AE28 -> 15536135 | AH28: x
A29: *Aprēķini veikti excel vidē, kas, noapaļojot ciparu ar 0 (nulle) zīmēm aiz komata var veidot 1 euro nobīdi aprēķina rezultātā.
C32: =C28+E28+G28+I28+K28+M28 -> 7897498.2

Sheet 3.pielikums_IzM_prognoze
A1: 3. pielikums
A2: Indikatīvais izdevumu ietekmes aprēķins Izglītības un zinātnes ministrijas atbildības jomā plānotajiem atbalsta pasākumiem
A4: Gads | B4: 2023/2024 | C4: 2023/2024 | D4: 2023 | F4: 2024 | H4: 2024 | J4: 2024 | L4: 2024 | N4: 2024 | P4: 2024 | R4: 2024 | T4: 2024 | V4: 2024 | X4: 2024 | Z4: 2024 | AB4: komentāri
A5: Pārskata periods | B5: 2023.g.decembris - 2024.g. novembris | C5: 2023.g.decembris - 2024.g. maijs | D5: Decembris | F5: Janvāris | H5: Februāris | J5: Marts | L5: Aprīlis | N5: Maijs | P5: Jūnijs | R5: Jūlijs | T5: Augusts | V5: Septembris* | X5: Oktobris | Z5: Novembris
B6: (euro,centi) | C6: (euro,centi) | E6: (euro,centi) | G6: (euro,centi) | I6: (euro,centi) | K6: (euro,centi) | M6: (euro,centi) | O6: (euro,centi) | Q6: (euro,centi) | S6: (euro,centi) | U6: (euro,centi) | W6: (euro,centi) | Y6: (euro,centi) | AA6: (euro,centi)
A7: Rādītāja nosaukums | B7: Plānotie izdevumi pārskata periodā | C7: Faktiskie izdevumi pārskata periodā | D7: Faktiskais izglītojamo skaits | E7: Faktiskie izdevumi pārskata periodā | F7: Faktiskais izglītojamo skaits | G7: Faktiskie izdevumi pārskata periodā | H7: Faktiskais izglītojamo skaits | I7: Faktiskie izdevumi pārskata periodā | J7: Faktiskais izglītojamo skaits | K7: Faktiskie izdevumi pārskata periodā | L7: Faktiskais izglītojamo skaits | M7: Faktiskie izdevumi pārskata periodā | N7: Faktiskais izglītojamo skaits | O7: Faktiskie izdevumi pārskata periodā | P7: Plānotais izglītojamo skaits | Q7: Plānotie izdevumi pārskata periodā | R7: Plānotais izglītojamo skaits | S7: Plānotie izdevumi pārskata periodā | T7: Plānotais izglītojamo skaits | U7: Plānotie izdevumi pārskata periodā | V7: Plānotais izglītojamo skaits | W7: Plānotie izdevumi pārskata periodā | X7: Plānotais izglītojamo skaits | Y7: Plānotie izdevumi pārskata periodā | Z7: Plānotais izglītojamo skaits | AA7: Plānotie izdevumi pārskata periodā
A8: 1 | B8: 2 | C8: 3 | D8: 5 | E8: 6 | F8: 7 | G8: 8 | H8: 9 | I8: 10 | J8: 11 | K8: 12 | L8: 13 | M8: 14 | N8: 15 | O8: 16 | P8: 17 | Q8: 18 | R8: 7 | S8: 8 | T8: 9 | U8: 10 | V8: 11 | W8: 12 | X8: 13 | Y8: 14 | Z8: 15 | AA8: 16 | AB8: 20
A9: Pedagogu darba samaksa izglītības ieguves nodrošināšanai (UCAL 131.pants) | B9: =C9+Q9+S9+U9+W9+Y9+AA9 -> 3203338.9 | C9: =SUM(E9+G9+I9+K9+M9+O9) -> 1117526.9 | D9: =669+299+105+43+4+1 -> 1121 | E9: =89922.71+69439.5+12756.3+9901.25+369.53+257 -> 182646.29 | F9: =274+264+125+46+2+1 -> 712 | G9: =67699.06+62731.3+14021.96+9894.49+221.95+257 -> 154825.76 | H9: =636+292+149+52+7+2 -> 1138 | I9: =95471.59+71069.75+17197.32+12329.76+575.19+514 -> 197157.61 | J9: =624+287+163+58+7+2 -> 1141 | K9: =86265.19+64423.54+21955.26+13556.75+651.47+514 -> 187366.21 | L9: =611+283+176+72+7+2 -> 1151 | M9: =87115.53+66250.98+25872.43+16371.54+1151.08+514 -> 197275.56 | N9: =597+286+173+78+7+2 -> 1143 | O9: =84183.8+64898.61+29476+18662.94+520.13+514 -> 198255.48 | P9: 1143 | Q9: 249547 | R9: 830 | S9: =690*257+140*257*0.5 -> 195320 | T9: 845 | U9: =705*257+140*257*0.5 -> 199175 | V9: =1200+1842 -> 3042 | W9: =532*257*0.5+668*257+1842*257*0.5 -> 476735 | X9: =1215+1842 -> 3057 | Y9: =532*257*0.5+683*257+1842*257*0.5 -> 480590 | Z9: =1230+1842 -> 3072 | AA9: =532*257*0.5+698*257+1842*257*0.5 -> 484445 | AB9: *Saskaņā ar Grozījumu projektu Ukrainas civiliedzīvotāju atbalsta likumā (24-TA-913), Sākot ar 2024. gada 1. septembri, visi obligātās izglītības vecumu sasniegušie civiliedzīvotāji, kuriem piešķirts pagaidu aizsardzības statuss, uzsāks mācības izglītības iestādē klātienē (1842 nepilngadīgo Ukrainas civiliedzīvotāju (kuriem uz 2024.gada aprīli nav reģistrēta piederība Latvijas izglītības iestādē))
A10: Vienreizēja palīdzība mācību līdzekļu nodrošināšanai (UCAL 131.pants) | B10: =C10+Q10+S10+U10+W10+Y10+AA10 -> 99628.49 | C10: =SUM(E10+G10+I10+K10+M10+O10) -> 3028.49 | D10: =22 -> 22 | E10: =648.88 -> 648.88 | F10: =22 -> 22 | G10: =349.62 -> 349.62 | H10: =28 -> 28 | I10: =399.99 -> 399.99 | J10: =21 -> 21 | K10: =550 -> 550 | L10: =25 -> 25 | M10: =680 -> 680 | N10: =15 -> 15 | O10: =400 -> 400 | P10: 15 | Q10: 750 | R10: 15 | S10: =R10*50 -> 750 | T10: 15 | U10: =T10*50 -> 750 | V10: =1842+15 -> 1857 | W10: =V10*50 -> 92850 | X10: 15 | Y10: =X10*50 -> 750 | Z10: 15 | AA10: =Z10*50 -> 750
A11: Papildus izmaksas pašvaldību profesionālajām izglītības iestādēm profesionālās izglītības ieguves nodrošināšanai (stipendija, uzturēšanas izmaksas) (UCAL 131.pants) | B11: =C11+Q11+S11+U11+W11+Y11+AA11 -> 1164 | C11: =SUM(E11+G11+I11+K11+M11+O11) -> 0 | P11: 2 | Q11: =(82+15)*P11 -> 194 | R11: 2 | S11: =(82+15)*R11 -> 194 | T11: 2 | U11: =(82+15)*T11 -> 194 | V11: 2 | W11: =(82+15)*V11 -> 194 | X11: 2 | Y11: =(82+15)*X11 -> 194 | Z11: 2 | AA11: =(82+15)*Z11 -> 194
A12: Nepilngadīgo Ukrainas civiliedzīvotāju, kuri izglītības iestādēs klātienē apgūst pamatizglītības programmas 1., 2., 3. un 4. klasē, ēdināšana. (UCAL 131.pants) | B12: =C12+Q12+S12+U12+W12+Y12+AA12 -> 18227.33 | C12: =SUM(E12+G12+I12+K12+M12+O12) -> 8627.33 | D12: 27 | E12: =973.39 -> 973.39 | F12: 28 | G12: =1192.69 -> 1192.69 | H12: =28 -> 28 | I12: =1465.64 -> 1465.64 | J12: =34 -> 34 | K12: =1378.25 -> 1378.25 | L12: =27+7 -> 34 | M12: =1484.72+363.59 -> 1848.31 | N12: =33 -> 33 | O12: =1769.05 -> 1769.05 | P12: 0 | Q12: =ROUNDUP(64*P12,0) -> 0 | R12: 0 | S12: =ROUNDUP(64*R12,0) -> 0 | T12: 0 | U12: =ROUNDUP(64*T12,0) -> 0 | V12: 50 | W12: =ROUNDUP(64*V12,0) -> 3200 | X12: 50 | Y12: =ROUNDUP(64*X12,0) -> 3200 | Z12: 50 | AA12: =ROUNDUP(64*Z12,0) -> 3200
A13: KOPĀ | B13: =SUM(B9:B12) -> 3322358.7 | C13: =SUM(C9:C12) -> 1129182.7 | D13: x | E13: =SUM(E9:E12) -> 184268.56 | F13: x | G13: =SUM(G9:G12) -> 156368.07 | H13: x | I13: =SUM(I9:I12) -> 199023.24 | J13: x | K13: =SUM(K9:K12) -> 189294.46 | L13: x | M13: =SUM(M9:M12) -> 199803.87 | N13: x | O13: =SUM(O9:O12) -> 200424.53 | P13: x | Q13: =SUM(Q9:Q12) -> 250491 | R13: x | S13: =SUM(S9:S12) -> 196264 | T13: x | U13: =SUM(U9:U12) -> 200119 | V13: x | W13: =SUM(W9:W12) -> 572979 | X13: x | Y13: =SUM(Y9:Y12) -> 484734 | Z13: x | AA13: =SUM(AA9:AA12) -> 488589

Sheet 4.pielikums_VARAM_KAC_prognoze
A1: 4. pielikums
A2: Indikatīvais izdevumu ietekmes aprēķins Vides aizsardzības un reģionālās attīstības ministrijas atbildības valsts pārvaldes pakalpojumu pieteikšanas atbalsta jomai
A3: Gads | B3: Gads | C3: 2023 | E3: 2024 | G3: 2024 | I3: 2024 | K3: 2024 | M3: 2024 | O3: 2024 | Q3: 2024 | S3: 2024 | U3: 2024 | W3: 2024 | Y3: 2024 | AA3: 2023/2024 | AB3: komentāri
A4: Pārskata periods | B4: Pārskata periods | C4: Decembris | E4: Janvāris | G4: Februāris | I4: Marts | K4: Aprīlis | M4: Maijs | O4: Jūnijs | Q4: Jūlijs | S4: Augusts | U4: Septembris | W4: Oktobris | Y4: Novembris | AA4: 2023.g. decembris - 2024. g. novembris
D5: (euro,centi) | F5: (euro,centi) | H5: (euro,centi) | J5: (euro,centi) | L5: (euro,centi) | N5: (euro,centi) | P5: (euro,centi) | R5: (euro,centi) | T5: (euro,centi) | V5: (euro,centi) | X5: (euro,centi) | Z5: (euro,centi) | AA5: (euro,centi)
A6: Rādītāja nosaukums | B6: Rādītāja nosaukums (pēc izmaiņām 2023. maijā) | C6: Faktiskais saņēmēju skaits | D6: Faktiskie izdevumi pārskata periodā | E6: Faktiskais saņēmēju skaits | F6: Faktiskie izdevumi pārskata periodā | G6: Faktiskais saņēmēju skaits | H6: Faktiskie izdevumi pārskata periodā | I6: Faktiskais saņēmēju skaits | J6: Faktiskie izdevumi pārskata periodā | K6: Faktiskais saņēmēju skaits | L6: Faktiskie izdevumi pārskata periodā | M6: Faktiskais saņēmēju skaits | N6: Faktiskie izdevumi pārskata periodā | O6: Faktiskais saņēmēju skaits | P6: Faktiskie izdevumi pārskata periodā | Q6: Plānotais saņēmēju skaits | R6: Plānotie izdevumi pārskata periodā | S6: Plānotais saņēmēju skaits | T6: Plānotie izdevumi pārskata periodā | U6: Plānotais saņēmēju skaits | V6: Plānotie izdevumi pārskata periodā | W6: Plānotais saņēmēju skaits | X6: Plānotie izdevumi pārskata periodā | Y6: Plānotais saņēmēju skaits | Z6: Plānotie izdevumi pārskata periodā | AA6: Plānotie izdevumi pārskata periodā
A7: 1 | B7: 1 | C7: 2 | D7: 3 | E7: 4 | F7: 5 | G7: 6 | H7: 7 | I7: 8 | J7: 9 | K7: 10 | L7: 11 | M7: 12 | N7: 13 | O7: 14 | P7: 15 | Q7: 16 | R7: 17 | S7: 18 | T7: 19 | U7: 20 | V7: 21 | W7: 22 | X7: 23 | Y7: 24 | Z7: 25 | AA7: 26 | AB7: 27
A8: E-paklapojuma “Vīzas pieteikums” aizpildīšana un iesniegšana | B8: E-paklapojuma “Vīzas pieteikums” aizpildīšana un iesniegšana | AA8: =D8+Z8+X8+V8+T8+R8+P8+N8+L8+J8+H8+F8 -> 0 | AB8: Ar 2024.gada 2.pusgadu, netiek sniegts "E-paklapojuma “Vīzas pieteikums” aizpildīšana un iesniegšana". Ņemot verā 2024.gada 1.pusgada rezultātus, atbalsta apjoms tiek koriģēts, samazinot progrnozes.
A9: E-pakalpojuma “Anketas iesniegšanas uzturēšanās atļaujas pieprasīšanai” aizpildīšana un iesniegšana | B9: Uzturēšanās atļaujas pieprasīšana un reģistrācija; Ielūguma vai izsaukuma apstiprināšanas vīzas vai uzturēšanās atļaujas pieprasīšanai Latvijas Republikā | C9: 36 | D9: 72 | E9: 35 | F9: 70 | G9: 40 | H9: 80 | I9: 21 | J9: 42 | K9: 22 | L9: 44 | M9: 71 | N9: 142 | O9: 1000 | P9: =O9*2 -> 2000 | Q9: 100 | R9: =Q9*2 -> 200 | S9: 100 | T9: =S9*2 -> 200 | U9: 100 | V9: =U9*2 -> 200 | W9: 100 | X9: =W9*2 -> 200 | Y9: 100 | Z9: =Y9*2 -> 200 | AA9: =D9+Z9+X9+V9+T9+R9+P9+N9+L9+J9+H9+F9 -> 3450
A10: Fizisko personu reģistrācija Fizisko personu reģistrā | B10: Ziņu iekļaušana un aktualizēšana Fizisko personu reģistrā | C10: 9 | D10: 18 | E10: 18 | F10: 36 | G10: 22 | H10: 44 | I10: 20 | J10: 40 | K10: 19 | L10: 38 | M10: 63 | N10: 126 | O10: 1000 | P10: =O10*2 -> 2000 | Q10: 100 | R10: =Q10*2 -> 200 | S10: 100 | T10: =S10*2 -> 200 | U10: 100 | V10: =U10*2 -> 200 | W10: 100 | X10: =W10*2 -> 200 | Y10: 100 | Z10: =Y10*2 -> 200 | AA10: =D10+Z10+X10+V10+T10+R10+P10+N10+L10+J10+H10+F10 -> 3302
A11: Fizisko personu reģistrācija Ukrainas civiliedzīvotāju atbalsta sniegšanai nepieciešamās informācijas reģistrā (UCANIR) | B11: Ukrainas civiliedzīvotāju reģistrācija UCANIR | C11: 4 | D11: 8 | E11: 17 | F11: 34 | G11: 5 | H11: 10 | I11: 15 | J11: 30 | K11: 24 | L11: 48 | M11: 20 | N11: 40 | O11: 1000 | P11: =O11*2 -> 2000 | Q11: 100 | R11: =Q11*2 -> 200 | S11: 100 | T11: =S11*2 -> 200 | U11: 100 | V11: =U11*2 -> 200 | W11: 100 | X11: =W11*2 -> 200 | Y11: 100 | Z11: =Y11*2 -> 200 | AA11: =Z11+X11+V11+T11+R11+P11+N11+L11+J11+H11+F11 -> 3162
A12: Izdruka no Fizisko personu reģistra | B12: Izziņa no fizisko personu reģistra | I12: 2 | J12: 4 | K12: 1 | L12: 2 | M12: 4 | N12: 8 | O12: 333 | P12: =O12*2 -> 666 | Q12: 10 | R12: =Q12*2 -> 20 | S12: 10 | T12: =S12*2 -> 20 | U12: 10 | V12: =U12*2 -> 20 | W12: 10 | X12: =W12*2 -> 20 | Y12: 10 | Z12: =Y12*2 -> 20 | AA12: =D12+Z12+X12+V12+T12+R12+P12+N12+L12+J12+H12+F12 -> 780
A13: Pakalpojuma "Pabalsts Ukrainas civiliedzīvotājam" aizpildīšana un iesniegšana | B13: Bērna piedzimšanas pabalsts | E13: 2 | F13: 4 | I13: 1 | J13: 2 | K13: 1 | L13: 2 | O13: 333 | P13: =O13*2 -> 666 | Q13: 10 | R13: =Q13*2 -> 20 | S13: 10 | T13: =S13*2 -> 20 | U13: 10 | V13: =U13*2 -> 20 | W13: 10 | X13: =W13*2 -> 20 | Y13: 10 | Z13: =Y13*2 -> 20 | AA13: =D13+F13+H13+J13+L13+N13+P13+R13+T13+V13+X13+Z13 -> 774
B14: Bērna kopšanas pabalsts | M14: 1 | N14: 2 | O14: 333 | P14: =O14*2 -> 666 | Q14: 10 | R14: =Q14*2 -> 20 | S14: 10 | T14: =S14*2 -> 20 | U14: 10 | V14: =U14*2 -> 20 | W14: 10 | X14: =W14*2 -> 20 | Y14: 10 | Z14: =Y14*2 -> 20 | AA14: =D14+F14+H14+J14+L14+N14+P14+R14+T14+V14+X14+Z14 -> 768
B15: Ģimenes valsts pabalsts | C15: 1 | D15: 2 | E15: 1 | F15: 2 | I15: 3 | J15: 6 | K15: 2 | L15: 4 | M15: 2 | N15: 4 | O15: 333 | P15: =O15*2 -> 666 | Q15: 10 | R15: =Q15*2 -> 20 | S15: 10 | T15: =S15*2 -> 20 | U15: 10 | V15: =U15*2 -> 20 | W15: 10 | X15: =W15*2 -> 20 | Y15: 10 | Z15: =Y15*2 -> 20 | AA15: =D15+F15+H15+J15+L15+N15+P15+R15+T15+V15+X15+Z15 -> 784
A16: Atbalsts pagaidu aizsardzības statusa anulēšanas pieteikšanai | B16: Nepilsoņa statusa zaudēšana | C16: 4 | D16: 8 | E16: 5 | F16: 10 | G16: 2 | H16: 4 | I16: 4 | J16: 8 | K16: 7 | L16: 14 | M16: 4 | N16: 8 | O16: 333 | P16: =O16*2 -> 666 | Q16: 10 | R16: =Q16*2 -> 20 | S16: 10 | T16: =S16*2 -> 20 | U16: 10 | V16: =U16*2 -> 20 | W16: 10 | X16: =W16*2 -> 20 | Y16: 10 | Z16: =Y16*2 -> 20 | AA16: =D16+Z16+X16+V16+T16+R16+P16+N16+L16+J16+H16+F16 -> 818
A17: KOPĀ | C17: =SUM(C8:C16) -> 54 | D17: =SUM(D8:D16) -> 108 | E17: =SUM(E8:E16) -> 78 | F17: =SUM(F8:F16) -> 156 | G17: =SUM(G8:G16) -> 69 | H17: =SUM(H8:H16) -> 138 | I17: =SUM(I8:I16) -> 66 | J17: =SUM(J8:J16) -> 132 | ... AA17: =SUM(AA8:AA16) -> 13838
E20: =D17+F17+H17+J17+L17+N17 -> 1016

Sheet 5.pielikums_VARAM_māj_uzlab
H1: 5. pielikums
A2: Plānotais finansējuma apmērs pašvaldībām 2024. gadā par veiktajiem/plānotajiem uzlabojumiem pašvaldību ēkās, lai nodrošinātu Ukrainas civiliedzīvotāju izmitināšanu
A4: Nr. p. k. | B4: Pašvaldības nosaukums | C4: Faktiskie izdevumi pārskata periodā (2024. gada jūnijā), euro | D4: Jaunizveidoto vietu skaits | E4: Plānotais papildus nepieciešamais finansējums līdz 2024. gada novembrim, euro | F4: Plānotais jaunizveidoto vietu skaits | G4: Plānotais finansējums pārskata periodā, euro | H4: Plānotais jaunizveidoto vietu skaits pārskata periodā
A5: 1 | B5: Siguldas novada pašvaldība | E5: 67000 | F5: 120 | G5: =C5+E5 -> 67000 | H5: =D5+F5 -> 120
A6: 2 | B6: Smiltenes novada pašvaldībai | C6: 9034.42 | D6: 12 | G6: =C6+E6 -> 9034.42 | H6: =D6+F6 -> 12
B7: KOPĀ | C7: =SUM(C5:C6) -> 9034.42 | D7: =SUM(D5:D6) -> 12 | E7: =SUM(E5:E6) -> 67000 | F7: =SUM(F5:F6) -> 120 | G7: =SUM(G5:G6) -> 76034.42 | H7: =SUM(H5:H6) -> 132

Sheet 6.pielikums Rīgas centrs UC
H1: 6. pielikums
A2: Izdevumi par Rīgas vienotā valsts un pašvaldības atbalsta centra Ukrainas civiliedzīvotājiem darbības nodrošināšanu
B4: Faktiskie izdevumi par 2023. gada decembri, euro | C4: VARAM kompensētie (atbilstoši pārrēķinam) izdevumi par 2023. gada decembri, euro | D4: Faktiskie izdevumi par 2024. gada janvāri - martu, euro | E4: VARAM kompensētie (atbilstoši pārrēķinam) izdevumi par 2024. gada janvāri - martu, euro | F4: Faktiskie izdevumi par 2024. gada aprīli - jūniju, euro | G4: VARAM atbalstāmie (atbilstoši pārrēķinam) izdevumi par 2024. gada aprīli - jūniju, euro | H4: Plānotie izdevumi 2024. gada jūlijam - novembrim, euro
A5: Rīgas valstspilsētas pašvaldības izdevumi par Rīgas vienotā valsts un pašvaldības atbalsta centra Ukrainas civiliedzīvotājiem darbības nodrošināšanu | B5: 60363.85 | C5: 22876.32 | D5: =31954.26+24450.63+21875.04 -> 78279.93 | E5: =17262.4+13499.82+11635.35 -> 42397.57 | F5: =17481.59+12991.01+12490.18 -> 42962.78 | G5: =9560.53+6867.07+6626.43 -> 23054.03 | H5: =(E5+G5)/6*5 -> 54543
