Workbook

Sheet KOPSAVILKUMS
D1: 2.1. Pielikums MK rīkojumu projekta "Par finanšu līdzekļu piešķiršanu no valsts budžeta programmas "Līdzekļi neparedzētiem gadījumiem"" anotācijai
A3: Pieejamais un indikatīvi prognozētais finansējums ambulatorajai ārstēšanai paredzēto zāļu un medicīnisko ierīču iegādes izdevumu kompensācijai 2025. gadā
B5: Pieejamais finansējums kompensējamo medikamentu apmaksi uz 2025. gada 14. novembri, tai skaitā ņemot vērā arī plānotās pārdales (tai skaitā no apakšprogrammas 33.19.00 “Krievijas Federācijas militāro pensionāru veselības aprūpe” novirzītais finansējuma apjoms), euro | C5: Kopējie prognozētie izdevumi 2025. gada 12 mēnešiem, tai skaitā ņemot vērā iepriekšējā gada saistības, kas apmaksājamas 2025. gadā, euro | D5: Indikatīvi prognozētais finansējums 2025. gada decembra apmaksai, ja tiek nodrošināts avansa maksājumam 51% apmērā, euro | E5: VM budžetā pieejamais finansējums 2025. gada decembra apmaksai, euro | F5: Papildus novirzāmais finansējums no valsts budžeta programmas 02.00.00 "Līdzekļi neparedzētiem gadījumiem", euro
A6: Kompensējamo medikamentu un materiālu apmaksāšana | B6: =LNG!C7 -> 321621736 | C6: =LNG!K7 -> 345801890 | D6: =LNG!J7 -> 13951046 | E6: =LNG!N7 -> 3174839 | F6: =D6-E6 -> 10776207

Sheet Finans_kompens_med
C1: 2.2. Pielikums MK rīkojumu projekta "Par finanšu līdzekļu piešķiršanu no valsts budžeta programmas "Līdzekļi neparedzētiem gadījumiem"" anotācijai
A3: Kopējais finansējums ambulatorajai ārstēšanai paredzēto zāļu un medicīnisko ierīču iegādes izdevumu kompensācijai 2018.-2025.gadā
A5: Gads | B5: Plānotais finansējums uz gada sākumu atbilstoši kārtējā gada likumam par valsts budžetu (tai skaitā no apakšprogrammas 33.19.00 “Krievijas Federācijas militāro pensionāru veselības aprūpe” novirzītais finansējuma apjoms), EUR | C5: Finansējums gada noslēgumā atbilstoši kārtējā gada likumam par valsts budžetu un FM rīkojumiem (tai skaitā no apakšprogrammas 33.19.00 “Krievijas Federācijas militāro pensionāru veselības aprūpe” novirzītais finansējuma apjoms), EUR | D5: Pieaugums gada noslēgumā pret gada sākumā plānoto finansējumu, % | E5: Pieaugums gada noslēgumā pret iepriekšējā gada noslēgumu, %
A6: 2018 | B6: 130960039 | C6: 173775430 | D6: +32,7 | E6: -
A7: 2019 | B7: 166500454 | C7: 181686924 | D7: +9,1 | E7: +4,6
A8: 2020 | B8: 168667008 | C8: 184237688 | D8: +9,2 | E8: +1,4
A9: 2021 | B9: 171198831 | C9: 197228956 | D9: +15,2 | E9: +7,1
A10: 2022 | B10: 192461047 | C10: 223170202 | D10: +16,0 | E10: +13.2
A11: 2023 | B11: 219458919 | C11: 269839859 | D11: +23,0 | E11: +20.9
A12: 2024 | B12: =[1]Medikamenti!B35 -> 221407809 | C12: 292889552 | D12: +32,3 | E12: +8,5
A13: 2025 * | B13: =307815686+LNG!C17 -> 308061183 | C13: =LNG!L7 -> 332397943 | D13: +7,9 | E13: +13,5
A15: * Indikatīvā prognoze 2025. gada faktiskajam finansējuma izlietojumam kompensējamo medikamentu apmaksai
C19: =B13/B6 -> 2.3523297 | D19: =C12/C6 -> 1.6854486

Sheet LNG
K1: 2.3. Pielikums MK rīkojumu projekta "Par finanšu līdzekļu piešķiršanu no valsts budžeta programmas "Līdzekļi neparedzētiem gadījumiem"" anotācijai
B3: Papildus nepieciešamais finansējums kompensējamiem medikamentu pieejamībai 2025.gadam
C5: VM budžetā 2025. gadā pieejamais finansējums kompensējamo medikamentu apmaksai, euro | D5: Izpilde | H5: Naudas plūsma
D6: Norēķini par 2024.gada saistībām, kas apmaksāti 2025. gadā, euro | E6: Faktiskā izpilde 2025.gada 8M, euro | F6: Kopā izdevumi 2025. gada 8 mēnešos, ņemot vērā iepriekšējā gada saistības, euro | G6: Apgūtais finansējums 2025. gada 8 mēnešos no kopējā, % | H6: Indikatīvi prognozētais finansējums 2025. gada 11 mēnešiem, euro | I6: Indikatīvi prognozētais finansējums 2025. gada decembrim, euro | J6: Indikatīvi prognozētais finansējums 2025. gada decembra apmaksai, ja tiek nodrošināts avansa maksājumam 51% apmērā, euro | K6: Indikatīvi prognozējamais kopējais nepieciešamais finansējums 2025.gadā kompensējamo medikamentu apmaksai, balstoties uz 8 mēnešu izpildes datiem (+ norēķini par 2024.gada saistībām), euro | L6: Lai noavansētu 51% no 2025. gada decembra mēneša, 2025. gadam nepieciešamais finansējums (+ norēķini par 2024. gada saistībām), euro* | M6: Finanšu līdzekļu iztrūkums -/pārpalikums 2025. gadā pilnam gadam, euro | N6: VM budžetā pieejamais finansējums 2025. gada decembra apmaksai, euro | O6: Finanšu līdzekļu iztrūkums -/pārpalikums 2025. gadā, ja no decembra mēneša plānots noavansēt 51%, euro **
A7: KOPĀ | C7: =SUM(C8+C17+C15+C16) -> 321621736 | D7: =SUM(D8+D17) -> 17296474 | E7: =SUM(E8+E17) -> 218957698 | F7: =SUM(D7:E7) -> 236254172 | G7: =SUM(F7)/C7 -> 0.73457153 | H7: =H10+H11+H17 -> 301150423 | I7: =I10+I11 -> 27354993 | J7: =J10+J11 -> 13951046 | K7: =SUM(K8+K17) -> 345801890 | L7: =SUM(L8+L17) -> 332397943 | M7: =SUM(C7-K7) -> -24180154 | N7: =N8+N15+N16 -> 3174839 | O7: =C7-L7 -> -10776207
A8: Budžeta apakšprogramma 03.03.00 "Kompensējamo medikamentu un materiālu apmaksāšana"* | C8: 318640679 | D8: =SUM(D15+D11+D10) -> 17296474 | E8: =SUM(E11+E10) -> 2.1883995e+08 | F8: =SUM(F11+F10) -> 2.3613642e+08 | G8: =SUM(F8/C8) -> 0.74107431 | H8: =H10+H11 -> 300904926 | K8: =SUM(K11+K10) -> 345556393 | L8: =SUM(L11+L10) -> 332152446 | M8: =SUM(M15+M11+M10) -> -26915714 | N8: =C8-D8-H8 -> 439279 | O8: =C8-L8 -> -13511767
A9: no tā:
A10: Kompensējamo medikamentu un materiālu apmaksai | C10: =C8-C11 -> 303511214 | D10: 17296474 | E10: 2.0927758e+08 | F10: =SUM(D10:E10) -> 2.2657405e+08 | G10: =SUM(F10/C10) -> 0.74650965 | H10: =ROUND(E10/8*11,0) -> 287756666 | I10: =ROUND(E10/8*1,0) -> 26159697 | J10: =ROUND(I10*0.51,0) -> 13341445 | K10: =H10+I10+D10 -> 331212837 | L10: =H10+J10+D10 -> 318394585 | M10: =SUM(C10-K10) -> -27701623 | N10: =C10-D10-H10 -> -1541926 | O10: =C10-L10 -> -14883371
A11: Maksājums aptiekām par farmaceita pakalpojumu | C11: =SUM(C13:C14) -> 15129465 | E11: 9562371 | F11: 9562371 | G11: =SUM(F11/C11) -> 0.63203629 | H11: =ROUND(E11/8*11,0) -> 13148260 | I11: =ROUND(E11/8*1,0) -> 1195296 | J11: =ROUND(I11*0.51,0) -> 609601 | K11: =I11+H11 -> 14343556 | L11: =H11+J11 -> 13757861 | M11: =SUM(C11-K11) -> 785909 | N11: =C11-D11-H11 -> 1981205 | O11: =C11-L11 -> 1371604
A12: tai skaitā farmaceita pakalpojumam:
A13: NVD esošā finansējuma ietvaros (prognozētais ietaupījums no zāļu reformas) | C13: 5647209
A14: Papildus finansējums no 74. resora programmas 20.00.00 | C14: 9482256
A15: Virsplāna ieņēmumi (ir iesniegti FM priekšlikumi budžeta aproriācijai) | C15: 2533737 | N15: =C15 -> 2533737
A16: Apro pārdale starp budžeta apakšprogrammām no 45.01.00 (tiks sniegts FM) | C16: 201823 | N16: =C16 -> 201823
A17: Budžeta apakšprogramma 33.19.00 "Krievijas Federācijas militāro pensionāru veselības aprūpe" (no Krievijas Federācijas līdzekļiem) | C17: 245497 | E17: 117751.43 | F17: 117751.43 | G17: =SUM(F17/C17) -> 0.47964509 | H17: =C17 -> 245497 | K17: =SUM(C17) -> 245497 | L17: =C17 -> 245497 | M17: =SUM(C17-K17) -> 0 | O17: =SUM(C17-L17) -> 0
A19: * Finansējums kompensējamo medikamentu apmaksai KZS sistēmas ietvaros, izņemot finansējums, kas piešķirts ar Ministru kabineta 2025.gada 7.oktobra rīkojumu Nr.655 (prot. Nr.41 27.§) - 120 295 EUR apmērā, lai segtu izdevumus, kas radušies saistībā ar atbalsta sniegšanu Ukrainas civiliedzīvotājiem Latvijas Republikā. Finansējums piešķirts un izlietots noteiktam mērķim.
A20: ** Ar finansējuma apjomu 10 776 207 euro apmērā varēs apmaksāt ≈ 269 878 receptes (aprēķins: 10 776 207 euro / 39,93 euro (2025.gada septembra vienas receptes vidējā cena))
