Workbook

Sheet VP dec
D1: 2.pielikums
D2: Ministru kabineta rīkojuma projekta
C3: "Par apropriācijas pārdali no budžeta resora "74. Gadskārtējā valsts budžeta izpildes procesā pārdalāmais finansējums" programmas 22.00.00 "Valsts ārējās robežas drošības pasākumu nodrošināšana""
D4: sākotnējās ietekmes novērtējuma ziņojumam (anotācijai)
A6: Valsts policijas izdevumi
A7: Kopasavilkums
A9: Kods | B9: Koda nosaukums | C9: Detalizēts izdevumu aprēķins | D9: Izdevumi, euro
A10: Izdevumi kopā ar vidējās izpeļņas pieauguma kompensēšanu | D10: =ROUND(D11+D14,0) -> 1869959
A11: 1000 | B11: Atlīdzība | C11: × | D11: =ROUND(D17+D37,0) -> 1850280
A12: 1100 | B12: Atalgojums | C12: × | D12: =ROUNDUP(D38+D18,0) -> 1497190
A13: 1210 | B13: Darba devēja valsts sociālās apdrošināšanas obligātās iemaksas | C13: × | D13: =ROUNDUP(D40+D23,0) -> 353090
A14: 2000 | B14: Preces un pakalpojumi | C14: × | D14: =D24 -> 19679
A16: 1) Izdevumi saistībā ar rīkojuma Nr. 514 izpildei nepieciešamo pasākumu īstenošanu | D16: =D17+D24 -> 1727675
A17: 1002 | B17: Atlīdzība | C17: × | D17: =ROUNDUP(D18+D23,0) -> 1707996
A18: 1100 | B18: Atalgojums | C18: × | D18: =SUM(D19:D22) -> 1382063.6
A19: 1141 | B19: Piemaksa par nakts darbu | C19: Detalizēts aprēķins par laika periodu no 2023.gada 1. decembra līdz 31. decembrim 1.tabulā. Iesaistītas 234 personas, kopējais iesaistes laiks 3 589 stundas. | D19: ='1.tabula'!G6 -> 15456.25
A20: 1142 | B20: Samaksa par virsstundu darbu un darbu svētku dienās | C20: 1) Piemaksa par virsstundu darbu Detalizēts aprēķins par laika periodu no 2023.gada 1. septembra līdz 31. decembrim 2.tabulā. Iesaistītas 602 personas, kopējais iesaistes laiks 81 859,25 stundas. | D20: =' 2.tabula'!G6 -> 1342479
C21: 2) Piemaksa par darbu svētku dienās (24.12., 25.12., 26.12., 31.12.) Detalizēts aprēķins par laika periodu no 2023.gada 1. decembra līdz 31. decembrim 3.tabulā. Iesaistītas 68 personas, kopējais iesaistes laiks 855,5 stundas. | D21: ='3.tabula'!G6 -> 7561.9
A22: 1145 | B22: Piemaksa par darbu īpašos apstākļos, speciālās piemaksas | C22: Detalizēts aprēķins par laika periodu no 1. decembra līdz 31. decembrim 4.tabulā. Iesaistītas 528 personas, kopējais iesaistes laiks 12 622 stundas. | D22: ='4.tabula'!H7 -> 16566.46
A23: 1210 | B23: Darba devēja valsts sociālās apdrošināšanas obligātās iemaksas | C23: 23,59% no aprēķinātā atalgojuma * izņemot 3 personas, kurām tiek piemērota nodokļu likme 21,94% (izdienas pensionārs) | D23: ='4.tabula'!I7+'1.tabula'!H6+'3.tabula'!H6+' 2.tabula'!H6 -> 325931.5
A24: 2002 | B24: Preces un pakalpojumi | C24: × | D24: =ROUNDUP(SUM(D25:D34),0) -> 19679
A25: 2112 | B25: Pārējie komandējumu un darba braucienu izdevumi | C25: Dienesta viesnīcas pakalpojumi Naktsmītnes izdevumi Daugavpilī: 10 nakts x 12 gultasvietas x 15,00 euro = 1 800,00 euro; 3 nakts x 11 gultasvietas × 15,00 euro = 495,00 euro; 1 nakts x 6 gultasvietas × 15,00 euro = 90,00 euro. Aprēķins veikts par dienesta viesnīcas pakalpojumiem (naktsmītni), kas tika nodrošināti no 2023.gada 1. decembra līdz 15. decembrim, izdevumi pakalpojuma sniedzējam tika apmaksāti 2024.gada janvārī. | D25: =(10*12*15)+(3*11*15)+(1*6*15) -> 2385
A26: 2271 | B26: Izdevumi, kas saistīti ar operatīvo darbību | C26: Izdevumi, kas saistīti ar operatīvo darbību _____________________
A27: 2312 | B27: Inventārs
A28: 2322 | B28: Degviela | C28: Detalizēts aprēķins par laika periodu no 2023.gada 1. decembra līdz 31. decembrim 5.tabulā. Pasākuma nodrošināšanai tika iesaistīti 100 transportlīdzekļi; Vidēji viena transportlīdzekļa nobraukums 1158,68 km; Vidējā degvielas cena 1,4365 euro/l; Vidējais degvielas patēriņš 8,222 l/km uz 100 km. 100 t-ldz. x 1158,68 km x 1,4365 euro/l x 8,222 l/km ÷ 100 km = 13 685,11 euro | D28: ='5.tabula'!F6 -> 13685.11
A29: 2350 | B29: Kārtējā remonta un iestāžu uzturēšanas materiāli
A30: 2363 | B30: Ēdināšanas izdevumi | C30: Aprēķins veikts par ēdināšanas pakalpojumiem, kas tika nodrošināti no 2023.gada 1. decembra līdz 15. decembrim, izdevumi pakalpojuma sniedzējam tika apmaksāti 2024.gada janvārī. Ēdināšanas pakalpojumi Daugavpilī: brokastis 105 porcijas × 6,00 euro = 630,00 euro; pusdienas 109 porcijas × 8,00 euro = 872,00 euro; vakariņas 105 porcijas × 8,00 euro = 840,00 euro; launags (sausā uztura paka) 55 pakas × 22,00 euro =1 210,00 euro; launags (sausā uztura paka) 4 pakas × 14,00 euro = 56,00 euro. Saskaņā ar līgumu par izmitināšanu un ēdināšanu Daugavpilī ir noteikts, ka ēdināšana 3 reizes dienā nedrīkst pārsniegt 22 euro: Ēdināšanas izmaksas sastāda: Brokastis 6 euro /1 pers Pusdienas un vakariņas 8 euro /1 pers Par 14 euro tiek ēdinātas amatpersonas, kuras atrodas viesnīcā, jo amatpersonas strādā maiņās. Savukārt tām amatpersonām, kuras ir maiņā uz robežas un tām nav iespējams atgriezties uz pusdienām un vakariņām, tad, lai nodrošinātu ēdināšanu amatpersonām dod līdzi pārtikas paku un kopā tas sastāda 22 euro (brokastis ir 6 euro - tās paēd izmitināšanas vietā). Pārtikas pakas tiek dotas arī Latgales reģiona pārvaldes amatpersonām, kuras arī tiek norīkotas uz robežu, augstākminēto iemeslu dēļ, komandējama izdevumi un dienas nauda viņām nav. Papildus jāatzīmē, ka dienas nauda dienās, kad nodrošināta 3 reižu ēdināšana sastāda 30% no Ministru kabineta noteikumos par komandējumu paredzētā limita. | D30: =(105*6)+(109*8)+(105*8)+(55*22)+(4*14) -> 3608
A31: 2369 | B31: Pārējie valsts un pašvaldību aprūpē, apgādē un dienestā (amatā) esošo personu uzturēšanas izdevumi, kuri nav minēti citos koda 2360 apakškodos
A32: 2390 | B32: Pārējās preces | C32: Negazēts dzeramais ūdens 5 L / 408 gab. x 0,6869 euro = 280,26 euro Lietusmētelis 49 gab. x 10,77 euro = 527,73 euro
A33: 5000 | B33: Pamatkapitāla veidošana | D33: =ROUNDUP(SUM(D34),0) -> 0
A34: 5239 | B34: Pārējie iepriekš neklasificētie pamatlīdzekļi un ieguldījuma īpašumi
A36: 2) Vidējās izpeļņas pieauguma kompensēšanai | D36: =D37 -> 142284
A37: 1000 | B37: Atlīdzība | C37: × | D37: =ROUND(D38+D40,0) -> 142284
A38: 1100 | B38: Atalgojums | C38: × | D38: =ROUNDUP(D39,0) -> 115126
A39: 1116 | B39: Mēnešalga amatpersonām ar speciālajām dienesta pakāpēm | C39: 1 382 063,59 euro × 8,33% = 115 125,90 euro. | D39: =ROUND(D18*8.33%,2) -> 115125.9
A40: 1210 | B40: Darba devēja valsts sociālās apdrošināšanas obligātās iemaksas | C40: 23,59% no aprēķinātā atalgojuma | D40: =ROUNDUP(D39*0.2359,2) -> 27158.2
A41: 2000 | B41: Preces un pakalpojumi | D41: =ROUNDUP(SUM(D42:D42),2) -> 0
A42: 2271 | B42: Izdevumi, kas saistīti ar operatīvo darbību | C42: Informācija klasificēta

Sheet 1.tabula
I1: 1.tabula
A2: Valsts policija
A3: Piemaksa par nakts darbu amatpersonām ar speciālajām dienesta pakāpēm, kuras laika periodā no 2023.gada 1. decembra līdz 31. decembrim tika iesaistītas atbalsta sniegšanā Valsts robežsardzei Latvijas Republikas-Baltkrievijas Republikas valsts robežas robežuzraudzības nodrošināšanā
E4: 166.33
A5: Nr. p.k. | B5: Struktūrvienība | C5: Amats | D5: Mēnešalga amatpersonām ar speciālajām pakāpēm | E5: Stundas likme | F5: Stundu skaits | G5: Piemaksa par nakts darbu | H5: DD VSAOI | I5: Atlīdzība
A6: kopā | F6: =SUM(F7:F240) -> 3589 | G6: =SUM(G7:G240) -> 15456.25 | H6: =SUM(H7:H240) -> 3644.89 | I6: =SUM(I7:I240) -> 19101.14
A7: 1 | B7: VP LATGALES RP ZIEMEĻLATGALES IECIRKNIS | C7: iecirkņa priekšnieka vietnieks, Reaģēšanas nodaļas priekšnieks | D7: 2040 | E7: =ROUND(D7/$E$4,3) -> 12.265 | F7: 24 | G7: 147.18 | H7: =ROUND(G7*0.2359,2) -> 34.72 | I7: =G7+H7 -> 181.9
A8: =A7+1 -> 2 | B8: VP LATGALES RP ZIEMEĻLATGALES IECIRKŅA IZMEKLĒŠANAS NODAĻAS 2.GRUPA | C8: inspektors | D8: 1437 | E8: =ROUND(D8/$E$4,3) -> 8.639 | F8: 14 | G8: 60.47 | H8: =ROUND(G8*0.2359,2) -> 14.26 | I8: =G8+H8 -> 74.73
A9: =A8+1 -> 3 | B9: VP LATGALES RP ZIEMEĻLATGALES IECIRKŅA IZMEKLĒŠANAS NODAĻAS 5.GRUPA | C9: galvenais inspektors | D9: 1794 | E9: =ROUND(D9/$E$4,3) -> 10.786 | F9: 8 | G9: 43.14 | H9: =ROUND(G9*0.2359,2) -> 10.18 | I9: =G9+H9 -> 53.32
A10: =A9+1 -> 4 | B10: VP LATGALES RP DIENVIDLATGALES IECIRKŅA REAĢĒŠANAS NODAĻAS 7.GRUPA | C10: inspektors | D10: 1317 | E10: =ROUND(D10/$E$4,3) -> 7.918 | F10: 24 | G10: 95.02 | H10: =ROUND(G10*0.2359,2) -> 22.42 | I10: =G10+H10 -> 117.44
A11: =A10+1 -> 5 | B11: VP LATGALES RP DIENVIDLATGALES IECIRKŅA REAĢĒŠANAS NODAĻAS 7.GRUPA | C11: jaunākais inspektors | D11: 1140 | E11: =ROUND(D11/$E$4,3) -> 6.854 | F11: 16 | G11: 54.83 | H11: =ROUND(G11*0.2359,2) -> 12.93 | I11: =G11+H11 -> 67.76
A12: =A11+1 -> 6 | B12: VP LATGALES RP ZIEMEĻLATGALES IECIRKŅA PREVENCIJAS GRUPA | C12: vecākais inspektors | D12: 1381 | E12: =ROUND(D12/$E$4,3) -> 8.303 | F12: 16 | G12: 66.42 | H12: =ROUND(G12*0.2359,2) -> 15.67 | I12: =G12+H12 -> 82.09
A13: =A12+1 -> 7 | B13: VP LATGALES RP KĀRTPB ATĻAUJU SISTĒMAS GRUPA | C13: inspektors | D13: 1196 | E13: =ROUND(D13/$E$4,3) -> 7.191 | F13: 14 | G13: 50.34 | H13: =ROUND(G13*0.2359,2) -> 11.88 | I13: =G13+H13 -> 62.22
A14: =A13+1 -> 8 | B14: VP LATGALES RP ZIEMEĻLATGALES IECIRKŅA IZMEKLĒŠANAS NODAĻAS 3.GRUPA | C14: vecākais inspektors | D14: 1610 | E14: =ROUND(D14/$E$4,3) -> 9.68 | F14: 24 | G14: 116.16 | H14: =ROUND(G14*0.2359,2) -> 27.4 | I14: =G14+H14 -> 143.56
A15: =A14+1 -> 9 | B15: VP LATGALES RP ZIEMEĻLATGALES IECIRKŅA REAĢĒŠANAS NODAĻAS 10.GRUPA | C15: galvenais inspektors | D15: 1542 | E15: =ROUND(D15/$E$4,3) -> 9.271 | F15: 8 | G15: 37.08 | H15: =ROUND(G15*0.2359,2) -> 8.75 | I15: =G15+H15 -> 45.83
A16: =A15+1 -> 10 | B16: VP LATGALES RP DIENVIDLATGALES IECIRKŅA REAĢĒŠANAS NODAĻAS 10.GRUPA | C16: vecākais inspektors | D16: 1355 | E16: =ROUND(D16/$E$4,3) -> 8.146 | F16: 8 | G16: 32.58 | H16: =ROUND(G16*0.2359,2) -> 7.69 | I16: =G16+H16 -> 40.27
A17: =A16+1 -> 11 | B17: VP LATGALES RP DIENVIDLATGALES IECIRKŅA REAĢĒŠANAS NODAĻAS 6.GRUPA | C17: jaunākais inspektors | D17: 1140 | E17: =ROUND(D17/$E$4,3) -> 6.854 | F17: 24 | G17: 82.25 | H17: =ROUND(G17*0.2359,2) -> 19.4 | I17: =G17+H17 -> 101.65
A18: =A17+1 -> 12 | B18: VP LATGALES RP ZIEMEĻLATGALES IECIRKŅA IZMEKLĒŠANAS NODAĻAS 2.GRUPA | C18: galvenais inspektors | D18: 2040 | E18: =ROUND(D18/$E$4,3) -> 12.265 | F18: 16 | G18: 98.12 | H18: =ROUND(G18*0.2359,2) -> 23.15 | I18: =G18+H18 -> 121.27
A19: =A18+1 -> 13 | B19: VP LATGALES RP DIENVIDLATGALES IECIRKŅA IZMEKLĒŠANAS NODAĻAS 2.GRUPA | C19: galvenais inspektors | D19: 1525 | E19: =ROUND(D19/$E$4,3) -> 9.169 | F19: 16 | G19: 73.35 | H19: =ROUND(G19*0.2359,2) -> 17.3 | I19: =G19+H19 -> 90.65
... A63: =A62+1 -> 57 | B63: VP LATGALES RP DIENVIDLATGALES IECIRKŅA IZMEKLĒŠANAS NODAĻAS 6.GRUPA | C63: inspektors | D63: 1342 | E63: =ROUND(D63/$E$4,3) -> 8.068 | F63: 32 | G63: 129.09 | H63: =ROUND(G63*0.2359,2) -> 30.45 | I63: =G63+H63 -> 159.54
A64: =A63+1 -> 58 | B64: VP LATGALES RP DIENVIDLATGALES IECIRKŅA REAĢĒŠANAS NODAĻAS 4.GRUPA | C64: vecākais inspektors | D64: 1475 | E64: =ROUND(D64/$E$4,3) -> 8.868 | F64: 16 | G64: 70.94 | H64: =ROUND(G64*0.2194,2) -> 15.56 | I64: =G64+H64 -> 86.5 | J64: ***
A65: =A64+1 -> 59 | B65: VP LATGALES RP ZIEMEĻLATGALES IECIRKŅA IZMEKLĒŠANAS NODAĻAS 3.GRUPA | C65: galvenais inspektors | D65: 1713 | E65: =ROUND(D65/$E$4,3) -> 10.299 | F65: 24 | G65: 123.59 | H65: =ROUND(G65*0.2359,2) -> 29.15 | I65: =G65+H65 -> 152.74
A66: =A65+1 -> 60 | B66: VP LATGALES RP DIENVIDLATGALES IECIRKŅA IZMEKLĒŠANAS NODAĻAS 1.GRUPA | C66: inspektors | D66: 1443 | E66: =ROUND(D66/$E$4,3) -> 8.676 | F66: 16 | G66: 69.41 | H66: =ROUND(G66*0.2359,2) -> 16.37 | I66: =G66+H66 -> 85.78
A67: =A66+1 -> 61 | B67: VP LATGALES RP ZIEMEĻLATGALES IECIRKŅA PREVENCIJAS GRUPA | C67: inspektors | D67: 1463 | E67: =ROUND(D67/$E$4,3) -> 8.796 | F67: 8 | G67: 35.18 | H67: =ROUND(G67*0.2359,2) -> 8.3 | I67: =G67+H67 -> 43.48
A68: =A67+1 -> 62 | B68: VP LATGALES RP KRIMPB RĒZEKNES REĢIONĀLĀ NODAĻA | C68: vecākais inspektors | D68: 1593 | E68: =ROUND(D68/$E$4,3) -> 9.577 | F68: 16 | G68: 76.62 | H68: =ROUND(G68*0.2359,2) -> 18.07 | I68: =G68+H68 -> 94.69
A69: =A68+1 -> 63 | B69: VP LATGALES RP ZIEMEĻLATGALES IECIRKŅA REAĢĒŠANAS NODAĻAS 3.GRUPA | C69: inspektors | D69: 1317 | E69: =ROUND(D69/$E$4,3) -> 7.918 | F69: 8 | G69: 31.67 | H69: =ROUND(G69*0.2359,2) -> 7.47 | I69: =G69+H69 -> 39.14
A70: =A69+1 -> 64 | B70: VP LATGALES RP DIENVIDLATGALES IECIRKŅA IZMEKLĒŠANAS NODAĻAS 2.GRUPA | C70: inspektors | D70: 1463 | E70: =ROUND(D70/$E$4,3) -> 8.796 | F70: 16 | G70: 70.37 | H70: =ROUND(G70*0.2359,2) -> 16.6 | I70: =G70+H70 -> 86.97
A71: =A70+1 -> 65 | B71: VP LATGALES RP KĀRTPB SŪDZĪBU IZSKATĪŠANAS GRUPA | C71: vecākais inspektors | D71: 1508 | E71: =ROUND(D71/$E$4,3) -> 9.066 | F71: 32 | G71: 145.06 | H71: =ROUND(G71*0.2359,2) -> 34.22 | I71: =G71+H71 -> 179.28
A72: =A71+1 -> 66 | B72: VP LATGALES RP ZIEMEĻLATGALES IECIRKŅA REAĢĒŠANAS NODAĻAS 9.GRUPA | C72: inspektors | D72: 1317 | E72: =ROUND(D72/$E$4,3) -> 7.918 | F72: 8 | G72: 31.67 | H72: =ROUND(G72*0.2359,2) -> 7.47 | I72: =G72+H72 -> 39.14
A73: =A72+1 -> 67 | B73: VP LATGALES RP ZIEMEĻLATGALES IECIRKŅA IZMEKLĒŠANAS NODAĻAS 2.GRUPA | C73: vecākais inspektors | D73: 1517 | E73: =ROUND(D73/$E$4,3) -> 9.12 | F73: 24 | G73: 109.44 | H73: =ROUND(G73*0.2359,2) -> 25.82 | I73: =G73+H73 -> 135.26
A74: =A73+1 -> 68 | B74: VP LATGALES RP DIENVIDLATGALES IECIRKŅA IZMEKLĒŠANAS NODAĻAS 7.GRUPA | C74: inspektors | D74: 1362 | E74: =ROUND(D74/$E$4,3) -> 8.189 | F74: 8 | G74: 32.76 | H74: =ROUND(G74*0.2359,2) -> 7.73 | I74: =G74+H74 -> 40.49
A75: =A74+1 -> 69 | B75: VP LATGALES RP ZIEMEĻLATGALES IECIRKŅA IZMEKLĒŠANAS NODAĻAS 1.GRUPA | C75: inspektors | D75: 1463 | E75: =ROUND(D75/$E$4,3) -> 8.796 | F75: 30 | G75: 131.94 | H75: =ROUND(G75*0.2359,2) -> 31.12 | I75: =G75+H75 -> 163.06
A76: =A75+1 -> 70 | B76: VP LATGALES RP ZIEMEĻLATGALES IECIRKŅA IZMEKLĒŠANAS NODAĻAS 3.GRUPA | C76: vecākais inspektors | D76: 1517 | E76: =ROUND(D76/$E$4,3) -> 9.12 | F76: 8 | G76: 36.48 | H76: =ROUND(G76*0.2359,2) -> 8.61 | I76: =G76+H76 -> 45.09
... A240: =A239+1 -> 234 | B240: VP LATGALES RP ZIEMEĻLATGALES IECIRKŅA PREVENCIJAS GRUPA | C240: inspektors | D240: 1282 | E240: =ROUND(D240/$E$4,3) -> 7.708 | F240: 8 | G240: 30.83 | H240: =ROUND(G240*0.2359,2) -> 7.27 | I240: =G240+H240 -> 38.1
B242: *** - izdienas pensionārs

Sheet  2.tabula
I1: 2.tabula
A2: Valsts policija
A3: Detalizēts aprēķins samaksai par virsstundu darbu amatpersonām ar speciālo dienesta pakāpi, sniedzot atbalstu Valsts robežsardzei Latvijas Republikas-Baltkrievijas Republikas valsts robežas nelikumīgas šķērsošanas nodrošināšanā, par laika periodu no 2023.gada 01. septembra līdz 31. decembrim
E4: 166.33
A5: Nr. p.k. | B5: Struktūrvienība | C5: Amats | D5: Mēnešalga amatpersonām ar speciālajām pakāpēm | E5: Stundas likme | F5: Stundu skaits | G5: Samaksa par virsstundu darbu | H5: DD VSAOI | I5: Atlīdzība
A6: kopā | F6: =SUM(F7:F608) -> 81859.25 | G6: =SUM(G7:G608) -> 1342479 | H6: =SUM(H7:H608) -> 316596.21 | I6: =SUM(I7:I608) -> 1659075.2
A7: 1 | B7: VP LATGALES RP ZIEMEĻLATGALES IECIRKNIS | C7: iecirkņa priekšnieka vietnieks, Reaģēšanas nodaļas priekšnieks | D7: 2040 | E7: =ROUND(D7/$E$4,3) -> 12.265 | F7: 132 | G7: 3237.96 | H7: =ROUND(G7*0.2359,2)-0.02 -> 763.81 | I7: =G7+H7 -> 4001.77
A8: =A7+1 -> 2 | B8: VP LATGALES RP ZIEMEĻLATGALES IECIRKŅA IZMEKLĒŠANAS NODAĻAS 2.GRUPA | C8: inspektors | D8: 1437 | E8: =ROUND(D8/$E$4,3) -> 8.639 | F8: 157.5 | G8: 2721.29 | H8: =ROUND(G8*0.2359,2) -> 641.95 | I8: =G8+H8 -> 3363.24
A9: =A8+1 -> 3 | B9: VP LATGALES RP DIENVIDLATGALES IECIRKŅA REAĢĒŠANAS NODAĻAS 3.GRUPA | C9: vecākais inspektors | D9: 1463 | E9: =ROUND(D9/$E$4,3) -> 8.796 | F9: 113 | G9: 1987.9 | H9: =ROUND(G9*0.2359,2) -> 468.95 | I9: =G9+H9 -> 2456.85
A10: =A9+1 -> 4 | B10: VP LATGALES RP ZIEMEĻLATGALES IECIRKŅA IZMEKLĒŠANAS NODAĻAS 5.GRUPA | C10: galvenais inspektors | D10: 1794 | E10: =ROUND(D10/$E$4,3) -> 10.786 | F10: 148.5 | G10: 3203.44 | H10: =ROUND(G10*0.2359,2) -> 755.69 | I10: =G10+H10 -> 3959.13
A11: =A10+1 -> 5 | B11: VP LATGALES RP DIENVIDLATGALES IECIRKŅA REAĢĒŠANAS NODAĻAS 7.GRUPA | C11: inspektors | D11: 1317 | E11: =ROUND(D11/$E$4,3) -> 7.918 | F11: 361 | G11: 5716.8 | H11: =ROUND(G11*0.2359,2) -> 1348.59 | I11: =G11+H11 -> 7065.39
A12: =A11+1 -> 6 | B12: VP ZEMGALES RP AUSTRUMZEMGALES IECIRKŅA REAĢĒŠANAS NODAĻAS 1.GRUPA | C12: vecākais inspektors | D12: 1463 | E12: =ROUND(D12/$E$4,3) -> 8.796 | F12: 115 | G12: 2023.08 | H12: =ROUND(G12*0.2359,2) -> 477.24 | I12: =G12+H12 -> 2500.32
A13: =A12+1 -> 7 | B13: VP LATGALES RP DIENVIDLATGALES IECIRKŅA REAĢĒŠANAS NODAĻAS 7.GRUPA | C13: jaunākais inspektors | D13: 1140 | E13: =ROUND(D13/$E$4,3) -> 6.854 | F13: 210 | G13: 2878.68 | H13: =ROUND(G13*0.2359,2) -> 679.08 | I13: =G13+H13 -> 3557.76
A14: =A13+1 -> 8 | B14: VP LATGALES RP DIENVIDLATGALES IECIRKŅA IZMEKLĒŠANAS NODAĻAS 5.GRUPA | C14: inspektors | D14: 1437 | E14: =ROUND(D14/$E$4,3) -> 8.639 | F14: 74.5 | G14: 1287.21 | H14: =ROUND(G14*0.2359,2) -> 303.65 | I14: =G14+H14 -> 1590.86
A15: =A14+1 -> 9 | B15: VP LATGALES RP DIENVIDLATGALES IECIRKŅA REAĢĒŠANAS NODAĻAS 1.GRUPA | C15: inspektors | D15: 1317 | E15: =ROUND(D15/$E$4,3) -> 7.918 | F15: 153 | G15: 2422.91 | H15: =ROUND(G15*0.2359,2) -> 571.56 | I15: =G15+H15 -> 2994.47
A16: =A15+1 -> 10 | B16: VP ZEMGALES RP AUSTRUMZEMGALES IECIRKŅA REAĢĒŠANAS NODAĻAS 3.GRUPA | C16: vecākais inspektors | D16: 1490 | E16: =ROUND(D16/$E$4,3) -> 8.958 | F16: 46 | G16: 824.14 | H16: =ROUND(G16*0.2359,2)-0.01 -> 194.4 | I16: =G16+H16 -> 1018.54
A17: =A16+1 -> 11 | B17: VP LATGALES RP DIENVIDLATGALES IECIRKŅA REAĢĒŠANAS NODAĻAS 6.GRUPA | C17: jaunākais inspektors | D17: 1120 | E17: =ROUND(D17/$E$4,3) -> 6.734 | F17: 121 | G17: 1629.63 | H17: =ROUND(G17*0.2359,2) -> 384.43 | I17: =G17+H17 -> 2014.06
A18: =A17+1 -> 12 | B18: VP LATGALES RP ZIEMEĻLATGALES IECIRKŅA PREVENCIJAS GRUPA | C18: vecākais inspektors | D18: 1381 | E18: =ROUND(D18/$E$4,3) -> 8.303 | F18: 272.5 | G18: 4525.14 | H18: =ROUND(G18*0.2359,2) -> 1067.48 | I18: =G18+H18 -> 5592.62
A19: =A18+1 -> 13 | B19: VP ZEMGALES RP AUSTRUMZEMGALES IECIRKŅA REAĢĒŠANAS NODAĻAS 3.GRUPA | C19: inspektors | D19: 1317 | E19: =ROUND(D19/$E$4,3) -> 7.918 | F19: 115 | G19: 1821.14 | H19: =ROUND(G19*0.2359,2) -> 429.61 | I19: =G19+H19 -> 2250.75
A20: =A19+1 -> 14 | B20: VP LATGALES RP DIENVIDLATGALES IECIRKŅA REAĢĒŠANAS NODAĻAS 4.GRUPA | C20: vecākais inspektors | D20: 1381 | E20: =ROUND(D20/$E$4,3) -> 8.303 | F20: 94 | G20: 1560.96 | H20: =ROUND(G20*0.2359,2) -> 368.23 | I20: =G20+H20 -> 1929.19
A21: =A20+1 -> 15 | B21: VP LATGALES RP ZIEMEĻLATGALES IECIRKŅA REAĢĒŠANAS NODAĻAS 9.GRUPA | C21: inspektors | D21: 1317 | E21: =ROUND(D21/$E$4,3) -> 7.918 | F21: 145 | G21: 2296.22 | H21: =ROUND(G21*0.2359,2) -> 541.68 | I21: =G21+H21 -> 2837.9
A22: =A21+1 -> 16 | B22: VP LATGALES RP DIENVIDLATGALES IECIRKŅA PREVENCIJAS GRUPA | C22: inspektors | D22: 1337 | E22: =ROUND(D22/$E$4,3) -> 8.038 | F22: 43 | G22: 691.27 | H22: =ROUND(G22*0.2359,2) -> 163.07 | I22: =G22+H22 -> 854.34
A23: =A22+1 -> 17 | B23: VP LATGALES RP KĀRTPB ATĻAUJU SISTĒMAS GRUPA | C23: inspektors | D23: 1196 | E23: =ROUND(D23/$E$4,3) -> 7.191 | F23: 157 | G23: 2257.97 | H23: =ROUND(G23*0.2359,2)-0.01 -> 532.65 | I23: =G23+H23 -> 2790.62
A24: =A23+1 -> 18 | B24: VP LATGALES RP KRIMPB KRIMINĀLIZLŪKOŠANAS INFORMĀCIJAS ANALĪZES GRUPA | C24: vecākais inspektors | D24: 1545 | E24: =ROUND(D24/$E$4,3) -> 9.289 | F24: 88.5 | G24: 1644.15 | H24: =ROUND(G24*0.2359,2) -> 387.85 | I24: =G24+H24 -> 2032
A25: =A24+1 -> 19 | B25: VP LATGALES RP DIENVIDLATGALES IECIRKŅA IZMEKLĒŠANAS NODAĻAS 7.GRUPA | C25: vecākais inspektors | D25: 1355 | E25: =ROUND(D25/$E$4,3) -> 8.146 | F25: 175 | G25: 2851.1 | H25: =ROUND(G25*0.2359,2) -> 672.57 | I25: =G25+H25 -> 3523.67
A26: =A25+1 -> 20 | B26: VP LATGALES RP ZIEMEĻLATGALES IECIRKŅA IZMEKLĒŠANAS NODAĻAS 3.GRUPA | C26: vecākais inspektors | D26: 1610 | E26: =ROUND(D26/$E$4,3) -> 9.68 | F26: 147.5 | G26: 2855.6 | H26: =ROUND(G26*0.2359,2) -> 673.64 | I26: =G26+H26 -> 3529.24
A27: =A26+1 -> 21 | B27: VP LATGALES RP ZIEMEĻLATGALES IECIRKŅA REAĢĒŠANAS NODAĻAS 10.GRUPA | C27: galvenais inspektors | D27: 1542 | E27: =ROUND(D27/$E$4,3) -> 9.271 | F27: 157 | G27: 2911.09 | H27: =ROUND(G27*0.2359,2) -> 686.73 | I27: =G27+H27 -> 3597.82
A28: =A27+1 -> 22 | B28: VP LATGALES RP DIENVIDLATGALES IECIRKŅA REAĢĒŠANAS NODAĻAS 10.GRUPA | C28: vecākais inspektors | D28: 1355 | E28: =ROUND(D28/$E$4,3) -> 8.146 | F28: 127 | G28: 2069.08 | H28: =ROUND(G28*0.2359,2) -> 488.1 | I28: =G28+H28 -> 2557.18
A29: =A28+1 -> 23 | B29: VP LATGALES RP ZIEMEĻLATGALES IECIRKŅA REAĢĒŠANAS NODAĻAS 7.GRUPA | C29: vecākais inspektors | D29: 1355 | E29: =ROUND(D29/$E$4,3) -> 8.146 | F29: 46.5 | G29: 757.58 | H29: =ROUND(G29*0.2359,2)-0.01 -> 178.7 | I29: =G29+H29 -> 936.28
A30: =A29+1 -> 24 | B30: VP LATGALES RP DIENVIDLATGALES IECIRKŅA REAĢĒŠANAS NODAĻAS 6.GRUPA | C30: jaunākais inspektors | D30: 1140 | E30: =ROUND(D30/$E$4,3) -> 6.854 | F30: 238.5 | G30: 3269.36 | H30: =ROUND(G30*0.2359,2) -> 771.24 | I30: =G30+H30 -> 4040.6
A31: =A30+1 -> 25 | B31: VP LATGALES RP ZIEMEĻLATGALES IECIRKŅA IZMEKLĒŠANAS NODAĻAS 2.GRUPA | C31: galvenais inspektors | D31: 2040 | E31: =ROUND(D31/$E$4,3) -> 12.265 | F31: 152 | G31: 3728.56 | H31: =ROUND(G31*0.2359,2) -> 879.57 | I31: =G31+H31 -> 4608.13
A32: =A31+1 -> 26 | B32: VP LATGALES RP DIENVIDLATGALES IECIRKŅA IZMEKLĒŠANAS NODAĻAS 2.GRUPA | C32: galvenais inspektors | D32: 1525 | E32: =ROUND(D32/$E$4,3) -> 9.169 | F32: 131 | G32: 2402.28 | H32: =ROUND(G32*0.2359,2) -> 566.7 | I32: =G32+H32 -> 2968.98
A33: =A32+1 -> 27 | B33: VP LATGALES RP ZIEMEĻLATGALES IECIRKŅA REAĢĒŠANAS NODAĻAS 10.GRUPA | C33: inspektors | D33: 1337 | E33: =ROUND(D33/$E$4,3) -> 8.038 | F33: 176.5 | G33: 2837.41 | H33: =ROUND(G33*0.2359,2) -> 669.35 | I33: =G33+H33 -> 3506.76
A34: =A33+1 -> 28 | B34: VP GKĀRTPP RKVP SPECIĀLO UZDEVUMU BATALJONA 3.ROTA | C34: jaunākais inspektors | D34: 1303 | E34: =ROUND(D34/$E$4,3) -> 7.834 | F34: 118 | G34: 1848.82 | H34: =ROUND(G34*0.2359,2) -> 436.14 | I34: =G34+H34 -> 2284.96
A35: =A34+1 -> 29 | B35: VP LATGALES RP DIENVIDLATGALES IECIRKŅA REAĢĒŠANAS NODAĻAS 2.GRUPA | C35: vecākais inspektors | D35: 1381 | E35: =ROUND(D35/$E$4,3) -> 8.303 | F35: 273 | G35: 4533.44 | H35: =ROUND(G35*0.2359,2) -> 1069.44 | I35: =G35+H35 -> 5602.88
A36: =A35+1 -> 30 | B36: VP ZEMGALES RP AUSTRUMZEMGALES IECIRKŅA REAĢĒŠANAS NODAĻAS 2.GRUPA | C36: jaunākais inspektors | D36: 1140 | E36: =ROUND(D36/$E$4,3) -> 6.854 | F36: 23 | G36: 315.28 | H36: =ROUND(G36*0.2359,2) -> 74.37 | I36: =G36+H36 -> 389.65
A37: =A36+1 -> 31 | B37: VP LATGALES RP DIENVIDLATGALES IECIRKŅA IZMEKLĒŠANAS NODAĻAS 1.GRUPA | C37: galvenais inspektors | D37: 1872 | E37: =ROUND(D37/$E$4,3) -> 11.255 | F37: 191 | G37: 4299.41 | H37: =ROUND(G37*0.2359,2) -> 1014.23 | I37: =G37+H37 -> 5313.64
A38: =A37+1 -> 32 | B38: VP ZEMGALES RP AUSTRUMZEMGALES IECIRKŅA IZMEKLĒŠANAS NODAĻAS 3.GRUPA | C38: vecākais inspektors | D38: 1517 | E38: =ROUND(D38/$E$4,3) -> 9.12 | F38: 59 | G38: 1076.16 | H38: =ROUND(G38*0.2359,2) -> 253.87 | I38: =G38+H38 -> 1330.03
A39: =A38+1 -> 33 | B39: VP LATGALES RP DIENVIDLATGALES IECIRKŅA IZMEKLĒŠANAS NODAĻAS 6.GRUPA | C39: galvenais inspektors | D39: 1448 | E39: =ROUND(D39/$E$4,3) -> 8.706 | F39: 231.5 | G39: 4030.88 | H39: =ROUND(G39*0.2359,2) -> 950.88 | I39: =G39+H39 -> 4981.76
A40: =A39+1 -> 34 | B40: VP LATGALES RP DIENVIDLATGALES IECIRKŅA IZMEKLĒŠANAS NODAĻAS 6.GRUPA | C40: vecākais inspektors | D40: 1361 | E40: =ROUND(D40/$E$4,3) -> 8.183 | F40: 178 | G40: 2913.15 | H40: =ROUND(G40*0.2359,2) -> 687.21 | I40: =G40+H40 -> 3600.36
A41: =A40+1 -> 35 | B41: VP LATGALES RP ZIEMEĻLATGALES IECIRKŅA IZMEKLĒŠANAS NODAĻAS 4.GRUPA | C41: inspektors | D41: 1583 | E41: =ROUND(D41/$E$4,3) -> 9.517 | F41: 224 | G41: 4263.62 | H41: =ROUND(G41*0.2359,2) -> 1005.79 | I41: =G41+H41 -> 5269.41
A42: =A41+1 -> 36 | B42: VP LATGALES RP ZIEMEĻLATGALES IECIRKŅA REAĢĒŠANAS NODAĻAS 3.GRUPA | C42: inspektors | D42: 1401 | E42: =ROUND(D42/$E$4,3) -> 8.423 | F42: 219 | G42: 3689.27 | H42: =ROUND(G42*0.2359,2) -> 870.3 | I42: =G42+H42 -> 4559.57
A43: =A42+1 -> 37 | B43: VP LATGALES RP DIENVIDLATGALES IECIRKŅA IZMEKLĒŠANAS NODAĻAS 8.GRUPA | C43: inspektors | D43: 1362 | E43: =ROUND(D43/$E$4,3) -> 8.189 | F43: 58 | G43: 949.92 | H43: =ROUND(G43*0.2359,2)-0.01 -> 224.08 | I43: =G43+H43 -> 1174
A44: =A43+1 -> 38 | B44: VP LATGALES RP KĀRTPB ATĻAUJU SISTĒMAS GRUPA | C44: vecākais inspektors | D44: 1240 | E44: =ROUND(D44/$E$4,3) -> 7.455 | F44: 188 | G44: 2803.08 | H44: =ROUND(G44*0.2359,2) -> 661.25 | I44: =G44+H44 -> 3464.33
A45: =A44+1 -> 39 | B45: VP LATGALES RP DIENVIDLATGALES IECIRKŅA REAĢĒŠANAS NODAĻAS 1.GRUPA | C45: inspektors | D45: 1337 | E45: =ROUND(D45/$E$4,3) -> 8.038 | F45: 113 | G45: 1816.59 | H45: =ROUND(G45*0.2359,2) -> 428.53 | I45: =G45+H45 -> 2245.12
A46: =A45+1 -> 40 | B46: VP ZEMGALES RP AUSTRUMZEMGALES IECIRKŅA REAĢĒŠANAS NODAĻAS 4.GRUPA | C46: jaunākais inspektors | D46: 1120 | E46: =ROUND(D46/$E$4,3) -> 6.734 | F46: 46 | G46: 619.53 | H46: =ROUND(G46*0.2359,2)-0.01 -> 146.14 | I46: =G46+H46 -> 765.67
A47: =A46+1 -> 41 | B47: VP GKĀRTPP RKVP SPECIĀLO UZDEVUMU BATALJONA 1.ROTA | C47: jaunākais inspektors | D47: 1303 | E47: =ROUND(D47/$E$4,3) -> 7.834 | F47: 278.5 | G47: 4363.54 | H47: =ROUND(G47*0.2359,2) -> 1029.36 | I47: =G47+H47 -> 5392.9
A48: =A47+1 -> 42 | B48: VP LATGALES RP ZIEMEĻLATGALES IECIRKŅA IZMEKLĒŠANAS NODAĻAS 3.GRUPA | C48: inspektors | D48: 1443 | E48: =ROUND(D48/$E$4,3) -> 8.676 | F48: 129 | G48: 2238.41 | H48: =ROUND(G48*0.2359,2) -> 528.04 | I48: =G48+H48 -> 2766.45
A49: =A48+1 -> 43 | B49: VP LATGALES REĢIONA PĀRVALDES DISCIPLINĀRĀS UZRAUDZĪBAS GRUPA | C49: galvenais inspektors | D49: 1565 | E49: =ROUND(D49/$E$4,3) -> 9.409 | F49: 86 | G49: 1618.35 | H49: =ROUND(G49*0.2359,2) -> 381.77 | I49: =G49+H49 -> 2000.12
A50: =A49+1 -> 44 | B50: VP LATGALES RP KĀRTPB RESURSU UN KRĪZES VADĪBAS NODAĻA | C50: nodaļas priekšnieks | D50: 1474 | E50: =ROUND(D50/$E$4,3) -> 8.862 | F50: 129.5 | G50: 2295.26 | H50: =ROUND(G50*0.2359,2) -> 541.45 | I50: =G50+H50 -> 2836.71
A51: =A50+1 -> 45 | B51: VP GKĀRTPP RKVP SPECIĀLO UZDEVUMU BATALJONA 2.ROTA | C51: jaunākais inspektors | D51: 1303 | E51: =ROUND(D51/$E$4,3) -> 7.834 | F51: 36 | G51: 564.05 | H51: =ROUND(G51*0.2359,2) -> 133.06 | I51: =G51+H51 -> 697.11
A52: =A51+1 -> 46 | B52: VP LATGALES RP KĀRTPB ATĻAUJU SISTĒMAS GRUPA | C52: inspektors | D52: 1176 | E52: =ROUND(D52/$E$4,3) -> 7.07 | F52: 236 | G52: 3337.04 | H52: =ROUND(G52*0.2359,2) -> 787.21 | I52: =G52+H52 -> 4124.25
A53: =A52+1 -> 47 | B53: VP LATGALES RP DIENVIDLATGALES IECIRKŅA REAĢĒŠANAS NODAĻAS 4.GRUPA | C53: jaunākais inspektors | D53: 1140 | E53: =ROUND(D53/$E$4,3) -> 6.854 | F53: 199 | G53: 2727.89 | H53: =ROUND(G53*0.2359,2) -> 643.51 | I53: =G53+H53 -> 3371.4
A54: =A53+1 -> 48 | B54: VP LATGALES RP ZIEMEĻLATGALES IECIRKŅA IZMEKLĒŠANAS NODAĻAS 5.GRUPA | C54: vecākais inspektors | D54: 1517 | E54: =ROUND(D54/$E$4,3) -> 9.12 | F54: 155 | G54: 2827.2 | H54: =ROUND(G54*0.2359,2) -> 666.94 | I54: =G54+H54 -> 3494.14
A55: =A54+1 -> 49 | B55: VP LATGALES RP ZIEMEĻLATGALES IECIRKŅA REAĢĒŠANAS NODAĻAS 9.GRUPA | C55: inspektors | D55: 1337 | E55: =ROUND(D55/$E$4,3) -> 8.038 | F55: 100 | G55: 1607.6 | H55: =ROUND(G55*0.2359,2) -> 379.23 | I55: =G55+H55 -> 1986.83
A56: =A55+1 -> 50 | B56: VP LATGALES RP DIENVIDLATGALES IECIRKŅA IZMEKLĒŠANAS NODAĻAS 8.GRUPA | C56: inspektors | D56: 1337 | E56: =ROUND(D56/$E$4,3) -> 8.038 | F56: 120 | G56: 1929.12 | H56: =ROUND(G56*0.2359,2)-0.01 -> 455.07 | I56: =G56+H56 -> 2384.19
A57: =A56+1 -> 51 | B57: VP LATGALES RP DIENVIDLATGALES IECIRKŅA REAĢĒŠANAS NODAĻAS 10.GRUPA | C57: inspektors | D57: 1337 | E57: =ROUND(D57/$E$4,3) -> 8.038 | F57: 127 | G57: 2041.65 | H57: =ROUND(G57*0.2359,2) -> 481.63 | I57: =G57+H57 -> 2523.28
A58: =A57+1 -> 52 | B58: VP LATGALES RP KRIMPB ORGANIZĒTĀS NOZIEDZĪBAS SMAGO UN SĒRIJVEIDA NOZIEGUMU APKAROŠANAS NODAĻA | C58: vecākais inspektors | D58: 1545 | E58: =ROUND(D58/$E$4,3) -> 9.289 | F58: 88 | G58: 1634.86 | H58: =ROUND(G58*0.2359,2) -> 385.66 | I58: =G58+H58 -> 2020.52
A59: =A58+1 -> 53 | B59: VP LATGALES RP ZIEMEĻLATGALES IECIRKŅA REAĢĒŠANAS NODAĻAS 6.GRUPA | C59: vecākais inspektors | D59: 1431 | E59: =ROUND(D59/$E$4,3) -> 8.603 | F59: 279 | G59: 4800.47 | H59: =ROUND(G59*0.2359,2)-0.01 -> 1132.42 | I59: =G59+H59 -> 5932.89
A60: =A59+1 -> 54 | B60: VP GKĀRTPP RKVP SPECIĀLO UZDEVUMU BATALJONA 6.ROTA (ZEMGALES REĢIONA) | C60: rotas komandiera vietnieks | D60: 1449 | E60: =ROUND(D60/$E$4,3) -> 8.712 | F60: 113.5 | G60: 1977.62 | H60: =ROUND(G60*0.2359,2) -> 466.52 | I60: =G60+H60 -> 2444.14
A61: =A60+1 -> 55 | B61: VP ZEMGALES RP AUSTRUMZEMGALES IECIRKŅA IZMEKLĒŠANAS NODAĻAS 3.GRUPA | C61: vecākais inspektors | D61: 1490 | E61: =ROUND(D61/$E$4,3) -> 8.958 | F61: 45.5 | G61: 815.18 | H61: =ROUND(G61*0.2359,2) -> 192.3 | I61: =G61+H61 -> 1007.48
A62: =A61+1 -> 56 | B62: VP LATGALES RP ZIEMEĻLATGALES IECIRKŅA IZMEKLĒŠANAS NODAĻAS 8.GRUPA | C62: vecākais inspektors | D62: 1355 | E62: =ROUND(D62/$E$4,3) -> 8.146 | F62: 40.5 | G62: 659.83 | H62: =ROUND(G62*0.2359,2) -> 155.65 | I62: =G62+H62 -> 815.48
A63: =A62+1 -> 57 | B63: VP LATGALES RP ZIEMEĻLATGALES IECIRKŅA REAĢĒŠANAS NODAĻAS 5.GRUPA | C63: inspektors | D63: 1337 | E63: =ROUND(D63/$E$4,3) -> 8.038 | F63: 214 | G63: 3440.26 | H63: =ROUND(G63*0.2359,2) -> 811.56 | I63: =G63+H63 -> 4251.82
A64: =A63+1 -> 58 | B64: VP LATGALES RP ZIEMEĻLATGALES IECIRKŅA REAĢĒŠANAS NODAĻAS 6.GRUPA | C64: galvenais inspektors | D64: 1474 | E64: =ROUND(D64/$E$4,3) -> 8.862 | F64: 220.75 | G64: 3912.57 | H64: =ROUND(G64*0.2359,2) -> 922.98 | I64: =G64+H64 -> 4835.55
A65: =A64+1 -> 59 | B65: VP LATGALES RP DIENVIDLATGALES IECIRKŅA IZMEKLĒŠANAS NODAĻAS 6.GRUPA | C65: inspektors | D65: 1337 | E65: =ROUND(D65/$E$4,3) -> 8.038 | F65: 103.5 | G65: 1663.87 | H65: =ROUND(G65*0.2359,2) -> 392.51 | I65: =G65+H65 -> 2056.38
A66: =A65+1 -> 60 | B66: VP LATGALES RP ZIEMEĻLATGALES IECIRKŅA IZMEKLĒŠANAS NODAĻAS 10.GRUPA | C66: vecākais inspektors | D66: 1355 | E66: =ROUND(D66/$E$4,3) -> 8.146 | F66: 14 | G66: 228.09 | H66: =ROUND(G66*0.2359,2) -> 53.81 | I66: =G66+H66 -> 281.9
A67: =A66+1 -> 61 | B67: VP LATGALES RP ZIEMEĻLATGALES IECIRKŅA REAĢĒŠANAS NODAĻAS 8.GRUPA | C67: inspektors | D67: 1337 | E67: =ROUND(D67/$E$4,3) -> 8.038 | F67: 225 | G67: 3617.1 | H67: =ROUND(G67*0.2359,2) -> 853.27 | I67: =G67+H67 -> 4470.37
A68: =A67+1 -> 62 | B68: VP ZEMGALES RP AUSTRUMZEMGALES IECIRKŅA REAĢĒŠANAS NODAĻAS 2.GRUPA | C68: vecākais inspektors | D68: 1335 | E68: =ROUND(D68/$E$4,3) -> 8.026 | F68: 23 | G68: 369.2 | H68: =ROUND(G68*0.2359,2) -> 87.09 | I68: =G68+H68 -> 456.29
A69: =A68+1 -> 63 | B69: VP LATGALES RP ZIEMEĻLATGALES IECIRKŅA REAĢĒŠANAS NODAĻAS 4.GRUPA | C69: jaunākais inspektors | D69: 1302 | E69: =ROUND(D69/$E$4,3) -> 7.828 | F69: 206 | G69: 3225.14 | H69: =ROUND(G69*0.2359,2) -> 760.81 | I69: =G69+H69 -> 3985.95
A70: =A69+1 -> 64 | B70: VP LATGALES RP ZIEMEĻLATGALES IECIRKŅA REAĢĒŠANAS NODAĻAS 6.GRUPA | C70: jaunākais inspektors | D70: 1140 | E70: =ROUND(D70/$E$4,3) -> 6.854 | F70: 264.5 | G70: 3625.77 | H70: =ROUND(G70*0.2359,2) -> 855.32 | I70: =G70+H70 -> 4481.09
A71: =A70+1 -> 65 | B71: VP LATGALES RP ZIEMEĻLATGALES IECIRKŅA IZMEKLĒŠANAS NODAĻAS 6.GRUPA | C71: inspektors | D71: 1463 | E71: =ROUND(D71/$E$4,3) -> 8.796 | F71: 138.25 | G71: 2432.09 | H71: =ROUND(G71*0.2359,2) -> 573.73 | I71: =G71+H71 -> 3005.82
... A75: =A74+1 -> 69 | B75: VP LATGALES RP DIENVIDLATGALES IECIRKŅA PREVENCIJAS GRUPA | C75: vecākais inspektors | D75: 1381 | E75: =ROUND(D75/$E$4,3) -> 8.303 | F75: 250 | G75: 4151.5 | H75: =ROUND(G75*0.2359,2) -> 979.34 | I75: =G75+H75 -> 5130.84
A76: =A75+1 -> 70 | B76: VP LATGALES RP KĀRTPB RESURSU UN KRĪZES VADĪBAS NODAĻA | C76: nodaļas priekšnieka vietnieks | D76: 1386 | E76: =ROUND(D76/$E$4,3) -> 8.333 | F76: 158 | G76: 2633.23 | H76: =ROUND(G76*0.2359,2)-0.01 -> 621.17 | I76: =G76+H76 -> 3254.4
A77: =A76+1 -> 71 | B77: VP LATGALES RP KĀRTPB PREVENCIJAS GRUPA | C77: galvenais inspektors | D77: 1614 | E77: =ROUND(D77/$E$4,3) -> 9.704 | F77: 98 | G77: 1901.98 | H77: =ROUND(G77*0.2359,2) -> 448.68 | I77: =G77+H77 -> 2350.66
A78: =A77+1 -> 72 | B78: VP LATGALES RP DIENVIDLATGALES IECIRKŅA PREVENCIJAS GRUPA | C78: vecākais inspektors | D78: 1355 | E78: =ROUND(D78/$E$4,3) -> 8.146 | F78: 217 | G78: 3535.36 | H78: =ROUND(G78*0.2359,2) -> 833.99 | I78: =G78+H78 -> 4369.35
A79: =A78+1 -> 73 | B79: VP LATGALES RP DIENVIDLATGALES IECIRKŅA IZMEKLĒŠANAS NODAĻAS 1.GRUPA | C79: inspektors | D79: 1443 | E79: =ROUND(D79/$E$4,3) -> 8.676 | F79: 117.5 | G79: 2038.86 | H79: =ROUND(G79*0.2359,2)-0.01 -> 480.96 | I79: =G79+H79 -> 2519.82
A80: =A79+1 -> 74 | B80: VP LATGALES RP DIENVIDLATGALES IECIRKŅA REAĢĒŠANAS NODAĻAS 10.GRUPA | C80: vecākais inspektors | D80: 1335 | E80: =ROUND(D80/$E$4,3) -> 8.026 | F80: 182 | G80: 2921.46 | H80: =ROUND(G80*0.2359,2) -> 689.17 | I80: =G80+H80 -> 3610.63
A81: =A80+1 -> 75 | B81: VP LATGALES RP DIENVIDLATGALES IECIRKŅA IZMEKLĒŠANAS NODAĻAS 9.GRUPA | C81: vecākais inspektors | D81: 1381 | E81: =ROUND(D81/$E$4,3) -> 8.303 | F81: 166 | G81: 2756.6 | H81: =ROUND(G81*0.2359,2) -> 650.28 | I81: =G81+H81 -> 3406.88
A82: =A81+1 -> 76 | B82: VP GKĀRTPP RKVP SPECIĀLO UZDEVUMU BATALJONA 1.ROTA | C82: rotas komandiera vietnieks | D82: 1541 | E82: =ROUND(D82/$E$4,3) -> 9.265 | F82: 118 | G82: 2186.54 | H82: =ROUND(G82*0.2359,2) -> 515.8 | I82: =G82+H82 -> 2702.34
A83: =A82+1 -> 77 | B83: VP LATGALES RP DIENVIDLATGALES IECIRKŅA REAĢĒŠANAS NODAĻAS 10.GRUPA | C83: inspektors | D83: 1362 | E83: =ROUND(D83/$E$4,3) -> 8.189 | F83: 98 | G83: 1605.04 | H83: =ROUND(G83*0.2359,2) -> 378.63 | I83: =G83+H83 -> 1983.67
A84: =A83+1 -> 78 | B84: VP LATGALES RP DIENVIDLATGALES IECIRKŅA IZMEKLĒŠANAS NODAĻAS 8.GRUPA | C84: vecākais inspektors | D84: 1335 | E84: =ROUND(D84/$E$4,3) -> 8.026 | F84: 209 | G84: 3354.87 | H84: =ROUND(G84*0.2359,2) -> 791.41 | I84: =G84+H84 -> 4146.28
A85: =A84+1 -> 79 | B85: VP LATGALES RP ZIEMEĻLATGALES IECIRKŅA REAĢĒŠANAS NODAĻAS 1.GRUPA | C85: vecākais inspektors | D85: 1355 | E85: =ROUND(D85/$E$4,3) -> 8.146 | F85: 263.5 | G85: 4292.94 | H85: =ROUND(G85*0.2359,2) -> 1012.7 | I85: =G85+H85 -> 5305.64
A86: =A85+1 -> 80 | B86: VP ZEMGALES RP AUSTRUMZEMGALES IECIRKŅA REAĢĒŠANAS NODAĻAS 3.GRUPA | C86: vecākais inspektors | D86: 1335 | E86: =ROUND(D86/$E$4,3) -> 8.026 | F86: 46 | G86: 738.39 | H86: =ROUND(G86*0.2359,2) -> 174.19 | I86: =G86+H86 -> 912.58
A87: =A86+1 -> 81 | B87: VP ZEMGALES RP AUSTRUMZEMGALES IECIRKŅA REAĢĒŠANAS NODAĻAS 2.GRUPA | C87: vecākais inspektors | D87: 1355 | E87: =ROUND(D87/$E$4,3) -> 8.146 | F87: 46 | G87: 749.43 | H87: =ROUND(G87*0.2359,2) -> 176.79 | I87: =G87+H87 -> 926.22
A88: =A87+1 -> 82 | B88: VP LATGALES RP KRIMPB ORGANIZĒTĀS NOZIEDZĪBAS SMAGO UN SĒRIJVEIDA NOZIEGUMU APKAROŠANAS NODAĻA | C88: vecākais inspektors | D88: 1565 | E88: =ROUND(D88/$E$4,3) -> 9.409 | F88: 101 | G88: 1900.62 | H88: =ROUND(G88*0.2359,2) -> 448.36 | I88: =G88+H88 -> 2348.98
A89: =A88+1 -> 83 | B89: VP LATGALES RP ZIEMEĻLATGALES IECIRKNIS | C89: iecirkņa priekšnieka vietnieks, Izmeklēšanas nodaļas priekšnieks | D89: 2004 | E89: =ROUND(D89/$E$4,3) -> 12.048 | F89: 164.25 | G89: 3957.77 | H89: =ROUND(G89*0.2359,2) -> 933.64 | I89: =G89+H89 -> 4891.41
A90: =A89+1 -> 84 | B90: VP LATGALES RP ZIEMEĻLATGALES IECIRKŅA REAĢĒŠANAS NODAĻAS 8.GRUPA | C90: vecākais inspektors | D90: 1381 | E90: =ROUND(D90/$E$4,3) -> 8.303 | F90: 169 | G90: 2806.41 | H90: =ROUND(G90*0.2359,2) -> 662.03 | I90: =G90+H90 -> 3468.44
A91: =A90+1 -> 85 | B91: VP LATGALES RP ZIEMEĻLATGALES IECIRKŅA REAĢĒŠANAS NODAĻAS 1.GRUPA | C91: galvenais inspektors | D91: 1474 | E91: =ROUND(D91/$E$4,3) -> 8.862 | F91: 218 | G91: 3863.83 | H91: =ROUND(G91*0.2359,2) -> 911.48 | I91: =G91+H91 -> 4775.31
... A94: =A93+1 -> 88 | B94: VP LATGALES RP ZIEMEĻLATGALES IECIRKŅA REAĢĒŠANAS NODAĻAS 1.GRUPA | C94: vecākais inspektors | D94: 1335 | E94: =ROUND(D94/$E$4,3) -> 8.026 | F94: 280.5 | G94: 4502.59 | H94: =ROUND(G94*0.2359,2) -> 1062.16 | I94: =G94+H94 -> 5564.75
A95: =A94+1 -> 89 | B95: VP LATGALES RP DIENVIDLATGALES IECIRKŅA REAĢĒŠANAS NODAĻAS 3.GRUPA | C95: vecākais inspektors | D95: 1355 | E95: =ROUND(D95/$E$4,3) -> 8.146 | F95: 149 | G95: 2427.51 | H95: =ROUND(G95*0.2359,2)-0.01 -> 572.64 | I95: =G95+H95 -> 3000.15
A96: =A95+1 -> 90 | B96: VP GKĀRTPP RKVP SPECIĀLO UZDEVUMU BATALJONA 4.ROTA (LATGALES REĢIONA) | C96: jaunākais inspektors | D96: 1225 | E96: =ROUND(D96/$E$4,3) -> 7.365 | F96: 97.5 | G96: 1436.18 | H96: =ROUND(G96*0.2359,2) -> 338.79 | I96: =G96+H96 -> 1774.97
A97: =A96+1 -> 91 | B97: VP LATGALES RP ZIEMEĻLATGALES IECIRKŅA IZMEKLĒŠANAS NODAĻAS 9.GRUPA | C97: galvenais inspektors | D97: 1463 | E97: =ROUND(D97/$E$4,3) -> 8.796 | F97: 148 | G97: 2603.62 | H97: =ROUND(G97*0.2359,2) -> 614.19 | I97: =G97+H97 -> 3217.81
A98: =A97+1 -> 92 | B98: VP LATGALES RP KRIMPB RĒZEKNES REĢIONĀLĀ NODAĻA | C98: vecākais inspektors | D98: 1565 | E98: =ROUND(D98/$E$4,3) -> 9.409 | F98: 105 | G98: 1975.89 | H98: =ROUND(G98*0.2359,2) -> 466.11 | I98: =G98+H98 -> 2442
A99: =A98+1 -> 93 | B99: VP LATGALES RP ZIEMEĻLATGALES IECIRKŅA REAĢĒŠANAS NODAĻAS 6.GRUPA | C99: vecākais inspektors | D99: 1381 | E99: =ROUND(D99/$E$4,3) -> 8.303 | F99: 174.5 | G99: 2897.75 | H99: =ROUND(G99*0.2359,2) -> 683.58 | I99: =G99+H99 -> 3581.33
A100: =A99+1 -> 94 | B100: VP LATGALES RP DIENVIDLATGALES IECIRKŅA REAĢĒŠANAS NODAĻAS 10.GRUPA | C100: inspektors | D100: 1317 | E100: =ROUND(D100/$E$4,3) -> 7.918 | F100: 126 | G100: 1995.34 | H100: =ROUND(G100*0.2359,2) -> 470.7 | I100: =G100+H100 -> 2466.04
A101: =A100+1 -> 95 | B101: VP GKĀRTPP RKVP SPECIĀLO UZDEVUMU BATALJONA 4.ROTA (LATGALES REĢIONA) | C101: jaunākais inspektors | D101: 1225 | E101: =ROUND(D101/$E$4,3) -> 7.365 | F101: 62 | G101: 913.26 | H101: =ROUND(G101*0.2359,2)-0.01 -> 215.43 | I101: =G101+H101 -> 1128.69
A102: =A101+1 -> 96 | B102: VP GKĀRTPP RKVP SPECIĀLO UZDEVUMU BATALJONA 4.ROTA (LATGALES REĢIONA) | C102: rotas komandieris | D102: 1539 | E102: =ROUND(D102/$E$4,3) -> 9.253 | F102: 119 | G102: 2202.21 | H102: =ROUND(G102*0.2359,2) -> 519.5 | I102: =G102+H102 -> 2721.71
A103: =A102+1 -> 97 | B103: VP LATGALES RP ZIEMEĻLATGALES IECIRKŅA IZMEKLĒŠANAS NODAĻAS 1.GRUPA | C103: inspektors | D103: 1557 | E103: =ROUND(D103/$E$4,3) -> 9.361 | F103: 158.5 | G103: 2967.44 | H103: =ROUND(G103*0.2359,2) -> 700.02 | I103: =G103+H103 -> 3667.46
A104: =A103+1 -> 98 | B104: VP LATGALES RP SLEPENĪBAS REŽĪMA NODROŠINĀŠANAS UN SEVIŠĶĀS LIETVEDĪBAS GRUPA | C104: vecākais inspektors | D104: 1309 | E104: =ROUND(D104/$E$4,3) -> 7.87 | F104: 107 | G104: 1684.18 | H104: =ROUND(G104*0.2359,2) -> 397.3 | I104: =G104+H104 -> 2081.48
A105: =A104+1 -> 99 | B105: VP GKĀRTPP RKVP SPECIĀLO UZDEVUMU BATALJONA 2.ROTA | C105: jaunākais inspektors | D105: 1303 | E105: =ROUND(D105/$E$4,3) -> 7.834 | F105: 124 | G105: 1942.83 | H105: =ROUND(G105*0.2359,2) -> 458.31 | I105: =G105+H105 -> 2401.14
...

Sheet 3.tabula
I1: 3.tabula
A2: Valsts policija
A3: Detalizēts aprēķins piemaksai par darbu svētku dienās amatpersonām ar speciālo dienesta pakāpi, sniedzot atbalstu Valsts robežsardzei Latvijas Republikas-Baltkrievijas Republikas valsts robežas nelikumīgas šķērsošanas nodrošināšanā, par laika periodu no 2023.gada 1. decembra līdz 31. decembrim (par 24.12., 25.12., 26.12., 31.12.)
E4: 166.33
A5: Nr. p.k. | B5: Struktūrvienība | C5: Amats | D5: Mēnešalga amatpersonām ar speciālajām pakāpēm | E5: Stundas likme | F5: Stundu skaits | G5: Piemaksa par darbu svētku dienās | H5: DD VSAOI | I5: Atlīdzība
A6: kopā | F6: =SUM(F7:F74) -> 855.5 | G6: =SUM(G7:G74) -> 7561.9 | H6: =SUM(H7:H74) -> 1783.84 | I6: =SUM(I7:I74) -> 9345.74
A7: 1 | B7: VP LATGALES RP ZIEMEĻLATGALES IECIRKNIS | C7: iecirkņa priekšnieka vietnieks, Reaģēšanas nodaļas priekšnieks | D7: 2040 | E7: =ROUND(D7/$E$4,3) -> 12.265 | F7: 14 | G7: 171.71 | H7: =ROUND(G7*0.2359,2) -> 40.51 | I7: =G7+H7 -> 212.22
A8: =A7+1 -> 2 | B8: VP LATGALES RP KĀRTPB ATĻAUJU SISTĒMAS GRUPA | C8: inspektors | D8: 1196 | E8: =ROUND(D8/$E$4,3) -> 7.191 | F8: 5.5 | G8: 39.55 | H8: =ROUND(G8*0.2359,2) -> 9.33 | I8: =G8+H8 -> 48.88
A9: =A8+1 -> 3 | B9: VP LATGALES RP ZIEMEĻLATGALES IECIRKŅA IZMEKLĒŠANAS NODAĻAS 3.GRUPA | C9: inspektors | D9: 1443 | E9: =ROUND(D9/$E$4,3) -> 8.676 | F9: 4 | G9: 34.7 | H9: =ROUND(G9*0.2359,2) -> 8.19 | I9: =G9+H9 -> 42.89
A10: =A9+1 -> 4 | B10: VP LATGALES RP KĀRTPB ATĻAUJU SISTĒMAS GRUPA | C10: inspektors | D10: 1176 | E10: =ROUND(D10/$E$4,3) -> 7.07 | F10: 5.5 | G10: 38.89 | H10: =ROUND(G10*0.2359,2) -> 9.17 | I10: =G10+H10 -> 48.06
A11: =A10+1 -> 5 | B11: VP LATGALES RP KRIMPB ORGANIZĒTĀS NOZIEDZĪBAS SMAGO UN SĒRIJVEIDA NOZIEGUMU APKAROŠANAS NODAĻA | C11: vecākais inspektors | D11: 1545 | E11: =ROUND(D11/$E$4,3) -> 9.289 | F11: 9 | G11: 83.6 | H11: =ROUND(G11*0.2359,2) -> 19.72 | I11: =G11+H11 -> 103.32
A12: =A11+1 -> 6 | B12: VP LATGALES RP ZIEMEĻLATGALES IECIRKŅA REAĢĒŠANAS NODAĻAS 5.GRUPA | C12: inspektors | D12: 1337 | E12: =ROUND(D12/$E$4,3) -> 8.038 | F12: 14.5 | G12: 116.55 | H12: =ROUND(G12*0.2359,2) -> 27.49 | I12: =G12+H12 -> 144.04
A13: =A12+1 -> 7 | B13: VP LATGALES RP ZIEMEĻLATGALES IECIRKŅA REAĢĒŠANAS NODAĻAS 6.GRUPA | C13: galvenais inspektors | D13: 1474 | E13: =ROUND(D13/$E$4,3) -> 8.862 | F13: 14 | G13: 124.07 | H13: =ROUND(G13*0.2359,2) -> 29.27 | I13: =G13+H13 -> 153.34
A14: =A13+1 -> 8 | B14: VP LATGALES RP KĀRTPB RESURSU UN KRĪZES VADĪBAS NODAĻA | C14: nodaļas priekšnieka vietnieks | D14: 1386 | E14: =ROUND(D14/$E$4,3) -> 8.333 | F14: 12 | G14: 100 | H14: =ROUND(G14*0.2359,2) -> 23.59 | I14: =G14+H14 -> 123.59
A15: =A14+1 -> 9 | B15: VP LATGALES RP DIENVIDLATGALES IECIRKŅA IZMEKLĒŠANAS NODAĻAS 8.GRUPA | C15: vecākais inspektors | D15: 1335 | E15: =ROUND(D15/$E$4,3) -> 8.026 | F15: 4.5 | G15: 36.12 | H15: =ROUND(G15*0.2359,2) -> 8.52 | I15: =G15+H15 -> 44.64
A16: =A15+1 -> 10 | B16: VP LATGALES RP KRIMPB ORGANIZĒTĀS NOZIEDZĪBAS SMAGO UN SĒRIJVEIDA NOZIEGUMU APKAROŠANAS NODAĻA | C16: vecākais inspektors | D16: 1565 | E16: =ROUND(D16/$E$4,3) -> 9.409 | F16: 9 | G16: 84.68 | H16: =ROUND(G16*0.2359,2) -> 19.98 | I16: =G16+H16 -> 104.66
A17: =A16+1 -> 11 | B17: VP LATGALES RP ZIEMEĻLATGALES IECIRKŅA IZMEKLĒŠANAS NODAĻAS 9.GRUPA | C17: galvenais inspektors | D17: 1463 | E17: =ROUND(D17/$E$4,3) -> 8.796 | F17: 26.25 | G17: 230.9 | H17: =ROUND(G17*0.2359,2) -> 54.47 | I17: =G17+H17 -> 285.37
A18: =A17+1 -> 12 | B18: VP LATGALES RP ZIEMEĻLATGALES IECIRKŅA REAĢĒŠANAS NODAĻAS 6.GRUPA | C18: vecākais inspektors | D18: 1381 | E18: =ROUND(D18/$E$4,3) -> 8.303 | F18: 14.5 | G18: 120.39 | H18: =ROUND(G18*0.2359,2) -> 28.4 | I18: =G18+H18 -> 148.79
A19: =A18+1 -> 13 | B19: VP LATGALES RP ZIEMEĻLATGALES IECIRKŅA IZMEKLĒŠANAS NODAĻAS 1.GRUPA | C19: inspektors | D19: 1463 | E19: =ROUND(D19/$E$4,3) -> 8.796 | F19: 11 | G19: 96.76 | H19: =ROUND(G19*0.2359,2) -> 22.83 | I19: =G19+H19 -> 119.59
... A74: =A73+1 -> 68 | B74: VP LATGALES RP ZIEMEĻLATGALES IECIRKŅA REAĢĒŠANAS NODAĻAS 6.GRUPA | C74: jaunākais inspektors | D74: 1060 | E74: =ROUND(D74/$E$4,3) -> 6.373 | F74: 14 | G74: 89.22 | H74: =ROUND(G74*0.2359,2) -> 21.05 | I74: =G74+H74 -> 110.27

Sheet 4.tabula
J1: 4.tabula
A2: Valsts policija
A3: Piemaksa par darbu paaugstināta riska un slodzes apstākļos amatpersonām ar speciālajām dienesta pakāpēm, kuras laika periodā no 2023.gada 1. decembra līdz 31. decembrim tika iesaistītas atbalsta sniegšanā Valsts robežsardzei Latvijas Republikas-Baltkrievijas Republikas valsts robežas robežuzraudzības nodrošināšanā
F4: 166.33
A5: Nr. p.k. | B5: Struktūrvienība | C5: Amats | D5: Mēnešalga amatpersonām ar speciālajām pakāpēm | E5: Piemaksas apmērs % | F5: Stundas likme | G5: Stundu skaits | H5: Piemaksa par darbu īpašos apstākļos | I5: DD VSAOI | J5: Atlīdzība
A7: kopā | G7: =SUM(G8:G535) -> 12622 | H7: =SUM(H8:H535) -> 16566.46 | I7: =SUM(I8:I535) -> 3906.56 | J7: =SUM(J8:J535) -> 20473.02
A8: 1 | B8: VP LATGALES RP ZIEMEĻLATGALES IECIRKNIS | C8: iecirkņa priekšnieka vietnieks, Reaģēšanas nodaļas priekšnieks | D8: 2040 | E8: 10% | F8: =ROUND(D8/$F$4,3) -> 12.265 | G8: 36 | H8: 44.15 | I8: =ROUND(H8*23.59%,2) -> 10.41 | J8: =H8+I8 -> 54.56
A9: =A8+1 -> 2 | B9: VP LATGALES RP ZIEMEĻLATGALES IECIRKŅA IZMEKLĒŠANAS NODAĻAS 5.GRUPA | C9: galvenais inspektors | D9: 1794 | E9: 10% | F9: =ROUND(D9/$F$4,3) -> 10.786 | G9: 24 | H9: 25.89 | I9: =ROUND(H9*23.59%,2) -> 6.11 | J9: =H9+I9 -> 32
A10: =A9+1 -> 3 | B10: VP LATGALES RP ZIEMEĻLATGALES IECIRKŅA PREVENCIJAS GRUPA | C10: vecākais inspektors | D10: 1381 | E10: 10% | F10: =ROUND(D10/$F$4,3) -> 8.303 | G10: 12 | H10: 9.96 | I10: =ROUND(H10*23.59%,2) -> 2.35 | J10: =H10+I10 -> 12.31
A11: =A10+1 -> 4 | B11: VP LATGALES RP ZIEMEĻLATGALES IECIRKŅA REAĢĒŠANAS NODAĻAS 9.GRUPA | C11: inspektors | D11: 1317 | E11: 10% | F11: =ROUND(D11/$F$4,3) -> 7.918 | G11: 12 | H11: 9.5 | I11: =ROUND(H11*23.59%,2) -> 2.24 | J11: =H11+I11 -> 11.74
A12: =A11+1 -> 5 | B12: VP LATGALES RP DIENVIDLATGALES IECIRKŅA PREVENCIJAS GRUPA | C12: inspektors | D12: 1337 | E12: 10% | F12: =ROUND(D12/$F$4,3) -> 8.038 | G12: 36 | H12: 28.94 | I12: =ROUND(H12*23.59%,2) -> 6.83 | J12: =H12+I12 -> 35.77
A13: =A12+1 -> 6 | B13: VP LATGALES RP DIENVIDLATGALES IECIRKŅA IZMEKLĒŠANAS NODAĻAS 7.GRUPA | C13: vecākais inspektors | D13: 1355 | E13: 10% | F13: =ROUND(D13/$F$4,3) -> 8.146 | G13: 12 | H13: 9.78 | I13: =ROUND(H13*23.59%,2)+0.01 -> 2.32 | J13: =H13+I13 -> 12.1
A14: =A13+1 -> 7 | B14: VP LATGALES RP ZIEMEĻLATGALES IECIRKŅA IZMEKLĒŠANAS NODAĻAS 3.GRUPA | C14: vecākais inspektors | D14: 1610 | E14: 10% | F14: =ROUND(D14/$F$4,3) -> 9.68 | G14: 36 | H14: 34.85 | I14: =ROUND(H14*23.59%,2) -> 8.22 | J14: =H14+I14 -> 43.07
A15: =A14+1 -> 8 | B15: VP LATGALES RP ZIEMEĻLATGALES IECIRKŅA REAĢĒŠANAS NODAĻAS 10.GRUPA | C15: galvenais inspektors | D15: 1542 | E15: 10% | F15: =ROUND(D15/$F$4,3) -> 9.271 | G15: 12 | H15: 11.13 | I15: =ROUND(H15*23.59%,2) -> 2.63 | J15: =H15+I15 -> 13.76
A16: =A15+1 -> 9 | B16: VP LATGALES RP ZIEMEĻLATGALES IECIRKŅA REAĢĒŠANAS NODAĻAS 7.GRUPA | C16: vecākais inspektors | D16: 1355 | E16: 10% | F16: =ROUND(D16/$F$4,3) -> 8.146 | G16: 12 | H16: 9.78 | I16: =ROUND(H16*23.59%,2) -> 2.31 | J16: =H16+I16 -> 12.09
A17: =A16+1 -> 10 | B17: VP LATGALES RP ZIEMEĻLATGALES IECIRKŅA IZMEKLĒŠANAS NODAĻAS 2.GRUPA | C17: galvenais inspektors | D17: 2040 | E17: 10% | F17: =ROUND(D17/$F$4,3) -> 12.265 | G17: 48 | H17: 58.87 | I17: =ROUND(H17*23.59%,2) -> 13.89 | J17: =H17+I17 -> 72.76
A18: =A17+1 -> 11 | B18: VP LATGALES RP DIENVIDLATGALES IECIRKŅA IZMEKLĒŠANAS NODAĻAS 2.GRUPA | C18: galvenais inspektors | D18: 1525 | E18: 10% | F18: =ROUND(D18/$F$4,3) -> 9.169 | G18: 12 | H18: 11 | I18: =ROUND(H18*23.59%,2) -> 2.59 | J18: =H18+I18 -> 13.59
A19: =A18+1 -> 12 | B19: VP LATGALES RP ZIEMEĻLATGALES IECIRKŅA REAĢĒŠANAS NODAĻAS 10.GRUPA | C19: inspektors | D19: 1337 | E19: 10% | F19: =ROUND(D19/$F$4,3) -> 8.038 | G19: 24 | H19: 19.29 | I19: =ROUND(H19*23.59%,2) -> 4.55 | J19: =H19+I19 -> 23.84
A20: =A19+1 -> 13 | B20: VP LATGALES RP DIENVIDLATGALES IECIRKŅA REAĢĒŠANAS NODAĻAS 2.GRUPA | C20: vecākais inspektors | D20: 1381 | E20: 10% | F20: =ROUND(D20/$F$4,3) -> 8.303 | G20: 60 | H20: 49.82 | I20: =ROUND(H20*23.59%,2) -> 11.75 | J20: =H20+I20 -> 61.57
A21: =A20+1 -> 14 | B21: VP LATGALES RP DIENVIDLATGALES IECIRKŅA IZMEKLĒŠANAS NODAĻAS 1.GRUPA | C21: galvenais inspektors | D21: 1872 | E21: 10% | F21: =ROUND(D21/$F$4,3) -> 11.255 | G21: 24 | H21: 27.01 | I21: =ROUND(H21*23.59%,2) -> 6.37 | J21: =H21+I21 -> 33.38
A22: =A21+1 -> 15 | B22: VP LATGALES RP DIENVIDLATGALES IECIRKŅA IZMEKLĒŠANAS NODAĻAS 6.GRUPA | C22: galvenais inspektors | D22: 1448 | E22: 10% | F22: =ROUND(D22/$F$4,3) -> 8.706 | G22: 24 | H22: 20.89 | I22: =ROUND(H22*23.59%,2) -> 4.93 | J22: =H22+I22 -> 25.82
A23: =A22+1 -> 16 | B23: VP LATGALES RP DIENVIDLATGALES IECIRKŅA IZMEKLĒŠANAS NODAĻAS 6.GRUPA | C23: vecākais inspektors | D23: 1361 | E23: 10% | F23: =ROUND(D23/$F$4,3) -> 8.183 | G23: 12 | H23: 9.82 | I23: =ROUND(H23*23.59%,2) -> 2.32 | J23: =H23+I23 -> 12.14
A24: =A23+1 -> 17 | B24: VP LATGALES RP ZIEMEĻLATGALES IECIRKŅA IZMEKLĒŠANAS NODAĻAS 4.GRUPA | C24: inspektors | D24: 1583 | E24: 10% | F24: =ROUND(D24/$F$4,3) -> 9.517 | G24: 36 | H24: 34.26 | I24: =ROUND(H24*23.59%,2) -> 8.08 | J24: =H24+I24 -> 42.34
A25: =A24+1 -> 18 | B25: VP LATGALES RP ZIEMEĻLATGALES IECIRKŅA REAĢĒŠANAS NODAĻAS 3.GRUPA | C25: inspektors | D25: 1401 | E25: 10% | F25: =ROUND(D25/$F$4,3) -> 8.423 | G25: 24 | H25: 20.22 | I25: =ROUND(H25*23.59%,2)+0.01 -> 4.78 | J25: =H25+I25 -> 25
A26: =A25+1 -> 19 | B26: VP LATGALES RP ZIEMEĻLATGALES IECIRKŅA IZMEKLĒŠANAS NODAĻAS 3.GRUPA | C26: inspektors | D26: 1443 | E26: 10% | F26: =ROUND(D26/$F$4,3) -> 8.676 | G26: 24 | H26: 20.82 | I26: =ROUND(H26*23.59%,2) -> 4.91 | J26: =H26+I26 -> 25.73
A27: =A26+1 -> 20 | B27: VP LATGALES RP DIENVIDLATGALES IECIRKŅA REAĢĒŠANAS NODAĻAS 4.GRUPA | C27: jaunākais inspektors | D27: 1140 | E27: 10% | F27: =ROUND(D27/$F$4,3) -> 6.854 | G27: 60 | H27: 41.12 | I27: =ROUND(H27*23.59%,2) -> 9.7 | J27: =H27+I27 -> 50.82
A28: =A27+1 -> 21 | B28: VP LATGALES RP ZIEMEĻLATGALES IECIRKŅA IZMEKLĒŠANAS NODAĻAS 5.GRUPA | C28: vecākais inspektors | D28: 1517 | E28: 10% | F28: =ROUND(D28/$F$4,3) -> 9.12 | G28: 24 | H28: 21.89 | I28: =ROUND(H28*23.59%,2) -> 5.16 | J28: =H28+I28 -> 27.05
A29: =A28+1 -> 22 | B29: VP LATGALES RP ZIEMEĻLATGALES IECIRKŅA REAĢĒŠANAS NODAĻAS 6.GRUPA | C29: vecākais inspektors | D29: 1431 | E29: 10% | F29: =ROUND(D29/$F$4,3) -> 8.603 | G29: 12 | H29: 10.32 | I29: =ROUND(H29*23.59%,2)+0.01 -> 2.44 | J29: =H29+I29 -> 12.76
A30: =A29+1 -> 23 | B30: VP LATGALES RP ZIEMEĻLATGALES IECIRKŅA REAĢĒŠANAS NODAĻAS 5.GRUPA | C30: inspektors | D30: 1337 | E30: 10% | F30: =ROUND(D30/$F$4,3) -> 8.038 | G30: 12 | H30: 9.65 | I30: =ROUND(H30*23.59%,2) -> 2.28 | J30: =H30+I30 -> 11.93
A31: =A30+1 -> 24 | B31: VP LATGALES RP ZIEMEĻLATGALES IECIRKŅA REAĢĒŠANAS NODAĻAS 6.GRUPA | C31: galvenais inspektors | D31: 1474 | E31: 10% | F31: =ROUND(D31/$F$4,3) -> 8.862 | G31: 24 | H31: 21.27 | I31: =ROUND(H31*23.59%,2) -> 5.02 | J31: =H31+I31 -> 26.29
A32: =A31+1 -> 25 | B32: VP LATGALES RP DIENVIDLATGALES IECIRKŅA IZMEKLĒŠANAS NODAĻAS 6.GRUPA | C32: inspektors | D32: 1337 | E32: 10% | F32: =ROUND(D32/$F$4,3) -> 8.038 | G32: 44 | H32: 35.37 | I32: =ROUND(H32*23.59%,2) -> 8.34 | J32: =H32+I32 -> 43.71
A33: =A32+1 -> 26 | B33: VP LATGALES RP ZIEMEĻLATGALES IECIRKŅA REAĢĒŠANAS NODAĻAS 8.GRUPA | C33: inspektors | D33: 1337 | E33: 10% | F33: =ROUND(D33/$F$4,3) -> 8.038 | G33: 24 | H33: 19.29 | I33: =ROUND(H33*23.59%,2) -> 4.55 | J33: =H33+I33 -> 23.84
A34: =A33+1 -> 27 | B34: VP LATGALES RP ZIEMEĻLATGALES IECIRKŅA REAĢĒŠANAS NODAĻAS 4.GRUPA | C34: jaunākais inspektors | D34: 1302 | E34: 10% | F34: =ROUND(D34/$F$4,3) -> 7.828 | G34: 12 | H34: 9.39 | I34: =ROUND(H34*23.59%,2) -> 2.22 | J34: =H34+I34 -> 11.61
A35: =A34+1 -> 28 | B35: VP LATGALES RP ZIEMEĻLATGALES IECIRKŅA REAĢĒŠANAS NODAĻAS 6.GRUPA | C35: jaunākais inspektors | D35: 1140 | E35: 10% | F35: =ROUND(D35/$F$4,3) -> 6.854 | G35: 12 | H35: 8.22 | I35: =ROUND(H35*23.59%,2) -> 1.94 | J35: =H35+I35 -> 10.16
A36: =A35+1 -> 29 | B36: VP LATGALES RP ZIEMEĻLATGALES IECIRKŅA IZMEKLĒŠANAS NODAĻAS 6.GRUPA | C36: inspektors | D36: 1463 | E36: 10% | F36: =ROUND(D36/$F$4,3) -> 8.796 | G36: 24 | H36: 21.11 | I36: =ROUND(H36*23.59%,2) -> 4.98 | J36: =H36+I36 -> 26.09
A37: =A36+1 -> 30 | B37: VP LATGALES RP DIENVIDLATGALES IECIRKŅA PREVENCIJAS GRUPA | C37: vecākais inspektors | D37: 1381 | E37: 10% | F37: =ROUND(D37/$F$4,3) -> 8.303 | G37: 5.5 | H37: 4.57 | I37: =ROUND(H37*23.59%,2) -> 1.08 | J37: =H37+I37 -> 5.65
A38: =A37+1 -> 31 | B38: VP LATGALES RP DIENVIDLATGALES IECIRKŅA PREVENCIJAS GRUPA | C38: vecākais inspektors | D38: 1355 | E38: 10% | F38: =ROUND(D38/$F$4,3) -> 8.146 | G38: 12 | H38: 9.78 | I38: =ROUND(H38*23.59%,2) -> 2.31 | J38: =H38+I38 -> 12.09
A39: =A38+1 -> 32 | B39: VP LATGALES RP DIENVIDLATGALES IECIRKŅA IZMEKLĒŠANAS NODAĻAS 1.GRUPA | C39: inspektors | D39: 1443 | E39: 10% | F39: =ROUND(D39/$F$4,3) -> 8.676 | G39: 12 | H39: 10.41 | I39: =ROUND(H39*23.59%,2) -> 2.46 | J39: =H39+I39 -> 12.87
A40: =A39+1 -> 33 | B40: VP LATGALES RP DIENVIDLATGALES IECIRKŅA IZMEKLĒŠANAS NODAĻAS 9.GRUPA | C40: vecākais inspektors | D40: 1381 | E40: 10% | F40: =ROUND(D40/$F$4,3) -> 8.303 | G40: 24 | H40: 19.93 | I40: =ROUND(H40*23.59%,2) -> 4.7 | J40: =H40+I40 -> 24.63
A41: =A40+1 -> 34 | B41: VP LATGALES RP DIENVIDLATGALES IECIRKŅA IZMEKLĒŠANAS NODAĻAS 8.GRUPA | C41: vecākais inspektors | D41: 1335 | E41: 10% | F41: =ROUND(D41/$F$4,3) -> 8.026 | G41: 24 | H41: 19.26 | I41: =ROUND(H41*23.59%,2) -> 4.54 | J41: =H41+I41 -> 23.8
A42: =A41+1 -> 35 | B42: VP LATGALES RP ZIEMEĻLATGALES IECIRKŅA REAĢĒŠANAS NODAĻAS 1.GRUPA | C42: vecākais inspektors | D42: 1355 | E42: 10% | F42: =ROUND(D42/$F$4,3) -> 8.146 | G42: 12 | H42: 9.78 | I42: =ROUND(H42*23.59%,2) -> 2.31 | J42: =H42+I42 -> 12.09
A43: =A42+1 -> 36 | B43: VP LATGALES RP ZIEMEĻLATGALES IECIRKNIS | C43: iecirkņa priekšnieka vietnieks, Izmeklēšanas nodaļas priekšnieks | D43: 2004 | E43: 10% | F43: =ROUND(D43/$F$4,3) -> 12.048 | G43: 24 | H43: 28.92 | I43: =ROUND(H43*23.59%,2)+0.01 -> 6.83 | J43: =H43+I43 -> 35.75
A44: =A43+1 -> 37 | B44: VP LATGALES RP ZIEMEĻLATGALES IECIRKŅA REAĢĒŠANAS NODAĻAS 8.GRUPA | C44: vecākais inspektors | D44: 1381 | E44: 10% | F44: =ROUND(D44/$F$4,3) -> 8.303 | G44: 48 | H44: 39.85 | I44: =ROUND(H44*23.59%,2) -> 9.4 | J44: =H44+I44 -> 49.25
A45: =A44+1 -> 38 | B45: VP LATGALES RP ZIEMEĻLATGALES IECIRKŅA REAĢĒŠANAS NODAĻAS 1.GRUPA | C45: galvenais inspektors | D45: 1474 | E45: 10% | F45: =ROUND(D45/$F$4,3) -> 8.862 | G45: 24 | H45: 21.27 | I45: =ROUND(H45*23.59%,2) -> 5.02 | J45: =H45+I45 -> 26.29
A46: =A45+1 -> 39 | B46: VP LATGALES RP DIENVIDLATGALES IECIRKŅA REAĢĒŠANAS NODAĻAS 1.GRUPA | C46: vecākais inspektors | D46: 1355 | E46: 10% | F46: =ROUND(D46/$F$4,3) -> 8.146 | G46: 36 | H46: 29.33 | I46: =ROUND(H46*23.59%,2) -> 6.92 | J46: =H46+I46 -> 36.25
A47: =A46+1 -> 40 | B47: VP LATGALES RP ZIEMEĻLATGALES IECIRKŅA REAĢĒŠANAS NODAĻAS 1.GRUPA | C47: vecākais inspektors | D47: 1335 | E47: 10% | F47: =ROUND(D47/$F$4,3) -> 8.026 | G47: 12 | H47: 9.63 | I47: =ROUND(H47*23.59%,2) -> 2.27 | J47: =H47+I47 -> 11.9
A48: =A47+1 -> 41 | B48: VP LATGALES RP DIENVIDLATGALES IECIRKŅA REAĢĒŠANAS NODAĻAS 3.GRUPA | C48: vecākais inspektors | D48: 1355 | E48: 10% | F48: =ROUND(D48/$F$4,3) -> 8.146 | G48: 12 | H48: 9.78 | I48: =ROUND(H48*23.59%,2) -> 2.31 | J48: =H48+I48 -> 12.09
A49: =A48+1 -> 42 | B49: VP LATGALES RP ZIEMEĻLATGALES IECIRKŅA IZMEKLĒŠANAS NODAĻAS 9.GRUPA | C49: galvenais inspektors | D49: 1463 | E49: 10% | F49: =ROUND(D49/$F$4,3) -> 8.796 | G49: 12 | H49: 10.56 | I49: =ROUND(H49*23.59%,2) -> 2.49 | J49: =H49+I49 -> 13.05
A50: =A49+1 -> 43 | B50: VP LATGALES RP ZIEMEĻLATGALES IECIRKŅA REAĢĒŠANAS NODAĻAS 6.GRUPA | C50: vecākais inspektors | D50: 1381 | E50: 10% | F50: =ROUND(D50/$F$4,3) -> 8.303 | G50: 24 | H50: 19.93 | I50: =ROUND(H50*23.59%,2) -> 4.7 | J50: =H50+I50 -> 24.63
A51: =A50+1 -> 44 | B51: VP LATGALES RP ZIEMEĻLATGALES IECIRKŅA IZMEKLĒŠANAS NODAĻAS 1.GRUPA | C51: inspektors | D51: 1557 | E51: 10% | F51: =ROUND(D51/$F$4,3) -> 9.361 | G51: 12 | H51: 11.23 | I51: =ROUND(H51*23.59%,2) -> 2.65 | J51: =H51+I51 -> 13.88
A52: =A51+1 -> 45 | B52: VP LATGALES RP ZIEMEĻLATGALES IECIRKŅA IZMEKLĒŠANAS NODAĻAS 1.GRUPA | C52: inspektors | D52: 1463 | E52: 10% | F52: =ROUND(D52/$F$4,3) -> 8.796 | G52: 12 | H52: 10.56 | I52: =ROUND(H52*23.59%,2) -> 2.49 | J52: =H52+I52 -> 13.05
A53: =A52+1 -> 46 | B53: VP LATGALES RP ZIEMEĻLATGALES IECIRKŅA REAĢĒŠANAS NODAĻAS 4.GRUPA | C53: vecākais inspektors | D53: 1335 | E53: 10% | F53: =ROUND(D53/$F$4,3) -> 8.026 | G53: 12 | H53: 9.63 | I53: =ROUND(H53*23.59%,2) -> 2.27 | J53: =H53+I53 -> 11.9
A54: =A53+1 -> 47 | B54: VP LATGALES RP ZIEMEĻLATGALES IECIRKŅA REAĢĒŠANAS NODAĻAS 7.GRUPA | C54: vecākais inspektors | D54: 1355 | E54: 10% | F54: =ROUND(D54/$F$4,3) -> 8.146 | G54: 36 | H54: 29.33 | I54: =ROUND(H54*23.59%,2) -> 6.92 | J54: =H54+I54 -> 36.25
A55: =A54+1 -> 48 | B55: VP LATGALES RP DIENVIDLATGALES IECIRKŅA IZMEKLĒŠANAS NODAĻAS 8.GRUPA | C55: vecākais inspektors | D55: 1355 | E55: 10% | F55: =ROUND(D55/$F$4,3) -> 8.146 | G55: 36 | H55: 29.33 | I55: =ROUND(H55*23.59%,2) -> 6.92 | J55: =H55+I55 -> 36.25
... A59: =A58+1 -> 52 | B59: VP LATGALES RP DIENVIDLATGALES IECIRKŅA IZMEKLĒŠANAS NODAĻAS 6.GRUPA | C59: inspektors | D59: 1342 | E59: 10% | F59: =ROUND(D59/$F$4,3) -> 8.068 | G59: 36 | H59: 29.04 | I59: =ROUND(H59*23.59%,2) -> 6.85 | J59: =H59+I59 -> 35.89
A60: =A59+1 -> 53 | B60: VP LATGALES RP DIENVIDLATGALES IECIRKŅA REAĢĒŠANAS NODAĻAS 4.GRUPA | C60: vecākais inspektors | D60: 1475 | E60: 10% | F60: =ROUND(D60/$F$4,3) -> 8.868 | G60: 60 | H60: 53.21 | I60: =ROUND(H60*21.94%,2)+0.01 -> 11.68 | J60: =H60+I60 -> 64.89 | K60: ***
A61: =A60+1 -> 54 | B61: VP LATGALES RP ZIEMEĻLATGALES IECIRKŅA REAĢĒŠANAS NODAĻAS 2.GRUPA | C61: galvenais inspektors | D61: 1550 | E61: 10% | F61: =ROUND(D61/$F$4,3) -> 9.319 | G61: 36 | H61: 33.55 | I61: =ROUND(H61*23.59%,2) -> 7.91 | J61: =H61+I61 -> 41.46
A62: =A61+1 -> 55 | B62: VP LATGALES RP DIENVIDLATGALES IECIRKŅA PREVENCIJAS GRUPA | C62: vecākais inspektors | D62: 1361 | E62: 10% | F62: =ROUND(D62/$F$4,3) -> 8.183 | G62: 12 | H62: 9.82 | I62: =ROUND(H62*23.59%,2) -> 2.32 | J62: =H62+I62 -> 12.14
A63: =A62+1 -> 56 | B63: VP LATGALES RP ZIEMEĻLATGALES IECIRKŅA REAĢĒŠANAS NODAĻAS 10.GRUPA | C63: inspektors | D63: 1317 | E63: 10% | F63: =ROUND(D63/$F$4,3) -> 7.918 | G63: 24 | H63: 19 | I63: =ROUND(H63*23.59%,2) -> 4.48 | J63: =H63+I63 -> 23.48
A64: =A63+1 -> 57 | B64: VP LATGALES RP ZIEMEĻLATGALES IECIRKŅA REAĢĒŠANAS NODAĻAS 4.GRUPA | C64: inspektors | D64: 1397 | E64: 10% | F64: =ROUND(D64/$F$4,3) -> 8.399 | G64: 12 | H64: 10.08 | I64: =ROUND(H64*23.59%,2) -> 2.38 | J64: =H64+I64 -> 12.46
A65: =A64+1 -> 58 | B65: VP LATGALES RP ZIEMEĻLATGALES IECIRKŅA IZMEKLĒŠANAS NODAĻAS 3.GRUPA | C65: galvenais inspektors | D65: 1713 | E65: 10% | F65: =ROUND(D65/$F$4,3) -> 10.299 | G65: 24 | H65: 24.72 | I65: =ROUND(H65*23.59%,2) -> 5.83 | J65: =H65+I65 -> 30.55
A66: =A65+1 -> 59 | B66: VP LATGALES RP ZIEMEĻLATGALES IECIRKŅA PREVENCIJAS GRUPA | C66: inspektors | D66: 1463 | E66: 10% | F66: =ROUND(D66/$F$4,3) -> 8.796 | G66: 12 | H66: 10.56 | I66: =ROUND(H66*23.59%,2) -> 2.49 | J66: =H66+I66 -> 13.05
A67: =A66+1 -> 60 | B67: VP LATGALES RP DIENVIDLATGALES IECIRKŅA IZMEKLĒŠANAS NODAĻAS 1.GRUPA | C67: inspektors | D67: 1417 | E67: 10% | F67: =ROUND(D67/$F$4,3) -> 8.519 | G67: 12 | H67: 10.22 | I67: =ROUND(H67*23.59%,2) -> 2.41 | J67: =H67+I67 -> 12.63
A68: =A67+1 -> 61 | B68: VP LATGALES RP ZIEMEĻLATGALES IECIRKŅA REAĢĒŠANAS NODAĻAS 3.GRUPA | C68: inspektors | D68: 1317 | E68: 10% | F68: =ROUND(D68/$F$4,3) -> 7.918 | G68: 24 | H68: 19 | I68: =ROUND(H68*23.59%,2) -> 4.48 | J68: =H68+I68 -> 23.48
A69: =A68+1 -> 62 | B69: VP LATGALES RP DIENVIDLATGALES IECIRKŅA REAĢĒŠANAS NODAĻAS 1.GRUPA | C69: galvenais inspektors | D69: 1421 | E69: 10% | F69: =ROUND(D69/$F$4,3) -> 8.543 | G69: 12 | H69: 10.25 | I69: =ROUND(H69*23.59%,2) -> 2.42 | J69: =H69+I69 -> 12.67
A70: =A69+1 -> 63 | B70: VP LATGALES RP DIENVIDLATGALES IECIRKŅA IZMEKLĒŠANAS NODAĻAS 2.GRUPA | C70: inspektors | D70: 1463 | E70: 10% | F70: =ROUND(D70/$F$4,3) -> 8.796 | G70: 12 | H70: 10.56 | I70: =ROUND(H70*23.59%,2) -> 2.49 | J70: =H70+I70 -> 13.05
A71: =A70+1 -> 64 | B71: VP LATGALES RP ZIEMEĻLATGALES IECIRKŅA REAĢĒŠANAS NODAĻAS 9.GRUPA | C71: inspektors | D71: 1317 | E71: 10% | F71: =ROUND(D71/$F$4,3) -> 7.918 | G71: 12 | H71: 9.5 | I71: =ROUND(H71*23.59%,2) -> 2.24 | J71: =H71+I71 -> 11.74
A72: =A71+1 -> 65 | B72: VP LATGALES RP ZIEMEĻLATGALES IECIRKŅA IZMEKLĒŠANAS NODAĻAS 2.GRUPA | C72: vecākais inspektors | D72: 1517 | E72: 10% | F72: =ROUND(D72/$F$4,3) -> 9.12 | G72: 48 | H72: 43.78 | I72: =ROUND(H72*23.59%,2) -> 10.33 | J72: =H72+I72 -> 54.11
... A74: =A73+1 -> 67 | B74: VP LATGALES RP ZIEMEĻLATGALES IECIRKŅA IZMEKLĒŠANAS NODAĻAS 1.GRUPA | C74: inspektors | D74: 1463 | E74: 10% | F74: =ROUND(D74/$F$4,3) -> 8.796 | G74: 12 | H74: 10.56 | I74: =ROUND(H74*23.59%,2) -> 2.49 | J74: =H74+I74 -> 13.05
A75: =A74+1 -> 68 | B75: VP LATGALES RP ZIEMEĻLATGALES IECIRKŅA IZMEKLĒŠANAS NODAĻAS 3.GRUPA | C75: vecākais inspektors | D75: 1517 | E75: 10% | F75: =ROUND(D75/$F$4,3) -> 9.12 | G75: 12 | H75: 10.94 | I75: =ROUND(H75*23.59%,2)+0.01 -> 2.59 | J75: =H75+I75 -> 13.53
A76: =A75+1 -> 69 | B76: VP LATGALES RP DIENVIDLATGALES IECIRKŅA REAĢĒŠANAS NODAĻAS 2.GRUPA | C76: inspektors | D76: 1337 | E76: 10% | F76: =ROUND(D76/$F$4,3) -> 8.038 | G76: 36 | H76: 28.94 | I76: =ROUND(H76*23.59%,2) -> 6.83 | J76: =H76+I76 -> 35.77
A77: =A76+1 -> 70 | B77: VP LATGALES RP ZIEMEĻLATGALES IECIRKŅA REAĢĒŠANAS NODAĻAS 1.GRUPA | C77: inspektors | D77: 1317 | E77: 10% | F77: =ROUND(D77/$F$4,3) -> 7.918 | G77: 24 | H77: 19 | I77: =ROUND(H77*23.59%,2) -> 4.48 | J77: =H77+I77 -> 23.48
A78: =A77+1 -> 71 | B78: VP LATGALES RP DIENVIDLATGALES IECIRKŅA IZMEKLĒŠANAS NODAĻAS 3.GRUPA | C78: vecākais inspektors | D78: 1470 | E78: 10% | F78: =ROUND(D78/$F$4,3) -> 8.838 | G78: 12 | H78: 10.61 | I78: =ROUND(H78*23.59%,2) -> 2.5 | J78: =H78+I78 -> 13.11
A79: =A78+1 -> 72 | B79: VP LATGALES RP DIENVIDLATGALES IECIRKŅA IZMEKLĒŠANAS NODAĻAS 2.GRUPA | C79: inspektors | D79: 1463 | E79: 10% | F79: =ROUND(D79/$F$4,3) -> 8.796 | G79: 12 | H79: 10.56 | I79: =ROUND(H79*23.59%,2) -> 2.49 | J79: =H79+I79 -> 13.05
A80: =A79+1 -> 73 | B80: VP LATGALES RP DIENVIDLATGALES IECIRKŅA REAĢĒŠANAS NODAĻAS 5.GRUPA | C80: inspektors | D80: 1317 | E80: 10% | F80: =ROUND(D80/$F$4,3) -> 7.918 | G80: 24 | H80: 19 | I80: =ROUND(H80*23.59%,2) -> 4.48 | J80: =H80+I80 -> 23.48
A81: =A80+1 -> 74 | B81: VP LATGALES RP ZIEMEĻLATGALES IECIRKŅA IZMEKLĒŠANAS NODAĻAS 4.GRUPA | C81: vecākais inspektors | D81: 1497 | E81: 10% | F81: =ROUND(D81/$F$4,3) -> 9 | G81: 12 | H81: 10.8 | I81: =ROUND(H81*23.59%,2) -> 2.55 | J81: =H81+I81 -> 13.35
A82: =A81+1 -> 75 | B82: VP LATGALES RP ZIEMEĻLATGALES IECIRKŅA IZMEKLĒŠANAS NODAĻAS 1.GRUPA | C82: vecākais inspektors | D82: 1610 | E82: 10% | F82: =ROUND(D82/$F$4,3) -> 9.68 | G82: 24 | H82: 23.23 | I82: =ROUND(H82*23.59%,2) -> 5.48 | J82: =H82+I82 -> 28.71
A83: =A82+1 -> 76 | B83: VP LATGALES RP ZIEMEĻLATGALES IECIRKŅA IZMEKLĒŠANAS NODAĻAS 1.GRUPA | C83: vecākais inspektors | D83: 1517 | E83: 10% | F83: =ROUND(D83/$F$4,3) -> 9.12 | G83: 36 | H83: 32.83 | I83: =ROUND(H83*23.59%,2) -> 7.74 | J83: =H83+I83 -> 40.57
A84: =A83+1 -> 77 | B84: VP LATGALES RP ZIEMEĻLATGALES IECIRKŅA IZMEKLĒŠANAS NODAĻAS 7.GRUPA | C84: vecākais inspektors | D84: 1335 | E84: 10% | F84: =ROUND(D84/$F$4,3) -> 8.026 | G84: 24 | H84: 19.26 | I84: =ROUND(H84*23.59%,2) -> 4.54 | J84: =H84+I84 -> 23.8
A85: =A84+1 -> 78 | B85: VP LATGALES RP DIENVIDLATGALES IECIRKŅA IZMEKLĒŠANAS NODAĻAS 6.GRUPA | C85: vecākais inspektors | D85: 1355 | E85: 10% | F85: =ROUND(D85/$F$4,3) -> 8.146 | G85: 48 | H85: 39.1 | I85: =ROUND(H85*23.59%,2) -> 9.22 | J85: =H85+I85 -> 48.32
A86: =A85+1 -> 79 | B86: VP LATGALES RP DIENVIDLATGALES IECIRKŅA IZMEKLĒŠANAS NODAĻAS 9.GRUPA | C86: inspektors | D86: 1342 | E86: 10% | F86: =ROUND(D86/$F$4,3) -> 8.068 | G86: 24 | H86: 19.36 | I86: =ROUND(H86*23.59%,2) -> 4.57 | J86: =H86+I86 -> 23.93
A87: =A86+1 -> 80 | B87: VP LATGALES RP ZIEMEĻLATGALES IECIRKŅA IZMEKLĒŠANAS NODAĻAS 1.GRUPA | C87: inspektors | D87: 1463 | E87: 10% | F87: =ROUND(D87/$F$4,3) -> 8.796 | G87: 12 | H87: 10.56 | I87: =ROUND(H87*23.59%,2) -> 2.49 | J87: =H87+I87 -> 13.05
... A104: =A103+1 -> 97 | B104: VP LATGALES RP DIENVIDLATGALES IECIRKŅA REAĢĒŠANAS NODAĻAS 8.GRUPA | C104: vecākais inspektors | D104: 1475 | E104: 10% | F104: =ROUND(D104/$F$4,3) -> 8.868 | G104: 24 | H104: 21.28 | I104: =ROUND(H104*23.59%,2) -> 5.02 | J104: =H104+I104 -> 26.3
A105: =A104+1 -> 98 | B105: VP LATGALES RP DIENVIDLATGALES IECIRKŅA REAĢĒŠANAS NODAĻAS 4.GRUPA | C105: inspektors | D105: 1337 | E105: 10% | F105: =ROUND(D105/$F$4,3) -> 8.038 | G105: 35 | H105: 28.13 | I105: =ROUND(H105*23.59%,2)+0.01 -> 6.65 | J105: =H105+I105 -> 34.78
A106: =A105+1 -> 99 | B106: VP LATGALES RP DIENVIDLATGALES IECIRKŅA IZMEKLĒŠANAS NODAĻAS 9.GRUPA | C106: inspektors | D106: 1337 | E106: 10% | F106: =ROUND(D106/$F$4,3) -> 8.038 | G106: 24 | H106: 19.29 | I106: =ROUND(H106*23.59%,2) -> 4.55 | J106: =H106+I106 -> 23.84
A107: =A106+1 -> 100 | B107: VP LATGALES RP ZIEMEĻLATGALES IECIRKŅA REAĢĒŠANAS NODAĻAS 1.GRUPA | C107: inspektors | D107: 1337 | E107: 10% | F107: =ROUND(D107/$F$4,3) -> 8.038 | G107: 24 | H107: 19.29 | I107: =ROUND(H107*23.59%,2) -> 4.55 | J107: =H107+I107 -> 23.84
A108: =A107+1 -> 101 | B108: VP LATGALES RP DIENVIDLATGALES IECIRKŅA IZMEKLĒŠANAS NODAĻAS 4.GRUPA | C108: inspektors | D108: 1443 | E108: 10% | F108: =ROUND(D108/$F$4,3) -> 8.676 | G108: 12 | H108: 10.41 | I108: =ROUND(H108*23.59%,2) -> 2.46 | J108: =H108+I108 -> 12.87
A109: =A108+1 -> 102 | B109: VP LATGALES RP ZIEMEĻLATGALES IECIRKNIS | C109: iecirkņa priekšnieks | D109: 2200 | E109: 10% | F109: =ROUND(D109/$F$4,3) -> 13.227 | G109: 36 | H109: 47.62 | I109: =ROUND(H109*23.59%,2) -> 11.23 | J109: =H109+I109 -> 58.85
A110: =A109+1 -> 103 | B110: VP LATGALES RP ZIEMEĻLATGALES IECIRKŅA IZMEKLĒŠANAS NODAĻAS 8.GRUPA | C110: vecākais inspektors | D110: 1443 | E110: 10% | F110: =ROUND(D110/$F$4,3) -> 8.676 | G110: 12 | H110: 10.41 | I110: =ROUND(H110*23.59%,2) -> 2.46 | J110: =H110+I110 -> 12.87
A111: =A110+1 -> 104 | B111: VP LATGALES RP ZIEMEĻLATGALES IECIRKŅA IZMEKLĒŠANAS NODAĻAS 1.GRUPA | C111: galvenais inspektors | D111: 1858 | E111: 10% | F111: =ROUND(D111/$F$4,3) -> 11.171 | G111: 12 | H111: 13.41 | I111: =ROUND(H111*23.59%,2) -> 3.16 | J111: =H111+I111 -> 16.57
A112: =A111+1 -> 105 | B112: VP LATGALES RP DIENVIDLATGALES IECIRKŅA IZMEKLĒŠANAS NODAĻAS 7.GRUPA | C112: inspektors | D112: 1337 | E112: 10% | F112: =ROUND(D112/$F$4,3) -> 8.038 | G112: 24 | H112: 19.29 | I112: =ROUND(H112*23.59%,2) -> 4.55 | J112: =H112+I112 -> 23.84
A113: =A112+1 -> 106 | B113: VP LATGALES RP DIENVIDLATGALES IECIRKŅA REAĢĒŠANAS NODAĻAS 4.GRUPA | C113: inspektors | D113: 1317 | E113: 10% | F113: =ROUND(D113/$F$4,3) -> 7.918 | G113: 72 | H113: 57.01 | I113: =ROUND(H113*23.59%,2) -> 13.45 | J113: =H113+I113 -> 70.46
A114: =A113+1 -> 107 | B114: VP LATGALES RP DIENVIDLATGALES IECIRKŅA IZMEKLĒŠANAS NODAĻAS 5.GRUPA | C114: vecākais inspektors | D114: 1517 | E114: 10% | F114: =ROUND(D114/$F$4,3) -> 9.12 | G114: 13 | H114: 11.86 | I114: =ROUND(H114*23.59%,2) -> 2.8 | J114: =H114+I114 -> 14.66
A115: =A114+1 -> 108 | B115: VP LATGALES RP ZIEMEĻLATGALES IECIRKŅA REAĢĒŠANAS NODAĻAS 7.GRUPA | C115: jaunākais inspektors | D115: 1140 | E115: 10% | F115: =ROUND(D115/$F$4,3) -> 6.854 | G115: 12 | H115: 8.22 | I115: =ROUND(H115*23.59%,2) -> 1.94 | J115: =H115+I115 -> 10.16
A116: =A115+1 -> 109 | B116: VP LATGALES RP ZIEMEĻLATGALES IECIRKŅA REAĢĒŠANAS NODAĻAS 5.GRUPA | C116: inspektors | D116: 1337 | E116: 10% | F116: =ROUND(D116/$F$4,3) -> 8.038 | G116: 12 | H116: 9.65 | I116: =ROUND(H116*23.59%,2) -> 2.28 | J116: =H116+I116 -> 11.93
A117: =A116+1 -> 110 | B117: VP LATGALES RP ZIEMEĻLATGALES IECIRKŅA IZMEKLĒŠANAS NODAĻAS 6.GRUPA | C117: vecākais inspektors | D117: 1517 | E117: 10% | F117: =ROUND(D117/$F$4,3) -> 9.12 | G117: 24 | H117: 21.89 | I117: =ROUND(H117*23.59%,2) -> 5.16 | J117: =H117+I117 -> 27.05
... A131: =A130+1 -> 124 | B131: VP LATGALES RP DIENVIDLATGALES IECIRKŅA IZMEKLĒŠANAS NODAĻAS 8.GRUPA | C131: galvenais inspektors | D131: 1355 | E131: 10% | F131: =ROUND(D131/$F$4,3) -> 8.146 | G131: 12 | H131: 9.78 | I131: =ROUND(H131*23.59%,2) -> 2.31 | J131: =H131+I131 -> 12.09
A132: =A131+1 -> 125 | B132: VP LATGALES RP DIENVIDLATGALES IECIRKŅA IZMEKLĒŠANAS NODAĻAS 9.GRUPA | C132: inspektors | D132: 1362 | E132: 10% | F132: =ROUND(D132/$F$4,3) -> 8.189 | G132: 24 | H132: 19.65 | I132: =ROUND(H132*23.59%,2)+0.01 -> 4.65 | J132: =H132+I132 -> 24.3
A133: =A132+1 -> 126 | B133: VP LATGALES RP ZIEMEĻLATGALES IECIRKŅA REAĢĒŠANAS NODAĻAS 10.GRUPA | C133: inspektors | D133: 1337 | E133: 10% | F133: =ROUND(D133/$F$4,3) -> 8.038 | G133: 24 | H133: 19.29 | I133: =ROUND(H133*23.59%,2) -> 4.55 | J133: =H133+I133 -> 23.84
A134: =A133+1 -> 127 | B134: VP LATGALES RP DIENVIDLATGALES IECIRKŅA REAĢĒŠANAS NODAĻAS 8.GRUPA | C134: galvenais inspektors | D134: 1401 | E134: 10% | F134: =ROUND(D134/$F$4,3) -> 8.423 | G134: 17 | H134: 14.32 | I134: =ROUND(H134*23.59%,2) -> 3.38 | J134: =H134+I134 -> 17.7
...

Sheet 5.tabula
F1: 5.tabula
A2: Valsts policija
A3: Degvielas izmaksu aprēķins degvielas izdevumiem sniedzot atbalstu Valsts robežsardzei Latvijas Republikas-Baltkrievijas Republikas valsts robežas nelikumīgas šķērsošanas nodrošināšanā par laika periodu no 2023.gada 1. decembra līdz 31. decembrim
A5: Nr.p.k. | B5: Transportlīdzekļa marka | C5: Iesaistīto transportlīdzekļu skaits | D5: Faktiskais nobraukums pasākumā (km) | E5: Pasākuma laikā patērētā degviela (l) | F5: Summa euro
A6: Kopā: | C6: =ROUNDUP(SUM(C8:C52),2) -> 100 | D6: =ROUNDUP(SUM(D8:D52),2) -> 115868 | E6: =ROUNDUP(SUM(E8:E52),2) -> 9526.77 | F6: =ROUNDUP(SUM(F8:F52),2) -> 13685.11
A7: Vidzemes reģiona pārvalde
A8: 1 | B8: Peugeot Boxer | C8: 2 | D8: 2343 | E8: 230.2 | F8: 332.07
A9: 2 | B9: VW Crafter | C9: 1 | D9: 2559 | E9: 302.7297 | F9: 433.81
A10: 3 | B10: VW Tiguan | C10: 1 | D10: 1461 | E10: 95.5494 | F10: 137.3
A15: Latgales reģiona pārvalde
A16: 4 | B16: Citroen Berlingo | C16: 3 | D16: 1894 | E16: 117.52 | F16: 168.64
A17: 5 | B17: Citroen Jumper | C17: 1 | D17: 244 | E17: 23.91 | F17: 34.2
A18: 6 | B18: Fiat 500xCross | C18: 1 | D18: 329 | E18: 21.71 | F18: 32.35
A19: 7 | B19: Ford Transit Custom | C19: 3 | D19: 1343 | E19: 126.8 | F19: 181.67
A20: 8 | B20: Hyundai Santa Fe | C20: 1 | D20: 23 | E20: 2.48 | F20: 3.54
A21: 9 | B21: KIA Cee'D | C21: 7 | D21: 2886 | E21: 196.92 | F21: 282.81
A22: 10 | B22: Opel Mokka | C22: 43 | D22: 63657 | E22: 4989.43 | F22: 7181.23
A23: 11 | B23: Opel Combo | C23: 2 | D23: 5833 | E23: 510.04 | F23: 729.37
A24: 12 | B24: Opel Insignia | C24: 1 | D24: 405 | E24: 46.98 | F24: 67.19
A25: 13 | B25: Opel Insignia Limousine NB | C25: 5 | D25: 1311 | E25: 87.4 | F25: 126.42
A26: 14 | B26: Peugeot Boxer | C26: 2 | D26: 378 | E26: 33.91 | F26: 48.5
A27: 15 | B27: Renault Kangoo | C27: 6 | D27: 14762 | E27: 1129.17 | F27: 1614.71
... A36: 24 | B36: VW Transporter 4x4 | C36: 1 | D36: 1221 | E36: 117.22 | F36: 167.63
A37: Zemgales reģiona pārvalde
A43: Kurzemes reģiona pārvalde
A46: Rīgas reģiona pārvalde
