Workbook

Sheet VP dec
D1: 2.pielikums
D2: Ministru kabineta rīkojuma projekta
C3: "Par apropriācijas pārdali no budžeta resora "74. Gadskārtējā valsts budžeta izpildes procesā pārdalāmais finansējums" programmas 22.00.00 "Valsts ārējās robežas drošības pasākumu nodrošināšana""
D4: sākotnējās ietekmes novērtējuma ziņojumam (anotācijai)
A6: Valsts policijas izdevumi
A7: Kopasavilkums
A9: Kods | B9: Koda nosaukums | C9: Detalizēts izdevumu aprēķins | D9: Izdevumi, euro
A10: Izdevumi kopā ar vidējās izpeļņas pieauguma kompensēšanu | D10: =ROUND(D11+D14,0) -> 1869959
A11: 1000 | B11: Atlīdzība | C11: × | D11: =ROUND(D17+D37,0) -> 1850280
A12: 1100 | B12: Atalgojums | C12: × | D12: =ROUNDUP(D38+D18,0) -> 1497190
A13: 1210 | B13: Darba devēja valsts sociālās apdrošināšanas obligātās iemaksas | C13: × | D13: =ROUNDUP(D40+D23,0) -> 353090
A14: 2000 | B14: Preces un pakalpojumi | C14: × | D14: =D24 -> 19679
A16: 1) Izdevumi saistībā ar rīkojuma Nr. 514 izpildei nepieciešamo pasākumu īstenošanu | D16: =D17+D24 -> 1727675
A17: 1002 | B17: Atlīdzība | C17: × | D17: =ROUNDUP(D18+D23,0) -> 1707996
A18: 1100 | B18: Atalgojums | C18: × | D18: =SUM(D19:D22) -> 1382063.6
A19: 1141 | B19: Piemaksa par nakts darbu | C19: Detalizēts aprēķins par laika periodu no 2023.gada 1. decembra līdz 31. decembrim 1.tabulā. Iesaistītas 234 personas, kopējais iesaistes laiks 3 589 stundas. | D19: ='1.tabula'!G6 -> 15456.25
A20: 1142 | B20: Samaksa par virsstundu darbu un darbu svētku dienās | C20: 1) Piemaksa par virsstundu darbu Detalizēts aprēķins par laika periodu no 2023.gada 1. septembra līdz 31. decembrim 2.tabulā. Iesaistītas 602 personas, kopējais iesaistes laiks 81 859,25 stundas. | D20: =' 2.tabula'!G6 -> 1342479
C21: 2) Piemaksa par darbu svētku dienās (24.12., 25.12., 26.12., 31.12.) Detalizēts aprēķins par laika periodu no 2023.gada 1. decembra līdz 31. decembrim 3.tabulā. Iesaistītas 68 personas, kopējais iesaistes laiks 855,5 stundas. | D21: ='3.tabula'!G6 -> 7561.9
A22: 1145 | B22: Piemaksa par darbu īpašos apstākļos, speciālās piemaksas | C22: Detalizēts aprēķins par laika periodu no 1. decembra līdz 31. decembrim 4.tabulā. Iesaistītas 528 personas, kopējais iesaistes laiks 12 622 stundas. | D22: ='4.tabula'!H7 -> 16566.46
A23: 1210 | B23: Darba devēja valsts sociālās apdrošināšanas obligātās iemaksas | C23: 23,59% no aprēķinātā atalgojuma * izņemot 3 personas, kurām tiek piemērota nodokļu likme 21,94% (izdienas pensionārs) | D23: ='4.tabula'!I7+'1.tabula'!H6+'3.tabula'!H6+' 2.tabula'!H6 -> 325931.5
A24: 2002 | B24: Preces un pakalpojumi | C24: × | D24: =ROUNDUP(SUM(D25:D34),0) -> 19679
A25: 2112 | B25: Pārējie komandējumu un darba braucienu izdevumi | C25: Dienesta viesnīcas pakalpojumi Naktsmītnes izdevumi Daugavpilī: 10 nakts x 12 gultasvietas x 15,00 euro = 1 800,00 euro; 3 nakts x 11 gultasvietas × 15,00 euro = 495,00 euro; 1 nakts x 6 gultasvietas × 15,00 euro = 90,00 euro. Aprēķins veikts par dienesta viesnīcas pakalpojumiem (naktsmītni), kas tika nodrošināti no 2023.gada 1. decembra līdz 15. decembrim, izdevumi pakalpojuma sniedzējam tika apmaksāti 2024.gada janvārī. | D25: =(10*12*15)+(3*11*15)+(1*6*15) -> 2385
A26: 2271 | B26: Izdevumi, kas saistīti ar operatīvo darbību | C26: Izdevumi, kas saistīti ar operatīvo darbību _____________________
A27: 2312 | B27: Inventārs
A28: 2322 | B28: Degviela | C28: Detalizēts aprēķins par laika periodu no 2023.gada 1. decembra līdz 31. decembrim 5.tabulā. Pasākuma nodrošināšanai tika iesaistīti 100 transportlīdzekļi; Vidēji viena transportlīdzekļa nobraukums 1158,68 km; Vidējā degvielas cena 1,4365 euro/l; Vidējais degvielas patēriņš 8,222 l/km uz 100 km. 100 t-ldz. x 1158,68 km x 1,4365 euro/l x 8,222 l/km ÷ 100 km = 13 685,11 euro | D28: ='5.tabula'!F6 -> 13685.11
A29: 2350 | B29: Kārtējā remonta un iestāžu uzturēšanas materiāli
A30: 2363 | B30: Ēdināšanas izdevumi | C30: Aprēķins veikts par ēdināšanas pakalpojumiem, kas tika nodrošināti no 2023.gada 1. decembra līdz 15. decembrim, izdevumi pakalpojuma sniedzējam tika apmaksāti 2024.gada janvārī. Ēdināšanas pakalpojumi Daugavpilī: brokastis 105 porcijas × 6,00 euro = 630,00 euro; pusdienas 109 porcijas × 8,00 euro = 872,00 euro; vakariņas 105 porcijas × 8,00 euro = 840,00 euro; launags (sausā uztura paka) 55 pakas × 22,00 euro =1 210,00 euro; launags (sausā uztura paka) 4 pakas × 14,00 euro = 56,00 euro. Saskaņā ar līgumu par izmitināšanu un ēdināšanu Daugavpilī ir noteikts, ka ēdināšana 3 reizes dienā nedrīkst pārsniegt 22 euro: Ēdināšanas izmaksas sastāda: Brokastis 6 euro /1 pers Pusdienas un vakariņas 8 euro /1 pers Par 14 euro tiek ēdinātas amatpersonas, kuras atrodas viesnīcā, jo amatpersonas strādā maiņās. Savukārt tām amatpersonām, kuras ir maiņā uz robežas un tām nav iespējams atgriezties uz pusdienām un vakariņām, tad, lai nodrošinātu ēdināšanu amatpersonām dod līdzi pārtikas paku un kopā tas sastāda 22 euro (brokastis ir 6 euro - tās paēd izmitināšanas vietā). Pārtikas pakas tiek dotas arī Latgales reģiona pārvaldes amatpersonām, kuras arī tiek norīkotas uz robežu, augstākminēto iemeslu dēļ, komandējama izdevumi un dienas nauda viņām nav. Papildus jāatzīmē, ka dienas nauda dienās, kad nodrošināta 3 reižu ēdināšana sastāda 30% no Ministru kabineta noteikumos par komandējumu paredzētā limita. | D30: =(105*6)+(109*8)+(105*8)+(55*22)+(4*14) -> 3608
A31: 2369 | B31: Pārējie valsts un pašvaldību aprūpē, apgādē un dienestā (amatā) esošo personu uzturēšanas izdevumi, kuri nav minēti citos koda 2360 apakškodos
A32: 2390 | B32: Pārējās preces | C32: Negazēts dzeramais ūdens 5 L / 408 gab. x 0,6869 euro = 280,26 euro Lietusmētelis 49 gab. x 10,77 euro = 527,73 euro
A33: 5000 | B33: Pamatkapitāla veidošana | D33: =ROUNDUP(SUM(D34),0) -> 0
A34: 5239 | B34: Pārējie iepriekš neklasificētie pamatlīdzekļi un ieguldījuma īpašumi
A36: 2) Vidējās izpeļņas pieauguma kompensēšanai | D36: =D37 -> 142284
A37: 1000 | B37: Atlīdzība | C37: × | D37: =ROUND(D38+D40,0) -> 142284
A38: 1100 | B38: Atalgojums | C38: × | D38: =ROUNDUP(D39,0) -> 115126
A39: 1116 | B39: Mēnešalga amatpersonām ar speciālajām dienesta pakāpēm | C39: 1 382 063,59 euro × 8,33% = 115 125,90 euro. | D39: =ROUND(D18*8.33%,2) -> 115125.9
A40: 1210 | B40: Darba devēja valsts sociālās apdrošināšanas obligātās iemaksas | C40: 23,59% no aprēķinātā atalgojuma | D40: =ROUNDUP(D39*0.2359,2) -> 27158.2
A41: 2000 | B41: Preces un pakalpojumi | D41: =ROUNDUP(SUM(D42:D42),2) -> 0
A42: 2271 | B42: Izdevumi, kas saistīti ar operatīvo darbību | C42: Informācija klasificēta

Sheet 1.tabula
I1: 1.tabula
A2: Valsts policija
A3: Piemaksa par nakts darbu amatpersonām ar speciālajām dienesta pakāpēm, kuras laika periodā no 2023.gada 1. decembra līdz 31. decembrim tika iesaistītas atbalsta sniegšanā Valsts robežsardzei Latvijas Republikas-Baltkrievijas Republikas valsts robežas robežuzraudzības nodrošināšanā
E4: 166.33
A5: Nr. p.k. | B5: Struktūrvienība | C5: Amats | D5: Mēnešalga amatpersonām ar speciālajām pakāpēm | E5: Stundas likme | F5: Stundu skaits | G5: Piemaksa par nakts darbu | H5: DD VSAOI | I5: Atlīdzība
A6: kopā | F6: =SUM(F7:F240) -> 3589 | G6: =SUM(G7:G240) -> 15456.25 | H6: =SUM(H7:H240) -> 3644.89 | I6: =SUM(I7:I240) -> 19101.14
A7: 1 | B7: VP LATGALES RP ZIEMEĻLATGALES IECIRKNIS | C7: iecirkņa priekšnieka vietnieks, Reaģēšanas nodaļas priekšnieks | D7: 2040 | E7: =ROUND(D7/$E$4,3) -> 12.265 | F7: 24 | G7: 147.18 | H7: =ROUND(G7*0.2359,2) -> 34.72 | I7: =G7+H7 -> 181.9
A8: =A7+1 -> 2 | B8: VP LATGALES RP ZIEMEĻLATGALES IECIRKŅA IZMEKLĒŠANAS NODAĻAS 2.GRUPA | C8: inspektors | D8: 1437 | E8: =ROUND(D8/$E$4,3) -> 8.639 | F8: 14 | G8: 60.47 | H8: =ROUND(G8*0.2359,2) -> 14.26 | I8: =G8+H8 -> 74.73
A9: =A8+1 -> 3 | B9: VP LATGALES RP ZIEMEĻLATGALES IECIRKŅA IZMEKLĒŠANAS NODAĻAS 5.GRUPA | C9: galvenais inspektors | D9: 1794 | E9: =ROUND(D9/$E$4,3) -> 10.786 | F9: 8 | G9: 43.14 | H9: =ROUND(G9*0.2359,2) -> 10.18 | I9: =G9+H9 -> 53.32
A10: =A9+1 -> 4 | B10: VP LATGALES RP DIENVIDLATGALES IECIRKŅA REAĢĒŠANAS NODAĻAS 7.GRUPA | C10: inspektors | D10: 1317 | E10: =ROUND(D10/$E$4,3) -> 7.918 | F10: 24 | G10: 95.02 | H10: =ROUND(G10*0.2359,2) -> 22.42 | I10: =G10+H10 -> 117.44
A11: =A10+1 -> 5 | B11: VP LATGALES RP DIENVIDLATGALES IECIRKŅA REAĢĒŠANAS NODAĻAS 7.GRUPA | C11: jaunākais inspektors | D11: 1140 | E11: =ROUND(D11/$E$4,3) -> 6.854 | F11: 16 | G11: 54.83 | H11: =ROUND(G11*0.2359,2) -> 12.93 | I11: =G11+H11 -> 67.76
A12: =A11+1 -> 6 | B12: VP LATGALES RP ZIEMEĻLATGALES IECIRKŅA PREVENCIJAS GRUPA | C12: vecākais inspektors | D12: 1381 | E12: =ROUND(D12/$E$4,3) -> 8.303 | F12: 16 | G12: 66.42 | H12: =ROUND(G12*0.2359,2) -> 15.67 | I12: =G12+H12 -> 82.09
A13: =A12+1 -> 7 | B13: VP LATGALES RP KĀRTPB ATĻAUJU SISTĒMAS GRUPA | C13: inspektors | D13: 1196 | E13: =ROUND(D13/$E$4,3) -> 7.191 | F13: 14 | G13: 50.34 | H13: =ROUND(G13*0.2359,2) -> 11.88 | I13: =G13+H13 -> 62.22
A14: =A13+1 -> 8 | B14: VP LATGALES RP ZIEMEĻLATGALES IECIRKŅA IZMEKLĒŠANAS NODAĻAS 3.GRUPA | C14: vecākais inspektors | D14: 1610 | E14: =ROUND(D14/$E$4,3) -> 9.68 | F14: 24 | G14: 116.16 | H14: =ROUND(G14*0.2359,2) -> 27.4 | I14: =G14+H14 -> 143.56
A15: =A14+1 -> 9 | B15: VP LATGALES RP ZIEMEĻLATGALES IECIRKŅA REAĢĒŠANAS NODAĻAS 10.GRUPA | C15: galvenais inspektors | D15: 1542 | E15: =ROUND(D15/$E$4,3) -> 9.271 | F15: 8 | G15: 37.08 | H15: =ROUND(G15*0.2359,2) -> 8.75 | I15: =G15+H15 -> 45.83
A16: =A15+1 -> 10 | B16: VP LATGALES RP DIENVIDLATGALES IECIRKŅA REAĢĒŠANAS NODAĻAS 10.GRUPA | C16: vecākais inspektors | D16: 1355 | E16: =ROUND(D16/$E$4,3) -> 8.146 | F16: 8 | G16: 32.58 | H16: =ROUND(G16*0.2359,2) -> 7.69 | I16: =G16+H16 -> 40.27
A17: =A16+1 -> 11 | B17: VP LATGALES RP DIENVIDLATGALES IECIRKŅA REAĢĒŠANAS NODAĻAS 6.GRUPA | C17: jaunākais inspektors | D17: 1140 | E17: =ROUND(D17/$E$4,3) -> 6.854 | F17: 24 | G17: 82.25 | H17: =ROUND(G17*0.2359,2) -> 19.4 | I17: =G17+H17 -> 101.65
A18: =A17+1 -> 12 | B18: VP LATGALES RP ZIEMEĻLATGALES IECIRKŅA IZMEKLĒŠANAS NODAĻAS 2.GRUPA | C18: galvenais inspektors | D18: 2040 | E18: =ROUND(D18/$E$4,3) -> 12.265 | F18: 16 | G18: 98.12 | H18: =ROUND(G18*0.2359,2) -> 23.15 | I18: =G18+H18 -> 121.27
A19: =A18+1 -> 13 | B19: VP LATGALES RP DIENVIDLATGALES IECIRKŅA IZMEKLĒŠANAS NODAĻAS 2.GRUPA | C19: galvenais inspektors | D19: 1525 | E19: =ROUND(D19/$E$4,3) -> 9.169 | F19: 16 | G19: 73.35 | H19: =ROUND(G19*0.2359,2) -> 17.3 | I19: =G19+H19 -> 90.65
... A63: =A62+1 -> 57 | B63: VP LATGALES RP DIENVIDLATGALES IECIRKŅA IZMEKLĒŠANAS NODAĻAS 6.GRUPA | C63: inspektors | D63: 1342 | E63: =ROUND(D63/$E$4,3) -> 8.068 | F63: 32 | G63: 129.09 | H63: =ROUND(G63*0.2359,2) -> 30.45 | I63: =G63+H63 -> 159.54
A64: =A63+1 -> 58 | B64: VP LATGALES RP DIENVIDLATGALES IECIRKŅA REAĢĒŠANAS NODAĻAS 4.GRUPA | C64: vecākais inspektors | D64: 1475 | E64: =ROUND(D64/$E$4,3) -> 8.868 | F64: 16 | G64: 70.94 | H64: =ROUND(G64*0.2194,2) -> 15.56 | I64: =G64+H64 -> 86.5 | J64: ***
A65: =A64+1 -> 59 | B65: VP LATGALES RP ZIEMEĻLATGALES IECIRKŅA IZMEKLĒŠANAS NODAĻAS 3.GRUPA | C65: galvenais inspektors | D65: 1713 | E65: =ROUND(D65/$E$4,3) -> 10.299 | F65: 24 | G65: 123.59 | H65: =ROUND(G65*0.2359,2) -> 29.15 | I65: =G65+H65 -> 152.74
A66: =A65+1 -> 60 | B66: VP LATGALES RP DIENVIDLATGALES IECIRKŅA IZMEKLĒŠANAS NODAĻAS 1.GRUPA | C66: inspektors | D66: 1443 | E66: =ROUND(D66/$E$4,3) -> 8.676 | F66: 16 | G66: 69.41 | H66: =ROUND(G66*0.2359,2) -> 16.37 | I66: =G66+H66 -> 85.78
A67: =A66+1 -> 61 | B67: VP LATGALES RP ZIEMEĻLATGALES IECIRKŅA PREVENCIJAS GRUPA | C67: inspektors | D67: 1463 | E67: =ROUND(D67/$E$4,3) -> 8.796 | F67: 8 | G67: 35.18 | H67: =ROUND(G67*0.2359,2) -> 8.3 | I67: =G67+H67 -> 43.48
A68: =A67+1 -> 62 | B68: VP LATGALES RP KRIMPB RĒZEKNES REĢIONĀLĀ NODAĻA | C68: vecākais inspektors | D68: 1593 | E68: =ROUND(D68/$E$4,3) -> 9.577 | F68: 16 | G68: 76.62 | H68: =ROUND(G68*0.2359,2) -> 18.07 | I68: =G68+H68 -> 94.69
A69: =A68+1 -> 63 | B69: VP LATGALES RP ZIEMEĻLATGALES IECIRKŅA REAĢĒŠANAS NODAĻAS 3.GRUPA | C69: inspektors | D69: 1317 | E69: =ROUND(D69/$E$4,3) -> 7.918 | F69: 8 | G69: 31.67 | H69: =ROUND(G69*0.2359,2) -> 7.47 | I69: =G69+H69 -> 39.14
A70: =A69+1 -> 64 | B70: VP LATGALES RP DIENVIDLATGALES IECIRKŅA IZMEKLĒŠANAS NODAĻAS 2.GRUPA | C70: inspektors | D70: 1463 | E70: =ROUND(D70/$E$4,3) -> 8.796 | F70: 16 | G70: 70.37 | H70: =ROUND(G70*0.2359,2) -> 16.6 | I70: =G70+H70 -> 86.97
A71: =A70+1 -> 65 | B71: VP LATGALES RP KĀRTPB SŪDZĪBU IZSKATĪŠANAS GRUPA | C71: vecākais inspektors | D71: 1508 | E71: =ROUND(D71/$E$4,3) -> 9.066 | F71: 32 | G71: 145.06 | H71: =ROUND(G71*0.2359,2) -> 34.22 | I71: =G71+H71 -> 179.28
A72: =A71+1 -> 66 | B72: VP LATGALES RP ZIEMEĻLATGALES IECIRKŅA REAĢĒŠANAS NODAĻAS 9.GRUPA | C72: inspektors | D72: 1317 | E72: =ROUND(D72/$E$4,3) -> 7.918 | F72: 8 | G72: 31.67 | H72: =ROUND(G72*0.2359,2) -> 7.47 | I72: =G72+H72 -> 39.14
A73: =A72+1 -> 67 | B73: VP LATGALES RP ZIEMEĻLATGALES IECIRKŅA IZMEKLĒŠANAS NODAĻAS 2.GRUPA | C73: vecākais inspektors | D73: 1517 | E73: =ROUND(D73/$E$4,3) -> 9.12 | F73: 24 | G73: 109.44 | H73: =ROUND(G73*0.2359,2) -> 25.82 | I73: =G73+H73 -> 135.26
A74: =A73+1 -> 68 | B74: VP LATGALES RP DIENVIDLATGALES IECIRKŅA IZMEKLĒŠANAS NODAĻAS 7.GRUPA | C74: inspektors | D74: 1362 | E74: =ROUND(D74/$E$4,3) -> 8.189 | F74: 8 | G74: 32.76 | H74: =ROUND(G74*0.2359,2) -> 7.73 | I74: =G74+H74 -> 40.49
A75: =A74+1 -> 69 | B75: VP LATGALES RP ZIEMEĻLATGALES IECIRKŅA IZMEKLĒŠANAS NODAĻAS 1.GRUPA | C75: inspektors | D75: 1463 | E75: =ROUND(D75/$E$4,3) -> 8.796 | F75: 30 | G75: 131.94 | H75: =ROUND(G75*0.2359,2) -> 31.12 | I75: =G75+H75 -> 163.06
A76: =A75+1 -> 70 | B76: VP LATGALES RP ZIEMEĻLATGALES IECIRKŅA IZMEKLĒŠANAS NODAĻAS 3.GRUPA | C76: vecākais inspektors | D76: 1517 | E76: =ROUND(D76/$E$4,3) -> 9.12 | F76: 8 | G76: 36.48 | H76: =ROUND(G76*0.2359,2) -> 8.61 | I76: =G76+H76 -> 45.09
... A240: =A239+1 -> 234 | B240: VP LATGALES RP ZIEMEĻLATGALES IECIRKŅA PREVENCIJAS GRUPA | C240: inspektors | D240: 1282 | E240: =ROUND(D240/$E$4,3) -> 7.708 | F240: 8 | G240: 30.83 | H240: =ROUND(G240*0.2359,2) -> 7.27 | I240: =G240+H240 -> 38.1
B242: *** - izdienas pensionārs

Sheet  2.tabula
I1: 2.tabula
A2: Valsts policija
A3: Detalizēts aprēķins samaksai par virsstundu darbu amatpersonām ar speciālo dienesta pakāpi, sniedzot atbalstu Valsts robežsardzei Latvijas Republikas-Baltkrievijas Republikas valsts robežas nelikumīgas šķērsošanas nodrošināšanā, par laika periodu no 2023.gada 01. septembra līdz 31. decembrim
E4: 166.33
A5: Nr. p.k. | B5: Struktūrvienība | C5: Amats | D5: Mēnešalga amatpersonām ar speciālajām pakāpēm | E5: Stundas likme | F5: Stundu skaits | G5: Samaksa par virsstundu darbu | H5: DD VSAOI | I5: Atlīdzība
A6: kopā | F6: =SUM(F7:F608) -> 81859.25 | G6: =SUM(G7:G608) -> 1342479 | H6: =SUM(H7:H608) -> 316596.21 | I6: =SUM(I7:I608) -> 1659075.2
A7: 1 | B7: VP LATGALES RP ZIEMEĻLATGALES IECIRKNIS | C7: iecirkņa priekšnieka vietnieks, Reaģēšanas nodaļas priekšnieks | D7: 2040 | E7: =ROUND(D7/$E$4,3) -> 12.265 | F7: 132 | G7: 3237.96 | H7: =ROUND(G7*0.2359,2)-0.02 -> 763.81 | I7: =G7+H7 -> 4001.77
A8: =A7+1 -> 2 | B8: VP LATGALES RP ZIEMEĻLATGALES IECIRKŅA IZMEKLĒŠANAS NODAĻAS 2.GRUPA | C8: inspektors | D8: 1437 | E8: =ROUND(D8/$E$4,3) -> 8.639 | F8: 157.5 | G8: 2721.29 | H8: =ROUND(G8*0.2359,2) -> 641.95 | I8: =G8+H8 -> 3363.24
A9: =A8+1 -> 3 | B9: VP LATGALES RP DIENVIDLATGALES IECIRKŅA REAĢĒŠANAS NODAĻAS 3.GRUPA | C9: vecākais inspektors | D9: 1463 | E9: =ROUND(D9/$E$4,3) -> 8.796 | F9: 113 | G9: 1987.9 | H9: =ROUND(G9*0.2359,2) -> 468.95 | I9: =G9+H9 -> 2456.85
A10: =A9+1 -> 4 | B10: VP LATGALES RP ZIEMEĻLATGALES IECIRKŅA IZMEKLĒŠANAS NODAĻAS 5.GRUPA | C10: galvenais inspektors | D10: 1794 | E10: =ROUND(D10/$E$4,3) -> 10.786 | F10: 148.5 | G10: 3203.44 | H10: =ROUND(G10*0.2359,2) -> 755.69 | I10: =G10+H10 -> 3959.13
A11: =A10+1 -> 5 | B11: VP LATGALES RP DIENVIDLATGALES IECIRKŅA REAĢĒŠANAS NODAĻAS 7.GRUPA | C11: inspektors | D11: 1317 | E11: =ROUND(D11/$E$4,3) -> 7.918 | F11: 361 | G11: 5716.8 | H11: =ROUND(G11*0.2359,2) -> 1348.59 | I11: =G11+H11 -> 7065.39
A12: =A11+1 -> 6 | B12: VP ZEMGALES RP AUSTRUMZEMGALES IECIRKŅA REAĢĒŠANAS NODAĻAS 1.GRUPA | C12: vecākais inspektors | D12: 1463 | E12: =ROUND(D12/$E$4,3) -> 8.796 | F12: 115 | G12: 2023.08 | H12: =ROUND(G12*0.2359,2) -> 477.24 | I12: =G12+H12 -> 2500.32
A13: =A12+1 -> 7 | B13: VP LATGALES RP DIENVIDLATGALES IECIRKŅA REAĢĒŠANAS NODAĻAS 7.GRUPA | C13: jaunākais inspektors | D13: 1140 | E13: =ROUND(D13/$E$4,3) -> 6.854 | F13: 210 | G13: 2878.68 | H13: =ROUND(G13*0.2359,2) -> 679.08 | I13: =G13+H13 -> 3557.76
A14: =A13+1 -> 8 | B14: VP LATGALES RP DIENVIDLATGALES IECIRKŅA IZMEKLĒŠANAS NODAĻAS 5.GRUPA | C14: inspektors | D14: 1437 | E14: =ROUND(D14/$E$4,3) -> 8.639 | F14: 74.5 | G14: 1287.21 | H14: =ROUND(G14*0.2359,2) -> 303.65 | I14: =G14+H14 -> 1590.86
A15: =A14+1 -> 9 | B15: VP LATGALES RP DIENVIDLATGALES IECIRKŅA REAĢĒŠANAS NODAĻAS 1.GRUPA | C15: inspektors | D15: 1317 | E15: =ROUND(D15/$E$4,3) -> 7.918 | F15: 153 | G15: 2422.91 | H15: =ROUND(G15*0.2359,2) -> 571.56 | I15: =G15+H15 -> 2994.47
A16: =A15+1 -> 10 | B16: VP ZEMGALES RP AUSTRUMZEMGALES IECIRKŅA REAĢĒŠANAS NODAĻAS 3.GRUPA | C16: vecākais inspektors | D16: 1490 | E16: =ROUND(D16/$E$4,3) -> 8.958 | F16: 46 | G16: 824.14 | H16: =ROUND(G16*0.2359,2)-0.01 -> 194.4 | I16: =G16+H16 -> 1018.54
A17: =A16+1 -> 11 | B17: VP LATGALES RP DIENVIDLATGALES IECIRKŅA REAĢĒŠANAS NODAĻAS 6.GRUPA | C17: jaunākais inspektors | D17: 1120 | E17: =ROUND(D17/$E$4,3) -> 6.734 | F17: 121 | G17: 1629.63 | H17: =ROUND(G17*0.2359,2) -> 384.43 | I17: =G17+H17 -> 2014.06
A18: =A17+1 -> 12 | B18: VP LATGALES RP ZIEMEĻLATGALES IECIRKŅA PREVENCIJAS GRUPA | C18: vecākais inspektors | D18: 1381 | E18: =ROUND(D18/$E$4,3) -> 8.303 | F18: 272.5 | G18: 4525.14 | H18: =ROUND(G18*0.2359,2) -> 1067.48 | I18: =G18+H18 -> 5592.62
A19: =A18+1 -> 13 | B19: VP ZEMGALES RP AUSTRUMZEMGALES IECIRKŅA REAĢĒŠANAS NODAĻAS 3.GRUPA | C19: inspektors | D19: 1317 | E19: =ROUND(D19/$E$4,3) -> 7.918 | F19: 115 | G19: 1821.14 | H19: =ROUND(G19*0.2359,2) -> 429.61 | I19: =G19+H19 -> 2250.75
A20: =A19+1 -> 14 | B20: VP LATGALES RP DIENVIDLATGALES IECIRKŅA REAĢĒŠANAS NODAĻAS 4.GRUPA | C20: vecākais inspektors | D20: 1381 | E20: =ROUND(D20/$E$4,3) -> 8.303 | F20: 94 | G20: 1560.96 | H20: =ROUND(G20*0.2359,2) -> 368.23 | I20: =G20+H20 -> 1929.19
A21: =A20+1 -> 15 | B21: VP LATGALES RP ZIEMEĻLATGALES IECIRKŅA REAĢĒŠANAS NODAĻAS 9.GRUPA | C21: inspektors | D21: 1317 | E21: =ROUND(D21/$E$4,3) -> 7.918 | F21: 145 | G21: 2296.22 | H21: =ROUND(G21*0.2359,2) -> 541.68 | I21: =G21+H21 -> 2837.9
A22: =A21+1 -> 16 | B22: VP LATGALES RP DIENVIDLATGALES IECIRKŅA PREVENCIJAS GRUPA | C22: inspektors | D22: 1337 | E22: =ROUND(D22/$E$4,3) -> 8.038 | F22: 43 | G22: 691.27 | H22: =ROUND(G22*0.2359,2) -> 163.07 | I22: =G22+H22 -> 854.34
A23: =A22+1 -> 17 | B23: VP LATGALES RP KĀRTPB ATĻAUJU SISTĒMAS GRUPA | C23: inspektors | D23: 1196 | E23: =ROUND(D23/$E$4,3) -> 7.191 | F23: 157 | G23: 2257.97 | H23: =ROUND(G23*0.2359,2)-0.01 -> 532.65 | I23: =G23+H23 -> 2790.62
A24: =A23+1 -> 18 | B24: VP LATGALES RP KRIMPB KRIMINĀLIZLŪKOŠANAS INFORMĀCIJAS ANALĪZES GRUPA | C24: vecākais inspektors | D24: 1545 | E24: =ROUND(D24/$E$4,3) -> 9.289 | F24: 88.5 | G24: 1644.15 | H24: =ROUND(G24*0.2359,2) -> 387.85 | I24: =G24+H24 -> 2032
A25: =A24+1 -> 19 | B25: VP LATGALES RP DIENVIDLATGALES IECIRKŅA IZMEKLĒŠANAS NODAĻAS 7.GRUPA | C25: vecākais inspektors | D25: 1355 | E25: =ROUND(D25/$E$4,3) -> 8.146 | F25: 175 | G25: 2851.1 | H25: =ROUND(G25*0.2359,2) -> 672.57 | I25: =G25+H25 -> 3523.67
A26: =A25+1 -> 20 | B26: VP LATGALES RP ZIEMEĻLATGALES IECIRKŅA IZMEKLĒŠANAS NODAĻAS 3.GRUPA | C26: vecākais inspektors | D26: 1610 | E26: =ROUND(D26/$E$4,3) -> 9.68 | F26: 147.5 | G26: 2855.6 | H26: =ROUND(G26*0.2359,2) -> 673.64 | I26: =G26+H26 -> 3529.24
A27: =A26+1 -> 21 | B27: VP LATGALES RP ZIEMEĻLATGALES IECIRKŅA REAĢĒŠANAS NODAĻAS 10.GRUPA | C27: galvenais inspektors | D27: 1542 | E27: =ROUND(D27/$E$4,3) -> 9.271 | F27: 157 | G27: 2911.09 | H27: =ROUND(G27*0.2359,2) -> 686.73 | I27: =G27+H27 -> 3597.82
A28: =A27+1 -> 22 | B28: VP LATGALES RP DIENVIDLATGALES IECIRKŅA REAĢĒŠANAS NODAĻAS 10.GRUPA | C28: vecākais inspektors | D28: 1355 | E28: =ROUND(D28/$E$4,3) -> 8.146 | F28: 127 | G28: 2069.08 | H28: =ROUND(G28*0.2359,2) -> 488.1 | I28: =G28+H28 -> 2557.18
A29: =A28+1 -> 23 | B29: VP LATGALES RP ZIEMEĻLATGALES IECIRKŅA REAĢĒŠANAS NODAĻAS 7.GRUPA | C29: vecākais inspektors | D29: 1355 | E29: =ROUND(D29/$E$4,3) -> 8.146 | F29: 46.5 | G29: 757.58 | H29: =ROUND(G29*0.2359,2)-0.01 -> 178.7 | I29: =G29+H29 -> 936.28
A30: =A29+1 -> 24 | B30: VP LATGALES RP DIENVIDLATGALES IECIRKŅA REAĢĒŠANAS NODAĻAS 6.GRUPA | C30: jaunākais inspektors | D30: 1140 | E30: =ROUND(D30/$E$4,3) -> 6.854 | F30: 238.5 | G30: 3269.36 | H30: =ROUND(G30*0.2359,2) -> 771.24 | I30: =G30+H30 -> 4040.6
A31: =A30+1 -> 25 | B31: VP LATGALES RP ZIEMEĻLATGALES IECIRKŅA IZMEKLĒŠANAS NODAĻAS 2.GRUPA | C31: galvenais inspektors | D31: 2040 | E31: =ROUND(D31/$E$4,3) -> 12.265 | F31: 152 | G31: 3728.56 | H31: =ROUND(G31*0.2359,2) -> 879.57 | I31: =G31+H31 -> 4608.13
A32: =A31+1 -> 26 | B32: VP LATGALES RP DIENVIDLATGALES IECIRKŅA IZMEKLĒŠANAS NODAĻAS 2.GRUPA | C32: galvenais inspektors | D32: 1525 | E32: =ROUND(D32/$E$4,3) -> 9.169 | F32: 131 | G32: 2402.28 | H32: =ROUND(G32*0.2359,2) -> 566.7 | I32: =G32+H32 -> 2968.98
A33: =A32+1 -> 27 | B33: VP LATGALES RP ZIEMEĻLATGALES IECIRKŅA REAĢĒŠANAS NODAĻAS 10.GRUPA | C33: inspektors | D33: 1337 | E33: =ROUND(D33/$E$4,3) -> 8.038 | F33: 176.5 | G33: 2837.41 | H33: =ROUND(G33*0.2359,2) -> 669.35 | I33: =G33+H33 -> 3506.76
A34: =A33+1 -> 28 | B34: VP GKĀRTPP RKVP SPECIĀLO UZDEVUMU BATALJONA 3.ROTA | C34: jaunākais inspektors | D34: 1303 | E34: =ROUND(D34/$E$4,3) -> 7.834 | F34: 118 | G34: 1848.82 | H34: =ROUND(G34*0.2359,2) -> 436.14 | I34: =G34+H34 -> 2284.96
A35: =A34+1 -> 29 | B35: VP LATGALES RP DIENVIDLATGALES IECIRKŅA REAĢĒŠANAS NODAĻAS 2.GRUPA | C35: vecākais inspektors | D35: 1381 | E35: =ROUND(D35/$E$4,3) -> 8.303 | F35: 273 | G35: 4533.44 | H35: =ROUND(G35*0.2359,2) -> 1069.44 | I35: =G35+H35 -> 5602.88
A36: =A35+1 -> 30 | B36: VP ZEMGALES RP AUSTRUMZEMGALES IECIRKŅA REAĢĒŠANAS NODAĻAS 2.GRUPA | C36: jaunākais inspektors | D36: 1140 | E36: =ROUND(D36/$E$4,3) -> 6.854 | F36: 23 | G36: 315.28 | H36: =ROUND(G36*0.2359,2) -> 74.37 | I36: =G36+H36 -> 389.65
A37: =A36+1 -> 31 | B37: VP LATGALES RP DIENVIDLATGALES IECIRKŅA IZMEKLĒŠANAS NODAĻAS 1.GRUPA | C37: galvenais inspektors | D37: 1872 | E37: =ROUND(D37/$E$4,3) -> 11.255 | F37: 191 | G37: 4299.41 | H37: =ROUND(G37*0.2359,2) -> 1014.23 | I37: =G37+H37 -> 5313.64
A38: =A37+1 -> 32 | B38: VP ZEMGALES RP AUSTRUMZEMGALES IECIRKŅA IZMEKLĒŠANAS NODAĻAS 3.GRUPA | C38: vecākais inspektors | D38: 1517 | E38: =ROUND(D38/$E$4,3) -> 9.12 | F38: 59 | G38: 1076.16 | H38: =ROUND(G38*0.2359,2) -> 253.87 | I38: =G38+H38 -> 1330.03
A39: =A38+1 -> 33 | B39: VP LATGALES RP DIENVIDLATGALES IECIRKŅA IZMEKLĒŠANAS NODAĻAS 6.GRUPA | C39: galvenais inspektors | D39: 1448 | E39: =ROUND(D39/$E$4,3) -> 8.706 | F39: 231.5 | G39: 4030.88 | H39: =ROUND(G39*0.2359,2) -> 950.88 | I39: =G39+H39 -> 4981.76
A40: =A39+1 -> 34 | B40: VP LATGALES RP DIENVIDLATGALES IECIRKŅA IZMEKLĒŠANAS NODAĻAS 6.GRUPA | C40: vecākais inspektors | D40: 1361 | E40: =ROUND(D40/$E$4,3) -> 8.183 | F40: 178 | G40: 2913.15 | H40: =ROUND(G40*0.2359,2) -> 687.21 | I40: =G40+H40 -> 3600.36
...

Sheet 3.tabula
I1: 3.tabula
A2: Valsts policija
A3: Detalizēts aprēķins piemaksai par darbu svētku dienās amatpersonām ar speciālo dienesta pakāpi, sniedzot atbalstu Valsts robežsardzei Latvijas Republikas-Baltkrievijas Republikas valsts robežas nelikumīgas šķērsošanas nodrošināšanā, par laika periodu no 2023.gada 1. decembra līdz 31. decembrim (par 24.12., 25.12., 26.12., 31.12.)
E4: 166.33
A5: Nr. p.k. | B5: Struktūrvienība | C5: Amats | D5: Mēnešalga amatpersonām ar speciālajām pakāpēm | E5: Stundas likme | F5: Stundu skaits | G5: Piemaksa par darbu svētku dienās | H5: DD VSAOI | I5: Atlīdzība
A6: kopā | F6: =SUM(F7:F74) -> 855.5 | G6: =SUM(G7:G74) -> 7561.9 | H6: =SUM(H7:H74) -> 1783.84 | I6: =SUM(I7:I74) -> 9345.74
A7: 1 | B7: VP LATGALES RP ZIEMEĻLATGALES IECIRKNIS | C7: iecirkņa priekšnieka vietnieks, Reaģēšanas nodaļas priekšnieks | D7: 2040 | E7: =ROUND(D7/$E$4,3) -> 12.265 | F7: 14 | G7: 171.71 | H7: =ROUND(G7*0.2359,2) -> 40.51 | I7: =G7+H7 -> 212.22
A8: =A7+1 -> 2 | B8: VP LATGALES RP KĀRTPB ATĻAUJU SISTĒMAS GRUPA | C8: inspektors | D8: 1196 | E8: =ROUND(D8/$E$4,3) -> 7.191 | F8: 5.5 | G8: 39.55 | H8: =ROUND(G8*0.2359,2) -> 9.33 | I8: =G8+H8 -> 48.88
A9: =A8+1 -> 3 | B9: VP LATGALES RP ZIEMEĻLATGALES IECIRKŅA IZMEKLĒŠANAS NODAĻAS 3.GRUPA | C9: inspektors | D9: 1443 | E9: =ROUND(D9/$E$4,3) -> 8.676 | F9: 4 | G9: 34.7 | H9: =ROUND(G9*0.2359,2) -> 8.19 | I9: =G9+H9 -> 42.89
A10: =A9+1 -> 4 | B10: VP LATGALES RP KĀRTPB ATĻAUJU SISTĒMAS GRUPA | C10: inspektors | D10: 1176 | E10: =ROUND(D10/$E$4,3) -> 7.07 | F10: 5.5 | G10: 38.89 | H10: =ROUND(G10*0.2359,2) -> 9.17 | I10: =G10+H10 -> 48.06
A11: =A10+1 -> 5 | B11: VP LATGALES RP KRIMPB ORGANIZĒTĀS NOZIEDZĪBAS SMAGO UN SĒRIJVEIDA NOZIEGUMU APKAROŠANAS NODAĻA | C11: vecākais inspektors | D11: 1545 | E11: =ROUND(D11/$E$4,3) -> 9.289 | F11: 9 | G11: 83.6 | H11: =ROUND(G11*0.2359,2) -> 19.72 | I11: =G11+H11 -> 103.32
A12: =A11+1 -> 6 | B12: VP LATGALES RP ZIEMEĻLATGALES IECIRKŅA REAĢĒŠANAS NODAĻAS 5.GRUPA | C12: inspektors | D12: 1337 | E12: =ROUND(D12/$E$4,3) -> 8.038 | F12: 14.5 | G12: 116.55 | H12: =ROUND(G12*0.2359,2) -> 27.49 | I12: =G12+H12 -> 144.04
A13: =A12+1 -> 7 | B13: VP LATGALES RP ZIEMEĻLATGALES IECIRKŅA REAĢĒŠANAS NODAĻAS 6.GRUPA | C13: galvenais inspektors | D13: 1474 | E13: =ROUND(D13/$E$4,3) -> 8.862 | F13: 14 | G13: 124.07 | H13: =ROUND(G13*0.2359,2) -> 29.27 | I13: =G13+H13 -> 153.34
A14: =A13+1 -> 8 | B14: VP LATGALES RP KĀRTPB RESURSU UN KRĪZES VADĪBAS NODAĻA | C14: nodaļas priekšnieka vietnieks | D14: 1386 | E14: =ROUND(D14/$E$4,3) -> 8.333 | F14: 12 | G14: 100 | H14: =ROUND(G14*0.2359,2) -> 23.59 | I14: =G14+H14 -> 123.59
A15: =A14+1 -> 9 | B15: VP LATGALES RP DIENVIDLATGALES IECIRKŅA IZMEKLĒŠANAS NODAĻAS 8.GRUPA | C15: vecākais inspektors | D15: 1335 | E15: =ROUND(D15/$E$4,3) -> 8.026 | F15: 4.5 | G15: 36.12 | H15: =ROUND(G15*0.2359,2) -> 8.52 | I15: =G15+H15 -> 44.64
A16: =A15+1 -> 10 | B16: VP LATGALES RP KRIMPB ORGANIZĒTĀS NOZIEDZĪBAS SMAGO UN SĒRIJVEIDA NOZIEGUMU APKAROŠANAS NODAĻA | C16: vecākais inspektors | D16: 1565 | E16: =ROUND(D16/$E$4,3) -> 9.409 | F16: 9 | G16: 84.68 | H16: =ROUND(G16*0.2359,2) -> 19.98 | I16: =G16+H16 -> 104.66
A17: =A16+1 -> 11 | B17: VP LATGALES RP ZIEMEĻLATGALES IECIRKŅA IZMEKLĒŠANAS NODAĻAS 9.GRUPA | C17: galvenais inspektors | D17: 1463 | E17: =ROUND(D17/$E$4,3) -> 8.796 | F17: 26.25 | G17: 230.9 | H17: =ROUND(G17*0.2359,2) -> 54.47 | I17: =G17+H17 -> 285.37
A18: =A17+1 -> 12 | B18: VP LATGALES RP ZIEMEĻLATGALES IECIRKŅA REAĢĒŠANAS NODAĻAS 6.GRUPA | C18: vecākais inspektors | D18: 1381 | E18: =ROUND(D18/$E$4,3) -> 8.303 | F18: 14.5 | G18: 120.39 | H18: =ROUND(G18*0.2359,2) -> 28.4 | I18: =G18+H18 -> 148.79
A19: =A18+1 -> 13 | B19: VP LATGALES RP ZIEMEĻLATGALES IECIRKŅA IZMEKLĒŠANAS NODAĻAS 1.GRUPA | C19: inspektors | D19: 1463 | E19: =ROUND(D19/$E$4,3) -> 8.796 | F19: 11 | G19: 96.76 | H19: =ROUND(G19*0.2359,2) -> 22.83 | I19: =G19+H19 -> 119.59
... A74: =A73+1 -> 68 | B74: VP LATGALES RP ZIEMEĻLATGALES IECIRKŅA REAĢĒŠANAS NODAĻAS 6.GRUPA | C74: jaunākais inspektors | D74: 1060 | E74: =ROUND(D74/$E$4,3) -> 6.373 | F74: 14 | G74: 89.22 | H74: =ROUND(G74*0.2359,2) -> 21.05 | I74: =G74+H74 -> 110.27

Sheet 4.tabula
J1: 4.tabula
A2: Valsts policija
A3: Piemaksa par darbu paaugstināta riska un slodzes apstākļos amatpersonām ar speciālajām dienesta pakāpēm, kuras laika periodā no 2023.gada 1. decembra līdz 31. decembrim tika iesaistītas atbalsta sniegšanā Valsts robežsardzei Latvijas Republikas-Baltkrievijas Republikas valsts robežas robežuzraudzības nodrošināšanā
F4: 166.33
A5: Nr. p.k. | B5: Struktūrvienība | C5: Amats | D5: Mēnešalga amatpersonām ar speciālajām pakāpēm | E5: Piemaksas apmērs % | F5: Stundas likme | G5: Stundu skaits | H5: Piemaksa par darbu īpašos apstākļos | I5: DD VSAOI | J5: Atlīdzība
A7: kopā | G7: =SUM(G8:G535) -> 12622 | H7: =SUM(H8:H535) -> 16566.46 | I7: =SUM(I8:I535) -> 3906.56 | J7: =SUM(J8:J535) -> 20473.02
A8: 1 | B8: VP LATGALES RP ZIEMEĻLATGALES IECIRKNIS | C8: iecirkņa priekšnieka vietnieks, Reaģēšanas nodaļas priekšnieks | D8: 2040 | E8: 10% | F8: =ROUND(D8/$F$4,3) -> 12.265 | G8: 36 | H8: 44.15 | I8: =ROUND(H8*23.59%,2) -> 10.41 | J8: =H8+I8 -> 54.56
A9: =A8+1 -> 2 | B9: VP LATGALES RP ZIEMEĻLATGALES IECIRKŅA IZMEKLĒŠANAS NODAĻAS 5.GRUPA | C9: galvenais inspektors | D9: 1794 | E9: 10% | F9: =ROUND(D9/$F$4,3) -> 10.786 | G9: 24 | H9: 25.89 | I9: =ROUND(H9*23.59%,2) -> 6.11 | J9: =H9+I9 -> 32
A10: =A9+1 -> 3 | B10: VP LATGALES RP ZIEMEĻLATGALES IECIRKŅA PREVENCIJAS GRUPA | C10: vecākais inspektors | D10: 1381 | E10: 10% | F10: =ROUND(D10/$F$4,3) -> 8.303 | G10: 12 | H10: 9.96 | I10: =ROUND(H10*23.59%,2) -> 2.35 | J10: =H10+I10 -> 12.31
A11: =A10+1 -> 4 | B11: VP LATGALES RP ZIEMEĻLATGALES IECIRKŅA REAĢĒŠANAS NODAĻAS 9.GRUPA | C11: inspektors | D11: 1317 | E11: 10% | F11: =ROUND(D11/$F$4,3) -> 7.918 | G11: 12 | H11: 9.5 | I11: =ROUND(H11*23.59%,2) -> 2.24 | J11: =H11+I11 -> 11.74
A12: =A11+1 -> 5 | B12: VP LATGALES RP DIENVIDLATGALES IECIRKŅA PREVENCIJAS GRUPA | C12: inspektors | D12: 1337 | E12: 10% | F12: =ROUND(D12/$F$4,3) -> 8.038 | G12: 36 | H12: 28.94 | I12: =ROUND(H12*23.59%,2) -> 6.83 | J12: =H12+I12 -> 35.77
A13: =A12+1 -> 6 | B13: VP LATGALES RP DIENVIDLATGALES IECIRKŅA IZMEKLĒŠANAS NODAĻAS 7.GRUPA | C13: vecākais inspektors | D13: 1355 | E13: 10% | F13: =ROUND(D13/$F$4,3) -> 8.146 | G13: 12 | H13: 9.78 | I13: =ROUND(H13*23.59%,2)+0.01 -> 2.32 | J13: =H13+I13 -> 12.1
A14: =A13+1 -> 7 | B14: VP LATGALES RP ZIEMEĻLATGALES IECIRKŅA IZMEKLĒŠANAS NODAĻAS 3.GRUPA | C14: vecākais inspektors | D14: 1610 | E14: 10% | F14: =ROUND(D14/$F$4,3) -> 9.68 | G14: 36 | H14: 34.85 | I14: =ROUND(H14*23.59%,2) -> 8.22 | J14: =H14+I14 -> 43.07
A15: =A14+1 -> 8 | B15: VP LATGALES RP ZIEMEĻLATGALES IECIRKŅA REAĢĒŠANAS NODAĻAS 10.GRUPA | C15: galvenais inspektors | D15: 1542 | E15: 10% | F15: =ROUND(D15/$F$4,3) -> 9.271 | G15: 12 | H15: 11.13 | I15: =ROUND(H15*23.59%,2) -> 2.63 | J15: =H15+I15 -> 13.76
A16: =A15+1 -> 9 | B16: VP LATGALES RP ZIEMEĻLATGALES IECIRKŅA REAĢĒŠANAS NODAĻAS 7.GRUPA | C16: vecākais inspektors | D16: 1355 | E16: 10% | F16: =ROUND(D16/$F$4,3) -> 8.146 | G16: 12 | H16: 9.78 | I16: =ROUND(H16*23.59%,2) -> 2.31 | J16: =H16+I16 -> 12.09
A17: =A16+1 -> 10 | B17: VP LATGALES RP ZIEMEĻLATGALES IECIRKŅA IZMEKLĒŠANAS NODAĻAS 2.GRUPA | C17: galvenais inspektors | D17: 2040 | E17: 10% | F17: =ROUND(D17/$F$4,3) -> 12.265 | G17: 48 | H17: 58.87 | I17: =ROUND(H17*23.59%,2) -> 13.89 | J17: =H17+I17 -> 72.76
A18: =A17+1 -> 11 | B18: VP LATGALES RP DIENVIDLATGALES IECIRKŅA IZMEKLĒŠANAS NODAĻAS 2.GRUPA | C18: galvenais inspektors | D18: 1525 | E18: 10% | F18: =ROUND(D18/$F$4,3) -> 9.169 | G18: 12 | H18: 11 | I18: =ROUND(H18*23.59%,2) -> 2.59 | J18: =H18+I18 -> 13.59
A19: =A18+1 -> 12 | B19: VP LATGALES RP ZIEMEĻLATGALES IECIRKŅA REAĢĒŠANAS NODAĻAS 10.GRUPA | C19: inspektors | D19: 1337 | E19: 10% | F19: =ROUND(D19/$F$4,3) -> 8.038 | G19: 24 | H19: 19.29 | I19: =ROUND(H19*23.59%,2) -> 4.55 | J19: =H19+I19 -> 23.84
A20: =A19+1 -> 13 | B20: VP LATGALES RP DIENVIDLATGALES IECIRKŅA REAĢĒŠANAS NODAĻAS 2.GRUPA | C20: vecākais inspektors | D20: 1381 | E20: 10% | F20: =ROUND(D20/$F$4,3) -> 8.303 | G20: 60 | H20: 49.82 | I20: =ROUND(H20*23.59%,2) -> 11.75 | J20: =H20+I20 -> 61.57
A21: =A20+1 -> 14 | B21: VP LATGALES RP DIENVIDLATGALES IECIRKŅA IZMEKLĒŠANAS NODAĻAS 1.GRUPA | C21: galvenais inspektors | D21: 1872 | E21: 10% | F21: =ROUND(D21/$F$4,3) -> 11.255 | G21: 24 | H21: 27.01 | I21: =ROUND(H21*23.59%,2) -> 6.37 | J21: =H21+I21 -> 33.38
A22: =A21+1 -> 15 | B22: VP LATGALES RP DIENVIDLATGALES IECIRKŅA IZMEKLĒŠANAS NODAĻAS 6.GRUPA | C22: galvenais inspektors | D22: 1448 | E22: 10% | F22: =ROUND(D22/$F$4,3) -> 8.706 | G22: 24 | H22: 20.89 | I22: =ROUND(H22*23.59%,2) -> 4.93 | J22: =H22+I22 -> 25.82
A23: =A22+1 -> 16 | B23: VP LATGALES RP DIENVIDLATGALES IECIRKŅA IZMEKLĒŠANAS NODAĻAS 6.GRUPA | C23: vecākais inspektors | D23: 1361 | E23: 10% | F23: =ROUND(D23/$F$4,3) -> 8.183 | G23: 12 | H23: 9.82 | I23: =ROUND(H23*23.59%,2) -> 2.32 | J23: =H23+I23 -> 12.14
A24: =A23+1 -> 17 | B24: VP LATGALES RP ZIEMEĻLATGALES IECIRKŅA IZMEKLĒŠANAS NODAĻAS 4.GRUPA | C24: inspektors | D24: 1583 | E24: 10% | F24: =ROUND(D24/$F$4,3) -> 9.517 | G24: 36 | H24: 34.26 | I24: =ROUND(H24*23.59%,2) -> 8.08 | J24: =H24+I24 -> 42.34
A25: =A24+1 -> 18 | B25: VP LATGALES RP ZIEMEĻLATGALES IECIRKŅA REAĢĒŠANAS NODAĻAS 3.GRUPA | C25: inspektors | D25: 1401 | E25: 10% | F25: =ROUND(D25/$F$4,3) -> 8.423 | G25: 24 | H25: 20.22 | I25: =ROUND(H25*23.59%,2)+0.01 -> 4.78 | J25: =H25+I25 -> 25
A26: =A25+1 -> 19 | B26: VP LATGALES RP ZIEMEĻLATGALES IECIRKŅA IZMEKLĒŠANAS NODAĻAS 3.GRUPA | C26: inspektors | D26: 1443 | E26: 10% | F26: =ROUND(D26/$F$4,3) -> 8.676 | G26: 24 | H26: 20.82 | I26: =ROUND(H26*23.59%,2) -> 4.91 | J26: =H26+I26 -> 25.73
A27: =A26+1 -> 20 | B27: VP LATGALES RP DIENVIDLATGALES IECIRKŅA REAĢĒŠANAS NODAĻAS 4.GRUPA | C27: jaunākais inspektors | D27: 1140 | E27: 10% | F27: =ROUND(D27/$F$4,3) -> 6.854 | G27: 60 | H27: 41.12 | I27: =ROUND(H27*23.59%,2) -> 9.7 | J27: =H27+I27 -> 50.82
A28: =A27+1 -> 21 | B28: VP LATGALES RP ZIEMEĻLATGALES IECIRKŅA IZMEKLĒŠANAS NODAĻAS 5.GRUPA | C28: vecākais inspektors | D28: 1517 | E28: 10% | F28: =ROUND(D28/$F$4,3) -> 9.12 | G28: 24 | H28: 21.89 | I28: =ROUND(H28*23.59%,2) -> 5.16 | J28: =H28+I28 -> 27.05
A29: =A28+1 -> 22 | B29: VP LATGALES RP ZIEMEĻLATGALES IECIRKŅA REAĢĒŠANAS NODAĻAS 6.GRUPA | C29: vecākais inspektors | D29: 1431 | E29: 10% | F29: =ROUND(D29/$F$4,3) -> 8.603 | G29: 12 | H29: 10.32 | I29: =ROUND(H29*23.59%,2)+0.01 -> 2.44 | J29: =H29+I29 -> 12.76
A30: =A29+1 -> 23 | B30: VP LATGALES RP ZIEMEĻLATGALES IECIRKŅA REAĢĒŠANAS NODAĻAS 5.GRUPA | C30: inspektors | D30: 1337 | E30: 10% | F30: =ROUND(D30/$F$4,3) -> 8.038 | G30: 12 | H30: 9.65 | I30: =ROUND(H30*23.59%,2) -> 2.28 | J30: =H30+I30 -> 11.93
A31: =A30+1 -> 24 | B31: VP LATGALES RP ZIEMEĻLATGALES IECIRKŅA REAĢĒŠANAS NODAĻAS 6.GRUPA | C31: galvenais inspektors | D31: 1474 | E31: 10% | F31: =ROUND(D31/$F$4,3) -> 8.862 | G31: 24 | H31: 21.27 | I31: =ROUND(H31*23.59%,2) -> 5.02 | J31: =H31+I31 -> 26.29
A32: =A31+1 -> 25 | B32: VP LATGALES RP DIENVIDLATGALES IECIRKŅA IZMEKLĒŠANAS NODAĻAS 6.GRUPA | C32: inspektors | D32: 1337 | E32: 10% | F32: =ROUND(D32/$F$4,3) -> 8.038 | G32: 44 | H32: 35.37 | I32: =ROUND(H32*23.59%,2) -> 8.34 | J32: =H32+I32 -> 43.71
A33: =A32+1 -> 26 | B33: VP LATGALES RP ZIEMEĻLATGALES IECIRKŅA REAĢĒŠANAS NODAĻAS 8.GRUPA | C33: inspektors | D33: 1337 | E33: 10% | F33: =ROUND(D33/$F$4,3) -> 8.038 | G33: 24 | H33: 19.29 | I33: =ROUND(H33*23.59%,2) -> 4.55 | J33: =H33+I33 -> 23.84
A34: =A33+1 -> 27 | B34: VP LATGALES RP ZIEMEĻLATGALES IECIRKŅA REAĢĒŠANAS NODAĻAS 4.GRUPA | C34: jaunākais inspektors | D34: 1302 | E34: 10% | F34: =ROUND(D34/$F$4,3) -> 7.828 | G34: 12 | H34: 9.39 | I34: =ROUND(H34*23.59%,2) -> 2.22 | J34: =H34+I34 -> 11.61
A35: =A34+1 -> 28 | B35: VP LATGALES RP ZIEMEĻLATGALES IECIRKŅA REAĢĒŠANAS NODAĻAS 6.GRUPA | C35: jaunākais inspektors | D35: 1140 | E35: 10% | F35: =ROUND(D35/$F$4,3) -> 6.854 | G35: 12 | H35: 8.22 | I35: =ROUND(H35*23.59%,2) -> 1.94 | J35: =H35+I35 -> 10.16
A36: =A35+1 -> 29 | B36: VP LATGALES RP ZIEMEĻLATGALES IECIRKŅA IZMEKLĒŠANAS NODAĻAS 6.GRUPA | C36: inspektors | D36: 1463 | E36: 10% | F36: =ROUND(D36/$F$4,3) -> 8.796 | G36: 24 | H36: 21.11 | I36: =ROUND(H36*23.59%,2) -> 4.98 | J36: =H36+I36 -> 26.09
A37: =A36+1 -> 30 | B37: VP LATGALES RP DIENVIDLATGALES IECIRKŅA PREVENCIJAS GRUPA | C37: vecākais inspektors | D37: 1381 | E37: 10% | F37: =ROUND(D37/$F$4,3) -> 8.303 | G37: 5.5 | H37: 4.57 | I37: =ROUND(H37*23.59%,2) -> 1.08 | J37: =H37+I37 -> 5.65
A38: =A37+1 -> 31 | B38: VP LATGALES RP DIENVIDLATGALES IECIRKŅA PREVENCIJAS GRUPA | C38: vecākais inspektors | D38: 1355 | E38: 10% | F38: =ROUND(D38/$F$4,3) -> 8.146 | G38: 12 | H38: 9.78 | I38: =ROUND(H38*23.59%,2) -> 2.31 | J38: =H38+I38 -> 12.09
A39: =A38+1 -> 32 | B39: VP LATGALES RP DIENVIDLATGALES IECIRKŅA IZMEKLĒŠANAS NODAĻAS 1.GRUPA | C39: inspektors | D39: 1443 | E39: 10% | F39: =ROUND(D39/$F$4,3) -> 8.676 | G39: 12 | H39: 10.41 | I39: =ROUND(H39*23.59%,2) -> 2.46 | J39: =H39+I39 -> 12.87
A40: =A39+1 -> 33 | B40: VP LATGALES RP DIENVIDLATGALES IECIRKŅA IZMEKLĒŠANAS NODAĻAS 9.GRUPA | C40: vecākais inspektors | D40: 1381 | E40: 10% | F40: =ROUND(D40/$F$4,3) -> 8.303 | G40: 24 | H40: 19.93 | I40: =ROUND(H40*23.59%,2) -> 4.7 | J40: =H40+I40 -> 24.63
A41: =A40+1 -> 34 | B41: VP LATGALES RP DIENVIDLATGALES IECIRKŅA IZMEKLĒŠANAS NODAĻAS 8.GRUPA | C41: vecākais inspektors | D41: 1335 | E41: 10% | F41: =ROUND(D41/$F$4,3) -> 8.026 | G41: 24 | H41: 19.26 | I41: =ROUND(H41*23.59%,2) -> 4.54 | J41: =H41+I41 -> 23.8
...

Sheet 5.tabula
F1: 5.tabula
A2: Valsts policija
A3: Degvielas izmaksu aprēķins degvielas izdevumiem sniedzot atbalstu Valsts robežsardzei Latvijas Republikas-Baltkrievijas Republikas valsts robežas nelikumīgas šķērsošanas nodrošināšanā par laika periodu no 2023.gada 1. decembra līdz 31. decembrim
A5: Nr.p.k. | B5: Transportlīdzekļa marka | C5: Iesaistīto transportlīdzekļu skaits | D5: Faktiskais nobraukums pasākumā (km) | E5: Pasākuma laikā patērētā degviela (l) | F5: Summa euro
A6: Kopā: | C6: =ROUNDUP(SUM(C8:C52),2) -> 100 | D6: =ROUNDUP(SUM(D8:D52),2) -> 115868 | E6: =ROUNDUP(SUM(E8:E52),2) -> 9526.77 | F6: =ROUNDUP(SUM(F8:F52),2) -> 13685.11
A7: Vidzemes reģiona pārvalde
A8: 1 | B8: Peugeot Boxer | C8: 2 | D8: 2343 | E8: 230.2 | F8: 332.07
A9: 2 | B9: VW Crafter | C9: 1 | D9: 2559 | E9: 302.7297 | F9: 433.81
A10: 3 | B10: VW Tiguan | C10: 1 | D10: 1461 | E10: 95.5494 | F10: 137.3
A15: Latgales reģiona pārvalde
A16: 4 | B16: Citroen Berlingo | C16: 3 | D16: 1894 | E16: 117.52 | F16: 168.64
A17: 5 | B17: Citroen Jumper | C17: 1 | D17: 244 | E17: 23.91 | F17: 34.2
A18: 6 | B18: Fiat 500xCross | C18: 1 | D18: 329 | E18: 21.71 | F18: 32.35
A19: 7 | B19: Ford Transit Custom | C19: 3 | D19: 1343 | E19: 126.8 | F19: 181.67
A20: 8 | B20: Hyundai Santa Fe | C20: 1 | D20: 23 | E20: 2.48 | F20: 3.54
A21: 9 | B21: KIA Cee'D | C21: 7 | D21: 2886 | E21: 196.92 | F21: 282.81
A22: 10 | B22: Opel Mokka | C22: 43 | D22: 63657 | E22: 4989.43 | F22: 7181.23
A23: 11 | B23: Opel Combo | C23: 2 | D23: 5833 | E23: 510.04 | F23: 729.37
A24: 12 | B24: Opel Insignia | C24: 1 | D24: 405 | E24: 46.98 | F24: 67.19
A25: 13 | B25: Opel Insignia Limousine NB | C25: 5 | D25: 1311 | E25: 87.4 | F25: 126.42
A26: 14 | B26: Peugeot Boxer | C26: 2 | D26: 378 | E26: 33.91 | F26: 48.5
A27: 15 | B27: Renault Kangoo | C27: 6 | D27: 14762 | E27: 1129.17 | F27: 1614.71
... A36: 24 | B36: VW Transporter 4x4 | C36: 1 | D36: 1221 | E36: 117.22 | F36: 167.63
A37: Zemgales reģiona pārvalde
A43: Kurzemes reģiona pārvalde
A46: Rīgas reģiona pārvalde
